{"text_format":"2","workbook":"xlsx","n_sheets":7,"sheets":["EventConfig","EventLinkConfig","EventConditionConfig","条件类型查询","产出tag查询","EventNPC","XianTuLogConfig"],"not_rendered":{"charts":0,"images":0,"macros":0,"external_links":2,"defined_names":4,"comments":0,"pivot_tables":0},"unopened":[],"bounds":{"document_bytes":16777216,"sheet_cells":100000,"run_cost":"one","rows_first":2000,"rows_last":500,"rows_between":2000,"halvings":0,"cell_chars":16384,"cell_head_chars":4096},"cells_cut":0,"cells_raw":0,"read":"whole","date_system":"1900"}

{"sheet":"EventConfig","index":0,"n_rows":230,"n_cols":52,"rows_kept":230,"cut":false,"hidden":false,"merged":[]}
["ID","EventLinksId","EventTriggerType","EventTag","EventType","Score","EventQuality","PrizeType","PrizeIDs","PrizeNums","RefreshProbability","RefreshCount","placeID","SmallPlacesId",null,null,"XiantuID",{"$f":"SUMIF(C:C,2,K:K)","v":0},"EventConditionId","EventValue","EventCount","EventName","Description"]
["int","int[]","int","int","int","int","int","int[]","int[]","int[]","int","int","int","int",null,null,"int",null,"int[]","int[]","int[]","int","int"]
[{"$nulls":23},"语言表最大值",{"$f":"MAX(V:W)","v":4377},null,1,2,3,4,5,6,7,8,9,10,11,12,13,14,15,16,17,18,19,20]
["ID","事件包含的ID","事件类型：\n1.通用事件\n2.挂机事件\n4.主线任务\n5.仙山探险\n6.支线事件\n88.特定任务触发的事件\n99.无标记\n","tag\n1主线2支线\n3通用\n4地图通用\n5道友6任务\n7资源","1.正常触发\n2.直接结算","增加进度值","事件品质","产出tag\n在辅助表查询","事件结局奖励","事件结局奖励数量","刷新的概率\n（100=100%）","最大刷新数量","属于哪张地图","属于哪张小地图","地图","参考等级","仙途日志ID","触发条件","触发条件类型\n只能配处于什么状态和数值，不能配变化的数值","触发效果值","触发判定数量or次数","任务标题","任务详情界面的总描述","标题","整体描述","总步数","步骤1","步骤2","步骤3","步骤4","步骤5","步骤6","步骤7","步骤8","步骤9","步骤10","步骤11","步骤12","步骤13","步骤14","步骤15","步骤16","步骤17","步骤18","步骤19","步骤20","道具1","数量1","道具2","数量2"]
[101,{"$f":"IF(Z5>0,_xlfn.TEXTJOIN(\";\",1,ROW(INDIRECT(CONCATENATE(\"\",A5*100+1,\":\",A5*100+Z5,\"\"))),102),\"\")","v":"10101;102"},1,7,1,0,1,6,{"$f":"_xlfn.TEXTJOIN(\";\",1,AU5,AW5)","v":"1003;999001"},{"$f":"_xlfn.TEXTJOIN(\";\",1,AV5,AX5)","v":"-5000;1"},10,null,null,null,{"$f":"IF(M5=\"\",\"\",CONCATENATE(VLOOKUP(M5,[1]PlacesConfig!$A:$C,3,FALSE),IF(N5=\"\",\"\",\" - \"&VLOOKUP(N5,[1]SmallPlacesConfig!$A:$G,7,FALSE))))","v":""},null,null,{"$f":"IF(S5=\"\",\"\",VLOOKUP(S5,条件类型查询!A:B,2,FALSE))","v":""},null,null,null,4001,4076,{"$f":"CONCATENATE(\"[资源]\",VLOOKUP(AW5,[2]DropConfig!$A:$C,3,FALSE))","v":"[资源]法宝掉落"},null,{"$f":"COUNTIF(EventLinkConfig!O:O,EventConfig!A5)","v":1},{"$nulls":19},100,1003,-5000,999001,1,{"$f":"IF(AU5=\"\",\"\",CONCATENATE(VLOOKUP(AU5,[2]DropConfig!$A:$F,3,FALSE),\"×\",AV5))","v":"修为×-5000"},{"$f":"IF(AW5=\"\",\"\",CONCATENATE(VLOOKUP(AW5,[2]DropConfig!$A:$F,3,FALSE),\"×\",AX5))","v":"法宝掉落×1"}]
[102,{"$f":"IF(Z6>0,_xlfn.TEXTJOIN(\";\",1,ROW(INDIRECT(CONCATENATE(\"\",A6*100+1,\":\",A6*100+Z6,\"\"))),102),\"\")","v":"10201;102"},1,7,1,0,1,5,{"$f":"_xlfn.TEXTJOIN(\";\",1,AU6,AW6)","v":"1003;999002"},{"$f":"_xlfn.TEXTJOIN(\";\",1,AV6,AX6)","v":"-5000;1"},10,null,null,null,{"$f":"IF(M6=\"\",\"\",CONCATENATE(VLOOKUP(M6,[1]PlacesConfig!$A:$C,3,FALSE),IF(N6=\"\",\"\",\" - \"&VLOOKUP(N6,[1]SmallPlacesConfig!$A:$G,7,FALSE))))","v":""},null,null,{"$f":"IF(S6=\"\",\"\",VLOOKUP(S6,条件类型查询!A:B,2,FALSE))","v":""},null,null,null,4002,4077,{"$f":"CONCATENATE(\"[资源]\",VLOOKUP(AW6,[2]DropConfig!$A:$C,3,FALSE))","v":"[资源]功法掉落"},null,{"$f":"COUNTIF(EventLinkConfig!O:O,EventConfig!A6)","v":1},{"$nulls":19},100,1003,-5000,999002,1,{"$f":"IF(AU6=\"\",\"\",CONCATENATE(VLOOKUP(AU6,[2]DropConfig!$A:$F,3,FALSE),\"×\",AV6))","v":"修为×-5000"},{"$f":"IF(AW6=\"\",\"\",CONCATENATE(VLOOKUP(AW6,[2]DropConfig!$A:$F,3,FALSE),\"×\",AX6))","v":"功法掉落×1"}]
[103,{"$f":"IF(Z7>0,_xlfn.TEXTJOIN(\";\",1,ROW(INDIRECT(CONCATENATE(\"\",A7*100+1,\":\",A7*100+Z7,\"\"))),102),\"\")","v":"10301;102"},1,7,1,0,1,1,"1003;1001","-5000;-5000",100,null,null,null,{"$f":"IF(M7=\"\",\"\",CONCATENATE(VLOOKUP(M7,[1]PlacesConfig!$A:$C,3,FALSE),IF(N7=\"\",\"\",\" - \"&VLOOKUP(N7,[1]SmallPlacesConfig!$A:$G,7,FALSE))))","v":""},null,null,{"$f":"IF(S7=\"\",\"\",VLOOKUP(S7,条件类型查询!A:B,2,FALSE))","v":""},null,null,null,4003,4078,{"$f":"CONCATENATE(\"[资源]\",VLOOKUP(AW7,[2]DropConfig!$A:$C,3,FALSE))","v":"[资源]灵石"},null,{"$f":"COUNTIF(EventLinkConfig!O:O,EventConfig!A7)","v":1},{"$nulls":19},100,1003,-5000,1001,-5000,{"$f":"IF(AU7=\"\",\"\",CONCATENATE(VLOOKUP(AU7,[2]DropConfig!$A:$F,3,FALSE),\"×\",AV7))","v":"修为×-5000"},{"$f":"IF(AW7=\"\",\"\",CONCATENATE(VLOOKUP(AW7,[2]DropConfig!$A:$F,3,FALSE),\"×\",AX7))","v":"灵石×-5000"}]
[104,{"$f":"IF(Z8>0,_xlfn.TEXTJOIN(\";\",1,ROW(INDIRECT(CONCATENATE(\"\",A8*100+1,\":\",A8*100+Z8,\"\"))),102),\"\")","v":"10401;102"},1,7,1,0,1,3,"1003;1005","-5000;-5000",100,null,null,null,{"$f":"IF(M8=\"\",\"\",CONCATENATE(VLOOKUP(M8,[1]PlacesConfig!$A:$C,3,FALSE),IF(N8=\"\",\"\",\" - \"&VLOOKUP(N8,[1]SmallPlacesConfig!$A:$G,7,FALSE))))","v":""},null,null,{"$f":"IF(S8=\"\",\"\",VLOOKUP(S8,条件类型查询!A:B,2,FALSE))","v":""},null,null,null,4004,4079,{"$f":"CONCATENATE(\"[资源]\",VLOOKUP(AW8,[2]DropConfig!$A:$C,3,FALSE))","v":"[资源]灵气"},null,{"$f":"COUNTIF(EventLinkConfig!O:O,EventConfig!A8)","v":1},{"$nulls":19},100,1003,-5000,1005,-5000,{"$f":"IF(AU8=\"\",\"\",CONCATENATE(VLOOKUP(AU8,[2]DropConfig!$A:$F,3,FALSE),\"×\",AV8))","v":"修为×-5000"},{"$f":"IF(AW8=\"\",\"\",CONCATENATE(VLOOKUP(AW8,[2]DropConfig!$A:$F,3,FALSE),\"×\",AX8))","v":"灵气×-5000"}]
[105,{"$f":"IF(Z9>0,_xlfn.TEXTJOIN(\";\",1,ROW(INDIRECT(CONCATENATE(\"\",A9*100+1,\":\",A9*100+Z9,\"\"))),102),\"\")","v":"10501;102"},1,7,1,0,1,4,"1003;1006","-5000;-5000",100,null,null,null,{"$f":"IF(M9=\"\",\"\",CONCATENATE(VLOOKUP(M9,[1]PlacesConfig!$A:$C,3,FALSE),IF(N9=\"\",\"\",\" - \"&VLOOKUP(N9,[1]SmallPlacesConfig!$A:$G,7,FALSE))))","v":""},null,null,{"$f":"IF(S9=\"\",\"\",VLOOKUP(S9,条件类型查询!A:B,2,FALSE))","v":""},null,null,null,4005,4080,{"$f":"CONCATENATE(\"[资源]\",VLOOKUP(AW9,[2]DropConfig!$A:$C,3,FALSE))","v":"[资源]玄晶"},null,{"$f":"COUNTIF(EventLinkConfig!O:O,EventConfig!A9)","v":1},{"$nulls":19},100,1003,-5000,1006,-5000,{"$f":"IF(AU9=\"\",\"\",CONCATENATE(VLOOKUP(AU9,[2]DropConfig!$A:$F,3,FALSE),\"×\",AV9))","v":"修为×-5000"},{"$f":"IF(AW9=\"\",\"\",CONCATENATE(VLOOKUP(AW9,[2]DropConfig!$A:$F,3,FALSE),\"×\",AX9))","v":"玄晶×-5000"}]
[106,{"$f":"IF(Z10>0,_xlfn.TEXTJOIN(\";\",1,ROW(INDIRECT(CONCATENATE(\"\",A10*100+1,\":\",A10*100+Z10,\"\"))),102),\"\")","v":"10601;102"},1,7,1,0,1,12,"1003;1002","-5000;100",30,null,null,null,{"$f":"IF(M10=\"\",\"\",CONCATENATE(VLOOKUP(M10,[1]PlacesConfig!$A:$C,3,FALSE),IF(N10=\"\",\"\",\" - \"&VLOOKUP(N10,[1]SmallPlacesConfig!$A:$G,7,FALSE))))","v":""},null,null,{"$f":"IF(S10=\"\",\"\",VLOOKUP(S10,条件类型查询!A:B,2,FALSE))","v":""},null,null,null,4006,4081,{"$f":"CONCATENATE(\"[资源]\",VLOOKUP(AW10,[2]DropConfig!$A:$C,3,FALSE))","v":"[资源]妖丹"},null,{"$f":"COUNTIF(EventLinkConfig!O:O,EventConfig!A10)","v":1},{"$nulls":19},100,1003,-5000,1002,100,{"$f":"IF(AU10=\"\",\"\",CONCATENATE(VLOOKUP(AU10,[2]DropConfig!$A:$F,3,FALSE),\"×\",AV10))","v":"修为×-5000"},{"$f":"IF(AW10=\"\",\"\",CONCATENATE(VLOOKUP(AW10,[2]DropConfig!$A:$F,3,FALSE),\"×\",AX10))","v":"妖丹×100"}]
[107,{"$f":"IF(Z11>0,_xlfn.TEXTJOIN(\";\",1,ROW(INDIRECT(CONCATENATE(\"\",A11*100+1,\":\",A11*100+Z11,\"\"))),102),\"\")","v":"10701;102"},1,7,1,0,1,13,"1003;1201","-5000;1",20,null,null,null,{"$f":"IF(M11=\"\",\"\",CONCATENATE(VLOOKUP(M11,[1]PlacesConfig!$A:$C,3,FALSE),IF(N11=\"\",\"\",\" - \"&VLOOKUP(N11,[1]SmallPlacesConfig!$A:$G,7,FALSE))))","v":""},{"$nulls":6},4007,4082,{"$f":"CONCATENATE(\"[资源]\",VLOOKUP(AW11,[2]DropConfig!$A:$C,3,FALSE))","v":"[资源]渡劫丹"},null,{"$f":"COUNTIF(EventLinkConfig!O:O,EventConfig!A11)","v":1},{"$nulls":7},{"$f":"IF($Z11>=AH$3,$A11*100+AH$3,\"\")","v":""},"","","","","","","","",null,null,null,100,1003,-5000,1201,1,{"$f":"IF(AU11=\"\",\"\",CONCATENATE(VLOOKUP(AU11,[2]DropConfig!$A:$F,3,FALSE),\"×\",AV11))","v":"修为×-5000"},{"$f":"IF(AW11=\"\",\"\",CONCATENATE(VLOOKUP(AW11,[2]DropConfig!$A:$F,3,FALSE),\"×\",AX11))","v":"渡劫丹×1"}]
[108,{"$f":"IF(Z12>0,_xlfn.TEXTJOIN(\";\",1,ROW(INDIRECT(CONCATENATE(\"\",A12*100+1,\":\",A12*100+Z12,\"\"))),102),\"\")","v":"10801;102"},1,7,1,0,1,10,"1003;1501","-5000;1",60,null,null,null,{"$f":"IF(M12=\"\",\"\",CONCATENATE(VLOOKUP(M12,[1]PlacesConfig!$A:$C,3,FALSE),IF(N12=\"\",\"\",\" - \"&VLOOKUP(N12,[1]SmallPlacesConfig!$A:$G,7,FALSE))))","v":""},{"$nulls":6},4008,4083,{"$f":"CONCATENATE(\"[资源]\",VLOOKUP(AW12,[2]DropConfig!$A:$C,3,FALSE))","v":"[资源]清茶"},null,{"$f":"COUNTIF(EventLinkConfig!O:O,EventConfig!A12)","v":1},{"$nulls":7},"","","","","","","","","",null,null,null,100,1003,-5000,1501,1,{"$f":"IF(AU12=\"\",\"\",CONCATENATE(VLOOKUP(AU12,[2]DropConfig!$A:$F,3,FALSE),\"×\",AV12))","v":"修为×-5000"},{"$f":"IF(AW12=\"\",\"\",CONCATENATE(VLOOKUP(AW12,[2]DropConfig!$A:$F,3,FALSE),\"×\",AX12))","v":"清茶×1"}]
[109,{"$f":"IF(Z13>0,_xlfn.TEXTJOIN(\";\",1,ROW(INDIRECT(CONCATENATE(\"\",A13*100+1,\":\",A13*100+Z13,\"\"))),102),\"\")","v":"10901;102"},1,7,1,0,1,11,"1003;1601","-5000;1",40,null,null,null,{"$f":"IF(M13=\"\",\"\",CONCATENATE(VLOOKUP(M13,[1]PlacesConfig!$A:$C,3,FALSE),IF(N13=\"\",\"\",\" - \"&VLOOKUP(N13,[1]SmallPlacesConfig!$A:$G,7,FALSE))))","v":""},{"$nulls":6},4009,4084,{"$f":"CONCATENATE(\"[资源]\",VLOOKUP(AW13,[2]DropConfig!$A:$C,3,FALSE))","v":"[资源]妃子笑"},null,{"$f":"COUNTIF(EventLinkConfig!O:O,EventConfig!A13)","v":1},{"$nulls":7},"","","","","","","","","",null,null,null,100,1003,-5000,1601,1,{"$f":"IF(AU13=\"\",\"\",CONCATENATE(VLOOKUP(AU13,[2]DropConfig!$A:$F,3,FALSE),\"×\",AV13))","v":"修为×-5000"},{"$f":"IF(AW13=\"\",\"\",CONCATENATE(VLOOKUP(AW13,[2]DropConfig!$A:$F,3,FALSE),\"×\",AX13))","v":"妃子笑×1"}]
[110,{"$f":"IF(Z14>0,_xlfn.TEXTJOIN(\";\",1,ROW(INDIRECT(CONCATENATE(\"\",A14*100+1,\":\",A14*100+Z14,\"\"))),102),\"\")","v":"11001;102"},1,7,1,0,2,6,"1003;999001","-7500;1",15,null,null,null,{"$f":"IF(M14=\"\",\"\",CONCATENATE(VLOOKUP(M14,[1]PlacesConfig!$A:$C,3,FALSE),IF(N14=\"\",\"\",\" - \"&VLOOKUP(N14,[1]SmallPlacesConfig!$A:$G,7,FALSE))))","v":""},{"$nulls":6},4010,4085,{"$f":"CONCATENATE(\"[资源]\",VLOOKUP(AW14,[2]DropConfig!$A:$C,3,FALSE))","v":"[资源]法宝掉落"},null,{"$f":"COUNTIF(EventLinkConfig!O:O,EventConfig!A14)","v":1},{"$nulls":7},"","","","","","","","","",null,null,null,100,1003,-7500,999001,1,{"$f":"IF(AU14=\"\",\"\",CONCATENATE(VLOOKUP(AU14,[2]DropConfig!$A:$F,3,FALSE),\"×\",AV14))","v":"修为×-7500"},{"$f":"IF(AW14=\"\",\"\",CONCATENATE(VLOOKUP(AW14,[2]DropConfig!$A:$F,3,FALSE),\"×\",AX14))","v":"法宝掉落×1"}]
[111,{"$f":"IF(Z15>0,_xlfn.TEXTJOIN(\";\",1,ROW(INDIRECT(CONCATENATE(\"\",A15*100+1,\":\",A15*100+Z15,\"\"))),102),\"\")","v":"11101;102"},1,7,1,0,2,5,"1003;999002","-7500;1",15,null,null,null,{"$f":"IF(M15=\"\",\"\",CONCATENATE(VLOOKUP(M15,[1]PlacesConfig!$A:$C,3,FALSE),IF(N15=\"\",\"\",\" - \"&VLOOKUP(N15,[1]SmallPlacesConfig!$A:$G,7,FALSE))))","v":""},{"$nulls":6},4011,4086,{"$f":"CONCATENATE(\"[资源]\",VLOOKUP(AW15,[2]DropConfig!$A:$C,3,FALSE))","v":"[资源]功法掉落"},null,{"$f":"COUNTIF(EventLinkConfig!O:O,EventConfig!A15)","v":1},{"$nulls":7},"","","","","","","","","",null,null,null,100,1003,-7500,999002,1,{"$f":"IF(AU15=\"\",\"\",CONCATENATE(VLOOKUP(AU15,[2]DropConfig!$A:$F,3,FALSE),\"×\",AV15))","v":"修为×-7500"},{"$f":"IF(AW15=\"\",\"\",CONCATENATE(VLOOKUP(AW15,[2]DropConfig!$A:$F,3,FALSE),\"×\",AX15))","v":"功法掉落×1"}]
[112,{"$f":"IF(Z16>0,_xlfn.TEXTJOIN(\";\",1,ROW(INDIRECT(CONCATENATE(\"\",A16*100+1,\":\",A16*100+Z16,\"\"))),102),\"\")","v":"11201;102"},1,7,1,0,2,1,"1003;1001","-7500;-5000",100,null,null,null,{"$f":"IF(M16=\"\",\"\",CONCATENATE(VLOOKUP(M16,[1]PlacesConfig!$A:$C,3,FALSE),IF(N16=\"\",\"\",\" - \"&VLOOKUP(N16,[1]SmallPlacesConfig!$A:$G,7,FALSE))))","v":""},{"$nulls":6},4012,4087,{"$f":"CONCATENATE(\"[资源]\",VLOOKUP(AW16,[2]DropConfig!$A:$C,3,FALSE))","v":"[资源]灵石"},null,{"$f":"COUNTIF(EventLinkConfig!O:O,EventConfig!A16)","v":1},{"$nulls":7},"","","","","","","","","",null,null,null,100,1003,-7500,1001,-5000,{"$f":"IF(AU16=\"\",\"\",CONCATENATE(VLOOKUP(AU16,[2]DropConfig!$A:$F,3,FALSE),\"×\",AV16))","v":"修为×-7500"},{"$f":"IF(AW16=\"\",\"\",CONCATENATE(VLOOKUP(AW16,[2]DropConfig!$A:$F,3,FALSE),\"×\",AX16))","v":"灵石×-5000"}]
[113,{"$f":"IF(Z17>0,_xlfn.TEXTJOIN(\";\",1,ROW(INDIRECT(CONCATENATE(\"\",A17*100+1,\":\",A17*100+Z17,\"\"))),102),\"\")","v":"11301;102"},1,7,1,0,2,3,"1003;1005","-7500;-5000",100,null,null,null,{"$f":"IF(M17=\"\",\"\",CONCATENATE(VLOOKUP(M17,[1]PlacesConfig!$A:$C,3,FALSE),IF(N17=\"\",\"\",\" - \"&VLOOKUP(N17,[1]SmallPlacesConfig!$A:$G,7,FALSE))))","v":""},{"$nulls":6},4013,4088,{"$f":"CONCATENATE(\"[资源]\",VLOOKUP(AW17,[2]DropConfig!$A:$C,3,FALSE))","v":"[资源]灵气"},null,{"$f":"COUNTIF(EventLinkConfig!O:O,EventConfig!A17)","v":1},{"$nulls":7},"","","","","","","","","",null,null,null,100,1003,-7500,1005,-5000,{"$f":"IF(AU17=\"\",\"\",CONCATENATE(VLOOKUP(AU17,[2]DropConfig!$A:$F,3,FALSE),\"×\",AV17))","v":"修为×-7500"},{"$f":"IF(AW17=\"\",\"\",CONCATENATE(VLOOKUP(AW17,[2]DropConfig!$A:$F,3,FALSE),\"×\",AX17))","v":"灵气×-5000"}]
[114,{"$f":"IF(Z18>0,_xlfn.TEXTJOIN(\";\",1,ROW(INDIRECT(CONCATENATE(\"\",A18*100+1,\":\",A18*100+Z18,\"\"))),102),\"\")","v":"11401;102"},1,7,1,0,2,4,"1003;1006","-7500;-5000",100,null,null,null,{"$f":"IF(M18=\"\",\"\",CONCATENATE(VLOOKUP(M18,[1]PlacesConfig!$A:$C,3,FALSE),IF(N18=\"\",\"\",\" - \"&VLOOKUP(N18,[1]SmallPlacesConfig!$A:$G,7,FALSE))))","v":""},{"$nulls":6},4014,4089,{"$f":"CONCATENATE(\"[资源]\",VLOOKUP(AW18,[2]DropConfig!$A:$C,3,FALSE))","v":"[资源]玄晶"},null,{"$f":"COUNTIF(EventLinkConfig!O:O,EventConfig!A18)","v":1},{"$nulls":7},"","","","","","","","","",null,null,null,100,1003,-7500,1006,-5000,{"$f":"IF(AU18=\"\",\"\",CONCATENATE(VLOOKUP(AU18,[2]DropConfig!$A:$F,3,FALSE),\"×\",AV18))","v":"修为×-7500"},{"$f":"IF(AW18=\"\",\"\",CONCATENATE(VLOOKUP(AW18,[2]DropConfig!$A:$F,3,FALSE),\"×\",AX18))","v":"玄晶×-5000"}]
[115,{"$f":"IF(Z19>0,_xlfn.TEXTJOIN(\";\",1,ROW(INDIRECT(CONCATENATE(\"\",A19*100+1,\":\",A19*100+Z19,\"\"))),102),\"\")","v":"11501;102"},1,7,1,0,2,12,"1003;1002","-7500;100",35,null,null,null,{"$f":"IF(M19=\"\",\"\",CONCATENATE(VLOOKUP(M19,[1]PlacesConfig!$A:$C,3,FALSE),IF(N19=\"\",\"\",\" - \"&VLOOKUP(N19,[1]SmallPlacesConfig!$A:$G,7,FALSE))))","v":""},{"$nulls":6},4015,4090,{"$f":"CONCATENATE(\"[资源]\",VLOOKUP(AW19,[2]DropConfig!$A:$C,3,FALSE))","v":"[资源]妖丹"},null,{"$f":"COUNTIF(EventLinkConfig!O:O,EventConfig!A19)","v":1},{"$f":"IF($Z19>=AA$3,$A19*100+AA$3,\"\")","v":11501},"","","","","","","","","","","","","","","",null,null,null,100,1003,-7500,1002,100,{"$f":"IF(AU19=\"\",\"\",CONCATENATE(VLOOKUP(AU19,[2]DropConfig!$A:$F,3,FALSE),\"×\",AV19))","v":"修为×-7500"},{"$f":"IF(AW19=\"\",\"\",CONCATENATE(VLOOKUP(AW19,[2]DropConfig!$A:$F,3,FALSE),\"×\",AX19))","v":"妖丹×100"}]
[116,{"$f":"IF(Z20>0,_xlfn.TEXTJOIN(\";\",1,ROW(INDIRECT(CONCATENATE(\"\",A20*100+1,\":\",A20*100+Z20,\"\"))),102),\"\")","v":"11601;102"},1,7,1,0,2,13,"1003;1201","-7500;2",25,null,null,null,{"$f":"IF(M20=\"\",\"\",CONCATENATE(VLOOKUP(M20,[1]PlacesConfig!$A:$C,3,FALSE),IF(N20=\"\",\"\",\" - \"&VLOOKUP(N20,[1]SmallPlacesConfig!$A:$G,7,FALSE))))","v":""},{"$nulls":6},4016,4091,{"$f":"CONCATENATE(\"[资源]\",VLOOKUP(AW20,[2]DropConfig!$A:$C,3,FALSE))","v":"[资源]渡劫丹"},null,{"$f":"COUNTIF(EventLinkConfig!O:O,EventConfig!A20)","v":1},11601,"","","","","","","","","","","","","","","",null,null,null,100,1003,-7500,1201,2,{"$f":"IF(AU20=\"\",\"\",CONCATENATE(VLOOKUP(AU20,[2]DropConfig!$A:$F,3,FALSE),\"×\",AV20))","v":"修为×-7500"},{"$f":"IF(AW20=\"\",\"\",CONCATENATE(VLOOKUP(AW20,[2]DropConfig!$A:$F,3,FALSE),\"×\",AX20))","v":"渡劫丹×2"}]
[117,{"$f":"IF(Z21>0,_xlfn.TEXTJOIN(\";\",1,ROW(INDIRECT(CONCATENATE(\"\",A21*100+1,\":\",A21*100+Z21,\"\"))),102),\"\")","v":"11701;102"},1,7,1,0,2,10,"1003;1501","-7500;1",65,null,null,null,{"$f":"IF(M21=\"\",\"\",CONCATENATE(VLOOKUP(M21,[1]PlacesConfig!$A:$C,3,FALSE),IF(N21=\"\",\"\",\" - \"&VLOOKUP(N21,[1]SmallPlacesConfig!$A:$G,7,FALSE))))","v":""},{"$nulls":6},4017,4092,{"$f":"CONCATENATE(\"[资源]\",VLOOKUP(AW21,[2]DropConfig!$A:$C,3,FALSE))","v":"[资源]清茶"},null,{"$f":"COUNTIF(EventLinkConfig!O:O,EventConfig!A21)","v":1},11701,"","","","","","",{"$f":"IF($Z21>=AH$3,$A21*100+AH$3,\"\")","v":""},"","","","","","","","",null,null,null,100,1003,-7500,1501,1,{"$f":"IF(AU21=\"\",\"\",CONCATENATE(VLOOKUP(AU21,[2]DropConfig!$A:$F,3,FALSE),\"×\",AV21))","v":"修为×-7500"},{"$f":"IF(AW21=\"\",\"\",CONCATENATE(VLOOKUP(AW21,[2]DropConfig!$A:$F,3,FALSE),\"×\",AX21))","v":"清茶×1"}]
[118,{"$f":"IF(Z22>0,_xlfn.TEXTJOIN(\";\",1,ROW(INDIRECT(CONCATENATE(\"\",A22*100+1,\":\",A22*100+Z22,\"\"))),102),\"\")","v":"11801;102"},1,7,1,0,2,11,"1003;1601","-7500;1",45,null,null,null,{"$f":"IF(M22=\"\",\"\",CONCATENATE(VLOOKUP(M22,[1]PlacesConfig!$A:$C,3,FALSE),IF(N22=\"\",\"\",\" - \"&VLOOKUP(N22,[1]SmallPlacesConfig!$A:$G,7,FALSE))))","v":""},{"$nulls":6},4018,4093,{"$f":"CONCATENATE(\"[资源]\",VLOOKUP(AW22,[2]DropConfig!$A:$C,3,FALSE))","v":"[资源]妃子笑"},null,{"$f":"COUNTIF(EventLinkConfig!O:O,EventConfig!A22)","v":1},11801,"","","","","","","","","","","","","","","",null,null,null,100,1003,-7500,1601,1,{"$f":"IF(AU22=\"\",\"\",CONCATENATE(VLOOKUP(AU22,[2]DropConfig!$A:$F,3,FALSE),\"×\",AV22))","v":"修为×-7500"},{"$f":"IF(AW22=\"\",\"\",CONCATENATE(VLOOKUP(AW22,[2]DropConfig!$A:$F,3,FALSE),\"×\",AX22))","v":"妃子笑×1"}]
[119,{"$f":"IF(Z23>0,_xlfn.TEXTJOIN(\";\",1,ROW(INDIRECT(CONCATENATE(\"\",A23*100+1,\":\",A23*100+Z23,\"\"))),102),\"\")","v":"11901;102"},1,7,1,0,3,6,"1003;999001","-15000;1",20,null,null,null,{"$f":"IF(M23=\"\",\"\",CONCATENATE(VLOOKUP(M23,[1]PlacesConfig!$A:$C,3,FALSE),IF(N23=\"\",\"\",\" - \"&VLOOKUP(N23,[1]SmallPlacesConfig!$A:$G,7,FALSE))))","v":""},{"$nulls":6},4298,4094,{"$f":"CONCATENATE(\"[资源]\",VLOOKUP(AW23,[2]DropConfig!$A:$C,3,FALSE))","v":"[资源]法宝掉落"},null,{"$f":"COUNTIF(EventLinkConfig!O:O,EventConfig!A23)","v":1},11901,"","","","","","","","","","","","","","","",null,null,null,100,1003,-15000,999001,1,{"$f":"IF(AU23=\"\",\"\",CONCATENATE(VLOOKUP(AU23,[2]DropConfig!$A:$F,3,FALSE),\"×\",AV23))","v":"修为×-15000"},{"$f":"IF(AW23=\"\",\"\",CONCATENATE(VLOOKUP(AW23,[2]DropConfig!$A:$F,3,FALSE),\"×\",AX23))","v":"法宝掉落×1"}]
[120,{"$f":"IF(Z24>0,_xlfn.TEXTJOIN(\";\",1,ROW(INDIRECT(CONCATENATE(\"\",A24*100+1,\":\",A24*100+Z24,\"\"))),102),\"\")","v":"12001;102"},1,7,1,0,3,5,"1003;999002","-15000;1",20,null,null,null,{"$f":"IF(M24=\"\",\"\",CONCATENATE(VLOOKUP(M24,[1]PlacesConfig!$A:$C,3,FALSE),IF(N24=\"\",\"\",\" - \"&VLOOKUP(N24,[1]SmallPlacesConfig!$A:$G,7,FALSE))))","v":""},{"$nulls":6},4299,4095,{"$f":"CONCATENATE(\"[资源]\",VLOOKUP(AW24,[2]DropConfig!$A:$C,3,FALSE))","v":"[资源]功法掉落"},null,{"$f":"COUNTIF(EventLinkConfig!O:O,EventConfig!A24)","v":1},12001,"","","","","","","","","","","","","","","",null,null,null,100,1003,-15000,999002,1,{"$f":"IF(AU24=\"\",\"\",CONCATENATE(VLOOKUP(AU24,[2]DropConfig!$A:$F,3,FALSE),\"×\",AV24))","v":"修为×-15000"},{"$f":"IF(AW24=\"\",\"\",CONCATENATE(VLOOKUP(AW24,[2]DropConfig!$A:$F,3,FALSE),\"×\",AX24))","v":"功法掉落×1"}]
[121,{"$f":"IF(Z25>0,_xlfn.TEXTJOIN(\";\",1,ROW(INDIRECT(CONCATENATE(\"\",A25*100+1,\":\",A25*100+Z25,\"\"))),102),\"\")","v":"12101;102"},1,7,1,0,3,1,"1003;1001","-15000;-5000",100,null,null,null,{"$f":"IF(M25=\"\",\"\",CONCATENATE(VLOOKUP(M25,[1]PlacesConfig!$A:$C,3,FALSE),IF(N25=\"\",\"\",\" - \"&VLOOKUP(N25,[1]SmallPlacesConfig!$A:$G,7,FALSE))))","v":""},{"$nulls":6},4300,4096,{"$f":"CONCATENATE(\"[资源]\",VLOOKUP(AW25,[2]DropConfig!$A:$C,3,FALSE))","v":"[资源]灵石"},null,{"$f":"COUNTIF(EventLinkConfig!O:O,EventConfig!A25)","v":1},12101,"","","","","","","","","","","","","","","",null,null,null,100,1003,-15000,1001,-5000,{"$f":"IF(AU25=\"\",\"\",CONCATENATE(VLOOKUP(AU25,[2]DropConfig!$A:$F,3,FALSE),\"×\",AV25))","v":"修为×-15000"},{"$f":"IF(AW25=\"\",\"\",CONCATENATE(VLOOKUP(AW25,[2]DropConfig!$A:$F,3,FALSE),\"×\",AX25))","v":"灵石×-5000"}]
[122,{"$f":"IF(Z26>0,_xlfn.TEXTJOIN(\";\",1,ROW(INDIRECT(CONCATENATE(\"\",A26*100+1,\":\",A26*100+Z26,\"\"))),102),\"\")","v":"12201;102"},1,7,1,0,3,3,"1003;1005","-15000;-5000",100,null,null,null,{"$f":"IF(M26=\"\",\"\",CONCATENATE(VLOOKUP(M26,[1]PlacesConfig!$A:$C,3,FALSE),IF(N26=\"\",\"\",\" - \"&VLOOKUP(N26,[1]SmallPlacesConfig!$A:$G,7,FALSE))))","v":""},{"$nulls":6},4301,4097,{"$f":"CONCATENATE(\"[资源]\",VLOOKUP(AW26,[2]DropConfig!$A:$C,3,FALSE))","v":"[资源]灵气"},null,{"$f":"COUNTIF(EventLinkConfig!O:O,EventConfig!A26)","v":1},12201,"","","","","","","","","","","","","","","",null,null,null,100,1003,-15000,1005,-5000,{"$f":"IF(AU26=\"\",\"\",CONCATENATE(VLOOKUP(AU26,[2]DropConfig!$A:$F,3,FALSE),\"×\",AV26))","v":"修为×-15000"},{"$f":"IF(AW26=\"\",\"\",CONCATENATE(VLOOKUP(AW26,[2]DropConfig!$A:$F,3,FALSE),\"×\",AX26))","v":"灵气×-5000"}]
[123,{"$f":"IF(Z27>0,_xlfn.TEXTJOIN(\";\",1,ROW(INDIRECT(CONCATENATE(\"\",A27*100+1,\":\",A27*100+Z27,\"\"))),102),\"\")","v":"12301;102"},1,7,1,0,3,4,"1003;1006","-15000;-5000",100,null,null,null,{"$f":"IF(M27=\"\",\"\",CONCATENATE(VLOOKUP(M27,[1]PlacesConfig!$A:$C,3,FALSE),IF(N27=\"\",\"\",\" - \"&VLOOKUP(N27,[1]SmallPlacesConfig!$A:$G,7,FALSE))))","v":""},{"$nulls":6},4302,4098,{"$f":"CONCATENATE(\"[资源]\",VLOOKUP(AW27,[2]DropConfig!$A:$C,3,FALSE))","v":"[资源]玄晶"},null,{"$f":"COUNTIF(EventLinkConfig!O:O,EventConfig!A27)","v":1},12301,"","","","","","","","","","","","","","","",null,null,null,100,1003,-15000,1006,-5000,{"$f":"IF(AU27=\"\",\"\",CONCATENATE(VLOOKUP(AU27,[2]DropConfig!$A:$F,3,FALSE),\"×\",AV27))","v":"修为×-15000"},{"$f":"IF(AW27=\"\",\"\",CONCATENATE(VLOOKUP(AW27,[2]DropConfig!$A:$F,3,FALSE),\"×\",AX27))","v":"玄晶×-5000"}]
[124,{"$f":"IF(Z28>0,_xlfn.TEXTJOIN(\";\",1,ROW(INDIRECT(CONCATENATE(\"\",A28*100+1,\":\",A28*100+Z28,\"\"))),102),\"\")","v":"12401;102"},1,7,1,0,3,12,"1003;1002","-15000;100",40,null,null,null,{"$f":"IF(M28=\"\",\"\",CONCATENATE(VLOOKUP(M28,[1]PlacesConfig!$A:$C,3,FALSE),IF(N28=\"\",\"\",\" - \"&VLOOKUP(N28,[1]SmallPlacesConfig!$A:$G,7,FALSE))))","v":""},{"$nulls":6},4303,4099,{"$f":"CONCATENATE(\"[资源]\",VLOOKUP(AW28,[2]DropConfig!$A:$C,3,FALSE))","v":"[资源]妖丹"},null,{"$f":"COUNTIF(EventLinkConfig!O:O,EventConfig!A28)","v":1},12401,"","","","","","","","","","","","","","","",null,null,null,100,1003,-15000,1002,100,{"$f":"IF(AU28=\"\",\"\",CONCATENATE(VLOOKUP(AU28,[2]DropConfig!$A:$F,3,FALSE),\"×\",AV28))","v":"修为×-15000"},{"$f":"IF(AW28=\"\",\"\",CONCATENATE(VLOOKUP(AW28,[2]DropConfig!$A:$F,3,FALSE),\"×\",AX28))","v":"妖丹×100"}]
[125,{"$f":"IF(Z29>0,_xlfn.TEXTJOIN(\";\",1,ROW(INDIRECT(CONCATENATE(\"\",A29*100+1,\":\",A29*100+Z29,\"\"))),102),\"\")","v":"12501;102"},1,7,1,0,3,13,"1003;1202","-15000;1",30,null,null,null,{"$f":"IF(M29=\"\",\"\",CONCATENATE(VLOOKUP(M29,[1]PlacesConfig!$A:$C,3,FALSE),IF(N29=\"\",\"\",\" - \"&VLOOKUP(N29,[1]SmallPlacesConfig!$A:$G,7,FALSE))))","v":""},{"$nulls":6},4304,4100,{"$f":"CONCATENATE(\"[资源]\",VLOOKUP(AW29,[2]DropConfig!$A:$C,3,FALSE))","v":"[资源]良品渡劫丹"},null,{"$f":"COUNTIF(EventLinkConfig!O:O,EventConfig!A29)","v":1},{"$f":"IF($Z29>=AA$3,$A29*100+AA$3,\"\")","v":12501},"","","","","","","","","","","","","","","",null,null,null,100,1003,-15000,1202,1,{"$f":"IF(AU29=\"\",\"\",CONCATENATE(VLOOKUP(AU29,[2]DropConfig!$A:$F,3,FALSE),\"×\",AV29))","v":"修为×-15000"},{"$f":"IF(AW29=\"\",\"\",CONCATENATE(VLOOKUP(AW29,[2]DropConfig!$A:$F,3,FALSE),\"×\",AX29))","v":"良品渡劫丹×1"}]
[126,{"$f":"IF(Z30>0,_xlfn.TEXTJOIN(\";\",1,ROW(INDIRECT(CONCATENATE(\"\",A30*100+1,\":\",A30*100+Z30,\"\"))),102),\"\")","v":"12601;102"},1,7,1,0,3,10,"1003;1501","-15000;2",70,null,null,null,{"$f":"IF(M30=\"\",\"\",CONCATENATE(VLOOKUP(M30,[1]PlacesConfig!$A:$C,3,FALSE),IF(N30=\"\",\"\",\" - \"&VLOOKUP(N30,[1]SmallPlacesConfig!$A:$G,7,FALSE))))","v":""},{"$nulls":6},4305,4101,{"$f":"CONCATENATE(\"[资源]\",VLOOKUP(AW30,[2]DropConfig!$A:$C,3,FALSE))","v":"[资源]清茶"},null,{"$f":"COUNTIF(EventLinkConfig!O:O,EventConfig!A30)","v":1},12601,"","","","","","","","","","","","","","","",null,null,null,100,1003,-15000,1501,2,{"$f":"IF(AU30=\"\",\"\",CONCATENATE(VLOOKUP(AU30,[2]DropConfig!$A:$F,3,FALSE),\"×\",AV30))","v":"修为×-15000"},{"$f":"IF(AW30=\"\",\"\",CONCATENATE(VLOOKUP(AW30,[2]DropConfig!$A:$F,3,FALSE),\"×\",AX30))","v":"清茶×2"}]
[127,{"$f":"IF(Z31>0,_xlfn.TEXTJOIN(\";\",1,ROW(INDIRECT(CONCATENATE(\"\",A31*100+1,\":\",A31*100+Z31,\"\"))),102),\"\")","v":"12701;102"},1,7,1,0,3,11,"1003;1601","-15000;2",50,null,null,null,{"$f":"IF(M31=\"\",\"\",CONCATENATE(VLOOKUP(M31,[1]PlacesConfig!$A:$C,3,FALSE),IF(N31=\"\",\"\",\" - \"&VLOOKUP(N31,[1]SmallPlacesConfig!$A:$G,7,FALSE))))","v":""},{"$nulls":6},4306,4102,{"$f":"CONCATENATE(\"[资源]\",VLOOKUP(AW31,[2]DropConfig!$A:$C,3,FALSE))","v":"[资源]妃子笑"},null,{"$f":"COUNTIF(EventLinkConfig!O:O,EventConfig!A31)","v":1},12701,"","","","","","","","","","","","","","","",null,null,null,100,1003,-15000,1601,2,{"$f":"IF(AU31=\"\",\"\",CONCATENATE(VLOOKUP(AU31,[2]DropConfig!$A:$F,3,FALSE),\"×\",AV31))","v":"修为×-15000"},{"$f":"IF(AW31=\"\",\"\",CONCATENATE(VLOOKUP(AW31,[2]DropConfig!$A:$F,3,FALSE),\"×\",AX31))","v":"妃子笑×2"}]
[128,{"$f":"IF(Z32>0,_xlfn.TEXTJOIN(\";\",1,ROW(INDIRECT(CONCATENATE(\"\",A32*100+1,\":\",A32*100+Z32,\"\"))),102),\"\")","v":"12801;102"},1,7,1,0,4,6,{"$f":"_xlfn.TEXTJOIN(\";\",1,AU32,AW32)","v":"1003;999001"},{"$f":"_xlfn.TEXTJOIN(\";\",1,AV32,AX32)","v":"-30000;1"},25,null,null,null,{"$f":"IF(M32=\"\",\"\",CONCATENATE(VLOOKUP(M32,[1]PlacesConfig!$A:$C,3,FALSE),IF(N32=\"\",\"\",\" - \"&VLOOKUP(N32,[1]SmallPlacesConfig!$A:$G,7,FALSE))))","v":""},{"$nulls":6},4307,4094,{"$f":"CONCATENATE(\"[资源]\",VLOOKUP(AW32,[2]DropConfig!$A:$C,3,FALSE))","v":"[资源]法宝掉落"},null,{"$f":"COUNTIF(EventLinkConfig!O:O,EventConfig!A32)","v":1},12801,"","","","","","","","","","","","","","","",null,null,null,100,1003,-30000,999001,1,{"$f":"IF(AU32=\"\",\"\",CONCATENATE(VLOOKUP(AU32,[2]DropConfig!$A:$F,3,FALSE),\"×\",AV32))","v":"修为×-30000"},{"$f":"IF(AW32=\"\",\"\",CONCATENATE(VLOOKUP(AW32,[2]DropConfig!$A:$F,3,FALSE),\"×\",AX32))","v":"法宝掉落×1"}]
[129,{"$f":"IF(Z33>0,_xlfn.TEXTJOIN(\";\",1,ROW(INDIRECT(CONCATENATE(\"\",A33*100+1,\":\",A33*100+Z33,\"\"))),102),\"\")","v":"12901;102"},1,7,1,0,4,5,"1003;999002","-30000;1",25,null,null,null,{"$f":"IF(M33=\"\",\"\",CONCATENATE(VLOOKUP(M33,[1]PlacesConfig!$A:$C,3,FALSE),IF(N33=\"\",\"\",\" - \"&VLOOKUP(N33,[1]SmallPlacesConfig!$A:$G,7,FALSE))))","v":""},{"$nulls":6},4308,4095,{"$f":"CONCATENATE(\"[资源]\",VLOOKUP(AW33,[2]DropConfig!$A:$C,3,FALSE))","v":"[资源]功法掉落"},null,{"$f":"COUNTIF(EventLinkConfig!O:O,EventConfig!A33)","v":1},12901,"","","","","","","","","","","","","","","",null,null,null,100,1003,-30000,999002,1,{"$f":"IF(AU33=\"\",\"\",CONCATENATE(VLOOKUP(AU33,[2]DropConfig!$A:$F,3,FALSE),\"×\",AV33))","v":"修为×-30000"},{"$f":"IF(AW33=\"\",\"\",CONCATENATE(VLOOKUP(AW33,[2]DropConfig!$A:$F,3,FALSE),\"×\",AX33))","v":"功法掉落×1"}]
[130,{"$f":"IF(Z34>0,_xlfn.TEXTJOIN(\";\",1,ROW(INDIRECT(CONCATENATE(\"\",A34*100+1,\":\",A34*100+Z34,\"\"))),102),\"\")","v":"13001;102"},1,7,1,0,4,1,"1003;1001","-30000;-5000",100,null,null,null,{"$f":"IF(M34=\"\",\"\",CONCATENATE(VLOOKUP(M34,[1]PlacesConfig!$A:$C,3,FALSE),IF(N34=\"\",\"\",\" - \"&VLOOKUP(N34,[1]SmallPlacesConfig!$A:$G,7,FALSE))))","v":""},{"$nulls":6},4309,4096,{"$f":"CONCATENATE(\"[资源]\",VLOOKUP(AW34,[2]DropConfig!$A:$C,3,FALSE))","v":"[资源]灵石"},null,{"$f":"COUNTIF(EventLinkConfig!O:O,EventConfig!A34)","v":1},13001,"","","","","","","","","","","","","","","",null,null,null,100,1003,-30000,1001,-5000,{"$f":"IF(AU34=\"\",\"\",CONCATENATE(VLOOKUP(AU34,[2]DropConfig!$A:$F,3,FALSE),\"×\",AV34))","v":"修为×-30000"},{"$f":"IF(AW34=\"\",\"\",CONCATENATE(VLOOKUP(AW34,[2]DropConfig!$A:$F,3,FALSE),\"×\",AX34))","v":"灵石×-5000"}]
[131,{"$f":"IF(Z35>0,_xlfn.TEXTJOIN(\";\",1,ROW(INDIRECT(CONCATENATE(\"\",A35*100+1,\":\",A35*100+Z35,\"\"))),102),\"\")","v":"13101;102"},1,7,1,0,4,3,"1003;1005","-30000;-5000",100,null,null,null,{"$f":"IF(M35=\"\",\"\",CONCATENATE(VLOOKUP(M35,[1]PlacesConfig!$A:$C,3,FALSE),IF(N35=\"\",\"\",\" - \"&VLOOKUP(N35,[1]SmallPlacesConfig!$A:$G,7,FALSE))))","v":""},{"$nulls":6},4310,4097,{"$f":"CONCATENATE(\"[资源]\",VLOOKUP(AW35,[2]DropConfig!$A:$C,3,FALSE))","v":"[资源]灵气"},null,{"$f":"COUNTIF(EventLinkConfig!O:O,EventConfig!A35)","v":1},13101,"","","","","","","","","","","","","","","",null,null,null,100,1003,-30000,1005,-5000,{"$f":"IF(AU35=\"\",\"\",CONCATENATE(VLOOKUP(AU35,[2]DropConfig!$A:$F,3,FALSE),\"×\",AV35))","v":"修为×-30000"},{"$f":"IF(AW35=\"\",\"\",CONCATENATE(VLOOKUP(AW35,[2]DropConfig!$A:$F,3,FALSE),\"×\",AX35))","v":"灵气×-5000"}]
[132,{"$f":"IF(Z36>0,_xlfn.TEXTJOIN(\";\",1,ROW(INDIRECT(CONCATENATE(\"\",A36*100+1,\":\",A36*100+Z36,\"\"))),102),\"\")","v":"13201;102"},1,7,1,0,4,4,"1003;1006","-30000;-5000",100,null,null,null,{"$f":"IF(M36=\"\",\"\",CONCATENATE(VLOOKUP(M36,[1]PlacesConfig!$A:$C,3,FALSE),IF(N36=\"\",\"\",\" - \"&VLOOKUP(N36,[1]SmallPlacesConfig!$A:$G,7,FALSE))))","v":""},{"$nulls":6},4311,4098,{"$f":"CONCATENATE(\"[资源]\",VLOOKUP(AW36,[2]DropConfig!$A:$C,3,FALSE))","v":"[资源]玄晶"},null,{"$f":"COUNTIF(EventLinkConfig!O:O,EventConfig!A36)","v":1},13201,"","","","","","",{"$f":"IF($Z36>=AH$3,$A36*100+AH$3,\"\")","v":""},"","","","","","","",{"$f":"IF($Z36>=AP$3,$A36*100+AP$3,\"\")","v":""},null,null,null,100,1003,-30000,1006,-5000,{"$f":"IF(AU36=\"\",\"\",CONCATENATE(VLOOKUP(AU36,[2]DropConfig!$A:$F,3,FALSE),\"×\",AV36))","v":"修为×-30000"},{"$f":"IF(AW36=\"\",\"\",CONCATENATE(VLOOKUP(AW36,[2]DropConfig!$A:$F,3,FALSE),\"×\",AX36))","v":"玄晶×-5000"}]
[133,{"$f":"IF(Z37>0,_xlfn.TEXTJOIN(\";\",1,ROW(INDIRECT(CONCATENATE(\"\",A37*100+1,\":\",A37*100+Z37,\"\"))),102),\"\")","v":"13301;102"},1,7,1,0,4,12,"1003;1002","-30000;100",45,null,null,null,{"$f":"IF(M37=\"\",\"\",CONCATENATE(VLOOKUP(M37,[1]PlacesConfig!$A:$C,3,FALSE),IF(N37=\"\",\"\",\" - \"&VLOOKUP(N37,[1]SmallPlacesConfig!$A:$G,7,FALSE))))","v":""},{"$nulls":6},4312,4099,{"$f":"CONCATENATE(\"[资源]\",VLOOKUP(AW37,[2]DropConfig!$A:$C,3,FALSE))","v":"[资源]妖丹"},null,{"$f":"COUNTIF(EventLinkConfig!O:O,EventConfig!A37)","v":1},13301,"","","","","","","","","","","","","","",{"$f":"IF($Z37>=AP$3,$A37*100+AP$3,\"\")","v":""},null,null,null,100,1003,-30000,1002,100,{"$f":"IF(AU37=\"\",\"\",CONCATENATE(VLOOKUP(AU37,[2]DropConfig!$A:$F,3,FALSE),\"×\",AV37))","v":"修为×-30000"},{"$f":"IF(AW37=\"\",\"\",CONCATENATE(VLOOKUP(AW37,[2]DropConfig!$A:$F,3,FALSE),\"×\",AX37))","v":"妖丹×100"}]
[134,{"$f":"IF(Z38>0,_xlfn.TEXTJOIN(\";\",1,ROW(INDIRECT(CONCATENATE(\"\",A38*100+1,\":\",A38*100+Z38,\"\"))),102),\"\")","v":"13401;102"},1,7,1,0,4,13,"1003;1203","-30000;1",35,null,null,null,{"$f":"IF(M38=\"\",\"\",CONCATENATE(VLOOKUP(M38,[1]PlacesConfig!$A:$C,3,FALSE),IF(N38=\"\",\"\",\" - \"&VLOOKUP(N38,[1]SmallPlacesConfig!$A:$G,7,FALSE))))","v":""},{"$nulls":6},4313,4100,{"$f":"CONCATENATE(\"[资源]\",VLOOKUP(AW38,[2]DropConfig!$A:$C,3,FALSE))","v":"[资源]上品渡劫丹"},null,{"$f":"COUNTIF(EventLinkConfig!O:O,EventConfig!A38)","v":1},13401,"","","","","","","","","","","","","","","",null,null,null,100,1003,-30000,1203,1,{"$f":"IF(AU38=\"\",\"\",CONCATENATE(VLOOKUP(AU38,[2]DropConfig!$A:$F,3,FALSE),\"×\",AV38))","v":"修为×-30000"},{"$f":"IF(AW38=\"\",\"\",CONCATENATE(VLOOKUP(AW38,[2]DropConfig!$A:$F,3,FALSE),\"×\",AX38))","v":"上品渡劫丹×1"}]
[135,{"$f":"IF(Z39>0,_xlfn.TEXTJOIN(\";\",1,ROW(INDIRECT(CONCATENATE(\"\",A39*100+1,\":\",A39*100+Z39,\"\"))),102),\"\")","v":"13501;102"},1,7,1,0,4,10,"1003;1501","-30000;2",75,null,null,null,{"$f":"IF(M39=\"\",\"\",CONCATENATE(VLOOKUP(M39,[1]PlacesConfig!$A:$C,3,FALSE),IF(N39=\"\",\"\",\" - \"&VLOOKUP(N39,[1]SmallPlacesConfig!$A:$G,7,FALSE))))","v":""},{"$nulls":6},4314,4101,{"$f":"CONCATENATE(\"[资源]\",VLOOKUP(AW39,[2]DropConfig!$A:$C,3,FALSE))","v":"[资源]清茶"},null,{"$f":"COUNTIF(EventLinkConfig!O:O,EventConfig!A39)","v":1},{"$f":"IF($Z39>=AA$3,$A39*100+AA$3,\"\")","v":13501},"","","","","","","","","","","","","","","",null,null,null,100,1003,-30000,1501,2,{"$f":"IF(AU39=\"\",\"\",CONCATENATE(VLOOKUP(AU39,[2]DropConfig!$A:$F,3,FALSE),\"×\",AV39))","v":"修为×-30000"},{"$f":"IF(AW39=\"\",\"\",CONCATENATE(VLOOKUP(AW39,[2]DropConfig!$A:$F,3,FALSE),\"×\",AX39))","v":"清茶×2"}]
[136,{"$f":"IF(Z40>0,_xlfn.TEXTJOIN(\";\",1,ROW(INDIRECT(CONCATENATE(\"\",A40*100+1,\":\",A40*100+Z40,\"\"))),102),\"\")","v":"13601;102"},1,7,1,0,4,11,"1003;1601","-30000;2",55,null,null,null,{"$f":"IF(M40=\"\",\"\",CONCATENATE(VLOOKUP(M40,[1]PlacesConfig!$A:$C,3,FALSE),IF(N40=\"\",\"\",\" - \"&VLOOKUP(N40,[1]SmallPlacesConfig!$A:$G,7,FALSE))))","v":""},{"$nulls":6},4315,4102,{"$f":"CONCATENATE(\"[资源]\",VLOOKUP(AW40,[2]DropConfig!$A:$C,3,FALSE))","v":"[资源]妃子笑"},null,{"$f":"COUNTIF(EventLinkConfig!O:O,EventConfig!A40)","v":1},13601,"","","","","","","","","","","","","","","",null,null,null,100,1003,-30000,1601,2,{"$f":"IF(AU40=\"\",\"\",CONCATENATE(VLOOKUP(AU40,[2]DropConfig!$A:$F,3,FALSE),\"×\",AV40))","v":"修为×-30000"},{"$f":"IF(AW40=\"\",\"\",CONCATENATE(VLOOKUP(AW40,[2]DropConfig!$A:$F,3,FALSE),\"×\",AX40))","v":"妃子笑×2"}]
[137,{"$f":"IF(Z41>0,_xlfn.TEXTJOIN(\";\",1,ROW(INDIRECT(CONCATENATE(\"\",A41*100+1,\":\",A41*100+Z41,\"\"))),102),\"\")","v":"13701;102"},1,7,1,0,5,6,{"$f":"_xlfn.TEXTJOIN(\";\",1,AU41,AW41)","v":"1003;999001"},{"$f":"_xlfn.TEXTJOIN(\";\",1,AV41,AX41)","v":"-50000;1"},30,null,null,null,{"$f":"IF(M41=\"\",\"\",CONCATENATE(VLOOKUP(M41,[1]PlacesConfig!$A:$C,3,FALSE),IF(N41=\"\",\"\",\" - \"&VLOOKUP(N41,[1]SmallPlacesConfig!$A:$G,7,FALSE))))","v":""},{"$nulls":6},4316,4094,{"$f":"CONCATENATE(\"[资源]\",VLOOKUP(AW41,[2]DropConfig!$A:$C,3,FALSE))","v":"[资源]法宝掉落"},null,{"$f":"COUNTIF(EventLinkConfig!O:O,EventConfig!A41)","v":1},13701,"","","","","","","","","","","","","","","",null,null,null,100,1003,-50000,999001,1,{"$f":"IF(AU41=\"\",\"\",CONCATENATE(VLOOKUP(AU41,[2]DropConfig!$A:$F,3,FALSE),\"×\",AV41))","v":"修为×-50000"},{"$f":"IF(AW41=\"\",\"\",CONCATENATE(VLOOKUP(AW41,[2]DropConfig!$A:$F,3,FALSE),\"×\",AX41))","v":"法宝掉落×1"}]
[138,{"$f":"IF(Z42>0,_xlfn.TEXTJOIN(\";\",1,ROW(INDIRECT(CONCATENATE(\"\",A42*100+1,\":\",A42*100+Z42,\"\"))),102),\"\")","v":"13801;102"},1,7,1,0,5,5,"1003;999002","-50000;1",30,null,null,null,{"$f":"IF(M42=\"\",\"\",CONCATENATE(VLOOKUP(M42,[1]PlacesConfig!$A:$C,3,FALSE),IF(N42=\"\",\"\",\" - \"&VLOOKUP(N42,[1]SmallPlacesConfig!$A:$G,7,FALSE))))","v":""},{"$nulls":6},4317,4095,{"$f":"CONCATENATE(\"[资源]\",VLOOKUP(AW42,[2]DropConfig!$A:$C,3,FALSE))","v":"[资源]功法掉落"},null,{"$f":"COUNTIF(EventLinkConfig!O:O,EventConfig!A42)","v":1},13801,"","","","","","","","","","","","","","","",null,null,null,100,1003,-50000,999002,1,{"$f":"IF(AU42=\"\",\"\",CONCATENATE(VLOOKUP(AU42,[2]DropConfig!$A:$F,3,FALSE),\"×\",AV42))","v":"修为×-50000"},{"$f":"IF(AW42=\"\",\"\",CONCATENATE(VLOOKUP(AW42,[2]DropConfig!$A:$F,3,FALSE),\"×\",AX42))","v":"功法掉落×1"}]
[139,{"$f":"IF(Z43>0,_xlfn.TEXTJOIN(\";\",1,ROW(INDIRECT(CONCATENATE(\"\",A43*100+1,\":\",A43*100+Z43,\"\"))),102),\"\")","v":"13901;102"},1,7,1,0,5,1,"1003;1001","-50000;-5000",100,null,null,null,{"$f":"IF(M43=\"\",\"\",CONCATENATE(VLOOKUP(M43,[1]PlacesConfig!$A:$C,3,FALSE),IF(N43=\"\",\"\",\" - \"&VLOOKUP(N43,[1]SmallPlacesConfig!$A:$G,7,FALSE))))","v":""},{"$nulls":6},4318,4096,{"$f":"CONCATENATE(\"[资源]\",VLOOKUP(AW43,[2]DropConfig!$A:$C,3,FALSE))","v":"[资源]灵石"},null,{"$f":"COUNTIF(EventLinkConfig!O:O,EventConfig!A43)","v":1},13901,"","","","","","","","","","","","","","","",null,null,null,100,1003,-50000,1001,-5000,{"$f":"IF(AU43=\"\",\"\",CONCATENATE(VLOOKUP(AU43,[2]DropConfig!$A:$F,3,FALSE),\"×\",AV43))","v":"修为×-50000"},{"$f":"IF(AW43=\"\",\"\",CONCATENATE(VLOOKUP(AW43,[2]DropConfig!$A:$F,3,FALSE),\"×\",AX43))","v":"灵石×-5000"}]
[140,{"$f":"IF(Z44>0,_xlfn.TEXTJOIN(\";\",1,ROW(INDIRECT(CONCATENATE(\"\",A44*100+1,\":\",A44*100+Z44,\"\"))),102),\"\")","v":"14001;102"},1,7,1,0,5,3,"1003;1005","-50000;-5000",100,null,null,null,{"$f":"IF(M44=\"\",\"\",CONCATENATE(VLOOKUP(M44,[1]PlacesConfig!$A:$C,3,FALSE),IF(N44=\"\",\"\",\" - \"&VLOOKUP(N44,[1]SmallPlacesConfig!$A:$G,7,FALSE))))","v":""},{"$nulls":6},4319,4097,{"$f":"CONCATENATE(\"[资源]\",VLOOKUP(AW44,[2]DropConfig!$A:$C,3,FALSE))","v":"[资源]灵气"},null,{"$f":"COUNTIF(EventLinkConfig!O:O,EventConfig!A44)","v":1},14001,"","","","","","","","","","","","","","","",null,null,null,100,1003,-50000,1005,-5000,{"$f":"IF(AU44=\"\",\"\",CONCATENATE(VLOOKUP(AU44,[2]DropConfig!$A:$F,3,FALSE),\"×\",AV44))","v":"修为×-50000"},{"$f":"IF(AW44=\"\",\"\",CONCATENATE(VLOOKUP(AW44,[2]DropConfig!$A:$F,3,FALSE),\"×\",AX44))","v":"灵气×-5000"}]
[141,{"$f":"IF(Z45>0,_xlfn.TEXTJOIN(\";\",1,ROW(INDIRECT(CONCATENATE(\"\",A45*100+1,\":\",A45*100+Z45,\"\"))),102),\"\")","v":"14101;102"},1,7,1,0,5,4,"1003;1006","-50000;-5000",100,null,null,null,{"$f":"IF(M45=\"\",\"\",CONCATENATE(VLOOKUP(M45,[1]PlacesConfig!$A:$C,3,FALSE),IF(N45=\"\",\"\",\" - \"&VLOOKUP(N45,[1]SmallPlacesConfig!$A:$G,7,FALSE))))","v":""},{"$nulls":6},4320,4098,{"$f":"CONCATENATE(\"[资源]\",VLOOKUP(AW45,[2]DropConfig!$A:$C,3,FALSE))","v":"[资源]玄晶"},null,{"$f":"COUNTIF(EventLinkConfig!O:O,EventConfig!A45)","v":1},14101,"","","","","","","","","","","","","","","",null,null,null,100,1003,-50000,1006,-5000,{"$f":"IF(AU45=\"\",\"\",CONCATENATE(VLOOKUP(AU45,[2]DropConfig!$A:$F,3,FALSE),\"×\",AV45))","v":"修为×-50000"},{"$f":"IF(AW45=\"\",\"\",CONCATENATE(VLOOKUP(AW45,[2]DropConfig!$A:$F,3,FALSE),\"×\",AX45))","v":"玄晶×-5000"}]
[142,{"$f":"IF(Z46>0,_xlfn.TEXTJOIN(\";\",1,ROW(INDIRECT(CONCATENATE(\"\",A46*100+1,\":\",A46*100+Z46,\"\"))),102),\"\")","v":"14201;102"},1,7,1,0,5,12,"1003;1002","-50000;100",50,null,null,null,{"$f":"IF(M46=\"\",\"\",CONCATENATE(VLOOKUP(M46,[1]PlacesConfig!$A:$C,3,FALSE),IF(N46=\"\",\"\",\" - \"&VLOOKUP(N46,[1]SmallPlacesConfig!$A:$G,7,FALSE))))","v":""},{"$nulls":6},4321,4099,{"$f":"CONCATENATE(\"[资源]\",VLOOKUP(AW46,[2]DropConfig!$A:$C,3,FALSE))","v":"[资源]妖丹"},null,{"$f":"COUNTIF(EventLinkConfig!O:O,EventConfig!A46)","v":1},14201,"","","","","","","","","","","","","","","",null,null,null,100,1003,-50000,1002,100,{"$f":"IF(AU46=\"\",\"\",CONCATENATE(VLOOKUP(AU46,[2]DropConfig!$A:$F,3,FALSE),\"×\",AV46))","v":"修为×-50000"},{"$f":"IF(AW46=\"\",\"\",CONCATENATE(VLOOKUP(AW46,[2]DropConfig!$A:$F,3,FALSE),\"×\",AX46))","v":"妖丹×100"}]
[143,{"$f":"IF(Z47>0,_xlfn.TEXTJOIN(\";\",1,ROW(INDIRECT(CONCATENATE(\"\",A47*100+1,\":\",A47*100+Z47,\"\"))),102),\"\")","v":"14301;102"},1,7,1,0,5,13,"1003;1204","-50000;1",40,null,null,null,{"$f":"IF(M47=\"\",\"\",CONCATENATE(VLOOKUP(M47,[1]PlacesConfig!$A:$C,3,FALSE),IF(N47=\"\",\"\",\" - \"&VLOOKUP(N47,[1]SmallPlacesConfig!$A:$G,7,FALSE))))","v":""},{"$nulls":6},4322,4100,{"$f":"CONCATENATE(\"[资源]\",VLOOKUP(AW47,[2]DropConfig!$A:$C,3,FALSE))","v":"[资源]极品渡劫丹"},null,{"$f":"COUNTIF(EventLinkConfig!O:O,EventConfig!A47)","v":1},14301,"","","","","","","","","","","","","","","",null,null,null,100,1003,-50000,1204,1,{"$f":"IF(AU47=\"\",\"\",CONCATENATE(VLOOKUP(AU47,[2]DropConfig!$A:$F,3,FALSE),\"×\",AV47))","v":"修为×-50000"},{"$f":"IF(AW47=\"\",\"\",CONCATENATE(VLOOKUP(AW47,[2]DropConfig!$A:$F,3,FALSE),\"×\",AX47))","v":"极品渡劫丹×1"}]
[144,{"$f":"IF(Z48>0,_xlfn.TEXTJOIN(\";\",1,ROW(INDIRECT(CONCATENATE(\"\",A48*100+1,\":\",A48*100+Z48,\"\"))),102),\"\")","v":"14401;102"},1,7,1,0,5,10,"1003;1501","-50000;3",80,null,null,null,{"$f":"IF(M48=\"\",\"\",CONCATENATE(VLOOKUP(M48,[1]PlacesConfig!$A:$C,3,FALSE),IF(N48=\"\",\"\",\" - \"&VLOOKUP(N48,[1]SmallPlacesConfig!$A:$G,7,FALSE))))","v":""},{"$nulls":6},4323,4101,{"$f":"CONCATENATE(\"[资源]\",VLOOKUP(AW48,[2]DropConfig!$A:$C,3,FALSE))","v":"[资源]清茶"},null,{"$f":"COUNTIF(EventLinkConfig!O:O,EventConfig!A48)","v":1},14401,"","","","","","","","","","","","","","","",null,null,null,100,1003,-50000,1501,3,{"$f":"IF(AU48=\"\",\"\",CONCATENATE(VLOOKUP(AU48,[2]DropConfig!$A:$F,3,FALSE),\"×\",AV48))","v":"修为×-50000"},{"$f":"IF(AW48=\"\",\"\",CONCATENATE(VLOOKUP(AW48,[2]DropConfig!$A:$F,3,FALSE),\"×\",AX48))","v":"清茶×3"}]
[145,{"$f":"IF(Z49>0,_xlfn.TEXTJOIN(\";\",1,ROW(INDIRECT(CONCATENATE(\"\",A49*100+1,\":\",A49*100+Z49,\"\"))),102),\"\")","v":"14501;102"},1,7,1,0,5,11,"1003;1601","-50000;3",60,null,null,null,{"$f":"IF(M49=\"\",\"\",CONCATENATE(VLOOKUP(M49,[1]PlacesConfig!$A:$C,3,FALSE),IF(N49=\"\",\"\",\" - \"&VLOOKUP(N49,[1]SmallPlacesConfig!$A:$G,7,FALSE))))","v":""},{"$nulls":6},4324,4102,{"$f":"CONCATENATE(\"[资源]\",VLOOKUP(AW49,[2]DropConfig!$A:$C,3,FALSE))","v":"[资源]妃子笑"},null,{"$f":"COUNTIF(EventLinkConfig!O:O,EventConfig!A49)","v":1},14501,"","","","","","","","","","","","","","","",null,null,null,100,1003,-50000,1601,3,{"$f":"IF(AU49=\"\",\"\",CONCATENATE(VLOOKUP(AU49,[2]DropConfig!$A:$F,3,FALSE),\"×\",AV49))","v":"修为×-50000"},{"$f":"IF(AW49=\"\",\"\",CONCATENATE(VLOOKUP(AW49,[2]DropConfig!$A:$F,3,FALSE),\"×\",AX49))","v":"妃子笑×3"}]
[{"$nulls":14},{"$f":"IF(M50=\"\",\"\",CONCATENATE(VLOOKUP(M50,[1]PlacesConfig!$A:$C,3,FALSE),IF(N50=\"\",\"\",\" - \"&VLOOKUP(N50,[1]SmallPlacesConfig!$A:$G,7,FALSE))))","v":""},{"$nulls":35},{"$f":"IF(AU50=\"\",\"\",CONCATENATE(VLOOKUP(AU50,[2]DropConfig!$A:$F,3,FALSE),\"×\",AV50))","v":""},{"$f":"IF(AW50=\"\",\"\",CONCATENATE(VLOOKUP(AW50,[2]DropConfig!$A:$F,3,FALSE),\"×\",AX50))","v":""}]
[9999,{"$f":"IF(A51=\"\",\"\",_xlfn.TEXTJOIN(\";\",1,AA51:AT51,102))","v":"999901;100;102"},99,3,1,0,1,{"$nulls":7},{"$f":"IF(M51=\"\",\"\",CONCATENATE(VLOOKUP(M51,[1]PlacesConfig!$A:$C,3,FALSE),IF(N51=\"\",\"\",\" - \"&VLOOKUP(N51,[1]SmallPlacesConfig!$A:$G,7,FALSE))))","v":""},{"$nulls":6},4325,null,"突破心魔失败鼓励",null,{"$f":"COUNTIF(EventLinkConfig!O:O,EventConfig!A51)","v":1},{"$f":"IF($Z51>=AA$3,$A51*100+AA$3,\"\")","v":999901},"","","","","","","","","","","",{"$nulls":7},100,{"$nulls":4},{"$f":"IF(AU51=\"\",\"\",CONCATENATE(VLOOKUP(AU51,[2]DropConfig!$A:$F,3,FALSE),\"×\",AV51))","v":""},{"$f":"IF(AW51=\"\",\"\",CONCATENATE(VLOOKUP(AW51,[2]DropConfig!$A:$F,3,FALSE),\"×\",AX51))","v":""}]
[null,"",2,3,1,0,1,{"$nulls":7},{"$f":"IF(M52=\"\",\"\",CONCATENATE(VLOOKUP(M52,[1]PlacesConfig!$A:$C,3,FALSE),IF(N52=\"\",\"\",\" - \"&VLOOKUP(N52,[1]SmallPlacesConfig!$A:$G,7,FALSE))))","v":""},{"$nulls":8},"挂机2","灵气",{"$f":"COUNTIF(EventLinkConfig!O:O,EventConfig!A52)","v":0},"","","","","","","","","","","","",{"$nulls":7},100,{"$nulls":4},{"$f":"IF(AU52=\"\",\"\",CONCATENATE(VLOOKUP(AU52,[2]DropConfig!$A:$F,3,FALSE),\"×\",AV52))","v":""},{"$f":"IF(AW52=\"\",\"\",CONCATENATE(VLOOKUP(AW52,[2]DropConfig!$A:$F,3,FALSE),\"×\",AX52))","v":""}]
[null,"",2,3,1,0,1,{"$nulls":7},{"$f":"IF(M53=\"\",\"\",CONCATENATE(VLOOKUP(M53,[1]PlacesConfig!$A:$C,3,FALSE),IF(N53=\"\",\"\",\" - \"&VLOOKUP(N53,[1]SmallPlacesConfig!$A:$G,7,FALSE))))","v":""},{"$nulls":8},"挂机3","玄晶",{"$f":"COUNTIF(EventLinkConfig!O:O,EventConfig!A53)","v":0},"","","","","","","","","","","","",{"$nulls":7},100,{"$nulls":4},{"$f":"IF(AU53=\"\",\"\",CONCATENATE(VLOOKUP(AU53,[2]DropConfig!$A:$F,3,FALSE),\"×\",AV53))","v":""},{"$f":"IF(AW53=\"\",\"\",CONCATENATE(VLOOKUP(AW53,[2]DropConfig!$A:$F,3,FALSE),\"×\",AX53))","v":""}]
[null,"",2,3,1,0,1,{"$nulls":7},{"$f":"IF(M54=\"\",\"\",CONCATENATE(VLOOKUP(M54,[1]PlacesConfig!$A:$C,3,FALSE),IF(N54=\"\",\"\",\" - \"&VLOOKUP(N54,[1]SmallPlacesConfig!$A:$G,7,FALSE))))","v":""},{"$nulls":8},"挂机4","灵石",{"$f":"COUNTIF(EventLinkConfig!O:O,EventConfig!A54)","v":0},"","","","","","","","","","","","",{"$nulls":7},100,{"$nulls":4},{"$f":"IF(AU54=\"\",\"\",CONCATENATE(VLOOKUP(AU54,[2]DropConfig!$A:$F,3,FALSE),\"×\",AV54))","v":""},{"$f":"IF(AW54=\"\",\"\",CONCATENATE(VLOOKUP(AW54,[2]DropConfig!$A:$F,3,FALSE),\"×\",AX54))","v":""}]
[null,"",2,3,1,0,1,{"$nulls":7},{"$f":"IF(M55=\"\",\"\",CONCATENATE(VLOOKUP(M55,[1]PlacesConfig!$A:$C,3,FALSE),IF(N55=\"\",\"\",\" - \"&VLOOKUP(N55,[1]SmallPlacesConfig!$A:$G,7,FALSE))))","v":""},{"$nulls":8},"挂机5","神识丹",{"$f":"COUNTIF(EventLinkConfig!O:O,EventConfig!A55)","v":0},"","","","","","","","","","","","",{"$nulls":7},100,{"$nulls":4},{"$f":"IF(AU55=\"\",\"\",CONCATENATE(VLOOKUP(AU55,[2]DropConfig!$A:$F,3,FALSE),\"×\",AV55))","v":""},{"$f":"IF(AW55=\"\",\"\",CONCATENATE(VLOOKUP(AW55,[2]DropConfig!$A:$F,3,FALSE),\"×\",AX55))","v":""}]
[null,"",2,3,1,0,1,{"$nulls":7},{"$f":"IF(M56=\"\",\"\",CONCATENATE(VLOOKUP(M56,[1]PlacesConfig!$A:$C,3,FALSE),IF(N56=\"\",\"\",\" - \"&VLOOKUP(N56,[1]SmallPlacesConfig!$A:$G,7,FALSE))))","v":""},{"$nulls":8},"挂机6","妖丹",{"$f":"COUNTIF(EventLinkConfig!O:O,EventConfig!A56)","v":0},"","","","","","","","","","","","",{"$nulls":7},100,{"$nulls":4},{"$f":"IF(AU56=\"\",\"\",CONCATENATE(VLOOKUP(AU56,[2]DropConfig!$A:$F,3,FALSE),\"×\",AV56))","v":""},{"$f":"IF(AW56=\"\",\"\",CONCATENATE(VLOOKUP(AW56,[2]DropConfig!$A:$F,3,FALSE),\"×\",AX56))","v":""}]
[{"$nulls":14},{"$f":"IF(M57=\"\",\"\",CONCATENATE(VLOOKUP(M57,[1]PlacesConfig!$A:$C,3,FALSE),IF(N57=\"\",\"\",\" - \"&VLOOKUP(N57,[1]SmallPlacesConfig!$A:$G,7,FALSE))))","v":""},{"$nulls":35},{"$f":"IF(AU57=\"\",\"\",CONCATENATE(VLOOKUP(AU57,[2]DropConfig!$A:$F,3,FALSE),\"×\",AV57))","v":""},{"$f":"IF(AW57=\"\",\"\",CONCATENATE(VLOOKUP(AW57,[2]DropConfig!$A:$F,3,FALSE),\"×\",AX57))","v":""}]
[10000,{"$f":"IF(Z58>0,_xlfn.TEXTJOIN(\";\",1,ROW(INDIRECT(CONCATENATE(\"\",A58*100+1,\":\",A58*100+Z58,\"\"))),102),\"\")","v":"1000001;1000002;1000003;1000004;1000005;1000006;1000007;1000008;1000009;1000010;1000011;1000012;1000013;1000014;1000015;1000016;1000017;1000018;1000019;1000020;1000021;1000022;102"},99,1,1,0,1,null,{"$f":"_xlfn.TEXTJOIN(\";\",1,AU58,AW58)","v":""},{"$f":"_xlfn.TEXTJOIN(\";\",1,AV58,AX58)","v":""},null,null,1,null,{"$f":"IF(M58=\"\",\"\",CONCATENATE(VLOOKUP(M58,[1]PlacesConfig!$A:$C,3,FALSE),IF(N58=\"\",\"\",\" - \"&VLOOKUP(N58,[1]SmallPlacesConfig!$A:$G,7,FALSE))))","v":"北海"},1,1,{"$nulls":4},4259,null,"渡劫之殇",null,{"$f":"COUNTIF(EventLinkConfig!O:O,EventConfig!A58)","v":22},{"$f":"IF($Z58>=AA$3,$A58*100+AA$3,\"\")","v":1000001},1000002,1000003,1000004,1000005,1000006,1000007,1000008,1000009,1000010,1000011,1000012,1000013,1000014,1000015,1000016,{"$nulls":8},{"$f":"IF(AU58=\"\",\"\",CONCATENATE(VLOOKUP(AU58,[2]DropConfig!$A:$F,3,FALSE),\"×\",AV58))","v":""},{"$f":"IF(AW58=\"\",\"\",CONCATENATE(VLOOKUP(AW58,[2]DropConfig!$A:$F,3,FALSE),\"×\",AX58))","v":""}]
[10001,{"$f":"IF(Z59>0,_xlfn.TEXTJOIN(\";\",1,ROW(INDIRECT(CONCATENATE(\"\",A59*100+1,\":\",A59*100+Z59,\"\"))),102),\"\")","v":"1000101;1000102;1000103;1000104;102"},4,1,1,1,1,null,"12004;1701","1;1",null,null,1,null,{"$f":"IF(M59=\"\",\"\",CONCATENATE(VLOOKUP(M59,[1]PlacesConfig!$A:$C,3,FALSE),IF(N59=\"\",\"\",\" - \"&VLOOKUP(N59,[1]SmallPlacesConfig!$A:$G,7,FALSE))))","v":"北海"},3,1,{"$nulls":4},4028,4103,"鲲鹏何在","神识未灭",{"$f":"COUNTIF(EventLinkConfig!O:O,EventConfig!A59)","v":4},1000101,1000102,1000103,1000104,"","","","","","","","","","","","",{"$nulls":4},12004,1,1701,1,{"$f":"IF(AU59=\"\",\"\",CONCATENATE(VLOOKUP(AU59,[2]DropConfig!$A:$F,3,FALSE),\"×\",AV59))","v":"飞刃×1"},{"$f":"IF(AW59=\"\",\"\",CONCATENATE(VLOOKUP(AW59,[2]DropConfig!$A:$F,3,FALSE),\"×\",AX59))","v":"清识还元丹×1"}]
[10002,{"$f":"IF(Z60>0,_xlfn.TEXTJOIN(\";\",1,ROW(INDIRECT(CONCATENATE(\"\",A60*100+1,\":\",A60*100+Z60,\"\"))),102),\"\")","v":"1000201;1000202;1000203;102"},4,1,1,1,1,null,{"$f":"_xlfn.TEXTJOIN(\";\",1,AU60,AW60)","v":"12507;1701"},{"$f":"_xlfn.TEXTJOIN(\";\",1,AV60,AX60)","v":"1;1"},null,null,1,2,{"$f":"IF(M60=\"\",\"\",CONCATENATE(VLOOKUP(M60,[1]PlacesConfig!$A:$C,3,FALSE),IF(N60=\"\",\"\",\" - \"&VLOOKUP(N60,[1]SmallPlacesConfig!$A:$G,7,FALSE))))","v":"北海 - 秘境"},5,1,{"$nulls":4},4029,4104,"北海迷径1","御剑而行",{"$f":"COUNTIF(EventLinkConfig!O:O,EventConfig!A60)","v":3},1000201,1000202,1000203,"","","","","","","","","","","","","",{"$nulls":4},12507,1,1701,1,{"$f":"IF(AU60=\"\",\"\",CONCATENATE(VLOOKUP(AU60,[2]DropConfig!$A:$F,3,FALSE),\"×\",AV60))","v":"极速齿轮×1"},{"$f":"IF(AW60=\"\",\"\",CONCATENATE(VLOOKUP(AW60,[2]DropConfig!$A:$F,3,FALSE),\"×\",AX60))","v":"清识还元丹×1"}]
[10003,{"$f":"IF(Z61>0,_xlfn.TEXTJOIN(\";\",1,ROW(INDIRECT(CONCATENATE(\"\",A61*100+1,\":\",A61*100+Z61,\"\"))),102),\"\")","v":"1000301;1000302;1000303;1000304;1000305;1000306;1000307;1000308;1000309;102"},4,1,1,1,1,null,"12005;1701","1;2",null,null,1,2,{"$f":"IF(M61=\"\",\"\",CONCATENATE(VLOOKUP(M61,[1]PlacesConfig!$A:$C,3,FALSE),IF(N61=\"\",\"\",\" - \"&VLOOKUP(N61,[1]SmallPlacesConfig!$A:$G,7,FALSE))))","v":"北海 - 秘境"},7,1,{"$nulls":4},4030,4105,"北海迷径2","雀笑大鹏",{"$f":"COUNTIF(EventLinkConfig!O:O,EventConfig!A61)","v":9},1000301,1000302,1000303,1000304,1000305,1000306,1000307,1000308,1000309,"","","","","","","",{"$nulls":4},12005,1,1701,2,{"$f":"IF(AU61=\"\",\"\",CONCATENATE(VLOOKUP(AU61,[2]DropConfig!$A:$F,3,FALSE),\"×\",AV61))","v":"金针×1"},{"$f":"IF(AW61=\"\",\"\",CONCATENATE(VLOOKUP(AW61,[2]DropConfig!$A:$F,3,FALSE),\"×\",AX61))","v":"清识还元丹×2"}]
[10004,{"$f":"IF(Z62>0,_xlfn.TEXTJOIN(\";\",1,ROW(INDIRECT(CONCATENATE(\"\",A62*100+1,\":\",A62*100+Z62,\"\"))),102),\"\")","v":"1000401;1000402;1000403;1000404;102"},4,1,1,1,1,null,"10001;1701","1;2",null,null,1,2,{"$f":"IF(M62=\"\",\"\",CONCATENATE(VLOOKUP(M62,[1]PlacesConfig!$A:$C,3,FALSE),IF(N62=\"\",\"\",\" - \"&VLOOKUP(N62,[1]SmallPlacesConfig!$A:$G,7,FALSE))))","v":"北海 - 秘境"},9,1,{"$nulls":4},4031,4106,"古径阵法","击败结界兽",{"$f":"COUNTIF(EventLinkConfig!O:O,EventConfig!A62)","v":4},1000401,1000402,1000403,1000404,"","","","","","","","","","","","",{"$nulls":4},10001,1,1701,2,{"$f":"IF(AU62=\"\",\"\",CONCATENATE(VLOOKUP(AU62,[2]DropConfig!$A:$F,3,FALSE),\"×\",AV62))","v":"神龙鼎×1"},{"$f":"IF(AW62=\"\",\"\",CONCATENATE(VLOOKUP(AW62,[2]DropConfig!$A:$F,3,FALSE),\"×\",AX62))","v":"清识还元丹×2"}]
[10005,{"$f":"IF(Z63>0,_xlfn.TEXTJOIN(\";\",1,ROW(INDIRECT(CONCATENATE(\"\",A63*100+1,\":\",A63*100+Z63,\"\"))),102),\"\")","v":"1000501;1000502;1000503;1000504;1000505;1000506;1000507;1000508;1000509;1000510;1000511;1000512;1000513;1000514;102"},4,1,1,1,1,null,"12501;1701","1;2",null,null,1,3,{"$f":"IF(M63=\"\",\"\",CONCATENATE(VLOOKUP(M63,[1]PlacesConfig!$A:$C,3,FALSE),IF(N63=\"\",\"\",\" - \"&VLOOKUP(N63,[1]SmallPlacesConfig!$A:$G,7,FALSE))))","v":"北海 - 浮岛"},11,1,11,null,null,null,4032,4107,"浮空之岛1","初见疯道人",{"$f":"COUNTIF(EventLinkConfig!O:O,EventConfig!A63)","v":14},1000501,1000502,1000503,1000504,1000505,1000506,1000507,1000508,1000509,1000510,1000511,1000512,1000513,1000514,"","",{"$nulls":4},12501,1,1701,2,{"$f":"IF(AU63=\"\",\"\",CONCATENATE(VLOOKUP(AU63,[2]DropConfig!$A:$F,3,FALSE),\"×\",AV63))","v":"天衍星辰诀×1"},{"$f":"IF(AW63=\"\",\"\",CONCATENATE(VLOOKUP(AW63,[2]DropConfig!$A:$F,3,FALSE),\"×\",AX63))","v":"清识还元丹×2"}]
[10006,{"$f":"IF(Z64>0,_xlfn.TEXTJOIN(\";\",1,ROW(INDIRECT(CONCATENATE(\"\",A64*100+1,\":\",A64*100+Z64,\"\"))),102),\"\")","v":"1000601;1000602;1000603;1000604;1000605;1000606;102"},4,1,1,1,1,null,"12009;1701","1;2",null,null,1,3,{"$f":"IF(M64=\"\",\"\",CONCATENATE(VLOOKUP(M64,[1]PlacesConfig!$A:$C,3,FALSE),IF(N64=\"\",\"\",\" - \"&VLOOKUP(N64,[1]SmallPlacesConfig!$A:$G,7,FALSE))))","v":"北海 - 浮岛"},13,1,{"$nulls":4},4033,4108,"浮空之岛2","筑基中期",{"$f":"COUNTIF(EventLinkConfig!O:O,EventConfig!A64)","v":6},1000601,1000602,1000603,1000604,1000605,1000606,"","","","","","","","","","",{"$nulls":4},12009,1,1701,2,{"$f":"IF(AU64=\"\",\"\",CONCATENATE(VLOOKUP(AU64,[2]DropConfig!$A:$F,3,FALSE),\"×\",AV64))","v":"水球×1"},{"$f":"IF(AW64=\"\",\"\",CONCATENATE(VLOOKUP(AW64,[2]DropConfig!$A:$F,3,FALSE),\"×\",AX64))","v":"清识还元丹×2"}]
[10007,{"$f":"IF(Z65>0,_xlfn.TEXTJOIN(\";\",1,ROW(INDIRECT(CONCATENATE(\"\",A65*100+1,\":\",A65*100+Z65,\"\"))),102),\"\")","v":"1000701;1000702;1000703;1000704;1000705;102"},4,1,1,1,1,null,"12506;1701","1;2",null,null,1,3,{"$f":"IF(M65=\"\",\"\",CONCATENATE(VLOOKUP(M65,[1]PlacesConfig!$A:$C,3,FALSE),IF(N65=\"\",\"\",\" - \"&VLOOKUP(N65,[1]SmallPlacesConfig!$A:$G,7,FALSE))))","v":"北海 - 浮岛"},16,1,{"$nulls":4},4034,4109,"风中洞府1","击败痴道人",{"$f":"COUNTIF(EventLinkConfig!O:O,EventConfig!A65)","v":5},1000701,1000702,1000703,1000704,1000705,"","","","","","","","","","","",{"$nulls":4},12506,1,1701,2,{"$f":"IF(AU65=\"\",\"\",CONCATENATE(VLOOKUP(AU65,[2]DropConfig!$A:$F,3,FALSE),\"×\",AV65))","v":"乾坤巨灵诀×1"},{"$f":"IF(AW65=\"\",\"\",CONCATENATE(VLOOKUP(AW65,[2]DropConfig!$A:$F,3,FALSE),\"×\",AX65))","v":"清识还元丹×2"}]
[10008,{"$f":"IF(Z66>0,_xlfn.TEXTJOIN(\";\",1,ROW(INDIRECT(CONCATENATE(\"\",A66*100+1,\":\",A66*100+Z66,\"\"))),102),\"\")","v":"1000801;1000802;1000803;1000804;1000805;1000806;1000807;1000808;1000809;1000810;1000811;1000812;1000813;1000814;102"},4,1,1,1,1,null,"10003;1701","1;2",null,null,1,3,{"$f":"IF(M66=\"\",\"\",CONCATENATE(VLOOKUP(M66,[1]PlacesConfig!$A:$C,3,FALSE),IF(N66=\"\",\"\",\" - \"&VLOOKUP(N66,[1]SmallPlacesConfig!$A:$G,7,FALSE))))","v":"北海 - 浮岛"},19,1,{"$nulls":4},4035,4110,"风中洞府2","疯痴相聚",{"$f":"COUNTIF(EventLinkConfig!O:O,EventConfig!A66)","v":14},1000801,1000802,1000803,1000804,1000805,1000806,1000807,1000808,1000809,1000810,1000811,1000812,1000813,1000814,"","",{"$nulls":4},10003,1,1701,2,{"$f":"IF(AU66=\"\",\"\",CONCATENATE(VLOOKUP(AU66,[2]DropConfig!$A:$F,3,FALSE),\"×\",AV66))","v":"翡翠葫芦×1"},{"$f":"IF(AW66=\"\",\"\",CONCATENATE(VLOOKUP(AW66,[2]DropConfig!$A:$F,3,FALSE),\"×\",AX66))","v":"清识还元丹×2"}]
[10009,{"$f":"IF(Z67>0,_xlfn.TEXTJOIN(\";\",1,ROW(INDIRECT(CONCATENATE(\"\",A67*100+1,\":\",A67*100+Z67,\"\"))),102),\"\")","v":"1000901;1000902;1000903;102"},4,1,1,1,1,null,"12010;1702","1;1",null,null,1,3,{"$f":"IF(M67=\"\",\"\",CONCATENATE(VLOOKUP(M67,[1]PlacesConfig!$A:$C,3,FALSE),IF(N67=\"\",\"\",\" - \"&VLOOKUP(N67,[1]SmallPlacesConfig!$A:$G,7,FALSE))))","v":"北海 - 浮岛"},21,1,21,null,null,null,4036,4111,"风灵之力","筑基后期",{"$f":"COUNTIF(EventLinkConfig!O:O,EventConfig!A67)","v":3},1000901,1000902,1000903,"","","","","","","","","","","","","",{"$nulls":4},12010,1,1702,1,{"$f":"IF(AU67=\"\",\"\",CONCATENATE(VLOOKUP(AU67,[2]DropConfig!$A:$F,3,FALSE),\"×\",AV67))","v":"冰刀×1"},{"$f":"IF(AW67=\"\",\"\",CONCATENATE(VLOOKUP(AW67,[2]DropConfig!$A:$F,3,FALSE),\"×\",AX67))","v":"归识还元丹×1"}]
[10010,{"$f":"IF(Z68>0,_xlfn.TEXTJOIN(\";\",1,ROW(INDIRECT(CONCATENATE(\"\",A68*100+1,\":\",A68*100+Z68,\"\"))),102),\"\")","v":"1001001;1001002;1001003;1001004;1001005;1001006;1001007;102"},4,1,1,1,1,null,"1301;1702","1;1",null,null,1,4,{"$f":"IF(M68=\"\",\"\",CONCATENATE(VLOOKUP(M68,[1]PlacesConfig!$A:$C,3,FALSE),IF(N68=\"\",\"\",\" - \"&VLOOKUP(N68,[1]SmallPlacesConfig!$A:$G,7,FALSE))))","v":"北海 - 深处"},25,1,{"$nulls":4},4037,4112,"北海深处1","妖兽横行",{"$f":"COUNTIF(EventLinkConfig!O:O,EventConfig!A68)","v":7},{"$f":"IF($Z68>=AA$3,$A68*100+AA$3,\"\")","v":1001001},1001002,1001003,1001004,1001005,1001006,1001007,"","","","","","","","","",{"$nulls":4},1301,1,1702,1,{"$f":"IF(AU68=\"\",\"\",CONCATENATE(VLOOKUP(AU68,[2]DropConfig!$A:$F,3,FALSE),\"×\",AV68))","v":"筑基丹×1"},{"$f":"IF(AW68=\"\",\"\",CONCATENATE(VLOOKUP(AW68,[2]DropConfig!$A:$F,3,FALSE),\"×\",AX68))","v":"归识还元丹×1"}]
[10011,{"$f":"IF(Z69>0,_xlfn.TEXTJOIN(\";\",1,ROW(INDIRECT(CONCATENATE(\"\",A69*100+1,\":\",A69*100+Z69,\"\"))),102),\"\")","v":"1001101;1001102;1001103;1001104;1001105;1001106;1001107;1001108;1001109;1001110;1001111;1001112;102"},4,1,1,1,1,null,"12502;1702","1;1",null,null,1,4,{"$f":"IF(M69=\"\",\"\",CONCATENATE(VLOOKUP(M69,[1]PlacesConfig!$A:$C,3,FALSE),IF(N69=\"\",\"\",\" - \"&VLOOKUP(N69,[1]SmallPlacesConfig!$A:$G,7,FALSE))))","v":"北海 - 深处"},31,1,31,null,null,null,4038,4113,"北海深处2","遇见鲲鹏",{"$f":"COUNTIF(EventLinkConfig!O:O,EventConfig!A69)","v":12},1001101,1001102,1001103,1001104,1001105,1001106,1001107,1001108,1001109,1001110,1001111,1001112,"","","","",{"$nulls":4},12502,1,1702,1,{"$f":"IF(AU69=\"\",\"\",CONCATENATE(VLOOKUP(AU69,[2]DropConfig!$A:$F,3,FALSE),\"×\",AV69))","v":"法宝秘籍×1"},{"$f":"IF(AW69=\"\",\"\",CONCATENATE(VLOOKUP(AW69,[2]DropConfig!$A:$F,3,FALSE),\"×\",AX69))","v":"归识还元丹×1"}]
[10012,{"$f":"IF(Z70>0,_xlfn.TEXTJOIN(\";\",1,ROW(INDIRECT(CONCATENATE(\"\",A70*100+1,\":\",A70*100+Z70,\"\"))),102),\"\")","v":"1001201;1001202;1001203;102"},4,1,1,1,1,null,"12014;1702","1;1",null,null,2,5,{"$f":"IF(M70=\"\",\"\",CONCATENATE(VLOOKUP(M70,[1]PlacesConfig!$A:$C,3,FALSE),IF(N70=\"\",\"\",\" - \"&VLOOKUP(N70,[1]SmallPlacesConfig!$A:$G,7,FALSE))))","v":"尧之都 - 主城"},34,1,{"$nulls":4},4039,4114,"尧都寻踪",null,{"$f":"COUNTIF(EventLinkConfig!O:O,EventConfig!A70)","v":3},1001201,1001202,1001203,"","","","","","","","","","","","","",{"$nulls":4},12014,1,1702,1,{"$f":"IF(AU70=\"\",\"\",CONCATENATE(VLOOKUP(AU70,[2]DropConfig!$A:$F,3,FALSE),\"×\",AV70))","v":"竹刺×1"},{"$f":"IF(AW70=\"\",\"\",CONCATENATE(VLOOKUP(AW70,[2]DropConfig!$A:$F,3,FALSE),\"×\",AX70))","v":"归识还元丹×1"}]
[10013,{"$f":"IF(Z71>0,_xlfn.TEXTJOIN(\";\",1,ROW(INDIRECT(CONCATENATE(\"\",A71*100+1,\":\",A71*100+Z71,\"\"))),102),\"\")","v":"1001301;1001302;1001303;1001304;1001305;1001306;1001307;1001308;1001309;1001310;1001311;1001312;102"},4,1,1,1,1,null,"12508;1702","1;1",null,null,2,5,{"$f":"IF(M71=\"\",\"\",CONCATENATE(VLOOKUP(M71,[1]PlacesConfig!$A:$C,3,FALSE),IF(N71=\"\",\"\",\" - \"&VLOOKUP(N71,[1]SmallPlacesConfig!$A:$G,7,FALSE))))","v":"尧之都 - 主城"},37,1,{"$nulls":4},4040,4115,"尧之都","尧让天下",{"$f":"COUNTIF(EventLinkConfig!O:O,EventConfig!A71)","v":12},1001301,1001302,1001303,1001304,1001305,1001306,1001307,1001308,1001309,1001310,1001311,1001312,"","","","",{"$nulls":4},12508,1,1702,1,{"$f":"IF(AU71=\"\",\"\",CONCATENATE(VLOOKUP(AU71,[2]DropConfig!$A:$F,3,FALSE),\"×\",AV71))","v":"太虚剑意×1"},{"$f":"IF(AW71=\"\",\"\",CONCATENATE(VLOOKUP(AW71,[2]DropConfig!$A:$F,3,FALSE),\"×\",AX71))","v":"归识还元丹×1"}]
[10014,{"$f":"IF(Z72>0,_xlfn.TEXTJOIN(\";\",1,ROW(INDIRECT(CONCATENATE(\"\",A72*100+1,\":\",A72*100+Z72,\"\"))),102),\"\")","v":"1001401;1001402;1001403;1001404;1001405;1001406;1001407;1001408;1001409;1001410;1001411;1001412;1001413;1001414;1001415;1001416;102"},4,1,1,1,1,null,"10006;1702","1;1",null,null,2,6,{"$f":"IF(M72=\"\",\"\",CONCATENATE(VLOOKUP(M72,[1]PlacesConfig!$A:$C,3,FALSE),IF(N72=\"\",\"\",\" - \"&VLOOKUP(N72,[1]SmallPlacesConfig!$A:$G,7,FALSE))))","v":"尧之都 - 山林"},41,1,41,null,null,null,4041,4116,"山林清音","访贤许由",{"$f":"COUNTIF(EventLinkConfig!O:O,EventConfig!A72)","v":16},1001401,1001402,1001403,1001404,1001405,1001406,1001407,1001408,1001409,1001410,1001411,1001412,1001413,1001414,1001415,1001416,{"$nulls":4},10006,1,1702,1,{"$f":"IF(AU72=\"\",\"\",CONCATENATE(VLOOKUP(AU72,[2]DropConfig!$A:$F,3,FALSE),\"×\",AV72))","v":"九幽镇魂瓶×1"},{"$f":"IF(AW72=\"\",\"\",CONCATENATE(VLOOKUP(AW72,[2]DropConfig!$A:$F,3,FALSE),\"×\",AX72))","v":"归识还元丹×1"}]
[10015,{"$f":"IF(Z73>0,_xlfn.TEXTJOIN(\";\",1,ROW(INDIRECT(CONCATENATE(\"\",A73*100+1,\":\",A73*100+Z73,\"\"))),102),\"\")","v":"1001501;1001502;1001503;1001504;1001505;1001506;1001507;1001508;102"},4,1,1,1,1,null,"12015;1702","1;1",null,null,2,6,{"$f":"IF(M73=\"\",\"\",CONCATENATE(VLOOKUP(M73,[1]PlacesConfig!$A:$C,3,FALSE),IF(N73=\"\",\"\",\" - \"&VLOOKUP(N73,[1]SmallPlacesConfig!$A:$G,7,FALSE))))","v":"尧之都 - 山林"},46,1,{"$nulls":4},4042,4117,"山中劳作","割草喝茶",{"$f":"COUNTIF(EventLinkConfig!O:O,EventConfig!A73)","v":8},1001501,1001502,1001503,1001504,1001505,1001506,1001507,1001508,"","","","","","","","",{"$nulls":4},12015,1,1702,1,{"$f":"IF(AU73=\"\",\"\",CONCATENATE(VLOOKUP(AU73,[2]DropConfig!$A:$F,3,FALSE),\"×\",AV73))","v":"飞叶×1"},{"$f":"IF(AW73=\"\",\"\",CONCATENATE(VLOOKUP(AW73,[2]DropConfig!$A:$F,3,FALSE),\"×\",AX73))","v":"归识还元丹×1"}]
[10016,{"$f":"IF(Z74>0,_xlfn.TEXTJOIN(\";\",1,ROW(INDIRECT(CONCATENATE(\"\",A74*100+1,\":\",A74*100+Z74,\"\"))),102),\"\")","v":"1001601;1001602;1001603;1001604;1001605;1001606;1001607;1001608;102"},4,1,1,1,1,null,"12503;1702","1;2",null,null,2,6,{"$f":"IF(M74=\"\",\"\",CONCATENATE(VLOOKUP(M74,[1]PlacesConfig!$A:$C,3,FALSE),IF(N74=\"\",\"\",\" - \"&VLOOKUP(N74,[1]SmallPlacesConfig!$A:$G,7,FALSE))))","v":"尧之都 - 山林"},51,1,51,null,null,null,4043,4118,"风起夜战","再来一杯",{"$f":"COUNTIF(EventLinkConfig!O:O,EventConfig!A74)","v":8},1001601,1001602,1001603,1001604,1001605,1001606,1001607,1001608,"","","","","","","","",{"$nulls":4},12503,1,1702,2,{"$f":"IF(AU74=\"\",\"\",CONCATENATE(VLOOKUP(AU74,[2]DropConfig!$A:$F,3,FALSE),\"×\",AV74))","v":"崩脉决×1"},{"$f":"IF(AW74=\"\",\"\",CONCATENATE(VLOOKUP(AW74,[2]DropConfig!$A:$F,3,FALSE),\"×\",AX74))","v":"归识还元丹×2"}]
[10017,{"$f":"IF(Z75>0,_xlfn.TEXTJOIN(\";\",1,ROW(INDIRECT(CONCATENATE(\"\",A75*100+1,\":\",A75*100+Z75,\"\"))),102),\"\")","v":"1001701;1001702;1001703;1001704;1001705;1001706;1001707;1001708;1001709;1001710;1001711;1001712;1001713;102"},4,1,1,1,1,null,"1302;1702","1;2",null,null,2,6,{"$f":"IF(M75=\"\",\"\",CONCATENATE(VLOOKUP(M75,[1]PlacesConfig!$A:$C,3,FALSE),IF(N75=\"\",\"\",\" - \"&VLOOKUP(N75,[1]SmallPlacesConfig!$A:$G,7,FALSE))))","v":"尧之都 - 山林"},56,1,{"$nulls":4},4044,4119,"吃茶三问","战胜妖王",{"$f":"COUNTIF(EventLinkConfig!O:O,EventConfig!A75)","v":13},1001701,1001702,1001703,1001704,1001705,1001706,1001707,1001708,1001709,1001710,1001711,1001712,1001713,"","","",{"$nulls":4},1302,1,1702,2,{"$f":"IF(AU75=\"\",\"\",CONCATENATE(VLOOKUP(AU75,[2]DropConfig!$A:$F,3,FALSE),\"×\",AV75))","v":"金阳果×1"},{"$f":"IF(AW75=\"\",\"\",CONCATENATE(VLOOKUP(AW75,[2]DropConfig!$A:$F,3,FALSE),\"×\",AX75))","v":"归识还元丹×2"}]
[10018,{"$f":"IF(Z76>0,_xlfn.TEXTJOIN(\";\",1,ROW(INDIRECT(CONCATENATE(\"\",A76*100+1,\":\",A76*100+Z76,\"\"))),102),\"\")","v":"1001801;1001802;1001803;1001804;1001805;1001806;1001807;1001808;1001809;1001810;102"},4,1,1,1,1,null,"12019;1702","1;2",null,null,2,5,{"$f":"IF(M76=\"\",\"\",CONCATENATE(VLOOKUP(M76,[1]PlacesConfig!$A:$C,3,FALSE),IF(N76=\"\",\"\",\" - \"&VLOOKUP(N76,[1]SmallPlacesConfig!$A:$G,7,FALSE))))","v":"尧之都 - 主城"},61,1,61,null,null,null,4045,4120,"尧让天下","复命尧帝",{"$f":"COUNTIF(EventLinkConfig!O:O,EventConfig!A76)","v":10},1001801,1001802,1001803,1001804,1001805,1001806,1001807,1001808,1001809,1001810,"","","","","","",{"$nulls":4},12019,1,1702,2,{"$f":"IF(AU76=\"\",\"\",CONCATENATE(VLOOKUP(AU76,[2]DropConfig!$A:$F,3,FALSE),\"×\",AV76))","v":"火球×1"},{"$f":"IF(AW76=\"\",\"\",CONCATENATE(VLOOKUP(AW76,[2]DropConfig!$A:$F,3,FALSE),\"×\",AX76))","v":"归识还元丹×2"}]
[10019,{"$f":"IF(Z77>0,_xlfn.TEXTJOIN(\";\",1,ROW(INDIRECT(CONCATENATE(\"\",A77*100+1,\":\",A77*100+Z77,\"\"))),102),\"\")","v":"1001901;1001902;1001903;1001904;1001905;1001906;1001907;1001908;1001909;1001910;1001911;1001912;1001913;1001914;1001915;1001916;1001917;1001918;1001919;1001920;102"},4,1,1,1,1,null,"12509;1702","1;2",null,null,2,7,{"$f":"IF(M77=\"\",\"\",CONCATENATE(VLOOKUP(M77,[1]PlacesConfig!$A:$C,3,FALSE),IF(N77=\"\",\"\",\" - \"&VLOOKUP(N77,[1]SmallPlacesConfig!$A:$G,7,FALSE))))","v":"尧之都 - 郊外"},65,1,{"$nulls":4},4046,4121,"无用之树","树下闲话",{"$f":"COUNTIF(EventLinkConfig!O:O,EventConfig!A77)","v":20},1001901,1001902,1001903,1001904,1001905,1001906,1001907,1001908,1001909,1001910,1001911,1001912,1001913,1001914,1001915,1001916,{"$f":"IF($Z77>=AQ$3,$A77*100+AQ$3,\"\")","v":1001917},{"$f":"IF($Z77>=AR$3,$A77*100+AR$3,\"\")","v":1001918},{"$f":"IF($Z77>=AS$3,$A77*100+AS$3,\"\")","v":1001919},{"$f":"IF($Z77>=AT$3,$A77*100+AT$3,\"\")","v":1001920},12509,1,1702,2,{"$f":"IF(AU77=\"\",\"\",CONCATENATE(VLOOKUP(AU77,[2]DropConfig!$A:$F,3,FALSE),\"×\",AV77))","v":"青莲净体诀×1"},{"$f":"IF(AW77=\"\",\"\",CONCATENATE(VLOOKUP(AW77,[2]DropConfig!$A:$F,3,FALSE),\"×\",AX77))","v":"归识还元丹×2"}]
[10020,{"$f":"IF(Z78>0,_xlfn.TEXTJOIN(\";\",1,ROW(INDIRECT(CONCATENATE(\"\",A78*100+1,\":\",A78*100+Z78,\"\"))),102),\"\")","v":"1002001;1002002;102"},4,1,1,1,1,null,"10008;1702","1;2",null,null,2,7,{"$f":"IF(M78=\"\",\"\",CONCATENATE(VLOOKUP(M78,[1]PlacesConfig!$A:$C,3,FALSE),IF(N78=\"\",\"\",\" - \"&VLOOKUP(N78,[1]SmallPlacesConfig!$A:$G,7,FALSE))))","v":"尧之都 - 郊外"},69,1,{"$nulls":4},4047,4122,"樗木之灵","切磋切磋",{"$f":"COUNTIF(EventLinkConfig!O:O,EventConfig!A78)","v":2},{"$f":"IF($Z78>=AA$3,$A78*100+AA$3,\"\")","v":1002001},1002002,"","","","","","","","","","","","","","",{"$nulls":4},10008,1,1702,2,{"$f":"IF(AU78=\"\",\"\",CONCATENATE(VLOOKUP(AU78,[2]DropConfig!$A:$F,3,FALSE),\"×\",AV78))","v":"融灵塔×1"},{"$f":"IF(AW78=\"\",\"\",CONCATENATE(VLOOKUP(AW78,[2]DropConfig!$A:$F,3,FALSE),\"×\",AX78))","v":"归识还元丹×2"}]
[10021,{"$f":"IF(Z79>0,_xlfn.TEXTJOIN(\";\",1,ROW(INDIRECT(CONCATENATE(\"\",A79*100+1,\":\",A79*100+Z79,\"\"))),102),\"\")","v":"1002101;1002102;1002103;1002104;102"},4,1,1,1,1,null,"12020;1702","1;2",null,null,2,5,{"$f":"IF(M79=\"\",\"\",CONCATENATE(VLOOKUP(M79,[1]PlacesConfig!$A:$C,3,FALSE),IF(N79=\"\",\"\",\" - \"&VLOOKUP(N79,[1]SmallPlacesConfig!$A:$G,7,FALSE))))","v":"尧之都 - 主城"},71,1,71,null,null,null,4048,4123,"游尧都","金丹前期",{"$f":"COUNTIF(EventLinkConfig!O:O,EventConfig!A79)","v":4},1002101,1002102,1002103,1002104,"","","","","","","","","","","","",{"$nulls":4},12020,1,1702,2,{"$f":"IF(AU79=\"\",\"\",CONCATENATE(VLOOKUP(AU79,[2]DropConfig!$A:$F,3,FALSE),\"×\",AV79))","v":"火刀×1"},{"$f":"IF(AW79=\"\",\"\",CONCATENATE(VLOOKUP(AW79,[2]DropConfig!$A:$F,3,FALSE),\"×\",AX79))","v":"归识还元丹×2"}]
[10022,{"$f":"IF(Z80>0,_xlfn.TEXTJOIN(\";\",1,ROW(INDIRECT(CONCATENATE(\"\",A80*100+1,\":\",A80*100+Z80,\"\"))),102),\"\")","v":"1002201;1002202;1002203;1002204;1002205;1002206;1002207;1002208;1002209;1002210;1002211;1002212;102"},4,1,1,1,1,null,"12505;1702","1;2",null,null,2,5,{"$f":"IF(M80=\"\",\"\",CONCATENATE(VLOOKUP(M80,[1]PlacesConfig!$A:$C,3,FALSE),IF(N80=\"\",\"\",\" - \"&VLOOKUP(N80,[1]SmallPlacesConfig!$A:$G,7,FALSE))))","v":"尧之都 - 主城"},81,1,81,null,null,null,4049,4124,"再见尧帝","仙山传说",{"$f":"COUNTIF(EventLinkConfig!O:O,EventConfig!A80)","v":12},1002201,1002202,1002203,1002204,1002205,1002206,1002207,1002208,1002209,1002210,1002211,1002212,"","","","",{"$nulls":4},12505,1,1702,2,{"$f":"IF(AU80=\"\",\"\",CONCATENATE(VLOOKUP(AU80,[2]DropConfig!$A:$F,3,FALSE),\"×\",AV80))","v":"火焰决×1"},{"$f":"IF(AW80=\"\",\"\",CONCATENATE(VLOOKUP(AW80,[2]DropConfig!$A:$F,3,FALSE),\"×\",AX80))","v":"归识还元丹×2"}]
[10023,{"$f":"IF(Z81>0,_xlfn.TEXTJOIN(\";\",1,ROW(INDIRECT(CONCATENATE(\"\",A81*100+1,\":\",A81*100+Z81,\"\"))),102),\"\")","v":"1002301;1002302;1002303;102"},4,1,1,1,1,null,"1303;1702","1;2",null,null,3,8,{"$f":"IF(M81=\"\",\"\",CONCATENATE(VLOOKUP(M81,[1]PlacesConfig!$A:$C,3,FALSE),IF(N81=\"\",\"\",\" - \"&VLOOKUP(N81,[1]SmallPlacesConfig!$A:$G,7,FALSE))))","v":"藐姑射山 - 山脚"},86,1,{"$nulls":4},4050,4125,"云海漫行","入山幻阵",{"$f":"COUNTIF(EventLinkConfig!O:O,EventConfig!A81)","v":3},1002301,1002302,1002303,"","","","","","","","","","","","","",{"$nulls":4},1303,1,1702,2,{"$f":"IF(AU81=\"\",\"\",CONCATENATE(VLOOKUP(AU81,[2]DropConfig!$A:$F,3,FALSE),\"×\",AV81))","v":"九窍芝×1"},{"$f":"IF(AW81=\"\",\"\",CONCATENATE(VLOOKUP(AW81,[2]DropConfig!$A:$F,3,FALSE),\"×\",AX81))","v":"归识还元丹×2"}]
[10024,{"$f":"IF(Z82>0,_xlfn.TEXTJOIN(\";\",1,ROW(INDIRECT(CONCATENATE(\"\",A82*100+1,\":\",A82*100+Z82,\"\"))),102),\"\")","v":"1002401;1002402;1002403;1002404;1002405;1002406;1002407;1002408;1002409;1002410;1002411;1002412;1002413;102"},4,1,1,1,1,null,"12024;1702","1;2",null,null,3,8,{"$f":"IF(M82=\"\",\"\",CONCATENATE(VLOOKUP(M82,[1]PlacesConfig!$A:$C,3,FALSE),IF(N82=\"\",\"\",\" - \"&VLOOKUP(N82,[1]SmallPlacesConfig!$A:$G,7,FALSE))))","v":"藐姑射山 - 山脚"},84,1,91,null,null,null,4051,4126,"初见惠子","葫芦种子",{"$f":"COUNTIF(EventLinkConfig!O:O,EventConfig!A82)","v":13},1002401,1002402,1002403,1002404,1002405,1002406,1002407,1002408,1002409,1002410,1002411,1002412,1002413,"","","",{"$nulls":4},12024,1,1702,2,{"$f":"IF(AU82=\"\",\"\",CONCATENATE(VLOOKUP(AU82,[2]DropConfig!$A:$F,3,FALSE),\"×\",AV82))","v":"落石×1"},{"$f":"IF(AW82=\"\",\"\",CONCATENATE(VLOOKUP(AW82,[2]DropConfig!$A:$F,3,FALSE),\"×\",AX82))","v":"归识还元丹×2"}]
[10025,{"$f":"IF(Z83>0,_xlfn.TEXTJOIN(\";\",1,ROW(INDIRECT(CONCATENATE(\"\",A83*100+1,\":\",A83*100+Z83,\"\"))),102),\"\")","v":"1002501;1002502;1002503;1002504;1002505;1002506;1002507;1002508;102"},4,1,1,1,1,null,"12510;1703","1;1",null,null,3,8,{"$f":"IF(M83=\"\",\"\",CONCATENATE(VLOOKUP(M83,[1]PlacesConfig!$A:$C,3,FALSE),IF(N83=\"\",\"\",\" - \"&VLOOKUP(N83,[1]SmallPlacesConfig!$A:$G,7,FALSE))))","v":"藐姑射山 - 山脚"},101,1,101,null,null,null,4052,4127,"葫芦肥料","天肥地肥",{"$f":"COUNTIF(EventLinkConfig!O:O,EventConfig!A83)","v":8},1002501,1002502,1002503,1002504,1002505,1002506,1002507,1002508,"","","","","","","","",{"$nulls":4},12510,1,1703,1,{"$f":"IF(AU83=\"\",\"\",CONCATENATE(VLOOKUP(AU83,[2]DropConfig!$A:$F,3,FALSE),\"×\",AV83))","v":"碧霄回春术×1"},{"$f":"IF(AW83=\"\",\"\",CONCATENATE(VLOOKUP(AW83,[2]DropConfig!$A:$F,3,FALSE),\"×\",AX83))","v":"净识还元丹×1"}]
[10026,{"$f":"IF(Z84>0,_xlfn.TEXTJOIN(\";\",1,ROW(INDIRECT(CONCATENATE(\"\",A84*100+1,\":\",A84*100+Z84,\"\"))),102),\"\")","v":"1002601;1002602;1002603;1002604;1002605;1002606;1002607;1002608;1002609;102"},4,1,1,1,1,null,"1304;1703","1;1",null,null,3,9,{"$f":"IF(M84=\"\",\"\",CONCATENATE(VLOOKUP(M84,[1]PlacesConfig!$A:$C,3,FALSE),IF(N84=\"\",\"\",\" - \"&VLOOKUP(N84,[1]SmallPlacesConfig!$A:$G,7,FALSE))))","v":"藐姑射山 - 山径"},111,1,111,null,null,null,4053,4128,"藐姑射山","登山",{"$f":"COUNTIF(EventLinkConfig!O:O,EventConfig!A84)","v":9},1002601,1002602,1002603,1002604,1002605,1002606,1002607,1002608,1002609,"","","","","","","",{"$nulls":4},1304,1,1703,1,{"$f":"IF(AU84=\"\",\"\",CONCATENATE(VLOOKUP(AU84,[2]DropConfig!$A:$F,3,FALSE),\"×\",AV84))","v":"玄冥髓×1"},{"$f":"IF(AW84=\"\",\"\",CONCATENATE(VLOOKUP(AW84,[2]DropConfig!$A:$F,3,FALSE),\"×\",AX84))","v":"净识还元丹×1"}]
[10027,{"$f":"IF(Z85>0,_xlfn.TEXTJOIN(\";\",1,ROW(INDIRECT(CONCATENATE(\"\",A85*100+1,\":\",A85*100+Z85,\"\"))),102),\"\")","v":"1002701;1002702;1002703;1002704;1002705;1002706;1002707;1002708;1002709;1002710;1002711;1002712;1002713;1002714;1002715;1002716;1002717;1002718;1002719;1002720;1002721;1002722;1002723;1002724;1002725;1002726;1002727;1002728;1002729;1002730;1002731;1002732;1002733;1002734;1002735;1002736;102"},4,1,1,1,1,null,"10010;1703","1;1",null,null,3,9,{"$f":"IF(M85=\"\",\"\",CONCATENATE(VLOOKUP(M85,[1]PlacesConfig!$A:$C,3,FALSE),IF(N85=\"\",\"\",\" - \"&VLOOKUP(N85,[1]SmallPlacesConfig!$A:$G,7,FALSE))))","v":"藐姑射山 - 山径"},121,1,121,null,null,null,4054,4129,"藐姑射山","雾中幻径",{"$f":"COUNTIF(EventLinkConfig!O:O,EventConfig!A85)","v":36},1002701,1002702,1002703,1002704,1002705,1002706,1002707,1002708,1002709,1002710,1002711,1002712,1002713,1002714,1002715,1002716,{"$nulls":4},10010,1,1703,1,{"$f":"IF(AU85=\"\",\"\",CONCATENATE(VLOOKUP(AU85,[2]DropConfig!$A:$F,3,FALSE),\"×\",AV85))","v":"玄龟盾×1"},{"$f":"IF(AW85=\"\",\"\",CONCATENATE(VLOOKUP(AW85,[2]DropConfig!$A:$F,3,FALSE),\"×\",AX85))","v":"净识还元丹×1"}]
[10028,{"$f":"IF(Z86>0,_xlfn.TEXTJOIN(\";\",1,ROW(INDIRECT(CONCATENATE(\"\",A86*100+1,\":\",A86*100+Z86,\"\"))),102),\"\")","v":"1002801;102"},4,1,1,1,1,null,"12025;1703","1;1",null,null,3,9,{"$f":"IF(M86=\"\",\"\",CONCATENATE(VLOOKUP(M86,[1]PlacesConfig!$A:$C,3,FALSE),IF(N86=\"\",\"\",\" - \"&VLOOKUP(N86,[1]SmallPlacesConfig!$A:$G,7,FALSE))))","v":"藐姑射山 - 山径"},126,1,{"$nulls":4},4055,4130,"露水清心",null,{"$f":"COUNTIF(EventLinkConfig!O:O,EventConfig!A86)","v":1},1002801,"","","","","","","","","","","","","","","",{"$nulls":4},12025,1,1703,1,{"$f":"IF(AU86=\"\",\"\",CONCATENATE(VLOOKUP(AU86,[2]DropConfig!$A:$F,3,FALSE),\"×\",AV86))","v":"小石头×1"},{"$f":"IF(AW86=\"\",\"\",CONCATENATE(VLOOKUP(AW86,[2]DropConfig!$A:$F,3,FALSE),\"×\",AX86))","v":"净识还元丹×1"}]
[10029,{"$f":"IF(Z87>0,_xlfn.TEXTJOIN(\";\",1,ROW(INDIRECT(CONCATENATE(\"\",A87*100+1,\":\",A87*100+Z87,\"\"))),102),\"\")","v":"1002901;1002902;1002903;1002904;1002905;1002906;1002907;1002908;1002909;1002910;1002911;1002912;1002913;1002914;1002915;1002916;1002917;1002918;1002919;1002920;102"},4,1,1,1,1,null,"12504;1703","1;1",null,null,3,10,{"$f":"IF(M87=\"\",\"\",CONCATENATE(VLOOKUP(M87,[1]PlacesConfig!$A:$C,3,FALSE),IF(N87=\"\",\"\",\" - \"&VLOOKUP(N87,[1]SmallPlacesConfig!$A:$G,7,FALSE))))","v":"藐姑射山 - 山顶"},131,1,131,null,null,null,4056,4131,"山顶神仙",null,{"$f":"COUNTIF(EventLinkConfig!O:O,EventConfig!A87)","v":20},1002901,1002902,1002903,1002904,1002905,1002906,1002907,1002908,1002909,1002910,1002911,1002912,1002913,1002914,1002915,1002916,{"$nulls":4},12504,1,1703,1,{"$f":"IF(AU87=\"\",\"\",CONCATENATE(VLOOKUP(AU87,[2]DropConfig!$A:$F,3,FALSE),\"×\",AV87))","v":"两仪决×1"},{"$f":"IF(AW87=\"\",\"\",CONCATENATE(VLOOKUP(AW87,[2]DropConfig!$A:$F,3,FALSE),\"×\",AX87))","v":"净识还元丹×1"}]
[10030,{"$f":"IF(Z88>0,_xlfn.TEXTJOIN(\";\",1,ROW(INDIRECT(CONCATENATE(\"\",A88*100+1,\":\",A88*100+Z88,\"\"))),102),\"\")","v":"1003001;1003002;1003003;1003004;1003005;1003006;1003007;1003008;102"},4,1,1,1,1,null,"1305;1703","1;1",null,null,3,10,{"$f":"IF(M88=\"\",\"\",CONCATENATE(VLOOKUP(M88,[1]PlacesConfig!$A:$C,3,FALSE),IF(N88=\"\",\"\",\" - \"&VLOOKUP(N88,[1]SmallPlacesConfig!$A:$G,7,FALSE))))","v":"藐姑射山 - 山顶"},141,1,141,null,null,null,4057,4132,"心魔之战","破除枷锁",{"$f":"COUNTIF(EventLinkConfig!O:O,EventConfig!A88)","v":8},1003001,1003002,1003003,1003004,1003005,1003006,1003007,1003008,"","","","","","","","",{"$nulls":4},1305,1,1703,1,{"$f":"IF(AU88=\"\",\"\",CONCATENATE(VLOOKUP(AU88,[2]DropConfig!$A:$F,3,FALSE),\"×\",AV88))","v":"九焰莲×1"},{"$f":"IF(AW88=\"\",\"\",CONCATENATE(VLOOKUP(AW88,[2]DropConfig!$A:$F,3,FALSE),\"×\",AX88))","v":"净识还元丹×1"}]
[10031,{"$f":"IF(Z89>0,_xlfn.TEXTJOIN(\";\",1,ROW(INDIRECT(CONCATENATE(\"\",A89*100+1,\":\",A89*100+Z89,\"\"))),102),\"\")","v":"1003101;1003102;1003103;1003104;1003105;1003106;1003107;1003108;1003109;1003110;1003111;1003112;1003113;1003114;1003115;1003116;102"},4,1,1,1,1,null,"22001;1703","1;1",null,null,3,10,{"$f":"IF(M89=\"\",\"\",CONCATENATE(VLOOKUP(M89,[1]PlacesConfig!$A:$C,3,FALSE),IF(N89=\"\",\"\",\" - \"&VLOOKUP(N89,[1]SmallPlacesConfig!$A:$G,7,FALSE))))","v":"藐姑射山 - 山顶"},151,1,151,null,null,null,4191,4192,"鲲鹏飞天",null,{"$f":"COUNTIF(EventLinkConfig!O:O,EventConfig!A89)","v":16},1003101,1003102,1003103,1003104,1003105,1003106,1003107,1003108,1003109,1003110,1003111,1003112,1003113,1003114,1003115,1003116,{"$nulls":4},22001,1,1703,1,{"$f":"IF(AU89=\"\",\"\",CONCATENATE(VLOOKUP(AU89,[2]DropConfig!$A:$F,3,FALSE),\"×\",AV89))","v":"主感悟点1×1"},{"$f":"IF(AW89=\"\",\"\",CONCATENATE(VLOOKUP(AW89,[2]DropConfig!$A:$F,3,FALSE),\"×\",AX89))","v":"净识还元丹×1"}]
[null,{"$f":"IF(A90=\"\",\"\",_xlfn.TEXTJOIN(\";\",1,AA90:AT90,102))","v":""},{"$nulls":12},{"$f":"IF(M90=\"\",\"\",CONCATENATE(VLOOKUP(M90,[1]PlacesConfig!$A:$C,3,FALSE),IF(N90=\"\",\"\",\" - \"&VLOOKUP(N90,[1]SmallPlacesConfig!$A:$G,7,FALSE))))","v":""},{"$nulls":35},{"$f":"IF(AU90=\"\",\"\",CONCATENATE(VLOOKUP(AU90,[2]DropConfig!$A:$F,3,FALSE),\"×\",AV90))","v":""},{"$f":"IF(AW90=\"\",\"\",CONCATENATE(VLOOKUP(AW90,[2]DropConfig!$A:$F,3,FALSE),\"×\",AX90))","v":""}]
[null,"",5,null,1,0,1,null,1001,10,{"$nulls":4},{"$f":"IF(M91=\"\",\"\",CONCATENATE(VLOOKUP(M91,[1]PlacesConfig!$A:$C,3,FALSE),IF(N91=\"\",\"\",\" - \"&VLOOKUP(N91,[1]SmallPlacesConfig!$A:$G,7,FALSE))))","v":""},{"$nulls":6},4058,4133,"受伤的狼","你发现一只奄奄一息的狼，决定上前一探究竟。",null,1001,1002,1003,1004,1005,{"$nulls":19},{"$f":"IF(AU91=\"\",\"\",CONCATENATE(VLOOKUP(AU91,[2]DropConfig!$A:$F,3,FALSE),\"×\",AV91))","v":""},{"$f":"IF(AW91=\"\",\"\",CONCATENATE(VLOOKUP(AW91,[2]DropConfig!$A:$F,3,FALSE),\"×\",AX91))","v":""}]
[null,"",5,null,1,0,1,null,1001,10,{"$nulls":4},{"$f":"IF(M92=\"\",\"\",CONCATENATE(VLOOKUP(M92,[1]PlacesConfig!$A:$C,3,FALSE),IF(N92=\"\",\"\",\" - \"&VLOOKUP(N92,[1]SmallPlacesConfig!$A:$G,7,FALSE))))","v":""},null,null,{"$f":"IF(S92=\"\",\"\",VLOOKUP(S92,条件类型查询!A:B,2,FALSE))","v":""},null,null,null,4059,4134,"鹬蚌相争","附近的小树林闹的不可开交，你决定去看看怎么回事。",null,1010,1011,1012,1013,1014,1015,1016,{"$nulls":17},{"$f":"IF(AU92=\"\",\"\",CONCATENATE(VLOOKUP(AU92,[2]DropConfig!$A:$F,3,FALSE),\"×\",AV92))","v":""},{"$f":"IF(AW92=\"\",\"\",CONCATENATE(VLOOKUP(AW92,[2]DropConfig!$A:$F,3,FALSE),\"×\",AX92))","v":""}]
[null,"",5,null,1,0,1,null,1001,10,{"$nulls":4},{"$f":"IF(M93=\"\",\"\",CONCATENATE(VLOOKUP(M93,[1]PlacesConfig!$A:$C,3,FALSE),IF(N93=\"\",\"\",\" - \"&VLOOKUP(N93,[1]SmallPlacesConfig!$A:$G,7,FALSE))))","v":""},{"$nulls":6},4060,4135,"受伤的鸟","你发现一只奄奄一息的鸟，决定上前一探究竟。",null,1001,1002,1003,1004,1005,{"$nulls":19},{"$f":"IF(AU93=\"\",\"\",CONCATENATE(VLOOKUP(AU93,[2]DropConfig!$A:$F,3,FALSE),\"×\",AV93))","v":""},{"$f":"IF(AW93=\"\",\"\",CONCATENATE(VLOOKUP(AW93,[2]DropConfig!$A:$F,3,FALSE),\"×\",AX93))","v":""}]
[null,"",{"$nulls":12},{"$f":"IF(M94=\"\",\"\",CONCATENATE(VLOOKUP(M94,[1]PlacesConfig!$A:$C,3,FALSE),IF(N94=\"\",\"\",\" - \"&VLOOKUP(N94,[1]SmallPlacesConfig!$A:$G,7,FALSE))))","v":""},{"$nulls":35},{"$f":"IF(AU94=\"\",\"\",CONCATENATE(VLOOKUP(AU94,[2]DropConfig!$A:$F,3,FALSE),\"×\",AV94))","v":""},{"$f":"IF(AW94=\"\",\"\",CONCATENATE(VLOOKUP(AW94,[2]DropConfig!$A:$F,3,FALSE),\"×\",AX94))","v":""}]
[null,"",6,3,1,0,1,null,1001,10,{"$nulls":4},{"$f":"IF(M95=\"\",\"\",CONCATENATE(VLOOKUP(M95,[1]PlacesConfig!$A:$C,3,FALSE),IF(N95=\"\",\"\",\" - \"&VLOOKUP(N95,[1]SmallPlacesConfig!$A:$G,7,FALSE))))","v":""},{"$nulls":6},4061,4136,"受伤的狼","你发现一只奄奄一息的狼，决定上前一探究竟。",null,1001,1002,1003,1004,1005,{"$nulls":19},{"$f":"IF(AU95=\"\",\"\",CONCATENATE(VLOOKUP(AU95,[2]DropConfig!$A:$F,3,FALSE),\"×\",AV95))","v":""},{"$f":"IF(AW95=\"\",\"\",CONCATENATE(VLOOKUP(AW95,[2]DropConfig!$A:$F,3,FALSE),\"×\",AX95))","v":""}]
[null,"",6,3,1,0,1,null,1001,10,{"$nulls":4},{"$f":"IF(M96=\"\",\"\",CONCATENATE(VLOOKUP(M96,[1]PlacesConfig!$A:$C,3,FALSE),IF(N96=\"\",\"\",\" - \"&VLOOKUP(N96,[1]SmallPlacesConfig!$A:$G,7,FALSE))))","v":""},null,null,{"$f":"IF(S96=\"\",\"\",VLOOKUP(S96,条件类型查询!A:B,2,FALSE))","v":""},null,null,null,4062,4137,"鹬蚌相争","附近的小树林闹的不可开交，你决定去看看怎么回事。",null,1010,1011,1012,1013,1014,1015,1016,{"$nulls":17},{"$f":"IF(AU96=\"\",\"\",CONCATENATE(VLOOKUP(AU96,[2]DropConfig!$A:$F,3,FALSE),\"×\",AV96))","v":""},{"$f":"IF(AW96=\"\",\"\",CONCATENATE(VLOOKUP(AW96,[2]DropConfig!$A:$F,3,FALSE),\"×\",AX96))","v":""}]
[null,"",6,3,1,0,1,null,1001,10,null,null,1,null,{"$f":"IF(M97=\"\",\"\",CONCATENATE(VLOOKUP(M97,[1]PlacesConfig!$A:$C,3,FALSE),IF(N97=\"\",\"\",\" - \"&VLOOKUP(N97,[1]SmallPlacesConfig!$A:$G,7,FALSE))))","v":"北海"},null,2,{"$nulls":4},4063,4138,"惠子.没用的大葫芦","惠子种的葫芦没用，他非常生气",{"$nulls":25},{"$f":"IF(AU97=\"\",\"\",CONCATENATE(VLOOKUP(AU97,[2]DropConfig!$A:$F,3,FALSE),\"×\",AV97))","v":""},{"$f":"IF(AW97=\"\",\"\",CONCATENATE(VLOOKUP(AW97,[2]DropConfig!$A:$F,3,FALSE),\"×\",AX97))","v":""}]
[null,"",6,3,1,0,1,null,1001,10,null,null,2,null,{"$f":"IF(M98=\"\",\"\",CONCATENATE(VLOOKUP(M98,[1]PlacesConfig!$A:$C,3,FALSE),IF(N98=\"\",\"\",\" - \"&VLOOKUP(N98,[1]SmallPlacesConfig!$A:$G,7,FALSE))))","v":"尧之都"},null,2,{"$nulls":4},4064,4139,"发现魔修","发现一群魔修，正在夺人钱财",null,9014,{"$nulls":23},{"$f":"IF(AU98=\"\",\"\",CONCATENATE(VLOOKUP(AU98,[2]DropConfig!$A:$F,3,FALSE),\"×\",AV98))","v":""},{"$f":"IF(AW98=\"\",\"\",CONCATENATE(VLOOKUP(AW98,[2]DropConfig!$A:$F,3,FALSE),\"×\",AX98))","v":""}]
[null,"",6,3,1,0,1,null,1001,10,30,2,3,null,{"$f":"IF(M99=\"\",\"\",CONCATENATE(VLOOKUP(M99,[1]PlacesConfig!$A:$C,3,FALSE),IF(N99=\"\",\"\",\" - \"&VLOOKUP(N99,[1]SmallPlacesConfig!$A:$G,7,FALSE))))","v":"藐姑射山"},null,2,{"$nulls":4},4065,4140,"魔修","打败魔休",null,9031,{"$nulls":23},{"$f":"IF(AU99=\"\",\"\",CONCATENATE(VLOOKUP(AU99,[2]DropConfig!$A:$F,3,FALSE),\"×\",AV99))","v":""},{"$f":"IF(AW99=\"\",\"\",CONCATENATE(VLOOKUP(AW99,[2]DropConfig!$A:$F,3,FALSE),\"×\",AX99))","v":""}]
[null,"",6,5,1,0,1,null,1001,10,{"$nulls":4},{"$f":"IF(M100=\"\",\"\",CONCATENATE(VLOOKUP(M100,[1]PlacesConfig!$A:$C,3,FALSE),IF(N100=\"\",\"\",\" - \"&VLOOKUP(N100,[1]SmallPlacesConfig!$A:$G,7,FALSE))))","v":""},{"$nulls":6},4066,4141,"幽谷剑鸣","你在闭关修炼时，感受到一股凌厉的剑意波动。深入探查，发现一名白衣剑修“清霜”盘坐于谷中，周围剑气环绕，正与一柄散发不祥气息的灵剑对峙。她似在参悟剑诀，却灵气不足，剑灵桀骜。",null,9003,9004,9005,9006,9007,9008,{"$nulls":18},{"$f":"IF(AU100=\"\",\"\",CONCATENATE(VLOOKUP(AU100,[2]DropConfig!$A:$F,3,FALSE),\"×\",AV100))","v":""},{"$f":"IF(AW100=\"\",\"\",CONCATENATE(VLOOKUP(AW100,[2]DropConfig!$A:$F,3,FALSE),\"×\",AX100))","v":""}]
[{"$nulls":14},{"$f":"IF(M101=\"\",\"\",CONCATENATE(VLOOKUP(M101,[1]PlacesConfig!$A:$C,3,FALSE),IF(N101=\"\",\"\",\" - \"&VLOOKUP(N101,[1]SmallPlacesConfig!$A:$G,7,FALSE))))","v":""},{"$nulls":35},{"$f":"IF(AU101=\"\",\"\",CONCATENATE(VLOOKUP(AU101,[2]DropConfig!$A:$F,3,FALSE),\"×\",AV101))","v":""},{"$f":"IF(AW101=\"\",\"\",CONCATENATE(VLOOKUP(AW101,[2]DropConfig!$A:$F,3,FALSE),\"×\",AX101))","v":""}]
[null,{"$f":"IF(A102=\"\",\"\",_xlfn.TEXTJOIN(\";\",1,AA102:AT102,102))","v":""},99,2,1,0,1,null,1001,10,null,null,1,null,{"$f":"IF(M102=\"\",\"\",CONCATENATE(VLOOKUP(M102,[1]PlacesConfig!$A:$C,3,FALSE),IF(N102=\"\",\"\",\" - \"&VLOOKUP(N102,[1]SmallPlacesConfig!$A:$G,7,FALSE))))","v":"北海"},null,4,{"$f":"IF(S102=\"\",\"\",VLOOKUP(S102,条件类型查询!A:B,2,FALSE))","v":"拥有特定道具"},1,1004,1,4067,4142,"鹬蚌相争2","附近的小树林闹的不可开交，你决定去看看怎么回事。",null,1020,1021,1022,1023,1024,1025,1026,{"$nulls":17},{"$f":"IF(AU102=\"\",\"\",CONCATENATE(VLOOKUP(AU102,[2]DropConfig!$A:$F,3,FALSE),\"×\",AV102))","v":""},{"$f":"IF(AW102=\"\",\"\",CONCATENATE(VLOOKUP(AW102,[2]DropConfig!$A:$F,3,FALSE),\"×\",AX102))","v":""}]
[null,{"$f":"IF(A103=\"\",\"\",_xlfn.TEXTJOIN(\";\",1,AA103:AT103,102))","v":""},99,4,1,0,1,null,1001,10,{"$nulls":4},{"$f":"IF(M103=\"\",\"\",CONCATENATE(VLOOKUP(M103,[1]PlacesConfig!$A:$C,3,FALSE),IF(N103=\"\",\"\",\" - \"&VLOOKUP(N103,[1]SmallPlacesConfig!$A:$G,7,FALSE))))","v":""},null,null,{"$f":"IF(S103=\"\",\"\",VLOOKUP(S103,条件类型查询!A:B,2,FALSE))","v":""},null,null,null,4068,4143,"受伤的鸟","你发现一只奄奄一息的鸟，决定上前一探究竟。",null,1001,1002,1003,1004,1005,{"$nulls":14},100,{"$nulls":4},{"$f":"IF(AU103=\"\",\"\",CONCATENATE(VLOOKUP(AU103,[2]DropConfig!$A:$F,3,FALSE),\"×\",AV103))","v":""},{"$f":"IF(AW103=\"\",\"\",CONCATENATE(VLOOKUP(AW103,[2]DropConfig!$A:$F,3,FALSE),\"×\",AX103))","v":""}]
[30001,"100;102",98,6,1,0,1,null,null,null,50,5,null,null,{"$f":"IF(M104=\"\",\"\",CONCATENATE(VLOOKUP(M104,[1]PlacesConfig!$A:$C,3,FALSE),IF(N104=\"\",\"\",\" - \"&VLOOKUP(N104,[1]SmallPlacesConfig!$A:$G,7,FALSE))))","v":""},null,null,{"$f":"IF(S104=\"\",\"\",VLOOKUP(S104,条件类型查询!A:B,2,FALSE))","v":""},{"$nulls":7},{"$f":"COUNTIF(EventLinkConfig!O:O,EventConfig!A104)","v":0},{"$f":"IF($Z104>=AA$3,$A104*100+AA$3,\"\")","v":""},"","","","","","","","","","","","","","","",null,null,null,100,{"$nulls":4},{"$f":"IF(AU104=\"\",\"\",CONCATENATE(VLOOKUP(AU104,[2]DropConfig!$A:$F,3,FALSE),\"×\",AV104))","v":""},{"$f":"IF(AW104=\"\",\"\",CONCATENATE(VLOOKUP(AW104,[2]DropConfig!$A:$F,3,FALSE),\"×\",AX104))","v":""}]
[{"$f":"A104+1","v":30002},"100;102",98,6,1,0,1,null,null,null,50,1,null,null,{"$f":"IF(M105=\"\",\"\",CONCATENATE(VLOOKUP(M105,[1]PlacesConfig!$A:$C,3,FALSE),IF(N105=\"\",\"\",\" - \"&VLOOKUP(N105,[1]SmallPlacesConfig!$A:$G,7,FALSE))))","v":""},null,null,{"$f":"IF(S105=\"\",\"\",VLOOKUP(S105,条件类型查询!A:B,2,FALSE))","v":""},{"$nulls":7},{"$f":"COUNTIF(EventLinkConfig!O:O,EventConfig!A105)","v":0},"","","","","","","","","","","","","","","","",null,null,null,100,{"$nulls":4},{"$f":"IF(AU105=\"\",\"\",CONCATENATE(VLOOKUP(AU105,[2]DropConfig!$A:$F,3,FALSE),\"×\",AV105))","v":""},{"$f":"IF(AW105=\"\",\"\",CONCATENATE(VLOOKUP(AW105,[2]DropConfig!$A:$F,3,FALSE),\"×\",AX105))","v":""}]
[30003,"3000301;100;102",98,6,1,0,1,null,null,null,50,3,1,null,{"$f":"IF(M106=\"\",\"\",CONCATENATE(VLOOKUP(M106,[1]PlacesConfig!$A:$C,3,FALSE),IF(N106=\"\",\"\",\" - \"&VLOOKUP(N106,[1]SmallPlacesConfig!$A:$G,7,FALSE))))","v":"北海"},null,null,{"$f":"IF(S106=\"\",\"\",VLOOKUP(S106,条件类型查询!A:B,2,FALSE))","v":""},{"$nulls":7},{"$f":"COUNTIF(EventLinkConfig!O:O,EventConfig!A106)","v":1},3000301,"","","","","","","","","","","","","","","",null,null,null,100,{"$nulls":4},{"$f":"IF(AU106=\"\",\"\",CONCATENATE(VLOOKUP(AU106,[2]DropConfig!$A:$F,3,FALSE),\"×\",AV106))","v":""},{"$f":"IF(AW106=\"\",\"\",CONCATENATE(VLOOKUP(AW106,[2]DropConfig!$A:$F,3,FALSE),\"×\",AX106))","v":""}]
[30004,"3000401;100;102",98,6,1,0,1,null,null,null,50,3,2,null,{"$f":"IF(M107=\"\",\"\",CONCATENATE(VLOOKUP(M107,[1]PlacesConfig!$A:$C,3,FALSE),IF(N107=\"\",\"\",\" - \"&VLOOKUP(N107,[1]SmallPlacesConfig!$A:$G,7,FALSE))))","v":"尧之都"},null,null,{"$f":"IF(S107=\"\",\"\",VLOOKUP(S107,条件类型查询!A:B,2,FALSE))","v":""},{"$nulls":7},{"$f":"COUNTIF(EventLinkConfig!O:O,EventConfig!A107)","v":1},3000401,"","","","","","","","","","","","","","","",null,null,null,100,{"$nulls":4},{"$f":"IF(AU107=\"\",\"\",CONCATENATE(VLOOKUP(AU107,[2]DropConfig!$A:$F,3,FALSE),\"×\",AV107))","v":""},{"$f":"IF(AW107=\"\",\"\",CONCATENATE(VLOOKUP(AW107,[2]DropConfig!$A:$F,3,FALSE),\"×\",AX107))","v":""}]
[30005,"3000501;100;102",98,6,1,0,1,null,null,null,50,1,2,null,{"$f":"IF(M108=\"\",\"\",CONCATENATE(VLOOKUP(M108,[1]PlacesConfig!$A:$C,3,FALSE),IF(N108=\"\",\"\",\" - \"&VLOOKUP(N108,[1]SmallPlacesConfig!$A:$G,7,FALSE))))","v":"尧之都"},null,null,{"$f":"IF(S108=\"\",\"\",VLOOKUP(S108,条件类型查询!A:B,2,FALSE))","v":""},{"$nulls":7},{"$f":"COUNTIF(EventLinkConfig!O:O,EventConfig!A108)","v":1},3000501,"","","","","","","","","","","","","","","",null,null,null,100,{"$nulls":4},{"$f":"IF(AU108=\"\",\"\",CONCATENATE(VLOOKUP(AU108,[2]DropConfig!$A:$F,3,FALSE),\"×\",AV108))","v":""},{"$f":"IF(AW108=\"\",\"\",CONCATENATE(VLOOKUP(AW108,[2]DropConfig!$A:$F,3,FALSE),\"×\",AX108))","v":""}]
[30006,"3000601;100;102",98,6,1,0,1,null,null,null,50,1,2,null,{"$f":"IF(M109=\"\",\"\",CONCATENATE(VLOOKUP(M109,[1]PlacesConfig!$A:$C,3,FALSE),IF(N109=\"\",\"\",\" - \"&VLOOKUP(N109,[1]SmallPlacesConfig!$A:$G,7,FALSE))))","v":"尧之都"},null,null,{"$f":"IF(S109=\"\",\"\",VLOOKUP(S109,条件类型查询!A:B,2,FALSE))","v":""},{"$nulls":7},{"$f":"COUNTIF(EventLinkConfig!O:O,EventConfig!A109)","v":1},3000601,"","","","","","","","","","","","","","","",null,null,null,100,{"$nulls":4},{"$f":"IF(AU109=\"\",\"\",CONCATENATE(VLOOKUP(AU109,[2]DropConfig!$A:$F,3,FALSE),\"×\",AV109))","v":""},{"$f":"IF(AW109=\"\",\"\",CONCATENATE(VLOOKUP(AW109,[2]DropConfig!$A:$F,3,FALSE),\"×\",AX109))","v":""}]
[30007,"3000701;100;102",98,6,1,0,1,null,null,null,50,1,3,null,{"$f":"IF(M110=\"\",\"\",CONCATENATE(VLOOKUP(M110,[1]PlacesConfig!$A:$C,3,FALSE),IF(N110=\"\",\"\",\" - \"&VLOOKUP(N110,[1]SmallPlacesConfig!$A:$G,7,FALSE))))","v":"藐姑射山"},null,null,{"$f":"IF(S110=\"\",\"\",VLOOKUP(S110,条件类型查询!A:B,2,FALSE))","v":""},{"$nulls":7},{"$f":"COUNTIF(EventLinkConfig!O:O,EventConfig!A110)","v":1},3000701,"","","","","","","","","","","","","","","",null,null,null,100,{"$nulls":4},{"$f":"IF(AU110=\"\",\"\",CONCATENATE(VLOOKUP(AU110,[2]DropConfig!$A:$F,3,FALSE),\"×\",AV110))","v":""},{"$f":"IF(AW110=\"\",\"\",CONCATENATE(VLOOKUP(AW110,[2]DropConfig!$A:$F,3,FALSE),\"×\",AX110))","v":""}]
[30008,"3000801;100;102",98,6,1,0,1,null,null,null,15,1,3,null,{"$f":"IF(M111=\"\",\"\",CONCATENATE(VLOOKUP(M111,[1]PlacesConfig!$A:$C,3,FALSE),IF(N111=\"\",\"\",\" - \"&VLOOKUP(N111,[1]SmallPlacesConfig!$A:$G,7,FALSE))))","v":"藐姑射山"},null,null,{"$f":"IF(S111=\"\",\"\",VLOOKUP(S111,条件类型查询!A:B,2,FALSE))","v":""},{"$nulls":7},{"$f":"COUNTIF(EventLinkConfig!O:O,EventConfig!A111)","v":1},3000801,"","","","","","","","","","","","","","","",null,null,null,100,{"$nulls":4},{"$f":"IF(AU111=\"\",\"\",CONCATENATE(VLOOKUP(AU111,[2]DropConfig!$A:$F,3,FALSE),\"×\",AV111))","v":""},{"$f":"IF(AW111=\"\",\"\",CONCATENATE(VLOOKUP(AW111,[2]DropConfig!$A:$F,3,FALSE),\"×\",AX111))","v":""}]
[30009,"3000901;3000902;100;102",98,6,1,0,1,null,1301,1,100,1,3,null,{"$f":"IF(M112=\"\",\"\",CONCATENATE(VLOOKUP(M112,[1]PlacesConfig!$A:$C,3,FALSE),IF(N112=\"\",\"\",\" - \"&VLOOKUP(N112,[1]SmallPlacesConfig!$A:$G,7,FALSE))))","v":"藐姑射山"},null,null,{"$f":"IF(S112=\"\",\"\",VLOOKUP(S112,条件类型查询!A:B,2,FALSE))","v":""},{"$nulls":7},{"$f":"COUNTIF(EventLinkConfig!O:O,EventConfig!A112)","v":2},3000901,3000902,"","","","","","","","","","","","","","",null,null,null,100,{"$nulls":4},{"$f":"IF(AU112=\"\",\"\",CONCATENATE(VLOOKUP(AU112,[2]DropConfig!$A:$F,3,FALSE),\"×\",AV112))","v":""},{"$f":"IF(AW112=\"\",\"\",CONCATENATE(VLOOKUP(AW112,[2]DropConfig!$A:$F,3,FALSE),\"×\",AX112))","v":""}]
[30010,"3001001;100;102",98,6,1,0,1,null,1001,1,100,1,3,null,{"$f":"IF(M113=\"\",\"\",CONCATENATE(VLOOKUP(M113,[1]PlacesConfig!$A:$C,3,FALSE),IF(N113=\"\",\"\",\" - \"&VLOOKUP(N113,[1]SmallPlacesConfig!$A:$G,7,FALSE))))","v":"藐姑射山"},null,null,{"$f":"IF(S113=\"\",\"\",VLOOKUP(S113,条件类型查询!A:B,2,FALSE))","v":"前置事件"},10,1021,{"$nulls":5},{"$f":"COUNTIF(EventLinkConfig!O:O,EventConfig!A113)","v":1},3001001,"","","","","","","","","","","","","","","",null,null,null,100,{"$nulls":4},{"$f":"IF(AU113=\"\",\"\",CONCATENATE(VLOOKUP(AU113,[2]DropConfig!$A:$F,3,FALSE),\"×\",AV113))","v":""},{"$f":"IF(AW113=\"\",\"\",CONCATENATE(VLOOKUP(AW113,[2]DropConfig!$A:$F,3,FALSE),\"×\",AX113))","v":""}]
[30011,"3001101;3001102;100;102",98,6,1,0,1,null,20003,3,100,1,2,null,{"$f":"IF(M114=\"\",\"\",CONCATENATE(VLOOKUP(M114,[1]PlacesConfig!$A:$C,3,FALSE),IF(N114=\"\",\"\",\" - \"&VLOOKUP(N114,[1]SmallPlacesConfig!$A:$G,7,FALSE))))","v":"尧之都"},null,null,{"$f":"IF(S114=\"\",\"\",VLOOKUP(S114,条件类型查询!A:B,2,FALSE))","v":""},{"$nulls":7},{"$f":"COUNTIF(EventLinkConfig!O:O,EventConfig!A114)","v":2},3001101,3001102,"","","","","","","","","","","","","","",null,null,null,100,{"$nulls":4},{"$f":"IF(AU114=\"\",\"\",CONCATENATE(VLOOKUP(AU114,[2]DropConfig!$A:$F,3,FALSE),\"×\",AV114))","v":""},{"$f":"IF(AW114=\"\",\"\",CONCATENATE(VLOOKUP(AW114,[2]DropConfig!$A:$F,3,FALSE),\"×\",AX114))","v":""}]
[30012,"3001201;102",98,6,1,0,1,null,20004,1,20,1,2,null,{"$f":"IF(M115=\"\",\"\",CONCATENATE(VLOOKUP(M115,[1]PlacesConfig!$A:$C,3,FALSE),IF(N115=\"\",\"\",\" - \"&VLOOKUP(N115,[1]SmallPlacesConfig!$A:$G,7,FALSE))))","v":"尧之都"},null,null,{"$f":"IF(S115=\"\",\"\",VLOOKUP(S115,条件类型查询!A:B,2,FALSE))","v":""},{"$nulls":7},{"$f":"COUNTIF(EventLinkConfig!O:O,EventConfig!A115)","v":1},3001201,"","","","","","","","","","","","","","","",{"$nulls":8},{"$f":"IF(AU115=\"\",\"\",CONCATENATE(VLOOKUP(AU115,[2]DropConfig!$A:$F,3,FALSE),\"×\",AV115))","v":""},{"$f":"IF(AW115=\"\",\"\",CONCATENATE(VLOOKUP(AW115,[2]DropConfig!$A:$F,3,FALSE),\"×\",AX115))","v":""}]
[30013,{"$f":"IF(A116=\"\",\"\",_xlfn.TEXTJOIN(\";\",1,AA116:AT116,102))","v":"3001301;102"},98,6,1,0,1,null,20005,1,20,1,1,null,{"$f":"IF(M116=\"\",\"\",CONCATENATE(VLOOKUP(M116,[1]PlacesConfig!$A:$C,3,FALSE),IF(N116=\"\",\"\",\" - \"&VLOOKUP(N116,[1]SmallPlacesConfig!$A:$G,7,FALSE))))","v":"北海"},null,null,{"$f":"IF(S116=\"\",\"\",VLOOKUP(S116,条件类型查询!A:B,2,FALSE))","v":""},null,null,3,4163,4164,"搜集风铃","为雀灵儿搜集风铃",{"$f":"COUNTIF(EventLinkConfig!O:O,EventConfig!A116)","v":1},3001301,"","","","","","","","","","","","","","","",{"$nulls":8},{"$f":"IF(AU116=\"\",\"\",CONCATENATE(VLOOKUP(AU116,[2]DropConfig!$A:$F,3,FALSE),\"×\",AV116))","v":""},{"$f":"IF(AW116=\"\",\"\",CONCATENATE(VLOOKUP(AW116,[2]DropConfig!$A:$F,3,FALSE),\"×\",AX116))","v":""}]
[30014,"3001401;102",98,6,1,0,1,null,1001,100,20,1,1,null,{"$f":"IF(M117=\"\",\"\",CONCATENATE(VLOOKUP(M117,[1]PlacesConfig!$A:$C,3,FALSE),IF(N117=\"\",\"\",\" - \"&VLOOKUP(N117,[1]SmallPlacesConfig!$A:$G,7,FALSE))))","v":"北海"},null,null,{"$f":"IF(S117=\"\",\"\",VLOOKUP(S117,条件类型查询!A:B,2,FALSE))","v":""},null,null,1,4177,4178,"击败风妖","云枝-击败风妖",{"$f":"COUNTIF(EventLinkConfig!O:O,EventConfig!A117)","v":1},3001401,"","","","","","","","","","","","","","","",{"$nulls":8},{"$f":"IF(AU117=\"\",\"\",CONCATENATE(VLOOKUP(AU117,[2]DropConfig!$A:$F,3,FALSE),\"×\",AV117))","v":""},{"$f":"IF(AW117=\"\",\"\",CONCATENATE(VLOOKUP(AW117,[2]DropConfig!$A:$F,3,FALSE),\"×\",AX117))","v":""}]
[30015,"3001501;102",98,6,1,0,1,null,20006,1,33,1,1,null,{"$f":"IF(M118=\"\",\"\",CONCATENATE(VLOOKUP(M118,[1]PlacesConfig!$A:$C,3,FALSE),IF(N118=\"\",\"\",\" - \"&VLOOKUP(N118,[1]SmallPlacesConfig!$A:$G,7,FALSE))))","v":"北海"},null,null,{"$f":"IF(S118=\"\",\"\",VLOOKUP(S118,条件类型查询!A:B,2,FALSE))","v":""},null,null,3,4193,4194,"搜集风灵碎片","风瑶-2. 风灵碎片.岛间搜寻",{"$f":"COUNTIF(EventLinkConfig!O:O,EventConfig!A118)","v":1},3001501,"","","","","","","","","","","","","","","",{"$nulls":8},{"$f":"IF(AU118=\"\",\"\",CONCATENATE(VLOOKUP(AU118,[2]DropConfig!$A:$F,3,FALSE),\"×\",AV118))","v":""},{"$f":"IF(AW118=\"\",\"\",CONCATENATE(VLOOKUP(AW118,[2]DropConfig!$A:$F,3,FALSE),\"×\",AX118))","v":""}]
[30016,"3001601;3001602;3001603;3001604;102",98,6,1,0,1,null,1001,100,20,1,1,null,{"$f":"IF(M119=\"\",\"\",CONCATENATE(VLOOKUP(M119,[1]PlacesConfig!$A:$C,3,FALSE),IF(N119=\"\",\"\",\" - \"&VLOOKUP(N119,[1]SmallPlacesConfig!$A:$G,7,FALSE))))","v":"北海"},null,null,{"$f":"IF(S119=\"\",\"\",VLOOKUP(S119,条件类型查询!A:B,2,FALSE))","v":""},null,null,1,4195,4196,"云隐秘闻","风瑶-3. 风中疑云.探听消息",{"$f":"COUNTIF(EventLinkConfig!O:O,EventConfig!A119)","v":4},{"$f":"IF($Z119>=AA$3,$A119*100+AA$3,\"\")","v":3001601},3001602,3001603,3001604,"","","","","","","","","","","",{"$f":"IF($Z119>=AP$3,$A119*100+AP$3,\"\")","v":""},{"$nulls":8},{"$f":"IF(AU119=\"\",\"\",CONCATENATE(VLOOKUP(AU119,[2]DropConfig!$A:$F,3,FALSE),\"×\",AV119))","v":""},{"$f":"IF(AW119=\"\",\"\",CONCATENATE(VLOOKUP(AW119,[2]DropConfig!$A:$F,3,FALSE),\"×\",AX119))","v":""}]
[{"$f":"A119+1","v":30017},"3001701;102",98,6,1,0,1,null,20007,1,20,1,1,null,{"$f":"IF(M120=\"\",\"\",CONCATENATE(VLOOKUP(M120,[1]PlacesConfig!$A:$C,3,FALSE),IF(N120=\"\",\"\",\" - \"&VLOOKUP(N120,[1]SmallPlacesConfig!$A:$G,7,FALSE))))","v":"北海"},null,null,{"$f":"IF(S120=\"\",\"\",VLOOKUP(S120,条件类型查询!A:B,2,FALSE))","v":""},null,null,3,4197,4198,"搜集浮岛灵石","风瑶-4. 隐秘信物.追踪残片",{"$f":"COUNTIF(EventLinkConfig!O:O,EventConfig!A120)","v":1},3001701,"","","","","","","","","","","","","","","",{"$nulls":8},{"$f":"IF(AU120=\"\",\"\",CONCATENATE(VLOOKUP(AU120,[2]DropConfig!$A:$F,3,FALSE),\"×\",AV120))","v":""},{"$f":"IF(AW120=\"\",\"\",CONCATENATE(VLOOKUP(AW120,[2]DropConfig!$A:$F,3,FALSE),\"×\",AX120))","v":""}]
[30018,"3001801;102",98,6,1,0,1,null,20008,1,20,1,1,null,{"$f":"IF(M121=\"\",\"\",CONCATENATE(VLOOKUP(M121,[1]PlacesConfig!$A:$C,3,FALSE),IF(N121=\"\",\"\",\" - \"&VLOOKUP(N121,[1]SmallPlacesConfig!$A:$G,7,FALSE))))","v":"北海"},null,null,{"$f":"IF(S121=\"\",\"\",VLOOKUP(S121,条件类型查询!A:B,2,FALSE))","v":""},null,null,1,4199,4200,"搜集浮岛灵石","风瑶-5. 风中密信.截获情报",{"$f":"COUNTIF(EventLinkConfig!O:O,EventConfig!A121)","v":1},3001801,"","","","","","","","","","","","","","","",{"$nulls":8},{"$f":"IF(AU121=\"\",\"\",CONCATENATE(VLOOKUP(AU121,[2]DropConfig!$A:$F,3,FALSE),\"×\",AV121))","v":""},{"$f":"IF(AW121=\"\",\"\",CONCATENATE(VLOOKUP(AW121,[2]DropConfig!$A:$F,3,FALSE),\"×\",AX121))","v":""}]
[30019,"3001901;102",98,6,1,0,1,null,20009,1,20,1,1,null,{"$f":"IF(M122=\"\",\"\",CONCATENATE(VLOOKUP(M122,[1]PlacesConfig!$A:$C,3,FALSE),IF(N122=\"\",\"\",\" - \"&VLOOKUP(N122,[1]SmallPlacesConfig!$A:$G,7,FALSE))))","v":"北海"},null,null,{"$f":"IF(S122=\"\",\"\",VLOOKUP(S122,条件类型查询!A:B,2,FALSE))","v":""},null,null,2,4213,4214,"搜集尧都玉佩","婉溪-4. 玉佩稳灵.收集信物",{"$f":"COUNTIF(EventLinkConfig!O:O,EventConfig!A122)","v":1},3001901,"","","","","","","","","","","","","","","",{"$nulls":8},{"$f":"IF(AU122=\"\",\"\",CONCATENATE(VLOOKUP(AU122,[2]DropConfig!$A:$F,3,FALSE),\"×\",AV122))","v":""},{"$f":"IF(AW122=\"\",\"\",CONCATENATE(VLOOKUP(AW122,[2]DropConfig!$A:$F,3,FALSE),\"×\",AX122))","v":""}]
[30020,"3002001;102",98,6,1,0,1,null,20010,1,20,1,1,null,{"$f":"IF(M123=\"\",\"\",CONCATENATE(VLOOKUP(M123,[1]PlacesConfig!$A:$C,3,FALSE),IF(N123=\"\",\"\",\" - \"&VLOOKUP(N123,[1]SmallPlacesConfig!$A:$G,7,FALSE))))","v":"北海"},null,null,{"$f":"IF(S123=\"\",\"\",VLOOKUP(S123,条件类型查询!A:B,2,FALSE))","v":""},null,null,2,4227,4228,"搜集山野灵草","许由-2. 山野采草.炼丹初助",{"$f":"COUNTIF(EventLinkConfig!O:O,EventConfig!A123)","v":1},3002001,"","","","","","","","","","","","","","","",{"$nulls":8},{"$f":"IF(AU123=\"\",\"\",CONCATENATE(VLOOKUP(AU123,[2]DropConfig!$A:$F,3,FALSE),\"×\",AV123))","v":""},{"$f":"IF(AW123=\"\",\"\",CONCATENATE(VLOOKUP(AW123,[2]DropConfig!$A:$F,3,FALSE),\"×\",AX123))","v":""}]
[30021,"3002101;3002102;3002103;102",98,6,1,0,1,null,20011,1,20,1,1,null,{"$f":"IF(M124=\"\",\"\",CONCATENATE(VLOOKUP(M124,[1]PlacesConfig!$A:$C,3,FALSE),IF(N124=\"\",\"\",\" - \"&VLOOKUP(N124,[1]SmallPlacesConfig!$A:$G,7,FALSE))))","v":"北海"},null,null,{"$f":"IF(S124=\"\",\"\",VLOOKUP(S124,条件类型查询!A:B,2,FALSE))","v":""},null,null,2,4229,4230,"搜集秘境种子","许由-4. 玉佩镇丹.稳气寻材",{"$f":"COUNTIF(EventLinkConfig!O:O,EventConfig!A124)","v":3},3002101,3002102,3002103,"","","","","","","","","","","","","",{"$nulls":8},{"$f":"IF(AU124=\"\",\"\",CONCATENATE(VLOOKUP(AU124,[2]DropConfig!$A:$F,3,FALSE),\"×\",AV124))","v":""},{"$f":"IF(AW124=\"\",\"\",CONCATENATE(VLOOKUP(AW124,[2]DropConfig!$A:$F,3,FALSE),\"×\",AX124))","v":""}]
[30022,"3002201;3002202;102",98,6,1,0,1,null,20012,1,20,1,1,null,{"$f":"IF(M125=\"\",\"\",CONCATENATE(VLOOKUP(M125,[1]PlacesConfig!$A:$C,3,FALSE),IF(N125=\"\",\"\",\" - \"&VLOOKUP(N125,[1]SmallPlacesConfig!$A:$G,7,FALSE))))","v":"北海"},null,null,{"$f":"IF(S125=\"\",\"\",VLOOKUP(S125,条件类型查询!A:B,2,FALSE))","v":""},null,null,3,4242,4243,"搜集甜蜜果实","疯道人-2. 途中解乏",{"$f":"COUNTIF(EventLinkConfig!O:O,EventConfig!A125)","v":2},3002201,3002202,"","","","","","","","","","","","","","",{"$nulls":8},{"$f":"IF(AU125=\"\",\"\",CONCATENATE(VLOOKUP(AU125,[2]DropConfig!$A:$F,3,FALSE),\"×\",AV125))","v":""},{"$f":"IF(AW125=\"\",\"\",CONCATENATE(VLOOKUP(AW125,[2]DropConfig!$A:$F,3,FALSE),\"×\",AX125))","v":""}]
[30023,"3002301;3002302;102",98,6,1,0,1,null,null,null,20,5,1,null,{"$f":"IF(M126=\"\",\"\",CONCATENATE(VLOOKUP(M126,[1]PlacesConfig!$A:$C,3,FALSE),IF(N126=\"\",\"\",\" - \"&VLOOKUP(N126,[1]SmallPlacesConfig!$A:$G,7,FALSE))))","v":"北海"},null,null,{"$f":"IF(S126=\"\",\"\",VLOOKUP(S126,条件类型查询!A:B,2,FALSE))","v":""},null,null,3,4275,null,"消灭妖邪",null,{"$f":"COUNTIF(EventLinkConfig!O:O,EventConfig!A126)","v":2},3002301,3002302,"","","","","","","","","","","","","","",{"$nulls":8},{"$f":"IF(AU126=\"\",\"\",CONCATENATE(VLOOKUP(AU126,[2]DropConfig!$A:$F,3,FALSE),\"×\",AV126))","v":""},{"$f":"IF(AW126=\"\",\"\",CONCATENATE(VLOOKUP(AW126,[2]DropConfig!$A:$F,3,FALSE),\"×\",AX126))","v":""}]
[30024,"3002401;3002402;102",98,6,1,0,1,null,null,null,20,5,1,null,{"$f":"IF(M127=\"\",\"\",CONCATENATE(VLOOKUP(M127,[1]PlacesConfig!$A:$C,3,FALSE),IF(N127=\"\",\"\",\" - \"&VLOOKUP(N127,[1]SmallPlacesConfig!$A:$G,7,FALSE))))","v":"北海"},null,null,{"$f":"IF(S127=\"\",\"\",VLOOKUP(S127,条件类型查询!A:B,2,FALSE))","v":""},null,null,3,4276,null,"消灭仙山西边的妖物",null,{"$f":"COUNTIF(EventLinkConfig!O:O,EventConfig!A127)","v":2},3002401,3002402,"","","","","","","","","","","","","","",{"$nulls":8},{"$f":"IF(AU127=\"\",\"\",CONCATENATE(VLOOKUP(AU127,[2]DropConfig!$A:$F,3,FALSE),\"×\",AV127))","v":""},{"$f":"IF(AW127=\"\",\"\",CONCATENATE(VLOOKUP(AW127,[2]DropConfig!$A:$F,3,FALSE),\"×\",AX127))","v":""}]
[{"$nulls":14},{"$f":"IF(M128=\"\",\"\",CONCATENATE(VLOOKUP(M128,[1]PlacesConfig!$A:$C,3,FALSE),IF(N128=\"\",\"\",\" - \"&VLOOKUP(N128,[1]SmallPlacesConfig!$A:$G,7,FALSE))))","v":""},{"$nulls":35},{"$f":"IF(AU128=\"\",\"\",CONCATENATE(VLOOKUP(AU128,[2]DropConfig!$A:$F,3,FALSE),\"×\",AV128))","v":""},{"$f":"IF(AW128=\"\",\"\",CONCATENATE(VLOOKUP(AW128,[2]DropConfig!$A:$F,3,FALSE),\"×\",AX128))","v":""}]
[]
[]
[]
[5004,{"$f":"IF(A132=\"\",\"\",_xlfn.TEXTJOIN(\";\",1,AA132:AT132,102))","v":"500401;102"},99,7,1,0,1,1,1001,-20000,{"$nulls":4},{"$f":"IF(M132=\"\",\"\",CONCATENATE(VLOOKUP(M132,[1]PlacesConfig!$A:$C,3,FALSE),IF(N132=\"\",\"\",\" - \"&VLOOKUP(N132,[1]SmallPlacesConfig!$A:$G,7,FALSE))))","v":""},null,null,{"$f":"IF(S132=\"\",\"\",VLOOKUP(S132,条件类型查询!A:B,2,FALSE))","v":""},null,null,null,4072,4147,"【纳福】灵石","大量获取灵石",{"$f":"COUNTIF(EventLinkConfig!O:O,EventConfig!A132)","v":1},{"$f":"IF($Z132>=AA$3,$A132*100+AA$3,\"\")","v":500401},"","","","","","","","","",{"$f":"IF($Z132>=AK$3,$A132*100+AK$3,\"\")","v":""},"","","","","","","","","",{"$nulls":4},{"$f":"IF(AU132=\"\",\"\",CONCATENATE(VLOOKUP(AU132,[2]DropConfig!$A:$F,3,FALSE),\"×\",AV132))","v":""},{"$f":"IF(AW132=\"\",\"\",CONCATENATE(VLOOKUP(AW132,[2]DropConfig!$A:$F,3,FALSE),\"×\",AX132))","v":""}]
[5005,"500501;102",99,7,1,0,1,1,1003,-20000,{"$nulls":4},{"$f":"IF(M133=\"\",\"\",CONCATENATE(VLOOKUP(M133,[1]PlacesConfig!$A:$C,3,FALSE),IF(N133=\"\",\"\",\" - \"&VLOOKUP(N133,[1]SmallPlacesConfig!$A:$G,7,FALSE))))","v":""},null,null,{"$f":"IF(S133=\"\",\"\",VLOOKUP(S133,条件类型查询!A:B,2,FALSE))","v":""},null,null,null,4073,4148,"【纳福】修为","大量获取修为",{"$f":"COUNTIF(EventLinkConfig!O:O,EventConfig!A133)","v":1},500501,"","","","","","","","","","","","","","","","","","","",{"$nulls":4},{"$f":"IF(AU133=\"\",\"\",CONCATENATE(VLOOKUP(AU133,[2]DropConfig!$A:$F,3,FALSE),\"×\",AV133))","v":""},{"$f":"IF(AW133=\"\",\"\",CONCATENATE(VLOOKUP(AW133,[2]DropConfig!$A:$F,3,FALSE),\"×\",AX133))","v":""}]
[5006,"500601;102",99,7,1,0,1,1,1005,-20000,{"$nulls":4},{"$f":"IF(M134=\"\",\"\",CONCATENATE(VLOOKUP(M134,[1]PlacesConfig!$A:$C,3,FALSE),IF(N134=\"\",\"\",\" - \"&VLOOKUP(N134,[1]SmallPlacesConfig!$A:$G,7,FALSE))))","v":""},null,null,{"$f":"IF(S134=\"\",\"\",VLOOKUP(S134,条件类型查询!A:B,2,FALSE))","v":""},null,null,null,4074,4149,"【纳福】灵气","大量获取灵气",{"$f":"COUNTIF(EventLinkConfig!O:O,EventConfig!A134)","v":1},500601,"","","","","","","","","","","","","","","","","","","",{"$nulls":4},{"$f":"IF(AU134=\"\",\"\",CONCATENATE(VLOOKUP(AU134,[2]DropConfig!$A:$F,3,FALSE),\"×\",AV134))","v":""},{"$f":"IF(AW134=\"\",\"\",CONCATENATE(VLOOKUP(AW134,[2]DropConfig!$A:$F,3,FALSE),\"×\",AX134))","v":""}]
[5007,"500701;102",99,7,1,0,1,1,1006,-20000,{"$nulls":4},{"$f":"IF(M135=\"\",\"\",CONCATENATE(VLOOKUP(M135,[1]PlacesConfig!$A:$C,3,FALSE),IF(N135=\"\",\"\",\" - \"&VLOOKUP(N135,[1]SmallPlacesConfig!$A:$G,7,FALSE))))","v":""},null,null,{"$f":"IF(S135=\"\",\"\",VLOOKUP(S135,条件类型查询!A:B,2,FALSE))","v":""},null,null,null,4075,4150,"【纳福】玄晶","大量获取玄晶",{"$f":"COUNTIF(EventLinkConfig!O:O,EventConfig!A135)","v":1},500701,"","","","","","","","","","","","","","","","","","","",{"$nulls":4},{"$f":"IF(AU135=\"\",\"\",CONCATENATE(VLOOKUP(AU135,[2]DropConfig!$A:$F,3,FALSE),\"×\",AV135))","v":""},{"$f":"IF(AW135=\"\",\"\",CONCATENATE(VLOOKUP(AW135,[2]DropConfig!$A:$F,3,FALSE),\"×\",AX135))","v":""}]
[{"$nulls":14},{"$f":"IF(M136=\"\",\"\",CONCATENATE(VLOOKUP(M136,[1]PlacesConfig!$A:$C,3,FALSE),IF(N136=\"\",\"\",\" - \"&VLOOKUP(N136,[1]SmallPlacesConfig!$A:$G,7,FALSE))))","v":""},{"$nulls":35},{"$f":"IF(AU136=\"\",\"\",CONCATENATE(VLOOKUP(AU136,[2]DropConfig!$A:$F,3,FALSE),\"×\",AV136))","v":""},{"$f":"IF(AW136=\"\",\"\",CONCATENATE(VLOOKUP(AW136,[2]DropConfig!$A:$F,3,FALSE),\"×\",AX136))","v":""}]
[6001,{"$f":"IF(A137=\"\",\"\",_xlfn.TEXTJOIN(\";\",1,AA137:AT137,102))","v":"600101;600102;600103;600104;600105;600106;600107;600108;600109;600110;600111;600112;600113;600114;600115;600116;600117;102"},7,5,1,1,1,null,{"$f":"_xlfn.TEXTJOIN(\";\",1,AU137,AW137)","v":"1501;1601"},{"$f":"_xlfn.TEXTJOIN(\";\",1,AV137,AX137)","v":"10;1"},35,1,1,null,{"$f":"IF(M137=\"\",\"\",CONCATENATE(VLOOKUP(M137,[1]PlacesConfig!$A:$C,3,FALSE),IF(N137=\"\",\"\",\" - \"&VLOOKUP(N137,[1]SmallPlacesConfig!$A:$G,7,FALSE))))","v":"北海"},5,null,{"$f":"IF(S137=\"\",\"\",VLOOKUP(S137,条件类型查询!A:B,2,FALSE))","v":"前置事件"},10,10003,null,4151,4152,"树间闲聊","调皮的麻雀精灵儿缠着你去树顶赛跑，却被护短的姐姐云枝强行制止。",{"$f":"COUNTIF(EventLinkConfig!O:O,EventConfig!A137)","v":17},{"$f":"IF($Z137>=AA$3,$A137*100+AA$3,\"\")","v":600101},600102,600103,600104,600105,600106,600107,600108,600109,600110,{"$f":"IF($Z137>=AK$3,$A137*100+AK$3,\"\")","v":600111},600112,600113,600114,600115,600116,600117,"","","",1501,10,1601,1,{"$f":"IF(AU137=\"\",\"\",CONCATENATE(VLOOKUP(AU137,[2]DropConfig!$A:$F,3,FALSE),\"×\",AV137))","v":"清茶×10"},{"$f":"IF(AW137=\"\",\"\",CONCATENATE(VLOOKUP(AW137,[2]DropConfig!$A:$F,3,FALSE),\"×\",AX137))","v":"妃子笑×1"}]
[6002,"600201;600202;600203;600204;600205;600206;102",7,5,1,1,1,null,{"$f":"_xlfn.TEXTJOIN(\";\",1,AU138,AW138)","v":"1501;1601"},{"$f":"_xlfn.TEXTJOIN(\";\",1,AV138,AX138)","v":"10;2"},30,1,1,null,{"$f":"IF(M138=\"\",\"\",CONCATENATE(VLOOKUP(M138,[1]PlacesConfig!$A:$C,3,FALSE),IF(N138=\"\",\"\",\" - \"&VLOOKUP(N138,[1]SmallPlacesConfig!$A:$G,7,FALSE))))","v":"北海"},10,null,{"$f":"IF(S138=\"\",\"\",VLOOKUP(S138,条件类型查询!A:B,2,FALSE))","v":"前置事件"},10,{"$f":"A137","v":6001},null,4153,4154,"风铃寻趣","灵儿让你找回风铃，听到铃声就不再害怕北海的寂寞。",{"$f":"COUNTIF(EventLinkConfig!O:O,EventConfig!A138)","v":6},600201,600202,600203,600204,600205,600206,"","","","","","","","","","","","","","",1501,10,1601,2,{"$f":"IF(AU138=\"\",\"\",CONCATENATE(VLOOKUP(AU138,[2]DropConfig!$A:$F,3,FALSE),\"×\",AV138))","v":"清茶×10"},{"$f":"IF(AW138=\"\",\"\",CONCATENATE(VLOOKUP(AW138,[2]DropConfig!$A:$F,3,FALSE),\"×\",AX138))","v":"妃子笑×2"}]
[6003,"600301;600302;600303;600304;600305;600306;600307;600308;600309;600310;600311;600312;600313;600314;600315;102",7,5,1,1,1,null,"1501;1601","10;3",25,1,1,null,{"$f":"IF(M139=\"\",\"\",CONCATENATE(VLOOKUP(M139,[1]PlacesConfig!$A:$C,3,FALSE),IF(N139=\"\",\"\",\" - \"&VLOOKUP(N139,[1]SmallPlacesConfig!$A:$G,7,FALSE))))","v":"北海"},15,null,{"$f":"IF(S139=\"\",\"\",VLOOKUP(S139,条件类型查询!A:B,2,FALSE))","v":"前置事件"},10,{"$f":"A138","v":6002},null,4155,4156,"守护雀巢","灵儿拉着你击退风妖，月光下的树林从战场变回她最珍视的乐园。",{"$f":"COUNTIF(EventLinkConfig!O:O,EventConfig!A139)","v":15},600301,600302,600303,600304,600305,600306,600307,600308,600309,600310,600311,600312,600313,600314,600315,"","","","","",1501,10,1601,3,{"$f":"IF(AU139=\"\",\"\",CONCATENATE(VLOOKUP(AU139,[2]DropConfig!$A:$F,3,FALSE),\"×\",AV139))","v":"清茶×10"},{"$f":"IF(AW139=\"\",\"\",CONCATENATE(VLOOKUP(AW139,[2]DropConfig!$A:$F,3,FALSE),\"×\",AX139))","v":"妃子笑×3"}]
[6004,"600401;600402;600403;600404;600405;600406;600407;600408;600409;102",7,5,1,1,1,null,"1501;1601","10;4",20,1,1,null,{"$f":"IF(M140=\"\",\"\",CONCATENATE(VLOOKUP(M140,[1]PlacesConfig!$A:$C,3,FALSE),IF(N140=\"\",\"\",\" - \"&VLOOKUP(N140,[1]SmallPlacesConfig!$A:$G,7,FALSE))))","v":"北海"},20,null,{"$f":"IF(S140=\"\",\"\",VLOOKUP(S140,条件类型查询!A:B,2,FALSE))","v":"前置事件"},10,{"$f":"A139","v":6003},null,4157,4158,"小飞试胆","灵儿在你的陪伴下初尝飞翔远方，从此向往更远的天空。",{"$f":"COUNTIF(EventLinkConfig!O:O,EventConfig!A140)","v":9},600401,600402,600403,600404,600405,600406,600407,600408,600409,"","","","","","","","","","","",1501,10,1601,4,{"$f":"IF(AU140=\"\",\"\",CONCATENATE(VLOOKUP(AU140,[2]DropConfig!$A:$F,3,FALSE),\"×\",AV140))","v":"清茶×10"},{"$f":"IF(AW140=\"\",\"\",CONCATENATE(VLOOKUP(AW140,[2]DropConfig!$A:$F,3,FALSE),\"×\",AX140))","v":"妃子笑×4"}]
[6005,"600501;600502;600503;600504;600505;600506;102",7,5,1,1,1,null,"1501;1601","10;5",15,1,1,null,{"$f":"IF(M141=\"\",\"\",CONCATENATE(VLOOKUP(M141,[1]PlacesConfig!$A:$C,3,FALSE),IF(N141=\"\",\"\",\" - \"&VLOOKUP(N141,[1]SmallPlacesConfig!$A:$G,7,FALSE))))","v":"北海"},25,null,{"$f":"IF(S141=\"\",\"\",VLOOKUP(S141,条件类型查询!A:B,2,FALSE))","v":"前置事件"},10,{"$f":"A140","v":6004},null,4159,4160,"风涡营救","你从风妖口中救下灵儿，破碎的飞翔梦在她紧握的手中愈合。",{"$f":"COUNTIF(EventLinkConfig!O:O,EventConfig!A141)","v":6},600501,600502,600503,600504,600505,600506,"","","","","","","","","","","","","","",1501,10,1601,5,{"$f":"IF(AU141=\"\",\"\",CONCATENATE(VLOOKUP(AU141,[2]DropConfig!$A:$F,3,FALSE),\"×\",AV141))","v":"清茶×10"},{"$f":"IF(AW141=\"\",\"\",CONCATENATE(VLOOKUP(AW141,[2]DropConfig!$A:$F,3,FALSE),\"×\",AX141))","v":"妃子笑×5"}]
[6006,"600601;600602;600603;600604;600605;600606;600607;600608;600609;102",7,5,1,1,1,null,"1501;1601","10;5",10,1,1,null,{"$f":"IF(M142=\"\",\"\",CONCATENATE(VLOOKUP(M142,[1]PlacesConfig!$A:$C,3,FALSE),IF(N142=\"\",\"\",\" - \"&VLOOKUP(N142,[1]SmallPlacesConfig!$A:$G,7,FALSE))))","v":"北海"},30,null,{"$f":"IF(S142=\"\",\"\",VLOOKUP(S142,条件类型查询!A:B,2,FALSE))","v":"前置事件"},10,{"$f":"A141","v":6005},null,4161,4162,"雀侣同行","灵儿褪去怯懦，主动牵起你的手奔向比天池更远的未来",{"$f":"COUNTIF(EventLinkConfig!O:O,EventConfig!A142)","v":9},600601,600602,600603,600604,600605,600606,600607,600608,600609,"","","","","","","","","","","",1501,10,1601,5,{"$f":"IF(AU142=\"\",\"\",CONCATENATE(VLOOKUP(AU142,[2]DropConfig!$A:$F,3,FALSE),\"×\",AV142))","v":"清茶×10"},{"$f":"IF(AW142=\"\",\"\",CONCATENATE(VLOOKUP(AW142,[2]DropConfig!$A:$F,3,FALSE),\"×\",AX142))","v":"妃子笑×5"}]
[{"$nulls":8},"","",{"$nulls":4},{"$f":"IF(M143=\"\",\"\",CONCATENATE(VLOOKUP(M143,[1]PlacesConfig!$A:$C,3,FALSE),IF(N143=\"\",\"\",\" - \"&VLOOKUP(N143,[1]SmallPlacesConfig!$A:$G,7,FALSE))))","v":""},{"$nulls":35},{"$f":"IF(AU143=\"\",\"\",CONCATENATE(VLOOKUP(AU143,[2]DropConfig!$A:$F,3,FALSE),\"×\",AV143))","v":""},{"$f":"IF(AW143=\"\",\"\",CONCATENATE(VLOOKUP(AW143,[2]DropConfig!$A:$F,3,FALSE),\"×\",AX143))","v":""}]
[6011,{"$f":"IF(A144=\"\",\"\",_xlfn.TEXTJOIN(\";\",1,AA144:AT144,102))","v":"601101;601102;601103;601104;601105;601106;601107;102"},7,5,1,1,1,null,"1501;1601","10;1",35,1,1,null,{"$f":"IF(M144=\"\",\"\",CONCATENATE(VLOOKUP(M144,[1]PlacesConfig!$A:$C,3,FALSE),IF(N144=\"\",\"\",\" - \"&VLOOKUP(N144,[1]SmallPlacesConfig!$A:$G,7,FALSE))))","v":"北海"},20,null,{"$f":"IF(S144=\"\",\"\",VLOOKUP(S144,条件类型查询!A:B,2,FALSE))","v":{"$error":"#N/A"}},"10;3","6001;20","0;0",4165,4171,"绿林试探","云枝以风妖为考题，冰冷试探你保护灵儿的资格。",{"$f":"COUNTIF(EventLinkConfig!O:O,EventConfig!A144)","v":7},{"$f":"IF($Z144>=AA$3,$A144*100+AA$3,\"\")","v":601101},601102,601103,601104,601105,601106,601107,"","","",{"$f":"IF($Z144>=AK$3,$A144*100+AK$3,\"\")","v":""},"","","","","","","","","",1501,10,1601,1,{"$f":"IF(AU144=\"\",\"\",CONCATENATE(VLOOKUP(AU144,[2]DropConfig!$A:$F,3,FALSE),\"×\",AV144))","v":"清茶×10"},{"$f":"IF(AW144=\"\",\"\",CONCATENATE(VLOOKUP(AW144,[2]DropConfig!$A:$F,3,FALSE),\"×\",AX144))","v":"妃子笑×1"}]
[6012,"601201;601202;601203;601204;601205;601206;601207;601208;102",7,5,1,1,1,null,"1501;1601","10;2",30,1,1,null,{"$f":"IF(M145=\"\",\"\",CONCATENATE(VLOOKUP(M145,[1]PlacesConfig!$A:$C,3,FALSE),IF(N145=\"\",\"\",\" - \"&VLOOKUP(N145,[1]SmallPlacesConfig!$A:$G,7,FALSE))))","v":"北海"},30,null,{"$f":"IF(S145=\"\",\"\",VLOOKUP(S145,条件类型查询!A:B,2,FALSE))","v":"前置事件"},10,{"$f":"A144","v":6011},null,4166,4172,"风林除妖","云枝借风妖试探玩家实力，冰冷态度随妖兽溃败而稍缓。",{"$f":"COUNTIF(EventLinkConfig!O:O,EventConfig!A145)","v":8},601201,601202,601203,601204,601205,601206,601207,601208,"","","","","","","","","","","","",1501,10,1601,2,{"$f":"IF(AU145=\"\",\"\",CONCATENATE(VLOOKUP(AU145,[2]DropConfig!$A:$F,3,FALSE),\"×\",AV145))","v":"清茶×10"},{"$f":"IF(AW145=\"\",\"\",CONCATENATE(VLOOKUP(AW145,[2]DropConfig!$A:$F,3,FALSE),\"×\",AX145))","v":"妃子笑×2"}]
[6013,"601301;601302;601303;601304;601305;601306;601307;601308;601309;601310;102",7,5,1,1,1,null,"1501;1601","10;3",25,1,1,null,{"$f":"IF(M146=\"\",\"\",CONCATENATE(VLOOKUP(M146,[1]PlacesConfig!$A:$C,3,FALSE),IF(N146=\"\",\"\",\" - \"&VLOOKUP(N146,[1]SmallPlacesConfig!$A:$G,7,FALSE))))","v":"北海"},40,null,{"$f":"IF(S146=\"\",\"\",VLOOKUP(S146,条件类型查询!A:B,2,FALSE))","v":"前置事件"},10,{"$f":"A145","v":6012},null,4167,4173,"琴音守护","云枝抚琴护草，你剑斩风妖，冷傲守护者首次交付信任。",{"$f":"COUNTIF(EventLinkConfig!O:O,EventConfig!A146)","v":10},601301,601302,601303,601304,601305,601306,601307,601308,601309,601310,"","","","","","","","","","",1501,10,1601,3,{"$f":"IF(AU146=\"\",\"\",CONCATENATE(VLOOKUP(AU146,[2]DropConfig!$A:$F,3,FALSE),\"×\",AV146))","v":"清茶×10"},{"$f":"IF(AW146=\"\",\"\",CONCATENATE(VLOOKUP(AW146,[2]DropConfig!$A:$F,3,FALSE),\"×\",AX146))","v":"妃子笑×3"}]
[6014,"601401;601402;601403;601404;601405;601406;601407;601408;601409;601410;102",7,5,1,1,1,null,"1501;1601","10;4",20,1,1,null,{"$f":"IF(M147=\"\",\"\",CONCATENATE(VLOOKUP(M147,[1]PlacesConfig!$A:$C,3,FALSE),IF(N147=\"\",\"\",\" - \"&VLOOKUP(N147,[1]SmallPlacesConfig!$A:$G,7,FALSE))))","v":"北海"},50,null,{"$f":"IF(S147=\"\",\"\",VLOOKUP(S147,条件类型查询!A:B,2,FALSE))","v":"前置事件"},10,{"$f":"A146","v":6013},null,4168,4174,"往事如风","云枝泪诉父母殒于风暴的往事，袒露束缚灵儿的真相。",{"$f":"COUNTIF(EventLinkConfig!O:O,EventConfig!A147)","v":10},601401,601402,601403,601404,601405,601406,601407,601408,601409,601410,"","","","","","","","","","",1501,10,1601,4,{"$f":"IF(AU147=\"\",\"\",CONCATENATE(VLOOKUP(AU147,[2]DropConfig!$A:$F,3,FALSE),\"×\",AV147))","v":"清茶×10"},{"$f":"IF(AW147=\"\",\"\",CONCATENATE(VLOOKUP(AW147,[2]DropConfig!$A:$F,3,FALSE),\"×\",AX147))","v":"妃子笑×4"}]
[6015,"601501;601502;601503;601504;601505;601506;601507;601508;601509;601510;601511;102",7,5,1,1,1,null,"1501;1601","10;5",15,1,1,null,{"$f":"IF(M148=\"\",\"\",CONCATENATE(VLOOKUP(M148,[1]PlacesConfig!$A:$C,3,FALSE),IF(N148=\"\",\"\",\" - \"&VLOOKUP(N148,[1]SmallPlacesConfig!$A:$G,7,FALSE))))","v":"北海"},60,null,{"$f":"IF(S148=\"\",\"\",VLOOKUP(S148,条件类型查询!A:B,2,FALSE))","v":"前置事件"},10,{"$f":"A147","v":6014},null,4169,4175,"大风危机","妖兽群袭中，云枝重伤仍护妹，你的剑光成为姐妹新的守护结界。",{"$f":"COUNTIF(EventLinkConfig!O:O,EventConfig!A148)","v":11},601501,601502,601503,601504,601505,601506,601507,601508,601509,601510,601511,"","","","","","","","","",1501,10,1601,5,{"$f":"IF(AU148=\"\",\"\",CONCATENATE(VLOOKUP(AU148,[2]DropConfig!$A:$F,3,FALSE),\"×\",AV148))","v":"清茶×10"},{"$f":"IF(AW148=\"\",\"\",CONCATENATE(VLOOKUP(AW148,[2]DropConfig!$A:$F,3,FALSE),\"×\",AX148))","v":"妃子笑×5"}]
[6016,"601601;601602;601603;601604;601605;102",7,5,1,1,1,null,"1501;1601","10;5",10,1,1,null,{"$f":"IF(M149=\"\",\"\",CONCATENATE(VLOOKUP(M149,[1]PlacesConfig!$A:$C,3,FALSE),IF(N149=\"\",\"\",\" - \"&VLOOKUP(N149,[1]SmallPlacesConfig!$A:$G,7,FALSE))))","v":"北海"},70,null,{"$f":"IF(S149=\"\",\"\",VLOOKUP(S149,条件类型查询!A:B,2,FALSE))","v":"前置事件"},10,{"$f":"A148","v":6015},null,4170,4176,"枝侣同行","云枝褪尽冷傲，与你携手飞向象征自由的云海尽头。",{"$f":"COUNTIF(EventLinkConfig!O:O,EventConfig!A149)","v":5},601601,601602,601603,601604,601605,"","","","","","","","","","","","","","","",1501,10,1601,5,{"$f":"IF(AU149=\"\",\"\",CONCATENATE(VLOOKUP(AU149,[2]DropConfig!$A:$F,3,FALSE),\"×\",AV149))","v":"清茶×10"},{"$f":"IF(AW149=\"\",\"\",CONCATENATE(VLOOKUP(AW149,[2]DropConfig!$A:$F,3,FALSE),\"×\",AX149))","v":"妃子笑×5"}]
[{"$nulls":8},"","",{"$nulls":4},{"$f":"IF(M150=\"\",\"\",CONCATENATE(VLOOKUP(M150,[1]PlacesConfig!$A:$C,3,FALSE),IF(N150=\"\",\"\",\" - \"&VLOOKUP(N150,[1]SmallPlacesConfig!$A:$G,7,FALSE))))","v":""},{"$nulls":35},{"$f":"IF(AU150=\"\",\"\",CONCATENATE(VLOOKUP(AU150,[2]DropConfig!$A:$F,3,FALSE),\"×\",AV150))","v":""},{"$f":"IF(AW150=\"\",\"\",CONCATENATE(VLOOKUP(AW150,[2]DropConfig!$A:$F,3,FALSE),\"×\",AX150))","v":""}]
[6021,{"$f":"IF(A151=\"\",\"\",_xlfn.TEXTJOIN(\";\",1,AA151:AT151,102))","v":"602101;602102;602103;602104;102"},7,5,1,1,1,null,"1501;1601","10;1",35,1,1,null,{"$f":"IF(M151=\"\",\"\",CONCATENATE(VLOOKUP(M151,[1]PlacesConfig!$A:$C,3,FALSE),IF(N151=\"\",\"\",\" - \"&VLOOKUP(N151,[1]SmallPlacesConfig!$A:$G,7,FALSE))))","v":"北海"},60,null,{"$f":"IF(S151=\"\",\"\",VLOOKUP(S151,条件类型查询!A:B,2,FALSE))","v":"境界判断"},3,61,null,4179,4185,"1. 浮岛边缘.初遇风瑶","在浮岛邂逅风瑶，接过她收集风灵碎片的委托。",{"$f":"COUNTIF(EventLinkConfig!O:O,EventConfig!A151)","v":4},{"$f":"IF($Z151>=AA$3,$A151*100+AA$3,\"\")","v":602101},602102,602103,602104,"","","","","","",{"$f":"IF($Z151>=AK$3,$A151*100+AK$3,\"\")","v":""},"","","","","","","","","",1501,10,1601,1,{"$f":"IF(AU151=\"\",\"\",CONCATENATE(VLOOKUP(AU151,[2]DropConfig!$A:$F,3,FALSE),\"×\",AV151))","v":"清茶×10"},{"$f":"IF(AW151=\"\",\"\",CONCATENATE(VLOOKUP(AW151,[2]DropConfig!$A:$F,3,FALSE),\"×\",AX151))","v":"妃子笑×1"}]
[6022,"602201;602202;602203;602204;602205;602206;102",7,5,1,1,1,null,"1501;1601","10;2",30,1,1,null,{"$f":"IF(M152=\"\",\"\",CONCATENATE(VLOOKUP(M152,[1]PlacesConfig!$A:$C,3,FALSE),IF(N152=\"\",\"\",\" - \"&VLOOKUP(N152,[1]SmallPlacesConfig!$A:$G,7,FALSE))))","v":"北海"},70,null,{"$f":"IF(S152=\"\",\"\",VLOOKUP(S152,条件类型查询!A:B,2,FALSE))","v":"前置事件"},10,{"$f":"A151","v":6021},null,4180,4186,"2. 风灵碎片.岛间搜寻","你集齐碎片，风瑶透露云隐宗长老勾结外域的魔气线索。",{"$f":"COUNTIF(EventLinkConfig!O:O,EventConfig!A152)","v":6},602201,602202,602203,602204,602205,602206,"","","","","","","","","","","","","","",1501,10,1601,2,{"$f":"IF(AU152=\"\",\"\",CONCATENATE(VLOOKUP(AU152,[2]DropConfig!$A:$F,3,FALSE),\"×\",AV152))","v":"清茶×10"},{"$f":"IF(AW152=\"\",\"\",CONCATENATE(VLOOKUP(AW152,[2]DropConfig!$A:$F,3,FALSE),\"×\",AX152))","v":"妃子笑×2"}]
[6023,"602301;602302;602303;102",7,5,1,1,1,null,"1501;1601","10;3",25,1,1,null,{"$f":"IF(M153=\"\",\"\",CONCATENATE(VLOOKUP(M153,[1]PlacesConfig!$A:$C,3,FALSE),IF(N153=\"\",\"\",\" - \"&VLOOKUP(N153,[1]SmallPlacesConfig!$A:$G,7,FALSE))))","v":"北海"},80,null,{"$f":"IF(S153=\"\",\"\",VLOOKUP(S153,条件类型查询!A:B,2,FALSE))","v":"前置事件"},10,{"$f":"A152","v":6022},null,4181,4187,"3. 风中疑云.探听消息","收集云隐宗异常线索，风瑶确认长老勾结魔修的猜测。",{"$f":"COUNTIF(EventLinkConfig!O:O,EventConfig!A153)","v":3},602301,602302,602303,"","","","","","","","","","","","","","","","","",1501,10,1601,3,{"$f":"IF(AU153=\"\",\"\",CONCATENATE(VLOOKUP(AU153,[2]DropConfig!$A:$F,3,FALSE),\"×\",AV153))","v":"清茶×10"},{"$f":"IF(AW153=\"\",\"\",CONCATENATE(VLOOKUP(AW153,[2]DropConfig!$A:$F,3,FALSE),\"×\",AX153))","v":"妃子笑×3"}]
[6024,"602401;602402;602403;602404;102",7,5,1,1,1,null,"1501;1601","10;4",20,1,1,null,{"$f":"IF(M154=\"\",\"\",CONCATENATE(VLOOKUP(M154,[1]PlacesConfig!$A:$C,3,FALSE),IF(N154=\"\",\"\",\" - \"&VLOOKUP(N154,[1]SmallPlacesConfig!$A:$G,7,FALSE))))","v":"北海"},90,null,{"$f":"IF(S154=\"\",\"\",VLOOKUP(S154,条件类型查询!A:B,2,FALSE))","v":"前置事件"},10,{"$f":"A153","v":6023},null,4182,4188,"4. 隐秘信物.追踪残片","妖兽体内灵石惊现禁地阵纹，宗门黑幕终现端倪。",{"$f":"COUNTIF(EventLinkConfig!O:O,EventConfig!A154)","v":4},602401,602402,602403,602404,"","","","","","","","","","","","","","","","",1501,10,1601,4,{"$f":"IF(AU154=\"\",\"\",CONCATENATE(VLOOKUP(AU154,[2]DropConfig!$A:$F,3,FALSE),\"×\",AV154))","v":"清茶×10"},{"$f":"IF(AW154=\"\",\"\",CONCATENATE(VLOOKUP(AW154,[2]DropConfig!$A:$F,3,FALSE),\"×\",AX154))","v":"妃子笑×4"}]
[6025,"602501;602502;602503;102",7,5,1,1,1,null,"1501;1601","10;5",15,1,1,null,{"$f":"IF(M155=\"\",\"\",CONCATENATE(VLOOKUP(M155,[1]PlacesConfig!$A:$C,3,FALSE),IF(N155=\"\",\"\",\" - \"&VLOOKUP(N155,[1]SmallPlacesConfig!$A:$G,7,FALSE))))","v":"北海"},100,null,{"$f":"IF(S155=\"\",\"\",VLOOKUP(S155,条件类型查询!A:B,2,FALSE))","v":"前置事件"},10,{"$f":"A154","v":6024},null,4183,4189,"5. 风中密信.截获情报","截获风信证实长老禁术，风瑶急寻疯道人相助。",{"$f":"COUNTIF(EventLinkConfig!O:O,EventConfig!A155)","v":3},602501,602502,602503,"","","","","","","","","","","","","","","","","",1501,10,1601,5,{"$f":"IF(AU155=\"\",\"\",CONCATENATE(VLOOKUP(AU155,[2]DropConfig!$A:$F,3,FALSE),\"×\",AV155))","v":"清茶×10"},{"$f":"IF(AW155=\"\",\"\",CONCATENATE(VLOOKUP(AW155,[2]DropConfig!$A:$F,3,FALSE),\"×\",AX155))","v":"妃子笑×5"}]
[6026,"602601;602602;602603;602604;602605;602606;602607;102",7,5,1,1,1,null,"1501;1601","10;5",10,1,1,null,{"$f":"IF(M156=\"\",\"\",CONCATENATE(VLOOKUP(M156,[1]PlacesConfig!$A:$C,3,FALSE),IF(N156=\"\",\"\",\" - \"&VLOOKUP(N156,[1]SmallPlacesConfig!$A:$G,7,FALSE))))","v":"北海"},110,null,{"$f":"IF(S156=\"\",\"\",VLOOKUP(S156,条件类型查询!A:B,2,FALSE))","v":"前置事件"},10,{"$f":"A155","v":6025},null,4184,4190,"6. 兄妹密谈.初步真相","疯道人坦露早知宗门黑幕，兄妹对峙揭示正道抉择。",{"$f":"COUNTIF(EventLinkConfig!O:O,EventConfig!A156)","v":7},602601,602602,602603,602604,602605,602606,602607,"","","","","","","","","","","","","",1501,10,1601,5,{"$f":"IF(AU156=\"\",\"\",CONCATENATE(VLOOKUP(AU156,[2]DropConfig!$A:$F,3,FALSE),\"×\",AV156))","v":"清茶×10"},{"$f":"IF(AW156=\"\",\"\",CONCATENATE(VLOOKUP(AW156,[2]DropConfig!$A:$F,3,FALSE),\"×\",AX156))","v":"妃子笑×5"}]
[{"$nulls":8},"","",{"$nulls":4},{"$f":"IF(M157=\"\",\"\",CONCATENATE(VLOOKUP(M157,[1]PlacesConfig!$A:$C,3,FALSE),IF(N157=\"\",\"\",\" - \"&VLOOKUP(N157,[1]SmallPlacesConfig!$A:$G,7,FALSE))))","v":""},{"$nulls":35},{"$f":"IF(AU157=\"\",\"\",CONCATENATE(VLOOKUP(AU157,[2]DropConfig!$A:$F,3,FALSE),\"×\",AV157))","v":""},{"$f":"IF(AW157=\"\",\"\",CONCATENATE(VLOOKUP(AW157,[2]DropConfig!$A:$F,3,FALSE),\"×\",AX157))","v":""}]
[6031,{"$f":"IF(A158=\"\",\"\",_xlfn.TEXTJOIN(\";\",1,AA158:AT158,102))","v":"603101;603102;603103;603104;603105;603106;603107;603108;102"},7,5,1,1,1,null,"1501;1601","10;1",35,1,2,null,{"$f":"IF(M158=\"\",\"\",CONCATENATE(VLOOKUP(M158,[1]PlacesConfig!$A:$C,3,FALSE),IF(N158=\"\",\"\",\" - \"&VLOOKUP(N158,[1]SmallPlacesConfig!$A:$G,7,FALSE))))","v":"尧之都"},90,null,{"$f":"IF(S158=\"\",\"\",VLOOKUP(S158,条件类型查询!A:B,2,FALSE))","v":"境界判断"},3,91,null,4201,4207,"1. 山溪小屋.初遇婉溪","隐士婉溪邀你共护灵田，茶香中暗藏七道心境线索。",{"$f":"COUNTIF(EventLinkConfig!O:O,EventConfig!A158)","v":8},{"$f":"IF($Z158>=AA$3,$A158*100+AA$3,\"\")","v":603101},603102,603103,603104,603105,603106,603107,603108,"","",{"$f":"IF($Z158>=AK$3,$A158*100+AK$3,\"\")","v":""},"","","","","","","","","",1501,10,1601,1,{"$f":"IF(AU158=\"\",\"\",CONCATENATE(VLOOKUP(AU158,[2]DropConfig!$A:$F,3,FALSE),\"×\",AV158))","v":"清茶×10"},{"$f":"IF(AW158=\"\",\"\",CONCATENATE(VLOOKUP(AW158,[2]DropConfig!$A:$F,3,FALSE),\"×\",AX158))","v":"妃子笑×1"}]
[6032,"603201;603202;603203;603204;102",7,5,1,1,1,null,"1501;1601","10;2",30,1,2,null,{"$f":"IF(M159=\"\",\"\",CONCATENATE(VLOOKUP(M159,[1]PlacesConfig!$A:$C,3,FALSE),IF(N159=\"\",\"\",\" - \"&VLOOKUP(N159,[1]SmallPlacesConfig!$A:$G,7,FALSE))))","v":"尧之都"},100,null,{"$f":"IF(S159=\"\",\"\",VLOOKUP(S159,条件类型查询!A:B,2,FALSE))","v":"前置事件"},10,{"$f":"A158","v":6031},null,4202,4208,"2. 溪边劳作.浇灌灵田","灵田水影映照道心蜕变，婉溪以茶道为引助玩家悟境。",{"$f":"COUNTIF(EventLinkConfig!O:O,EventConfig!A159)","v":4},603201,603202,603203,603204,"","","","","","","","","","","","","","","","",1501,10,1601,2,{"$f":"IF(AU159=\"\",\"\",CONCATENATE(VLOOKUP(AU159,[2]DropConfig!$A:$F,3,FALSE),\"×\",AV159))","v":"清茶×10"},{"$f":"IF(AW159=\"\",\"\",CONCATENATE(VLOOKUP(AW159,[2]DropConfig!$A:$F,3,FALSE),\"×\",AX159))","v":"妃子笑×2"}]
[6033,"603301;603302;603303;603304;603305;102",7,5,1,1,1,null,"1501;1601","10;3",25,1,2,null,{"$f":"IF(M160=\"\",\"\",CONCATENATE(VLOOKUP(M160,[1]PlacesConfig!$A:$C,3,FALSE),IF(N160=\"\",\"\",\" - \"&VLOOKUP(N160,[1]SmallPlacesConfig!$A:$G,7,FALSE))))","v":"尧之都"},110,null,{"$f":"IF(S160=\"\",\"\",VLOOKUP(S160,条件类型查询!A:B,2,FALSE))","v":"前置事件"},10,{"$f":"A159","v":6032},null,4203,4209,"3. 清茶闲话.品茗论道","你讲述外界故事，婉溪茶雾中的眼眸初现波澜。",{"$f":"COUNTIF(EventLinkConfig!O:O,EventConfig!A160)","v":5},603301,603302,603303,603304,603305,"","","","","","","","","","","","","","","",1501,10,1601,3,{"$f":"IF(AU160=\"\",\"\",CONCATENATE(VLOOKUP(AU160,[2]DropConfig!$A:$F,3,FALSE),\"×\",AV160))","v":"清茶×10"},{"$f":"IF(AW160=\"\",\"\",CONCATENATE(VLOOKUP(AW160,[2]DropConfig!$A:$F,3,FALSE),\"×\",AX160))","v":"妃子笑×3"}]
[6034,"603401;603402;603403;102",7,5,1,1,1,null,"1501;1601","10;4",20,1,2,null,{"$f":"IF(M161=\"\",\"\",CONCATENATE(VLOOKUP(M161,[1]PlacesConfig!$A:$C,3,FALSE),IF(N161=\"\",\"\",\" - \"&VLOOKUP(N161,[1]SmallPlacesConfig!$A:$G,7,FALSE))))","v":"尧之都"},120,null,{"$f":"IF(S161=\"\",\"\",VLOOKUP(S161,条件类型查询!A:B,2,FALSE))","v":"前置事件"},10,{"$f":"A160","v":6033},null,4204,4210,"4. 玉佩稳灵.收集信物","玩家寻来尧都玉佩稳茶树灵气，婉溪展露隐世家族的秘辛。",{"$f":"COUNTIF(EventLinkConfig!O:O,EventConfig!A161)","v":3},603401,603402,603403,"","","","","","","","","","","","","","","","","",1501,10,1601,4,{"$f":"IF(AU161=\"\",\"\",CONCATENATE(VLOOKUP(AU161,[2]DropConfig!$A:$F,3,FALSE),\"×\",AV161))","v":"清茶×10"},{"$f":"IF(AW161=\"\",\"\",CONCATENATE(VLOOKUP(AW161,[2]DropConfig!$A:$F,3,FALSE),\"×\",AX161))","v":"妃子笑×4"}]
[6035,"603501;603502;603503;102",7,5,1,1,1,null,"1501;1601","10;5",15,1,2,null,{"$f":"IF(M162=\"\",\"\",CONCATENATE(VLOOKUP(M162,[1]PlacesConfig!$A:$C,3,FALSE),IF(N162=\"\",\"\",\" - \"&VLOOKUP(N162,[1]SmallPlacesConfig!$A:$G,7,FALSE))))","v":"尧之都"},130,null,{"$f":"IF(S162=\"\",\"\",VLOOKUP(S162,条件类型查询!A:B,2,FALSE))","v":"前置事件"},10,{"$f":"A161","v":6034},null,4205,4211,"5. 溪水异动.驱散干扰","玩家清除溪水灵影，发现暗藏外来修士的窥探痕迹。",{"$f":"COUNTIF(EventLinkConfig!O:O,EventConfig!A162)","v":3},603501,603502,603503,"","","","","","","","","","","","","","","","","",1501,10,1601,5,{"$f":"IF(AU162=\"\",\"\",CONCATENATE(VLOOKUP(AU162,[2]DropConfig!$A:$F,3,FALSE),\"×\",AV162))","v":"清茶×10"},{"$f":"IF(AW162=\"\",\"\",CONCATENATE(VLOOKUP(AW162,[2]DropConfig!$A:$F,3,FALSE),\"×\",AX162))","v":"妃子笑×5"}]
[6036,"603601;603602;603603;603604;603605;603606;102",7,5,1,1,1,null,"1501;1601","10;5",10,1,2,null,{"$f":"IF(M163=\"\",\"\",CONCATENATE(VLOOKUP(M163,[1]PlacesConfig!$A:$C,3,FALSE),IF(N163=\"\",\"\",\" - \"&VLOOKUP(N163,[1]SmallPlacesConfig!$A:$G,7,FALSE))))","v":"尧之都"},140,null,{"$f":"IF(S163=\"\",\"\",VLOOKUP(S163,条件类型查询!A:B,2,FALSE))","v":"前置事件"},10,{"$f":"A162","v":6035},null,4206,4212,"6. 兄妹心语.隐秘初现","许由婉溪对峙家族秘密，旧敌阴影随溪流暗涌。",{"$f":"COUNTIF(EventLinkConfig!O:O,EventConfig!A163)","v":6},603601,603602,603603,603604,603605,603606,"","","","","","","","","","","","","","",1501,10,1601,5,{"$f":"IF(AU163=\"\",\"\",CONCATENATE(VLOOKUP(AU163,[2]DropConfig!$A:$F,3,FALSE),\"×\",AV163))","v":"清茶×10"},{"$f":"IF(AW163=\"\",\"\",CONCATENATE(VLOOKUP(AW163,[2]DropConfig!$A:$F,3,FALSE),\"×\",AX163))","v":"妃子笑×5"}]
[{"$nulls":8},"","",{"$nulls":4},{"$f":"IF(M164=\"\",\"\",CONCATENATE(VLOOKUP(M164,[1]PlacesConfig!$A:$C,3,FALSE),IF(N164=\"\",\"\",\" - \"&VLOOKUP(N164,[1]SmallPlacesConfig!$A:$G,7,FALSE))))","v":""},{"$nulls":35},{"$f":"IF(AU164=\"\",\"\",CONCATENATE(VLOOKUP(AU164,[2]DropConfig!$A:$F,3,FALSE),\"×\",AV164))","v":""},{"$f":"IF(AW164=\"\",\"\",CONCATENATE(VLOOKUP(AW164,[2]DropConfig!$A:$F,3,FALSE),\"×\",AX164))","v":""}]
[6041,{"$f":"IF(A165=\"\",\"\",_xlfn.TEXTJOIN(\";\",1,AA165:AT165,102))","v":"604101;604102;604103;604104;102"},7,5,1,1,1,null,"1501;1601","10;1",35,1,2,null,{"$f":"IF(M165=\"\",\"\",CONCATENATE(VLOOKUP(M165,[1]PlacesConfig!$A:$C,3,FALSE),IF(N165=\"\",\"\",\" - \"&VLOOKUP(N165,[1]SmallPlacesConfig!$A:$G,7,FALSE))))","v":"尧之都"},120,null,{"$f":"IF(S165=\"\",\"\",VLOOKUP(S165,条件类型查询!A:B,2,FALSE))","v":"境界判断"},3,121,null,4215,4221,"1. 山林重逢.隐士闲谈","拜访许由，受托采药延续修行机缘。",{"$f":"COUNTIF(EventLinkConfig!O:O,EventConfig!A165)","v":4},{"$f":"IF($Z165>=AA$3,$A165*100+AA$3,\"\")","v":604101},604102,604103,604104,"","","","","","",{"$f":"IF($Z165>=AK$3,$A165*100+AK$3,\"\")","v":""},"","","","","","","","","",1501,10,1601,1,{"$f":"IF(AU165=\"\",\"\",CONCATENATE(VLOOKUP(AU165,[2]DropConfig!$A:$F,3,FALSE),\"×\",AV165))","v":"清茶×10"},{"$f":"IF(AW165=\"\",\"\",CONCATENATE(VLOOKUP(AW165,[2]DropConfig!$A:$F,3,FALSE),\"×\",AX165))","v":"妃子笑×1"}]
[6042,"604201;604202;604203;604204;102",7,5,1,1,1,null,"1501;1601","10;2",30,1,2,null,{"$f":"IF(M166=\"\",\"\",CONCATENATE(VLOOKUP(M166,[1]PlacesConfig!$A:$C,3,FALSE),IF(N166=\"\",\"\",\" - \"&VLOOKUP(N166,[1]SmallPlacesConfig!$A:$G,7,FALSE))))","v":"尧之都"},130,null,{"$f":"IF(S166=\"\",\"\",VLOOKUP(S166,条件类型查询!A:B,2,FALSE))","v":"前置事件"},10,{"$f":"A165","v":6041},null,4216,4222,"2. 山野采草.炼丹初助","许由借采药时辰喻修道机缘，点化玩家顺时而行。",{"$f":"COUNTIF(EventLinkConfig!O:O,EventConfig!A166)","v":4},604201,604202,604203,604204,"","","","","","","","","","","","","","","","",1501,10,1601,2,{"$f":"IF(AU166=\"\",\"\",CONCATENATE(VLOOKUP(AU166,[2]DropConfig!$A:$F,3,FALSE),\"×\",AV166))","v":"清茶×10"},{"$f":"IF(AW166=\"\",\"\",CONCATENATE(VLOOKUP(AW166,[2]DropConfig!$A:$F,3,FALSE),\"×\",AX166))","v":"妃子笑×2"}]
[6043,"604301;604302;604303;102",7,5,1,1,1,null,"1501;1601","10;3",25,1,2,null,{"$f":"IF(M167=\"\",\"\",CONCATENATE(VLOOKUP(M167,[1]PlacesConfig!$A:$C,3,FALSE),IF(N167=\"\",\"\",\" - \"&VLOOKUP(N167,[1]SmallPlacesConfig!$A:$G,7,FALSE))))","v":"尧之都"},140,null,{"$f":"IF(S167=\"\",\"\",VLOOKUP(S167,条件类型查询!A:B,2,FALSE))","v":"前置事件"},10,{"$f":"A166","v":6042},null,4217,4223,"3. 丹炉论道.火候之悟","许由控火时流露道心困惑，避世与执着之辩随丹烟升起。",{"$f":"COUNTIF(EventLinkConfig!O:O,EventConfig!A167)","v":3},604301,604302,604303,"","","","","","","","","","","","","","","","","",1501,10,1601,3,{"$f":"IF(AU167=\"\",\"\",CONCATENATE(VLOOKUP(AU167,[2]DropConfig!$A:$F,3,FALSE),\"×\",AV167))","v":"清茶×10"},{"$f":"IF(AW167=\"\",\"\",CONCATENATE(VLOOKUP(AW167,[2]DropConfig!$A:$F,3,FALSE),\"×\",AX167))","v":"妃子笑×3"}]
[6044,"604401;604402;604403;604404;102",7,5,1,1,1,null,"1501;1601","10;4",20,1,2,null,{"$f":"IF(M168=\"\",\"\",CONCATENATE(VLOOKUP(M168,[1]PlacesConfig!$A:$C,3,FALSE),IF(N168=\"\",\"\",\" - \"&VLOOKUP(N168,[1]SmallPlacesConfig!$A:$G,7,FALSE))))","v":"尧之都"},150,null,{"$f":"IF(S168=\"\",\"\",VLOOKUP(S168,条件类型查询!A:B,2,FALSE))","v":"前置事件"},10,{"$f":"A167","v":6043},null,4218,4224,"4. 玉佩镇丹.稳气寻材","许由借秘境种子引发大小之辩，你应答展露修道悟性。",{"$f":"COUNTIF(EventLinkConfig!O:O,EventConfig!A168)","v":4},604401,604402,604403,604404,"","","","","","","","","","","","","","","","",1501,10,1601,4,{"$f":"IF(AU168=\"\",\"\",CONCATENATE(VLOOKUP(AU168,[2]DropConfig!$A:$F,3,FALSE),\"×\",AV168))","v":"清茶×10"},{"$f":"IF(AW168=\"\",\"\",CONCATENATE(VLOOKUP(AW168,[2]DropConfig!$A:$F,3,FALSE),\"×\",AX168))","v":"妃子笑×4"}]
[6045,"604501;604502;604503;604504;102",7,5,1,1,1,null,"1501;1601","10;5",15,1,2,null,{"$f":"IF(M169=\"\",\"\",CONCATENATE(VLOOKUP(M169,[1]PlacesConfig!$A:$C,3,FALSE),IF(N169=\"\",\"\",\" - \"&VLOOKUP(N169,[1]SmallPlacesConfig!$A:$G,7,FALSE))))","v":"尧之都"},160,null,{"$f":"IF(S169=\"\",\"\",VLOOKUP(S169,条件类型查询!A:B,2,FALSE))","v":"前置事件"},10,{"$f":"A168","v":6044},null,4219,4225,"5. 茶丹相融.品味山林","许由借茶论道，以三则典故诘问修道本质。",{"$f":"COUNTIF(EventLinkConfig!O:O,EventConfig!A169)","v":4},604501,604502,604503,604504,"","","","","","","","","","","","","","","","",1501,10,1601,5,{"$f":"IF(AU169=\"\",\"\",CONCATENATE(VLOOKUP(AU169,[2]DropConfig!$A:$F,3,FALSE),\"×\",AV169))","v":"清茶×10"},{"$f":"IF(AW169=\"\",\"\",CONCATENATE(VLOOKUP(AW169,[2]DropConfig!$A:$F,3,FALSE),\"×\",AX169))","v":"妃子笑×5"}]
[6046,"604601;604602;102",7,5,1,1,1,null,"1501;1601","10;5",10,1,2,null,{"$f":"IF(M170=\"\",\"\",CONCATENATE(VLOOKUP(M170,[1]PlacesConfig!$A:$C,3,FALSE),IF(N170=\"\",\"\",\" - \"&VLOOKUP(N170,[1]SmallPlacesConfig!$A:$G,7,FALSE))))","v":"尧之都"},170,null,{"$f":"IF(S170=\"\",\"\",VLOOKUP(S170,条件类型查询!A:B,2,FALSE))","v":"前置事件"},10,{"$f":"A169","v":6045},null,4220,4226,"6. 隐士心语.道在山林","许以茶烟送别，将修行感悟系于你未来旅途。",{"$f":"COUNTIF(EventLinkConfig!O:O,EventConfig!A170)","v":2},604601,604602,"","","","","","","","","","","","","","","","","","",1501,10,1601,5,{"$f":"IF(AU170=\"\",\"\",CONCATENATE(VLOOKUP(AU170,[2]DropConfig!$A:$F,3,FALSE),\"×\",AV170))","v":"清茶×10"},{"$f":"IF(AW170=\"\",\"\",CONCATENATE(VLOOKUP(AW170,[2]DropConfig!$A:$F,3,FALSE),\"×\",AX170))","v":"妃子笑×5"}]
[{"$nulls":8},"","",{"$nulls":4},{"$f":"IF(M171=\"\",\"\",CONCATENATE(VLOOKUP(M171,[1]PlacesConfig!$A:$C,3,FALSE),IF(N171=\"\",\"\",\" - \"&VLOOKUP(N171,[1]SmallPlacesConfig!$A:$G,7,FALSE))))","v":""},{"$nulls":35},{"$f":"IF(AU171=\"\",\"\",CONCATENATE(VLOOKUP(AU171,[2]DropConfig!$A:$F,3,FALSE),\"×\",AV171))","v":""},{"$f":"IF(AW171=\"\",\"\",CONCATENATE(VLOOKUP(AW171,[2]DropConfig!$A:$F,3,FALSE),\"×\",AX171))","v":""}]
[6051,{"$f":"IF(A172=\"\",\"\",_xlfn.TEXTJOIN(\";\",1,AA172:AT172,102))","v":"605101;605102;605103;605104;102"},7,5,1,1,1,null,"1501;1601","10;1",35,1,3,null,{"$f":"IF(M172=\"\",\"\",CONCATENATE(VLOOKUP(M172,[1]PlacesConfig!$A:$C,3,FALSE),IF(N172=\"\",\"\",\" - \"&VLOOKUP(N172,[1]SmallPlacesConfig!$A:$G,7,FALSE))))","v":"藐姑射山"},150,null,{"$f":"IF(S172=\"\",\"\",VLOOKUP(S172,条件类型查询!A:B,2,FALSE))","v":"境界判断"},3,151,null,4231,4237,"1. 随风偶遇.风中疑问","疯道人笑揽清风，讨甜果润喉",{"$f":"COUNTIF(EventLinkConfig!O:O,EventConfig!A172)","v":4},{"$f":"IF($Z172>=AA$3,$A172*100+AA$3,\"\")","v":605101},605102,605103,605104,"","","","","","",{"$f":"IF($Z172>=AK$3,$A172*100+AK$3,\"\")","v":""},"","","","","","","","","",1501,10,1601,1,{"$f":"IF(AU172=\"\",\"\",CONCATENATE(VLOOKUP(AU172,[2]DropConfig!$A:$F,3,FALSE),\"×\",AV172))","v":"清茶×10"},{"$f":"IF(AW172=\"\",\"\",CONCATENATE(VLOOKUP(AW172,[2]DropConfig!$A:$F,3,FALSE),\"×\",AX172))","v":"妃子笑×1"}]
[6052,{"$f":"IF(A173=\"\",\"\",_xlfn.TEXTJOIN(\";\",1,AA173:AT173,102))","v":"605201;605202;605203;605204;102"},7,5,1,1,1,null,"1501;1601","10;2",30,1,3,null,{"$f":"IF(M173=\"\",\"\",CONCATENATE(VLOOKUP(M173,[1]PlacesConfig!$A:$C,3,FALSE),IF(N173=\"\",\"\",\" - \"&VLOOKUP(N173,[1]SmallPlacesConfig!$A:$G,7,FALSE))))","v":"藐姑射山"},160,null,{"$f":"IF(S173=\"\",\"\",VLOOKUP(S173,条件类型查询!A:B,2,FALSE))","v":"前置事件"},10,{"$f":"A172","v":6051},null,4232,4238,"2. 途中解乏","为疯仙寻得灵果，巧避守护兽归来",{"$f":"COUNTIF(EventLinkConfig!O:O,EventConfig!A173)","v":4},605201,605202,605203,605204,"","","","","","","","","","","","","","","","",1501,10,1601,2,{"$f":"IF(AU173=\"\",\"\",CONCATENATE(VLOOKUP(AU173,[2]DropConfig!$A:$F,3,FALSE),\"×\",AV173))","v":"清茶×10"},{"$f":"IF(AW173=\"\",\"\",CONCATENATE(VLOOKUP(AW173,[2]DropConfig!$A:$F,3,FALSE),\"×\",AX173))","v":"妃子笑×2"}]
[6053,{"$f":"IF(A174=\"\",\"\",_xlfn.TEXTJOIN(\";\",1,AA174:AT174,102))","v":"605301;605302;605303;605304;102"},7,5,1,1,1,null,"1501;1601","10;3",25,1,3,null,{"$f":"IF(M174=\"\",\"\",CONCATENATE(VLOOKUP(M174,[1]PlacesConfig!$A:$C,3,FALSE),IF(N174=\"\",\"\",\" - \"&VLOOKUP(N174,[1]SmallPlacesConfig!$A:$G,7,FALSE))))","v":"藐姑射山"},170,null,{"$f":"IF(S174=\"\",\"\",VLOOKUP(S174,条件类型查询!A:B,2,FALSE))","v":"前置事件"},10,{"$f":"A173","v":6052},null,4233,4239,"3.  游乐论道.评判之辨","疯道人需灵果驱妖，你冒险采集相助",{"$f":"COUNTIF(EventLinkConfig!O:O,EventConfig!A174)","v":4},605301,605302,605303,605304,"","","","","","","","","","","","","","","","",1501,10,1601,3,{"$f":"IF(AU174=\"\",\"\",CONCATENATE(VLOOKUP(AU174,[2]DropConfig!$A:$F,3,FALSE),\"×\",AV174))","v":"清茶×10"},{"$f":"IF(AW174=\"\",\"\",CONCATENATE(VLOOKUP(AW174,[2]DropConfig!$A:$F,3,FALSE),\"×\",AX174))","v":"妃子笑×3"}]
[6054,{"$f":"IF(A175=\"\",\"\",_xlfn.TEXTJOIN(\";\",1,AA175:AT175,102))","v":"605401;605402;605403;605404;102"},7,5,1,1,1,null,"1501;1601","10;4",20,1,3,null,{"$f":"IF(M175=\"\",\"\",CONCATENATE(VLOOKUP(M175,[1]PlacesConfig!$A:$C,3,FALSE),IF(N175=\"\",\"\",\" - \"&VLOOKUP(N175,[1]SmallPlacesConfig!$A:$G,7,FALSE))))","v":"藐姑射山"},180,null,{"$f":"IF(S175=\"\",\"\",VLOOKUP(S175,条件类型查询!A:B,2,FALSE))","v":"前置事件"},10,{"$f":"A174","v":6053},null,4234,4240,"4. 灵石稳身.自在寻味","疯道人灵石耗尽，你慷慨相助",{"$f":"COUNTIF(EventLinkConfig!O:O,EventConfig!A175)","v":4},605401,605402,605403,605404,"","","","","","","","","","","","","","","","",1501,10,1601,4,{"$f":"IF(AU175=\"\",\"\",CONCATENATE(VLOOKUP(AU175,[2]DropConfig!$A:$F,3,FALSE),\"×\",AV175))","v":"清茶×10"},{"$f":"IF(AW175=\"\",\"\",CONCATENATE(VLOOKUP(AW175,[2]DropConfig!$A:$F,3,FALSE),\"×\",AX175))","v":"妃子笑×4"}]
[6055,{"$f":"IF(A176=\"\",\"\",_xlfn.TEXTJOIN(\";\",1,AA176:AT176,102))","v":"605501;605502;605503;605504;605505;605506;102"},7,5,1,1,1,null,"1501;1601","10;5",15,1,3,null,{"$f":"IF(M176=\"\",\"\",CONCATENATE(VLOOKUP(M176,[1]PlacesConfig!$A:$C,3,FALSE),IF(N176=\"\",\"\",\" - \"&VLOOKUP(N176,[1]SmallPlacesConfig!$A:$G,7,FALSE))))","v":"藐姑射山"},190,null,{"$f":"IF(S176=\"\",\"\",VLOOKUP(S176,条件类型查询!A:B,2,FALSE))","v":"前置事件"},10,{"$f":"A175","v":6054},null,4235,4241,"5. 沉迷赌博.有借无还","疯道人把借的灵石全赌输了，你气得直接动手",{"$f":"COUNTIF(EventLinkConfig!O:O,EventConfig!A176)","v":6},605501,605502,605503,605504,605505,605506,"","","","","","","","","","","","","","",1501,10,1601,5,{"$f":"IF(AU176=\"\",\"\",CONCATENATE(VLOOKUP(AU176,[2]DropConfig!$A:$F,3,FALSE),\"×\",AV176))","v":"清茶×10"},{"$f":"IF(AW176=\"\",\"\",CONCATENATE(VLOOKUP(AW176,[2]DropConfig!$A:$F,3,FALSE),\"×\",AX176))","v":"妃子笑×5"}]
[{"$nulls":8},"","",{"$nulls":4},{"$f":"IF(M177=\"\",\"\",CONCATENATE(VLOOKUP(M177,[1]PlacesConfig!$A:$C,3,FALSE),IF(N177=\"\",\"\",\" - \"&VLOOKUP(N177,[1]SmallPlacesConfig!$A:$G,7,FALSE))))","v":""},{"$nulls":35},{"$f":"IF(AU177=\"\",\"\",CONCATENATE(VLOOKUP(AU177,[2]DropConfig!$A:$F,3,FALSE),\"×\",AV177))","v":""},{"$f":"IF(AW177=\"\",\"\",CONCATENATE(VLOOKUP(AW177,[2]DropConfig!$A:$F,3,FALSE),\"×\",AX177))","v":""}]
[9111,{"$f":"IF(Z178>0,_xlfn.TEXTJOIN(\";\",1,ROW(INDIRECT(CONCATENATE(\"\",A178*100+1,\":\",A178*100+Z178,\"\"))),102),\"\")","v":"911101;911102;911103;911104;911105;911106;911107;911108;911109;911110;911111;911112;911113;911114;911115;911116;102"},6,2,1,1,3,null,"22008","1",40,1,1,1,{"$f":"IF(M178=\"\",\"\",CONCATENATE(VLOOKUP(M178,[1]PlacesConfig!$A:$C,3,FALSE),IF(N178=\"\",\"\",\" - \"&VLOOKUP(N178,[1]SmallPlacesConfig!$A:$G,7,FALSE))))","v":"北海 - 海边"},{"$f":"VLOOKUP(N178,[1]SmallPlacesConfig!$A:$I,9,FALSE)","v":1},null,{"$f":"IF(S178=\"\",\"\",VLOOKUP(S178,条件类型查询!A:B,2,FALSE))","v":""},null,null,null,4244,4326,"渔民的帮助","渔民遇海怪求助，你收下线索准备行动",{"$f":"COUNTIF(EventLinkConfig!O:O,EventConfig!A178)","v":16},{"$nulls":20},22008,1,null,null,{"$f":"IF(AU178=\"\",\"\",CONCATENATE(VLOOKUP(AU178,[2]DropConfig!$A:$F,3,FALSE),\"×\",AV178))","v":"支线感悟点1×1"},{"$f":"IF(AW178=\"\",\"\",CONCATENATE(VLOOKUP(AW178,[2]DropConfig!$A:$F,3,FALSE),\"×\",AX178))","v":""}]
[{"$f":"A178+1","v":9112},{"$f":"IF(Z179>0,_xlfn.TEXTJOIN(\";\",1,ROW(INDIRECT(CONCATENATE(\"\",A179*100+1,\":\",A179*100+Z179,\"\"))),102),\"\")","v":"911201;911202;911203;911204;911205;911206;911207;102"},6,2,1,1,3,null,"22008","1",35,1,1,1,{"$f":"IF(M179=\"\",\"\",CONCATENATE(VLOOKUP(M179,[1]PlacesConfig!$A:$C,3,FALSE),IF(N179=\"\",\"\",\" - \"&VLOOKUP(N179,[1]SmallPlacesConfig!$A:$G,7,FALSE))))","v":"北海 - 海边"},{"$f":"VLOOKUP(N179,[1]SmallPlacesConfig!$A:$I,9,FALSE)","v":1},null,{"$f":"IF(S179=\"\",\"\",VLOOKUP(S179,条件类型查询!A:B,2,FALSE))","v":"前置事件"},10,{"$f":"A178","v":9111},null,4245,4327,"妖物调查","傀儡真相终揭晓，神秘龙鳞引争夺",{"$f":"COUNTIF(EventLinkConfig!O:O,EventConfig!A179)","v":7},{"$nulls":20},22008,1,null,null,{"$f":"IF(AU179=\"\",\"\",CONCATENATE(VLOOKUP(AU179,[2]DropConfig!$A:$F,3,FALSE),\"×\",AV179))","v":"支线感悟点1×1"},{"$f":"IF(AW179=\"\",\"\",CONCATENATE(VLOOKUP(AW179,[2]DropConfig!$A:$F,3,FALSE),\"×\",AX179))","v":""}]
[9113,{"$f":"IF(Z180>0,_xlfn.TEXTJOIN(\";\",1,ROW(INDIRECT(CONCATENATE(\"\",A180*100+1,\":\",A180*100+Z180,\"\"))),102),\"\")","v":"911301;911302;911303;911304;911305;102"},6,2,1,1,3,null,"22008","1",30,1,1,1,{"$f":"IF(M180=\"\",\"\",CONCATENATE(VLOOKUP(M180,[1]PlacesConfig!$A:$C,3,FALSE),IF(N180=\"\",\"\",\" - \"&VLOOKUP(N180,[1]SmallPlacesConfig!$A:$G,7,FALSE))))","v":"北海 - 海边"},{"$f":"VLOOKUP(N180,[1]SmallPlacesConfig!$A:$I,9,FALSE)","v":1},null,{"$f":"IF(S180=\"\",\"\",VLOOKUP(S180,条件类型查询!A:B,2,FALSE))","v":"前置事件"},10,{"$f":"A179","v":9112},null,4246,4328,"渔民汇报消息","水怪虽除，老李攥着儿子的平安符沉默不语",{"$f":"COUNTIF(EventLinkConfig!O:O,EventConfig!A180)","v":5},{"$nulls":20},22008,1,null,null,{"$f":"IF(AU180=\"\",\"\",CONCATENATE(VLOOKUP(AU180,[2]DropConfig!$A:$F,3,FALSE),\"×\",AV180))","v":"支线感悟点1×1"},{"$f":"IF(AW180=\"\",\"\",CONCATENATE(VLOOKUP(AW180,[2]DropConfig!$A:$F,3,FALSE),\"×\",AX180))","v":""}]
[9114,{"$f":"IF(Z181>0,_xlfn.TEXTJOIN(\";\",1,ROW(INDIRECT(CONCATENATE(\"\",A181*100+1,\":\",A181*100+Z181,\"\"))),102),\"\")","v":"911401;911402;911403;911404;911405;911406;911407;911408;102"},6,2,1,1,3,null,"22008","1",25,1,1,1,{"$f":"IF(M181=\"\",\"\",CONCATENATE(VLOOKUP(M181,[1]PlacesConfig!$A:$C,3,FALSE),IF(N181=\"\",\"\",\" - \"&VLOOKUP(N181,[1]SmallPlacesConfig!$A:$G,7,FALSE))))","v":"北海 - 海边"},{"$f":"VLOOKUP(N181,[1]SmallPlacesConfig!$A:$I,9,FALSE)","v":1},null,{"$f":"IF(S181=\"\",\"\",VLOOKUP(S181,条件类型查询!A:B,2,FALSE))","v":"前置事件"},10,{"$f":"A180","v":9113},null,4247,4329,"初遇幽魂","灵姬托你取三颗幽魂石，镇压古战场暴动怨魂。",{"$f":"COUNTIF(EventLinkConfig!O:O,EventConfig!A181)","v":8},{"$nulls":20},22008,1,null,null,{"$f":"IF(AU181=\"\",\"\",CONCATENATE(VLOOKUP(AU181,[2]DropConfig!$A:$F,3,FALSE),\"×\",AV181))","v":"支线感悟点1×1"},{"$f":"IF(AW181=\"\",\"\",CONCATENATE(VLOOKUP(AW181,[2]DropConfig!$A:$F,3,FALSE),\"×\",AX181))","v":""}]
[9115,{"$f":"IF(Z182>0,_xlfn.TEXTJOIN(\";\",1,ROW(INDIRECT(CONCATENATE(\"\",A182*100+1,\":\",A182*100+Z182,\"\"))),102),\"\")","v":"911501;911502;102"},6,2,1,1,3,null,"","",20,1,1,1,{"$f":"IF(M182=\"\",\"\",CONCATENATE(VLOOKUP(M182,[1]PlacesConfig!$A:$C,3,FALSE),IF(N182=\"\",\"\",\" - \"&VLOOKUP(N182,[1]SmallPlacesConfig!$A:$G,7,FALSE))))","v":"北海 - 海边"},{"$f":"VLOOKUP(N182,[1]SmallPlacesConfig!$A:$I,9,FALSE)","v":1},null,{"$f":"IF(S182=\"\",\"\",VLOOKUP(S182,条件类型查询!A:B,2,FALSE))","v":"前置事件"},10,{"$f":"A181","v":9114},null,4248,4330,"幽魂石守护兽","击败幽魂石守护兽",{"$f":"COUNTIF(EventLinkConfig!O:O,EventConfig!A182)","v":2},{"$nulls":24},{"$f":"IF(AU182=\"\",\"\",CONCATENATE(VLOOKUP(AU182,[2]DropConfig!$A:$F,3,FALSE),\"×\",AV182))","v":""},{"$f":"IF(AW182=\"\",\"\",CONCATENATE(VLOOKUP(AW182,[2]DropConfig!$A:$F,3,FALSE),\"×\",AX182))","v":""}]
[9116,{"$f":"IF(Z183>0,_xlfn.TEXTJOIN(\";\",1,ROW(INDIRECT(CONCATENATE(\"\",A183*100+1,\":\",A183*100+Z183,\"\"))),102),\"\")","v":"911601;911602;911603;911604;911605;911606;911607;911608;911609;911610;911611;911612;911613;911614;911615;911616;911617;911618;911619;911620;102"},6,2,1,1,3,null,"22008","1",15,1,1,1,{"$f":"IF(M183=\"\",\"\",CONCATENATE(VLOOKUP(M183,[1]PlacesConfig!$A:$C,3,FALSE),IF(N183=\"\",\"\",\" - \"&VLOOKUP(N183,[1]SmallPlacesConfig!$A:$G,7,FALSE))))","v":"北海 - 海边"},{"$f":"VLOOKUP(N183,[1]SmallPlacesConfig!$A:$I,9,FALSE)","v":1},null,{"$f":"IF(S183=\"\",\"\",VLOOKUP(S183,条件类型查询!A:B,2,FALSE))","v":"拥有特定道具"},1,20013,3,4249,4331,"带回幽魂石","灵姬借幽魂石镇压仙宗怨魂，赠龙鳞指引圣地之谜。",{"$f":"COUNTIF(EventLinkConfig!O:O,EventConfig!A183)","v":20},{"$nulls":20},22008,1,null,null,{"$f":"IF(AU183=\"\",\"\",CONCATENATE(VLOOKUP(AU183,[2]DropConfig!$A:$F,3,FALSE),\"×\",AV183))","v":"支线感悟点1×1"},{"$f":"IF(AW183=\"\",\"\",CONCATENATE(VLOOKUP(AW183,[2]DropConfig!$A:$F,3,FALSE),\"×\",AX183))","v":""}]
[9117,{"$f":"IF(Z184>0,_xlfn.TEXTJOIN(\";\",1,ROW(INDIRECT(CONCATENATE(\"\",A184*100+1,\":\",A184*100+Z184,\"\"))),102),\"\")","v":"911701;911702;911703;911704;911705;911706;911707;911708;911709;911710;911711;102"},6,2,1,1,3,null,"","",40,1,1,2,{"$f":"IF(M184=\"\",\"\",CONCATENATE(VLOOKUP(M184,[1]PlacesConfig!$A:$C,3,FALSE),IF(N184=\"\",\"\",\" - \"&VLOOKUP(N184,[1]SmallPlacesConfig!$A:$G,7,FALSE))))","v":"北海 - 秘境"},{"$f":"VLOOKUP(N184,[1]SmallPlacesConfig!$A:$I,9,FALSE)","v":5},null,{"$f":"IF(S184=\"\",\"\",VLOOKUP(S184,条件类型查询!A:B,2,FALSE))","v":""},null,null,null,4250,4332,"初遇馨儿","馨儿强拉你去寻密信，雾林中铃铛与威胁齐飞。",{"$f":"COUNTIF(EventLinkConfig!O:O,EventConfig!A184)","v":11},{"$nulls":24},{"$f":"IF(AU184=\"\",\"\",CONCATENATE(VLOOKUP(AU184,[2]DropConfig!$A:$F,3,FALSE),\"×\",AV184))","v":""},{"$f":"IF(AW184=\"\",\"\",CONCATENATE(VLOOKUP(AW184,[2]DropConfig!$A:$F,3,FALSE),\"×\",AX184))","v":""}]
[9118,{"$f":"IF(Z185>0,_xlfn.TEXTJOIN(\";\",1,ROW(INDIRECT(CONCATENATE(\"\",A185*100+1,\":\",A185*100+Z185,\"\"))),102),\"\")","v":"911801;911802;911803;911804;911805;911806;911807;911808;102"},6,2,1,1,3,null,"22008","1",35,1,1,2,{"$f":"IF(M185=\"\",\"\",CONCATENATE(VLOOKUP(M185,[1]PlacesConfig!$A:$C,3,FALSE),IF(N185=\"\",\"\",\" - \"&VLOOKUP(N185,[1]SmallPlacesConfig!$A:$G,7,FALSE))))","v":"北海 - 秘境"},{"$f":"VLOOKUP(N185,[1]SmallPlacesConfig!$A:$I,9,FALSE)","v":5},null,{"$f":"IF(S185=\"\",\"\",VLOOKUP(S185,条件类型查询!A:B,2,FALSE))","v":"前置事件"},10,{"$f":"A184","v":9117},null,4251,4333,"迷雾妖怪","雾妖伏诛，密信危机现转机。",{"$f":"COUNTIF(EventLinkConfig!O:O,EventConfig!A185)","v":8},{"$nulls":20},22008,1,null,null,{"$f":"IF(AU185=\"\",\"\",CONCATENATE(VLOOKUP(AU185,[2]DropConfig!$A:$F,3,FALSE),\"×\",AV185))","v":"支线感悟点1×1"},{"$f":"IF(AW185=\"\",\"\",CONCATENATE(VLOOKUP(AW185,[2]DropConfig!$A:$F,3,FALSE),\"×\",AX185))","v":""}]
[9119,{"$f":"IF(Z186>0,_xlfn.TEXTJOIN(\";\",1,ROW(INDIRECT(CONCATENATE(\"\",A186*100+1,\":\",A186*100+Z186,\"\"))),102),\"\")","v":"911901;911902;911903;911904;911905;911906;911907;911908;911909;911910;911911;911912;911913;102"},6,2,1,1,3,null,"","",30,1,1,2,{"$f":"IF(M186=\"\",\"\",CONCATENATE(VLOOKUP(M186,[1]PlacesConfig!$A:$C,3,FALSE),IF(N186=\"\",\"\",\" - \"&VLOOKUP(N186,[1]SmallPlacesConfig!$A:$G,7,FALSE))))","v":"北海 - 秘境"},{"$f":"VLOOKUP(N186,[1]SmallPlacesConfig!$A:$I,9,FALSE)","v":5},null,{"$f":"IF(S186=\"\",\"\",VLOOKUP(S186,条件类型查询!A:B,2,FALSE))","v":"前置事件"},10,{"$f":"A185","v":9118},null,4252,4334,"发现信使","你亲自护法助馨儿破阵，云隐密信危机终解。",{"$f":"COUNTIF(EventLinkConfig!O:O,EventConfig!A186)","v":13},{"$nulls":24},{"$f":"IF(AU186=\"\",\"\",CONCATENATE(VLOOKUP(AU186,[2]DropConfig!$A:$F,3,FALSE),\"×\",AV186))","v":""},{"$f":"IF(AW186=\"\",\"\",CONCATENATE(VLOOKUP(AW186,[2]DropConfig!$A:$F,3,FALSE),\"×\",AX186))","v":""}]
[9120,{"$f":"IF(Z187>0,_xlfn.TEXTJOIN(\";\",1,ROW(INDIRECT(CONCATENATE(\"\",A187*100+1,\":\",A187*100+Z187,\"\"))),102),\"\")","v":"912001;912002;912003;912004;912005;912006;912007;912008;102"},6,2,1,1,3,null,"22008","1",25,1,1,3,{"$f":"IF(M187=\"\",\"\",CONCATENATE(VLOOKUP(M187,[1]PlacesConfig!$A:$C,3,FALSE),IF(N187=\"\",\"\",\" - \"&VLOOKUP(N187,[1]SmallPlacesConfig!$A:$G,7,FALSE))))","v":"北海 - 浮岛"},{"$f":"VLOOKUP(N187,[1]SmallPlacesConfig!$A:$I,9,FALSE)","v":11},null,{"$f":"IF(S187=\"\",\"\",VLOOKUP(S187,条件类型查询!A:B,2,FALSE))","v":"前置事件"},10,{"$f":"A186","v":9119},null,4253,4335,"风灵鸟的宝藏","助馨儿智擒偷盗灵草的风灵鸟。",{"$f":"COUNTIF(EventLinkConfig!O:O,EventConfig!A187)","v":8},{"$nulls":20},22008,1,null,null,{"$f":"IF(AU187=\"\",\"\",CONCATENATE(VLOOKUP(AU187,[2]DropConfig!$A:$F,3,FALSE),\"×\",AV187))","v":"支线感悟点1×1"},{"$f":"IF(AW187=\"\",\"\",CONCATENATE(VLOOKUP(AW187,[2]DropConfig!$A:$F,3,FALSE),\"×\",AX187))","v":""}]
[9121,{"$f":"IF(Z188>0,_xlfn.TEXTJOIN(\";\",1,ROW(INDIRECT(CONCATENATE(\"\",A188*100+1,\":\",A188*100+Z188,\"\"))),102),\"\")","v":"912101;912102;912103;912104;912105;912106;102"},6,2,1,1,3,null,"","",20,1,1,3,{"$f":"IF(M188=\"\",\"\",CONCATENATE(VLOOKUP(M188,[1]PlacesConfig!$A:$C,3,FALSE),IF(N188=\"\",\"\",\" - \"&VLOOKUP(N188,[1]SmallPlacesConfig!$A:$G,7,FALSE))))","v":"北海 - 浮岛"},{"$f":"VLOOKUP(N188,[1]SmallPlacesConfig!$A:$I,9,FALSE)","v":11},null,{"$f":"IF(S188=\"\",\"\",VLOOKUP(S188,条件类型查询!A:B,2,FALSE))","v":"前置事件"},10,{"$f":"A187","v":9120},null,4254,4336,"浮岛灵泉的净化","协馨儿斩泉中妖物，灵泉复清，暗藏宗门算计。",{"$f":"COUNTIF(EventLinkConfig!O:O,EventConfig!A188)","v":6},{"$nulls":24},{"$f":"IF(AU188=\"\",\"\",CONCATENATE(VLOOKUP(AU188,[2]DropConfig!$A:$F,3,FALSE),\"×\",AV188))","v":""},{"$f":"IF(AW188=\"\",\"\",CONCATENATE(VLOOKUP(AW188,[2]DropConfig!$A:$F,3,FALSE),\"×\",AX188))","v":""}]
[9122,{"$f":"IF(Z189>0,_xlfn.TEXTJOIN(\";\",1,ROW(INDIRECT(CONCATENATE(\"\",A189*100+1,\":\",A189*100+Z189,\"\"))),102),\"\")","v":"912201;912202;912203;912204;912205;912206;912207;912208;912209;912210;912211;912212;912213;912214;912215;102"},6,2,1,1,3,null,"22008","1",15,1,1,3,{"$f":"IF(M189=\"\",\"\",CONCATENATE(VLOOKUP(M189,[1]PlacesConfig!$A:$C,3,FALSE),IF(N189=\"\",\"\",\" - \"&VLOOKUP(N189,[1]SmallPlacesConfig!$A:$G,7,FALSE))))","v":"北海 - 浮岛"},{"$f":"VLOOKUP(N189,[1]SmallPlacesConfig!$A:$I,9,FALSE)","v":11},null,{"$f":"IF(S189=\"\",\"\",VLOOKUP(S189,条件类型查询!A:B,2,FALSE))","v":"前置事件"},10,{"$f":"A188","v":9121},null,4255,4337,"浮岛盗修的阴谋","协助馨儿击败浮岛盗修获得宝盒",{"$f":"COUNTIF(EventLinkConfig!O:O,EventConfig!A189)","v":15},{"$nulls":20},22008,1,null,null,{"$f":"IF(AU189=\"\",\"\",CONCATENATE(VLOOKUP(AU189,[2]DropConfig!$A:$F,3,FALSE),\"×\",AV189))","v":"支线感悟点1×1"},{"$f":"IF(AW189=\"\",\"\",CONCATENATE(VLOOKUP(AW189,[2]DropConfig!$A:$F,3,FALSE),\"×\",AX189))","v":""}]
[9123,{"$f":"IF(Z190>0,_xlfn.TEXTJOIN(\";\",1,ROW(INDIRECT(CONCATENATE(\"\",A190*100+1,\":\",A190*100+Z190,\"\"))),102),\"\")","v":"912301;912302;912303;912304;912305;912306;912307;912308;912309;912310;912311;912312;912313;912314;912315;912316;912317;912318;912319;912320;912321;912322;912323;912324;912325;912326;912327;912328;912329;102"},6,2,1,1,3,null,"","",40,1,1,4,{"$f":"IF(M190=\"\",\"\",CONCATENATE(VLOOKUP(M190,[1]PlacesConfig!$A:$C,3,FALSE),IF(N190=\"\",\"\",\" - \"&VLOOKUP(N190,[1]SmallPlacesConfig!$A:$G,7,FALSE))))","v":"北海 - 深处"},{"$f":"VLOOKUP(N190,[1]SmallPlacesConfig!$A:$I,9,FALSE)","v":21},null,{"$f":"IF(S190=\"\",\"\",VLOOKUP(S190,条件类型查询!A:B,2,FALSE))","v":""},null,null,null,4256,4338,"初遇柳轻烟","被迫卷入秘钥争夺，重伤柳轻烟托付宗门存亡重任。",{"$f":"COUNTIF(EventLinkConfig!O:O,EventConfig!A190)","v":29},{"$nulls":24},{"$f":"IF(AU190=\"\",\"\",CONCATENATE(VLOOKUP(AU190,[2]DropConfig!$A:$F,3,FALSE),\"×\",AV190))","v":""},{"$f":"IF(AW190=\"\",\"\",CONCATENATE(VLOOKUP(AW190,[2]DropConfig!$A:$F,3,FALSE),\"×\",AX190))","v":""}]
[9124,{"$f":"IF(Z191>0,_xlfn.TEXTJOIN(\";\",1,ROW(INDIRECT(CONCATENATE(\"\",A191*100+1,\":\",A191*100+Z191,\"\"))),102),\"\")","v":"912401;912402;912403;102"},6,2,1,1,3,null,"22008","1",35,1,1,4,{"$f":"IF(M191=\"\",\"\",CONCATENATE(VLOOKUP(M191,[1]PlacesConfig!$A:$C,3,FALSE),IF(N191=\"\",\"\",\" - \"&VLOOKUP(N191,[1]SmallPlacesConfig!$A:$G,7,FALSE))))","v":"北海 - 深处"},{"$f":"VLOOKUP(N191,[1]SmallPlacesConfig!$A:$I,9,FALSE)","v":21},null,{"$f":"IF(S191=\"\",\"\",VLOOKUP(S191,条件类型查询!A:B,2,FALSE))","v":"前置事件"},10,{"$f":"A190","v":9123},null,4257,4339,"找到血海宗的人","击败血海宗敌人",{"$f":"COUNTIF(EventLinkConfig!O:O,EventConfig!A191)","v":3},{"$nulls":20},22008,1,null,null,{"$f":"IF(AU191=\"\",\"\",CONCATENATE(VLOOKUP(AU191,[2]DropConfig!$A:$F,3,FALSE),\"×\",AV191))","v":"支线感悟点1×1"},{"$f":"IF(AW191=\"\",\"\",CONCATENATE(VLOOKUP(AW191,[2]DropConfig!$A:$F,3,FALSE),\"×\",AX191))","v":""}]
[9125,{"$f":"IF(Z192>0,_xlfn.TEXTJOIN(\";\",1,ROW(INDIRECT(CONCATENATE(\"\",A192*100+1,\":\",A192*100+Z192,\"\"))),102),\"\")","v":"912501;912502;912503;102"},6,2,1,1,3,null,"20014","1",30,1,1,4,{"$f":"IF(M192=\"\",\"\",CONCATENATE(VLOOKUP(M192,[1]PlacesConfig!$A:$C,3,FALSE),IF(N192=\"\",\"\",\" - \"&VLOOKUP(N192,[1]SmallPlacesConfig!$A:$G,7,FALSE))))","v":"北海 - 深处"},{"$f":"VLOOKUP(N192,[1]SmallPlacesConfig!$A:$I,9,FALSE)","v":21},null,{"$f":"IF(S192=\"\",\"\",VLOOKUP(S192,条件类型查询!A:B,2,FALSE))","v":"前置事件"},10,{"$f":"A191","v":9124},null,4258,4340,"找到血海宗的人2","击败血海宗敌人",{"$f":"COUNTIF(EventLinkConfig!O:O,EventConfig!A192)","v":3},{"$nulls":20},20014,1,null,null,{"$f":"IF(AU192=\"\",\"\",CONCATENATE(VLOOKUP(AU192,[2]DropConfig!$A:$F,3,FALSE),\"×\",AV192))","v":"云雾秘钥×1"},{"$f":"IF(AW192=\"\",\"\",CONCATENATE(VLOOKUP(AW192,[2]DropConfig!$A:$F,3,FALSE),\"×\",AX192))","v":""}]
[9126,{"$f":"IF(Z193>0,_xlfn.TEXTJOIN(\";\",1,ROW(INDIRECT(CONCATENATE(\"\",A193*100+1,\":\",A193*100+Z193,\"\"))),102),\"\")","v":"912601;912602;912603;912604;102"},6,2,1,1,3,null,"22008","1",25,1,1,4,{"$f":"IF(M193=\"\",\"\",CONCATENATE(VLOOKUP(M193,[1]PlacesConfig!$A:$C,3,FALSE),IF(N193=\"\",\"\",\" - \"&VLOOKUP(N193,[1]SmallPlacesConfig!$A:$G,7,FALSE))))","v":"北海 - 深处"},{"$f":"VLOOKUP(N193,[1]SmallPlacesConfig!$A:$I,9,FALSE)","v":21},null,{"$f":"IF(S193=\"\",\"\",VLOOKUP(S193,条件类型查询!A:B,2,FALSE))","v":"前置事件"},10,{"$f":"A192","v":9125},null,4259,4341,"回到柳轻烟交任务","归还秘钥，柳轻烟以宗门承诺相赠，江湖再会。",{"$f":"COUNTIF(EventLinkConfig!O:O,EventConfig!A193)","v":4},{"$nulls":20},22008,1,null,null,{"$f":"IF(AU193=\"\",\"\",CONCATENATE(VLOOKUP(AU193,[2]DropConfig!$A:$F,3,FALSE),\"×\",AV193))","v":"支线感悟点1×1"},{"$f":"IF(AW193=\"\",\"\",CONCATENATE(VLOOKUP(AW193,[2]DropConfig!$A:$F,3,FALSE),\"×\",AX193))","v":""}]
[9127,{"$f":"IF(Z194>0,_xlfn.TEXTJOIN(\";\",1,ROW(INDIRECT(CONCATENATE(\"\",A194*100+1,\":\",A194*100+Z194,\"\"))),102),\"\")","v":"912701;912702;912703;912704;912705;912706;912707;912708;912709;102"},6,2,1,1,3,null,"","",30,1,2,5,{"$f":"IF(M194=\"\",\"\",CONCATENATE(VLOOKUP(M194,[1]PlacesConfig!$A:$C,3,FALSE),IF(N194=\"\",\"\",\" - \"&VLOOKUP(N194,[1]SmallPlacesConfig!$A:$G,7,FALSE))))","v":"尧之都 - 主城"},{"$f":"VLOOKUP(N194,[1]SmallPlacesConfig!$A:$I,9,FALSE)","v":31},null,{"$f":"IF(S194=\"\",\"\",VLOOKUP(S194,条件类型查询!A:B,2,FALSE))","v":""},null,null,null,4260,4342,"灵花","协战夺灵花，馨儿邀你前去拍卖会",{"$f":"COUNTIF(EventLinkConfig!O:O,EventConfig!A194)","v":9},{"$nulls":24},{"$f":"IF(AU194=\"\",\"\",CONCATENATE(VLOOKUP(AU194,[2]DropConfig!$A:$F,3,FALSE),\"×\",AV194))","v":""},{"$f":"IF(AW194=\"\",\"\",CONCATENATE(VLOOKUP(AW194,[2]DropConfig!$A:$F,3,FALSE),\"×\",AX194))","v":""}]
[9128,{"$f":"IF(Z195>0,_xlfn.TEXTJOIN(\";\",1,ROW(INDIRECT(CONCATENATE(\"\",A195*100+1,\":\",A195*100+Z195,\"\"))),102),\"\")","v":"912801;912802;912803;912804;912805;912806;912807;102"},6,2,1,1,3,null,"22008","1",20,1,2,5,{"$f":"IF(M195=\"\",\"\",CONCATENATE(VLOOKUP(M195,[1]PlacesConfig!$A:$C,3,FALSE),IF(N195=\"\",\"\",\" - \"&VLOOKUP(N195,[1]SmallPlacesConfig!$A:$G,7,FALSE))))","v":"尧之都 - 主城"},{"$f":"VLOOKUP(N195,[1]SmallPlacesConfig!$A:$I,9,FALSE)","v":31},null,{"$f":"IF(S195=\"\",\"\",VLOOKUP(S195,条件类型查询!A:B,2,FALSE))","v":"前置事件"},10,{"$f":"A194","v":9127},null,{"$f":"V194+1","v":4261},4343,"散修劫掠","馨儿笑退拦路散修，你警觉暗处危机。",{"$f":"COUNTIF(EventLinkConfig!O:O,EventConfig!A195)","v":7},{"$nulls":20},22008,1,null,null,{"$f":"IF(AU195=\"\",\"\",CONCATENATE(VLOOKUP(AU195,[2]DropConfig!$A:$F,3,FALSE),\"×\",AV195))","v":"支线感悟点1×1"},{"$f":"IF(AW195=\"\",\"\",CONCATENATE(VLOOKUP(AW195,[2]DropConfig!$A:$F,3,FALSE),\"×\",AX195))","v":""}]
[9129,{"$f":"IF(Z196>0,_xlfn.TEXTJOIN(\";\",1,ROW(INDIRECT(CONCATENATE(\"\",A196*100+1,\":\",A196*100+Z196,\"\"))),102),\"\")","v":"912901;912902;912903;912904;912905;912906;912907;912908;912909;912910;912911;912912;912913;912914;912915;102"},6,2,1,1,3,null,"","",15,1,2,5,{"$f":"IF(M196=\"\",\"\",CONCATENATE(VLOOKUP(M196,[1]PlacesConfig!$A:$C,3,FALSE),IF(N196=\"\",\"\",\" - \"&VLOOKUP(N196,[1]SmallPlacesConfig!$A:$G,7,FALSE))))","v":"尧之都 - 主城"},{"$f":"VLOOKUP(N196,[1]SmallPlacesConfig!$A:$I,9,FALSE)","v":31},null,{"$f":"IF(S196=\"\",\"\",VLOOKUP(S196,条件类型查询!A:B,2,FALSE))","v":"前置事件"},10,{"$f":"A195","v":9128},null,4262,4344,"散修劫掠2","斩除精英散修，馨儿拐楚云缪组队奔赴拍卖会。",{"$f":"COUNTIF(EventLinkConfig!O:O,EventConfig!A196)","v":15},{"$nulls":24},{"$f":"IF(AU196=\"\",\"\",CONCATENATE(VLOOKUP(AU196,[2]DropConfig!$A:$F,3,FALSE),\"×\",AV196))","v":""},{"$f":"IF(AW196=\"\",\"\",CONCATENATE(VLOOKUP(AW196,[2]DropConfig!$A:$F,3,FALSE),\"×\",AX196))","v":""}]
[9130,{"$f":"IF(Z197>0,_xlfn.TEXTJOIN(\";\",1,ROW(INDIRECT(CONCATENATE(\"\",A197*100+1,\":\",A197*100+Z197,\"\"))),102),\"\")","v":"913001;913002;913003;913004;913005;913006;913007;102"},6,2,1,1,3,null,"22008","1",30,1,2,5,{"$f":"IF(M197=\"\",\"\",CONCATENATE(VLOOKUP(M197,[1]PlacesConfig!$A:$C,3,FALSE),IF(N197=\"\",\"\",\" - \"&VLOOKUP(N197,[1]SmallPlacesConfig!$A:$G,7,FALSE))))","v":"尧之都 - 主城"},{"$f":"VLOOKUP(N197,[1]SmallPlacesConfig!$A:$I,9,FALSE)","v":31},null,{"$f":"IF(S197=\"\",\"\",VLOOKUP(S197,条件类型查询!A:B,2,FALSE))","v":""},null,null,null,4263,4345,"灵宝","楚云缪遇袭失碧云佩，你赶赴东南救援被追击的馨儿。",{"$f":"COUNTIF(EventLinkConfig!O:O,EventConfig!A197)","v":7},{"$nulls":20},22008,1,null,null,{"$f":"IF(AU197=\"\",\"\",CONCATENATE(VLOOKUP(AU197,[2]DropConfig!$A:$F,3,FALSE),\"×\",AV197))","v":"支线感悟点1×1"},{"$f":"IF(AW197=\"\",\"\",CONCATENATE(VLOOKUP(AW197,[2]DropConfig!$A:$F,3,FALSE),\"×\",AX197))","v":""}]
[9131,{"$f":"IF(Z198>0,_xlfn.TEXTJOIN(\";\",1,ROW(INDIRECT(CONCATENATE(\"\",A198*100+1,\":\",A198*100+Z198,\"\"))),102),\"\")","v":"913101;913102;913103;913104;102"},6,2,1,1,3,null,"","",20,1,2,5,{"$f":"IF(M198=\"\",\"\",CONCATENATE(VLOOKUP(M198,[1]PlacesConfig!$A:$C,3,FALSE),IF(N198=\"\",\"\",\" - \"&VLOOKUP(N198,[1]SmallPlacesConfig!$A:$G,7,FALSE))))","v":"尧之都 - 主城"},{"$f":"VLOOKUP(N198,[1]SmallPlacesConfig!$A:$I,9,FALSE)","v":31},null,{"$f":"IF(S198=\"\",\"\",VLOOKUP(S198,条件类型查询!A:B,2,FALSE))","v":"前置事件"},10,{"$f":"A197","v":9130},null,4264,4346,"追逐抢夺之人","你与馨儿发现偷袭者另有接应，劫案背后暗藏更大阴谋。",{"$f":"COUNTIF(EventLinkConfig!O:O,EventConfig!A198)","v":4},{"$nulls":24},{"$f":"IF(AU198=\"\",\"\",CONCATENATE(VLOOKUP(AU198,[2]DropConfig!$A:$F,3,FALSE),\"×\",AV198))","v":""},{"$f":"IF(AW198=\"\",\"\",CONCATENATE(VLOOKUP(AW198,[2]DropConfig!$A:$F,3,FALSE),\"×\",AX198))","v":""}]
[9132,{"$f":"IF(Z199>0,_xlfn.TEXTJOIN(\";\",1,ROW(INDIRECT(CONCATENATE(\"\",A199*100+1,\":\",A199*100+Z199,\"\"))),102),\"\")","v":"913201;913202;913203;913204;913205;913206;913207;913208;913209;913210;913211;913212;913213;102"},6,2,1,1,3,null,"22008","1",15,1,2,5,{"$f":"IF(M199=\"\",\"\",CONCATENATE(VLOOKUP(M199,[1]PlacesConfig!$A:$C,3,FALSE),IF(N199=\"\",\"\",\" - \"&VLOOKUP(N199,[1]SmallPlacesConfig!$A:$G,7,FALSE))))","v":"尧之都 - 主城"},{"$f":"VLOOKUP(N199,[1]SmallPlacesConfig!$A:$I,9,FALSE)","v":31},null,{"$f":"IF(S199=\"\",\"\",VLOOKUP(S199,条件类型查询!A:B,2,FALSE))","v":"前置事件"},10,{"$f":"A198","v":9131},null,4265,4347,"青狼散人","你与馨儿击败青狼散人夺回碧云佩，青狼帮的威胁还未散。",{"$f":"COUNTIF(EventLinkConfig!O:O,EventConfig!A199)","v":13},{"$nulls":20},22008,1,null,null,{"$f":"IF(AU199=\"\",\"\",CONCATENATE(VLOOKUP(AU199,[2]DropConfig!$A:$F,3,FALSE),\"×\",AV199))","v":"支线感悟点1×1"},{"$f":"IF(AW199=\"\",\"\",CONCATENATE(VLOOKUP(AW199,[2]DropConfig!$A:$F,3,FALSE),\"×\",AX199))","v":""}]
[9133,{"$f":"IF(Z200>0,_xlfn.TEXTJOIN(\";\",1,ROW(INDIRECT(CONCATENATE(\"\",A200*100+1,\":\",A200*100+Z200,\"\"))),102),\"\")","v":"913301;913302;913303;913304;913305;913306;913307;913308;913309;102"},6,2,1,1,3,null,"","",40,1,2,6,{"$f":"IF(M200=\"\",\"\",CONCATENATE(VLOOKUP(M200,[1]PlacesConfig!$A:$C,3,FALSE),IF(N200=\"\",\"\",\" - \"&VLOOKUP(N200,[1]SmallPlacesConfig!$A:$G,7,FALSE))))","v":"尧之都 - 山林"},{"$f":"VLOOKUP(N200,[1]SmallPlacesConfig!$A:$I,9,FALSE)","v":41},null,{"$f":"IF(S200=\"\",\"\",VLOOKUP(S200,条件类型查询!A:B,2,FALSE))","v":""},null,null,null,4266,4348,"血海宗的掠夺","击杀劫道的血海宗弟子，宗门恩怨初现端倪。",{"$f":"COUNTIF(EventLinkConfig!O:O,EventConfig!A200)","v":9},{"$nulls":24},{"$f":"IF(AU200=\"\",\"\",CONCATENATE(VLOOKUP(AU200,[2]DropConfig!$A:$F,3,FALSE),\"×\",AV200))","v":""},{"$f":"IF(AW200=\"\",\"\",CONCATENATE(VLOOKUP(AW200,[2]DropConfig!$A:$F,3,FALSE),\"×\",AX200))","v":""}]
[9134,{"$f":"IF(Z201>0,_xlfn.TEXTJOIN(\";\",1,ROW(INDIRECT(CONCATENATE(\"\",A201*100+1,\":\",A201*100+Z201,\"\"))),102),\"\")","v":"913401;913402;913403;913404;913405;913406;913407;913408;913409;913410;913411;913412;913413;913414;913415;913416;913417;102"},6,2,1,1,3,null,"22008","1",35,1,2,6,{"$f":"IF(M201=\"\",\"\",CONCATENATE(VLOOKUP(M201,[1]PlacesConfig!$A:$C,3,FALSE),IF(N201=\"\",\"\",\" - \"&VLOOKUP(N201,[1]SmallPlacesConfig!$A:$G,7,FALSE))))","v":"尧之都 - 山林"},{"$f":"VLOOKUP(N201,[1]SmallPlacesConfig!$A:$I,9,FALSE)","v":41},null,{"$f":"IF(S201=\"\",\"\",VLOOKUP(S201,条件类型查询!A:B,2,FALSE))","v":"前置事件"},10,{"$f":"A200","v":9133},null,4267,4349,"逃离追杀","救下被追杀的林风，携玄冥晶踏上危机四伏的护送路。",{"$f":"COUNTIF(EventLinkConfig!O:O,EventConfig!A201)","v":17},{"$nulls":20},22008,1,null,null,{"$f":"IF(AU201=\"\",\"\",CONCATENATE(VLOOKUP(AU201,[2]DropConfig!$A:$F,3,FALSE),\"×\",AV201))","v":"支线感悟点1×1"},{"$f":"IF(AW201=\"\",\"\",CONCATENATE(VLOOKUP(AW201,[2]DropConfig!$A:$F,3,FALSE),\"×\",AX201))","v":""}]
[9135,{"$f":"IF(Z202>0,_xlfn.TEXTJOIN(\";\",1,ROW(INDIRECT(CONCATENATE(\"\",A202*100+1,\":\",A202*100+Z202,\"\"))),102),\"\")","v":"913501;913502;913503;913504;102"},6,2,1,1,3,null,{"$f":"_xlfn.TEXTJOIN(\";\",1,AU202,AW202)","v":""},{"$f":"_xlfn.TEXTJOIN(\";\",1,AV202,AX202)","v":""},30,1,2,6,{"$f":"IF(M202=\"\",\"\",CONCATENATE(VLOOKUP(M202,[1]PlacesConfig!$A:$C,3,FALSE),IF(N202=\"\",\"\",\" - \"&VLOOKUP(N202,[1]SmallPlacesConfig!$A:$G,7,FALSE))))","v":"尧之都 - 山林"},{"$f":"VLOOKUP(N202,[1]SmallPlacesConfig!$A:$I,9,FALSE)","v":41},null,{"$f":"IF(S202=\"\",\"\",VLOOKUP(S202,条件类型查询!A:B,2,FALSE))","v":"前置事件"},10,{"$f":"A201","v":9134},null,4268,4350,"血海宗弟子","击退三波追兵，护送林风抵达青云镇。",{"$f":"COUNTIF(EventLinkConfig!O:O,EventConfig!A202)","v":4},{"$nulls":24},{"$f":"IF(AU202=\"\",\"\",CONCATENATE(VLOOKUP(AU202,[2]DropConfig!$A:$F,3,FALSE),\"×\",AV202))","v":""},{"$f":"IF(AW202=\"\",\"\",CONCATENATE(VLOOKUP(AW202,[2]DropConfig!$A:$F,3,FALSE),\"×\",AX202))","v":""}]
[9136,{"$f":"IF(Z203>0,_xlfn.TEXTJOIN(\";\",1,ROW(INDIRECT(CONCATENATE(\"\",A203*100+1,\":\",A203*100+Z203,\"\"))),102),\"\")","v":"913601;913602;913603;913604;913605;102"},6,2,1,1,3,null,"22008","1",25,1,2,6,{"$f":"IF(M203=\"\",\"\",CONCATENATE(VLOOKUP(M203,[1]PlacesConfig!$A:$C,3,FALSE),IF(N203=\"\",\"\",\" - \"&VLOOKUP(N203,[1]SmallPlacesConfig!$A:$G,7,FALSE))))","v":"尧之都 - 山林"},{"$f":"VLOOKUP(N203,[1]SmallPlacesConfig!$A:$I,9,FALSE)","v":41},null,{"$f":"IF(S203=\"\",\"\",VLOOKUP(S203,条件类型查询!A:B,2,FALSE))","v":"前置事件"},10,{"$f":"A202","v":9135},null,4269,4351,"柳清清","婉拒柳清清谢礼，为玄冥晶护送画上侠义句点。",{"$f":"COUNTIF(EventLinkConfig!O:O,EventConfig!A203)","v":5},{"$nulls":20},22008,1,null,null,{"$f":"IF(AU203=\"\",\"\",CONCATENATE(VLOOKUP(AU203,[2]DropConfig!$A:$F,3,FALSE),\"×\",AV203))","v":"支线感悟点1×1"},{"$f":"IF(AW203=\"\",\"\",CONCATENATE(VLOOKUP(AW203,[2]DropConfig!$A:$F,3,FALSE),\"×\",AX203))","v":""}]
[9137,{"$f":"IF(Z204>0,_xlfn.TEXTJOIN(\";\",1,ROW(INDIRECT(CONCATENATE(\"\",A204*100+1,\":\",A204*100+Z204,\"\"))),102),\"\")","v":"913701;913702;913703;913704;913705;913706;913707;102"},6,2,1,1,3,null,"","",20,1,2,6,{"$f":"IF(M204=\"\",\"\",CONCATENATE(VLOOKUP(M204,[1]PlacesConfig!$A:$C,3,FALSE),IF(N204=\"\",\"\",\" - \"&VLOOKUP(N204,[1]SmallPlacesConfig!$A:$G,7,FALSE))))","v":"尧之都 - 山林"},{"$f":"VLOOKUP(N204,[1]SmallPlacesConfig!$A:$I,9,FALSE)","v":41},null,{"$f":"IF(S204=\"\",\"\",VLOOKUP(S204,条件类型查询!A:B,2,FALSE))","v":"前置事件"},10,{"$f":"A203","v":9136},null,4270,4352,"玄冥晶再被盗","血海宗夺晶重伤柳清清，携林风赠宝再赴杀局。",{"$f":"COUNTIF(EventLinkConfig!O:O,EventConfig!A204)","v":7},{"$nulls":24},{"$f":"IF(AU204=\"\",\"\",CONCATENATE(VLOOKUP(AU204,[2]DropConfig!$A:$F,3,FALSE),\"×\",AV204))","v":""},{"$f":"IF(AW204=\"\",\"\",CONCATENATE(VLOOKUP(AW204,[2]DropConfig!$A:$F,3,FALSE),\"×\",AX204))","v":""}]
[9138,{"$f":"IF(Z205>0,_xlfn.TEXTJOIN(\";\",1,ROW(INDIRECT(CONCATENATE(\"\",A205*100+1,\":\",A205*100+Z205,\"\"))),102),\"\")","v":"913801;913802;913803;913804;913805;913806;913807;913808;913809;102"},6,2,1,1,3,null,"22008","1",15,1,2,6,{"$f":"IF(M205=\"\",\"\",CONCATENATE(VLOOKUP(M205,[1]PlacesConfig!$A:$C,3,FALSE),IF(N205=\"\",\"\",\" - \"&VLOOKUP(N205,[1]SmallPlacesConfig!$A:$G,7,FALSE))))","v":"尧之都 - 山林"},{"$f":"VLOOKUP(N205,[1]SmallPlacesConfig!$A:$I,9,FALSE)","v":41},null,{"$f":"IF(S205=\"\",\"\",VLOOKUP(S205,条件类型查询!A:B,2,FALSE))","v":"前置事件"},10,{"$f":"A207","v":9140},null,4271,4353,"带回玄冥晶","归还部分玄冥晶，血海宗秘密仍藏于迷雾。",{"$f":"COUNTIF(EventLinkConfig!O:O,EventConfig!A205)","v":9},{"$nulls":20},22008,1,null,null,{"$f":"IF(AU205=\"\",\"\",CONCATENATE(VLOOKUP(AU205,[2]DropConfig!$A:$F,3,FALSE),\"×\",AV205))","v":"支线感悟点1×1"},{"$f":"IF(AW205=\"\",\"\",CONCATENATE(VLOOKUP(AW205,[2]DropConfig!$A:$F,3,FALSE),\"×\",AX205))","v":""}]
[9139,{"$f":"IF(Z206>0,_xlfn.TEXTJOIN(\";\",1,ROW(INDIRECT(CONCATENATE(\"\",A206*100+1,\":\",A206*100+Z206,\"\"))),102),\"\")","v":"913901;913902;913903;913904;913905;913906;913907;913908;913909;102"},6,2,1,1,3,null,"","",30,1,2,7,{"$f":"IF(M206=\"\",\"\",CONCATENATE(VLOOKUP(M206,[1]PlacesConfig!$A:$C,3,FALSE),IF(N206=\"\",\"\",\" - \"&VLOOKUP(N206,[1]SmallPlacesConfig!$A:$G,7,FALSE))))","v":"尧之都 - 郊外"},{"$f":"VLOOKUP(N206,[1]SmallPlacesConfig!$A:$I,9,FALSE)","v":61},null,{"$f":"IF(S206=\"\",\"\",VLOOKUP(S206,条件类型查询!A:B,2,FALSE))","v":""},null,null,null,4272,4354,"夺晶之战","击杀血海宗修士却触发求救信号，携玄冥晶紧急撤离。",{"$f":"COUNTIF(EventLinkConfig!O:O,EventConfig!A206)","v":9},{"$nulls":24},{"$f":"IF(AU206=\"\",\"\",CONCATENATE(VLOOKUP(AU206,[2]DropConfig!$A:$F,3,FALSE),\"×\",AV206))","v":""},{"$f":"IF(AW206=\"\",\"\",CONCATENATE(VLOOKUP(AW206,[2]DropConfig!$A:$F,3,FALSE),\"×\",AX206))","v":""}]
[9140,{"$f":"IF(Z207>0,_xlfn.TEXTJOIN(\";\",1,ROW(INDIRECT(CONCATENATE(\"\",A207*100+1,\":\",A207*100+Z207,\"\"))),102),\"\")","v":"914001;914002;914003;102"},6,2,1,1,3,null,"22008","1",20,1,2,7,{"$f":"IF(M207=\"\",\"\",CONCATENATE(VLOOKUP(M207,[1]PlacesConfig!$A:$C,3,FALSE),IF(N207=\"\",\"\",\" - \"&VLOOKUP(N207,[1]SmallPlacesConfig!$A:$G,7,FALSE))))","v":"尧之都 - 郊外"},{"$f":"VLOOKUP(N207,[1]SmallPlacesConfig!$A:$I,9,FALSE)","v":61},null,{"$f":"IF(S207=\"\",\"\",VLOOKUP(S207,条件类型查询!A:B,2,FALSE))","v":"前置事件"},10,{"$f":"A206","v":9139},null,4273,4355,"夺晶之战2-援军","血海宗为师弟复仇而来，立誓以血还血。",{"$f":"COUNTIF(EventLinkConfig!O:O,EventConfig!A207)","v":3},{"$nulls":20},22008,1,null,null,{"$f":"IF(AU207=\"\",\"\",CONCATENATE(VLOOKUP(AU207,[2]DropConfig!$A:$F,3,FALSE),\"×\",AV207))","v":"支线感悟点1×1"},{"$f":"IF(AW207=\"\",\"\",CONCATENATE(VLOOKUP(AW207,[2]DropConfig!$A:$F,3,FALSE),\"×\",AX207))","v":""}]
[9141,{"$f":"IF(Z208>0,_xlfn.TEXTJOIN(\";\",1,ROW(INDIRECT(CONCATENATE(\"\",A208*100+1,\":\",A208*100+Z208,\"\"))),102),\"\")","v":"914101;914102;914103;914104;914105;914106;914107;914108;102"},6,2,1,1,3,null,"","",30,1,3,8,{"$f":"IF(M208=\"\",\"\",CONCATENATE(VLOOKUP(M208,[1]PlacesConfig!$A:$C,3,FALSE),IF(N208=\"\",\"\",\" - \"&VLOOKUP(N208,[1]SmallPlacesConfig!$A:$G,7,FALSE))))","v":"藐姑射山 - 山脚"},{"$f":"VLOOKUP(N208,[1]SmallPlacesConfig!$A:$I,9,FALSE)","v":81},null,{"$f":"IF(S208=\"\",\"\",VLOOKUP(S208,条件类型查询!A:B,2,FALSE))","v":""},null,null,null,4274,4356,"灵泉","受玄水真人所托，探查被紫光污染的灵泉核心。",{"$f":"COUNTIF(EventLinkConfig!O:O,EventConfig!A208)","v":8},{"$nulls":24},{"$f":"IF(AU208=\"\",\"\",CONCATENATE(VLOOKUP(AU208,[2]DropConfig!$A:$F,3,FALSE),\"×\",AV208))","v":""},{"$f":"IF(AW208=\"\",\"\",CONCATENATE(VLOOKUP(AW208,[2]DropConfig!$A:$F,3,FALSE),\"×\",AX208))","v":""}]
[9142,{"$f":"IF(Z209>0,_xlfn.TEXTJOIN(\";\",1,ROW(INDIRECT(CONCATENATE(\"\",A209*100+1,\":\",A209*100+Z209,\"\"))),102),\"\")","v":"914201;914202;914203;914204;914205;914206;102"},6,2,1,1,3,null,"22008","1",20,1,3,8,{"$f":"IF(M209=\"\",\"\",CONCATENATE(VLOOKUP(M209,[1]PlacesConfig!$A:$C,3,FALSE),IF(N209=\"\",\"\",\" - \"&VLOOKUP(N209,[1]SmallPlacesConfig!$A:$G,7,FALSE))))","v":"藐姑射山 - 山脚"},{"$f":"VLOOKUP(N209,[1]SmallPlacesConfig!$A:$I,9,FALSE)","v":81},null,{"$f":"IF(S209=\"\",\"\",VLOOKUP(S209,条件类型查询!A:B,2,FALSE))","v":"前置事件"},10,30023,null,4277,4357,"灵泉异动平息","玩家平息灵泉异变获采药权，玄水真人暗示山顶新危机。",{"$f":"COUNTIF(EventLinkConfig!O:O,EventConfig!A209)","v":6},{"$nulls":20},22008,1,null,null,{"$f":"IF(AU209=\"\",\"\",CONCATENATE(VLOOKUP(AU209,[2]DropConfig!$A:$F,3,FALSE),\"×\",AV209))","v":"支线感悟点1×1"},{"$f":"IF(AW209=\"\",\"\",CONCATENATE(VLOOKUP(AW209,[2]DropConfig!$A:$F,3,FALSE),\"×\",AX209))","v":""}]
[9143,{"$f":"IF(Z210>0,_xlfn.TEXTJOIN(\";\",1,ROW(INDIRECT(CONCATENATE(\"\",A210*100+1,\":\",A210*100+Z210,\"\"))),102),\"\")","v":"914301;914302;914303;914304;914305;914306;914307;914308;914309;914310;914311;914312;102"},6,2,1,1,3,null,"","",30,1,3,9,{"$f":"IF(M210=\"\",\"\",CONCATENATE(VLOOKUP(M210,[1]PlacesConfig!$A:$C,3,FALSE),IF(N210=\"\",\"\",\" - \"&VLOOKUP(N210,[1]SmallPlacesConfig!$A:$G,7,FALSE))))","v":"藐姑射山 - 山径"},{"$f":"VLOOKUP(N210,[1]SmallPlacesConfig!$A:$I,9,FALSE)","v":111},null,{"$f":"IF(S210=\"\",\"\",VLOOKUP(S210,条件类型查询!A:B,2,FALSE))","v":""},null,null,null,{"$f":"V209+1","v":4278},4358,"再遇馨儿","与馨儿、柳如烟重逢，组队清剿仙山异象引来的妖物。",{"$f":"COUNTIF(EventLinkConfig!O:O,EventConfig!A210)","v":12},{"$nulls":24},{"$f":"IF(AU210=\"\",\"\",CONCATENATE(VLOOKUP(AU210,[2]DropConfig!$A:$F,3,FALSE),\"×\",AV210))","v":""},{"$f":"IF(AW210=\"\",\"\",CONCATENATE(VLOOKUP(AW210,[2]DropConfig!$A:$F,3,FALSE),\"×\",AX210))","v":""}]
[9144,{"$f":"IF(Z211>0,_xlfn.TEXTJOIN(\";\",1,ROW(INDIRECT(CONCATENATE(\"\",A211*100+1,\":\",A211*100+Z211,\"\"))),102),\"\")","v":"914401;914402;914403;914404;102"},6,2,1,1,3,null,"22008","1",25,1,3,9,{"$f":"IF(M211=\"\",\"\",CONCATENATE(VLOOKUP(M211,[1]PlacesConfig!$A:$C,3,FALSE),IF(N211=\"\",\"\",\" - \"&VLOOKUP(N211,[1]SmallPlacesConfig!$A:$G,7,FALSE))))","v":"藐姑射山 - 山径"},{"$f":"VLOOKUP(N211,[1]SmallPlacesConfig!$A:$I,9,FALSE)","v":111},null,{"$f":"IF(S211=\"\",\"\",VLOOKUP(S211,条件类型查询!A:B,2,FALSE))","v":"前置事件"},10,30024,null,4279,4359,"清理山间的妖物","妖物清剿完毕，与馨儿、柳如烟暂别分头行动。",{"$f":"COUNTIF(EventLinkConfig!O:O,EventConfig!A211)","v":4},{"$nulls":20},22008,1,null,null,{"$f":"IF(AU211=\"\",\"\",CONCATENATE(VLOOKUP(AU211,[2]DropConfig!$A:$F,3,FALSE),\"×\",AV211))","v":"支线感悟点1×1"},{"$f":"IF(AW211=\"\",\"\",CONCATENATE(VLOOKUP(AW211,[2]DropConfig!$A:$F,3,FALSE),\"×\",AX211))","v":""}]
[9145,{"$f":"IF(Z212>0,_xlfn.TEXTJOIN(\";\",1,ROW(INDIRECT(CONCATENATE(\"\",A212*100+1,\":\",A212*100+Z212,\"\"))),102),\"\")","v":"914501;914502;914503;914504;914505;914506;914507;914508;914509;914510;914511;914512;914513;102"},6,2,1,1,3,null,"","",20,1,3,10,{"$f":"IF(M212=\"\",\"\",CONCATENATE(VLOOKUP(M212,[1]PlacesConfig!$A:$C,3,FALSE),IF(N212=\"\",\"\",\" - \"&VLOOKUP(N212,[1]SmallPlacesConfig!$A:$G,7,FALSE))))","v":"藐姑射山 - 山顶"},{"$f":"VLOOKUP(N212,[1]SmallPlacesConfig!$A:$I,9,FALSE)","v":131},null,{"$f":"IF(S212=\"\",\"\",VLOOKUP(S212,条件类型查询!A:B,2,FALSE))","v":"前置事件"},10,{"$f":"A211","v":9144},null,4280,4360,"仙山异样的秘密","击败守护圣地的云霄龙鹰，龙族再现预言随灵气震荡天地。",{"$f":"COUNTIF(EventLinkConfig!O:O,EventConfig!A212)","v":13},{"$nulls":24},{"$f":"IF(AU212=\"\",\"\",CONCATENATE(VLOOKUP(AU212,[2]DropConfig!$A:$F,3,FALSE),\"×\",AV212))","v":""},{"$f":"IF(AW212=\"\",\"\",CONCATENATE(VLOOKUP(AW212,[2]DropConfig!$A:$F,3,FALSE),\"×\",AX212))","v":""}]
[9146,{"$f":"IF(Z213>0,_xlfn.TEXTJOIN(\";\",1,ROW(INDIRECT(CONCATENATE(\"\",A213*100+1,\":\",A213*100+Z213,\"\"))),102),\"\")","v":"914601;914602;914603;914604;914605;914606;914607;914608;914609;914610;914611;102"},6,2,1,1,3,null,"22008","1",15,1,3,10,{"$f":"IF(M213=\"\",\"\",CONCATENATE(VLOOKUP(M213,[1]PlacesConfig!$A:$C,3,FALSE),IF(N213=\"\",\"\",\" - \"&VLOOKUP(N213,[1]SmallPlacesConfig!$A:$G,7,FALSE))))","v":"藐姑射山 - 山顶"},{"$f":"VLOOKUP(N213,[1]SmallPlacesConfig!$A:$I,9,FALSE)","v":131},null,{"$f":"IF(S213=\"\",\"\",VLOOKUP(S213,条件类型查询!A:B,2,FALSE))","v":"前置事件"},10,{"$f":"A212","v":9145},null,4281,4361,"圣地门前","龙鳞不足难启石门，双姝回宗禀报，玩家留待后续。",{"$f":"COUNTIF(EventLinkConfig!O:O,EventConfig!A213)","v":11},{"$nulls":20},22008,1,null,null,{"$f":"IF(AU213=\"\",\"\",CONCATENATE(VLOOKUP(AU213,[2]DropConfig!$A:$F,3,FALSE),\"×\",AV213))","v":"支线感悟点1×1"},{"$f":"IF(AW213=\"\",\"\",CONCATENATE(VLOOKUP(AW213,[2]DropConfig!$A:$F,3,FALSE),\"×\",AX213))","v":""}]
[{"$nulls":14},{"$f":"IF(M214=\"\",\"\",CONCATENATE(VLOOKUP(M214,[1]PlacesConfig!$A:$C,3,FALSE),IF(N214=\"\",\"\",\" - \"&VLOOKUP(N214,[1]SmallPlacesConfig!$A:$G,7,FALSE))))","v":""}]
[{"$f":"A213+1","v":9147},{"$f":"IF(Z215>0,_xlfn.TEXTJOIN(\";\",1,ROW(INDIRECT(CONCATENATE(\"\",A215*100+1,\":\",A215*100+Z215,\"\"))),102),\"\")","v":"914701;914702;914703;914704;102"},6,3,1,0,3,null,"","",30,1,1,1,{"$f":"IF(M215=\"\",\"\",CONCATENATE(VLOOKUP(M215,[1]PlacesConfig!$A:$C,3,FALSE),IF(N215=\"\",\"\",\" - \"&VLOOKUP(N215,[1]SmallPlacesConfig!$A:$G,7,FALSE))))","v":"北海 - 海边"},{"$f":"VLOOKUP(N215,[1]SmallPlacesConfig!$A:$I,9,FALSE)","v":1},null,{"$f":"IF(S215=\"\",\"\",VLOOKUP(S215,条件类型查询!A:B,2,FALSE))","v":"前置事件"},10,9111,null,{"$f":"V213+1","v":4282},4362,"发光的鱼","鲤鱼卖惨求丹",{"$f":"COUNTIF(EventLinkConfig!O:O,EventConfig!A215)","v":4},{"$nulls":24},{"$f":"IF(AU215=\"\",\"\",CONCATENATE(VLOOKUP(AU215,[2]DropConfig!$A:$F,3,FALSE),\"×\",AV215))","v":""},{"$f":"IF(AW215=\"\",\"\",CONCATENATE(VLOOKUP(AW215,[2]DropConfig!$A:$F,3,FALSE),\"×\",AX215))","v":""}]
[9148,{"$f":"IF(Z216>0,_xlfn.TEXTJOIN(\";\",1,ROW(INDIRECT(CONCATENATE(\"\",A216*100+1,\":\",A216*100+Z216,\"\"))),102),\"\")","v":"914801;914802;914803;914804;102"},6,3,1,0,3,null,"","",20,1,1,1,{"$f":"IF(M216=\"\",\"\",CONCATENATE(VLOOKUP(M216,[1]PlacesConfig!$A:$C,3,FALSE),IF(N216=\"\",\"\",\" - \"&VLOOKUP(N216,[1]SmallPlacesConfig!$A:$G,7,FALSE))))","v":"北海 - 海边"},{"$f":"VLOOKUP(N216,[1]SmallPlacesConfig!$A:$I,9,FALSE)","v":1},null,{"$f":"IF(S216=\"\",\"\",VLOOKUP(S216,条件类型查询!A:B,2,FALSE))","v":{"$error":"#N/A"}},"10;3","9147;20",null,4283,4363,"发光的鱼2","鲤鱼二次卖惨求丹",{"$f":"COUNTIF(EventLinkConfig!O:O,EventConfig!A216)","v":4},{"$nulls":24},{"$f":"IF(AU216=\"\",\"\",CONCATENATE(VLOOKUP(AU216,[2]DropConfig!$A:$F,3,FALSE),\"×\",AV216))","v":""},{"$f":"IF(AW216=\"\",\"\",CONCATENATE(VLOOKUP(AW216,[2]DropConfig!$A:$F,3,FALSE),\"×\",AX216))","v":""}]
[9149,{"$f":"IF(Z217>0,_xlfn.TEXTJOIN(\";\",1,ROW(INDIRECT(CONCATENATE(\"\",A217*100+1,\":\",A217*100+Z217,\"\"))),102),\"\")","v":"914901;914902;914903;914904;914905;102"},6,3,1,0,3,null,"","",15,1,1,1,{"$f":"IF(M217=\"\",\"\",CONCATENATE(VLOOKUP(M217,[1]PlacesConfig!$A:$C,3,FALSE),IF(N217=\"\",\"\",\" - \"&VLOOKUP(N217,[1]SmallPlacesConfig!$A:$G,7,FALSE))))","v":"北海 - 海边"},{"$f":"VLOOKUP(N217,[1]SmallPlacesConfig!$A:$I,9,FALSE)","v":1},null,{"$f":"IF(S217=\"\",\"\",VLOOKUP(S217,条件类型查询!A:B,2,FALSE))","v":{"$error":"#N/A"}},"10;3","9148;40",null,4284,4364,"发光的鱼3","鲤鱼假扮化龙继续骗丹",{"$f":"COUNTIF(EventLinkConfig!O:O,EventConfig!A217)","v":5},{"$nulls":24},{"$f":"IF(AU217=\"\",\"\",CONCATENATE(VLOOKUP(AU217,[2]DropConfig!$A:$F,3,FALSE),\"×\",AV217))","v":""},{"$f":"IF(AW217=\"\",\"\",CONCATENATE(VLOOKUP(AW217,[2]DropConfig!$A:$F,3,FALSE),\"×\",AX217))","v":""}]
[9150,{"$f":"IF(Z218>0,_xlfn.TEXTJOIN(\";\",1,ROW(INDIRECT(CONCATENATE(\"\",A218*100+1,\":\",A218*100+Z218,\"\"))),102),\"\")","v":"915001;915002;915003;915004;915005;102"},1,3,1,0,1,null,"1401","1",50,1,null,null,{"$f":"IF(M218=\"\",\"\",CONCATENATE(VLOOKUP(M218,[1]PlacesConfig!$A:$C,3,FALSE),IF(N218=\"\",\"\",\" - \"&VLOOKUP(N218,[1]SmallPlacesConfig!$A:$G,7,FALSE))))","v":""},20,null,{"$f":"IF(S218=\"\",\"\",VLOOKUP(S218,条件类型查询!A:B,2,FALSE))","v":""},null,null,null,4285,4365,"自称剑仙的石头","剑仙化石，是真？是假？",{"$f":"COUNTIF(EventLinkConfig!O:O,EventConfig!A218)","v":5},{"$nulls":20},1401,1,null,null,{"$f":"IF(AU218=\"\",\"\",CONCATENATE(VLOOKUP(AU218,[2]DropConfig!$A:$F,3,FALSE),\"×\",AV218))","v":"增元丹×1"},{"$f":"IF(AW218=\"\",\"\",CONCATENATE(VLOOKUP(AW218,[2]DropConfig!$A:$F,3,FALSE),\"×\",AX218))","v":""}]
[9151,{"$f":"IF(Z219>0,_xlfn.TEXTJOIN(\";\",1,ROW(INDIRECT(CONCATENATE(\"\",A219*100+1,\":\",A219*100+Z219,\"\"))),102),\"\")","v":"915101;915102;915103;915104;915105;915106;915107;915108;102"},1,3,1,0,1,null,"1401","1",50,1,null,null,{"$f":"IF(M219=\"\",\"\",CONCATENATE(VLOOKUP(M219,[1]PlacesConfig!$A:$C,3,FALSE),IF(N219=\"\",\"\",\" - \"&VLOOKUP(N219,[1]SmallPlacesConfig!$A:$G,7,FALSE))))","v":""},30,null,{"$f":"IF(S219=\"\",\"\",VLOOKUP(S219,条件类型查询!A:B,2,FALSE))","v":""},null,null,null,4286,4366,"石精的赌局","天下真有白吃的灵石午餐。",{"$f":"COUNTIF(EventLinkConfig!O:O,EventConfig!A219)","v":8},{"$nulls":20},1401,1,null,null,{"$f":"IF(AU219=\"\",\"\",CONCATENATE(VLOOKUP(AU219,[2]DropConfig!$A:$F,3,FALSE),\"×\",AV219))","v":"增元丹×1"},{"$f":"IF(AW219=\"\",\"\",CONCATENATE(VLOOKUP(AW219,[2]DropConfig!$A:$F,3,FALSE),\"×\",AX219))","v":""}]
[9152,{"$f":"IF(Z220>0,_xlfn.TEXTJOIN(\";\",1,ROW(INDIRECT(CONCATENATE(\"\",A220*100+1,\":\",A220*100+Z220,\"\"))),102),\"\")","v":"915201;915202;915203;915204;915205;915206;915207;915208;102"},1,3,1,0,2,null,"1402","1",50,1,null,null,{"$f":"IF(M220=\"\",\"\",CONCATENATE(VLOOKUP(M220,[1]PlacesConfig!$A:$C,3,FALSE),IF(N220=\"\",\"\",\" - \"&VLOOKUP(N220,[1]SmallPlacesConfig!$A:$G,7,FALSE))))","v":""},40,null,{"$f":"IF(S220=\"\",\"\",VLOOKUP(S220,条件类型查询!A:B,2,FALSE))","v":""},null,null,null,4287,4367,"石头精的不服","石头精不服输再挑战，猜拳博弈变尊严之战。",{"$f":"COUNTIF(EventLinkConfig!O:O,EventConfig!A220)","v":8},{"$nulls":20},1402,1,null,null,{"$f":"IF(AU220=\"\",\"\",CONCATENATE(VLOOKUP(AU220,[2]DropConfig!$A:$F,3,FALSE),\"×\",AV220))","v":"良品增元丹×1"},{"$f":"IF(AW220=\"\",\"\",CONCATENATE(VLOOKUP(AW220,[2]DropConfig!$A:$F,3,FALSE),\"×\",AX220))","v":""}]
[9153,{"$f":"IF(Z221>0,_xlfn.TEXTJOIN(\";\",1,ROW(INDIRECT(CONCATENATE(\"\",A221*100+1,\":\",A221*100+Z221,\"\"))),102),\"\")","v":"915301;915302;915303;915304;915305;915306;915307;915308;915309;915310;102"},1,3,1,0,2,null,"1402","1",50,1,null,null,{"$f":"IF(M221=\"\",\"\",CONCATENATE(VLOOKUP(M221,[1]PlacesConfig!$A:$C,3,FALSE),IF(N221=\"\",\"\",\" - \"&VLOOKUP(N221,[1]SmallPlacesConfig!$A:$G,7,FALSE))))","v":""},50,null,{"$f":"IF(S221=\"\",\"\",VLOOKUP(S221,条件类型查询!A:B,2,FALSE))","v":""},null,null,null,4288,4368,"石头精的作弊","石头精画假布设陷阱",{"$f":"COUNTIF(EventLinkConfig!O:O,EventConfig!A221)","v":10},{"$nulls":20},1402,1,null,null,{"$f":"IF(AU221=\"\",\"\",CONCATENATE(VLOOKUP(AU221,[2]DropConfig!$A:$F,3,FALSE),\"×\",AV221))","v":"良品增元丹×1"},{"$f":"IF(AW221=\"\",\"\",CONCATENATE(VLOOKUP(AW221,[2]DropConfig!$A:$F,3,FALSE),\"×\",AX221))","v":""}]
[9154,{"$f":"IF(Z222>0,_xlfn.TEXTJOIN(\";\",1,ROW(INDIRECT(CONCATENATE(\"\",A222*100+1,\":\",A222*100+Z222,\"\"))),102),\"\")","v":"915401;915402;915403;915404;915405;915406;915407;102"},1,3,1,0,3,null,"1403","1",50,1,null,null,{"$f":"IF(M222=\"\",\"\",CONCATENATE(VLOOKUP(M222,[1]PlacesConfig!$A:$C,3,FALSE),IF(N222=\"\",\"\",\" - \"&VLOOKUP(N222,[1]SmallPlacesConfig!$A:$G,7,FALSE))))","v":""},60,null,{"$f":"IF(S222=\"\",\"\",VLOOKUP(S222,条件类型查询!A:B,2,FALSE))","v":""},null,null,null,4289,4369,"石头精","石头精识破玩家善意，归还灵石领悟游戏真谛。",{"$f":"COUNTIF(EventLinkConfig!O:O,EventConfig!A222)","v":7},{"$nulls":20},1403,1,null,null,{"$f":"IF(AU222=\"\",\"\",CONCATENATE(VLOOKUP(AU222,[2]DropConfig!$A:$F,3,FALSE),\"×\",AV222))","v":"上品增元丹×1"},{"$f":"IF(AW222=\"\",\"\",CONCATENATE(VLOOKUP(AW222,[2]DropConfig!$A:$F,3,FALSE),\"×\",AX222))","v":""}]
[9155,{"$f":"IF(Z223>0,_xlfn.TEXTJOIN(\";\",1,ROW(INDIRECT(CONCATENATE(\"\",A223*100+1,\":\",A223*100+Z223,\"\"))),102),\"\")","v":"915501;915502;915503;915504;915505;102"},1,3,1,0,3,null,"1403","1",50,1,null,null,{"$f":"IF(M223=\"\",\"\",CONCATENATE(VLOOKUP(M223,[1]PlacesConfig!$A:$C,3,FALSE),IF(N223=\"\",\"\",\" - \"&VLOOKUP(N223,[1]SmallPlacesConfig!$A:$G,7,FALSE))))","v":""},70,null,{"$f":"IF(S223=\"\",\"\",VLOOKUP(S223,条件类型查询!A:B,2,FALSE))","v":""},null,null,null,4290,4370,"胆小的雷霆兽","一只浑身带电的小兽蜷缩在树洞",{"$f":"COUNTIF(EventLinkConfig!O:O,EventConfig!A223)","v":5},{"$nulls":20},1403,1,null,null,{"$f":"IF(AU223=\"\",\"\",CONCATENATE(VLOOKUP(AU223,[2]DropConfig!$A:$F,3,FALSE),\"×\",AV223))","v":"上品增元丹×1"},{"$f":"IF(AW223=\"\",\"\",CONCATENATE(VLOOKUP(AW223,[2]DropConfig!$A:$F,3,FALSE),\"×\",AX223))","v":""}]
[9156,{"$f":"IF(Z224>0,_xlfn.TEXTJOIN(\";\",1,ROW(INDIRECT(CONCATENATE(\"\",A224*100+1,\":\",A224*100+Z224,\"\"))),102),\"\")","v":"915601;915602;915603;915604;915605;915606;915607;102"},1,3,1,0,3,null,"1403","1",50,1,null,null,{"$f":"IF(M224=\"\",\"\",CONCATENATE(VLOOKUP(M224,[1]PlacesConfig!$A:$C,3,FALSE),IF(N224=\"\",\"\",\" - \"&VLOOKUP(N224,[1]SmallPlacesConfig!$A:$G,7,FALSE))))","v":""},80,null,{"$f":"IF(S224=\"\",\"\",VLOOKUP(S224,条件类型查询!A:B,2,FALSE))","v":""},null,null,null,4291,4371,"自称神兽的蚊子","一只肥大的蚊子在你神识中嗡嗡直叫",{"$f":"COUNTIF(EventLinkConfig!O:O,EventConfig!A224)","v":7},{"$nulls":20},1403,1,null,null,{"$f":"IF(AU224=\"\",\"\",CONCATENATE(VLOOKUP(AU224,[2]DropConfig!$A:$F,3,FALSE),\"×\",AV224))","v":"上品增元丹×1"},{"$f":"IF(AW224=\"\",\"\",CONCATENATE(VLOOKUP(AW224,[2]DropConfig!$A:$F,3,FALSE),\"×\",AX224))","v":""}]
[9157,{"$f":"IF(Z225>0,_xlfn.TEXTJOIN(\";\",1,ROW(INDIRECT(CONCATENATE(\"\",A225*100+1,\":\",A225*100+Z225,\"\"))),102),\"\")","v":"915701;915702;915703;915704;102"},1,3,1,0,4,null,"1404","1",50,1,null,null,{"$f":"IF(M225=\"\",\"\",CONCATENATE(VLOOKUP(M225,[1]PlacesConfig!$A:$C,3,FALSE),IF(N225=\"\",\"\",\" - \"&VLOOKUP(N225,[1]SmallPlacesConfig!$A:$G,7,FALSE))))","v":""},90,null,{"$f":"IF(S225=\"\",\"\",VLOOKUP(S225,条件类型查询!A:B,2,FALSE))","v":""},null,null,null,4292,4372,"折翅的灵雀","一只小灵雀坠落在林间",{"$f":"COUNTIF(EventLinkConfig!O:O,EventConfig!A225)","v":4},{"$nulls":20},1404,1,null,null,{"$f":"IF(AU225=\"\",\"\",CONCATENATE(VLOOKUP(AU225,[2]DropConfig!$A:$F,3,FALSE),\"×\",AV225))","v":"极品增元丹×1"},{"$f":"IF(AW225=\"\",\"\",CONCATENATE(VLOOKUP(AW225,[2]DropConfig!$A:$F,3,FALSE),\"×\",AX225))","v":""}]
[9158,{"$f":"IF(Z226>0,_xlfn.TEXTJOIN(\";\",1,ROW(INDIRECT(CONCATENATE(\"\",A226*100+1,\":\",A226*100+Z226,\"\"))),102),\"\")","v":"915801;915802;915803;915804;102"},1,3,1,0,4,null,"1404","1",50,1,null,null,{"$f":"IF(M226=\"\",\"\",CONCATENATE(VLOOKUP(M226,[1]PlacesConfig!$A:$C,3,FALSE),IF(N226=\"\",\"\",\" - \"&VLOOKUP(N226,[1]SmallPlacesConfig!$A:$G,7,FALSE))))","v":""},100,null,{"$f":"IF(S226=\"\",\"\",VLOOKUP(S226,条件类型查询!A:B,2,FALSE))","v":""},null,null,null,4293,4373,"守墓的老犬","一只瘦骨嶙峋的老犬趴在一座坟前",{"$f":"COUNTIF(EventLinkConfig!O:O,EventConfig!A226)","v":4},{"$nulls":20},1404,1,null,null,{"$f":"IF(AU226=\"\",\"\",CONCATENATE(VLOOKUP(AU226,[2]DropConfig!$A:$F,3,FALSE),\"×\",AV226))","v":"极品增元丹×1"},{"$f":"IF(AW226=\"\",\"\",CONCATENATE(VLOOKUP(AW226,[2]DropConfig!$A:$F,3,FALSE),\"×\",AX226))","v":""}]
[9159,{"$f":"IF(Z227>0,_xlfn.TEXTJOIN(\";\",1,ROW(INDIRECT(CONCATENATE(\"\",A227*100+1,\":\",A227*100+Z227,\"\"))),102),\"\")","v":"915901;915902;915903;915904;102"},1,3,1,0,4,null,"1404","1",50,1,null,null,{"$f":"IF(M227=\"\",\"\",CONCATENATE(VLOOKUP(M227,[1]PlacesConfig!$A:$C,3,FALSE),IF(N227=\"\",\"\",\" - \"&VLOOKUP(N227,[1]SmallPlacesConfig!$A:$G,7,FALSE))))","v":""},110,null,{"$f":"IF(S227=\"\",\"\",VLOOKUP(S227,条件类型查询!A:B,2,FALSE))","v":""},null,null,null,4294,4374,"被困的萤火虫","一群萤火虫被困在蛛网中",{"$f":"COUNTIF(EventLinkConfig!O:O,EventConfig!A227)","v":4},{"$nulls":20},1404,1,null,null,{"$f":"IF(AU227=\"\",\"\",CONCATENATE(VLOOKUP(AU227,[2]DropConfig!$A:$F,3,FALSE),\"×\",AV227))","v":"极品增元丹×1"},{"$f":"IF(AW227=\"\",\"\",CONCATENATE(VLOOKUP(AW227,[2]DropConfig!$A:$F,3,FALSE),\"×\",AX227))","v":""}]
[9160,{"$f":"IF(Z228>0,_xlfn.TEXTJOIN(\";\",1,ROW(INDIRECT(CONCATENATE(\"\",A228*100+1,\":\",A228*100+Z228,\"\"))),102),\"\")","v":"916001;916002;916003;916004;916005;102"},1,3,1,0,5,null,"1404","2",50,1,null,null,{"$f":"IF(M228=\"\",\"\",CONCATENATE(VLOOKUP(M228,[1]PlacesConfig!$A:$C,3,FALSE),IF(N228=\"\",\"\",\" - \"&VLOOKUP(N228,[1]SmallPlacesConfig!$A:$G,7,FALSE))))","v":""},120,null,{"$f":"IF(S228=\"\",\"\",VLOOKUP(S228,条件类型查询!A:B,2,FALSE))","v":""},null,null,null,4295,4375,"掉牙的小妖","一只小妖在地上嚎啕大哭",{"$f":"COUNTIF(EventLinkConfig!O:O,EventConfig!A228)","v":5},{"$nulls":20},1404,2,null,null,{"$f":"IF(AU228=\"\",\"\",CONCATENATE(VLOOKUP(AU228,[2]DropConfig!$A:$F,3,FALSE),\"×\",AV228))","v":"极品增元丹×2"},{"$f":"IF(AW228=\"\",\"\",CONCATENATE(VLOOKUP(AW228,[2]DropConfig!$A:$F,3,FALSE),\"×\",AX228))","v":""}]
[9161,{"$f":"IF(Z229>0,_xlfn.TEXTJOIN(\";\",1,ROW(INDIRECT(CONCATENATE(\"\",A229*100+1,\":\",A229*100+Z229,\"\"))),102),\"\")","v":"916101;916102;916103;916104;916105;102"},1,3,1,0,5,null,"1404","2",50,1,null,null,{"$f":"IF(M229=\"\",\"\",CONCATENATE(VLOOKUP(M229,[1]PlacesConfig!$A:$C,3,FALSE),IF(N229=\"\",\"\",\" - \"&VLOOKUP(N229,[1]SmallPlacesConfig!$A:$G,7,FALSE))))","v":""},130,null,{"$f":"IF(S229=\"\",\"\",VLOOKUP(S229,条件类型查询!A:B,2,FALSE))","v":""},null,null,null,4296,4376,"藏石的老乌龟","一只老龟趴在溪水边",{"$f":"COUNTIF(EventLinkConfig!O:O,EventConfig!A229)","v":5},{"$nulls":20},1404,2,null,null,{"$f":"IF(AU229=\"\",\"\",CONCATENATE(VLOOKUP(AU229,[2]DropConfig!$A:$F,3,FALSE),\"×\",AV229))","v":"极品增元丹×2"},{"$f":"IF(AW229=\"\",\"\",CONCATENATE(VLOOKUP(AW229,[2]DropConfig!$A:$F,3,FALSE),\"×\",AX229))","v":""}]
[9162,{"$f":"IF(Z230>0,_xlfn.TEXTJOIN(\";\",1,ROW(INDIRECT(CONCATENATE(\"\",A230*100+1,\":\",A230*100+Z230,\"\"))),102),\"\")","v":"916201;916202;916203;916204;916205;102"},1,3,1,0,5,null,"1404","2",50,1,null,null,{"$f":"IF(M230=\"\",\"\",CONCATENATE(VLOOKUP(M230,[1]PlacesConfig!$A:$C,3,FALSE),IF(N230=\"\",\"\",\" - \"&VLOOKUP(N230,[1]SmallPlacesConfig!$A:$G,7,FALSE))))","v":""},140,null,{"$f":"IF(S230=\"\",\"\",VLOOKUP(S230,条件类型查询!A:B,2,FALSE))","v":""},null,null,null,4297,4377,"奇怪的歌声","一块灵石长出嘴巴，正跑调唱歌？",{"$f":"COUNTIF(EventLinkConfig!O:O,EventConfig!A230)","v":5},{"$nulls":20},1404,2,null,null,{"$f":"IF(AU230=\"\",\"\",CONCATENATE(VLOOKUP(AU230,[2]DropConfig!$A:$F,3,FALSE),\"×\",AV230))","v":"极品增元丹×2"},{"$f":"IF(AW230=\"\",\"\",CONCATENATE(VLOOKUP(AW230,[2]DropConfig!$A:$F,3,FALSE),\"×\",AX230))","v":""}]

{"sheet":"EventLinkConfig","index":1,"n_rows":1440,"n_cols":39,"rows_kept":1440,"cut":false,"hidden":false,"merged":[]}
["ID","conciseEventMessage",null,"EventConditionMessage",null,null,"PreShow","PreShowPar",null,"NPCID",null,"LanID",null,"DialogueType","EventID",null,"ConditionId",null,null,null,"optionType","optionPara1","optionPara2",{"$nulls":9},"PrizeIDs","PrizeNums","ResultType","ResultOptions"]
["int","int",null,"int",null,null,"int","int",null,"int",null,"int[]",null,"int","int",null,"int[]",null,null,null,"int","int[]","int[]",{"$nulls":9},"int[]","int[]","int","int[]"]
[null,null,5001,{"$nulls":34},5000]
["ID","任务列表中的简洁描述","任务列表中的简洁描述","无任务目标时的补充文本","无任务目标时的补充文本",null,"前置表现\n1飞行","前置表现参数\n",null,"对话NPCID\n空白=不显示\n100=玩家","NPC","对话","对话1","对话框类型","属于哪个事件","步骤","条件判断类型","任务目标1","任务目标2","条件判断内容","步骤类型\n1=提供选项\n2=进入战斗\n5=自动退出\n3=获得奖励\n4=扣除道具","事件常量1\n1=步骤IDs\n2=战斗ID","事件常量2\n1=事件文本","选择1","选择1\n步骤：填选项文本1\n战斗：填战斗ID","选择1\n步骤1：跳转到哪一步\n不填默认跳转到下一步","选择2","选择2\n步骤：填选项文本2","选择1\n步骤2：跳转到哪一步\n不填默认跳转到下一步","选择2","选择3\n步骤：填选项文本3","选择1\n步骤3：跳转到哪一步\n不填默认跳转到下一步","事件结局奖励","事件结局奖励数量","事件结束类型\n1：跳转步骤\n2：根据战斗结果跳转\n3.触发新事件","结局后提供选项\n1.EventLinkId\n2.胜利id;失败id\n3.EventConfigId","1.步骤ID\n2.胜利ID\n3.事件ID\n不填：默认下一个步骤ID","语言表最大值","事件ID"]
[100,{"$f":"IF(C5=\"\",\"\",IF(C5=C4,B4,MAX(AL4,AL3)+1))","v":""},null,{"$f":"IF(E5=\"\",\"\",IF(E5=E4,D4,MAX(AL4,AL3,B5)+1))","v":""},{"$nulls":7},{"$f":"IF(M5=\"\",\"\",MAX(AL4,AL3,B5,D5)+1)","v":5001},"你被怪物击败，神识也随之消散了。",null,null,{"$f":"IF(O5=\"\",\"\",IF(O5=O4,P4+1,1))","v":""},{"$f":"_xlfn.TEXTJOIN(\";\",1,R5:S5)","v":""},null,null,{"$f":"IF(R5=\"\",\"\",\"-\"&VLOOKUP(R5,EventConditionConfig!A:C,3,FALSE)&IF(S5=\"\",\"\",CHAR(10)&\"-\"&VLOOKUP(S5,EventConditionConfig!A:C,3,FALSE)))","v":""},null,null,null,{"$f":"IF(OR(ISNUMBER(Y5),Y5=\"\"),\"\",MAX(AL4,AL3,B5,D5,L5)+1)","v":""},null,null,{"$f":"IF(OR(ISNUMBER(AB5),AB5=\"\"),\"\",X5+1)","v":""},null,null,{"$f":"IF(OR(ISNUMBER(AE5),AE5=\"\"),\"\",AA5+1)","v":""},{"$nulls":7},{"$f":"IF(A5=\"\",\"\",MAX(B5,D5,L5,X5,AA5,AL4,AL3,AD5))","v":5001},{"$f":"O5","v":0}]
[101,{"$f":"IF(C6=\"\",\"\",IF(C6=C5,B5,MAX(AL5,AL4)+1))","v":""},null,{"$f":"IF(E6=\"\",\"\",IF(E6=E5,D5,MAX(AL5,AL4,B6)+1))","v":""},{"$nulls":7},{"$f":"IF(M6=\"\",\"\",MAX(AL5,AL4,B6,D6)+1)","v":5002},"你败下阵来，感到头晕目眩，试图努力回忆起刚才发生的事情。",null,null,{"$f":"IF(O6=\"\",\"\",IF(O6=O5,P5+1,1))","v":""},{"$f":"_xlfn.TEXTJOIN(\";\",1,R6:S6)","v":""},null,null,{"$f":"IF(R6=\"\",\"\",\"-\"&VLOOKUP(R6,EventConditionConfig!A:C,3,FALSE)&IF(S6=\"\",\"\",CHAR(10)&\"-\"&VLOOKUP(S6,EventConditionConfig!A:C,3,FALSE)))","v":""},null,null,null,{"$f":"IF(OR(ISNUMBER(Y6),Y6=\"\"),\"\",MAX(AL5,AL4,B6,D6,L6)+1)","v":""},null,null,{"$f":"IF(OR(ISNUMBER(AB6),AB6=\"\"),\"\",X6+1)","v":""},null,null,{"$f":"IF(OR(ISNUMBER(AE6),AE6=\"\"),\"\",AA6+1)","v":""},{"$nulls":7},{"$f":"IF(A6=\"\",\"\",MAX(B6,D6,L6,X6,AA6,AL5,AL4,AD6))","v":5002},{"$f":"O6","v":0}]
[102,"",null,"",{"$nulls":7},5003,"战斗胜利，你获得了丰厚的战利品。",null,null,"",{"$nulls":7},"",null,null,"",null,null,"",{"$nulls":7},5003,0]
[999901,{"$f":"IF(C8=\"\",\"\",IF(C8=C7,B7,MAX(AL7,AL6)+1))","v":""},null,{"$f":"IF(E8=\"\",\"\",IF(E8=E7,D7,MAX(AL7,AL6,B8)+1))","v":""},{"$nulls":7},{"$f":"IF(M8=\"\",\"\",MAX(AL7,AL6,B8,D8)+1)","v":5004},"失败了怎么多次，这次一定要突破心魔。",2,9999,{"$f":"IF(O8=\"\",\"\",IF(O8=O7,P7+1,1))","v":1},{"$nulls":7},{"$f":"IF(OR(ISNUMBER(Y8),Y8=\"\"),\"\",MAX(AL7,AL6,B8,D8,L8)+1)","v":""},null,null,{"$f":"IF(OR(ISNUMBER(AB8),AB8=\"\"),\"\",X8+1)","v":""},null,null,{"$f":"IF(OR(ISNUMBER(AE8),AE8=\"\"),\"\",AA8+1)","v":""},{"$nulls":7},5004,9999]
[{"$f":"O9*100+P9","v":10101},5005,"击败妖邪","",{"$nulls":6},{"$f":"IF(J9=\"\",\"\",VLOOKUP(J9,EventNPC!A:F,5,FALSE))","v":""},5006,"你发现一只落单的妖邪，应战！",null,101,1,{"$f":"_xlfn.TEXTJOIN(\";\",1,R9:S9)","v":""},null,null,{"$f":"IF(R9=\"\",\"\",\"-\"&VLOOKUP(R9,EventConditionConfig!A:C,3,FALSE)&IF(S9=\"\",\"\",CHAR(10)&\"-\"&VLOOKUP(S9,EventConditionConfig!A:C,3,FALSE)))","v":""},{"$f":"IF(Y9=\"\",\"\",IF(ISTEXT(Y9),1,2))","v":2},{"$f":"IF(U9=1,_xlfn.TEXTJOIN(\";\",1,IF(Z9=\"\",A9+1,Z9),IF(AND(AA9<>\"\",AC9=\"\"),A9+1,AC9),IF(AND(AD9<>\"\",AF9=\"\"),A9+1,AF9)),IF(U9=2,Y9,\"\"))","v":5001},{"$f":"_xlfn.TEXTJOIN(\";\",1,X9,AA9,AD9)","v":""},{"$f":"IF(OR(ISNUMBER(Y9),Y9=\"\"),\"\",MAX(AL8,AL6,B9,D9,L9)+1)","v":""},5001,null,"",null,null,"",{"$nulls":4},{"$f":"IF(A9=\"\",\"\",IF(ISNUMBER(Y9),2,IF(A10=\"\",IF(OR(AK9>0,VLOOKUP(O9,EventConfig!A:C,3,FALSE)=4),3,\"\"),1)))","v":2},{"$f":"IF(AI9=\"\",\"\",CHOOSE(AI9,IF(AK9=\"\",A9+1,AK9),CONCATENATE(IF(AK9=\"\",A9+1,AK9),\";101\"),IF(AK9=\"\",O9+1,AK9)))","v":"102;101"},102,5006,101]
[null,{"$f":"IF(C10=\"\",\"\",IF(C10=C9,B9,MAX(AL9,AL8)+1))","v":""},null,"",{"$nulls":7},{"$f":"IF(M10=\"\",\"\",MAX(AL9,AL8,B10,D10)+1)","v":""},null,null,null,{"$f":"IF(O10=\"\",\"\",IF(O10=O9,P9+1,1))","v":""},{"$nulls":18},{"$f":"IF(A10=\"\",\"\",IF(ISNUMBER(Y10),2,IF(A11=\"\",IF(OR(AK10>0,VLOOKUP(O10,EventConfig!A:C,3,FALSE)=4),3,\"\"),1)))","v":""},null,null,"",0]
[{"$f":"O11*100+P11","v":10201},5007,"击败妖邪",{"$f":"IF(E11=\"\",\"\",IF(E11=E10,D10,MAX(AL10,AL9,B11)+1))","v":""},{"$nulls":6},{"$f":"IF(J11=\"\",\"\",VLOOKUP(J11,EventNPC!A:F,5,FALSE))","v":""},5008,"你发现一只落单的妖邪，应战！",null,102,1,{"$f":"_xlfn.TEXTJOIN(\";\",1,R11:S11)","v":""},null,null,{"$f":"IF(R11=\"\",\"\",\"-\"&VLOOKUP(R11,EventConditionConfig!A:C,3,FALSE)&IF(S11=\"\",\"\",CHAR(10)&\"-\"&VLOOKUP(S11,EventConditionConfig!A:C,3,FALSE)))","v":""},{"$f":"IF(Y11=\"\",\"\",IF(ISTEXT(Y11),1,2))","v":2},{"$f":"IF(U11=1,_xlfn.TEXTJOIN(\";\",1,IF(Z11=\"\",A11+1,Z11),IF(AND(AA11<>\"\",AC11=\"\"),A11+1,AC11),IF(AND(AD11<>\"\",AF11=\"\"),A11+1,AF11)),IF(U11=2,Y11,\"\"))","v":5006},{"$f":"_xlfn.TEXTJOIN(\";\",1,X11,AA11,AD11)","v":""},{"$f":"IF(OR(ISNUMBER(Y11),Y11=\"\"),\"\",MAX(AL10,AL8,B11,D11,L11)+1)","v":""},5006,null,{"$f":"IF(OR(ISNUMBER(AB11),AB11=\"\"),\"\",X11+1)","v":""},null,null,{"$f":"IF(OR(ISNUMBER(AE11),AE11=\"\"),\"\",AA11+1)","v":""},{"$nulls":4},{"$f":"IF(A11=\"\",\"\",IF(ISNUMBER(Y11),2,IF(A12=\"\",IF(OR(AK11>0,VLOOKUP(O11,EventConfig!A:C,3,FALSE)=4),3,\"\"),1)))","v":2},{"$f":"IF(AI11=\"\",\"\",CHOOSE(AI11,IF(AK11=\"\",A11+1,AK11),CONCATENATE(IF(AK11=\"\",A11+1,AK11),\";101\"),IF(AK11=\"\",O11+1,AK11)))","v":"10202;101"},null,5008,102]
[null,"",null,"",{"$nulls":7},"",null,null,null,"",{"$nulls":18},{"$f":"IF(A12=\"\",\"\",IF(ISNUMBER(Y12),2,IF(A13=\"\",IF(OR(AK12>0,VLOOKUP(O12,EventConfig!A:C,3,FALSE)=4),3,\"\"),1)))","v":""},null,null,"",0]
[{"$f":"O13*100+P13","v":10301},5009,"使用神识探得资源","",{"$nulls":6},{"$f":"IF(J13=\"\",\"\",VLOOKUP(J13,EventNPC!A:F,5,FALSE))","v":""},5010,"此处仙气缭绕，你用神识一探果然探得丰富资源！",null,103,1,{"$f":"_xlfn.TEXTJOIN(\";\",1,R13:S13)","v":""},null,null,{"$f":"IF(R13=\"\",\"\",\"-\"&VLOOKUP(R13,EventConditionConfig!A:C,3,FALSE)&IF(S13=\"\",\"\",CHAR(10)&\"-\"&VLOOKUP(S13,EventConditionConfig!A:C,3,FALSE)))","v":""},{"$f":"IF(Y13=\"\",\"\",IF(ISTEXT(Y13),1,2))","v":""},{"$f":"IF(U13=1,_xlfn.TEXTJOIN(\";\",1,IF(Z13=\"\",A13+1,Z13),IF(AND(AA13<>\"\",AC13=\"\"),A13+1,AC13),IF(AND(AD13<>\"\",AF13=\"\"),A13+1,AF13)),IF(U13=2,Y13,\"\"))","v":""},{"$f":"_xlfn.TEXTJOIN(\";\",1,X13,AA13,AD13)","v":""},{"$f":"IF(OR(ISNUMBER(Y13),Y13=\"\"),\"\",MAX(AL12,AL10,B13,D13,L13)+1)","v":""},null,null,{"$f":"IF(OR(ISNUMBER(AB13),AB13=\"\"),\"\",X13+1)","v":""},null,null,{"$f":"IF(OR(ISNUMBER(AE13),AE13=\"\"),\"\",AA13+1)","v":""},{"$nulls":4},{"$f":"IF(A13=\"\",\"\",IF(ISNUMBER(Y13),2,IF(A14=\"\",IF(OR(AK13>0,VLOOKUP(O13,EventConfig!A:C,3,FALSE)=4),3,\"\"),1)))","v":""},{"$f":"IF(AI13=\"\",\"\",CHOOSE(AI13,IF(AK13=\"\",A13+1,AK13),CONCATENATE(IF(AK13=\"\",A13+1,AK13),\";101\"),IF(AK13=\"\",O13+1,AK13)))","v":""},null,5010,103]
[null,"",null,"",{"$nulls":7},"",null,null,null,"",{"$nulls":18},{"$f":"IF(A14=\"\",\"\",IF(ISNUMBER(Y14),2,IF(A15=\"\",IF(OR(AK14>0,VLOOKUP(O14,EventConfig!A:C,3,FALSE)=4),3,\"\"),1)))","v":""},null,null,"",0]
[{"$f":"O15*100+P15","v":10401},5011,"使用神识探得资源","",{"$nulls":6},{"$f":"IF(J15=\"\",\"\",VLOOKUP(J15,EventNPC!A:F,5,FALSE))","v":""},5012,"此处仙气缭绕，你用神识一探果然探得丰富资源！",null,104,1,{"$f":"_xlfn.TEXTJOIN(\";\",1,R15:S15)","v":""},null,null,{"$f":"IF(R15=\"\",\"\",\"-\"&VLOOKUP(R15,EventConditionConfig!A:C,3,FALSE)&IF(S15=\"\",\"\",CHAR(10)&\"-\"&VLOOKUP(S15,EventConditionConfig!A:C,3,FALSE)))","v":""},{"$f":"IF(Y15=\"\",\"\",IF(ISTEXT(Y15),1,2))","v":""},{"$f":"IF(U15=1,_xlfn.TEXTJOIN(\";\",1,IF(Z15=\"\",A15+1,Z15),IF(AND(AA15<>\"\",AC15=\"\"),A15+1,AC15),IF(AND(AD15<>\"\",AF15=\"\"),A15+1,AF15)),IF(U15=2,Y15,\"\"))","v":""},{"$f":"_xlfn.TEXTJOIN(\";\",1,X15,AA15,AD15)","v":""},{"$f":"IF(OR(ISNUMBER(Y15),Y15=\"\"),\"\",MAX(AL14,AL12,B15,D15,L15)+1)","v":""},null,null,{"$f":"IF(OR(ISNUMBER(AB15),AB15=\"\"),\"\",X15+1)","v":""},null,null,{"$f":"IF(OR(ISNUMBER(AE15),AE15=\"\"),\"\",AA15+1)","v":""},{"$nulls":4},{"$f":"IF(A15=\"\",\"\",IF(ISNUMBER(Y15),2,IF(A16=\"\",IF(OR(AK15>0,VLOOKUP(O15,EventConfig!A:C,3,FALSE)=4),3,\"\"),1)))","v":""},{"$f":"IF(AI15=\"\",\"\",CHOOSE(AI15,IF(AK15=\"\",A15+1,AK15),CONCATENATE(IF(AK15=\"\",A15+1,AK15),\";101\"),IF(AK15=\"\",O15+1,AK15)))","v":""},null,5012,104]
[null,"",null,"",{"$nulls":7},"",null,null,null,"",{"$nulls":18},{"$f":"IF(A16=\"\",\"\",IF(ISNUMBER(Y16),2,IF(A17=\"\",IF(OR(AK16>0,VLOOKUP(O16,EventConfig!A:C,3,FALSE)=4),3,\"\"),1)))","v":""},null,null,"",0]
[{"$f":"O17*100+P17","v":10501},5013,"使用神识探得资源","",{"$nulls":6},{"$f":"IF(J17=\"\",\"\",VLOOKUP(J17,EventNPC!A:F,5,FALSE))","v":""},5014,"此处仙气缭绕，你用神识一探果然探得丰富资源！",null,105,1,{"$f":"_xlfn.TEXTJOIN(\";\",1,R17:S17)","v":""},null,null,{"$f":"IF(R17=\"\",\"\",\"-\"&VLOOKUP(R17,EventConditionConfig!A:C,3,FALSE)&IF(S17=\"\",\"\",CHAR(10)&\"-\"&VLOOKUP(S17,EventConditionConfig!A:C,3,FALSE)))","v":""},{"$f":"IF(Y17=\"\",\"\",IF(ISTEXT(Y17),1,2))","v":""},{"$f":"IF(U17=1,_xlfn.TEXTJOIN(\";\",1,IF(Z17=\"\",A17+1,Z17),IF(AND(AA17<>\"\",AC17=\"\"),A17+1,AC17),IF(AND(AD17<>\"\",AF17=\"\"),A17+1,AF17)),IF(U17=2,Y17,\"\"))","v":""},{"$f":"_xlfn.TEXTJOIN(\";\",1,X17,AA17,AD17)","v":""},{"$f":"IF(OR(ISNUMBER(Y17),Y17=\"\"),\"\",MAX(AL16,AL14,B17,D17,L17)+1)","v":""},null,null,{"$f":"IF(OR(ISNUMBER(AB17),AB17=\"\"),\"\",X17+1)","v":""},null,null,{"$f":"IF(OR(ISNUMBER(AE17),AE17=\"\"),\"\",AA17+1)","v":""},{"$nulls":4},{"$f":"IF(A17=\"\",\"\",IF(ISNUMBER(Y17),2,IF(A18=\"\",IF(OR(AK17>0,VLOOKUP(O17,EventConfig!A:C,3,FALSE)=4),3,\"\"),1)))","v":""},{"$f":"IF(AI17=\"\",\"\",CHOOSE(AI17,IF(AK17=\"\",A17+1,AK17),CONCATENATE(IF(AK17=\"\",A17+1,AK17),\";101\"),IF(AK17=\"\",O17+1,AK17)))","v":""},null,5014,105]
[null,"",null,"",{"$nulls":7},"",null,null,null,"",{"$nulls":18},{"$f":"IF(A18=\"\",\"\",IF(ISNUMBER(Y18),2,IF(A19=\"\",IF(OR(AK18>0,VLOOKUP(O18,EventConfig!A:C,3,FALSE)=4),3,\"\"),1)))","v":""},null,null,"",0]
[{"$f":"O19*100+P19","v":10601},5015,"使用神识探得资源","",{"$nulls":6},{"$f":"IF(J19=\"\",\"\",VLOOKUP(J19,EventNPC!A:F,5,FALSE))","v":""},5016,"此处仙气缭绕，你用神识一探果然探得丰富资源！",null,106,1,{"$f":"_xlfn.TEXTJOIN(\";\",1,R19:S19)","v":""},null,null,{"$f":"IF(R19=\"\",\"\",\"-\"&VLOOKUP(R19,EventConditionConfig!A:C,3,FALSE)&IF(S19=\"\",\"\",CHAR(10)&\"-\"&VLOOKUP(S19,EventConditionConfig!A:C,3,FALSE)))","v":""},{"$f":"IF(Y19=\"\",\"\",IF(ISTEXT(Y19),1,2))","v":""},{"$f":"IF(U19=1,_xlfn.TEXTJOIN(\";\",1,IF(Z19=\"\",A19+1,Z19),IF(AND(AA19<>\"\",AC19=\"\"),A19+1,AC19),IF(AND(AD19<>\"\",AF19=\"\"),A19+1,AF19)),IF(U19=2,Y19,\"\"))","v":""},{"$f":"_xlfn.TEXTJOIN(\";\",1,X19,AA19,AD19)","v":""},{"$f":"IF(OR(ISNUMBER(Y19),Y19=\"\"),\"\",MAX(AL18,AL16,B19,D19,L19)+1)","v":""},null,null,{"$f":"IF(OR(ISNUMBER(AB19),AB19=\"\"),\"\",X19+1)","v":""},null,null,{"$f":"IF(OR(ISNUMBER(AE19),AE19=\"\"),\"\",AA19+1)","v":""},{"$nulls":4},{"$f":"IF(A19=\"\",\"\",IF(ISNUMBER(Y19),2,IF(A20=\"\",IF(OR(AK19>0,VLOOKUP(O19,EventConfig!A:C,3,FALSE)=4),3,\"\"),1)))","v":""},{"$f":"IF(AI19=\"\",\"\",CHOOSE(AI19,IF(AK19=\"\",A19+1,AK19),CONCATENATE(IF(AK19=\"\",A19+1,AK19),\";101\"),IF(AK19=\"\",O19+1,AK19)))","v":""},null,5016,106]
[null,"",null,"",{"$nulls":7},"",null,null,null,"",{"$nulls":18},{"$f":"IF(A20=\"\",\"\",IF(ISNUMBER(Y20),2,IF(A21=\"\",IF(OR(AK20>0,VLOOKUP(O20,EventConfig!A:C,3,FALSE)=4),3,\"\"),1)))","v":""},null,null,"",0]
[{"$f":"O21*100+P21","v":10701},5017,"使用神识探得资源","",{"$nulls":6},{"$f":"IF(J21=\"\",\"\",VLOOKUP(J21,EventNPC!A:F,5,FALSE))","v":""},5018,"此处仙气缭绕，你用神识一探果然探得丰富资源！",null,107,1,{"$f":"_xlfn.TEXTJOIN(\";\",1,R21:S21)","v":""},null,null,{"$f":"IF(R21=\"\",\"\",\"-\"&VLOOKUP(R21,EventConditionConfig!A:C,3,FALSE)&IF(S21=\"\",\"\",CHAR(10)&\"-\"&VLOOKUP(S21,EventConditionConfig!A:C,3,FALSE)))","v":""},{"$f":"IF(Y21=\"\",\"\",IF(ISTEXT(Y21),1,2))","v":""},{"$f":"IF(U21=1,_xlfn.TEXTJOIN(\";\",1,IF(Z21=\"\",A21+1,Z21),IF(AND(AA21<>\"\",AC21=\"\"),A21+1,AC21),IF(AND(AD21<>\"\",AF21=\"\"),A21+1,AF21)),IF(U21=2,Y21,\"\"))","v":""},{"$f":"_xlfn.TEXTJOIN(\";\",1,X21,AA21,AD21)","v":""},{"$f":"IF(OR(ISNUMBER(Y21),Y21=\"\"),\"\",MAX(AL20,AL18,B21,D21,L21)+1)","v":""},null,null,{"$f":"IF(OR(ISNUMBER(AB21),AB21=\"\"),\"\",X21+1)","v":""},null,null,{"$f":"IF(OR(ISNUMBER(AE21),AE21=\"\"),\"\",AA21+1)","v":""},{"$nulls":4},{"$f":"IF(A21=\"\",\"\",IF(ISNUMBER(Y21),2,IF(A22=\"\",IF(OR(AK21>0,VLOOKUP(O21,EventConfig!A:C,3,FALSE)=4),3,\"\"),1)))","v":""},{"$f":"IF(AI21=\"\",\"\",CHOOSE(AI21,IF(AK21=\"\",A21+1,AK21),CONCATENATE(IF(AK21=\"\",A21+1,AK21),\";101\"),IF(AK21=\"\",O21+1,AK21)))","v":""},null,5018,107]
[null,"",null,"",{"$nulls":7},"",null,null,null,"",{"$nulls":18},{"$f":"IF(A22=\"\",\"\",IF(ISNUMBER(Y22),2,IF(A23=\"\",IF(OR(AK22>0,VLOOKUP(O22,EventConfig!A:C,3,FALSE)=4),3,\"\"),1)))","v":""},null,null,"",0]
[{"$f":"O23*100+P23","v":10801},5019,"使用神识探得资源","",{"$nulls":6},{"$f":"IF(J23=\"\",\"\",VLOOKUP(J23,EventNPC!A:F,5,FALSE))","v":""},5020,"此处仙气缭绕，你用神识一探果然探得丰富资源！",null,108,1,{"$f":"_xlfn.TEXTJOIN(\";\",1,R23:S23)","v":""},null,null,{"$f":"IF(R23=\"\",\"\",\"-\"&VLOOKUP(R23,EventConditionConfig!A:C,3,FALSE)&IF(S23=\"\",\"\",CHAR(10)&\"-\"&VLOOKUP(S23,EventConditionConfig!A:C,3,FALSE)))","v":""},{"$f":"IF(Y23=\"\",\"\",IF(ISTEXT(Y23),1,2))","v":""},{"$f":"IF(U23=1,_xlfn.TEXTJOIN(\";\",1,IF(Z23=\"\",A23+1,Z23),IF(AND(AA23<>\"\",AC23=\"\"),A23+1,AC23),IF(AND(AD23<>\"\",AF23=\"\"),A23+1,AF23)),IF(U23=2,Y23,\"\"))","v":""},{"$f":"_xlfn.TEXTJOIN(\";\",1,X23,AA23,AD23)","v":""},{"$f":"IF(OR(ISNUMBER(Y23),Y23=\"\"),\"\",MAX(AL22,AL20,B23,D23,L23)+1)","v":""},null,null,{"$f":"IF(OR(ISNUMBER(AB23),AB23=\"\"),\"\",X23+1)","v":""},null,null,{"$f":"IF(OR(ISNUMBER(AE23),AE23=\"\"),\"\",AA23+1)","v":""},{"$nulls":4},{"$f":"IF(A23=\"\",\"\",IF(ISNUMBER(Y23),2,IF(A24=\"\",IF(OR(AK23>0,VLOOKUP(O23,EventConfig!A:C,3,FALSE)=4),3,\"\"),1)))","v":""},{"$f":"IF(AI23=\"\",\"\",CHOOSE(AI23,IF(AK23=\"\",A23+1,AK23),CONCATENATE(IF(AK23=\"\",A23+1,AK23),\";101\"),IF(AK23=\"\",O23+1,AK23)))","v":""},null,5020,108]
[null,"",null,"",{"$nulls":7},"",null,null,null,"",{"$nulls":18},{"$f":"IF(A24=\"\",\"\",IF(ISNUMBER(Y24),2,IF(A25=\"\",IF(OR(AK24>0,VLOOKUP(O24,EventConfig!A:C,3,FALSE)=4),3,\"\"),1)))","v":""},null,null,"",0]
[{"$f":"O25*100+P25","v":10901},5021,"使用神识探得资源","",{"$nulls":6},{"$f":"IF(J25=\"\",\"\",VLOOKUP(J25,EventNPC!A:F,5,FALSE))","v":""},5022,"此处仙气缭绕，你用神识一探果然探得丰富资源！",null,109,1,{"$f":"_xlfn.TEXTJOIN(\";\",1,R25:S25)","v":""},null,null,{"$f":"IF(R25=\"\",\"\",\"-\"&VLOOKUP(R25,EventConditionConfig!A:C,3,FALSE)&IF(S25=\"\",\"\",CHAR(10)&\"-\"&VLOOKUP(S25,EventConditionConfig!A:C,3,FALSE)))","v":""},{"$f":"IF(Y25=\"\",\"\",IF(ISTEXT(Y25),1,2))","v":""},{"$f":"IF(U25=1,_xlfn.TEXTJOIN(\";\",1,IF(Z25=\"\",A25+1,Z25),IF(AND(AA25<>\"\",AC25=\"\"),A25+1,AC25),IF(AND(AD25<>\"\",AF25=\"\"),A25+1,AF25)),IF(U25=2,Y25,\"\"))","v":""},{"$f":"_xlfn.TEXTJOIN(\";\",1,X25,AA25,AD25)","v":""},{"$f":"IF(OR(ISNUMBER(Y25),Y25=\"\"),\"\",MAX(AL24,AL22,B25,D25,L25)+1)","v":""},null,null,{"$f":"IF(OR(ISNUMBER(AB25),AB25=\"\"),\"\",X25+1)","v":""},null,null,{"$f":"IF(OR(ISNUMBER(AE25),AE25=\"\"),\"\",AA25+1)","v":""},{"$nulls":4},{"$f":"IF(A25=\"\",\"\",IF(ISNUMBER(Y25),2,IF(A26=\"\",IF(OR(AK25>0,VLOOKUP(O25,EventConfig!A:C,3,FALSE)=4),3,\"\"),1)))","v":""},{"$f":"IF(AI25=\"\",\"\",CHOOSE(AI25,IF(AK25=\"\",A25+1,AK25),CONCATENATE(IF(AK25=\"\",A25+1,AK25),\";101\"),IF(AK25=\"\",O25+1,AK25)))","v":""},null,5022,109]
[null,"",null,"",{"$nulls":7},"",null,null,null,"",{"$nulls":18},{"$f":"IF(A26=\"\",\"\",IF(ISNUMBER(Y26),2,IF(A27=\"\",IF(OR(AK26>0,VLOOKUP(O26,EventConfig!A:C,3,FALSE)=4),3,\"\"),1)))","v":""},null,null,"",0]
[{"$f":"O27*100+P27","v":11001},5023,"击败妖邪","",{"$nulls":6},{"$f":"IF(J27=\"\",\"\",VLOOKUP(J27,EventNPC!A:F,5,FALSE))","v":""},5024,"你发现一只落单的妖邪，应战！",null,110,1,{"$f":"_xlfn.TEXTJOIN(\";\",1,R27:S27)","v":""},null,null,{"$f":"IF(R27=\"\",\"\",\"-\"&VLOOKUP(R27,EventConditionConfig!A:C,3,FALSE)&IF(S27=\"\",\"\",CHAR(10)&\"-\"&VLOOKUP(S27,EventConditionConfig!A:C,3,FALSE)))","v":""},{"$f":"IF(Y27=\"\",\"\",IF(ISTEXT(Y27),1,2))","v":2},{"$f":"IF(U27=1,_xlfn.TEXTJOIN(\";\",1,IF(Z27=\"\",A27+1,Z27),IF(AND(AA27<>\"\",AC27=\"\"),A27+1,AC27),IF(AND(AD27<>\"\",AF27=\"\"),A27+1,AF27)),IF(U27=2,Y27,\"\"))","v":5002},{"$f":"_xlfn.TEXTJOIN(\";\",1,X27,AA27,AD27)","v":""},{"$f":"IF(OR(ISNUMBER(Y27),Y27=\"\"),\"\",MAX(AL26,AL24,B27,D27,L27)+1)","v":""},5002,null,{"$f":"IF(OR(ISNUMBER(AB27),AB27=\"\"),\"\",X27+1)","v":""},null,null,{"$f":"IF(OR(ISNUMBER(AE27),AE27=\"\"),\"\",AA27+1)","v":""},{"$nulls":4},{"$f":"IF(A27=\"\",\"\",IF(ISNUMBER(Y27),2,IF(A28=\"\",IF(OR(AK27>0,VLOOKUP(O27,EventConfig!A:C,3,FALSE)=4),3,\"\"),1)))","v":2},{"$f":"IF(AI27=\"\",\"\",CHOOSE(AI27,IF(AK27=\"\",A27+1,AK27),CONCATENATE(IF(AK27=\"\",A27+1,AK27),\";101\"),IF(AK27=\"\",O27+1,AK27)))","v":"11002;101"},null,5024,110]
[null,"",null,"",{"$nulls":7},"",null,null,null,"",{"$nulls":18},{"$f":"IF(A28=\"\",\"\",IF(ISNUMBER(Y28),2,IF(A29=\"\",IF(OR(AK28>0,VLOOKUP(O28,EventConfig!A:C,3,FALSE)=4),3,\"\"),1)))","v":""},null,null,"",0]
[{"$f":"O29*100+P29","v":11101},5025,"击败妖邪","",{"$nulls":6},{"$f":"IF(J29=\"\",\"\",VLOOKUP(J29,EventNPC!A:F,5,FALSE))","v":""},5026,"你发现一只落单的妖邪，应战！",null,111,1,{"$f":"_xlfn.TEXTJOIN(\";\",1,R29:S29)","v":""},null,null,{"$f":"IF(R29=\"\",\"\",\"-\"&VLOOKUP(R29,EventConditionConfig!A:C,3,FALSE)&IF(S29=\"\",\"\",CHAR(10)&\"-\"&VLOOKUP(S29,EventConditionConfig!A:C,3,FALSE)))","v":""},{"$f":"IF(Y29=\"\",\"\",IF(ISTEXT(Y29),1,2))","v":2},{"$f":"IF(U29=1,_xlfn.TEXTJOIN(\";\",1,IF(Z29=\"\",A29+1,Z29),IF(AND(AA29<>\"\",AC29=\"\"),A29+1,AC29),IF(AND(AD29<>\"\",AF29=\"\"),A29+1,AF29)),IF(U29=2,Y29,\"\"))","v":5007},{"$f":"_xlfn.TEXTJOIN(\";\",1,X29,AA29,AD29)","v":""},{"$f":"IF(OR(ISNUMBER(Y29),Y29=\"\"),\"\",MAX(AL28,AL26,B29,D29,L29)+1)","v":""},5007,null,{"$f":"IF(OR(ISNUMBER(AB29),AB29=\"\"),\"\",X29+1)","v":""},null,null,{"$f":"IF(OR(ISNUMBER(AE29),AE29=\"\"),\"\",AA29+1)","v":""},{"$nulls":4},{"$f":"IF(A29=\"\",\"\",IF(ISNUMBER(Y29),2,IF(A30=\"\",IF(OR(AK29>0,VLOOKUP(O29,EventConfig!A:C,3,FALSE)=4),3,\"\"),1)))","v":2},{"$f":"IF(AI29=\"\",\"\",CHOOSE(AI29,IF(AK29=\"\",A29+1,AK29),CONCATENATE(IF(AK29=\"\",A29+1,AK29),\";101\"),IF(AK29=\"\",O29+1,AK29)))","v":"11102;101"},null,5026,111]
[null,"",null,"",{"$nulls":7},"",null,null,null,"",{"$nulls":18},{"$f":"IF(A30=\"\",\"\",IF(ISNUMBER(Y30),2,IF(A31=\"\",IF(OR(AK30>0,VLOOKUP(O30,EventConfig!A:C,3,FALSE)=4),3,\"\"),1)))","v":""},null,null,"",0]
[{"$f":"O31*100+P31","v":11201},5027,"使用神识探得资源","",{"$nulls":6},{"$f":"IF(J31=\"\",\"\",VLOOKUP(J31,EventNPC!A:F,5,FALSE))","v":""},5028,"此处仙气缭绕，你用神识一探果然探得丰富资源！",null,112,1,{"$f":"_xlfn.TEXTJOIN(\";\",1,R31:S31)","v":""},null,null,{"$f":"IF(R31=\"\",\"\",\"-\"&VLOOKUP(R31,EventConditionConfig!A:C,3,FALSE)&IF(S31=\"\",\"\",CHAR(10)&\"-\"&VLOOKUP(S31,EventConditionConfig!A:C,3,FALSE)))","v":""},{"$f":"IF(Y31=\"\",\"\",IF(ISTEXT(Y31),1,2))","v":""},{"$f":"IF(U31=1,_xlfn.TEXTJOIN(\";\",1,IF(Z31=\"\",A31+1,Z31),IF(AND(AA31<>\"\",AC31=\"\"),A31+1,AC31),IF(AND(AD31<>\"\",AF31=\"\"),A31+1,AF31)),IF(U31=2,Y31,\"\"))","v":""},{"$f":"_xlfn.TEXTJOIN(\";\",1,X31,AA31,AD31)","v":""},{"$f":"IF(OR(ISNUMBER(Y31),Y31=\"\"),\"\",MAX(AL30,AL28,B31,D31,L31)+1)","v":""},null,null,{"$f":"IF(OR(ISNUMBER(AB31),AB31=\"\"),\"\",X31+1)","v":""},null,null,{"$f":"IF(OR(ISNUMBER(AE31),AE31=\"\"),\"\",AA31+1)","v":""},{"$nulls":4},{"$f":"IF(A31=\"\",\"\",IF(ISNUMBER(Y31),2,IF(A32=\"\",IF(OR(AK31>0,VLOOKUP(O31,EventConfig!A:C,3,FALSE)=4),3,\"\"),1)))","v":""},{"$f":"IF(AI31=\"\",\"\",CHOOSE(AI31,IF(AK31=\"\",A31+1,AK31),CONCATENATE(IF(AK31=\"\",A31+1,AK31),\";101\"),IF(AK31=\"\",O31+1,AK31)))","v":""},null,5028,112]
[null,"",null,"",{"$nulls":7},"",null,null,null,"",{"$nulls":18},{"$f":"IF(A32=\"\",\"\",IF(ISNUMBER(Y32),2,IF(A33=\"\",IF(OR(AK32>0,VLOOKUP(O32,EventConfig!A:C,3,FALSE)=4),3,\"\"),1)))","v":""},null,null,"",0]
[{"$f":"O33*100+P33","v":11301},5029,"使用神识探得资源","",{"$nulls":6},{"$f":"IF(J33=\"\",\"\",VLOOKUP(J33,EventNPC!A:F,5,FALSE))","v":""},5030,"此处仙气缭绕，你用神识一探果然探得丰富资源！",null,113,1,{"$f":"_xlfn.TEXTJOIN(\";\",1,R33:S33)","v":""},null,null,{"$f":"IF(R33=\"\",\"\",\"-\"&VLOOKUP(R33,EventConditionConfig!A:C,3,FALSE)&IF(S33=\"\",\"\",CHAR(10)&\"-\"&VLOOKUP(S33,EventConditionConfig!A:C,3,FALSE)))","v":""},{"$f":"IF(Y33=\"\",\"\",IF(ISTEXT(Y33),1,2))","v":""},{"$f":"IF(U33=1,_xlfn.TEXTJOIN(\";\",1,IF(Z33=\"\",A33+1,Z33),IF(AND(AA33<>\"\",AC33=\"\"),A33+1,AC33),IF(AND(AD33<>\"\",AF33=\"\"),A33+1,AF33)),IF(U33=2,Y33,\"\"))","v":""},{"$f":"_xlfn.TEXTJOIN(\";\",1,X33,AA33,AD33)","v":""},{"$f":"IF(OR(ISNUMBER(Y33),Y33=\"\"),\"\",MAX(AL32,AL30,B33,D33,L33)+1)","v":""},null,null,{"$f":"IF(OR(ISNUMBER(AB33),AB33=\"\"),\"\",X33+1)","v":""},null,null,{"$f":"IF(OR(ISNUMBER(AE33),AE33=\"\"),\"\",AA33+1)","v":""},{"$nulls":4},{"$f":"IF(A33=\"\",\"\",IF(ISNUMBER(Y33),2,IF(A34=\"\",IF(OR(AK33>0,VLOOKUP(O33,EventConfig!A:C,3,FALSE)=4),3,\"\"),1)))","v":""},{"$f":"IF(AI33=\"\",\"\",CHOOSE(AI33,IF(AK33=\"\",A33+1,AK33),CONCATENATE(IF(AK33=\"\",A33+1,AK33),\";101\"),IF(AK33=\"\",O33+1,AK33)))","v":""},null,5030,113]
[null,"",null,"",{"$nulls":7},"",null,null,null,"",{"$nulls":18},{"$f":"IF(A34=\"\",\"\",IF(ISNUMBER(Y34),2,IF(A35=\"\",IF(OR(AK34>0,VLOOKUP(O34,EventConfig!A:C,3,FALSE)=4),3,\"\"),1)))","v":""},null,null,"",0]
[{"$f":"O35*100+P35","v":11401},5031,"使用神识探得资源","",{"$nulls":6},{"$f":"IF(J35=\"\",\"\",VLOOKUP(J35,EventNPC!A:F,5,FALSE))","v":""},5032,"此处仙气缭绕，你用神识一探果然探得丰富资源！",null,114,1,{"$f":"_xlfn.TEXTJOIN(\";\",1,R35:S35)","v":""},null,null,{"$f":"IF(R35=\"\",\"\",\"-\"&VLOOKUP(R35,EventConditionConfig!A:C,3,FALSE)&IF(S35=\"\",\"\",CHAR(10)&\"-\"&VLOOKUP(S35,EventConditionConfig!A:C,3,FALSE)))","v":""},{"$f":"IF(Y35=\"\",\"\",IF(ISTEXT(Y35),1,2))","v":""},{"$f":"IF(U35=1,_xlfn.TEXTJOIN(\";\",1,IF(Z35=\"\",A35+1,Z35),IF(AND(AA35<>\"\",AC35=\"\"),A35+1,AC35),IF(AND(AD35<>\"\",AF35=\"\"),A35+1,AF35)),IF(U35=2,Y35,\"\"))","v":""},{"$f":"_xlfn.TEXTJOIN(\";\",1,X35,AA35,AD35)","v":""},{"$f":"IF(OR(ISNUMBER(Y35),Y35=\"\"),\"\",MAX(AL34,AL32,B35,D35,L35)+1)","v":""},null,null,{"$f":"IF(OR(ISNUMBER(AB35),AB35=\"\"),\"\",X35+1)","v":""},null,null,{"$f":"IF(OR(ISNUMBER(AE35),AE35=\"\"),\"\",AA35+1)","v":""},{"$nulls":4},{"$f":"IF(A35=\"\",\"\",IF(ISNUMBER(Y35),2,IF(A36=\"\",IF(OR(AK35>0,VLOOKUP(O35,EventConfig!A:C,3,FALSE)=4),3,\"\"),1)))","v":""},{"$f":"IF(AI35=\"\",\"\",CHOOSE(AI35,IF(AK35=\"\",A35+1,AK35),CONCATENATE(IF(AK35=\"\",A35+1,AK35),\";101\"),IF(AK35=\"\",O35+1,AK35)))","v":""},null,5032,114]
[null,"",null,"",{"$nulls":7},"",null,null,null,"",{"$nulls":18},{"$f":"IF(A36=\"\",\"\",IF(ISNUMBER(Y36),2,IF(A37=\"\",IF(OR(AK36>0,VLOOKUP(O36,EventConfig!A:C,3,FALSE)=4),3,\"\"),1)))","v":""},null,null,"",0]
[{"$f":"O37*100+P37","v":11501},5033,"使用神识探得资源","",{"$nulls":6},{"$f":"IF(J37=\"\",\"\",VLOOKUP(J37,EventNPC!A:F,5,FALSE))","v":""},5034,"此处仙气缭绕，你用神识一探果然探得丰富资源！",null,115,1,{"$f":"_xlfn.TEXTJOIN(\";\",1,R37:S37)","v":""},null,null,{"$f":"IF(R37=\"\",\"\",\"-\"&VLOOKUP(R37,EventConditionConfig!A:C,3,FALSE)&IF(S37=\"\",\"\",CHAR(10)&\"-\"&VLOOKUP(S37,EventConditionConfig!A:C,3,FALSE)))","v":""},{"$f":"IF(Y37=\"\",\"\",IF(ISTEXT(Y37),1,2))","v":""},{"$f":"IF(U37=1,_xlfn.TEXTJOIN(\";\",1,IF(Z37=\"\",A37+1,Z37),IF(AND(AA37<>\"\",AC37=\"\"),A37+1,AC37),IF(AND(AD37<>\"\",AF37=\"\"),A37+1,AF37)),IF(U37=2,Y37,\"\"))","v":""},{"$f":"_xlfn.TEXTJOIN(\";\",1,X37,AA37,AD37)","v":""},{"$f":"IF(OR(ISNUMBER(Y37),Y37=\"\"),\"\",MAX(AL36,AL34,B37,D37,L37)+1)","v":""},null,null,{"$f":"IF(OR(ISNUMBER(AB37),AB37=\"\"),\"\",X37+1)","v":""},null,null,{"$f":"IF(OR(ISNUMBER(AE37),AE37=\"\"),\"\",AA37+1)","v":""},{"$nulls":4},{"$f":"IF(A37=\"\",\"\",IF(ISNUMBER(Y37),2,IF(A38=\"\",IF(OR(AK37>0,VLOOKUP(O37,EventConfig!A:C,3,FALSE)=4),3,\"\"),1)))","v":""},{"$f":"IF(AI37=\"\",\"\",CHOOSE(AI37,IF(AK37=\"\",A37+1,AK37),CONCATENATE(IF(AK37=\"\",A37+1,AK37),\";101\"),IF(AK37=\"\",O37+1,AK37)))","v":""},null,5034,115]
[null,"",null,"",{"$nulls":7},"",null,null,null,"",{"$nulls":18},{"$f":"IF(A38=\"\",\"\",IF(ISNUMBER(Y38),2,IF(A39=\"\",IF(OR(AK38>0,VLOOKUP(O38,EventConfig!A:C,3,FALSE)=4),3,\"\"),1)))","v":""},null,null,"",0]
[{"$f":"O39*100+P39","v":11601},5035,"使用神识探得资源","",{"$nulls":6},{"$f":"IF(J39=\"\",\"\",VLOOKUP(J39,EventNPC!A:F,5,FALSE))","v":""},5036,"此处仙气缭绕，你用神识一探果然探得丰富资源！",null,116,1,{"$f":"_xlfn.TEXTJOIN(\";\",1,R39:S39)","v":""},null,null,{"$f":"IF(R39=\"\",\"\",\"-\"&VLOOKUP(R39,EventConditionConfig!A:C,3,FALSE)&IF(S39=\"\",\"\",CHAR(10)&\"-\"&VLOOKUP(S39,EventConditionConfig!A:C,3,FALSE)))","v":""},{"$f":"IF(Y39=\"\",\"\",IF(ISTEXT(Y39),1,2))","v":""},{"$f":"IF(U39=1,_xlfn.TEXTJOIN(\";\",1,IF(Z39=\"\",A39+1,Z39),IF(AND(AA39<>\"\",AC39=\"\"),A39+1,AC39),IF(AND(AD39<>\"\",AF39=\"\"),A39+1,AF39)),IF(U39=2,Y39,\"\"))","v":""},{"$f":"_xlfn.TEXTJOIN(\";\",1,X39,AA39,AD39)","v":""},{"$f":"IF(OR(ISNUMBER(Y39),Y39=\"\"),\"\",MAX(AL38,AL36,B39,D39,L39)+1)","v":""},null,null,{"$f":"IF(OR(ISNUMBER(AB39),AB39=\"\"),\"\",X39+1)","v":""},null,null,{"$f":"IF(OR(ISNUMBER(AE39),AE39=\"\"),\"\",AA39+1)","v":""},{"$nulls":4},{"$f":"IF(A39=\"\",\"\",IF(ISNUMBER(Y39),2,IF(A40=\"\",IF(OR(AK39>0,VLOOKUP(O39,EventConfig!A:C,3,FALSE)=4),3,\"\"),1)))","v":""},{"$f":"IF(AI39=\"\",\"\",CHOOSE(AI39,IF(AK39=\"\",A39+1,AK39),CONCATENATE(IF(AK39=\"\",A39+1,AK39),\";101\"),IF(AK39=\"\",O39+1,AK39)))","v":""},null,5036,116]
[null,"",null,"",{"$nulls":7},"",null,null,null,"",{"$nulls":18},{"$f":"IF(A40=\"\",\"\",IF(ISNUMBER(Y40),2,IF(A41=\"\",IF(OR(AK40>0,VLOOKUP(O40,EventConfig!A:C,3,FALSE)=4),3,\"\"),1)))","v":""},null,null,"",0]
[{"$f":"O41*100+P41","v":11701},5037,"使用神识探得资源","",{"$nulls":6},{"$f":"IF(J41=\"\",\"\",VLOOKUP(J41,EventNPC!A:F,5,FALSE))","v":""},5038,"此处仙气缭绕，你用神识一探果然探得丰富资源！",null,117,1,{"$f":"_xlfn.TEXTJOIN(\";\",1,R41:S41)","v":""},null,null,{"$f":"IF(R41=\"\",\"\",\"-\"&VLOOKUP(R41,EventConditionConfig!A:C,3,FALSE)&IF(S41=\"\",\"\",CHAR(10)&\"-\"&VLOOKUP(S41,EventConditionConfig!A:C,3,FALSE)))","v":""},{"$f":"IF(Y41=\"\",\"\",IF(ISTEXT(Y41),1,2))","v":""},{"$f":"IF(U41=1,_xlfn.TEXTJOIN(\";\",1,IF(Z41=\"\",A41+1,Z41),IF(AND(AA41<>\"\",AC41=\"\"),A41+1,AC41),IF(AND(AD41<>\"\",AF41=\"\"),A41+1,AF41)),IF(U41=2,Y41,\"\"))","v":""},{"$f":"_xlfn.TEXTJOIN(\";\",1,X41,AA41,AD41)","v":""},{"$f":"IF(OR(ISNUMBER(Y41),Y41=\"\"),\"\",MAX(AL40,AL38,B41,D41,L41)+1)","v":""},null,null,{"$f":"IF(OR(ISNUMBER(AB41),AB41=\"\"),\"\",X41+1)","v":""},null,null,{"$f":"IF(OR(ISNUMBER(AE41),AE41=\"\"),\"\",AA41+1)","v":""},{"$nulls":4},{"$f":"IF(A41=\"\",\"\",IF(ISNUMBER(Y41),2,IF(A42=\"\",IF(OR(AK41>0,VLOOKUP(O41,EventConfig!A:C,3,FALSE)=4),3,\"\"),1)))","v":""},{"$f":"IF(AI41=\"\",\"\",CHOOSE(AI41,IF(AK41=\"\",A41+1,AK41),CONCATENATE(IF(AK41=\"\",A41+1,AK41),\";101\"),IF(AK41=\"\",O41+1,AK41)))","v":""},null,5038,117]
[null,"",null,"",{"$nulls":7},"",null,null,null,"",{"$nulls":18},{"$f":"IF(A42=\"\",\"\",IF(ISNUMBER(Y42),2,IF(A43=\"\",IF(OR(AK42>0,VLOOKUP(O42,EventConfig!A:C,3,FALSE)=4),3,\"\"),1)))","v":""},null,null,"",0]
[{"$f":"O43*100+P43","v":11801},5039,"使用神识探得资源","",{"$nulls":6},{"$f":"IF(J43=\"\",\"\",VLOOKUP(J43,EventNPC!A:F,5,FALSE))","v":""},5040,"此处仙气缭绕，你用神识一探果然探得丰富资源！",null,118,1,{"$f":"_xlfn.TEXTJOIN(\";\",1,R43:S43)","v":""},null,null,{"$f":"IF(R43=\"\",\"\",\"-\"&VLOOKUP(R43,EventConditionConfig!A:C,3,FALSE)&IF(S43=\"\",\"\",CHAR(10)&\"-\"&VLOOKUP(S43,EventConditionConfig!A:C,3,FALSE)))","v":""},{"$f":"IF(Y43=\"\",\"\",IF(ISTEXT(Y43),1,2))","v":""},{"$f":"IF(U43=1,_xlfn.TEXTJOIN(\";\",1,IF(Z43=\"\",A43+1,Z43),IF(AND(AA43<>\"\",AC43=\"\"),A43+1,AC43),IF(AND(AD43<>\"\",AF43=\"\"),A43+1,AF43)),IF(U43=2,Y43,\"\"))","v":""},{"$f":"_xlfn.TEXTJOIN(\";\",1,X43,AA43,AD43)","v":""},{"$f":"IF(OR(ISNUMBER(Y43),Y43=\"\"),\"\",MAX(AL42,AL40,B43,D43,L43)+1)","v":""},null,null,{"$f":"IF(OR(ISNUMBER(AB43),AB43=\"\"),\"\",X43+1)","v":""},null,null,{"$f":"IF(OR(ISNUMBER(AE43),AE43=\"\"),\"\",AA43+1)","v":""},{"$nulls":4},{"$f":"IF(A43=\"\",\"\",IF(ISNUMBER(Y43),2,IF(A44=\"\",IF(OR(AK43>0,VLOOKUP(O43,EventConfig!A:C,3,FALSE)=4),3,\"\"),1)))","v":""},{"$f":"IF(AI43=\"\",\"\",CHOOSE(AI43,IF(AK43=\"\",A43+1,AK43),CONCATENATE(IF(AK43=\"\",A43+1,AK43),\";101\"),IF(AK43=\"\",O43+1,AK43)))","v":""},null,5040,118]
[null,"",null,"",{"$nulls":7},"",null,null,null,"",{"$nulls":18},{"$f":"IF(A44=\"\",\"\",IF(ISNUMBER(Y44),2,IF(A45=\"\",IF(OR(AK44>0,VLOOKUP(O44,EventConfig!A:C,3,FALSE)=4),3,\"\"),1)))","v":""},null,null,"",0]
[{"$f":"O45*100+P45","v":11901},5041,"击败妖邪","",{"$nulls":6},{"$f":"IF(J45=\"\",\"\",VLOOKUP(J45,EventNPC!A:F,5,FALSE))","v":""},5042,"你发现一只落单的妖邪，应战！",null,119,1,{"$f":"_xlfn.TEXTJOIN(\";\",1,R45:S45)","v":""},null,null,{"$f":"IF(R45=\"\",\"\",\"-\"&VLOOKUP(R45,EventConditionConfig!A:C,3,FALSE)&IF(S45=\"\",\"\",CHAR(10)&\"-\"&VLOOKUP(S45,EventConditionConfig!A:C,3,FALSE)))","v":""},{"$f":"IF(Y45=\"\",\"\",IF(ISTEXT(Y45),1,2))","v":2},{"$f":"IF(U45=1,_xlfn.TEXTJOIN(\";\",1,IF(Z45=\"\",A45+1,Z45),IF(AND(AA45<>\"\",AC45=\"\"),A45+1,AC45),IF(AND(AD45<>\"\",AF45=\"\"),A45+1,AF45)),IF(U45=2,Y45,\"\"))","v":5003},{"$f":"_xlfn.TEXTJOIN(\";\",1,X45,AA45,AD45)","v":""},{"$f":"IF(OR(ISNUMBER(Y45),Y45=\"\"),\"\",MAX(AL44,AL42,B45,D45,L45)+1)","v":""},5003,null,{"$f":"IF(OR(ISNUMBER(AB45),AB45=\"\"),\"\",X45+1)","v":""},null,null,{"$f":"IF(OR(ISNUMBER(AE45),AE45=\"\"),\"\",AA45+1)","v":""},{"$nulls":4},{"$f":"IF(A45=\"\",\"\",IF(ISNUMBER(Y45),2,IF(A46=\"\",IF(OR(AK45>0,VLOOKUP(O45,EventConfig!A:C,3,FALSE)=4),3,\"\"),1)))","v":2},{"$f":"IF(AI45=\"\",\"\",CHOOSE(AI45,IF(AK45=\"\",A45+1,AK45),CONCATENATE(IF(AK45=\"\",A45+1,AK45),\";101\"),IF(AK45=\"\",O45+1,AK45)))","v":"11902;101"},null,5042,119]
[null,"",null,"",{"$nulls":7},"",null,null,null,"",{"$nulls":18},{"$f":"IF(A46=\"\",\"\",IF(ISNUMBER(Y46),2,IF(A47=\"\",IF(OR(AK46>0,VLOOKUP(O46,EventConfig!A:C,3,FALSE)=4),3,\"\"),1)))","v":""},null,null,"",0]
[{"$f":"O47*100+P47","v":12001},5043,"击败妖邪","",{"$nulls":6},{"$f":"IF(J47=\"\",\"\",VLOOKUP(J47,EventNPC!A:F,5,FALSE))","v":""},5044,"你发现一只落单的妖邪，应战！",null,120,1,{"$f":"_xlfn.TEXTJOIN(\";\",1,R47:S47)","v":""},null,null,{"$f":"IF(R47=\"\",\"\",\"-\"&VLOOKUP(R47,EventConditionConfig!A:C,3,FALSE)&IF(S47=\"\",\"\",CHAR(10)&\"-\"&VLOOKUP(S47,EventConditionConfig!A:C,3,FALSE)))","v":""},{"$f":"IF(Y47=\"\",\"\",IF(ISTEXT(Y47),1,2))","v":2},{"$f":"IF(U47=1,_xlfn.TEXTJOIN(\";\",1,IF(Z47=\"\",A47+1,Z47),IF(AND(AA47<>\"\",AC47=\"\"),A47+1,AC47),IF(AND(AD47<>\"\",AF47=\"\"),A47+1,AF47)),IF(U47=2,Y47,\"\"))","v":5008},{"$f":"_xlfn.TEXTJOIN(\";\",1,X47,AA47,AD47)","v":""},{"$f":"IF(OR(ISNUMBER(Y47),Y47=\"\"),\"\",MAX(AL46,AL44,B47,D47,L47)+1)","v":""},5008,null,{"$f":"IF(OR(ISNUMBER(AB47),AB47=\"\"),\"\",X47+1)","v":""},null,null,{"$f":"IF(OR(ISNUMBER(AE47),AE47=\"\"),\"\",AA47+1)","v":""},{"$nulls":4},{"$f":"IF(A47=\"\",\"\",IF(ISNUMBER(Y47),2,IF(A48=\"\",IF(OR(AK47>0,VLOOKUP(O47,EventConfig!A:C,3,FALSE)=4),3,\"\"),1)))","v":2},{"$f":"IF(AI47=\"\",\"\",CHOOSE(AI47,IF(AK47=\"\",A47+1,AK47),CONCATENATE(IF(AK47=\"\",A47+1,AK47),\";101\"),IF(AK47=\"\",O47+1,AK47)))","v":"12002;101"},null,5044,120]
[null,"",null,"",{"$nulls":7},"",null,null,null,"",{"$nulls":18},{"$f":"IF(A48=\"\",\"\",IF(ISNUMBER(Y48),2,IF(A49=\"\",IF(OR(AK48>0,VLOOKUP(O48,EventConfig!A:C,3,FALSE)=4),3,\"\"),1)))","v":""},null,null,"",0]
[{"$f":"O49*100+P49","v":12101},5045,"使用神识探得资源","",{"$nulls":6},{"$f":"IF(J49=\"\",\"\",VLOOKUP(J49,EventNPC!A:F,5,FALSE))","v":""},5046,"此处仙气缭绕，你用神识一探果然探得丰富资源！",null,121,1,{"$f":"_xlfn.TEXTJOIN(\";\",1,R49:S49)","v":""},null,null,{"$f":"IF(R49=\"\",\"\",\"-\"&VLOOKUP(R49,EventConditionConfig!A:C,3,FALSE)&IF(S49=\"\",\"\",CHAR(10)&\"-\"&VLOOKUP(S49,EventConditionConfig!A:C,3,FALSE)))","v":""},{"$f":"IF(Y49=\"\",\"\",IF(ISTEXT(Y49),1,2))","v":""},{"$f":"IF(U49=1,_xlfn.TEXTJOIN(\";\",1,IF(Z49=\"\",A49+1,Z49),IF(AND(AA49<>\"\",AC49=\"\"),A49+1,AC49),IF(AND(AD49<>\"\",AF49=\"\"),A49+1,AF49)),IF(U49=2,Y49,\"\"))","v":""},{"$f":"_xlfn.TEXTJOIN(\";\",1,X49,AA49,AD49)","v":""},{"$f":"IF(OR(ISNUMBER(Y49),Y49=\"\"),\"\",MAX(AL48,AL46,B49,D49,L49)+1)","v":""},null,null,{"$f":"IF(OR(ISNUMBER(AB49),AB49=\"\"),\"\",X49+1)","v":""},null,null,{"$f":"IF(OR(ISNUMBER(AE49),AE49=\"\"),\"\",AA49+1)","v":""},{"$nulls":4},{"$f":"IF(A49=\"\",\"\",IF(ISNUMBER(Y49),2,IF(A50=\"\",IF(OR(AK49>0,VLOOKUP(O49,EventConfig!A:C,3,FALSE)=4),3,\"\"),1)))","v":""},{"$f":"IF(AI49=\"\",\"\",CHOOSE(AI49,IF(AK49=\"\",A49+1,AK49),CONCATENATE(IF(AK49=\"\",A49+1,AK49),\";101\"),IF(AK49=\"\",O49+1,AK49)))","v":""},null,5046,121]
[null,"",null,"",{"$nulls":7},"",null,null,null,"",{"$nulls":18},{"$f":"IF(A50=\"\",\"\",IF(ISNUMBER(Y50),2,IF(A51=\"\",IF(OR(AK50>0,VLOOKUP(O50,EventConfig!A:C,3,FALSE)=4),3,\"\"),1)))","v":""},null,null,"",0]
[{"$f":"O51*100+P51","v":12201},5047,"使用神识探得资源","",{"$nulls":6},{"$f":"IF(J51=\"\",\"\",VLOOKUP(J51,EventNPC!A:F,5,FALSE))","v":""},5048,"此处仙气缭绕，你用神识一探果然探得丰富资源！",null,122,1,{"$f":"_xlfn.TEXTJOIN(\";\",1,R51:S51)","v":""},null,null,{"$f":"IF(R51=\"\",\"\",\"-\"&VLOOKUP(R51,EventConditionConfig!A:C,3,FALSE)&IF(S51=\"\",\"\",CHAR(10)&\"-\"&VLOOKUP(S51,EventConditionConfig!A:C,3,FALSE)))","v":""},{"$f":"IF(Y51=\"\",\"\",IF(ISTEXT(Y51),1,2))","v":""},{"$f":"IF(U51=1,_xlfn.TEXTJOIN(\";\",1,IF(Z51=\"\",A51+1,Z51),IF(AND(AA51<>\"\",AC51=\"\"),A51+1,AC51),IF(AND(AD51<>\"\",AF51=\"\"),A51+1,AF51)),IF(U51=2,Y51,\"\"))","v":""},{"$f":"_xlfn.TEXTJOIN(\";\",1,X51,AA51,AD51)","v":""},{"$f":"IF(OR(ISNUMBER(Y51),Y51=\"\"),\"\",MAX(AL50,AL48,B51,D51,L51)+1)","v":""},null,null,{"$f":"IF(OR(ISNUMBER(AB51),AB51=\"\"),\"\",X51+1)","v":""},null,null,{"$f":"IF(OR(ISNUMBER(AE51),AE51=\"\"),\"\",AA51+1)","v":""},{"$nulls":4},{"$f":"IF(A51=\"\",\"\",IF(ISNUMBER(Y51),2,IF(A52=\"\",IF(OR(AK51>0,VLOOKUP(O51,EventConfig!A:C,3,FALSE)=4),3,\"\"),1)))","v":""},{"$f":"IF(AI51=\"\",\"\",CHOOSE(AI51,IF(AK51=\"\",A51+1,AK51),CONCATENATE(IF(AK51=\"\",A51+1,AK51),\";101\"),IF(AK51=\"\",O51+1,AK51)))","v":""},null,5048,122]
[null,"",null,"",{"$nulls":7},"",null,null,null,"",{"$nulls":18},{"$f":"IF(A52=\"\",\"\",IF(ISNUMBER(Y52),2,IF(A53=\"\",IF(OR(AK52>0,VLOOKUP(O52,EventConfig!A:C,3,FALSE)=4),3,\"\"),1)))","v":""},null,null,"",0]
[{"$f":"O53*100+P53","v":12301},5049,"使用神识探得资源","",{"$nulls":6},{"$f":"IF(J53=\"\",\"\",VLOOKUP(J53,EventNPC!A:F,5,FALSE))","v":""},5050,"此处仙气缭绕，你用神识一探果然探得丰富资源！",null,123,1,{"$f":"_xlfn.TEXTJOIN(\";\",1,R53:S53)","v":""},null,null,{"$f":"IF(R53=\"\",\"\",\"-\"&VLOOKUP(R53,EventConditionConfig!A:C,3,FALSE)&IF(S53=\"\",\"\",CHAR(10)&\"-\"&VLOOKUP(S53,EventConditionConfig!A:C,3,FALSE)))","v":""},{"$f":"IF(Y53=\"\",\"\",IF(ISTEXT(Y53),1,2))","v":""},{"$f":"IF(U53=1,_xlfn.TEXTJOIN(\";\",1,IF(Z53=\"\",A53+1,Z53),IF(AND(AA53<>\"\",AC53=\"\"),A53+1,AC53),IF(AND(AD53<>\"\",AF53=\"\"),A53+1,AF53)),IF(U53=2,Y53,\"\"))","v":""},{"$f":"_xlfn.TEXTJOIN(\";\",1,X53,AA53,AD53)","v":""},{"$f":"IF(OR(ISNUMBER(Y53),Y53=\"\"),\"\",MAX(AL52,AL50,B53,D53,L53)+1)","v":""},null,null,{"$f":"IF(OR(ISNUMBER(AB53),AB53=\"\"),\"\",X53+1)","v":""},null,null,{"$f":"IF(OR(ISNUMBER(AE53),AE53=\"\"),\"\",AA53+1)","v":""},{"$nulls":4},{"$f":"IF(A53=\"\",\"\",IF(ISNUMBER(Y53),2,IF(A54=\"\",IF(OR(AK53>0,VLOOKUP(O53,EventConfig!A:C,3,FALSE)=4),3,\"\"),1)))","v":""},{"$f":"IF(AI53=\"\",\"\",CHOOSE(AI53,IF(AK53=\"\",A53+1,AK53),CONCATENATE(IF(AK53=\"\",A53+1,AK53),\";101\"),IF(AK53=\"\",O53+1,AK53)))","v":""},null,5050,123]
[null,"",null,"",{"$nulls":7},"",null,null,null,"",{"$nulls":18},{"$f":"IF(A54=\"\",\"\",IF(ISNUMBER(Y54),2,IF(A55=\"\",IF(OR(AK54>0,VLOOKUP(O54,EventConfig!A:C,3,FALSE)=4),3,\"\"),1)))","v":""},null,null,"",0]
[{"$f":"O55*100+P55","v":12401},5051,"使用神识探得资源","",{"$nulls":6},{"$f":"IF(J55=\"\",\"\",VLOOKUP(J55,EventNPC!A:F,5,FALSE))","v":""},5052,"此处仙气缭绕，你用神识一探果然探得丰富资源！",null,124,1,{"$f":"_xlfn.TEXTJOIN(\";\",1,R55:S55)","v":""},null,null,{"$f":"IF(R55=\"\",\"\",\"-\"&VLOOKUP(R55,EventConditionConfig!A:C,3,FALSE)&IF(S55=\"\",\"\",CHAR(10)&\"-\"&VLOOKUP(S55,EventConditionConfig!A:C,3,FALSE)))","v":""},{"$f":"IF(Y55=\"\",\"\",IF(ISTEXT(Y55),1,2))","v":""},{"$f":"IF(U55=1,_xlfn.TEXTJOIN(\";\",1,IF(Z55=\"\",A55+1,Z55),IF(AND(AA55<>\"\",AC55=\"\"),A55+1,AC55),IF(AND(AD55<>\"\",AF55=\"\"),A55+1,AF55)),IF(U55=2,Y55,\"\"))","v":""},{"$f":"_xlfn.TEXTJOIN(\";\",1,X55,AA55,AD55)","v":""},{"$f":"IF(OR(ISNUMBER(Y55),Y55=\"\"),\"\",MAX(AL54,AL52,B55,D55,L55)+1)","v":""},null,null,{"$f":"IF(OR(ISNUMBER(AB55),AB55=\"\"),\"\",X55+1)","v":""},null,null,{"$f":"IF(OR(ISNUMBER(AE55),AE55=\"\"),\"\",AA55+1)","v":""},{"$nulls":4},{"$f":"IF(A55=\"\",\"\",IF(ISNUMBER(Y55),2,IF(A56=\"\",IF(OR(AK55>0,VLOOKUP(O55,EventConfig!A:C,3,FALSE)=4),3,\"\"),1)))","v":""},{"$f":"IF(AI55=\"\",\"\",CHOOSE(AI55,IF(AK55=\"\",A55+1,AK55),CONCATENATE(IF(AK55=\"\",A55+1,AK55),\";101\"),IF(AK55=\"\",O55+1,AK55)))","v":""},null,5052,124]
[null,"",null,"",{"$nulls":7},"",null,null,null,"",{"$nulls":18},{"$f":"IF(A56=\"\",\"\",IF(ISNUMBER(Y56),2,IF(A57=\"\",IF(OR(AK56>0,VLOOKUP(O56,EventConfig!A:C,3,FALSE)=4),3,\"\"),1)))","v":""},null,null,"",0]
[{"$f":"O57*100+P57","v":12501},5053,"使用神识探得资源","",{"$nulls":6},{"$f":"IF(J57=\"\",\"\",VLOOKUP(J57,EventNPC!A:F,5,FALSE))","v":""},5054,"此处仙气缭绕，你用神识一探果然探得丰富资源！",null,125,1,{"$f":"_xlfn.TEXTJOIN(\";\",1,R57:S57)","v":""},null,null,{"$f":"IF(R57=\"\",\"\",\"-\"&VLOOKUP(R57,EventConditionConfig!A:C,3,FALSE)&IF(S57=\"\",\"\",CHAR(10)&\"-\"&VLOOKUP(S57,EventConditionConfig!A:C,3,FALSE)))","v":""},{"$f":"IF(Y57=\"\",\"\",IF(ISTEXT(Y57),1,2))","v":""},{"$f":"IF(U57=1,_xlfn.TEXTJOIN(\";\",1,IF(Z57=\"\",A57+1,Z57),IF(AND(AA57<>\"\",AC57=\"\"),A57+1,AC57),IF(AND(AD57<>\"\",AF57=\"\"),A57+1,AF57)),IF(U57=2,Y57,\"\"))","v":""},{"$f":"_xlfn.TEXTJOIN(\";\",1,X57,AA57,AD57)","v":""},{"$f":"IF(OR(ISNUMBER(Y57),Y57=\"\"),\"\",MAX(AL56,AL54,B57,D57,L57)+1)","v":""},null,null,{"$f":"IF(OR(ISNUMBER(AB57),AB57=\"\"),\"\",X57+1)","v":""},null,null,{"$f":"IF(OR(ISNUMBER(AE57),AE57=\"\"),\"\",AA57+1)","v":""},{"$nulls":4},{"$f":"IF(A57=\"\",\"\",IF(ISNUMBER(Y57),2,IF(A58=\"\",IF(OR(AK57>0,VLOOKUP(O57,EventConfig!A:C,3,FALSE)=4),3,\"\"),1)))","v":""},{"$f":"IF(AI57=\"\",\"\",CHOOSE(AI57,IF(AK57=\"\",A57+1,AK57),CONCATENATE(IF(AK57=\"\",A57+1,AK57),\";101\"),IF(AK57=\"\",O57+1,AK57)))","v":""},null,5054,125]
[null,"",null,"",{"$nulls":7},"",null,null,null,"",{"$nulls":18},{"$f":"IF(A58=\"\",\"\",IF(ISNUMBER(Y58),2,IF(A59=\"\",IF(OR(AK58>0,VLOOKUP(O58,EventConfig!A:C,3,FALSE)=4),3,\"\"),1)))","v":""},null,null,"",0]
[{"$f":"O59*100+P59","v":12601},5055,"使用神识探得资源","",{"$nulls":6},{"$f":"IF(J59=\"\",\"\",VLOOKUP(J59,EventNPC!A:F,5,FALSE))","v":""},5056,"此处仙气缭绕，你用神识一探果然探得丰富资源！",null,126,1,{"$f":"_xlfn.TEXTJOIN(\";\",1,R59:S59)","v":""},null,null,{"$f":"IF(R59=\"\",\"\",\"-\"&VLOOKUP(R59,EventConditionConfig!A:C,3,FALSE)&IF(S59=\"\",\"\",CHAR(10)&\"-\"&VLOOKUP(S59,EventConditionConfig!A:C,3,FALSE)))","v":""},{"$f":"IF(Y59=\"\",\"\",IF(ISTEXT(Y59),1,2))","v":""},{"$f":"IF(U59=1,_xlfn.TEXTJOIN(\";\",1,IF(Z59=\"\",A59+1,Z59),IF(AND(AA59<>\"\",AC59=\"\"),A59+1,AC59),IF(AND(AD59<>\"\",AF59=\"\"),A59+1,AF59)),IF(U59=2,Y59,\"\"))","v":""},{"$f":"_xlfn.TEXTJOIN(\";\",1,X59,AA59,AD59)","v":""},{"$f":"IF(OR(ISNUMBER(Y59),Y59=\"\"),\"\",MAX(AL58,AL56,B59,D59,L59)+1)","v":""},null,null,{"$f":"IF(OR(ISNUMBER(AB59),AB59=\"\"),\"\",X59+1)","v":""},null,null,{"$f":"IF(OR(ISNUMBER(AE59),AE59=\"\"),\"\",AA59+1)","v":""},{"$nulls":4},{"$f":"IF(A59=\"\",\"\",IF(ISNUMBER(Y59),2,IF(A60=\"\",IF(OR(AK59>0,VLOOKUP(O59,EventConfig!A:C,3,FALSE)=4),3,\"\"),1)))","v":""},{"$f":"IF(AI59=\"\",\"\",CHOOSE(AI59,IF(AK59=\"\",A59+1,AK59),CONCATENATE(IF(AK59=\"\",A59+1,AK59),\";101\"),IF(AK59=\"\",O59+1,AK59)))","v":""},null,5056,126]
[null,"",null,"",{"$nulls":7},"",null,null,null,"",{"$nulls":18},{"$f":"IF(A60=\"\",\"\",IF(ISNUMBER(Y60),2,IF(A61=\"\",IF(OR(AK60>0,VLOOKUP(O60,EventConfig!A:C,3,FALSE)=4),3,\"\"),1)))","v":""},null,null,"",0]
[{"$f":"O61*100+P61","v":12701},5057,"使用神识探得资源","",{"$nulls":6},{"$f":"IF(J61=\"\",\"\",VLOOKUP(J61,EventNPC!A:F,5,FALSE))","v":""},5058,"此处仙气缭绕，你用神识一探果然探得丰富资源！",null,127,1,{"$f":"_xlfn.TEXTJOIN(\";\",1,R61:S61)","v":""},null,null,{"$f":"IF(R61=\"\",\"\",\"-\"&VLOOKUP(R61,EventConditionConfig!A:C,3,FALSE)&IF(S61=\"\",\"\",CHAR(10)&\"-\"&VLOOKUP(S61,EventConditionConfig!A:C,3,FALSE)))","v":""},{"$f":"IF(Y61=\"\",\"\",IF(ISTEXT(Y61),1,2))","v":""},{"$f":"IF(U61=1,_xlfn.TEXTJOIN(\";\",1,IF(Z61=\"\",A61+1,Z61),IF(AND(AA61<>\"\",AC61=\"\"),A61+1,AC61),IF(AND(AD61<>\"\",AF61=\"\"),A61+1,AF61)),IF(U61=2,Y61,\"\"))","v":""},{"$f":"_xlfn.TEXTJOIN(\";\",1,X61,AA61,AD61)","v":""},{"$f":"IF(OR(ISNUMBER(Y61),Y61=\"\"),\"\",MAX(AL60,AL58,B61,D61,L61)+1)","v":""},null,null,{"$f":"IF(OR(ISNUMBER(AB61),AB61=\"\"),\"\",X61+1)","v":""},null,null,{"$f":"IF(OR(ISNUMBER(AE61),AE61=\"\"),\"\",AA61+1)","v":""},{"$nulls":4},{"$f":"IF(A61=\"\",\"\",IF(ISNUMBER(Y61),2,IF(A62=\"\",IF(OR(AK61>0,VLOOKUP(O61,EventConfig!A:C,3,FALSE)=4),3,\"\"),1)))","v":""},{"$f":"IF(AI61=\"\",\"\",CHOOSE(AI61,IF(AK61=\"\",A61+1,AK61),CONCATENATE(IF(AK61=\"\",A61+1,AK61),\";101\"),IF(AK61=\"\",O61+1,AK61)))","v":""},null,5058,127]
[null,"",null,"",{"$nulls":7},"",null,null,null,"",{"$nulls":18},{"$f":"IF(A62=\"\",\"\",IF(ISNUMBER(Y62),2,IF(A63=\"\",IF(OR(AK62>0,VLOOKUP(O62,EventConfig!A:C,3,FALSE)=4),3,\"\"),1)))","v":""},null,null,"",0]
[{"$f":"O63*100+P63","v":12801},5059,"击败妖邪","",{"$nulls":6},{"$f":"IF(J63=\"\",\"\",VLOOKUP(J63,EventNPC!A:F,5,FALSE))","v":""},5060,"你发现一只落单的妖邪，应战！",null,128,1,{"$f":"_xlfn.TEXTJOIN(\";\",1,R63:S63)","v":""},null,null,{"$f":"IF(R63=\"\",\"\",\"-\"&VLOOKUP(R63,EventConditionConfig!A:C,3,FALSE)&IF(S63=\"\",\"\",CHAR(10)&\"-\"&VLOOKUP(S63,EventConditionConfig!A:C,3,FALSE)))","v":""},{"$f":"IF(Y63=\"\",\"\",IF(ISTEXT(Y63),1,2))","v":2},{"$f":"IF(U63=1,_xlfn.TEXTJOIN(\";\",1,IF(Z63=\"\",A63+1,Z63),IF(AND(AA63<>\"\",AC63=\"\"),A63+1,AC63),IF(AND(AD63<>\"\",AF63=\"\"),A63+1,AF63)),IF(U63=2,Y63,\"\"))","v":5004},{"$f":"_xlfn.TEXTJOIN(\";\",1,X63,AA63,AD63)","v":""},{"$f":"IF(OR(ISNUMBER(Y63),Y63=\"\"),\"\",MAX(AL62,AL60,B63,D63,L63)+1)","v":""},5004,null,{"$f":"IF(OR(ISNUMBER(AB63),AB63=\"\"),\"\",X63+1)","v":""},null,null,{"$f":"IF(OR(ISNUMBER(AE63),AE63=\"\"),\"\",AA63+1)","v":""},{"$nulls":4},{"$f":"IF(A63=\"\",\"\",IF(ISNUMBER(Y63),2,IF(A64=\"\",IF(OR(AK63>0,VLOOKUP(O63,EventConfig!A:C,3,FALSE)=4),3,\"\"),1)))","v":2},{"$f":"IF(AI63=\"\",\"\",CHOOSE(AI63,IF(AK63=\"\",A63+1,AK63),CONCATENATE(IF(AK63=\"\",A63+1,AK63),\";101\"),IF(AK63=\"\",O63+1,AK63)))","v":"12802;101"},null,5060,128]
[null,"",null,"",{"$nulls":7},"",null,null,null,"",{"$nulls":18},{"$f":"IF(A64=\"\",\"\",IF(ISNUMBER(Y64),2,IF(A65=\"\",IF(OR(AK64>0,VLOOKUP(O64,EventConfig!A:C,3,FALSE)=4),3,\"\"),1)))","v":""},null,null,"",0]
[{"$f":"O65*100+P65","v":12901},5061,"击败妖邪","",{"$nulls":6},{"$f":"IF(J65=\"\",\"\",VLOOKUP(J65,EventNPC!A:F,5,FALSE))","v":""},5062,"你发现一只落单的妖邪，应战！",null,129,1,{"$f":"_xlfn.TEXTJOIN(\";\",1,R65:S65)","v":""},null,null,{"$f":"IF(R65=\"\",\"\",\"-\"&VLOOKUP(R65,EventConditionConfig!A:C,3,FALSE)&IF(S65=\"\",\"\",CHAR(10)&\"-\"&VLOOKUP(S65,EventConditionConfig!A:C,3,FALSE)))","v":""},{"$f":"IF(Y65=\"\",\"\",IF(ISTEXT(Y65),1,2))","v":2},{"$f":"IF(U65=1,_xlfn.TEXTJOIN(\";\",1,IF(Z65=\"\",A65+1,Z65),IF(AND(AA65<>\"\",AC65=\"\"),A65+1,AC65),IF(AND(AD65<>\"\",AF65=\"\"),A65+1,AF65)),IF(U65=2,Y65,\"\"))","v":5009},{"$f":"_xlfn.TEXTJOIN(\";\",1,X65,AA65,AD65)","v":""},{"$f":"IF(OR(ISNUMBER(Y65),Y65=\"\"),\"\",MAX(AL64,AL62,B65,D65,L65)+1)","v":""},5009,null,{"$f":"IF(OR(ISNUMBER(AB65),AB65=\"\"),\"\",X65+1)","v":""},null,null,{"$f":"IF(OR(ISNUMBER(AE65),AE65=\"\"),\"\",AA65+1)","v":""},{"$nulls":4},{"$f":"IF(A65=\"\",\"\",IF(ISNUMBER(Y65),2,IF(A66=\"\",IF(OR(AK65>0,VLOOKUP(O65,EventConfig!A:C,3,FALSE)=4),3,\"\"),1)))","v":2},{"$f":"IF(AI65=\"\",\"\",CHOOSE(AI65,IF(AK65=\"\",A65+1,AK65),CONCATENATE(IF(AK65=\"\",A65+1,AK65),\";101\"),IF(AK65=\"\",O65+1,AK65)))","v":"12902;101"},null,5062,129]
[null,"",null,"",{"$nulls":7},"",null,null,null,"",{"$nulls":18},{"$f":"IF(A66=\"\",\"\",IF(ISNUMBER(Y66),2,IF(A67=\"\",IF(OR(AK66>0,VLOOKUP(O66,EventConfig!A:C,3,FALSE)=4),3,\"\"),1)))","v":""},null,null,"",0]
[{"$f":"O67*100+P67","v":13001},5063,"使用神识探得资源","",{"$nulls":6},{"$f":"IF(J67=\"\",\"\",VLOOKUP(J67,EventNPC!A:F,5,FALSE))","v":""},5064,"此处仙气缭绕，你用神识一探果然探得丰富资源！",null,130,1,{"$f":"_xlfn.TEXTJOIN(\";\",1,R67:S67)","v":""},null,null,{"$f":"IF(R67=\"\",\"\",\"-\"&VLOOKUP(R67,EventConditionConfig!A:C,3,FALSE)&IF(S67=\"\",\"\",CHAR(10)&\"-\"&VLOOKUP(S67,EventConditionConfig!A:C,3,FALSE)))","v":""},{"$f":"IF(Y67=\"\",\"\",IF(ISTEXT(Y67),1,2))","v":""},{"$f":"IF(U67=1,_xlfn.TEXTJOIN(\";\",1,IF(Z67=\"\",A67+1,Z67),IF(AND(AA67<>\"\",AC67=\"\"),A67+1,AC67),IF(AND(AD67<>\"\",AF67=\"\"),A67+1,AF67)),IF(U67=2,Y67,\"\"))","v":""},{"$f":"_xlfn.TEXTJOIN(\";\",1,X67,AA67,AD67)","v":""},{"$f":"IF(OR(ISNUMBER(Y67),Y67=\"\"),\"\",MAX(AL66,AL64,B67,D67,L67)+1)","v":""},null,null,{"$f":"IF(OR(ISNUMBER(AB67),AB67=\"\"),\"\",X67+1)","v":""},null,null,{"$f":"IF(OR(ISNUMBER(AE67),AE67=\"\"),\"\",AA67+1)","v":""},{"$nulls":4},{"$f":"IF(A67=\"\",\"\",IF(ISNUMBER(Y67),2,IF(A68=\"\",IF(OR(AK67>0,VLOOKUP(O67,EventConfig!A:C,3,FALSE)=4),3,\"\"),1)))","v":""},{"$f":"IF(AI67=\"\",\"\",CHOOSE(AI67,IF(AK67=\"\",A67+1,AK67),CONCATENATE(IF(AK67=\"\",A67+1,AK67),\";101\"),IF(AK67=\"\",O67+1,AK67)))","v":""},null,5064,130]
[null,"",null,"",{"$nulls":7},"",null,null,null,"",{"$nulls":18},{"$f":"IF(A68=\"\",\"\",IF(ISNUMBER(Y68),2,IF(A69=\"\",IF(OR(AK68>0,VLOOKUP(O68,EventConfig!A:C,3,FALSE)=4),3,\"\"),1)))","v":""},null,null,"",0]
[{"$f":"O69*100+P69","v":13101},5065,"使用神识探得资源","",{"$nulls":6},{"$f":"IF(J69=\"\",\"\",VLOOKUP(J69,EventNPC!A:F,5,FALSE))","v":""},5066,"此处仙气缭绕，你用神识一探果然探得丰富资源！",null,131,1,{"$f":"_xlfn.TEXTJOIN(\";\",1,R69:S69)","v":""},null,null,{"$f":"IF(R69=\"\",\"\",\"-\"&VLOOKUP(R69,EventConditionConfig!A:C,3,FALSE)&IF(S69=\"\",\"\",CHAR(10)&\"-\"&VLOOKUP(S69,EventConditionConfig!A:C,3,FALSE)))","v":""},{"$f":"IF(Y69=\"\",\"\",IF(ISTEXT(Y69),1,2))","v":""},{"$f":"IF(U69=1,_xlfn.TEXTJOIN(\";\",1,IF(Z69=\"\",A69+1,Z69),IF(AND(AA69<>\"\",AC69=\"\"),A69+1,AC69),IF(AND(AD69<>\"\",AF69=\"\"),A69+1,AF69)),IF(U69=2,Y69,\"\"))","v":""},{"$f":"_xlfn.TEXTJOIN(\";\",1,X69,AA69,AD69)","v":""},{"$f":"IF(OR(ISNUMBER(Y69),Y69=\"\"),\"\",MAX(AL68,AL66,B69,D69,L69)+1)","v":""},null,null,{"$f":"IF(OR(ISNUMBER(AB69),AB69=\"\"),\"\",X69+1)","v":""},null,null,{"$f":"IF(OR(ISNUMBER(AE69),AE69=\"\"),\"\",AA69+1)","v":""},{"$nulls":4},{"$f":"IF(A69=\"\",\"\",IF(ISNUMBER(Y69),2,IF(A70=\"\",IF(OR(AK69>0,VLOOKUP(O69,EventConfig!A:C,3,FALSE)=4),3,\"\"),1)))","v":""},{"$f":"IF(AI69=\"\",\"\",CHOOSE(AI69,IF(AK69=\"\",A69+1,AK69),CONCATENATE(IF(AK69=\"\",A69+1,AK69),\";101\"),IF(AK69=\"\",O69+1,AK69)))","v":""},null,5066,131]
[null,"",null,"",{"$nulls":7},"",null,null,null,"",{"$nulls":18},{"$f":"IF(A70=\"\",\"\",IF(ISNUMBER(Y70),2,IF(A71=\"\",IF(OR(AK70>0,VLOOKUP(O70,EventConfig!A:C,3,FALSE)=4),3,\"\"),1)))","v":""},null,null,{"$f":"IF(A70=\"\",\"\",MAX(B70,D70,L70,X70,AA70,AL69,AL68,AD70))","v":""},{"$f":"O70","v":0}]
[{"$f":"O71*100+P71","v":13201},5067,"使用神识探得资源","",{"$nulls":6},{"$f":"IF(J71=\"\",\"\",VLOOKUP(J71,EventNPC!A:F,5,FALSE))","v":""},5068,"此处仙气缭绕，你用神识一探果然探得丰富资源！",null,132,1,{"$f":"_xlfn.TEXTJOIN(\";\",1,R71:S71)","v":""},null,null,{"$f":"IF(R71=\"\",\"\",\"-\"&VLOOKUP(R71,EventConditionConfig!A:C,3,FALSE)&IF(S71=\"\",\"\",CHAR(10)&\"-\"&VLOOKUP(S71,EventConditionConfig!A:C,3,FALSE)))","v":""},{"$f":"IF(Y71=\"\",\"\",IF(ISTEXT(Y71),1,2))","v":""},{"$f":"IF(U71=1,_xlfn.TEXTJOIN(\";\",1,IF(Z71=\"\",A71+1,Z71),IF(AND(AA71<>\"\",AC71=\"\"),A71+1,AC71),IF(AND(AD71<>\"\",AF71=\"\"),A71+1,AF71)),IF(U71=2,Y71,\"\"))","v":""},{"$f":"_xlfn.TEXTJOIN(\";\",1,X71,AA71,AD71)","v":""},{"$f":"IF(OR(ISNUMBER(Y71),Y71=\"\"),\"\",MAX(AL70,AL68,B71,D71,L71)+1)","v":""},null,null,{"$f":"IF(OR(ISNUMBER(AB71),AB71=\"\"),\"\",X71+1)","v":""},null,null,{"$f":"IF(OR(ISNUMBER(AE71),AE71=\"\"),\"\",AA71+1)","v":""},{"$nulls":4},{"$f":"IF(A71=\"\",\"\",IF(ISNUMBER(Y71),2,IF(A72=\"\",IF(OR(AK71>0,VLOOKUP(O71,EventConfig!A:C,3,FALSE)=4),3,\"\"),1)))","v":""},{"$f":"IF(AI71=\"\",\"\",CHOOSE(AI71,IF(AK71=\"\",A71+1,AK71),CONCATENATE(IF(AK71=\"\",A71+1,AK71),\";101\"),IF(AK71=\"\",O71+1,AK71)))","v":""},null,5068,132]
[null,"",null,"",{"$nulls":7},"",null,null,null,"",{"$nulls":18},{"$f":"IF(A72=\"\",\"\",IF(ISNUMBER(Y72),2,IF(A73=\"\",IF(OR(AK72>0,VLOOKUP(O72,EventConfig!A:C,3,FALSE)=4),3,\"\"),1)))","v":""},null,null,"",0]
[{"$f":"O73*100+P73","v":13301},5069,"使用神识探得资源","",{"$nulls":6},{"$f":"IF(J73=\"\",\"\",VLOOKUP(J73,EventNPC!A:F,5,FALSE))","v":""},5070,"此处仙气缭绕，你用神识一探果然探得丰富资源！",null,133,1,{"$f":"_xlfn.TEXTJOIN(\";\",1,R73:S73)","v":""},null,null,{"$f":"IF(R73=\"\",\"\",\"-\"&VLOOKUP(R73,EventConditionConfig!A:C,3,FALSE)&IF(S73=\"\",\"\",CHAR(10)&\"-\"&VLOOKUP(S73,EventConditionConfig!A:C,3,FALSE)))","v":""},{"$f":"IF(Y73=\"\",\"\",IF(ISTEXT(Y73),1,2))","v":""},{"$f":"IF(U73=1,_xlfn.TEXTJOIN(\";\",1,IF(Z73=\"\",A73+1,Z73),IF(AND(AA73<>\"\",AC73=\"\"),A73+1,AC73),IF(AND(AD73<>\"\",AF73=\"\"),A73+1,AF73)),IF(U73=2,Y73,\"\"))","v":""},{"$f":"_xlfn.TEXTJOIN(\";\",1,X73,AA73,AD73)","v":""},{"$f":"IF(OR(ISNUMBER(Y73),Y73=\"\"),\"\",MAX(AL72,AL70,B73,D73,L73)+1)","v":""},null,null,{"$f":"IF(OR(ISNUMBER(AB73),AB73=\"\"),\"\",X73+1)","v":""},null,null,{"$f":"IF(OR(ISNUMBER(AE73),AE73=\"\"),\"\",AA73+1)","v":""},{"$nulls":4},{"$f":"IF(A73=\"\",\"\",IF(ISNUMBER(Y73),2,IF(A74=\"\",IF(OR(AK73>0,VLOOKUP(O73,EventConfig!A:C,3,FALSE)=4),3,\"\"),1)))","v":""},{"$f":"IF(AI73=\"\",\"\",CHOOSE(AI73,IF(AK73=\"\",A73+1,AK73),CONCATENATE(IF(AK73=\"\",A73+1,AK73),\";101\"),IF(AK73=\"\",O73+1,AK73)))","v":""},null,5070,133]
[null,{"$f":"IF(C74=\"\",\"\",IF(C74=C73,B73,MAX(AL73,AL72)+1))","v":""},null,"",{"$nulls":7},{"$f":"IF(M74=\"\",\"\",MAX(AL73,AL72,B74,D74)+1)","v":""},null,null,null,{"$f":"IF(O74=\"\",\"\",IF(O74=O73,P73+1,1))","v":""},{"$nulls":18},{"$f":"IF(A74=\"\",\"\",IF(ISNUMBER(Y74),2,IF(A75=\"\",IF(OR(AK74>0,VLOOKUP(O74,EventConfig!A:C,3,FALSE)=4),3,\"\"),1)))","v":""},null,null,"",0]
[{"$f":"O75*100+P75","v":13401},5071,"使用神识探得资源",{"$f":"IF(E75=\"\",\"\",IF(E75=E74,D74,MAX(AL74,AL73,B75)+1))","v":""},{"$nulls":6},{"$f":"IF(J75=\"\",\"\",VLOOKUP(J75,EventNPC!A:F,5,FALSE))","v":""},5072,"此处仙气缭绕，你用神识一探果然探得丰富资源！",null,134,1,{"$f":"_xlfn.TEXTJOIN(\";\",1,R75:S75)","v":""},null,null,{"$f":"IF(R75=\"\",\"\",\"-\"&VLOOKUP(R75,EventConditionConfig!A:C,3,FALSE)&IF(S75=\"\",\"\",CHAR(10)&\"-\"&VLOOKUP(S75,EventConditionConfig!A:C,3,FALSE)))","v":""},{"$f":"IF(Y75=\"\",\"\",IF(ISTEXT(Y75),1,2))","v":""},{"$f":"IF(U75=1,_xlfn.TEXTJOIN(\";\",1,IF(Z75=\"\",A75+1,Z75),IF(AND(AA75<>\"\",AC75=\"\"),A75+1,AC75),IF(AND(AD75<>\"\",AF75=\"\"),A75+1,AF75)),IF(U75=2,Y75,\"\"))","v":""},{"$f":"_xlfn.TEXTJOIN(\";\",1,X75,AA75,AD75)","v":""},{"$f":"IF(OR(ISNUMBER(Y75),Y75=\"\"),\"\",MAX(AL74,AL72,B75,D75,L75)+1)","v":""},null,null,{"$f":"IF(OR(ISNUMBER(AB75),AB75=\"\"),\"\",X75+1)","v":""},null,null,{"$f":"IF(OR(ISNUMBER(AE75),AE75=\"\"),\"\",AA75+1)","v":""},{"$nulls":4},{"$f":"IF(A75=\"\",\"\",IF(ISNUMBER(Y75),2,IF(A76=\"\",IF(OR(AK75>0,VLOOKUP(O75,EventConfig!A:C,3,FALSE)=4),3,\"\"),1)))","v":""},{"$f":"IF(AI75=\"\",\"\",CHOOSE(AI75,IF(AK75=\"\",A75+1,AK75),CONCATENATE(IF(AK75=\"\",A75+1,AK75),\";101\"),IF(AK75=\"\",O75+1,AK75)))","v":""},null,5072,134]
[null,"",null,"",{"$nulls":7},"",null,null,null,"",{"$nulls":18},{"$f":"IF(A76=\"\",\"\",IF(ISNUMBER(Y76),2,IF(A77=\"\",IF(OR(AK76>0,VLOOKUP(O76,EventConfig!A:C,3,FALSE)=4),3,\"\"),1)))","v":""},null,null,"",0]
[{"$f":"O77*100+P77","v":13501},5073,"使用神识探得资源","",{"$nulls":6},{"$f":"IF(J77=\"\",\"\",VLOOKUP(J77,EventNPC!A:F,5,FALSE))","v":""},5074,"此处仙气缭绕，你用神识一探果然探得丰富资源！",null,135,1,{"$f":"_xlfn.TEXTJOIN(\";\",1,R77:S77)","v":""},null,null,{"$f":"IF(R77=\"\",\"\",\"-\"&VLOOKUP(R77,EventConditionConfig!A:C,3,FALSE)&IF(S77=\"\",\"\",CHAR(10)&\"-\"&VLOOKUP(S77,EventConditionConfig!A:C,3,FALSE)))","v":""},{"$f":"IF(Y77=\"\",\"\",IF(ISTEXT(Y77),1,2))","v":""},{"$f":"IF(U77=1,_xlfn.TEXTJOIN(\";\",1,IF(Z77=\"\",A77+1,Z77),IF(AND(AA77<>\"\",AC77=\"\"),A77+1,AC77),IF(AND(AD77<>\"\",AF77=\"\"),A77+1,AF77)),IF(U77=2,Y77,\"\"))","v":""},{"$f":"_xlfn.TEXTJOIN(\";\",1,X77,AA77,AD77)","v":""},{"$f":"IF(OR(ISNUMBER(Y77),Y77=\"\"),\"\",MAX(AL76,AL74,B77,D77,L77)+1)","v":""},null,null,{"$f":"IF(OR(ISNUMBER(AB77),AB77=\"\"),\"\",X77+1)","v":""},null,null,{"$f":"IF(OR(ISNUMBER(AE77),AE77=\"\"),\"\",AA77+1)","v":""},{"$nulls":4},{"$f":"IF(A77=\"\",\"\",IF(ISNUMBER(Y77),2,IF(A78=\"\",IF(OR(AK77>0,VLOOKUP(O77,EventConfig!A:C,3,FALSE)=4),3,\"\"),1)))","v":""},{"$f":"IF(AI77=\"\",\"\",CHOOSE(AI77,IF(AK77=\"\",A77+1,AK77),CONCATENATE(IF(AK77=\"\",A77+1,AK77),\";101\"),IF(AK77=\"\",O77+1,AK77)))","v":""},null,5074,135]
[null,"",null,"",{"$nulls":7},"",null,null,null,"",{"$nulls":18},{"$f":"IF(A78=\"\",\"\",IF(ISNUMBER(Y78),2,IF(A79=\"\",IF(OR(AK78>0,VLOOKUP(O78,EventConfig!A:C,3,FALSE)=4),3,\"\"),1)))","v":""},null,null,"",0]
[{"$f":"O79*100+P79","v":13601},5075,"使用神识探得资源","",{"$nulls":6},{"$f":"IF(J79=\"\",\"\",VLOOKUP(J79,EventNPC!A:F,5,FALSE))","v":""},5076,"此处仙气缭绕，你用神识一探果然探得丰富资源！",null,136,1,{"$f":"_xlfn.TEXTJOIN(\";\",1,R79:S79)","v":""},null,null,{"$f":"IF(R79=\"\",\"\",\"-\"&VLOOKUP(R79,EventConditionConfig!A:C,3,FALSE)&IF(S79=\"\",\"\",CHAR(10)&\"-\"&VLOOKUP(S79,EventConditionConfig!A:C,3,FALSE)))","v":""},{"$f":"IF(Y79=\"\",\"\",IF(ISTEXT(Y79),1,2))","v":""},{"$f":"IF(U79=1,_xlfn.TEXTJOIN(\";\",1,IF(Z79=\"\",A79+1,Z79),IF(AND(AA79<>\"\",AC79=\"\"),A79+1,AC79),IF(AND(AD79<>\"\",AF79=\"\"),A79+1,AF79)),IF(U79=2,Y79,\"\"))","v":""},{"$f":"_xlfn.TEXTJOIN(\";\",1,X79,AA79,AD79)","v":""},null,null,null,{"$f":"IF(OR(ISNUMBER(AB79),AB79=\"\"),\"\",X79+1)","v":""},null,null,{"$f":"IF(OR(ISNUMBER(AE79),AE79=\"\"),\"\",AA79+1)","v":""},{"$nulls":4},{"$f":"IF(A79=\"\",\"\",IF(ISNUMBER(Y79),2,IF(A80=\"\",IF(OR(AK79>0,VLOOKUP(O79,EventConfig!A:C,3,FALSE)=4),3,\"\"),1)))","v":""},{"$f":"IF(AI79=\"\",\"\",CHOOSE(AI79,IF(AK79=\"\",A79+1,AK79),CONCATENATE(IF(AK79=\"\",A79+1,AK79),\";101\"),IF(AK79=\"\",O79+1,AK79)))","v":""},null,5076,136]
[null,"",null,"",{"$nulls":7},"",null,null,null,"","",null,null,{"$f":"IF(R80=\"\",\"\",\"-\"&VLOOKUP(R80,EventConditionConfig!A:C,3,FALSE)&IF(S80=\"\",\"\",CHAR(10)&\"-\"&VLOOKUP(S80,EventConditionConfig!A:C,3,FALSE)))","v":""},null,null,{"$f":"_xlfn.TEXTJOIN(\";\",1,X80,AA80,AD80)","v":""},null,null,null,"",null,null,"",{"$nulls":4},{"$f":"IF(A80=\"\",\"\",IF(ISNUMBER(Y80),2,IF(A81=\"\",IF(OR(AK80>0,VLOOKUP(O80,EventConfig!A:C,3,FALSE)=4),3,\"\"),1)))","v":""},null,null,"",0]
[{"$f":"O81*100+P81","v":13701},5077,"击败妖邪","",{"$nulls":6},{"$f":"IF(J81=\"\",\"\",VLOOKUP(J81,EventNPC!A:F,5,FALSE))","v":""},5078,"你发现一只落单的妖邪，应战！",null,137,1,{"$f":"_xlfn.TEXTJOIN(\";\",1,R81:S81)","v":""},null,null,{"$f":"IF(R81=\"\",\"\",\"-\"&VLOOKUP(R81,EventConditionConfig!A:C,3,FALSE)&IF(S81=\"\",\"\",CHAR(10)&\"-\"&VLOOKUP(S81,EventConditionConfig!A:C,3,FALSE)))","v":""},{"$f":"IF(Y81=\"\",\"\",IF(ISTEXT(Y81),1,2))","v":2},{"$f":"IF(U81=1,_xlfn.TEXTJOIN(\";\",1,IF(Z81=\"\",A81+1,Z81),IF(AND(AA81<>\"\",AC81=\"\"),A81+1,AC81),IF(AND(AD81<>\"\",AF81=\"\"),A81+1,AF81)),IF(U81=2,Y81,\"\"))","v":5005},"",null,5005,null,"",null,null,"",{"$nulls":4},{"$f":"IF(A81=\"\",\"\",IF(ISNUMBER(Y81),2,IF(A82=\"\",IF(OR(AK81>0,VLOOKUP(O81,EventConfig!A:C,3,FALSE)=4),3,\"\"),1)))","v":2},{"$f":"IF(AI81=\"\",\"\",CHOOSE(AI81,IF(AK81=\"\",A81+1,AK81),CONCATENATE(IF(AK81=\"\",A81+1,AK81),\";101\"),IF(AK81=\"\",O81+1,AK81)))","v":"13702;101"},null,5078,137]
[null,"",null,"",{"$nulls":7},"",null,null,null,"",{"$nulls":6},"",{"$nulls":11},{"$f":"IF(A82=\"\",\"\",IF(ISNUMBER(Y82),2,IF(A83=\"\",IF(OR(AK82>0,VLOOKUP(O82,EventConfig!A:C,3,FALSE)=4),3,\"\"),1)))","v":""},null,null,"",0]
[{"$f":"O83*100+P83","v":13801},5079,"击败妖邪","",{"$nulls":6},{"$f":"IF(J83=\"\",\"\",VLOOKUP(J83,EventNPC!A:F,5,FALSE))","v":""},5080,"你发现一只落单的妖邪，应战！",null,138,1,{"$f":"_xlfn.TEXTJOIN(\";\",1,R83:S83)","v":""},null,null,{"$f":"IF(R83=\"\",\"\",\"-\"&VLOOKUP(R83,EventConditionConfig!A:C,3,FALSE)&IF(S83=\"\",\"\",CHAR(10)&\"-\"&VLOOKUP(S83,EventConditionConfig!A:C,3,FALSE)))","v":""},{"$f":"IF(Y83=\"\",\"\",IF(ISTEXT(Y83),1,2))","v":2},{"$f":"IF(U83=1,_xlfn.TEXTJOIN(\";\",1,IF(Z83=\"\",A83+1,Z83),IF(AND(AA83<>\"\",AC83=\"\"),A83+1,AC83),IF(AND(AD83<>\"\",AF83=\"\"),A83+1,AF83)),IF(U83=2,Y83,\"\"))","v":5010},"",null,5010,null,{"$f":"IF(OR(ISNUMBER(AB83),AB83=\"\"),\"\",X83+1)","v":""},null,null,{"$f":"IF(OR(ISNUMBER(AE83),AE83=\"\"),\"\",AA83+1)","v":""},{"$nulls":4},{"$f":"IF(A83=\"\",\"\",IF(ISNUMBER(Y83),2,IF(A84=\"\",IF(OR(AK83>0,VLOOKUP(O83,EventConfig!A:C,3,FALSE)=4),3,\"\"),1)))","v":2},{"$f":"IF(AI83=\"\",\"\",CHOOSE(AI83,IF(AK83=\"\",A83+1,AK83),CONCATENATE(IF(AK83=\"\",A83+1,AK83),\";101\"),IF(AK83=\"\",O83+1,AK83)))","v":"13802;101"},null,5080,138]
[null,"",null,"",{"$nulls":7},"",null,null,null,"",{"$nulls":6},"",{"$nulls":11},{"$f":"IF(A84=\"\",\"\",IF(ISNUMBER(Y84),2,IF(A85=\"\",IF(OR(AK84>0,VLOOKUP(O84,EventConfig!A:C,3,FALSE)=4),3,\"\"),1)))","v":""},null,null,"",0]
[{"$f":"O85*100+P85","v":13901},5081,"使用神识探得资源","",{"$nulls":6},{"$f":"IF(J85=\"\",\"\",VLOOKUP(J85,EventNPC!A:F,5,FALSE))","v":""},5082,"此处仙气缭绕，你用神识一探果然探得丰富资源！",null,139,1,{"$f":"_xlfn.TEXTJOIN(\";\",1,R85:S85)","v":""},null,null,{"$f":"IF(R85=\"\",\"\",\"-\"&VLOOKUP(R85,EventConditionConfig!A:C,3,FALSE)&IF(S85=\"\",\"\",CHAR(10)&\"-\"&VLOOKUP(S85,EventConditionConfig!A:C,3,FALSE)))","v":""},{"$f":"IF(Y85=\"\",\"\",IF(ISTEXT(Y85),1,2))","v":""},{"$f":"IF(U85=1,_xlfn.TEXTJOIN(\";\",1,IF(Z85=\"\",A85+1,Z85),IF(AND(AA85<>\"\",AC85=\"\"),A85+1,AC85),IF(AND(AD85<>\"\",AF85=\"\"),A85+1,AF85)),IF(U85=2,Y85,\"\"))","v":""},"",null,null,null,{"$f":"IF(OR(ISNUMBER(AB85),AB85=\"\"),\"\",X85+1)","v":""},null,null,{"$f":"IF(OR(ISNUMBER(AE85),AE85=\"\"),\"\",AA85+1)","v":""},{"$nulls":4},{"$f":"IF(A85=\"\",\"\",IF(ISNUMBER(Y85),2,IF(A86=\"\",IF(OR(AK85>0,VLOOKUP(O85,EventConfig!A:C,3,FALSE)=4),3,\"\"),1)))","v":""},{"$f":"IF(AI85=\"\",\"\",CHOOSE(AI85,IF(AK85=\"\",A85+1,AK85),CONCATENATE(IF(AK85=\"\",A85+1,AK85),\";101\"),IF(AK85=\"\",O85+1,AK85)))","v":""},null,5082,139]
[null,"",null,"",{"$nulls":7},"",null,null,null,"",{"$nulls":6},"",{"$nulls":11},{"$f":"IF(A86=\"\",\"\",IF(ISNUMBER(Y86),2,IF(A87=\"\",IF(OR(AK86>0,VLOOKUP(O86,EventConfig!A:C,3,FALSE)=4),3,\"\"),1)))","v":""},null,null,"",0]
[{"$f":"O87*100+P87","v":14001},5083,"使用神识探得资源","",{"$nulls":6},{"$f":"IF(J87=\"\",\"\",VLOOKUP(J87,EventNPC!A:F,5,FALSE))","v":""},5084,"此处仙气缭绕，你用神识一探果然探得丰富资源！",null,140,1,{"$f":"_xlfn.TEXTJOIN(\";\",1,R87:S87)","v":""},null,null,{"$f":"IF(R87=\"\",\"\",\"-\"&VLOOKUP(R87,EventConditionConfig!A:C,3,FALSE)&IF(S87=\"\",\"\",CHAR(10)&\"-\"&VLOOKUP(S87,EventConditionConfig!A:C,3,FALSE)))","v":""},{"$f":"IF(Y87=\"\",\"\",IF(ISTEXT(Y87),1,2))","v":""},{"$f":"IF(U87=1,_xlfn.TEXTJOIN(\";\",1,IF(Z87=\"\",A87+1,Z87),IF(AND(AA87<>\"\",AC87=\"\"),A87+1,AC87),IF(AND(AD87<>\"\",AF87=\"\"),A87+1,AF87)),IF(U87=2,Y87,\"\"))","v":""},"",null,null,null,{"$f":"IF(OR(ISNUMBER(AB87),AB87=\"\"),\"\",X87+1)","v":""},null,null,{"$f":"IF(OR(ISNUMBER(AE87),AE87=\"\"),\"\",AA87+1)","v":""},{"$nulls":4},{"$f":"IF(A87=\"\",\"\",IF(ISNUMBER(Y87),2,IF(A88=\"\",IF(OR(AK87>0,VLOOKUP(O87,EventConfig!A:C,3,FALSE)=4),3,\"\"),1)))","v":""},{"$f":"IF(AI87=\"\",\"\",CHOOSE(AI87,IF(AK87=\"\",A87+1,AK87),CONCATENATE(IF(AK87=\"\",A87+1,AK87),\";101\"),IF(AK87=\"\",O87+1,AK87)))","v":""},null,5084,140]
[null,"",null,"",{"$nulls":7},"",null,null,null,"",{"$nulls":6},"",{"$nulls":11},{"$f":"IF(A88=\"\",\"\",IF(ISNUMBER(Y88),2,IF(A89=\"\",IF(OR(AK88>0,VLOOKUP(O88,EventConfig!A:C,3,FALSE)=4),3,\"\"),1)))","v":""},null,null,"",0]
[{"$f":"O89*100+P89","v":14101},5085,"使用神识探得资源","",{"$nulls":6},{"$f":"IF(J89=\"\",\"\",VLOOKUP(J89,EventNPC!A:F,5,FALSE))","v":""},5086,"此处仙气缭绕，你用神识一探果然探得丰富资源！",null,141,1,{"$f":"_xlfn.TEXTJOIN(\";\",1,R89:S89)","v":""},null,null,{"$f":"IF(R89=\"\",\"\",\"-\"&VLOOKUP(R89,EventConditionConfig!A:C,3,FALSE)&IF(S89=\"\",\"\",CHAR(10)&\"-\"&VLOOKUP(S89,EventConditionConfig!A:C,3,FALSE)))","v":""},{"$f":"IF(Y89=\"\",\"\",IF(ISTEXT(Y89),1,2))","v":""},{"$f":"IF(U89=1,_xlfn.TEXTJOIN(\";\",1,IF(Z89=\"\",A89+1,Z89),IF(AND(AA89<>\"\",AC89=\"\"),A89+1,AC89),IF(AND(AD89<>\"\",AF89=\"\"),A89+1,AF89)),IF(U89=2,Y89,\"\"))","v":""},"",null,null,null,{"$f":"IF(OR(ISNUMBER(AB89),AB89=\"\"),\"\",X89+1)","v":""},null,null,{"$f":"IF(OR(ISNUMBER(AE89),AE89=\"\"),\"\",AA89+1)","v":""},{"$nulls":4},{"$f":"IF(A89=\"\",\"\",IF(ISNUMBER(Y89),2,IF(A90=\"\",IF(OR(AK89>0,VLOOKUP(O89,EventConfig!A:C,3,FALSE)=4),3,\"\"),1)))","v":""},{"$f":"IF(AI89=\"\",\"\",CHOOSE(AI89,IF(AK89=\"\",A89+1,AK89),CONCATENATE(IF(AK89=\"\",A89+1,AK89),\";101\"),IF(AK89=\"\",O89+1,AK89)))","v":""},null,5086,141]
[null,"",null,"",{"$nulls":7},"",null,null,null,"",{"$nulls":6},"",{"$nulls":11},{"$f":"IF(A90=\"\",\"\",IF(ISNUMBER(Y90),2,IF(A91=\"\",IF(OR(AK90>0,VLOOKUP(O90,EventConfig!A:C,3,FALSE)=4),3,\"\"),1)))","v":""},null,null,"",0]
[{"$f":"O91*100+P91","v":14201},5087,"使用神识探得资源","",{"$nulls":6},{"$f":"IF(J91=\"\",\"\",VLOOKUP(J91,EventNPC!A:F,5,FALSE))","v":""},5088,"此处仙气缭绕，你用神识一探果然探得丰富资源！",null,142,1,{"$f":"_xlfn.TEXTJOIN(\";\",1,R91:S91)","v":""},null,null,{"$f":"IF(R91=\"\",\"\",\"-\"&VLOOKUP(R91,EventConditionConfig!A:C,3,FALSE)&IF(S91=\"\",\"\",CHAR(10)&\"-\"&VLOOKUP(S91,EventConditionConfig!A:C,3,FALSE)))","v":""},{"$f":"IF(Y91=\"\",\"\",IF(ISTEXT(Y91),1,2))","v":""},{"$f":"IF(U91=1,_xlfn.TEXTJOIN(\";\",1,IF(Z91=\"\",A91+1,Z91),IF(AND(AA91<>\"\",AC91=\"\"),A91+1,AC91),IF(AND(AD91<>\"\",AF91=\"\"),A91+1,AF91)),IF(U91=2,Y91,\"\"))","v":""},"",null,null,null,{"$f":"IF(OR(ISNUMBER(AB91),AB91=\"\"),\"\",X91+1)","v":""},null,null,{"$f":"IF(OR(ISNUMBER(AE91),AE91=\"\"),\"\",AA91+1)","v":""},{"$nulls":4},{"$f":"IF(A91=\"\",\"\",IF(ISNUMBER(Y91),2,IF(A92=\"\",IF(OR(AK91>0,VLOOKUP(O91,EventConfig!A:C,3,FALSE)=4),3,\"\"),1)))","v":""},{"$f":"IF(AI91=\"\",\"\",CHOOSE(AI91,IF(AK91=\"\",A91+1,AK91),CONCATENATE(IF(AK91=\"\",A91+1,AK91),\";101\"),IF(AK91=\"\",O91+1,AK91)))","v":""},null,5088,142]
[null,"",null,"",{"$nulls":7},"",null,null,null,"",{"$nulls":6},"",{"$nulls":11},{"$f":"IF(A92=\"\",\"\",IF(ISNUMBER(Y92),2,IF(A93=\"\",IF(OR(AK92>0,VLOOKUP(O92,EventConfig!A:C,3,FALSE)=4),3,\"\"),1)))","v":""},null,null,"",0]
[{"$f":"O93*100+P93","v":14301},5089,"使用神识探得资源","",{"$nulls":6},{"$f":"IF(J93=\"\",\"\",VLOOKUP(J93,EventNPC!A:F,5,FALSE))","v":""},5090,"此处仙气缭绕，你用神识一探果然探得丰富资源！",null,143,1,{"$f":"_xlfn.TEXTJOIN(\";\",1,R93:S93)","v":""},null,null,{"$f":"IF(R93=\"\",\"\",\"-\"&VLOOKUP(R93,EventConditionConfig!A:C,3,FALSE)&IF(S93=\"\",\"\",CHAR(10)&\"-\"&VLOOKUP(S93,EventConditionConfig!A:C,3,FALSE)))","v":""},{"$f":"IF(Y93=\"\",\"\",IF(ISTEXT(Y93),1,2))","v":""},{"$f":"IF(U93=1,_xlfn.TEXTJOIN(\";\",1,IF(Z93=\"\",A93+1,Z93),IF(AND(AA93<>\"\",AC93=\"\"),A93+1,AC93),IF(AND(AD93<>\"\",AF93=\"\"),A93+1,AF93)),IF(U93=2,Y93,\"\"))","v":""},"",null,null,null,{"$f":"IF(OR(ISNUMBER(AB93),AB93=\"\"),\"\",X93+1)","v":""},null,null,{"$f":"IF(OR(ISNUMBER(AE93),AE93=\"\"),\"\",AA93+1)","v":""},{"$nulls":4},{"$f":"IF(A93=\"\",\"\",IF(ISNUMBER(Y93),2,IF(A94=\"\",IF(OR(AK93>0,VLOOKUP(O93,EventConfig!A:C,3,FALSE)=4),3,\"\"),1)))","v":""},{"$f":"IF(AI93=\"\",\"\",CHOOSE(AI93,IF(AK93=\"\",A93+1,AK93),CONCATENATE(IF(AK93=\"\",A93+1,AK93),\";101\"),IF(AK93=\"\",O93+1,AK93)))","v":""},null,5090,143]
[null,"",null,"",{"$nulls":7},"",null,null,null,"",{"$nulls":6},"",{"$nulls":11},{"$f":"IF(A94=\"\",\"\",IF(ISNUMBER(Y94),2,IF(A95=\"\",IF(OR(AK94>0,VLOOKUP(O94,EventConfig!A:C,3,FALSE)=4),3,\"\"),1)))","v":""},null,null,"",0]
[{"$f":"O95*100+P95","v":14401},5091,"使用神识探得资源","",{"$nulls":6},{"$f":"IF(J95=\"\",\"\",VLOOKUP(J95,EventNPC!A:F,5,FALSE))","v":""},5092,"此处仙气缭绕，你用神识一探果然探得丰富资源！",null,144,1,{"$f":"_xlfn.TEXTJOIN(\";\",1,R95:S95)","v":""},null,null,{"$f":"IF(R95=\"\",\"\",\"-\"&VLOOKUP(R95,EventConditionConfig!A:C,3,FALSE)&IF(S95=\"\",\"\",CHAR(10)&\"-\"&VLOOKUP(S95,EventConditionConfig!A:C,3,FALSE)))","v":""},{"$f":"IF(Y95=\"\",\"\",IF(ISTEXT(Y95),1,2))","v":""},{"$f":"IF(U95=1,_xlfn.TEXTJOIN(\";\",1,IF(Z95=\"\",A95+1,Z95),IF(AND(AA95<>\"\",AC95=\"\"),A95+1,AC95),IF(AND(AD95<>\"\",AF95=\"\"),A95+1,AF95)),IF(U95=2,Y95,\"\"))","v":""},"",{"$f":"IF(OR(ISNUMBER(Y95),Y95=\"\"),\"\",MAX(AL94,AL92,B95,D95,L95)+1)","v":""},null,null,{"$f":"IF(OR(ISNUMBER(AB95),AB95=\"\"),\"\",X95+1)","v":""},null,null,{"$f":"IF(OR(ISNUMBER(AE95),AE95=\"\"),\"\",AA95+1)","v":""},{"$nulls":4},{"$f":"IF(A95=\"\",\"\",IF(ISNUMBER(Y95),2,IF(A96=\"\",IF(OR(AK95>0,VLOOKUP(O95,EventConfig!A:C,3,FALSE)=4),3,\"\"),1)))","v":""},{"$f":"IF(AI95=\"\",\"\",CHOOSE(AI95,IF(AK95=\"\",A95+1,AK95),CONCATENATE(IF(AK95=\"\",A95+1,AK95),\";101\"),IF(AK95=\"\",O95+1,AK95)))","v":""},null,5092,144]
[null,"",null,"",{"$nulls":7},"",null,null,null,"",{"$nulls":6},"",{"$nulls":11},{"$f":"IF(A96=\"\",\"\",IF(ISNUMBER(Y96),2,IF(A97=\"\",IF(OR(AK96>0,VLOOKUP(O96,EventConfig!A:C,3,FALSE)=4),3,\"\"),1)))","v":""},null,null,"",0]
[{"$f":"O97*100+P97","v":14501},5093,"使用神识探得资源","",{"$nulls":6},{"$f":"IF(J97=\"\",\"\",VLOOKUP(J97,EventNPC!A:F,5,FALSE))","v":""},5094,"此处仙气缭绕，你用神识一探果然探得丰富资源！",null,145,1,{"$f":"_xlfn.TEXTJOIN(\";\",1,R97:S97)","v":""},null,null,{"$f":"IF(R97=\"\",\"\",\"-\"&VLOOKUP(R97,EventConditionConfig!A:C,3,FALSE)&IF(S97=\"\",\"\",CHAR(10)&\"-\"&VLOOKUP(S97,EventConditionConfig!A:C,3,FALSE)))","v":""},{"$f":"IF(Y97=\"\",\"\",IF(ISTEXT(Y97),1,2))","v":""},{"$f":"IF(U97=1,_xlfn.TEXTJOIN(\";\",1,IF(Z97=\"\",A97+1,Z97),IF(AND(AA97<>\"\",AC97=\"\"),A97+1,AC97),IF(AND(AD97<>\"\",AF97=\"\"),A97+1,AF97)),IF(U97=2,Y97,\"\"))","v":""},"",{"$f":"IF(OR(ISNUMBER(Y97),Y97=\"\"),\"\",MAX(AL96,AL94,B97,D97,L97)+1)","v":""},null,null,{"$f":"IF(OR(ISNUMBER(AB97),AB97=\"\"),\"\",X97+1)","v":""},null,null,{"$f":"IF(OR(ISNUMBER(AE97),AE97=\"\"),\"\",AA97+1)","v":""},{"$nulls":4},{"$f":"IF(A97=\"\",\"\",IF(ISNUMBER(Y97),2,IF(A98=\"\",IF(OR(AK97>0,VLOOKUP(O97,EventConfig!A:C,3,FALSE)=4),3,\"\"),1)))","v":""},{"$f":"IF(AI97=\"\",\"\",CHOOSE(AI97,IF(AK97=\"\",A97+1,AK97),CONCATENATE(IF(AK97=\"\",A97+1,AK97),\";101\"),IF(AK97=\"\",O97+1,AK97)))","v":""},null,5094,145]
[null,{"$f":"IF(C98=\"\",\"\",IF(C98=C53,B53,MAX(AL53,AL52)+1))","v":""},null,{"$f":"IF(E98=\"\",\"\",IF(E98=E53,D53,MAX(AL53,AL52,B98)+1))","v":""},{"$nulls":7},{"$f":"IF(M98=\"\",\"\",MAX(AL53,AL52,B98,D98)+1)","v":""},null,null,null,{"$f":"IF(O98=\"\",\"\",IF(O98=O53,P53+1,1))","v":""},{"$f":"_xlfn.TEXTJOIN(\";\",1,R98:S98)","v":""},null,null,{"$f":"IF(R98=\"\",\"\",\"-\"&VLOOKUP(R98,EventConditionConfig!A:C,3,FALSE)&IF(S98=\"\",\"\",CHAR(10)&\"-\"&VLOOKUP(S98,EventConditionConfig!A:C,3,FALSE)))","v":""},null,null,null,{"$f":"IF(OR(ISNUMBER(Y98),Y98=\"\"),\"\",MAX(AL53,AL52,B98,D98,L98)+1)","v":""},null,null,{"$f":"IF(OR(ISNUMBER(AB98),AB98=\"\"),\"\",X98+1)","v":""},null,null,{"$f":"IF(OR(ISNUMBER(AE98),AE98=\"\"),\"\",AA98+1)","v":""},{"$nulls":4},{"$f":"IF(A98=\"\",\"\",IF(ISNUMBER(Y98),2,IF(A99=\"\",IF(OR(AK98>0,VLOOKUP(O98,EventConfig!A:C,3,FALSE)=4),3,\"\"),1)))","v":""},null,null,"",0]
[{"$f":"O99*100+P99","v":1101},{"$f":"IF(C99=\"\",\"\",IF(C99=C80,B80,MAX(AL80,AL35)+1))","v":""},null,{"$f":"IF(E99=\"\",\"\",IF(E99=E80,D80,MAX(AL80,AL35,B99)+1))","v":""},{"$nulls":7},{"$f":"IF(M99=\"\",\"\",MAX(AL80,AL35,B99,D99)+1)","v":5033},"你遇到一只拦路的妖兽，它看起来饥肠辘辘",null,11,{"$f":"IF(O99=\"\",\"\",IF(O99=O80,P80+1,1))","v":1},"",null,null,{"$f":"IF(R99=\"\",\"\",\"-\"&VLOOKUP(R99,EventConditionConfig!A:C,3,FALSE)&IF(S99=\"\",\"\",CHAR(10)&\"-\"&VLOOKUP(S99,EventConditionConfig!A:C,3,FALSE)))","v":""},null,null,null,{"$f":"IF(OR(ISNUMBER(Y99),Y99=\"\"),\"\",MAX(AL80,AL35,B99,D99,L99)+1)","v":""},null,null,"",null,null,"",{"$nulls":4},{"$f":"IF(A99=\"\",\"\",IF(ISNUMBER(Y99),2,IF(A100=\"\",IF(OR(AK99>0,VLOOKUP(O99,EventConfig!A:C,3,FALSE)=4),3,\"\"),1)))","v":1},{"$f":"A100","v":1102},null,5094,11]
[{"$f":"O100*100+P100","v":1102},{"$f":"IF(C100=\"\",\"\",IF(C100=C99,B99,MAX(AL99,AL80)+1))","v":""},null,{"$f":"IF(E100=\"\",\"\",IF(E100=E99,D99,MAX(AL99,AL80,B100)+1))","v":""},{"$nulls":7},{"$f":"IF(M100=\"\",\"\",MAX(AL99,AL80,B100,D100)+1)","v":5095},"你扔出一块鹿肉，趁它抢食之际，你祭出腰间的法宝",null,11,2,"",null,null,{"$f":"IF(R100=\"\",\"\",\"-\"&VLOOKUP(R100,EventConditionConfig!A:C,3,FALSE)&IF(S100=\"\",\"\",CHAR(10)&\"-\"&VLOOKUP(S100,EventConditionConfig!A:C,3,FALSE)))","v":""},null,null,null,{"$f":"IF(OR(ISNUMBER(Y100),Y100=\"\"),\"\",MAX(AL99,AL80,B100,D100,L100)+1)","v":""},null,null,"",null,null,"",{"$nulls":4},{"$f":"IF(A100=\"\",\"\",IF(ISNUMBER(Y100),2,IF(A101=\"\",IF(OR(AK100>0,VLOOKUP(O100,EventConfig!A:C,3,FALSE)=4),3,\"\"),1)))","v":1},{"$f":"A101","v":1103},null,5095,11]
[{"$f":"O101*100+P101","v":1103},"",null,"",{"$nulls":7},5096,"你成功诱捕了怪物，并从它身上吸取了一些修为",null,11,3,{"$f":"_xlfn.TEXTJOIN(\";\",1,R101:S101)","v":""},null,null,{"$f":"IF(R101=\"\",\"\",\"-\"&VLOOKUP(R101,EventConditionConfig!A:C,3,FALSE)&IF(S101=\"\",\"\",CHAR(10)&\"-\"&VLOOKUP(S101,EventConditionConfig!A:C,3,FALSE)))","v":""},null,null,null,"",null,null,"",null,null,"",{"$nulls":4},{"$f":"IF(A101=\"\",\"\",IF(ISNUMBER(Y101),2,IF(A102=\"\",IF(OR(AK101>0,VLOOKUP(O101,EventConfig!A:C,3,FALSE)=4),3,\"\"),1)))","v":{"$error":"#N/A"}},null,null,5096,11]
[null,"",null,"",{"$nulls":7},"",null,null,null,"","",null,null,{"$f":"IF(R102=\"\",\"\",\"-\"&VLOOKUP(R102,EventConditionConfig!A:C,3,FALSE)&IF(S102=\"\",\"\",CHAR(10)&\"-\"&VLOOKUP(S102,EventConditionConfig!A:C,3,FALSE)))","v":""},null,null,null,"",null,null,"",null,null,"",{"$nulls":4},{"$f":"IF(A102=\"\",\"\",IF(ISNUMBER(Y102),2,IF(A103=\"\",IF(OR(AK102>0,VLOOKUP(O102,EventConfig!A:C,3,FALSE)=4),3,\"\"),1)))","v":""},null,null,"",0]
[{"$f":"O103*100+P103","v":1201},"",null,"",{"$nulls":7},5097,"你偶遇一处仙气四溢无人生活的洞穴",null,12,1,"",null,null,{"$f":"IF(R103=\"\",\"\",\"-\"&VLOOKUP(R103,EventConditionConfig!A:C,3,FALSE)&IF(S103=\"\",\"\",CHAR(10)&\"-\"&VLOOKUP(S103,EventConditionConfig!A:C,3,FALSE)))","v":""},null,null,null,"",null,null,"",null,null,"",{"$nulls":4},{"$f":"IF(A103=\"\",\"\",IF(ISNUMBER(Y103),2,IF(A104=\"\",IF(OR(AK103>0,VLOOKUP(O103,EventConfig!A:C,3,FALSE)=4),3,\"\"),1)))","v":1},{"$f":"A104","v":1202},null,5097,12]
[{"$f":"O104*100+P104","v":1202},"",null,"",{"$nulls":7},5098,"不知哪位高人在洞穴内壁留下绝世秘籍",null,12,2,"",null,null,{"$f":"IF(R104=\"\",\"\",\"-\"&VLOOKUP(R104,EventConditionConfig!A:C,3,FALSE)&IF(S104=\"\",\"\",CHAR(10)&\"-\"&VLOOKUP(S104,EventConditionConfig!A:C,3,FALSE)))","v":""},null,null,null,"",null,null,"",null,null,"",{"$nulls":4},{"$f":"IF(A104=\"\",\"\",IF(ISNUMBER(Y104),2,IF(A105=\"\",IF(OR(AK104>0,VLOOKUP(O104,EventConfig!A:C,3,FALSE)=4),3,\"\"),1)))","v":1},{"$f":"A105","v":1203},null,5098,12]
[{"$f":"O105*100+P105","v":1203},"",null,"",{"$nulls":7},5099,"你仔细研读后，功法得到精进",null,12,3,"",null,null,{"$f":"IF(R105=\"\",\"\",\"-\"&VLOOKUP(R105,EventConditionConfig!A:C,3,FALSE)&IF(S105=\"\",\"\",CHAR(10)&\"-\"&VLOOKUP(S105,EventConditionConfig!A:C,3,FALSE)))","v":""},null,null,null,"",null,null,"",null,null,"",{"$nulls":4},{"$f":"IF(A105=\"\",\"\",IF(ISNUMBER(Y105),2,IF(A106=\"\",IF(OR(AK105>0,VLOOKUP(O105,EventConfig!A:C,3,FALSE)=4),3,\"\"),1)))","v":{"$error":"#N/A"}},null,null,5099,12]
[null,"",null,"",{"$nulls":7},"",null,null,null,"","",null,null,{"$f":"IF(R106=\"\",\"\",\"-\"&VLOOKUP(R106,EventConditionConfig!A:C,3,FALSE)&IF(S106=\"\",\"\",CHAR(10)&\"-\"&VLOOKUP(S106,EventConditionConfig!A:C,3,FALSE)))","v":""},null,null,null,"",null,null,"",null,null,"",{"$nulls":4},{"$f":"IF(A106=\"\",\"\",IF(ISNUMBER(Y106),2,IF(A107=\"\",IF(OR(AK106>0,VLOOKUP(O106,EventConfig!A:C,3,FALSE)=4),3,\"\"),1)))","v":""},null,null,"",0]
[{"$f":"O107*100+P107","v":1301},"",null,"",{"$nulls":7},5100,"你偶然发现一只枯萎的葫芦，但泛着蓝光",null,13,1,"",null,null,{"$f":"IF(R107=\"\",\"\",\"-\"&VLOOKUP(R107,EventConditionConfig!A:C,3,FALSE)&IF(S107=\"\",\"\",CHAR(10)&\"-\"&VLOOKUP(S107,EventConditionConfig!A:C,3,FALSE)))","v":""},null,null,null,"",null,null,"",null,null,"",{"$nulls":4},{"$f":"IF(A107=\"\",\"\",IF(ISNUMBER(Y107),2,IF(A108=\"\",IF(OR(AK107>0,VLOOKUP(O107,EventConfig!A:C,3,FALSE)=4),3,\"\"),1)))","v":1},{"$f":"A108","v":1302},null,5100,13]
[{"$f":"O108*100+P108","v":1302},"",null,"",{"$nulls":7},5101,"好奇的你凑近一看，不知谁将这件法宝遗落于此",null,13,2,"",null,null,{"$f":"IF(R108=\"\",\"\",\"-\"&VLOOKUP(R108,EventConditionConfig!A:C,3,FALSE)&IF(S108=\"\",\"\",CHAR(10)&\"-\"&VLOOKUP(S108,EventConditionConfig!A:C,3,FALSE)))","v":""},null,null,null,"",null,null,"",null,null,"",{"$nulls":4},{"$f":"IF(A108=\"\",\"\",IF(ISNUMBER(Y108),2,IF(A109=\"\",IF(OR(AK108>0,VLOOKUP(O108,EventConfig!A:C,3,FALSE)=4),3,\"\"),1)))","v":1},{"$f":"A109","v":1303},null,5101,13]
[{"$f":"O109*100+P109","v":1303},"",null,"",{"$nulls":7},5102,"但法宝已经枯竭，你后悔没有早点发现它",null,13,3,"",null,null,{"$f":"IF(R109=\"\",\"\",\"-\"&VLOOKUP(R109,EventConditionConfig!A:C,3,FALSE)&IF(S109=\"\",\"\",CHAR(10)&\"-\"&VLOOKUP(S109,EventConditionConfig!A:C,3,FALSE)))","v":""},null,null,null,"",null,null,"",null,null,"",{"$nulls":4},{"$f":"IF(A109=\"\",\"\",IF(ISNUMBER(Y109),2,IF(A110=\"\",IF(OR(AK109>0,VLOOKUP(O109,EventConfig!A:C,3,FALSE)=4),3,\"\"),1)))","v":1},{"$f":"A110","v":1304},null,5102,13]
[{"$f":"O110*100+P110","v":1304},"",null,"",{"$nulls":7},5103,"最后你从法宝中回收了一些玄晶",null,13,4,"",null,null,{"$f":"IF(R110=\"\",\"\",\"-\"&VLOOKUP(R110,EventConditionConfig!A:C,3,FALSE)&IF(S110=\"\",\"\",CHAR(10)&\"-\"&VLOOKUP(S110,EventConditionConfig!A:C,3,FALSE)))","v":""},null,null,null,"",null,null,"",null,null,"",{"$nulls":4},{"$f":"IF(A110=\"\",\"\",IF(ISNUMBER(Y110),2,IF(A111=\"\",IF(OR(AK110>0,VLOOKUP(O110,EventConfig!A:C,3,FALSE)=4),3,\"\"),1)))","v":{"$error":"#N/A"}},null,null,5103,13]
[null,"",null,"",{"$nulls":7},"",null,null,null,"","",null,null,{"$f":"IF(R111=\"\",\"\",\"-\"&VLOOKUP(R111,EventConditionConfig!A:C,3,FALSE)&IF(S111=\"\",\"\",CHAR(10)&\"-\"&VLOOKUP(S111,EventConditionConfig!A:C,3,FALSE)))","v":""},null,null,null,"",null,null,"",null,null,"",{"$nulls":4},{"$f":"IF(A111=\"\",\"\",IF(ISNUMBER(Y111),2,IF(A112=\"\",IF(OR(AK111>0,VLOOKUP(O111,EventConfig!A:C,3,FALSE)=4),3,\"\"),1)))","v":""},null,null,"",0]
[{"$f":"O112*100+P112","v":1401},"",null,"",{"$nulls":7},5104,"你路过一座矿山，一个闪光点引起了你的注意",null,14,1,{"$f":"_xlfn.TEXTJOIN(\";\",1,R112:S112)","v":""},null,null,{"$f":"IF(R112=\"\",\"\",\"-\"&VLOOKUP(R112,EventConditionConfig!A:C,3,FALSE)&IF(S112=\"\",\"\",CHAR(10)&\"-\"&VLOOKUP(S112,EventConditionConfig!A:C,3,FALSE)))","v":""},null,null,null,"",null,null,"",null,null,"",{"$nulls":4},{"$f":"IF(A112=\"\",\"\",IF(ISNUMBER(Y112),2,IF(A113=\"\",IF(OR(AK112>0,VLOOKUP(O112,EventConfig!A:C,3,FALSE)=4),3,\"\"),1)))","v":1},{"$f":"A113","v":1402},null,5104,14]
[{"$f":"O113*100+P113","v":1402},"",null,"",{"$nulls":7},5105,"原来这是一颗珍贵的绿玛瑙",null,14,2,{"$f":"_xlfn.TEXTJOIN(\";\",1,R113:S113)","v":""},null,null,{"$f":"IF(R113=\"\",\"\",\"-\"&VLOOKUP(R113,EventConditionConfig!A:C,3,FALSE)&IF(S113=\"\",\"\",CHAR(10)&\"-\"&VLOOKUP(S113,EventConditionConfig!A:C,3,FALSE)))","v":""},null,null,null,"",null,null,"",null,null,"",{"$nulls":4},{"$f":"IF(A113=\"\",\"\",IF(ISNUMBER(Y113),2,IF(A114=\"\",IF(OR(AK113>0,VLOOKUP(O113,EventConfig!A:C,3,FALSE)=4),3,\"\"),1)))","v":1},{"$f":"A114","v":1403},null,5105,14]
[{"$f":"O114*100+P114","v":1403},"",null,"",{"$nulls":7},5106,"你祭出法宝，将它转化成一些灵石",null,14,3,{"$f":"_xlfn.TEXTJOIN(\";\",1,R114:S114)","v":""},null,null,{"$f":"IF(R114=\"\",\"\",\"-\"&VLOOKUP(R114,EventConditionConfig!A:C,3,FALSE)&IF(S114=\"\",\"\",CHAR(10)&\"-\"&VLOOKUP(S114,EventConditionConfig!A:C,3,FALSE)))","v":""},null,null,null,"",null,null,"",null,null,"",{"$nulls":4},{"$f":"IF(A114=\"\",\"\",IF(ISNUMBER(Y114),2,IF(A115=\"\",IF(OR(AK114>0,VLOOKUP(O114,EventConfig!A:C,3,FALSE)=4),3,\"\"),1)))","v":{"$error":"#N/A"}},null,null,5106,14]
[null,"",null,"",{"$nulls":7},"",null,null,null,"",{"$nulls":7},"",null,null,"",null,null,"",{"$nulls":4},{"$f":"IF(A115=\"\",\"\",IF(ISNUMBER(Y115),2,IF(A116=\"\",IF(OR(AK115>0,VLOOKUP(O115,EventConfig!A:C,3,FALSE)=4),3,\"\"),1)))","v":""},null,null,"",0]
[{"$f":"O116*100+P116","v":1501},"",null,"",{"$nulls":7},5107,"漫漫旅途，你通过神识释放增进不少阅历",null,15,1,{"$f":"_xlfn.TEXTJOIN(\";\",1,R116:S116)","v":""},null,null,{"$f":"IF(R116=\"\",\"\",\"-\"&VLOOKUP(R116,EventConditionConfig!A:C,3,FALSE)&IF(S116=\"\",\"\",CHAR(10)&\"-\"&VLOOKUP(S116,EventConditionConfig!A:C,3,FALSE)))","v":""},null,null,null,"",null,null,"",null,null,"",{"$nulls":4},{"$f":"IF(A116=\"\",\"\",IF(ISNUMBER(Y116),2,IF(A117=\"\",IF(OR(AK116>0,VLOOKUP(O116,EventConfig!A:C,3,FALSE)=4),3,\"\"),1)))","v":1},{"$f":"A117","v":1502},null,5107,15]
[{"$f":"O117*100+P117","v":1502},"",null,"",{"$nulls":7},5108,"但随之而来的是神识用尽的空虚感",null,15,2,{"$f":"_xlfn.TEXTJOIN(\";\",1,R117:S117)","v":""},null,null,{"$f":"IF(R117=\"\",\"\",\"-\"&VLOOKUP(R117,EventConditionConfig!A:C,3,FALSE)&IF(S117=\"\",\"\",CHAR(10)&\"-\"&VLOOKUP(S117,EventConditionConfig!A:C,3,FALSE)))","v":""},null,null,null,"",null,null,"",null,null,"",{"$nulls":4},{"$f":"IF(A117=\"\",\"\",IF(ISNUMBER(Y117),2,IF(A118=\"\",IF(OR(AK117>0,VLOOKUP(O117,EventConfig!A:C,3,FALSE)=4),3,\"\"),1)))","v":1},{"$f":"A118","v":1503},null,5108,15]
[{"$f":"O118*100+P118","v":1503},"",null,"",{"$nulls":7},5109,"但这种感受何尝又不是一种新的阅历呢",null,15,3,{"$f":"_xlfn.TEXTJOIN(\";\",1,R118:S118)","v":""},null,null,{"$f":"IF(R118=\"\",\"\",\"-\"&VLOOKUP(R118,EventConditionConfig!A:C,3,FALSE)&IF(S118=\"\",\"\",CHAR(10)&\"-\"&VLOOKUP(S118,EventConditionConfig!A:C,3,FALSE)))","v":""},null,null,null,"",null,null,"",null,null,"",{"$nulls":4},{"$f":"IF(A118=\"\",\"\",IF(ISNUMBER(Y118),2,IF(A119=\"\",IF(OR(AK118>0,VLOOKUP(O118,EventConfig!A:C,3,FALSE)=4),3,\"\"),1)))","v":1},{"$f":"A119","v":1504},null,5109,15]
[{"$f":"O119*100+P119","v":1504},"",null,"",{"$nulls":7},5110,"你将这些新的感悟存进了一颗神识丹",null,15,4,{"$f":"_xlfn.TEXTJOIN(\";\",1,R119:S119)","v":""},null,null,{"$f":"IF(R119=\"\",\"\",\"-\"&VLOOKUP(R119,EventConditionConfig!A:C,3,FALSE)&IF(S119=\"\",\"\",CHAR(10)&\"-\"&VLOOKUP(S119,EventConditionConfig!A:C,3,FALSE)))","v":""},null,null,null,"",null,null,"",null,null,"",{"$nulls":4},{"$f":"IF(A119=\"\",\"\",IF(ISNUMBER(Y119),2,IF(A120=\"\",IF(OR(AK119>0,VLOOKUP(O119,EventConfig!A:C,3,FALSE)=4),3,\"\"),1)))","v":{"$error":"#N/A"}},null,null,5110,15]
[null,"",null,"",{"$nulls":7},"",null,null,null,"",{"$nulls":7},"",null,null,"",null,null,"",{"$nulls":4},{"$f":"IF(A120=\"\",\"\",IF(ISNUMBER(Y120),2,IF(A121=\"\",IF(OR(AK120>0,VLOOKUP(O120,EventConfig!A:C,3,FALSE)=4),3,\"\"),1)))","v":""},null,null,"",0]
[{"$f":"O121*100+P121","v":1601},"",null,"",{"$nulls":7},5111,"两只体型硕大的妖兽正在为了一颗灵丹而缠斗",null,16,1,{"$f":"_xlfn.TEXTJOIN(\";\",1,R121:S121)","v":""},null,null,{"$f":"IF(R121=\"\",\"\",\"-\"&VLOOKUP(R121,EventConditionConfig!A:C,3,FALSE)&IF(S121=\"\",\"\",CHAR(10)&\"-\"&VLOOKUP(S121,EventConditionConfig!A:C,3,FALSE)))","v":""},null,null,null,"",null,null,"",null,null,"",{"$nulls":4},{"$f":"IF(A121=\"\",\"\",IF(ISNUMBER(Y121),2,IF(A122=\"\",IF(OR(AK121>0,VLOOKUP(O121,EventConfig!A:C,3,FALSE)=4),3,\"\"),1)))","v":1},{"$f":"A122","v":1602},null,5111,16]
[{"$f":"O122*100+P122","v":1602},"",null,"",{"$nulls":7},5112,"突然一道闪电自天而降，正中两只妖兽",null,16,2,{"$f":"_xlfn.TEXTJOIN(\";\",1,R122:S122)","v":""},null,null,{"$f":"IF(R122=\"\",\"\",\"-\"&VLOOKUP(R122,EventConditionConfig!A:C,3,FALSE)&IF(S122=\"\",\"\",CHAR(10)&\"-\"&VLOOKUP(S122,EventConditionConfig!A:C,3,FALSE)))","v":""},null,null,null,"",null,null,"",null,null,"",{"$nulls":4},{"$f":"IF(A122=\"\",\"\",IF(ISNUMBER(Y122),2,IF(A123=\"\",IF(OR(AK122>0,VLOOKUP(O122,EventConfig!A:C,3,FALSE)=4),3,\"\"),1)))","v":1},{"$f":"A123","v":1603},null,5112,16]
[{"$f":"O123*100+P123","v":1603},"",null,"",{"$nulls":7},5113,"何其悲哉，念完往生咒，你顺手拿走了这颗珍贵的妖丹",null,16,3,{"$f":"_xlfn.TEXTJOIN(\";\",1,R123:S123)","v":""},null,null,{"$f":"IF(R123=\"\",\"\",\"-\"&VLOOKUP(R123,EventConditionConfig!A:C,3,FALSE)&IF(S123=\"\",\"\",CHAR(10)&\"-\"&VLOOKUP(S123,EventConditionConfig!A:C,3,FALSE)))","v":""},null,null,null,"",null,null,"",null,null,"",{"$nulls":4},{"$f":"IF(A123=\"\",\"\",IF(ISNUMBER(Y123),2,IF(A124=\"\",IF(OR(AK123>0,VLOOKUP(O123,EventConfig!A:C,3,FALSE)=4),3,\"\"),1)))","v":{"$error":"#N/A"}},null,null,5113,16]
[null,"",null,"",{"$nulls":7},"",null,null,null,"",{"$nulls":7},"",null,null,"",null,null,"",{"$nulls":4},{"$f":"IF(A124=\"\",\"\",IF(ISNUMBER(Y124),2,IF(A125=\"\",IF(OR(AK124>0,VLOOKUP(O124,EventConfig!A:C,3,FALSE)=4),3,\"\"),1)))","v":""},null,null,"",0]
[9003,"",null,"",{"$nulls":7},5114,"你在闭关修炼时，感受到一股凌厉的剑意波动。深入探查，发现一名白衣剑修“清霜”盘坐于谷中，周围剑气环绕，正与一柄散发不祥气息的灵剑对峙。她似在参悟剑诀，却灵气不足，剑灵桀骜。",null,null,"","",null,null,{"$f":"IF(R125=\"\",\"\",\"-\"&VLOOKUP(R125,EventConditionConfig!A:C,3,FALSE)&IF(S125=\"\",\"\",CHAR(10)&\"-\"&VLOOKUP(S125,EventConditionConfig!A:C,3,FALSE)))","v":""},1,"9004;9006","2041;2042","",null,null,"",null,null,"",{"$nulls":4},{"$f":"IF(A125=\"\",\"\",IF(ISNUMBER(Y125),2,IF(A126=\"\",IF(OR(AK125>0,VLOOKUP(O125,EventConfig!A:C,3,FALSE)=4),3,\"\"),1)))","v":1},null,null,5114,0]
[9004,"",null,"",{"$nulls":7},5115,"你上前以剑意对抗剑灵",null,null,"","",null,null,{"$f":"IF(R126=\"\",\"\",\"-\"&VLOOKUP(R126,EventConditionConfig!A:C,3,FALSE)&IF(S126=\"\",\"\",CHAR(10)&\"-\"&VLOOKUP(S126,EventConditionConfig!A:C,3,FALSE)))","v":""},2,100001,null,"",null,null,"",null,null,"",{"$nulls":4},{"$f":"IF(A126=\"\",\"\",IF(ISNUMBER(Y126),2,IF(A127=\"\",IF(OR(AK126>0,VLOOKUP(O126,EventConfig!A:C,3,FALSE)=4),3,\"\"),1)))","v":1},"9005;100",null,5115,0]
[9005,"",null,"",{"$nulls":7},5116,"成功压制剑灵，清霜赠你“霜华剑符”并结下道友之谊",null,null,"","",null,null,{"$f":"IF(R127=\"\",\"\",\"-\"&VLOOKUP(R127,EventConditionConfig!A:C,3,FALSE)&IF(S127=\"\",\"\",CHAR(10)&\"-\"&VLOOKUP(S127,EventConditionConfig!A:C,3,FALSE)))","v":""},null,null,null,"",null,null,"",null,null,"",{"$nulls":4},{"$f":"IF(A127=\"\",\"\",IF(ISNUMBER(Y127),2,IF(A128=\"\",IF(OR(AK127>0,VLOOKUP(O127,EventConfig!A:C,3,FALSE)=4),3,\"\"),1)))","v":1},null,null,5116,0]
[9006,"",null,"",{"$nulls":7},5117,"你察觉谷中灵气匮乏，清霜剑意凝滞。神识探查得知，附近秘境可采集“玄冰花”",null,null,"","",null,null,{"$f":"IF(R128=\"\",\"\",\"-\"&VLOOKUP(R128,EventConditionConfig!A:C,3,FALSE)&IF(S128=\"\",\"\",CHAR(10)&\"-\"&VLOOKUP(S128,EventConditionConfig!A:C,3,FALSE)))","v":""},null,null,null,"",null,null,"",null,null,"",{"$nulls":4},{"$f":"IF(A128=\"\",\"\",IF(ISNUMBER(Y128),2,IF(A129=\"\",IF(OR(AK128>0,VLOOKUP(O128,EventConfig!A:C,3,FALSE)=4),3,\"\"),1)))","v":1},null,null,5117,0]
[9007,"",null,"",{"$nulls":7},5118,"献上玄冰花，清霜炼化灵气突破瓶颈，赠你“玄霜剑意”",null,null,"","",null,null,{"$f":"IF(R129=\"\",\"\",\"-\"&VLOOKUP(R129,EventConditionConfig!A:C,3,FALSE)&IF(S129=\"\",\"\",CHAR(10)&\"-\"&VLOOKUP(S129,EventConditionConfig!A:C,3,FALSE)))","v":""},null,null,null,"",null,null,"",null,null,"",{"$nulls":4},{"$f":"IF(A129=\"\",\"\",IF(ISNUMBER(Y129),2,IF(A130=\"\",IF(OR(AK129>0,VLOOKUP(O129,EventConfig!A:C,3,FALSE)=4),3,\"\"),1)))","v":1},9007,null,5118,0]
[9008,"",null,"",{"$nulls":7},"",null,null,null,"","",null,null,{"$f":"IF(R130=\"\",\"\",\"-\"&VLOOKUP(R130,EventConditionConfig!A:C,3,FALSE)&IF(S130=\"\",\"\",CHAR(10)&\"-\"&VLOOKUP(S130,EventConditionConfig!A:C,3,FALSE)))","v":""},3,null,null,"",null,null,"",null,null,"",null,null,1001,999,{"$f":"IF(A130=\"\",\"\",IF(ISNUMBER(Y130),2,IF(A131=\"\",IF(OR(AK130>0,VLOOKUP(O130,EventConfig!A:C,3,FALSE)=4),3,\"\"),1)))","v":{"$error":"#N/A"}},null,null,5118,0]
[null,"",null,"",{"$nulls":7},"",null,null,null,"","",null,null,{"$f":"IF(R131=\"\",\"\",\"-\"&VLOOKUP(R131,EventConditionConfig!A:C,3,FALSE)&IF(S131=\"\",\"\",CHAR(10)&\"-\"&VLOOKUP(S131,EventConditionConfig!A:C,3,FALSE)))","v":""},null,null,null,"",null,null,"",null,null,"",{"$nulls":4},{"$f":"IF(A131=\"\",\"\",IF(ISNUMBER(Y131),2,IF(A132=\"\",IF(OR(AK131>0,VLOOKUP(O131,EventConfig!A:C,3,FALSE)=4),3,\"\"),1)))","v":""},null,null,"",0]
[9025,{"$f":"IF(C132=\"\",\"\",IF(C132=C131,B131,MAX(AL131,AL130)+1))","v":""},null,{"$f":"IF(E132=\"\",\"\",IF(E132=E131,D131,MAX(AL131,AL130,B132)+1))","v":5119},"和惠子交谈",{"$nulls":6},{"$f":"IF(M132=\"\",\"\",MAX(AL131,AL130,B132,D132)+1)","v":5120},"惠子种的葫芦没用，他非常生气，需要打败魔休",null,null,{"$f":"IF(O132=\"\",\"\",IF(O132=O131,P131+1,1))","v":""},"",null,null,{"$f":"IF(R132=\"\",\"\",\"-\"&VLOOKUP(R132,EventConditionConfig!A:C,3,FALSE)&IF(S132=\"\",\"\",CHAR(10)&\"-\"&VLOOKUP(S132,EventConditionConfig!A:C,3,FALSE)))","v":""},1,9026,2075,{"$f":"IF(OR(ISNUMBER(Y132),Y132=\"\"),\"\",MAX(AL131,AL130,B132,D132,L132)+1)","v":""},null,null,{"$f":"IF(OR(ISNUMBER(AB132),AB132=\"\"),\"\",X132+1)","v":""},null,null,{"$f":"IF(OR(ISNUMBER(AE132),AE132=\"\"),\"\",AA132+1)","v":""},{"$nulls":4},{"$f":"IF(A132=\"\",\"\",IF(ISNUMBER(Y132),2,IF(A133=\"\",IF(OR(AK132>0,VLOOKUP(O132,EventConfig!A:C,3,FALSE)=4),3,\"\"),1)))","v":1},null,null,5120,0]
[9026,"",null,"",{"$nulls":7},5121,"选择后接新的事件",null,null,"","",null,null,{"$f":"IF(R133=\"\",\"\",\"-\"&VLOOKUP(R133,EventConditionConfig!A:C,3,FALSE)&IF(S133=\"\",\"\",CHAR(10)&\"-\"&VLOOKUP(S133,EventConditionConfig!A:C,3,FALSE)))","v":""},null,null,null,5122,"接受任务",null,"",null,null,"",{"$nulls":4},{"$f":"IF(A133=\"\",\"\",IF(ISNUMBER(Y133),2,IF(A134=\"\",IF(OR(AK133>0,VLOOKUP(O133,EventConfig!A:C,3,FALSE)=4),3,\"\"),1)))","v":{"$error":"#N/A"}},9014,null,5122,0]
[null,"",null,"",{"$nulls":7},"",null,null,null,"","",null,null,{"$f":"IF(R134=\"\",\"\",\"-\"&VLOOKUP(R134,EventConditionConfig!A:C,3,FALSE)&IF(S134=\"\",\"\",CHAR(10)&\"-\"&VLOOKUP(S134,EventConditionConfig!A:C,3,FALSE)))","v":""},null,null,null,"",null,null,"",null,null,"",{"$nulls":4},{"$f":"IF(A134=\"\",\"\",IF(ISNUMBER(Y134),2,IF(A135=\"\",IF(OR(AK134>0,VLOOKUP(O134,EventConfig!A:C,3,FALSE)=4),3,\"\"),1)))","v":""},null,null,{"$f":"IF(A134=\"\",\"\",MAX(B134,D134,L134,X134,AA134,AL133,AL132,AD134))","v":""},{"$f":"O134","v":0}]
[9014,"",null,5123,"击杀魔休",{"$nulls":6},"",null,null,null,"","3",3,null,{"$f":"IF(R135=\"\",\"\",\"-\"&VLOOKUP(R135,EventConditionConfig!A:C,3,FALSE)&IF(S135=\"\",\"\",CHAR(10)&\"-\"&VLOOKUP(S135,EventConditionConfig!A:C,3,FALSE)))","v":"-击杀魔休"},null,null,null,"",null,null,"",null,null,"",{"$nulls":4},{"$f":"IF(A135=\"\",\"\",IF(ISNUMBER(Y135),2,IF(A136=\"\",IF(OR(AK135>0,VLOOKUP(O135,EventConfig!A:C,3,FALSE)=4),3,\"\"),1)))","v":{"$error":"#N/A"}},null,null,5123,0]
[null,"",null,"",{"$nulls":7},"",null,null,null,"",{"$f":"_xlfn.TEXTJOIN(\";\",1,R136:S136)","v":""},null,null,{"$f":"IF(R136=\"\",\"\",\"-\"&VLOOKUP(R136,EventConditionConfig!A:C,3,FALSE)&IF(S136=\"\",\"\",CHAR(10)&\"-\"&VLOOKUP(S136,EventConditionConfig!A:C,3,FALSE)))","v":""},null,null,null,"",null,null,"",null,null,"",{"$nulls":4},{"$f":"IF(A136=\"\",\"\",IF(ISNUMBER(Y136),2,IF(A137=\"\",IF(OR(AK136>0,VLOOKUP(O136,EventConfig!A:C,3,FALSE)=4),3,\"\"),1)))","v":""},null,null,"",0]
[9031,5124,"出现Boss魔修",5125,"打败魔修",{"$nulls":6},"",null,null,null,"","",null,null,{"$f":"IF(R137=\"\",\"\",\"-\"&VLOOKUP(R137,EventConditionConfig!A:C,3,FALSE)&IF(S137=\"\",\"\",CHAR(10)&\"-\"&VLOOKUP(S137,EventConditionConfig!A:C,3,FALSE)))","v":""},2,100001,null,"",null,null,"",null,null,"",{"$nulls":4},{"$f":"IF(A137=\"\",\"\",IF(ISNUMBER(Y137),2,IF(A138=\"\",IF(OR(AK137>0,VLOOKUP(O137,EventConfig!A:C,3,FALSE)=4),3,\"\"),1)))","v":{"$error":"#N/A"}},null,null,5125,0]
[null,"",null,"",{"$nulls":7},"",{"$nulls":22},{"$f":"IF(A138=\"\",\"\",IF(ISNUMBER(Y138),2,IF(A139=\"\",IF(OR(AK138>0,VLOOKUP(O138,EventConfig!A:C,3,FALSE)=4),3,\"\"),1)))","v":""},null,null,"",0]
[{"$f":"O139*100+P139","v":1000001},{"$f":"IF(C139=\"\",\"\",IF(C139=C138,B138,MAX(AL138,AL137)+1))","v":""},null,"",{"$nulls":5},157,{"$f":"IF(J139=\"\",\"\",VLOOKUP(J139,EventNPC!A:F,6,FALSE))","v":0},5126,"（渡劫失败后，悬浮于混沌虚空，破碎道袍微微飘动，丹田空虚。）",null,10000,{"$f":"IF(O139=\"\",\"\",IF(O139=O138,P138+1,1))","v":1},{"$f":"_xlfn.TEXTJOIN(\";\",1,R139:S139)","v":""},null,null,{"$f":"IF(R139=\"\",\"\",\"-\"&VLOOKUP(R139,EventConditionConfig!A:C,3,FALSE)&IF(S139=\"\",\"\",CHAR(10)&\"-\"&VLOOKUP(S139,EventConditionConfig!A:C,3,FALSE)))","v":""},{"$f":"IF(Y139=\"\",\"\",IF(ISTEXT(Y139),1,2))","v":""},{"$f":"IF(U139=1,_xlfn.TEXTJOIN(\";\",1,IF(Z139=\"\",A139+1,Z139),IF(AND(AA139<>\"\",AC139=\"\"),A139+1,AC139),IF(AND(AD139<>\"\",AF139=\"\"),A139+1,AF139)),IF(U139=2,Y139,\"\"))","v":""},{"$f":"_xlfn.TEXTJOIN(\";\",1,X139,AA139,AD139)","v":""},{"$f":"IF(OR(ISNUMBER(Y139),Y139=\"\"),\"\",MAX(AL138,AL136,B139,D139,L139)+1)","v":""},null,null,{"$f":"IF(OR(ISNUMBER(AB139),AB139=\"\"),\"\",X139+1)","v":""},null,null,{"$f":"IF(OR(ISNUMBER(AE139),AE139=\"\"),\"\",AA139+1)","v":""},{"$nulls":4},{"$f":"IF(A139=\"\",\"\",IF(ISNUMBER(Y139),2,IF(A140=\"\",IF(OR(AK139>0,VLOOKUP(O139,EventConfig!A:C,3,FALSE)=4),3,\"\"),1)))","v":1},{"$f":"IF(AI139=\"\",\"\",CHOOSE(AI139,IF(AK139=\"\",A139+1,AK139),CONCATENATE(IF(AK139=\"\",A139+1,AK139),\";101\"),IF(AK139=\"\",O139+1,AK139)))","v":1000002},null,5126,10000]
[1000002,"",null,"",{"$nulls":5},157,{"$f":"IF(J140=\"\",\"\",VLOOKUP(J140,EventNPC!A:F,6,FALSE))","v":0},5127,"还是做不到吗……多次渡劫，又功亏一篑！",null,10000,2,"",null,null,{"$f":"IF(R140=\"\",\"\",\"-\"&VLOOKUP(R140,EventConditionConfig!A:C,3,FALSE)&IF(S140=\"\",\"\",CHAR(10)&\"-\"&VLOOKUP(S140,EventConditionConfig!A:C,3,FALSE)))","v":""},"",{"$f":"IF(U140=1,_xlfn.TEXTJOIN(\";\",1,IF(Z140=\"\",A140+1,Z140),IF(AND(AA140<>\"\",AC140=\"\"),A140+1,AC140),IF(AND(AD140<>\"\",AF140=\"\"),A140+1,AF140)),IF(U140=2,Y140,\"\"))","v":""},{"$f":"_xlfn.TEXTJOIN(\";\",1,X140,AA140,AD140)","v":""},"",null,null,"",null,null,"",{"$nulls":4},{"$f":"IF(A140=\"\",\"\",IF(ISNUMBER(Y140),2,IF(A141=\"\",IF(OR(AK140>0,VLOOKUP(O140,EventConfig!A:C,3,FALSE)=4),3,\"\"),1)))","v":1},{"$f":"IF(AI140=\"\",\"\",CHOOSE(AI140,IF(AK140=\"\",A140+1,AK140),CONCATENATE(IF(AK140=\"\",A140+1,AK140),\";101\"),IF(AK140=\"\",O140+1,AK140)))","v":1000003},null,5127,10000]
[1000003,"",null,"",{"$nulls":5},157,{"$f":"IF(J141=\"\",\"\",VLOOKUP(J141,EventNPC!A:F,6,FALSE))","v":0},5128,"好在神魂未灭，不过一身修为几乎散尽，只剩练气修为……",null,10000,3,"",null,null,{"$f":"IF(R141=\"\",\"\",\"-\"&VLOOKUP(R141,EventConditionConfig!A:C,3,FALSE)&IF(S141=\"\",\"\",CHAR(10)&\"-\"&VLOOKUP(S141,EventConditionConfig!A:C,3,FALSE)))","v":""},"","","","",null,null,"",null,null,"",{"$nulls":4},{"$f":"IF(A141=\"\",\"\",IF(ISNUMBER(Y141),2,IF(A142=\"\",IF(OR(AK141>0,VLOOKUP(O141,EventConfig!A:C,3,FALSE)=4),3,\"\"),1)))","v":1},1000004,null,5128,10000]
[1000004,"",null,"",{"$nulls":5},158,{"$f":"IF(J142=\"\",\"\",VLOOKUP(J142,EventNPC!A:F,6,FALSE))","v":0},5129,"此处是何地？",null,10000,4,"",null,null,{"$f":"IF(R142=\"\",\"\",\"-\"&VLOOKUP(R142,EventConditionConfig!A:C,3,FALSE)&IF(S142=\"\",\"\",CHAR(10)&\"-\"&VLOOKUP(S142,EventConditionConfig!A:C,3,FALSE)))","v":""},"","","","",null,null,"",null,null,"",{"$nulls":4},{"$f":"IF(A142=\"\",\"\",IF(ISNUMBER(Y142),2,IF(A143=\"\",IF(OR(AK142>0,VLOOKUP(O142,EventConfig!A:C,3,FALSE)=4),3,\"\"),1)))","v":1},1000005,null,5129,10000]
[1000005,"",null,"",{"$nulls":5},158,{"$f":"IF(J143=\"\",\"\",VLOOKUP(J143,EventNPC!A:F,6,FALSE))","v":0},5130,"（虚空中，一块石碑若隐若现，上书：“无何有之乡”。）",null,10000,5,"",null,null,{"$f":"IF(R143=\"\",\"\",\"-\"&VLOOKUP(R143,EventConditionConfig!A:C,3,FALSE)&IF(S143=\"\",\"\",CHAR(10)&\"-\"&VLOOKUP(S143,EventConditionConfig!A:C,3,FALSE)))","v":""},"","","","",null,null,"",null,null,"",{"$nulls":4},{"$f":"IF(A143=\"\",\"\",IF(ISNUMBER(Y143),2,IF(A144=\"\",IF(OR(AK143>0,VLOOKUP(O143,EventConfig!A:C,3,FALSE)=4),3,\"\"),1)))","v":1},1000006,null,5130,10000]
[1000006,"",null,"",{"$nulls":5},159,{"$f":"IF(J144=\"\",\"\",VLOOKUP(J144,EventNPC!A:F,6,FALSE))","v":0},5131,"（忽然，一本古卷从天而落，落入掌中）",null,10000,6,"",null,null,{"$f":"IF(R144=\"\",\"\",\"-\"&VLOOKUP(R144,EventConditionConfig!A:C,3,FALSE)&IF(S144=\"\",\"\",CHAR(10)&\"-\"&VLOOKUP(S144,EventConditionConfig!A:C,3,FALSE)))","v":""},"","","","",null,null,"",null,null,"",{"$nulls":4},{"$f":"IF(A144=\"\",\"\",IF(ISNUMBER(Y144),2,IF(A145=\"\",IF(OR(AK144>0,VLOOKUP(O144,EventConfig!A:C,3,FALSE)=4),3,\"\"),1)))","v":1},1000007,null,5131,10000]
[1000007,"",null,"",{"$nulls":5},159,{"$f":"IF(J145=\"\",\"\",VLOOKUP(J145,EventNPC!A:F,6,FALSE))","v":0},5132,"（书封斑驳，触之微凉，似有灵气流转）",null,10000,7,"",null,null,{"$f":"IF(R145=\"\",\"\",\"-\"&VLOOKUP(R145,EventConditionConfig!A:C,3,FALSE)&IF(S145=\"\",\"\",CHAR(10)&\"-\"&VLOOKUP(S145,EventConditionConfig!A:C,3,FALSE)))","v":""},"","","","",null,null,"",null,null,"",{"$nulls":4},{"$f":"IF(A145=\"\",\"\",IF(ISNUMBER(Y145),2,IF(A146=\"\",IF(OR(AK145>0,VLOOKUP(O145,EventConfig!A:C,3,FALSE)=4),3,\"\"),1)))","v":1},1000008,null,5132,10000]
[1000008,"",null,"",{"$nulls":5},159,{"$f":"IF(J146=\"\",\"\",VLOOKUP(J146,EventNPC!A:F,6,FALSE))","v":0},5133,"（你翻开书页，不自觉的低声诵读..）",null,10000,8,{"$f":"_xlfn.TEXTJOIN(\";\",1,R146:S146)","v":""},null,null,{"$f":"IF(R146=\"\",\"\",\"-\"&VLOOKUP(R146,EventConditionConfig!A:C,3,FALSE)&IF(S146=\"\",\"\",CHAR(10)&\"-\"&VLOOKUP(S146,EventConditionConfig!A:C,3,FALSE)))","v":""},{"$f":"IF(Y146=\"\",\"\",IF(ISTEXT(Y146),1,2))","v":""},"","","",null,null,"",null,null,"",{"$nulls":4},{"$f":"IF(A146=\"\",\"\",IF(ISNUMBER(Y146),2,IF(A147=\"\",IF(OR(AK146>0,VLOOKUP(O146,EventConfig!A:C,3,FALSE)=4),3,\"\"),1)))","v":1},1000009,null,5133,10000]
[1000009,"",null,"",{"$nulls":5},159,{"$f":"IF(J147=\"\",\"\",VLOOKUP(J147,EventNPC!A:F,6,FALSE))","v":0},5134,"北冥有鱼，其名为鲲。鲲之大，不知其几千里也……",null,10000,9,"",null,null,{"$f":"IF(R147=\"\",\"\",\"-\"&VLOOKUP(R147,EventConditionConfig!A:C,3,FALSE)&IF(S147=\"\",\"\",CHAR(10)&\"-\"&VLOOKUP(S147,EventConditionConfig!A:C,3,FALSE)))","v":""},"","","","",null,null,"",null,null,"",{"$nulls":4},{"$f":"IF(A147=\"\",\"\",IF(ISNUMBER(Y147),2,IF(A148=\"\",IF(OR(AK147>0,VLOOKUP(O147,EventConfig!A:C,3,FALSE)=4),3,\"\"),1)))","v":1},1000010,null,5134,10000]
[1000010,"",null,"",{"$nulls":5},160,{"$f":"IF(J148=\"\",\"\",VLOOKUP(J148,EventNPC!A:F,6,FALSE))","v":0},5135,"（随着吟诵，泛起缕缕清气，虚空震颤，一道白鹤般的身影自混沌中现身，仙风道骨，目光如星。）",null,10000,10,"",null,null,{"$f":"IF(R148=\"\",\"\",\"-\"&VLOOKUP(R148,EventConditionConfig!A:C,3,FALSE)&IF(S148=\"\",\"\",CHAR(10)&\"-\"&VLOOKUP(S148,EventConditionConfig!A:C,3,FALSE)))","v":""},"","","","",null,null,"",null,null,"",{"$nulls":4},{"$f":"IF(A148=\"\",\"\",IF(ISNUMBER(Y148),2,IF(A149=\"\",IF(OR(AK148>0,VLOOKUP(O148,EventConfig!A:C,3,FALSE)=4),3,\"\"),1)))","v":1},1000011,null,5135,10000]
[1000011,"",null,"",{"$nulls":5},137,{"$f":"IF(J149=\"\",\"\",VLOOKUP(J149,EventNPC!A:F,6,FALSE))","v":"冲虚真人"},5136,"“小友的诵读，出自《逍遥游》。可知逍遥为何物？",null,10000,11,"",null,null,{"$f":"IF(R149=\"\",\"\",\"-\"&VLOOKUP(R149,EventConditionConfig!A:C,3,FALSE)&IF(S149=\"\",\"\",CHAR(10)&\"-\"&VLOOKUP(S149,EventConditionConfig!A:C,3,FALSE)))","v":""},"","","","",null,null,"",null,null,"",{"$nulls":4},{"$f":"IF(A149=\"\",\"\",IF(ISNUMBER(Y149),2,IF(A150=\"\",IF(OR(AK149>0,VLOOKUP(O149,EventConfig!A:C,3,FALSE)=4),3,\"\"),1)))","v":1},1000012,null,5136,10000]
[1000012,"",null,"",{"$nulls":5},137,{"$f":"IF(J150=\"\",\"\",VLOOKUP(J150,EventNPC!A:F,6,FALSE))","v":"冲虚真人"},5137,"鲲鹏扶摇九天，究竟是真实存在，还是心之所向？",null,10000,12,"",null,null,{"$f":"IF(R150=\"\",\"\",\"-\"&VLOOKUP(R150,EventConditionConfig!A:C,3,FALSE)&IF(S150=\"\",\"\",CHAR(10)&\"-\"&VLOOKUP(S150,EventConditionConfig!A:C,3,FALSE)))","v":""},1,"1000013;1000014","5138;5139",5138,"渡劫失败，谈何逍遥？晚辈只求重返仙途！",{"$f":"A151","v":1000013},5139,"何为逍遥？请前辈开示。",{"$f":"A152","v":1000014},"",null,{"$f":"D152","v":""},null,null,{"$f":"IF(A150=\"\",\"\",IF(ISNUMBER(Y150),2,IF(A151=\"\",IF(OR(AK150>0,VLOOKUP(O150,EventConfig!A:C,3,FALSE)=4),3,\"\"),1)))","v":1},1000013,null,5139,10000]
[1000013,"",null,"",{"$nulls":5},137,{"$f":"IF(J151=\"\",\"\",VLOOKUP(J151,EventNPC!A:F,6,FALSE))","v":"冲虚真人"},5140," 你虽执着于飞升，却屡败不悟，谈何仙途？",null,10000,13,"",null,null,{"$f":"IF(R151=\"\",\"\",\"-\"&VLOOKUP(R151,EventConditionConfig!A:C,3,FALSE)&IF(S151=\"\",\"\",CHAR(10)&\"-\"&VLOOKUP(S151,EventConditionConfig!A:C,3,FALSE)))","v":""},"","","","",null,null,"",null,null,"",{"$nulls":4},{"$f":"IF(A151=\"\",\"\",IF(ISNUMBER(Y151),2,IF(A152=\"\",IF(OR(AK151>0,VLOOKUP(O151,EventConfig!A:C,3,FALSE)=4),3,\"\"),1)))","v":1},1000015,{"$f":"A153","v":1000015},5140,10000]
[1000014,"",null,"",{"$nulls":5},137,{"$f":"IF(J152=\"\",\"\",VLOOKUP(J152,EventNPC!A:F,6,FALSE))","v":"冲虚真人"},5141," 逍遥存于内心。你心有执念，怎得逍遥？",null,10000,14,"",null,null,{"$f":"IF(R152=\"\",\"\",\"-\"&VLOOKUP(R152,EventConditionConfig!A:C,3,FALSE)&IF(S152=\"\",\"\",CHAR(10)&\"-\"&VLOOKUP(S152,EventConditionConfig!A:C,3,FALSE)))","v":""},"","","","",null,null,"",null,null,"",{"$nulls":4},{"$f":"IF(A152=\"\",\"\",IF(ISNUMBER(Y152),2,IF(A153=\"\",IF(OR(AK152>0,VLOOKUP(O152,EventConfig!A:C,3,FALSE)=4),3,\"\"),1)))","v":1},1000015,{"$f":"A153","v":1000015},5141,10000]
[1000015,"",null,"",{"$nulls":5},137,{"$f":"IF(J153=\"\",\"\",VLOOKUP(J153,EventNPC!A:F,6,FALSE))","v":"冲虚真人"},5142,"（冲虚真人扫过你破碎的道袍，叹息道）凡界、仙界、魔界，皆是棋盘，你只是棋子。",null,10000,15,{"$f":"_xlfn.TEXTJOIN(\";\",1,R153:S153)","v":""},null,null,{"$f":"IF(R153=\"\",\"\",\"-\"&VLOOKUP(R153,EventConditionConfig!A:C,3,FALSE)&IF(S153=\"\",\"\",CHAR(10)&\"-\"&VLOOKUP(S153,EventConditionConfig!A:C,3,FALSE)))","v":""},{"$f":"IF(Y153=\"\",\"\",IF(ISTEXT(Y153),1,2))","v":""},"","","",null,null,"",null,null,"",{"$nulls":4},{"$f":"IF(A153=\"\",\"\",IF(ISNUMBER(Y153),2,IF(A154=\"\",IF(OR(AK153>0,VLOOKUP(O153,EventConfig!A:C,3,FALSE)=4),3,\"\"),1)))","v":1},1000016,null,5142,10000]
[1000016,"",null,"",{"$nulls":5},137,{"$f":"IF(J154=\"\",\"\",VLOOKUP(J154,EventNPC!A:F,6,FALSE))","v":"冲虚真人"},5143,"若只是棋子，又如何能窥见天道？",null,10000,16,"",null,null,{"$f":"IF(R154=\"\",\"\",\"-\"&VLOOKUP(R154,EventConditionConfig!A:C,3,FALSE)&IF(S154=\"\",\"\",CHAR(10)&\"-\"&VLOOKUP(S154,EventConditionConfig!A:C,3,FALSE)))","v":""},1,"1000017","5144",5144,"前辈说得玄妙，可有具体指引？",{"$f":"A155","v":1000017},"",null,null,"",{"$nulls":4},{"$f":"IF(A154=\"\",\"\",IF(ISNUMBER(Y154),2,IF(A155=\"\",IF(OR(AK154>0,VLOOKUP(O154,EventConfig!A:C,3,FALSE)=4),3,\"\"),1)))","v":1},1000017,null,5144,10000]
[1000017,{"$f":"IF(C155=\"\",\"\",IF(C155=C154,B154,MAX(AL154,AL153)+1))","v":""},null,{"$f":"IF(E155=\"\",\"\",IF(E155=E154,D154,MAX(AL154,AL153,B155)+1))","v":""},{"$nulls":5},137,{"$f":"IF(J155=\"\",\"\",VLOOKUP(J155,EventNPC!A:F,6,FALSE))","v":"冲虚真人"},5145,"参透七道心境，才有望窥见天道..\n去吧，历红尘，破心障，游三界，方能领悟。",null,10000,17,{"$f":"_xlfn.TEXTJOIN(\";\",1,R155:S155)","v":""},null,null,{"$f":"IF(R155=\"\",\"\",\"-\"&VLOOKUP(R155,EventConditionConfig!A:C,3,FALSE)&IF(S155=\"\",\"\",CHAR(10)&\"-\"&VLOOKUP(S155,EventConditionConfig!A:C,3,FALSE)))","v":""},{"$f":"IF(Y155=\"\",\"\",IF(ISTEXT(Y155),1,2))","v":1},{"$f":"IF(U155=1,_xlfn.TEXTJOIN(\";\",1,IF(Z155=\"\",A155+1,Z155),IF(AND(AA155<>\"\",AC155=\"\"),A155+1,AC155),IF(AND(AD155<>\"\",AF155=\"\"),A155+1,AF155)),IF(U155=2,Y155,\"\"))","v":"1000018"},"5146",5146,"七道心境？那是何物，请前辈指点？",{"$f":"A156","v":1000018},"",null,null,{"$f":"IF(OR(ISNUMBER(AE155),AE155=\"\"),\"\",AA155+1)","v":""},{"$nulls":4},{"$f":"IF(A155=\"\",\"\",IF(ISNUMBER(Y155),2,IF(A156=\"\",IF(OR(AK155>0,VLOOKUP(O155,EventConfig!A:C,3,FALSE)=4),3,\"\"),1)))","v":1},{"$f":"IF(AI155=\"\",\"\",CHOOSE(AI155,IF(AK155=\"\",A155+1,AK155),CONCATENATE(IF(AK155=\"\",A155+1,AK155),\";101\"),IF(AK155=\"\",O155+1,AK155)))","v":1000018},null,{"$f":"IF(A155=\"\",\"\",MAX(B155,D155,L155,X155,AA155,AL154,AL153,AD155))","v":5146},{"$f":"O155","v":10000}]
[1000018,{"$f":"IF(C156=\"\",\"\",IF(C156=C154,B154,MAX(AL154,AL153)+1))","v":""},null,{"$f":"IF(E156=\"\",\"\",IF(E156=E154,D154,MAX(AL154,AL153,B156)+1))","v":""},{"$nulls":5},137,{"$f":"IF(J156=\"\",\"\",VLOOKUP(J156,EventNPC!A:F,6,FALSE))","v":"冲虚真人"},5147,"天机不可泄露。\n（说罢，从袖中拿出一个风铃..）\n但此风铃，可以为你指引前路。",null,10000,18,"",null,null,{"$f":"IF(R156=\"\",\"\",\"-\"&VLOOKUP(R156,EventConditionConfig!A:C,3,FALSE)&IF(S156=\"\",\"\",CHAR(10)&\"-\"&VLOOKUP(S156,EventConditionConfig!A:C,3,FALSE)))","v":""},1,"1000019","5148",5148,"多谢前辈赠铃..",null,"",null,null,"",{"$nulls":4},{"$f":"IF(A156=\"\",\"\",IF(ISNUMBER(Y156),2,IF(A157=\"\",IF(OR(AK156>0,VLOOKUP(O156,EventConfig!A:C,3,FALSE)=4),3,\"\"),1)))","v":1},1000019,null,{"$f":"IF(A156=\"\",\"\",MAX(B156,D156,L156,X156,AA156,AL154,AL153,AD156))","v":5148},10000]
[1000019,{"$f":"IF(C157=\"\",\"\",IF(C157=C156,B156,MAX(AL156,AL154)+1))","v":""},null,{"$f":"IF(E157=\"\",\"\",IF(E157=E156,D156,MAX(AL156,AL154,B157)+1))","v":""},{"$nulls":5},137,{"$f":"IF(J157=\"\",\"\",VLOOKUP(J157,EventNPC!A:F,6,FALSE))","v":"冲虚真人"},5149,"（凝视远方，喃喃道）\n凡界有尧，欲让天下而不得其法；\n惠子得大葫芦，却不知其用；\n姑射仙山，藏无形之仙；\n列子可御风而行，却任有所求。\n（说完，便化作清风消散。）",null,10000,19,"",null,null,{"$f":"IF(R157=\"\",\"\",\"-\"&VLOOKUP(R157,EventConditionConfig!A:C,3,FALSE)&IF(S157=\"\",\"\",CHAR(10)&\"-\"&VLOOKUP(S157,EventConditionConfig!A:C,3,FALSE)))","v":""},"","","","",null,null,"",null,null,"",{"$nulls":4},{"$f":"IF(A157=\"\",\"\",IF(ISNUMBER(Y157),2,IF(A158=\"\",IF(OR(AK157>0,VLOOKUP(O157,EventConfig!A:C,3,FALSE)=4),3,\"\"),1)))","v":1},1000020,null,{"$f":"IF(A157=\"\",\"\",MAX(B157,D157,L157,X157,AA157,AL156,AL154,AD157))","v":5149},10000]
[1000020,"",null,"",{"$nulls":5},157,{"$f":"IF(J158=\"\",\"\",VLOOKUP(J158,EventNPC!A:F,6,FALSE))","v":0},5150,".....\n“逍遥之意，何处可寻？”",null,10000,20,"",null,null,{"$f":"IF(R158=\"\",\"\",\"-\"&VLOOKUP(R158,EventConditionConfig!A:C,3,FALSE)&IF(S158=\"\",\"\",CHAR(10)&\"-\"&VLOOKUP(S158,EventConditionConfig!A:C,3,FALSE)))","v":""},"","","","",null,null,"",null,null,"",{"$nulls":4},{"$f":"IF(A158=\"\",\"\",IF(ISNUMBER(Y158),2,IF(A159=\"\",IF(OR(AK158>0,VLOOKUP(O158,EventConfig!A:C,3,FALSE)=4),3,\"\"),1)))","v":1},1000021,null,5150,10000]
[1000021,"",null,"",{"$nulls":5},161,{"$f":"IF(J159=\"\",\"\",VLOOKUP(J159,EventNPC!A:F,6,FALSE))","v":0},5151,"算了，先看看这个风铃。\n(你拿起刚刚获得的风铃，仔细看了一下)",null,10000,21,"",null,null,{"$f":"IF(R159=\"\",\"\",\"-\"&VLOOKUP(R159,EventConditionConfig!A:C,3,FALSE)&IF(S159=\"\",\"\",CHAR(10)&\"-\"&VLOOKUP(S159,EventConditionConfig!A:C,3,FALSE)))","v":""},"","","","",null,null,"",null,null,"",{"$nulls":4},{"$f":"IF(A159=\"\",\"\",IF(ISNUMBER(Y159),2,IF(A160=\"\",IF(OR(AK159>0,VLOOKUP(O159,EventConfig!A:C,3,FALSE)=4),3,\"\"),1)))","v":1},1000022,null,5151,10000]
[1000022,"",null,"",{"$nulls":6},{"$f":"IF(J160=\"\",\"\",VLOOKUP(J160,EventNPC!A:F,6,FALSE))","v":""},5152,"铃身刻有“逍遥”二字，铃声清脆悠远，似有灵性，隐约指向北海.",null,10000,22,"",null,null,{"$f":"IF(R160=\"\",\"\",\"-\"&VLOOKUP(R160,EventConditionConfig!A:C,3,FALSE)&IF(S160=\"\",\"\",CHAR(10)&\"-\"&VLOOKUP(S160,EventConditionConfig!A:C,3,FALSE)))","v":""},"","","","",null,null,"",null,null,"",{"$nulls":4},{"$f":"IF(A160=\"\",\"\",IF(ISNUMBER(Y160),2,IF(A161=\"\",IF(OR(AK160>0,VLOOKUP(O160,EventConfig!A:C,3,FALSE)=4),3,\"\"),1)))","v":""},"",null,5152,10000]
[null,"",null,"",{"$nulls":6},{"$f":"IF(J161=\"\",\"\",VLOOKUP(J161,EventNPC!A:F,6,FALSE))","v":""},"",null,null,null,"","",null,null,{"$f":"IF(R161=\"\",\"\",\"-\"&VLOOKUP(R161,EventConditionConfig!A:C,3,FALSE)&IF(S161=\"\",\"\",CHAR(10)&\"-\"&VLOOKUP(S161,EventConditionConfig!A:C,3,FALSE)))","v":""},null,"","","",null,null,"",null,null,"",{"$nulls":4},{"$f":"IF(A161=\"\",\"\",IF(ISNUMBER(Y161),2,IF(A162=\"\",IF(OR(AK161>0,VLOOKUP(O161,EventConfig!A:C,3,FALSE)=4),3,\"\"),1)))","v":""},"",null,"",0]
[{"$f":"O162*100+P162","v":1000101},5153,"使用风铃唤醒还未泯灭的神识","",{"$nulls":6},{"$f":"IF(J162=\"\",\"\",VLOOKUP(J162,EventNPC!A:F,6,FALSE))","v":""},5154,"北冥有鱼，其名为鲲……",2,10001,1,"",null,null,{"$f":"IF(R162=\"\",\"\",\"-\"&VLOOKUP(R162,EventConditionConfig!A:C,3,FALSE)&IF(S162=\"\",\"\",CHAR(10)&\"-\"&VLOOKUP(S162,EventConditionConfig!A:C,3,FALSE)))","v":""},null,"","","",null,null,"",null,null,"",{"$nulls":4},{"$f":"IF(A162=\"\",\"\",IF(ISNUMBER(Y162),2,IF(A163=\"\",IF(OR(AK162>0,VLOOKUP(O162,EventConfig!A:C,3,FALSE)=4),3,\"\"),1)))","v":1},1000102,null,5154,10001]
[{"$f":"O163*100+P163","v":1000102},5153,"使用风铃唤醒还未泯灭的神识","",{"$nulls":6},{"$f":"IF(J163=\"\",\"\",VLOOKUP(J163,EventNPC!A:F,6,FALSE))","v":""},5155,"不过北海遥远，何时能寻得鲲鹏的踪迹。",2,10001,2,"",null,null,{"$f":"IF(R163=\"\",\"\",\"-\"&VLOOKUP(R163,EventConditionConfig!A:C,3,FALSE)&IF(S163=\"\",\"\",CHAR(10)&\"-\"&VLOOKUP(S163,EventConditionConfig!A:C,3,FALSE)))","v":""},null,"","","",null,null,"",null,null,"",{"$nulls":4},{"$f":"IF(A163=\"\",\"\",IF(ISNUMBER(Y163),2,IF(A164=\"\",IF(OR(AK163>0,VLOOKUP(O163,EventConfig!A:C,3,FALSE)=4),3,\"\"),1)))","v":1},1000103,null,5155,10001]
[{"$f":"O164*100+P164","v":1000103},5153,"使用风铃唤醒还未泯灭的神识","",{"$nulls":6},{"$f":"IF(J164=\"\",\"\",VLOOKUP(J164,EventNPC!A:F,6,FALSE))","v":""},5156,"好在我的神识尚在，可探天地，再加上刚刚的风铃，或许能寻得前路线索。",2,10001,3,"",null,null,{"$f":"IF(R164=\"\",\"\",\"-\"&VLOOKUP(R164,EventConditionConfig!A:C,3,FALSE)&IF(S164=\"\",\"\",CHAR(10)&\"-\"&VLOOKUP(S164,EventConditionConfig!A:C,3,FALSE)))","v":""},null,"","","",null,null,"",null,null,"",{"$nulls":4},{"$f":"IF(A164=\"\",\"\",IF(ISNUMBER(Y164),2,IF(A165=\"\",IF(OR(AK164>0,VLOOKUP(O164,EventConfig!A:C,3,FALSE)=4),3,\"\"),1)))","v":1},1000104,null,5156,10001]
[{"$f":"O165*100+P165","v":1000104},5153,"使用风铃唤醒还未泯灭的神识","",{"$nulls":6},{"$f":"IF(J165=\"\",\"\",VLOOKUP(J165,EventNPC!A:F,6,FALSE))","v":""},"",null,null,10001,4,"5",5,null,{"$f":"IF(R165=\"\",\"\",\"-\"&VLOOKUP(R165,EventConditionConfig!A:C,3,FALSE)&IF(S165=\"\",\"\",CHAR(10)&\"-\"&VLOOKUP(S165,EventConditionConfig!A:C,3,FALSE)))","v":"-使用神识"},null,"","","",null,null,"",null,null,"",{"$nulls":4},{"$f":"IF(A165=\"\",\"\",IF(ISNUMBER(Y165),2,IF(A166=\"\",IF(OR(AK165>0,VLOOKUP(O165,EventConfig!A:C,3,FALSE)=4),3,\"\"),1)))","v":3},10002,null,5156,10001]
[null,"",null,"",{"$nulls":6},{"$f":"IF(J166=\"\",\"\",VLOOKUP(J166,EventNPC!A:F,6,FALSE))","v":""},"",null,null,null,"","",null,null,{"$f":"IF(R166=\"\",\"\",\"-\"&VLOOKUP(R166,EventConditionConfig!A:C,3,FALSE)&IF(S166=\"\",\"\",CHAR(10)&\"-\"&VLOOKUP(S166,EventConditionConfig!A:C,3,FALSE)))","v":""},null,"","","",null,null,"",null,null,"",{"$nulls":4},{"$f":"IF(A166=\"\",\"\",IF(ISNUMBER(Y166),2,IF(A167=\"\",IF(OR(AK166>0,VLOOKUP(O166,EventConfig!A:C,3,FALSE)=4),3,\"\"),1)))","v":""},"",null,"",0]
[{"$f":"O167*100+P167","v":1000201},5157,"前往妖兽盘踞的地方",5158,"御剑飞行",{"$nulls":5},{"$f":"IF(J167=\"\",\"\",VLOOKUP(J167,EventNPC!A:F,6,FALSE))","v":""},5159,"神识发现有一条古径，隐于云山之间，不过似乎有妖兽盘踞。",3,10002,1,"",null,null,{"$f":"IF(R167=\"\",\"\",\"-\"&VLOOKUP(R167,EventConditionConfig!A:C,3,FALSE)&IF(S167=\"\",\"\",CHAR(10)&\"-\"&VLOOKUP(S167,EventConditionConfig!A:C,3,FALSE)))","v":""},null,"","","",null,null,"",null,null,"",{"$nulls":4},{"$f":"IF(A167=\"\",\"\",IF(ISNUMBER(Y167),2,IF(A168=\"\",IF(OR(AK167>0,VLOOKUP(O167,EventConfig!A:C,3,FALSE)=4),3,\"\"),1)))","v":1},1000202,null,5159,10002]
[{"$f":"O168*100+P168","v":1000202},5157,"前往妖兽盘踞的地方",5158,"御剑飞行",{"$nulls":5},{"$f":"IF(J168=\"\",\"\",VLOOKUP(J168,EventNPC!A:F,6,FALSE))","v":""},5160,"没其他办法了，过去看看吧。",3,10002,2,"",null,null,{"$f":"IF(R168=\"\",\"\",\"-\"&VLOOKUP(R168,EventConditionConfig!A:C,3,FALSE)&IF(S168=\"\",\"\",CHAR(10)&\"-\"&VLOOKUP(S168,EventConditionConfig!A:C,3,FALSE)))","v":""},null,"","","",null,null,"",null,null,"",{"$nulls":4},{"$f":"IF(A168=\"\",\"\",IF(ISNUMBER(Y168),2,IF(A169=\"\",IF(OR(AK168>0,VLOOKUP(O168,EventConfig!A:C,3,FALSE)=4),3,\"\"),1)))","v":1},1000203,null,5160,10002]
[{"$f":"O169*100+P169","v":1000203},5157,"前往妖兽盘踞的地方",5158,"御剑飞行",null,1,5,null,null,{"$f":"IF(J169=\"\",\"\",VLOOKUP(J169,EventNPC!A:F,6,FALSE))","v":""},"",null,null,10002,3,"",null,null,{"$f":"IF(R169=\"\",\"\",\"-\"&VLOOKUP(R169,EventConditionConfig!A:C,3,FALSE)&IF(S169=\"\",\"\",CHAR(10)&\"-\"&VLOOKUP(S169,EventConditionConfig!A:C,3,FALSE)))","v":""},null,"","","",null,null,"",null,null,"",{"$nulls":4},{"$f":"IF(A169=\"\",\"\",IF(ISNUMBER(Y169),2,IF(A170=\"\",IF(OR(AK169>0,VLOOKUP(O169,EventConfig!A:C,3,FALSE)=4),3,\"\"),1)))","v":3},10003,null,5160,10002]
[null,"",null,"",{"$nulls":6},{"$f":"IF(J170=\"\",\"\",VLOOKUP(J170,EventNPC!A:F,6,FALSE))","v":""},"",null,null,null,"","",null,null,{"$f":"IF(R170=\"\",\"\",\"-\"&VLOOKUP(R170,EventConditionConfig!A:C,3,FALSE)&IF(S170=\"\",\"\",CHAR(10)&\"-\"&VLOOKUP(S170,EventConditionConfig!A:C,3,FALSE)))","v":""},null,"","","",null,null,"",null,null,"",{"$nulls":4},{"$f":"IF(A170=\"\",\"\",IF(ISNUMBER(Y170),2,IF(A171=\"\",IF(OR(AK170>0,VLOOKUP(O170,EventConfig!A:C,3,FALSE)=4),3,\"\"),1)))","v":""},"",null,"",0]
[{"$f":"O171*100+P171","v":1000301},5161,"蜩鸟和小麻雀对你的到来很好奇","",{"$nulls":6},{"$f":"IF(J171=\"\",\"\",VLOOKUP(J171,EventNPC!A:F,6,FALSE))","v":""},5162,"应该就是这里了，似乎有古老的阵法挡住了去路",null,10003,1,"",null,null,{"$f":"IF(R171=\"\",\"\",\"-\"&VLOOKUP(R171,EventConditionConfig!A:C,3,FALSE)&IF(S171=\"\",\"\",CHAR(10)&\"-\"&VLOOKUP(S171,EventConditionConfig!A:C,3,FALSE)))","v":""},null,"","","",null,null,"",null,null,"",{"$nulls":4},{"$f":"IF(A171=\"\",\"\",IF(ISNUMBER(Y171),2,IF(A172=\"\",IF(OR(AK171>0,VLOOKUP(O171,EventConfig!A:C,3,FALSE)=4),3,\"\"),1)))","v":1},1000302,null,5162,10003]
[1000302,5161,"蜩鸟和小麻雀对你的到来很好奇","",{"$nulls":6},{"$f":"IF(J172=\"\",\"\",VLOOKUP(J172,EventNPC!A:F,6,FALSE))","v":""},5163,"（结界门前，三只小鸟飞来，落在一旁古松上）",null,10003,2,"",null,null,{"$f":"IF(R172=\"\",\"\",\"-\"&VLOOKUP(R172,EventConditionConfig!A:C,3,FALSE)&IF(S172=\"\",\"\",CHAR(10)&\"-\"&VLOOKUP(S172,EventConditionConfig!A:C,3,FALSE)))","v":""},null,"","","",null,null,"",null,null,"",{"$nulls":4},{"$f":"IF(A172=\"\",\"\",IF(ISNUMBER(Y172),2,IF(A173=\"\",IF(OR(AK172>0,VLOOKUP(O172,EventConfig!A:C,3,FALSE)=4),3,\"\"),1)))","v":1},1000303,null,5163,10003]
[1000303,5161,"蜩鸟和小麻雀对你的到来很好奇","",{"$nulls":5},101,{"$f":"IF(J173=\"\",\"\",VLOOKUP(J173,EventNPC!A:F,6,FALSE))","v":"蜩鸟"},5164,"（拍翅）：“咦？又是妄图穿行北海之人？”",null,10003,3,"",null,null,{"$f":"IF(R173=\"\",\"\",\"-\"&VLOOKUP(R173,EventConditionConfig!A:C,3,FALSE)&IF(S173=\"\",\"\",CHAR(10)&\"-\"&VLOOKUP(S173,EventConditionConfig!A:C,3,FALSE)))","v":""},1,"1000304","5165",5165,"我在寻找鲲鹏，你们知道它在哪里吗？",null,"",null,null,"",{"$nulls":4},{"$f":"IF(A173=\"\",\"\",IF(ISNUMBER(Y173),2,IF(A174=\"\",IF(OR(AK173>0,VLOOKUP(O173,EventConfig!A:C,3,FALSE)=4),3,\"\"),1)))","v":1},1000304,null,5165,10003]
[1000304,5161,"蜩鸟和小麻雀对你的到来很好奇","",{"$nulls":5},102,{"$f":"IF(J174=\"\",\"\",VLOOKUP(J174,EventNPC!A:F,6,FALSE))","v":"小麻雀"},5166,"（扑棱翅膀）是想要从北海飞往南海的超级大鸟吧？",null,10003,4,"",null,null,{"$f":"IF(R174=\"\",\"\",\"-\"&VLOOKUP(R174,EventConditionConfig!A:C,3,FALSE)&IF(S174=\"\",\"\",CHAR(10)&\"-\"&VLOOKUP(S174,EventConditionConfig!A:C,3,FALSE)))","v":""},null,"","","",null,null,"",null,null,"",{"$nulls":4},{"$f":"IF(A174=\"\",\"\",IF(ISNUMBER(Y174),2,IF(A175=\"\",IF(OR(AK174>0,VLOOKUP(O174,EventConfig!A:C,3,FALSE)=4),3,\"\"),1)))","v":1},1000305,null,5166,10003]
[1000305,5161,"蜩鸟和小麻雀对你的到来很好奇","",{"$nulls":5},102,{"$f":"IF(J175=\"\",\"\",VLOOKUP(J175,EventNPC!A:F,6,FALSE))","v":"小麻雀"},5167,"我就想不明白，她为何要飞如此之远，太奇怪啦！",null,10003,5,"",null,null,{"$f":"IF(R175=\"\",\"\",\"-\"&VLOOKUP(R175,EventConditionConfig!A:C,3,FALSE)&IF(S175=\"\",\"\",CHAR(10)&\"-\"&VLOOKUP(S175,EventConditionConfig!A:C,3,FALSE)))","v":""},1,"1000306","5168",5168,"鲲鹏是在追求心中的目标吧。",null,"",null,null,"",{"$nulls":4},{"$f":"IF(A175=\"\",\"\",IF(ISNUMBER(Y175),2,IF(A176=\"\",IF(OR(AK175>0,VLOOKUP(O175,EventConfig!A:C,3,FALSE)=4),3,\"\"),1)))","v":1},1000306,null,5168,10003]
[1000306,5161,"蜩鸟和小麻雀对你的到来很好奇","",{"$nulls":5},102,{"$f":"IF(J176=\"\",\"\",VLOOKUP(J176,EventNPC!A:F,6,FALSE))","v":"小麻雀"},5169,"（偏头想了想）目标？我天天在这里上蹿下跳，在附近树林飞来飞去，就已经很幸福啦。",null,10003,6,"",null,null,{"$f":"IF(R176=\"\",\"\",\"-\"&VLOOKUP(R176,EventConditionConfig!A:C,3,FALSE)&IF(S176=\"\",\"\",CHAR(10)&\"-\"&VLOOKUP(S176,EventConditionConfig!A:C,3,FALSE)))","v":""},null,"","","",null,null,"",null,null,"",{"$nulls":4},{"$f":"IF(A176=\"\",\"\",IF(ISNUMBER(Y176),2,IF(A177=\"\",IF(OR(AK176>0,VLOOKUP(O176,EventConfig!A:C,3,FALSE)=4),3,\"\"),1)))","v":1},1000307,null,5169,10003]
[1000307,5161,"蜩鸟和小麻雀对你的到来很好奇","",{"$nulls":5},102,{"$f":"IF(J177=\"\",\"\",VLOOKUP(J177,EventNPC!A:F,6,FALSE))","v":"小麻雀"},5170,"就那大傻鸟，非要飞那么远，又笨又蠢...真没意思。",null,10003,7,"",null,null,{"$f":"IF(R177=\"\",\"\",\"-\"&VLOOKUP(R177,EventConditionConfig!A:C,3,FALSE)&IF(S177=\"\",\"\",CHAR(10)&\"-\"&VLOOKUP(S177,EventConditionConfig!A:C,3,FALSE)))","v":""},1,"1000308;1000308","5171;5172",5171,"你说得也有一定道理…",null,5172,"你懂什么..这大鹏鸟可比你更有志向多了。",null,"",{"$nulls":4},{"$f":"IF(A177=\"\",\"\",IF(ISNUMBER(Y177),2,IF(A178=\"\",IF(OR(AK177>0,VLOOKUP(O177,EventConfig!A:C,3,FALSE)=4),3,\"\"),1)))","v":1},1000308,null,5172,10003]
[1000308,5161,"蜩鸟和小麻雀对你的到来很好奇","",{"$nulls":5},101,{"$f":"IF(J178=\"\",\"\",VLOOKUP(J178,EventNPC!A:F,6,FALSE))","v":"蜩鸟"},5173,"（翻飞一圈）志向有什么用？到头来还不是风停了就落地。",null,10003,8,"",null,null,{"$f":"IF(R178=\"\",\"\",\"-\"&VLOOKUP(R178,EventConditionConfig!A:C,3,FALSE)&IF(S178=\"\",\"\",CHAR(10)&\"-\"&VLOOKUP(S178,EventConditionConfig!A:C,3,FALSE)))","v":""},1,"1000309","5174",5174,"......",null,"",null,null,"",{"$nulls":4},{"$f":"IF(A178=\"\",\"\",IF(ISNUMBER(Y178),2,IF(A179=\"\",IF(OR(AK178>0,VLOOKUP(O178,EventConfig!A:C,3,FALSE)=4),3,\"\"),1)))","v":1},1000309,null,5174,10003]
[1000309,5161,"蜩鸟和小麻雀对你的到来很好奇","",{"$nulls":6},{"$f":"IF(J179=\"\",\"\",VLOOKUP(J179,EventNPC!A:F,6,FALSE))","v":""},5175,"（此时，结界微动，一缕风穿林而过，古径阵法竟有一丝松动）",null,10003,9,"",null,null,{"$f":"IF(R179=\"\",\"\",\"-\"&VLOOKUP(R179,EventConditionConfig!A:C,3,FALSE)&IF(S179=\"\",\"\",CHAR(10)&\"-\"&VLOOKUP(S179,EventConditionConfig!A:C,3,FALSE)))","v":""},null,"","","",null,null,"",null,null,"",{"$nulls":4},{"$f":"IF(A179=\"\",\"\",IF(ISNUMBER(Y179),2,IF(A180=\"\",IF(OR(AK179>0,VLOOKUP(O179,EventConfig!A:C,3,FALSE)=4),3,\"\"),1)))","v":3},10004,null,5175,10003]
[null,"",null,"",{"$nulls":6},{"$f":"IF(J180=\"\",\"\",VLOOKUP(J180,EventNPC!A:F,6,FALSE))","v":""},"",null,null,null,"","",null,null,{"$f":"IF(R180=\"\",\"\",\"-\"&VLOOKUP(R180,EventConditionConfig!A:C,3,FALSE)&IF(S180=\"\",\"\",CHAR(10)&\"-\"&VLOOKUP(S180,EventConditionConfig!A:C,3,FALSE)))","v":""},null,"","","",null,null,"",null,null,"",{"$nulls":4},{"$f":"IF(A180=\"\",\"\",IF(ISNUMBER(Y180),2,IF(A181=\"\",IF(OR(AK180>0,VLOOKUP(O180,EventConfig!A:C,3,FALSE)=4),3,\"\"),1)))","v":""},"",null,"",0]
[{"$f":"O181*100+P181","v":1000401},5176,"原来它们就是镇守阵法的结界兽",5177,"击败结界兽",{"$nulls":5},{"$f":"IF(J181=\"\",\"\",VLOOKUP(J181,EventNPC!A:F,6,FALSE))","v":""},5178,"这结界似乎有所反应…",null,10004,1,"",null,null,{"$f":"IF(R181=\"\",\"\",\"-\"&VLOOKUP(R181,EventConditionConfig!A:C,3,FALSE)&IF(S181=\"\",\"\",CHAR(10)&\"-\"&VLOOKUP(S181,EventConditionConfig!A:C,3,FALSE)))","v":""},1,"1000402","5179",5179,"与你们聊天很有意思，不过今天我是非过去不可，没人能阻止我重返仙途！",null,"",null,null,"",{"$nulls":4},{"$f":"IF(A181=\"\",\"\",IF(ISNUMBER(Y181),2,IF(A182=\"\",IF(OR(AK181>0,VLOOKUP(O181,EventConfig!A:C,3,FALSE)=4),3,\"\"),1)))","v":1},1000402,null,5179,10004]
[{"$f":"O182*100+P182","v":1000402},5176,"原来它们就是镇守阵法的结界兽",5177,"击败结界兽",{"$nulls":4},100,{"$f":"IF(J182=\"\",\"\",VLOOKUP(J182,EventNPC!A:F,6,FALSE))","v":"玩家"},5180,"现身吧！！",null,10004,2,"",null,null,{"$f":"IF(R182=\"\",\"\",\"-\"&VLOOKUP(R182,EventConditionConfig!A:C,3,FALSE)&IF(S182=\"\",\"\",CHAR(10)&\"-\"&VLOOKUP(S182,EventConditionConfig!A:C,3,FALSE)))","v":""},null,"","","",null,null,"",null,null,"",{"$nulls":4},{"$f":"IF(A182=\"\",\"\",IF(ISNUMBER(Y182),2,IF(A183=\"\",IF(OR(AK182>0,VLOOKUP(O182,EventConfig!A:C,3,FALSE)=4),3,\"\"),1)))","v":1},1000403,null,5180,10004]
[{"$f":"O183*100+P183","v":1000403},5176,"原来它们就是镇守阵法的结界兽",5177,"击败结界兽",{"$nulls":4},101,{"$f":"IF(J183=\"\",\"\",VLOOKUP(J183,EventNPC!A:F,6,FALSE))","v":"蜩鸟"},5181,"（轻轻飞下来..）又来...来吧来吧..",null,10004,3,"",null,null,{"$f":"IF(R183=\"\",\"\",\"-\"&VLOOKUP(R183,EventConditionConfig!A:C,3,FALSE)&IF(S183=\"\",\"\",CHAR(10)&\"-\"&VLOOKUP(S183,EventConditionConfig!A:C,3,FALSE)))","v":""},{"$f":"IF(Y183=\"\",\"\",IF(ISTEXT(Y183),1,2))","v":2},1002,"","",1002,null,"",null,null,"",{"$nulls":4},{"$f":"IF(A183=\"\",\"\",IF(ISNUMBER(Y183),2,IF(A184=\"\",IF(OR(AK183>0,VLOOKUP(O183,EventConfig!A:C,3,FALSE)=4),3,\"\"),1)))","v":2},"1000404;101",null,5181,10004]
[{"$f":"O184*100+P184","v":1000404},5176,"原来它们就是镇守阵法的结界兽","",{"$nulls":5},102,{"$f":"IF(J184=\"\",\"\",VLOOKUP(J184,EventNPC!A:F,6,FALSE))","v":"小麻雀"},5182,"这么想过去，就去吧...",null,10004,4,"",null,null,{"$f":"IF(R184=\"\",\"\",\"-\"&VLOOKUP(R184,EventConditionConfig!A:C,3,FALSE)&IF(S184=\"\",\"\",CHAR(10)&\"-\"&VLOOKUP(S184,EventConditionConfig!A:C,3,FALSE)))","v":""},null,"","","",null,null,"",null,null,"",{"$nulls":4},{"$f":"IF(A184=\"\",\"\",IF(ISNUMBER(Y184),2,IF(A185=\"\",IF(OR(AK184>0,VLOOKUP(O184,EventConfig!A:C,3,FALSE)=4),3,\"\"),1)))","v":3},10005,null,5182,10004]
[null,"",null,"",{"$nulls":6},{"$f":"IF(J185=\"\",\"\",VLOOKUP(J185,EventNPC!A:F,6,FALSE))","v":""},"",null,null,null,"","",null,null,{"$f":"IF(R185=\"\",\"\",\"-\"&VLOOKUP(R185,EventConditionConfig!A:C,3,FALSE)&IF(S185=\"\",\"\",CHAR(10)&\"-\"&VLOOKUP(S185,EventConditionConfig!A:C,3,FALSE)))","v":""},null,"","","",null,null,"",null,null,"",{"$nulls":4},{"$f":"IF(A185=\"\",\"\",IF(ISNUMBER(Y185),2,IF(A186=\"\",IF(OR(AK185>0,VLOOKUP(O185,EventConfig!A:C,3,FALSE)=4),3,\"\"),1)))","v":""},"",null,"",0]
[{"$f":"O186*100+P186","v":1000501},5183,"初见疯道人","",{"$nulls":6},{"$f":"IF(J186=\"\",\"\",VLOOKUP(J186,EventNPC!A:F,6,FALSE))","v":""},5184,"你穿过古径结界，来到一片被风托起的浮空灵岛群。",null,10005,1,"",null,null,{"$f":"IF(R186=\"\",\"\",\"-\"&VLOOKUP(R186,EventConditionConfig!A:C,3,FALSE)&IF(S186=\"\",\"\",CHAR(10)&\"-\"&VLOOKUP(S186,EventConditionConfig!A:C,3,FALSE)))","v":""},null,"","","",null,null,"",null,null,"",{"$nulls":4},{"$f":"IF(A186=\"\",\"\",IF(ISNUMBER(Y186),2,IF(A187=\"\",IF(OR(AK186>0,VLOOKUP(O186,EventConfig!A:C,3,FALSE)=4),3,\"\"),1)))","v":1},1000502,null,5184,10005]
[1000502,5183,"初见疯道人","",{"$nulls":6},{"$f":"IF(J187=\"\",\"\",VLOOKUP(J187,EventNPC!A:F,6,FALSE))","v":""},5185,"风势强劲，岛与岛之间缝隙深不见底，无桥无梯。",null,10005,2,"",null,null,{"$f":"IF(R187=\"\",\"\",\"-\"&VLOOKUP(R187,EventConditionConfig!A:C,3,FALSE)&IF(S187=\"\",\"\",CHAR(10)&\"-\"&VLOOKUP(S187,EventConditionConfig!A:C,3,FALSE)))","v":""},null,"","","",null,null,"",null,null,"",{"$nulls":4},{"$f":"IF(A187=\"\",\"\",IF(ISNUMBER(Y187),2,IF(A188=\"\",IF(OR(AK187>0,VLOOKUP(O187,EventConfig!A:C,3,FALSE)=4),3,\"\"),1)))","v":1},1000503,null,5185,10005]
[1000503,5183,"初见疯道人","",{"$nulls":6},{"$f":"IF(J188=\"\",\"\",VLOOKUP(J188,EventNPC!A:F,6,FALSE))","v":""},5186,"此处盘踞一位神秘道人，常独自站在岛边望风，仿佛等待什么。",null,10005,3,"",null,null,{"$f":"IF(R188=\"\",\"\",\"-\"&VLOOKUP(R188,EventConditionConfig!A:C,3,FALSE)&IF(S188=\"\",\"\",CHAR(10)&\"-\"&VLOOKUP(S188,EventConditionConfig!A:C,3,FALSE)))","v":""},null,"","","",null,null,"",null,null,"",{"$nulls":4},{"$f":"IF(A188=\"\",\"\",IF(ISNUMBER(Y188),2,IF(A189=\"\",IF(OR(AK188>0,VLOOKUP(O188,EventConfig!A:C,3,FALSE)=4),3,\"\"),1)))","v":1},1000504,null,5186,10005]
[1000504,5183,"初见疯道人","",{"$nulls":6},{"$f":"IF(J189=\"\",\"\",VLOOKUP(J189,EventNPC!A:F,6,FALSE))","v":""},5187,"（你尝试御剑，却在风中打转，被吹回原地）",null,10005,4,"",null,null,{"$f":"IF(R189=\"\",\"\",\"-\"&VLOOKUP(R189,EventConditionConfig!A:C,3,FALSE)&IF(S189=\"\",\"\",CHAR(10)&\"-\"&VLOOKUP(S189,EventConditionConfig!A:C,3,FALSE)))","v":""},1,"1000505","5188",5188,"前辈，这里的风太大，我无法飞行，请教如何才能通过？",null,"",null,null,"",{"$nulls":4},{"$f":"IF(A189=\"\",\"\",IF(ISNUMBER(Y189),2,IF(A190=\"\",IF(OR(AK189>0,VLOOKUP(O189,EventConfig!A:C,3,FALSE)=4),3,\"\"),1)))","v":1},1000505,null,5188,10005]
[1000505,5183,"初见疯道人","",{"$nulls":5},103,{"$f":"IF(J190=\"\",\"\",VLOOKUP(J190,EventNPC!A:F,6,FALSE))","v":"疯道人"},5189,"......",null,10005,5,"",null,null,{"$f":"IF(R190=\"\",\"\",\"-\"&VLOOKUP(R190,EventConditionConfig!A:C,3,FALSE)&IF(S190=\"\",\"\",CHAR(10)&\"-\"&VLOOKUP(S190,EventConditionConfig!A:C,3,FALSE)))","v":""},1,"1000506","5190",5190,"前辈，我准备前往北海深处，寻鲲鹏。",null,"",null,null,"",{"$nulls":4},{"$f":"IF(A190=\"\",\"\",IF(ISNUMBER(Y190),2,IF(A191=\"\",IF(OR(AK190>0,VLOOKUP(O190,EventConfig!A:C,3,FALSE)=4),3,\"\"),1)))","v":1},1000506,null,5190,10005]
[1000506,5183,"初见疯道人","",{"$nulls":5},103,{"$f":"IF(J191=\"\",\"\",VLOOKUP(J191,EventNPC!A:F,6,FALSE))","v":"疯道人"},5191,"鲲鹏？……世间竟还有人记得它。",null,10005,6,"",null,null,{"$f":"IF(R191=\"\",\"\",\"-\"&VLOOKUP(R191,EventConditionConfig!A:C,3,FALSE)&IF(S191=\"\",\"\",CHAR(10)&\"-\"&VLOOKUP(S191,EventConditionConfig!A:C,3,FALSE)))","v":""},null,"","","",null,null,"",null,null,"",{"$nulls":4},{"$f":"IF(A191=\"\",\"\",IF(ISNUMBER(Y191),2,IF(A192=\"\",IF(OR(AK191>0,VLOOKUP(O191,EventConfig!A:C,3,FALSE)=4),3,\"\"),1)))","v":1},1000507,null,5191,10005]
[1000507,5183,"初见疯道人","",{"$nulls":5},103,{"$f":"IF(J192=\"\",\"\",VLOOKUP(J192,EventNPC!A:F,6,FALSE))","v":"疯道人"},5192,"（说着从手中掏出一个碎片，往空中一震，瞬间风停）过来吧。",null,10005,7,"",null,null,{"$f":"IF(R192=\"\",\"\",\"-\"&VLOOKUP(R192,EventConditionConfig!A:C,3,FALSE)&IF(S192=\"\",\"\",CHAR(10)&\"-\"&VLOOKUP(S192,EventConditionConfig!A:C,3,FALSE)))","v":""},null,"","","",null,null,"",null,null,"",{"$nulls":4},{"$f":"IF(A192=\"\",\"\",IF(ISNUMBER(Y192),2,IF(A193=\"\",IF(OR(AK192>0,VLOOKUP(O192,EventConfig!A:C,3,FALSE)=4),3,\"\"),1)))","v":1},1000508,null,5192,10005]
[1000508,5183,"初见疯道人","",{"$nulls":5},103,{"$f":"IF(J193=\"\",\"\",VLOOKUP(J193,EventNPC!A:F,6,FALSE))","v":"疯道人"},5193,"说吧，为何寻那鲲鹏？",null,10005,8,"",null,null,{"$f":"IF(R193=\"\",\"\",\"-\"&VLOOKUP(R193,EventConditionConfig!A:C,3,FALSE)&IF(S193=\"\",\"\",CHAR(10)&\"-\"&VLOOKUP(S193,EventConditionConfig!A:C,3,FALSE)))","v":""},1,"1000509;1000509","5194;5195",5194,"冲虚真人让我去的",null,5195,"我只是好奇..",null,"",{"$nulls":4},{"$f":"IF(A193=\"\",\"\",IF(ISNUMBER(Y193),2,IF(A194=\"\",IF(OR(AK193>0,VLOOKUP(O193,EventConfig!A:C,3,FALSE)=4),3,\"\"),1)))","v":1},1000509,null,5195,10005]
[1000509,5183,"初见疯道人","",{"$nulls":5},103,{"$f":"IF(J194=\"\",\"\",VLOOKUP(J194,EventNPC!A:F,6,FALSE))","v":"疯道人"},5196,"你可知鹏飞九万里，需凭借龙卷风，才可达成？",null,10005,9,"",null,null,{"$f":"IF(R194=\"\",\"\",\"-\"&VLOOKUP(R194,EventConditionConfig!A:C,3,FALSE)&IF(S194=\"\",\"\",CHAR(10)&\"-\"&VLOOKUP(S194,EventConditionConfig!A:C,3,FALSE)))","v":""},1,"1000510","5197",5197,"请前辈赐教......",null,"",null,null,"",{"$nulls":4},{"$f":"IF(A194=\"\",\"\",IF(ISNUMBER(Y194),2,IF(A195=\"\",IF(OR(AK194>0,VLOOKUP(O194,EventConfig!A:C,3,FALSE)=4),3,\"\"),1)))","v":1},1000510,null,5197,10005]
[1000510,5183,"初见疯道人","",{"$nulls":5},103,{"$f":"IF(J195=\"\",\"\",VLOOKUP(J195,EventNPC!A:F,6,FALSE))","v":"疯道人"},5198,"看你修为尚浅，跟你说多了也无用。",null,10005,10,"",null,null,{"$f":"IF(R195=\"\",\"\",\"-\"&VLOOKUP(R195,EventConditionConfig!A:C,3,FALSE)&IF(S195=\"\",\"\",CHAR(10)&\"-\"&VLOOKUP(S195,EventConditionConfig!A:C,3,FALSE)))","v":""},null,"","","",null,null,"",null,null,"",{"$nulls":4},{"$f":"IF(A195=\"\",\"\",IF(ISNUMBER(Y195),2,IF(A196=\"\",IF(OR(AK195>0,VLOOKUP(O195,EventConfig!A:C,3,FALSE)=4),3,\"\"),1)))","v":1},1000511,null,5198,10005]
[1000511,5183,"初见疯道人","",{"$nulls":5},103,{"$f":"IF(J196=\"\",\"\",VLOOKUP(J196,EventNPC!A:F,6,FALSE))","v":"疯道人"},5199,"再往前是我师弟的洞府了，他可不好说话。",null,10005,11,"",null,null,{"$f":"IF(R196=\"\",\"\",\"-\"&VLOOKUP(R196,EventConditionConfig!A:C,3,FALSE)&IF(S196=\"\",\"\",CHAR(10)&\"-\"&VLOOKUP(S196,EventConditionConfig!A:C,3,FALSE)))","v":""},null,"","","",null,null,"",null,null,"",{"$nulls":4},{"$f":"IF(A196=\"\",\"\",IF(ISNUMBER(Y196),2,IF(A197=\"\",IF(OR(AK196>0,VLOOKUP(O196,EventConfig!A:C,3,FALSE)=4),3,\"\"),1)))","v":1},1000512,null,5199,10005]
[1000512,5183,"初见疯道人",{"$f":"IF(E197=\"\",\"\",IF(E197=E196,D196,MAX(AL196,AL195,B197)+1))","v":""},{"$nulls":5},103,{"$f":"IF(J197=\"\",\"\",VLOOKUP(J197,EventNPC!A:F,6,FALSE))","v":"疯道人"},{"$f":"IF(M197=\"\",\"\",MAX(AL196,AL195,B197,D197)+1)","v":5200},"就在我这附近好好修炼吧，至少提升至筑基修为。",null,10005,12,"",null,null,{"$f":"IF(R197=\"\",\"\",\"-\"&VLOOKUP(R197,EventConditionConfig!A:C,3,FALSE)&IF(S197=\"\",\"\",CHAR(10)&\"-\"&VLOOKUP(S197,EventConditionConfig!A:C,3,FALSE)))","v":""},1,"1000513","5201",5201,"前辈为何如此助我？",null,"",null,null,"",{"$nulls":4},{"$f":"IF(A197=\"\",\"\",IF(ISNUMBER(Y197),2,IF(A198=\"\",IF(OR(AK197>0,VLOOKUP(O197,EventConfig!A:C,3,FALSE)=4),3,\"\"),1)))","v":1},1000513,null,5201,10005]
[1000513,5183,"初见疯道人","",{"$nulls":5},103,{"$f":"IF(J198=\"\",\"\",VLOOKUP(J198,EventNPC!A:F,6,FALSE))","v":"疯道人"},5202,"（疯道人望你一眼，没有回答，但丢过来一本功法）修到[筑基-中期]再来找我。",null,10005,13,"",null,null,{"$f":"IF(R198=\"\",\"\",\"-\"&VLOOKUP(R198,EventConditionConfig!A:C,3,FALSE)&IF(S198=\"\",\"\",CHAR(10)&\"-\"&VLOOKUP(S198,EventConditionConfig!A:C,3,FALSE)))","v":""},null,"","","",null,null,"",null,null,"",{"$nulls":4},{"$f":"IF(A198=\"\",\"\",IF(ISNUMBER(Y198),2,IF(A199=\"\",IF(OR(AK198>0,VLOOKUP(O198,EventConfig!A:C,3,FALSE)=4),3,\"\"),1)))","v":1},1000514,null,5202,10005]
[1000514,5183,"初见疯道人","",{"$nulls":6},{"$f":"IF(J199=\"\",\"\",VLOOKUP(J199,EventNPC!A:F,6,FALSE))","v":""},"",null,null,10005,14,"2",2,null,{"$f":"IF(R199=\"\",\"\",\"-\"&VLOOKUP(R199,EventConditionConfig!A:C,3,FALSE)&IF(S199=\"\",\"\",CHAR(10)&\"-\"&VLOOKUP(S199,EventConditionConfig!A:C,3,FALSE)))","v":"-达到境界：练气-中期"},null,"","","",null,null,"",null,null,"",{"$nulls":4},{"$f":"IF(A199=\"\",\"\",IF(ISNUMBER(Y199),2,IF(A200=\"\",IF(OR(AK199>0,VLOOKUP(O199,EventConfig!A:C,3,FALSE)=4),3,\"\"),1)))","v":3},10006,null,{"$f":"IF(A199=\"\",\"\",MAX(B199,D199,L199,X199,AA199,AL198,AL197,AD199))","v":5202},{"$f":"O199","v":10005}]
[null,"",null,"",{"$nulls":6},{"$f":"IF(J200=\"\",\"\",VLOOKUP(J200,EventNPC!A:F,6,FALSE))","v":""},"",null,null,null,"","",null,null,{"$f":"IF(R200=\"\",\"\",\"-\"&VLOOKUP(R200,EventConditionConfig!A:C,3,FALSE)&IF(S200=\"\",\"\",CHAR(10)&\"-\"&VLOOKUP(S200,EventConditionConfig!A:C,3,FALSE)))","v":""},null,"","","",null,null,"",null,null,"",{"$nulls":4},{"$f":"IF(A200=\"\",\"\",IF(ISNUMBER(Y200),2,IF(A201=\"\",IF(OR(AK200>0,VLOOKUP(O200,EventConfig!A:C,3,FALSE)=4),3,\"\"),1)))","v":""},"",null,"",0]
[{"$f":"O201*100+P201","v":1000601},5203,"疯道人赠与一半风灵珠","",{"$nulls":5},103,{"$f":"IF(J201=\"\",\"\",VLOOKUP(J201,EventNPC!A:F,6,FALSE))","v":"疯道人"},5204,"你已突破筑基前期达到中期，灵力通畅，是时候去会一会我的师弟了。",null,10006,1,"",null,null,{"$f":"IF(R201=\"\",\"\",\"-\"&VLOOKUP(R201,EventConditionConfig!A:C,3,FALSE)&IF(S201=\"\",\"\",CHAR(10)&\"-\"&VLOOKUP(S201,EventConditionConfig!A:C,3,FALSE)))","v":""},1,"1000602;1000602","5205;5206",5205,"是的。鲲鹏之行，志在必达。",null,5206,"看看风的尽头到底有什么。",null,"",{"$nulls":4},{"$f":"IF(A201=\"\",\"\",IF(ISNUMBER(Y201),2,IF(A202=\"\",IF(OR(AK201>0,VLOOKUP(O201,EventConfig!A:C,3,FALSE)=4),3,\"\"),1)))","v":1},1000602,null,5206,10006]
[1000602,5203,"疯道人赠与一半风灵珠","",{"$nulls":5},103,{"$f":"IF(J202=\"\",\"\",VLOOKUP(J202,EventNPC!A:F,6,FALSE))","v":"疯道人"},5207,"（轻轻一笑）你说风的尽头……我也曾想看。\n（他望向远处翻涌的云海）",null,10006,2,"",null,null,{"$f":"IF(R202=\"\",\"\",\"-\"&VLOOKUP(R202,EventConditionConfig!A:C,3,FALSE)&IF(S202=\"\",\"\",CHAR(10)&\"-\"&VLOOKUP(S202,EventConditionConfig!A:C,3,FALSE)))","v":""},1,"1000603","5208",5208,"是的。鲲鹏之行，志在必达。",null,"",null,null,"",{"$nulls":4},{"$f":"IF(A202=\"\",\"\",IF(ISNUMBER(Y202),2,IF(A203=\"\",IF(OR(AK202>0,VLOOKUP(O202,EventConfig!A:C,3,FALSE)=4),3,\"\"),1)))","v":1},1000603,null,5208,10006]
[1000603,5203,"疯道人赠与一半风灵珠","",{"$nulls":5},103,{"$f":"IF(J203=\"\",\"\",VLOOKUP(J203,EventNPC!A:F,6,FALSE))","v":"疯道人"},5209,"我和师弟，共守这处风眼多年。我想出去，他却偏要留。",null,10006,{"$f":"IF(O203=\"\",\"\",IF(O203=O202,P202+1,1))","v":3},"",null,null,{"$f":"IF(R203=\"\",\"\",\"-\"&VLOOKUP(R203,EventConditionConfig!A:C,3,FALSE)&IF(S203=\"\",\"\",CHAR(10)&\"-\"&VLOOKUP(S203,EventConditionConfig!A:C,3,FALSE)))","v":""},null,"","","",null,null,"",null,null,"",{"$nulls":4},{"$f":"IF(A203=\"\",\"\",IF(ISNUMBER(Y203),2,IF(A204=\"\",IF(OR(AK203>0,VLOOKUP(O203,EventConfig!A:C,3,FALSE)=4),3,\"\"),1)))","v":1},1000604,null,5209,10006]
[1000604,{"$f":"IF(C204=\"\",\"\",IF(C204=C203,B203,MAX(AL203,AL202)+1))","v":5203},"疯道人赠与一半风灵珠","",{"$nulls":5},103,{"$f":"IF(J204=\"\",\"\",VLOOKUP(J204,EventNPC!A:F,6,FALSE))","v":"疯道人"},5210,"风灵珠碎成两半，一半在我这里，另一半……在他洞府中。",null,10006,4,"",null,null,{"$f":"IF(R204=\"\",\"\",\"-\"&VLOOKUP(R204,EventConditionConfig!A:C,3,FALSE)&IF(S204=\"\",\"\",CHAR(10)&\"-\"&VLOOKUP(S204,EventConditionConfig!A:C,3,FALSE)))","v":""},null,"",{"$f":"_xlfn.TEXTJOIN(\";\",1,X204,AA204,AD204)","v":""},{"$f":"IF(OR(ISNUMBER(Y204),Y204=\"\"),\"\",MAX(AL203,AL201,B204,D204,L204)+1)","v":""},null,null,{"$f":"IF(OR(ISNUMBER(AB204),AB204=\"\"),\"\",X204+1)","v":""},null,null,{"$f":"IF(OR(ISNUMBER(AE204),AE204=\"\"),\"\",AA204+1)","v":""},{"$nulls":4},{"$f":"IF(A204=\"\",\"\",IF(ISNUMBER(Y204),2,IF(A205=\"\",IF(OR(AK204>0,VLOOKUP(O204,EventConfig!A:C,3,FALSE)=4),3,\"\"),1)))","v":1},1000605,null,5210,10006]
[1000605,5203,"疯道人赠与一半风灵珠","",{"$nulls":5},103,{"$f":"IF(J205=\"\",\"\",VLOOKUP(J205,EventNPC!A:F,6,FALSE))","v":"疯道人"},5211,"你若想见鲲鹏，必须要集齐整个风灵珠。",null,10006,5,"",null,null,{"$f":"IF(R205=\"\",\"\",\"-\"&VLOOKUP(R205,EventConditionConfig!A:C,3,FALSE)&IF(S205=\"\",\"\",CHAR(10)&\"-\"&VLOOKUP(S205,EventConditionConfig!A:C,3,FALSE)))","v":""},null,{"$f":"IF(U205=1,_xlfn.TEXTJOIN(\";\",1,IF(Z205=\"\",A205+1,Z205),IF(AND(AA205<>\"\",AC205=\"\"),A205+1,AC205),IF(AND(AD205<>\"\",AF205=\"\"),A205+1,AF205)),IF(U205=2,Y205,\"\"))","v":""},"","",null,null,"",null,null,"",{"$nulls":4},{"$f":"IF(A205=\"\",\"\",IF(ISNUMBER(Y205),2,IF(A206=\"\",IF(OR(AK205>0,VLOOKUP(O205,EventConfig!A:C,3,FALSE)=4),3,\"\"),1)))","v":1},{"$f":"IF(AI205=\"\",\"\",CHOOSE(AI205,IF(AK205=\"\",A205+1,AK205),CONCATENATE(IF(AK205=\"\",A205+1,AK205),\";101\"),IF(AK205=\"\",O205+1,AK205)))","v":1000606},null,5211,10006]
[1000606,5203,"疯道人赠与一半风灵珠","",{"$nulls":5},103,{"$f":"IF(J206=\"\",\"\",VLOOKUP(J206,EventNPC!A:F,6,FALSE))","v":"疯道人"},5212,"我这一半给你，可助你在大风中，来去自如。",null,10006,6,"",null,null,{"$f":"IF(R206=\"\",\"\",\"-\"&VLOOKUP(R206,EventConditionConfig!A:C,3,FALSE)&IF(S206=\"\",\"\",CHAR(10)&\"-\"&VLOOKUP(S206,EventConditionConfig!A:C,3,FALSE)))","v":""},null,"","","",null,null,"",null,null,"",{"$nulls":4},{"$f":"IF(A206=\"\",\"\",IF(ISNUMBER(Y206),2,IF(A207=\"\",IF(OR(AK206>0,VLOOKUP(O206,EventConfig!A:C,3,FALSE)=4),3,\"\"),1)))","v":3},10007,null,5212,10006]
[null,"",null,"",{"$nulls":6},{"$f":"IF(J207=\"\",\"\",VLOOKUP(J207,EventNPC!A:F,6,FALSE))","v":""},"",null,null,null,"","",null,null,{"$f":"IF(R207=\"\",\"\",\"-\"&VLOOKUP(R207,EventConditionConfig!A:C,3,FALSE)&IF(S207=\"\",\"\",CHAR(10)&\"-\"&VLOOKUP(S207,EventConditionConfig!A:C,3,FALSE)))","v":""},null,"","","",null,null,"",null,null,"",{"$nulls":4},{"$f":"IF(A207=\"\",\"\",IF(ISNUMBER(Y207),2,IF(A208=\"\",IF(OR(AK207>0,VLOOKUP(O207,EventConfig!A:C,3,FALSE)=4),3,\"\"),1)))","v":""},"",null,"",0]
[{"$f":"O208*100+P208","v":1000701},5213,"没想到痴道人一来就要与你交手","",{"$nulls":6},{"$f":"IF(J208=\"\",\"\",VLOOKUP(J208,EventNPC!A:F,6,FALSE))","v":""},5214,"你获得了疯道人的半颗风灵珠，在狂风中自由飞行，好不自在。",null,10007,1,"",null,null,{"$f":"IF(R208=\"\",\"\",\"-\"&VLOOKUP(R208,EventConditionConfig!A:C,3,FALSE)&IF(S208=\"\",\"\",CHAR(10)&\"-\"&VLOOKUP(S208,EventConditionConfig!A:C,3,FALSE)))","v":""},null,"","","",null,null,"",null,null,"",{"$nulls":4},{"$f":"IF(A208=\"\",\"\",IF(ISNUMBER(Y208),2,IF(A209=\"\",IF(OR(AK208>0,VLOOKUP(O208,EventConfig!A:C,3,FALSE)=4),3,\"\"),1)))","v":1},1000702,null,5214,10007]
[{"$f":"O209*100+P209","v":1000702},5213,"没想到痴道人一来就要与你交手","",{"$nulls":6},{"$f":"IF(J209=\"\",\"\",VLOOKUP(J209,EventNPC!A:F,6,FALSE))","v":""},5215,"这......就是逍遥游吗？",null,10007,2,"",null,null,{"$f":"IF(R209=\"\",\"\",\"-\"&VLOOKUP(R209,EventConditionConfig!A:C,3,FALSE)&IF(S209=\"\",\"\",CHAR(10)&\"-\"&VLOOKUP(S209,EventConditionConfig!A:C,3,FALSE)))","v":""},null,"","","",null,null,"",null,null,"",{"$nulls":4},{"$f":"IF(A209=\"\",\"\",IF(ISNUMBER(Y209),2,IF(A210=\"\",IF(OR(AK209>0,VLOOKUP(O209,EventConfig!A:C,3,FALSE)=4),3,\"\"),1)))","v":1},1000703,null,5215,10007]
[{"$f":"O210*100+P210","v":1000703},5213,"没想到痴道人一来就要与你交手","",{"$nulls":5},104,{"$f":"IF(J210=\"\",\"\",VLOOKUP(J210,EventNPC!A:F,6,FALSE))","v":"痴道人"},5216,"你终于来了......",null,10007,3,"",null,null,{"$f":"IF(R210=\"\",\"\",\"-\"&VLOOKUP(R210,EventConditionConfig!A:C,3,FALSE)&IF(S210=\"\",\"\",CHAR(10)&\"-\"&VLOOKUP(S210,EventConditionConfig!A:C,3,FALSE)))","v":""},1,"1000704","5217",5217,"你知道我要来？",null,"",null,null,"",{"$nulls":4},{"$f":"IF(A210=\"\",\"\",IF(ISNUMBER(Y210),2,IF(A211=\"\",IF(OR(AK210>0,VLOOKUP(O210,EventConfig!A:C,3,FALSE)=4),3,\"\"),1)))","v":1},1000704,null,5217,10007]
[{"$f":"O211*100+P211","v":1000704},5213,"没想到痴道人一来就要与你交手","",{"$nulls":5},104,{"$f":"IF(J211=\"\",\"\",VLOOKUP(J211,EventNPC!A:F,6,FALSE))","v":"痴道人"},5218,"多说无益，我早已感应到你身上的半颗风灵珠。必是那疯老头让来的。出手吧！",null,10007,4,"",null,null,{"$f":"IF(R211=\"\",\"\",\"-\"&VLOOKUP(R211,EventConditionConfig!A:C,3,FALSE)&IF(S211=\"\",\"\",CHAR(10)&\"-\"&VLOOKUP(S211,EventConditionConfig!A:C,3,FALSE)))","v":""},{"$f":"IF(Y211=\"\",\"\",IF(ISTEXT(Y211),1,2))","v":2},1003,"","",1003,null,"",null,null,"",{"$nulls":4},{"$f":"IF(A211=\"\",\"\",IF(ISNUMBER(Y211),2,IF(A212=\"\",IF(OR(AK211>0,VLOOKUP(O211,EventConfig!A:C,3,FALSE)=4),3,\"\"),1)))","v":2},"1000705;101",null,5218,10007]
[{"$f":"O212*100+P212","v":1000705},5213,"没想到痴道人一来就要与你交手","",{"$nulls":5},104,{"$f":"IF(J212=\"\",\"\",VLOOKUP(J212,EventNPC!A:F,6,FALSE))","v":"痴道人"},5219,"（被击倒在一边）够了！",null,10007,5,"",null,null,{"$f":"IF(R212=\"\",\"\",\"-\"&VLOOKUP(R212,EventConditionConfig!A:C,3,FALSE)&IF(S212=\"\",\"\",CHAR(10)&\"-\"&VLOOKUP(S212,EventConditionConfig!A:C,3,FALSE)))","v":""},null,"","","",null,null,"",null,null,"",{"$nulls":4},{"$f":"IF(A212=\"\",\"\",IF(ISNUMBER(Y212),2,IF(A213=\"\",IF(OR(AK212>0,VLOOKUP(O212,EventConfig!A:C,3,FALSE)=4),3,\"\"),1)))","v":3},10008,null,5219,10007]
[null,"",null,"",{"$nulls":6},{"$f":"IF(J213=\"\",\"\",VLOOKUP(J213,EventNPC!A:F,6,FALSE))","v":""},"",null,null,null,"","",null,null,{"$f":"IF(R213=\"\",\"\",\"-\"&VLOOKUP(R213,EventConditionConfig!A:C,3,FALSE)&IF(S213=\"\",\"\",CHAR(10)&\"-\"&VLOOKUP(S213,EventConditionConfig!A:C,3,FALSE)))","v":""},null,"","","",null,null,"",null,null,"",{"$nulls":4},{"$f":"IF(A213=\"\",\"\",IF(ISNUMBER(Y213),2,IF(A214=\"\",IF(OR(AK213>0,VLOOKUP(O213,EventConfig!A:C,3,FALSE)=4),3,\"\"),1)))","v":""},"",null,"",0]
[{"$f":"O214*100+P214","v":1000801},5220,"疯痴相聚","",{"$nulls":5},104,{"$f":"IF(J214=\"\",\"\",VLOOKUP(J214,EventNPC!A:F,6,FALSE))","v":"痴道人"},5221,"......",null,10008,1,"",null,null,{"$f":"IF(R214=\"\",\"\",\"-\"&VLOOKUP(R214,EventConditionConfig!A:C,3,FALSE)&IF(S214=\"\",\"\",CHAR(10)&\"-\"&VLOOKUP(S214,EventConditionConfig!A:C,3,FALSE)))","v":""},1,"1000802","5222",5222,"（你靠近痴道人）你真的想一直留在这里？你师兄说你不肯走。",null,"",null,null,"",{"$nulls":4},{"$f":"IF(A214=\"\",\"\",IF(ISNUMBER(Y214),2,IF(A215=\"\",IF(OR(AK214>0,VLOOKUP(O214,EventConfig!A:C,3,FALSE)=4),3,\"\"),1)))","v":1},1000802,null,5222,10008]
[1000802,5220,"疯痴相聚","",{"$nulls":5},104,{"$f":"IF(J215=\"\",\"\",VLOOKUP(J215,EventNPC!A:F,6,FALSE))","v":"痴道人"},5223,"你修炼的时候，有没有过那种感觉——身边的人都在往前走，只有你还在原地。",null,10008,2,"",null,null,{"$f":"IF(R215=\"\",\"\",\"-\"&VLOOKUP(R215,EventConditionConfig!A:C,3,FALSE)&IF(S215=\"\",\"\",CHAR(10)&\"-\"&VLOOKUP(S215,EventConditionConfig!A:C,3,FALSE)))","v":""},null,"","","",null,null,"",null,null,"",{"$nulls":4},{"$f":"IF(A215=\"\",\"\",IF(ISNUMBER(Y215),2,IF(A216=\"\",IF(OR(AK215>0,VLOOKUP(O215,EventConfig!A:C,3,FALSE)=4),3,\"\"),1)))","v":1},1000803,null,5223,10008]
[1000803,5220,"疯痴相聚","",{"$nulls":5},104,{"$f":"IF(J216=\"\",\"\",VLOOKUP(J216,EventNPC!A:F,6,FALSE))","v":"痴道人"},5224,"我师兄，他悟性极高，一年就能走我三年的路。我不服气，想努力赶上他。",null,10008,3,"",null,null,{"$f":"IF(R216=\"\",\"\",\"-\"&VLOOKUP(R216,EventConditionConfig!A:C,3,FALSE)&IF(S216=\"\",\"\",CHAR(10)&\"-\"&VLOOKUP(S216,EventConditionConfig!A:C,3,FALSE)))","v":""},1,"1000804","5225",5225,"然后呢？",null,"",null,null,"",{"$nulls":4},{"$f":"IF(A216=\"\",\"\",IF(ISNUMBER(Y216),2,IF(A217=\"\",IF(OR(AK216>0,VLOOKUP(O216,EventConfig!A:C,3,FALSE)=4),3,\"\"),1)))","v":1},1000804,null,5225,10008]
[1000804,5220,"疯痴相聚","",{"$nulls":5},104,{"$f":"IF(J217=\"\",\"\",VLOOKUP(J217,EventNPC!A:F,6,FALSE))","v":"痴道人"},5226,"我一直苦心修炼，可人也困在这儿了……越修炼，越困难，修不动了。",null,10008,4,"",null,null,{"$f":"IF(R217=\"\",\"\",\"-\"&VLOOKUP(R217,EventConditionConfig!A:C,3,FALSE)&IF(S217=\"\",\"\",CHAR(10)&\"-\"&VLOOKUP(S217,EventConditionConfig!A:C,3,FALSE)))","v":""},null,"","","",null,null,"",null,null,"",{"$nulls":4},{"$f":"IF(A217=\"\",\"\",IF(ISNUMBER(Y217),2,IF(A218=\"\",IF(OR(AK217>0,VLOOKUP(O217,EventConfig!A:C,3,FALSE)=4),3,\"\"),1)))","v":1},1000805,null,5226,10008]
[1000805,5220,"疯痴相聚","",{"$nulls":6},{"$f":"IF(J218=\"\",\"\",VLOOKUP(J218,EventNPC!A:F,6,FALSE))","v":""},5227,"[此时，疯道人踏风而至，就在几步之外]",null,10008,5,"",null,null,{"$f":"IF(R218=\"\",\"\",\"-\"&VLOOKUP(R218,EventConditionConfig!A:C,3,FALSE)&IF(S218=\"\",\"\",CHAR(10)&\"-\"&VLOOKUP(S218,EventConditionConfig!A:C,3,FALSE)))","v":""},null,"","","",null,null,"",null,null,"",{"$nulls":4},{"$f":"IF(A218=\"\",\"\",IF(ISNUMBER(Y218),2,IF(A219=\"\",IF(OR(AK218>0,VLOOKUP(O218,EventConfig!A:C,3,FALSE)=4),3,\"\"),1)))","v":1},1000806,null,5227,10008]
[1000806,5220,"疯痴相聚","",{"$nulls":5},103,{"$f":"IF(J219=\"\",\"\",VLOOKUP(J219,EventNPC!A:F,6,FALSE))","v":"疯道人"},5228,"师弟，你修着修着，就不记得一开始，是为了什么而修行。",null,10008,6,"",null,null,{"$f":"IF(R219=\"\",\"\",\"-\"&VLOOKUP(R219,EventConditionConfig!A:C,3,FALSE)&IF(S219=\"\",\"\",CHAR(10)&\"-\"&VLOOKUP(S219,EventConditionConfig!A:C,3,FALSE)))","v":""},null,"","","",null,null,"",null,null,"",{"$nulls":4},{"$f":"IF(A219=\"\",\"\",IF(ISNUMBER(Y219),2,IF(A220=\"\",IF(OR(AK219>0,VLOOKUP(O219,EventConfig!A:C,3,FALSE)=4),3,\"\"),1)))","v":1},1000807,null,5228,10008]
[1000807,5220,"疯痴相聚","",{"$nulls":5},104,{"$f":"IF(J220=\"\",\"\",VLOOKUP(J220,EventNPC!A:F,6,FALSE))","v":"痴道人"},5229,"（抬头）......我，我真的不记得了。",null,10008,7,"",null,null,{"$f":"IF(R220=\"\",\"\",\"-\"&VLOOKUP(R220,EventConditionConfig!A:C,3,FALSE)&IF(S220=\"\",\"\",CHAR(10)&\"-\"&VLOOKUP(S220,EventConditionConfig!A:C,3,FALSE)))","v":""},null,"","","",null,null,"",null,null,"",{"$nulls":4},{"$f":"IF(A220=\"\",\"\",IF(ISNUMBER(Y220),2,IF(A221=\"\",IF(OR(AK220>0,VLOOKUP(O220,EventConfig!A:C,3,FALSE)=4),3,\"\"),1)))","v":1},1000808,null,5229,10008]
[1000808,5220,"疯痴相聚","",{"$nulls":5},103,{"$f":"IF(J221=\"\",\"\",VLOOKUP(J221,EventNPC!A:F,6,FALSE))","v":"疯道人"},5230,"那就放下风灵珠，和我出去走走。",null,10008,8,"",null,null,{"$f":"IF(R221=\"\",\"\",\"-\"&VLOOKUP(R221,EventConditionConfig!A:C,3,FALSE)&IF(S221=\"\",\"\",CHAR(10)&\"-\"&VLOOKUP(S221,EventConditionConfig!A:C,3,FALSE)))","v":""},null,"","","",null,null,"",null,null,"",{"$nulls":4},{"$f":"IF(A221=\"\",\"\",IF(ISNUMBER(Y221),2,IF(A222=\"\",IF(OR(AK221>0,VLOOKUP(O221,EventConfig!A:C,3,FALSE)=4),3,\"\"),1)))","v":1},1000809,null,5230,10008]
[1000809,5220,"疯痴相聚","",{"$nulls":5},103,{"$f":"IF(J222=\"\",\"\",VLOOKUP(J222,EventNPC!A:F,6,FALSE))","v":"疯道人"},5231,"[痴道人楞了一下，片刻后轻轻点头]",null,10008,9,{"$f":"_xlfn.TEXTJOIN(\";\",1,R222:S222)","v":""},null,null,{"$f":"IF(R222=\"\",\"\",\"-\"&VLOOKUP(R222,EventConditionConfig!A:C,3,FALSE)&IF(S222=\"\",\"\",CHAR(10)&\"-\"&VLOOKUP(S222,EventConditionConfig!A:C,3,FALSE)))","v":""},null,"","","",null,null,"",null,null,"",{"$nulls":4},{"$f":"IF(A222=\"\",\"\",IF(ISNUMBER(Y222),2,IF(A223=\"\",IF(OR(AK222>0,VLOOKUP(O222,EventConfig!A:C,3,FALSE)=4),3,\"\"),1)))","v":1},1000810,null,5231,10008]
[1000810,5220,"疯痴相聚","",{"$nulls":6},{"$f":"IF(J223=\"\",\"\",VLOOKUP(J223,EventNPC!A:F,6,FALSE))","v":""},5232,"[突然..洞府周围灵气汇聚，快速涌入痴道人的身体.]",null,10008,10,"",null,null,{"$f":"IF(R223=\"\",\"\",\"-\"&VLOOKUP(R223,EventConditionConfig!A:C,3,FALSE)&IF(S223=\"\",\"\",CHAR(10)&\"-\"&VLOOKUP(S223,EventConditionConfig!A:C,3,FALSE)))","v":""},1,"1000811","5233",5233,"前辈，为何灵气会动！",null,"",null,null,"",{"$nulls":4},{"$f":"IF(A223=\"\",\"\",IF(ISNUMBER(Y223),2,IF(A224=\"\",IF(OR(AK223>0,VLOOKUP(O223,EventConfig!A:C,3,FALSE)=4),3,\"\"),1)))","v":1},1000811,null,5233,10008]
[1000811,5220,"疯痴相聚","",{"$nulls":5},103,{"$f":"IF(J224=\"\",\"\",VLOOKUP(J224,EventNPC!A:F,6,FALSE))","v":"疯道人"},5234,"恭喜师弟，突破心魔。",null,10008,11,"",null,null,{"$f":"IF(R224=\"\",\"\",\"-\"&VLOOKUP(R224,EventConditionConfig!A:C,3,FALSE)&IF(S224=\"\",\"\",CHAR(10)&\"-\"&VLOOKUP(S224,EventConditionConfig!A:C,3,FALSE)))","v":""},null,"","","",null,null,"",null,null,"",{"$nulls":4},{"$f":"IF(A224=\"\",\"\",IF(ISNUMBER(Y224),2,IF(A225=\"\",IF(OR(AK224>0,VLOOKUP(O224,EventConfig!A:C,3,FALSE)=4),3,\"\"),1)))","v":1},1000812,null,5234,10008]
[1000812,5220,"疯痴相聚","",{"$nulls":5},104,{"$f":"IF(J225=\"\",\"\",VLOOKUP(J225,EventNPC!A:F,6,FALSE))","v":"痴道人"},5235,"多谢师兄！",null,10008,12,"",null,null,{"$f":"IF(R225=\"\",\"\",\"-\"&VLOOKUP(R225,EventConditionConfig!A:C,3,FALSE)&IF(S225=\"\",\"\",CHAR(10)&\"-\"&VLOOKUP(S225,EventConditionConfig!A:C,3,FALSE)))","v":""},1,"1000813;1000813","5236;5237",5236,"原来如此…",null,5237,"请前辈赐我风灵珠。",null,"",{"$nulls":4},{"$f":"IF(A225=\"\",\"\",IF(ISNUMBER(Y225),2,IF(A226=\"\",IF(OR(AK225>0,VLOOKUP(O225,EventConfig!A:C,3,FALSE)=4),3,\"\"),1)))","v":1},1000813,null,5237,10008]
[1000813,5220,"疯痴相聚","",{"$nulls":5},104,{"$f":"IF(J226=\"\",\"\",VLOOKUP(J226,EventNPC!A:F,6,FALSE))","v":"痴道人"},5238,"小友莫急… (说罢，痴道人将风灵珠的碎片合成了一颗完整的风灵珠)",null,10008,13,"",null,null,{"$f":"IF(R226=\"\",\"\",\"-\"&VLOOKUP(R226,EventConditionConfig!A:C,3,FALSE)&IF(S226=\"\",\"\",CHAR(10)&\"-\"&VLOOKUP(S226,EventConditionConfig!A:C,3,FALSE)))","v":""},null,"","","",null,null,"",null,null,"",{"$nulls":4},{"$f":"IF(A226=\"\",\"\",IF(ISNUMBER(Y226),2,IF(A227=\"\",IF(OR(AK226>0,VLOOKUP(O226,EventConfig!A:C,3,FALSE)=4),3,\"\"),1)))","v":1},1000814,null,5238,10008]
[1000814,5220,"疯痴相聚","",{"$nulls":5},104,{"$f":"IF(J227=\"\",\"\",VLOOKUP(J227,EventNPC!A:F,6,FALSE))","v":"痴道人"},5239,"拿好了，这风啊……来一回，不容易。",null,10008,14,"",null,null,{"$f":"IF(R227=\"\",\"\",\"-\"&VLOOKUP(R227,EventConditionConfig!A:C,3,FALSE)&IF(S227=\"\",\"\",CHAR(10)&\"-\"&VLOOKUP(S227,EventConditionConfig!A:C,3,FALSE)))","v":""},null,"","","",null,null,"",null,null,"",{"$nulls":4},{"$f":"IF(A227=\"\",\"\",IF(ISNUMBER(Y227),2,IF(A228=\"\",IF(OR(AK227>0,VLOOKUP(O227,EventConfig!A:C,3,FALSE)=4),3,\"\"),1)))","v":3},10009,null,5239,10008]
[null,"",null,"",{"$nulls":6},{"$f":"IF(J228=\"\",\"\",VLOOKUP(J228,EventNPC!A:F,6,FALSE))","v":""},"",null,null,null,"","",null,null,{"$f":"IF(R228=\"\",\"\",\"-\"&VLOOKUP(R228,EventConditionConfig!A:C,3,FALSE)&IF(S228=\"\",\"\",CHAR(10)&\"-\"&VLOOKUP(S228,EventConditionConfig!A:C,3,FALSE)))","v":""},null,"","","",null,null,"",null,null,"",{"$nulls":4},{"$f":"IF(A228=\"\",\"\",IF(ISNUMBER(Y228),2,IF(A229=\"\",IF(OR(AK228>0,VLOOKUP(O228,EventConfig!A:C,3,FALSE)=4),3,\"\"),1)))","v":""},"",null,"",0]
[{"$f":"O229*100+P229","v":1000901},5240,"达到筑基后期","",{"$nulls":5},100,{"$f":"IF(J229=\"\",\"\",VLOOKUP(J229,EventNPC!A:F,6,FALSE))","v":"玩家"},5241,"完整的风灵珠果然不同凡响，我可以更大的狂风中穿行了。",null,{"$f":"IF(O228=\"\",O227+1,O228)","v":10009},1,"",null,null,{"$f":"IF(R229=\"\",\"\",\"-\"&VLOOKUP(R229,EventConditionConfig!A:C,3,FALSE)&IF(S229=\"\",\"\",CHAR(10)&\"-\"&VLOOKUP(S229,EventConditionConfig!A:C,3,FALSE)))","v":""},null,"","","",null,null,"",null,null,"",{"$nulls":4},{"$f":"IF(A229=\"\",\"\",IF(ISNUMBER(Y229),2,IF(A230=\"\",IF(OR(AK229>0,VLOOKUP(O229,EventConfig!A:C,3,FALSE)=4),3,\"\"),1)))","v":1},1000902,null,5241,10009]
[{"$f":"O230*100+P230","v":1000902},5240,"达到筑基后期","",{"$nulls":5},100,{"$f":"IF(J230=\"\",\"\",VLOOKUP(J230,EventNPC!A:F,6,FALSE))","v":"玩家"},5242,"前方似乎有不少高阶妖兽，我先在此地提升一些修为吧。",null,{"$f":"IF(O229=\"\",O228+1,O229)","v":10009},2,"",null,null,{"$f":"IF(R230=\"\",\"\",\"-\"&VLOOKUP(R230,EventConditionConfig!A:C,3,FALSE)&IF(S230=\"\",\"\",CHAR(10)&\"-\"&VLOOKUP(S230,EventConditionConfig!A:C,3,FALSE)))","v":""},null,"","","",null,null,"",null,null,"",{"$nulls":4},{"$f":"IF(A230=\"\",\"\",IF(ISNUMBER(Y230),2,IF(A231=\"\",IF(OR(AK230>0,VLOOKUP(O230,EventConfig!A:C,3,FALSE)=4),3,\"\"),1)))","v":1},1000903,null,5242,10009]
[{"$f":"O231*100+P231","v":1000903},5240,"达到筑基后期","",{"$nulls":5},100,{"$f":"IF(J231=\"\",\"\",VLOOKUP(J231,EventNPC!A:F,6,FALSE))","v":"玩家"},5243,"继续寻找冲虚提到的“七道心境”吧，不知鲲鹏是否会给我答案。",null,{"$f":"IF(O230=\"\",O229+1,O230)","v":10009},3,"8",8,null,{"$f":"IF(R231=\"\",\"\",\"-\"&VLOOKUP(R231,EventConditionConfig!A:C,3,FALSE)&IF(S231=\"\",\"\",CHAR(10)&\"-\"&VLOOKUP(S231,EventConditionConfig!A:C,3,FALSE)))","v":"-达到境界：练气-后期"},null,"","","",null,null,"",null,null,"",{"$nulls":4},{"$f":"IF(A231=\"\",\"\",IF(ISNUMBER(Y231),2,IF(A232=\"\",IF(OR(AK231>0,VLOOKUP(O231,EventConfig!A:C,3,FALSE)=4),3,\"\"),1)))","v":3},10010,null,5243,10009]
[null,"",null,"",{"$nulls":6},{"$f":"IF(J232=\"\",\"\",VLOOKUP(J232,EventNPC!A:F,6,FALSE))","v":""},"",null,null,null,"","",null,null,{"$f":"IF(R232=\"\",\"\",\"-\"&VLOOKUP(R232,EventConditionConfig!A:C,3,FALSE)&IF(S232=\"\",\"\",CHAR(10)&\"-\"&VLOOKUP(S232,EventConditionConfig!A:C,3,FALSE)))","v":""},null,"","","",null,null,"",null,null,"",{"$nulls":4},{"$f":"IF(A232=\"\",\"\",IF(ISNUMBER(Y232),2,IF(A233=\"\",IF(OR(AK232>0,VLOOKUP(O232,EventConfig!A:C,3,FALSE)=4),3,\"\"),1)))","v":""},"",null,"",0]
[{"$f":"O233*100+P233","v":1001001},5244,"妖兽横行","",{"$nulls":6},{"$f":"IF(J233=\"\",\"\",VLOOKUP(J233,EventNPC!A:F,6,FALSE))","v":""},5245,"你深入北海，海浪翻涌，云雾缭绕。",null,{"$f":"IF(O232=\"\",O231+1,O232)","v":10010},1,"",null,null,{"$f":"IF(R233=\"\",\"\",\"-\"&VLOOKUP(R233,EventConditionConfig!A:C,3,FALSE)&IF(S233=\"\",\"\",CHAR(10)&\"-\"&VLOOKUP(S233,EventConditionConfig!A:C,3,FALSE)))","v":""},null,"","","",null,null,"",null,null,"",{"$nulls":4},{"$f":"IF(A233=\"\",\"\",IF(ISNUMBER(Y233),2,IF(A234=\"\",IF(OR(AK233>0,VLOOKUP(O233,EventConfig!A:C,3,FALSE)=4),3,\"\"),1)))","v":1},1001002,null,5245,10010]
[1001002,5244,"妖兽横行","",{"$nulls":6},{"$f":"IF(J234=\"\",\"\",VLOOKUP(J234,EventNPC!A:F,6,FALSE))","v":""},5246,"深处阴冷气息笼罩，妖兽从浪中涌出，狂暴阻路，仿佛在守护北海的秘密。",null,{"$f":"IF(O233=\"\",O232+1,O233)","v":10010},2,"",null,null,{"$f":"IF(R234=\"\",\"\",\"-\"&VLOOKUP(R234,EventConditionConfig!A:C,3,FALSE)&IF(S234=\"\",\"\",CHAR(10)&\"-\"&VLOOKUP(S234,EventConditionConfig!A:C,3,FALSE)))","v":""},null,"","","",null,null,"",null,null,"",{"$nulls":4},{"$f":"IF(A234=\"\",\"\",IF(ISNUMBER(Y234),2,IF(A235=\"\",IF(OR(AK234>0,VLOOKUP(O234,EventConfig!A:C,3,FALSE)=4),3,\"\"),1)))","v":1},1001003,null,5246,10010]
[1001003,5244,"妖兽横行","",{"$nulls":6},{"$f":"IF(J235=\"\",\"\",VLOOKUP(J235,EventNPC!A:F,6,FALSE))","v":""},5247,"风灵珠碎片微微发光，助你御风而战。",null,{"$f":"IF(O234=\"\",O233+1,O234)","v":10010},3,"",null,null,{"$f":"IF(R235=\"\",\"\",\"-\"&VLOOKUP(R235,EventConditionConfig!A:C,3,FALSE)&IF(S235=\"\",\"\",CHAR(10)&\"-\"&VLOOKUP(S235,EventConditionConfig!A:C,3,FALSE)))","v":""},null,"","","",null,null,"",null,null,"",{"$nulls":4},{"$f":"IF(A235=\"\",\"\",IF(ISNUMBER(Y235),2,IF(A236=\"\",IF(OR(AK235>0,VLOOKUP(O235,EventConfig!A:C,3,FALSE)=4),3,\"\"),1)))","v":1},1001004,null,5247,10010]
[1001004,5244,"妖兽横行","",{"$nulls":6},{"$f":"IF(J236=\"\",\"\",VLOOKUP(J236,EventNPC!A:F,6,FALSE))","v":""},5248,"这些妖兽挡道……看来得先清扫一番，才能继续前行。",null,{"$f":"IF(O233=\"\",O232+1,O233)","v":10010},4,"",null,null,{"$f":"IF(R236=\"\",\"\",\"-\"&VLOOKUP(R236,EventConditionConfig!A:C,3,FALSE)&IF(S236=\"\",\"\",CHAR(10)&\"-\"&VLOOKUP(S236,EventConditionConfig!A:C,3,FALSE)))","v":""},null,"","","",null,null,"",null,null,"",{"$nulls":4},{"$f":"IF(A236=\"\",\"\",IF(ISNUMBER(Y236),2,IF(A237=\"\",IF(OR(AK236>0,VLOOKUP(O236,EventConfig!A:C,3,FALSE)=4),3,\"\"),1)))","v":1},1001005,null,5248,10010]
[1001005,5249,"妖兽肆虐","",{"$nulls":5},120,{"$f":"IF(J237=\"\",\"\",VLOOKUP(J237,EventNPC!A:F,6,FALSE))","v":"妖兽"},5250,"（咆哮，从深浪跃出）“外来者，北海无路！”",null,{"$f":"IF(O233=\"\",O232+1,O233)","v":10010},5,"9",9,null,{"$f":"IF(R237=\"\",\"\",\"-\"&VLOOKUP(R237,EventConditionConfig!A:C,3,FALSE)&IF(S237=\"\",\"\",CHAR(10)&\"-\"&VLOOKUP(S237,EventConditionConfig!A:C,3,FALSE)))","v":"-妖兽横行"},null,"","","",null,null,"",null,null,"",{"$nulls":4},{"$f":"IF(A237=\"\",\"\",IF(ISNUMBER(Y237),2,IF(A238=\"\",IF(OR(AK237>0,VLOOKUP(O237,EventConfig!A:C,3,FALSE)=4),3,\"\"),1)))","v":1},1001006,null,5250,10010]
[1001006,5249,"妖兽肆虐","",{"$nulls":6},{"$f":"IF(J238=\"\",\"\",VLOOKUP(J238,EventNPC!A:F,6,FALSE))","v":""},"",null,null,{"$f":"IF(O234=\"\",O233+1,O234)","v":10010},6,"",null,null,{"$f":"IF(R238=\"\",\"\",\"-\"&VLOOKUP(R238,EventConditionConfig!A:C,3,FALSE)&IF(S238=\"\",\"\",CHAR(10)&\"-\"&VLOOKUP(S238,EventConditionConfig!A:C,3,FALSE)))","v":""},2,1003,"","",1003,null,"",null,null,"",{"$nulls":4},{"$f":"IF(A238=\"\",\"\",IF(ISNUMBER(Y238),2,IF(A239=\"\",IF(OR(AK238>0,VLOOKUP(O238,EventConfig!A:C,3,FALSE)=4),3,\"\"),1)))","v":2},"1001007;101",null,5250,10010]
[{"$f":"O239*100+P239","v":1001007},{"$f":"IF(C239=\"\",\"\",IF(C239=C238,B238,MAX(AL238,AL237)+1))","v":5249},"妖兽肆虐",{"$f":"IF(E239=\"\",\"\",IF(E239=E238,D238,MAX(AL238,AL237,B239)+1))","v":""},{"$nulls":6},{"$f":"IF(J239=\"\",\"\",VLOOKUP(J239,EventNPC!A:F,6,FALSE))","v":""},5251,"妖兽被击退了。",null,{"$f":"IF(O235=\"\",O234+1,O235)","v":10010},7,{"$f":"_xlfn.TEXTJOIN(\";\",1,R239:S239)","v":""},null,null,{"$f":"IF(R239=\"\",\"\",\"-\"&VLOOKUP(R239,EventConditionConfig!A:C,3,FALSE)&IF(S239=\"\",\"\",CHAR(10)&\"-\"&VLOOKUP(S239,EventConditionConfig!A:C,3,FALSE)))","v":""},null,{"$f":"IF(U239=1,_xlfn.TEXTJOIN(\";\",1,IF(Z239=\"\",A239+1,Z239),IF(AND(AA239<>\"\",AC239=\"\"),A239+1,AC239),IF(AND(AD239<>\"\",AF239=\"\"),A239+1,AF239)),IF(U239=2,Y239,\"\"))","v":""},"","",null,null,"",null,null,{"$f":"IF(OR(ISNUMBER(AE239),AE239=\"\"),\"\",AA239+1)","v":""},{"$nulls":4},{"$f":"IF(A239=\"\",\"\",IF(ISNUMBER(Y239),2,IF(A240=\"\",IF(OR(AK239>0,VLOOKUP(O239,EventConfig!A:C,3,FALSE)=4),3,\"\"),1)))","v":3},10011,null,{"$f":"IF(A239=\"\",\"\",MAX(B239,D239,L239,X239,AA239,AL238,AL237,AD239))","v":5251},{"$f":"O239","v":10010}]
[null,{"$f":"IF(C240=\"\",\"\",IF(C240=C238,B238,MAX(AL238,AL237)+1))","v":""},null,{"$f":"IF(E240=\"\",\"\",IF(E240=E238,D238,MAX(AL238,AL237,B240)+1))","v":""},{"$nulls":6},{"$f":"IF(J240=\"\",\"\",VLOOKUP(J240,EventNPC!A:F,6,FALSE))","v":""},"",null,null,null,"","",null,null,{"$f":"IF(R240=\"\",\"\",\"-\"&VLOOKUP(R240,EventConditionConfig!A:C,3,FALSE)&IF(S240=\"\",\"\",CHAR(10)&\"-\"&VLOOKUP(S240,EventConditionConfig!A:C,3,FALSE)))","v":""},null,"","","",null,null,"",null,null,"",{"$nulls":4},{"$f":"IF(A240=\"\",\"\",IF(ISNUMBER(Y240),2,IF(A241=\"\",IF(OR(AK240>0,VLOOKUP(O240,EventConfig!A:C,3,FALSE)=4),3,\"\"),1)))","v":""},"",null,{"$f":"IF(A240=\"\",\"\",MAX(B240,D240,L240,X240,AA240,AL238,AL237,AD240))","v":""}]
[{"$f":"O241*100+P241","v":1001101},{"$f":"IF(C241=\"\",\"\",IF(C241=C240,B240,MAX(AL240,AL238)+1))","v":5251},"与鲲鹏对话",{"$f":"IF(E241=\"\",\"\",IF(E241=E240,D240,MAX(AL240,AL238,B241)+1))","v":""},{"$nulls":6},{"$f":"IF(J241=\"\",\"\",VLOOKUP(J241,EventNPC!A:F,6,FALSE))","v":""},5252,"你来到北海尽头。水面如镜，深不见底。一道巨影在水底游弋，这就是北海之鱼——鲲，至少有几千里那么大。",null,{"$f":"IF(O240=\"\",O233+1,O240)","v":10011},1,"",null,null,{"$f":"IF(R241=\"\",\"\",\"-\"&VLOOKUP(R241,EventConditionConfig!A:C,3,FALSE)&IF(S241=\"\",\"\",CHAR(10)&\"-\"&VLOOKUP(S241,EventConditionConfig!A:C,3,FALSE)))","v":""},null,"","","",null,null,"",null,null,"",{"$nulls":4},{"$f":"IF(A241=\"\",\"\",IF(ISNUMBER(Y241),2,IF(A242=\"\",IF(OR(AK241>0,VLOOKUP(O241,EventConfig!A:C,3,FALSE)=4),3,\"\"),1)))","v":1},1001102,null,{"$f":"IF(A241=\"\",\"\",MAX(B241,D241,L241,X241,AA241,AL240,AL238,AD241))","v":5252},10011]
[1001102,5251,"与鲲鹏对话","",{"$nulls":5},119,{"$f":"IF(J242=\"\",\"\",VLOOKUP(J242,EventNPC!A:F,6,FALSE))","v":"鲲鹏"},5253,"(低沉声，从水底传出，如闷雷回荡）……小子，你寻我何事？身上竟有风灵珠的气息，不简单。",null,10011,2,{"$f":"_xlfn.TEXTJOIN(\";\",1,R242:S242)","v":""},null,null,{"$f":"IF(R242=\"\",\"\",\"-\"&VLOOKUP(R242,EventConditionConfig!A:C,3,FALSE)&IF(S242=\"\",\"\",CHAR(10)&\"-\"&VLOOKUP(S242,EventConditionConfig!A:C,3,FALSE)))","v":""},null,"","","",null,null,"",null,null,"",{"$nulls":4},{"$f":"IF(A242=\"\",\"\",IF(ISNUMBER(Y242),2,IF(A243=\"\",IF(OR(AK242>0,VLOOKUP(O242,EventConfig!A:C,3,FALSE)=4),3,\"\"),1)))","v":1},1001103,null,5253,10011]
[1001103,5251,"与鲲鹏对话","",{"$nulls":5},100,{"$f":"IF(J243=\"\",\"\",VLOOKUP(J243,EventNPC!A:F,6,FALSE))","v":"玩家"},5254,"前辈，我受冲虚真人指引，游历天下，正在寻找七道心境。",null,10011,3,"",null,null,{"$f":"IF(R243=\"\",\"\",\"-\"&VLOOKUP(R243,EventConditionConfig!A:C,3,FALSE)&IF(S243=\"\",\"\",CHAR(10)&\"-\"&VLOOKUP(S243,EventConditionConfig!A:C,3,FALSE)))","v":""},null,"","","",null,null,"",null,null,"",{"$nulls":4},{"$f":"IF(A243=\"\",\"\",IF(ISNUMBER(Y243),2,IF(A244=\"\",IF(OR(AK243>0,VLOOKUP(O243,EventConfig!A:C,3,FALSE)=4),3,\"\"),1)))","v":1},1001104,null,5254,10011]
[1001104,5251,"与鲲鹏对话","",{"$nulls":5},100,{"$f":"IF(J244=\"\",\"\",VLOOKUP(J244,EventNPC!A:F,6,FALSE))","v":"玩家"},5255,"有缘路过此地，听闻前辈欲飞南海天池，可为何停滞于此？",null,10011,4,"",null,null,{"$f":"IF(R244=\"\",\"\",\"-\"&VLOOKUP(R244,EventConditionConfig!A:C,3,FALSE)&IF(S244=\"\",\"\",CHAR(10)&\"-\"&VLOOKUP(S244,EventConditionConfig!A:C,3,FALSE)))","v":""},null,"","","",null,null,"",null,null,"",{"$nulls":4},{"$f":"IF(A244=\"\",\"\",IF(ISNUMBER(Y244),2,IF(A245=\"\",IF(OR(AK244>0,VLOOKUP(O244,EventConfig!A:C,3,FALSE)=4),3,\"\"),1)))","v":1},1001105,null,5255,10011]
[1001105,5251,"与鲲鹏对话","",{"$nulls":5},119,{"$f":"IF(J245=\"\",\"\",VLOOKUP(J245,EventNPC!A:F,6,FALSE))","v":"鲲鹏"},5256,"（叹息，水面微颤）北海虽广，却无龙卷大风，我无法化鹏南飞，已困千年。",null,10011,5,"",null,null,{"$f":"IF(R245=\"\",\"\",\"-\"&VLOOKUP(R245,EventConditionConfig!A:C,3,FALSE)&IF(S245=\"\",\"\",CHAR(10)&\"-\"&VLOOKUP(S245,EventConditionConfig!A:C,3,FALSE)))","v":""},null,"","5257",5257,"我愿助一臂之力",null,"",null,null,"",{"$nulls":4},{"$f":"IF(A245=\"\",\"\",IF(ISNUMBER(Y245),2,IF(A246=\"\",IF(OR(AK245>0,VLOOKUP(O245,EventConfig!A:C,3,FALSE)=4),3,\"\"),1)))","v":1},1001106,null,5257,10011]
[1001106,5251,"与鲲鹏对话","",{"$nulls":5},119,{"$f":"IF(J246=\"\",\"\",VLOOKUP(J246,EventNPC!A:F,6,FALSE))","v":"鲲鹏"},5258,"（低笑）你修为尚浅，虽然聚齐了风灵珠，但却无法召唤龙卷大风。",null,10011,6,"",null,null,{"$f":"IF(R246=\"\",\"\",\"-\"&VLOOKUP(R246,EventConditionConfig!A:C,3,FALSE)&IF(S246=\"\",\"\",CHAR(10)&\"-\"&VLOOKUP(S246,EventConditionConfig!A:C,3,FALSE)))","v":""},null,"","","",null,null,"",null,null,"",{"$nulls":4},{"$f":"IF(A246=\"\",\"\",IF(ISNUMBER(Y246),2,IF(A247=\"\",IF(OR(AK246>0,VLOOKUP(O246,EventConfig!A:C,3,FALSE)=4),3,\"\"),1)))","v":1},1001107,null,5258,10011]
[1001107,5251,"与鲲鹏对话","",{"$nulls":5},119,{"$f":"IF(J247=\"\",\"\",VLOOKUP(J247,EventNPC!A:F,6,FALSE))","v":"鲲鹏"},5259,"走吧，去尧都看看，继续你的游历，或许机缘自来。",null,{"$f":"IF(O246=\"\",O240+1,O246)","v":10011},7,"",null,null,{"$f":"IF(R247=\"\",\"\",\"-\"&VLOOKUP(R247,EventConditionConfig!A:C,3,FALSE)&IF(S247=\"\",\"\",CHAR(10)&\"-\"&VLOOKUP(S247,EventConditionConfig!A:C,3,FALSE)))","v":""},null,"","","",null,null,"",null,null,"",{"$nulls":4},{"$f":"IF(A247=\"\",\"\",IF(ISNUMBER(Y247),2,IF(A248=\"\",IF(OR(AK247>0,VLOOKUP(O247,EventConfig!A:C,3,FALSE)=4),3,\"\"),1)))","v":1},1001108,null,5259,10011]
[1001108,5251,"与鲲鹏对话","",{"$nulls":5},100,{"$f":"IF(J248=\"\",\"\",VLOOKUP(J248,EventNPC!A:F,6,FALSE))","v":"玩家"},5260,"多谢前辈指点。我一定会回来，再助前辈一飞冲天。",null,10011,8,"",null,null,{"$f":"IF(R248=\"\",\"\",\"-\"&VLOOKUP(R248,EventConditionConfig!A:C,3,FALSE)&IF(S248=\"\",\"\",CHAR(10)&\"-\"&VLOOKUP(S248,EventConditionConfig!A:C,3,FALSE)))","v":""},null,"","","",null,null,"",null,null,"",{"$nulls":4},{"$f":"IF(A248=\"\",\"\",IF(ISNUMBER(Y248),2,IF(A249=\"\",IF(OR(AK248>0,VLOOKUP(O248,EventConfig!A:C,3,FALSE)=4),3,\"\"),1)))","v":1},1001109,null,5260,10011]
[1001109,5251,"与鲲鹏对话","",{"$nulls":5},100,{"$f":"IF(J249=\"\",\"\",VLOOKUP(J249,EventNPC!A:F,6,FALSE))","v":"玩家"},5261,"鲲鹏困于无风……看来我的旅程才刚开始。",null,10011,9,"",null,null,{"$f":"IF(R249=\"\",\"\",\"-\"&VLOOKUP(R249,EventConditionConfig!A:C,3,FALSE)&IF(S249=\"\",\"\",CHAR(10)&\"-\"&VLOOKUP(S249,EventConditionConfig!A:C,3,FALSE)))","v":""},null,"","","",null,null,"",null,null,"",{"$nulls":4},{"$f":"IF(A249=\"\",\"\",IF(ISNUMBER(Y249),2,IF(A250=\"\",IF(OR(AK249>0,VLOOKUP(O249,EventConfig!A:C,3,FALSE)=4),3,\"\"),1)))","v":1},1001110,null,5261,10011]
[1001110,5251,"与鲲鹏对话","",{"$nulls":5},100,{"$f":"IF(J250=\"\",\"\",VLOOKUP(J250,EventNPC!A:F,6,FALSE))","v":"玩家"},5262,"冲虚真人所言的“七道心境”，或许就在前方。",null,10011,10,"",null,null,{"$f":"IF(R250=\"\",\"\",\"-\"&VLOOKUP(R250,EventConditionConfig!A:C,3,FALSE)&IF(S250=\"\",\"\",CHAR(10)&\"-\"&VLOOKUP(S250,EventConditionConfig!A:C,3,FALSE)))","v":""},null,"","","",null,null,"",null,null,"",{"$nulls":4},{"$f":"IF(A250=\"\",\"\",IF(ISNUMBER(Y250),2,IF(A251=\"\",IF(OR(AK250>0,VLOOKUP(O250,EventConfig!A:C,3,FALSE)=4),3,\"\"),1)))","v":1},1001111,null,5262,10011]
[1001111,5251,"与鲲鹏对话","",{"$nulls":5},100,{"$f":"IF(J251=\"\",\"\",VLOOKUP(J251,EventNPC!A:F,6,FALSE))","v":"玩家"},5263,"去尧之都走一遭吧。",null,10011,11,"",null,null,{"$f":"IF(R251=\"\",\"\",\"-\"&VLOOKUP(R251,EventConditionConfig!A:C,3,FALSE)&IF(S251=\"\",\"\",CHAR(10)&\"-\"&VLOOKUP(S251,EventConditionConfig!A:C,3,FALSE)))","v":""},null,"","","",null,null,"",null,null,"",{"$nulls":4},{"$f":"IF(A251=\"\",\"\",IF(ISNUMBER(Y251),2,IF(A252=\"\",IF(OR(AK251>0,VLOOKUP(O251,EventConfig!A:C,3,FALSE)=4),3,\"\"),1)))","v":1},1001112,null,5263,10011]
[1001112,5251,"与鲲鹏对话","",{"$nulls":6},{"$f":"IF(J252=\"\",\"\",VLOOKUP(J252,EventNPC!A:F,6,FALSE))","v":""},"",null,null,10011,12,"14",14,null,{"$f":"IF(R252=\"\",\"\",\"-\"&VLOOKUP(R252,EventConditionConfig!A:C,3,FALSE)&IF(S252=\"\",\"\",CHAR(10)&\"-\"&VLOOKUP(S252,EventConditionConfig!A:C,3,FALSE)))","v":"-达到境界：筑基-前期"},null,"","","",null,null,"",null,null,"",{"$nulls":4},{"$f":"IF(A252=\"\",\"\",IF(ISNUMBER(Y252),2,IF(A253=\"\",IF(OR(AK252>0,VLOOKUP(O252,EventConfig!A:C,3,FALSE)=4),3,\"\"),1)))","v":3},10012,null,5263,10011]
[null,"",null,"",{"$nulls":6},{"$f":"IF(J253=\"\",\"\",VLOOKUP(J253,EventNPC!A:F,6,FALSE))","v":""},"",null,null,{"$f":"IF(M253=\"\",\"\",IF(O241=\"\",O240+1,O241))","v":""},"","",null,null,{"$f":"IF(R253=\"\",\"\",\"-\"&VLOOKUP(R253,EventConditionConfig!A:C,3,FALSE)&IF(S253=\"\",\"\",CHAR(10)&\"-\"&VLOOKUP(S253,EventConditionConfig!A:C,3,FALSE)))","v":""},null,"","","",null,null,"",null,null,"",{"$nulls":4},{"$f":"IF(A253=\"\",\"\",IF(ISNUMBER(Y253),2,IF(A254=\"\",IF(OR(AK253>0,VLOOKUP(O253,EventConfig!A:C,3,FALSE)=4),3,\"\"),1)))","v":""},"",null,"",""]
[{"$f":"O254*100+P254","v":1001201},5264,"前往尧都地界","",{"$nulls":6},{"$f":"IF(J254=\"\",\"\",VLOOKUP(J254,EventNPC!A:F,6,FALSE))","v":""},5265,"你离开北海，御剑而行。逍遥铃微微颤动，似乎在指引下一个方向——尧之都，那片祥和的仙域。",null,{"$f":"IF(M254=\"\",\"\",IF(O253=\"\",O241+1,O253))","v":10012},1,"",null,null,{"$f":"IF(R254=\"\",\"\",\"-\"&VLOOKUP(R254,EventConditionConfig!A:C,3,FALSE)&IF(S254=\"\",\"\",CHAR(10)&\"-\"&VLOOKUP(S254,EventConditionConfig!A:C,3,FALSE)))","v":""},{"$f":"IF(Y254=\"\",\"\",IF(ISTEXT(Y254),1,2))","v":""},"","","",null,null,"",null,null,"",{"$nulls":4},{"$f":"IF(A254=\"\",\"\",IF(ISNUMBER(Y254),2,IF(A255=\"\",IF(OR(AK254>0,VLOOKUP(O254,EventConfig!A:C,3,FALSE)=4),3,\"\"),1)))","v":1},1001202,null,5265,10012]
[{"$f":"O255*100+P255","v":1001202},5264,"前往尧都地界","",{"$nulls":6},{"$f":"IF(J255=\"\",\"\",VLOOKUP(J255,EventNPC!A:F,6,FALSE))","v":""},5266,"鲲鹏前辈提及尧都，或许那里有助你悟道的关键。",null,{"$f":"IF(M255=\"\",\"\",IF(O254=\"\",O242+1,O254))","v":10012},2,"",null,null,{"$f":"IF(R255=\"\",\"\",\"-\"&VLOOKUP(R255,EventConditionConfig!A:C,3,FALSE)&IF(S255=\"\",\"\",CHAR(10)&\"-\"&VLOOKUP(S255,EventConditionConfig!A:C,3,FALSE)))","v":""},{"$f":"IF(Y255=\"\",\"\",IF(ISTEXT(Y255),1,2))","v":""},"","","",null,null,"",null,null,"",{"$nulls":4},{"$f":"IF(A255=\"\",\"\",IF(ISNUMBER(Y255),2,IF(A256=\"\",IF(OR(AK255>0,VLOOKUP(O255,EventConfig!A:C,3,FALSE)=4),3,\"\"),1)))","v":1},1001203,null,5266,10012]
[{"$f":"O256*100+P256","v":1001203},5264,"前往尧都地界","",{"$nulls":6},{"$f":"IF(J256=\"\",\"\",VLOOKUP(J256,EventNPC!A:F,6,FALSE))","v":""},5267,"尧都……据说这里仙凡混居，国泰民安。帝尧治理有方，或许能找到更多线索。",null,{"$f":"IF(M256=\"\",\"\",IF(O255=\"\",O243+1,O255))","v":10012},3,"",null,null,{"$f":"IF(R256=\"\",\"\",\"-\"&VLOOKUP(R256,EventConditionConfig!A:C,3,FALSE)&IF(S256=\"\",\"\",CHAR(10)&\"-\"&VLOOKUP(S256,EventConditionConfig!A:C,3,FALSE)))","v":""},{"$f":"IF(Y256=\"\",\"\",IF(ISTEXT(Y256),1,2))","v":""},"","","",null,null,"",null,null,"",{"$nulls":4},{"$f":"IF(A256=\"\",\"\",IF(ISNUMBER(Y256),2,IF(A257=\"\",IF(OR(AK256>0,VLOOKUP(O256,EventConfig!A:C,3,FALSE)=4),3,\"\"),1)))","v":3},10013,null,5267,10012]
[null,"",null,"",{"$nulls":6},{"$f":"IF(J257=\"\",\"\",VLOOKUP(J257,EventNPC!A:F,6,FALSE))","v":""},"",null,null,{"$f":"IF(M257=\"\",\"\",IF(O254=\"\",O253+1,O254))","v":""},"",{"$nulls":5},"","","",null,null,"",null,null,"",{"$nulls":4},{"$f":"IF(A257=\"\",\"\",IF(ISNUMBER(Y257),2,IF(A258=\"\",IF(OR(AK257>0,VLOOKUP(O257,EventConfig!A:C,3,FALSE)=4),3,\"\"),1)))","v":""},"",null,"",""]
[{"$f":"O258*100+P258","v":1001301},5268,"尧让天下",5269,"倾听尧帝的烦恼",{"$nulls":5},{"$f":"IF(J258=\"\",\"\",VLOOKUP(J258,EventNPC!A:F,6,FALSE))","v":""},5270,"你踏入帝尧治下的仙域——一片祥和之地，灵气充沛，民众安居，仿佛世外桃源。",null,{"$f":"IF(M258=\"\",\"\",IF(O257=\"\",O254+1,O257))","v":10013},1,"",null,null,{"$f":"IF(R258=\"\",\"\",\"-\"&VLOOKUP(R258,EventConditionConfig!A:C,3,FALSE)&IF(S258=\"\",\"\",CHAR(10)&\"-\"&VLOOKUP(S258,EventConditionConfig!A:C,3,FALSE)))","v":""},null,"","","",null,null,"",null,null,"",{"$nulls":4},{"$f":"IF(A258=\"\",\"\",IF(ISNUMBER(Y258),2,IF(A259=\"\",IF(OR(AK258>0,VLOOKUP(O258,EventConfig!A:C,3,FALSE)=4),3,\"\"),1)))","v":1},1001302,null,5270,10013]
[1001302,5268,"尧让天下",5269,"倾听尧帝的烦恼",{"$nulls":5},{"$f":"IF(J259=\"\",\"\",VLOOKUP(J259,EventNPC!A:F,6,FALSE))","v":""},5271,"然而，这位千年帝君，却眉宇间有难掩的忧色。",null,{"$f":"IF(O258=\"\",O257+1,O258)","v":10013},2,"",null,null,{"$f":"IF(R259=\"\",\"\",\"-\"&VLOOKUP(R259,EventConditionConfig!A:C,3,FALSE)&IF(S259=\"\",\"\",CHAR(10)&\"-\"&VLOOKUP(S259,EventConditionConfig!A:C,3,FALSE)))","v":""},null,"","","",null,null,"",null,null,"",{"$nulls":4},{"$f":"IF(A259=\"\",\"\",IF(ISNUMBER(Y259),2,IF(A260=\"\",IF(OR(AK259>0,VLOOKUP(O259,EventConfig!A:C,3,FALSE)=4),3,\"\"),1)))","v":1},1001303,null,5271,10013]
[1001303,5268,"尧让天下",5269,"倾听尧帝的烦恼",{"$nulls":5},{"$f":"IF(J260=\"\",\"\",VLOOKUP(J260,EventNPC!A:F,6,FALSE))","v":""},5272,"（你根据逍遥铃的指引，找到了尧）",null,10013,3,"",null,null,{"$f":"IF(R260=\"\",\"\",\"-\"&VLOOKUP(R260,EventConditionConfig!A:C,3,FALSE)&IF(S260=\"\",\"\",CHAR(10)&\"-\"&VLOOKUP(S260,EventConditionConfig!A:C,3,FALSE)))","v":""},1,"1001304","5273",5273,"拜见帝尧，晚辈受冲虚真人的指引，游历到此处。",null,"",null,null,"",{"$nulls":4},{"$f":"IF(A260=\"\",\"\",IF(ISNUMBER(Y260),2,IF(A261=\"\",IF(OR(AK260>0,VLOOKUP(O260,EventConfig!A:C,3,FALSE)=4),3,\"\"),1)))","v":1},1001304,null,5273,10013]
[1001304,5268,"尧让天下",5269,"倾听尧帝的烦恼",{"$nulls":4},105,{"$f":"IF(J261=\"\",\"\",VLOOKUP(J261,EventNPC!A:F,6,FALSE))","v":"尧帝"},{"$f":"IF(M261=\"\",\"\",MAX(AL260,AL259,B261,D261)+1)","v":5274},"（缓缓回头，脸上带着淡淡忧虑）冲虚真人吗？我也许久没见了..",null,10013,4,"",null,null,{"$f":"IF(R261=\"\",\"\",\"-\"&VLOOKUP(R261,EventConditionConfig!A:C,3,FALSE)&IF(S261=\"\",\"\",CHAR(10)&\"-\"&VLOOKUP(S261,EventConditionConfig!A:C,3,FALSE)))","v":""},null,"","","",null,null,"",null,null,"",{"$nulls":4},{"$f":"IF(A261=\"\",\"\",IF(ISNUMBER(Y261),2,IF(A262=\"\",IF(OR(AK261>0,VLOOKUP(O261,EventConfig!A:C,3,FALSE)=4),3,\"\"),1)))","v":1},1001305,null,5274,10013]
[1001305,5268,"尧让天下",{"$f":"IF(E262=\"\",\"\",IF(E262=E261,D261,MAX(AL261,AL260,B262)+1))","v":5269},"倾听尧帝的烦恼",{"$nulls":4},105,{"$f":"IF(J262=\"\",\"\",VLOOKUP(J262,EventNPC!A:F,6,FALSE))","v":"尧帝"},5275,"(尧帝邀你来到一高处)\n小友，你看此处景致如何？",null,10013,5,"",null,null,{"$f":"IF(R262=\"\",\"\",\"-\"&VLOOKUP(R262,EventConditionConfig!A:C,3,FALSE)&IF(S262=\"\",\"\",CHAR(10)&\"-\"&VLOOKUP(S262,EventConditionConfig!A:C,3,FALSE)))","v":""},1,"1001306;1001306","5276;5277",5276,"万象更新，灵气环绕，是修行的福地。",null,5277,"国泰民安，仙人治理，世间罕见。",null,"",{"$nulls":4},{"$f":"IF(A262=\"\",\"\",IF(ISNUMBER(Y262),2,IF(A263=\"\",IF(OR(AK262>0,VLOOKUP(O262,EventConfig!A:C,3,FALSE)=4),3,\"\"),1)))","v":1},1001306,null,5277,10013]
[1001306,5268,"尧让天下",5269,"倾听尧帝的烦恼",{"$nulls":4},105,{"$f":"IF(J263=\"\",\"\",VLOOKUP(J263,EventNPC!A:F,6,FALSE))","v":"尧帝"},5278,"（叹息）是啊，人人自在，唯我不自在。这些年来，我境界难以寸进，已有百年。",null,10013,6,"",null,null,{"$f":"IF(R263=\"\",\"\",\"-\"&VLOOKUP(R263,EventConditionConfig!A:C,3,FALSE)&IF(S263=\"\",\"\",CHAR(10)&\"-\"&VLOOKUP(S263,EventConditionConfig!A:C,3,FALSE)))","v":""},1,"1001307","5279",5279,"帝尧何出此言？",null,"",null,null,"",{"$nulls":4},{"$f":"IF(A263=\"\",\"\",IF(ISNUMBER(Y263),2,IF(A264=\"\",IF(OR(AK263>0,VLOOKUP(O263,EventConfig!A:C,3,FALSE)=4),3,\"\"),1)))","v":1},1001307,null,5279,10013]
[1001307,5268,"尧让天下",5269,"倾听尧帝的烦恼",{"$nulls":4},105,{"$f":"IF(J264=\"\",\"\",VLOOKUP(J264,EventNPC!A:F,6,FALSE))","v":"尧帝"},5280,"你等散修，自由自在，来去如风，可曾体会过身负重任的滋味？",null,10013,7,"",null,null,{"$f":"IF(R264=\"\",\"\",\"-\"&VLOOKUP(R264,EventConditionConfig!A:C,3,FALSE)&IF(S264=\"\",\"\",CHAR(10)&\"-\"&VLOOKUP(S264,EventConditionConfig!A:C,3,FALSE)))","v":""},1,"1001308","5281",5281,"也有重担，却未必如帝尧这样复杂。",null,"",null,null,"",{"$nulls":4},{"$f":"IF(A264=\"\",\"\",IF(ISNUMBER(Y264),2,IF(A265=\"\",IF(OR(AK264>0,VLOOKUP(O264,EventConfig!A:C,3,FALSE)=4),3,\"\"),1)))","v":1},1001308,null,{"$f":"IF(A264=\"\",\"\",MAX(B264,D264,L264,X264,AA264,AL263,AL262,AD264))","v":5281},{"$f":"O264","v":10013}]
[1001308,5268,"尧让天下",5269,"倾听尧帝的烦恼",{"$nulls":4},105,{"$f":"IF(J265=\"\",\"\",VLOOKUP(J265,EventNPC!A:F,6,FALSE))","v":"尧帝"},5282,"（微微一笑，摇头）天下如画卷，画卷再美，日夜背负，也终是负担。",null,10013,8,"",null,null,{"$f":"IF(R265=\"\",\"\",\"-\"&VLOOKUP(R265,EventConditionConfig!A:C,3,FALSE)&IF(S265=\"\",\"\",CHAR(10)&\"-\"&VLOOKUP(S265,EventConditionConfig!A:C,3,FALSE)))","v":""},1,"1001309","5283",5283,"......",null,"",null,null,"",{"$nulls":4},{"$f":"IF(A265=\"\",\"\",IF(ISNUMBER(Y265),2,IF(A266=\"\",IF(OR(AK265>0,VLOOKUP(O265,EventConfig!A:C,3,FALSE)=4),3,\"\"),1)))","v":1},1001309,null,5283,10013]
[1001309,5268,"尧让天下",5269,"倾听尧帝的烦恼",{"$nulls":4},105,{"$f":"IF(J266=\"\",\"\",VLOOKUP(J266,EventNPC!A:F,6,FALSE))","v":"尧帝"},5284,"（凝望远方云海）深山之中有位贤士，名为许由，素有盛名，我曾多次请他出山，但未成如愿。",null,10013,9,"",null,null,{"$f":"IF(R266=\"\",\"\",\"-\"&VLOOKUP(R266,EventConditionConfig!A:C,3,FALSE)&IF(S266=\"\",\"\",CHAR(10)&\"-\"&VLOOKUP(S266,EventConditionConfig!A:C,3,FALSE)))","v":""},null,"","","",null,null,"",null,null,"",{"$nulls":4},{"$f":"IF(A266=\"\",\"\",IF(ISNUMBER(Y266),2,IF(A267=\"\",IF(OR(AK266>0,VLOOKUP(O266,EventConfig!A:C,3,FALSE)=4),3,\"\"),1)))","v":1},1001310,null,5284,10013]
[1001310,5268,"尧让天下",5269,"倾听尧帝的烦恼",{"$nulls":4},105,{"$f":"IF(J267=\"\",\"\",VLOOKUP(J267,EventNPC!A:F,6,FALSE))","v":"尧帝"},5285,"我甚至提出让天下于他，他也不为所动。",null,10013,{"$f":"IF(O267=\"\",\"\",IF(O267=O266,P266+1,1))","v":10},"",null,null,{"$f":"IF(R267=\"\",\"\",\"-\"&VLOOKUP(R267,EventConditionConfig!A:C,3,FALSE)&IF(S267=\"\",\"\",CHAR(10)&\"-\"&VLOOKUP(S267,EventConditionConfig!A:C,3,FALSE)))","v":""},1,"1001311","5286",5286,"世间竟然有此奇人？",null,"",null,null,"",{"$nulls":4},{"$f":"IF(A267=\"\",\"\",IF(ISNUMBER(Y267),2,IF(A268=\"\",IF(OR(AK267>0,VLOOKUP(O267,EventConfig!A:C,3,FALSE)=4),3,\"\"),1)))","v":1},1001311,null,5286,10013]
[1001311,5268,"尧让天下",5269,"倾听尧帝的烦恼",{"$nulls":4},105,{"$f":"IF(J268=\"\",\"\",VLOOKUP(J268,EventNPC!A:F,6,FALSE))","v":"尧帝"},5287,"（凝望远方云海）若小友有空，帮我再请许由出山，我定当感谢。",null,10013,11,"",null,null,{"$f":"IF(R268=\"\",\"\",\"-\"&VLOOKUP(R268,EventConditionConfig!A:C,3,FALSE)&IF(S268=\"\",\"\",CHAR(10)&\"-\"&VLOOKUP(S268,EventConditionConfig!A:C,3,FALSE)))","v":""},1,"1001312",{"$f":"_xlfn.TEXTJOIN(\";\",1,X268,AA268,AD268)","v":"5288"},{"$f":"IF(OR(ISNUMBER(Y268),Y268=\"\"),\"\",MAX(AL267,AL265,B268,D268,L268)+1)","v":5288},"好的，既然来了，我就走一趟。",null,{"$f":"IF(OR(ISNUMBER(AB268),AB268=\"\"),\"\",X268+1)","v":""},null,null,"",{"$nulls":4},{"$f":"IF(A268=\"\",\"\",IF(ISNUMBER(Y268),2,IF(A269=\"\",IF(OR(AK268>0,VLOOKUP(O268,EventConfig!A:C,3,FALSE)=4),3,\"\"),1)))","v":1},1001312,null,5288,10013]
[1001312,{"$f":"IF(C269=\"\",\"\",IF(C269=C268,B268,MAX(AL268,AL267)+1))","v":5268},"尧让天下",5269,"倾听尧帝的烦恼",{"$nulls":5},{"$f":"IF(J269=\"\",\"\",VLOOKUP(J269,EventNPC!A:F,6,FALSE))","v":""},"",null,null,10013,12,"",null,null,{"$f":"IF(R269=\"\",\"\",\"-\"&VLOOKUP(R269,EventConditionConfig!A:C,3,FALSE)&IF(S269=\"\",\"\",CHAR(10)&\"-\"&VLOOKUP(S269,EventConditionConfig!A:C,3,FALSE)))","v":""},null,"","","",null,null,"",null,null,{"$f":"IF(OR(ISNUMBER(AE269),AE269=\"\"),\"\",AA269+1)","v":""},{"$nulls":4},{"$f":"IF(A269=\"\",\"\",IF(ISNUMBER(Y269),2,IF(A270=\"\",IF(OR(AK269>0,VLOOKUP(O269,EventConfig!A:C,3,FALSE)=4),3,\"\"),1)))","v":3},10014,null,5288,10013]
[null,"",null,"",{"$nulls":6},{"$f":"IF(J270=\"\",\"\",VLOOKUP(J270,EventNPC!A:F,6,FALSE))","v":""},"",null,null,null,"","",null,null,{"$f":"IF(R270=\"\",\"\",\"-\"&VLOOKUP(R270,EventConditionConfig!A:C,3,FALSE)&IF(S270=\"\",\"\",CHAR(10)&\"-\"&VLOOKUP(S270,EventConditionConfig!A:C,3,FALSE)))","v":""},null,{"$f":"IF(U270=1,_xlfn.TEXTJOIN(\";\",1,IF(Z270=\"\",A270+1,Z270),IF(AND(AA270<>\"\",AC270=\"\"),A270+1,AC270),IF(AND(AD270<>\"\",AF270=\"\"),A270+1,AF270)),IF(U270=2,Y270,\"\"))","v":""},"","",null,null,"",null,null,"",{"$nulls":4},{"$f":"IF(A270=\"\",\"\",IF(ISNUMBER(Y270),2,IF(A271=\"\",IF(OR(AK270>0,VLOOKUP(O270,EventConfig!A:C,3,FALSE)=4),3,\"\"),1)))","v":""},{"$f":"IF(AI270=\"\",\"\",CHOOSE(AI270,IF(AK270=\"\",A270+1,AK270),CONCATENATE(IF(AK270=\"\",A270+1,AK270),\";101\"),IF(AK270=\"\",O270+1,AK270)))","v":""},null,"",0]
[{"$f":"O271*100+P271","v":1001401},5289,"访贤许由",5290,"听一听这位尧帝口中的贤士有何说法",{"$nulls":5},{"$f":"IF(J271=\"\",\"\",VLOOKUP(J271,EventNPC!A:F,6,FALSE))","v":""},5291,"你循帝尧所言，御剑前往幽山秘境。此处灵气绵长，古木参天，溪水潺潺。",null,10014,1,"",null,null,{"$f":"IF(R271=\"\",\"\",\"-\"&VLOOKUP(R271,EventConditionConfig!A:C,3,FALSE)&IF(S271=\"\",\"\",CHAR(10)&\"-\"&VLOOKUP(S271,EventConditionConfig!A:C,3,FALSE)))","v":""},null,"","","",null,null,"",null,null,"",{"$nulls":4},{"$f":"IF(A271=\"\",\"\",IF(ISNUMBER(Y271),2,IF(A272=\"\",IF(OR(AK271>0,VLOOKUP(O271,EventConfig!A:C,3,FALSE)=4),3,\"\"),1)))","v":1},1001402,null,5291,10014]
[1001402,5289,"访贤许由",5290,"听一听这位尧帝口中的贤士有何说法",{"$nulls":5},{"$f":"IF(J272=\"\",\"\",VLOOKUP(J272,EventNPC!A:F,6,FALSE))","v":""},5292,"据说，许由栖身于此，绝迹尘世，已有数百年。",null,10014,2,"",null,null,{"$f":"IF(R272=\"\",\"\",\"-\"&VLOOKUP(R272,EventConditionConfig!A:C,3,FALSE)&IF(S272=\"\",\"\",CHAR(10)&\"-\"&VLOOKUP(S272,EventConditionConfig!A:C,3,FALSE)))","v":""},null,"","","",null,null,"",null,null,"",{"$nulls":4},{"$f":"IF(A272=\"\",\"\",IF(ISNUMBER(Y272),2,IF(A273=\"\",IF(OR(AK272>0,VLOOKUP(O272,EventConfig!A:C,3,FALSE)=4),3,\"\"),1)))","v":1},1001403,null,5292,10014]
[1001403,5289,"访贤许由",5290,"听一听这位尧帝口中的贤士有何说法",{"$nulls":5},{"$f":"IF(J273=\"\",\"\",VLOOKUP(J273,EventNPC!A:F,6,FALSE))","v":""},5293,"山风徐徐，水声如琴，你踏过青石小径，看见一位白衣道人正倚石观水。",null,10014,3,"",null,null,{"$f":"IF(R273=\"\",\"\",\"-\"&VLOOKUP(R273,EventConditionConfig!A:C,3,FALSE)&IF(S273=\"\",\"\",CHAR(10)&\"-\"&VLOOKUP(S273,EventConditionConfig!A:C,3,FALSE)))","v":""},1,"1001404","5294",5294,"前辈可是许由？",null,"",null,null,"",{"$nulls":4},{"$f":"IF(A273=\"\",\"\",IF(ISNUMBER(Y273),2,IF(A274=\"\",IF(OR(AK273>0,VLOOKUP(O273,EventConfig!A:C,3,FALSE)=4),3,\"\"),1)))","v":1},1001404,null,5294,10014]
[1001404,5289,"访贤许由",5290,"听一听这位尧帝口中的贤士有何说法",{"$nulls":4},106,{"$f":"IF(J274=\"\",\"\",VLOOKUP(J274,EventNPC!A:F,6,FALSE))","v":"许由"},5295,"正是，小友何事？",null,10014,4,"",null,null,{"$f":"IF(R274=\"\",\"\",\"-\"&VLOOKUP(R274,EventConditionConfig!A:C,3,FALSE)&IF(S274=\"\",\"\",CHAR(10)&\"-\"&VLOOKUP(S274,EventConditionConfig!A:C,3,FALSE)))","v":""},null,"","","",null,null,"",null,null,"",{"$nulls":4},{"$f":"IF(A274=\"\",\"\",IF(ISNUMBER(Y274),2,IF(A275=\"\",IF(OR(AK274>0,VLOOKUP(O274,EventConfig!A:C,3,FALSE)=4),3,\"\"),1)))","v":1},1001405,null,5295,10014]
[1001405,5289,"访贤许由",5290,"听一听这位尧帝口中的贤士有何说法",{"$nulls":4},100,{"$f":"IF(J275=\"\",\"\",VLOOKUP(J275,EventNPC!A:F,6,FALSE))","v":"玩家"},5296,"帝尧欲专心修行，求道问玄，又怕耽误世事，特托我前来相请，欲让天下于你。",null,10014,5,"",null,null,{"$f":"IF(R275=\"\",\"\",\"-\"&VLOOKUP(R275,EventConditionConfig!A:C,3,FALSE)&IF(S275=\"\",\"\",CHAR(10)&\"-\"&VLOOKUP(S275,EventConditionConfig!A:C,3,FALSE)))","v":""},null,"","","",null,null,"",null,null,"",{"$nulls":4},{"$f":"IF(A275=\"\",\"\",IF(ISNUMBER(Y275),2,IF(A276=\"\",IF(OR(AK275>0,VLOOKUP(O275,EventConfig!A:C,3,FALSE)=4),3,\"\"),1)))","v":1},1001406,null,5296,10014]
[1001406,5289,"访贤许由",5290,"听一听这位尧帝口中的贤士有何说法",{"$nulls":4},106,{"$f":"IF(J276=\"\",\"\",VLOOKUP(J276,EventNPC!A:F,6,FALSE))","v":"许由"},5297,"（静默片刻）昔日帝尧就提过此事，我已辞之。",null,10014,6,"",null,null,{"$f":"IF(R276=\"\",\"\",\"-\"&VLOOKUP(R276,EventConditionConfig!A:C,3,FALSE)&IF(S276=\"\",\"\",CHAR(10)&\"-\"&VLOOKUP(S276,EventConditionConfig!A:C,3,FALSE)))","v":""},null,"","","",null,null,"",null,null,"",{"$nulls":4},{"$f":"IF(A276=\"\",\"\",IF(ISNUMBER(Y276),2,IF(A277=\"\",IF(OR(AK276>0,VLOOKUP(O276,EventConfig!A:C,3,FALSE)=4),3,\"\"),1)))","v":1},1001407,null,5297,10014]
[1001407,5289,"访贤许由",5290,"听一听这位尧帝口中的贤士有何说法",{"$nulls":4},106,{"$f":"IF(J277=\"\",\"\",VLOOKUP(J277,EventNPC!A:F,6,FALSE))","v":"许由"},5298,"今日又来，想是道心不定，执念未除。",null,10014,7,"",null,null,{"$f":"IF(R277=\"\",\"\",\"-\"&VLOOKUP(R277,EventConditionConfig!A:C,3,FALSE)&IF(S277=\"\",\"\",CHAR(10)&\"-\"&VLOOKUP(S277,EventConditionConfig!A:C,3,FALSE)))","v":""},1,"1001408","5299",5299,"请前辈出山。",null,"",null,null,"",{"$nulls":4},{"$f":"IF(A277=\"\",\"\",IF(ISNUMBER(Y277),2,IF(A278=\"\",IF(OR(AK277>0,VLOOKUP(O277,EventConfig!A:C,3,FALSE)=4),3,\"\"),1)))","v":1},1001408,null,5299,10014]
[1001408,5289,"访贤许由",5290,"听一听这位尧帝口中的贤士有何说法",{"$nulls":4},106,{"$f":"IF(J278=\"\",\"\",VLOOKUP(J278,EventNPC!A:F,6,FALSE))","v":"许由"},5300,"哼，让我去？",null,10014,8,"",null,null,{"$f":"IF(R278=\"\",\"\",\"-\"&VLOOKUP(R278,EventConditionConfig!A:C,3,FALSE)&IF(S278=\"\",\"\",CHAR(10)&\"-\"&VLOOKUP(S278,EventConditionConfig!A:C,3,FALSE)))","v":""},null,"","","",null,null,"",null,null,"",{"$nulls":4},{"$f":"IF(A278=\"\",\"\",IF(ISNUMBER(Y278),2,IF(A279=\"\",IF(OR(AK278>0,VLOOKUP(O278,EventConfig!A:C,3,FALSE)=4),3,\"\"),1)))","v":1},1001409,null,5300,10014]
[1001409,5289,"访贤许由",5290,"听一听这位尧帝口中的贤士有何说法",{"$nulls":4},106,{"$f":"IF(J279=\"\",\"\",VLOOKUP(J279,EventNPC!A:F,6,FALSE))","v":"许由"},5301,"那我问你，日月升天，照耀四方。若这时有人手举火把照路，岂不徒劳？",null,10014,9,"",null,null,{"$f":"IF(R279=\"\",\"\",\"-\"&VLOOKUP(R279,EventConditionConfig!A:C,3,FALSE)&IF(S279=\"\",\"\",CHAR(10)&\"-\"&VLOOKUP(S279,EventConditionConfig!A:C,3,FALSE)))","v":""},null,"","","",null,null,"",null,null,"",{"$nulls":4},{"$f":"IF(A279=\"\",\"\",IF(ISNUMBER(Y279),2,IF(A280=\"\",IF(OR(AK279>0,VLOOKUP(O279,EventConfig!A:C,3,FALSE)=4),3,\"\"),1)))","v":1},1001410,null,5301,10014]
[1001410,5289,"访贤许由",5290,"听一听这位尧帝口中的贤士有何说法",{"$nulls":4},106,{"$f":"IF(J280=\"\",\"\",VLOOKUP(J280,EventNPC!A:F,6,FALSE))","v":"许由"},5302,"那我再问你，斜风细雨，滋养万物。若这时有人用水桶来灌溉，岂不可笑？",null,10014,10,"",null,null,{"$f":"IF(R280=\"\",\"\",\"-\"&VLOOKUP(R280,EventConditionConfig!A:C,3,FALSE)&IF(S280=\"\",\"\",CHAR(10)&\"-\"&VLOOKUP(S280,EventConditionConfig!A:C,3,FALSE)))","v":""},null,"","","",null,null,"",null,null,"",{"$nulls":4},{"$f":"IF(A280=\"\",\"\",IF(ISNUMBER(Y280),2,IF(A281=\"\",IF(OR(AK280>0,VLOOKUP(O280,EventConfig!A:C,3,FALSE)=4),3,\"\"),1)))","v":1},1001411,null,5302,10014]
[1001411,5289,"访贤许由",5290,"听一听这位尧帝口中的贤士有何说法",{"$nulls":4},106,{"$f":"IF(J281=\"\",\"\",VLOOKUP(J281,EventNPC!A:F,6,FALSE))","v":"许由"},5303,"天下在尧的带领下，已经治理得很好了，又何必要我，我是要去混个功成名就吗？",null,10014,11,"",null,null,{"$f":"IF(R281=\"\",\"\",\"-\"&VLOOKUP(R281,EventConditionConfig!A:C,3,FALSE)&IF(S281=\"\",\"\",CHAR(10)&\"-\"&VLOOKUP(S281,EventConditionConfig!A:C,3,FALSE)))","v":""},null,"","","",null,null,"",null,null,"",{"$nulls":4},{"$f":"IF(A281=\"\",\"\",IF(ISNUMBER(Y281),2,IF(A282=\"\",IF(OR(AK281>0,VLOOKUP(O281,EventConfig!A:C,3,FALSE)=4),3,\"\"),1)))","v":1},1001412,null,5303,10014]
[1001412,5289,"访贤许由",5290,"听一听这位尧帝口中的贤士有何说法",{"$nulls":4},106,{"$f":"IF(J282=\"\",\"\",VLOOKUP(J282,EventNPC!A:F,6,FALSE))","v":"许由"},5304,"回答我？",null,10014,12,"",null,null,{"$f":"IF(R282=\"\",\"\",\"-\"&VLOOKUP(R282,EventConditionConfig!A:C,3,FALSE)&IF(S282=\"\",\"\",CHAR(10)&\"-\"&VLOOKUP(S282,EventConditionConfig!A:C,3,FALSE)))","v":""},1,"1001413","5305",5305,"就算只得功成名就也不错。",null,"",null,null,"",{"$nulls":4},{"$f":"IF(A282=\"\",\"\",IF(ISNUMBER(Y282),2,IF(A283=\"\",IF(OR(AK282>0,VLOOKUP(O282,EventConfig!A:C,3,FALSE)=4),3,\"\"),1)))","v":1},1001413,null,5305,10014]
[1001413,5289,"访贤许由",5290,"听一听这位尧帝口中的贤士有何说法",{"$nulls":4},106,{"$f":"IF(J283=\"\",\"\",VLOOKUP(J283,EventNPC!A:F,6,FALSE))","v":"许由"},5306,"小友，名就像宾客一样，难道我们的一生是为了宾客吗？",null,10014,13,"",null,null,{"$f":"IF(R283=\"\",\"\",\"-\"&VLOOKUP(R283,EventConditionConfig!A:C,3,FALSE)&IF(S283=\"\",\"\",CHAR(10)&\"-\"&VLOOKUP(S283,EventConditionConfig!A:C,3,FALSE)))","v":""},1,"1001414","5307",5307,"（愣住）......",null,"",null,null,"",{"$nulls":4},{"$f":"IF(A283=\"\",\"\",IF(ISNUMBER(Y283),2,IF(A284=\"\",IF(OR(AK283>0,VLOOKUP(O283,EventConfig!A:C,3,FALSE)=4),3,\"\"),1)))","v":1},1001414,null,5307,10014]
[1001414,5289,"访贤许由",5290,"听一听这位尧帝口中的贤士有何说法",{"$nulls":4},106,{"$f":"IF(J284=\"\",\"\",VLOOKUP(J284,EventNPC!A:F,6,FALSE))","v":"许由"},5308,"他若真想修道，便该知“道不碍政，心自碍道”。",null,10014,14,"",null,null,{"$f":"IF(R284=\"\",\"\",\"-\"&VLOOKUP(R284,EventConditionConfig!A:C,3,FALSE)&IF(S284=\"\",\"\",CHAR(10)&\"-\"&VLOOKUP(S284,EventConditionConfig!A:C,3,FALSE)))","v":""},null,"","","",null,null,"",null,null,"",{"$nulls":4},{"$f":"IF(A284=\"\",\"\",IF(ISNUMBER(Y284),2,IF(A285=\"\",IF(OR(AK284>0,VLOOKUP(O284,EventConfig!A:C,3,FALSE)=4),3,\"\"),1)))","v":1},1001415,null,5308,10014]
[1001415,5289,"访贤许由",5290,"听一听这位尧帝口中的贤士有何说法",{"$nulls":4},106,{"$f":"IF(J285=\"\",\"\",VLOOKUP(J285,EventNPC!A:F,6,FALSE))","v":"许由"},5309,"若心不净，纵避千山万水，又有何用。",null,10014,15,"",null,null,{"$f":"IF(R285=\"\",\"\",\"-\"&VLOOKUP(R285,EventConditionConfig!A:C,3,FALSE)&IF(S285=\"\",\"\",CHAR(10)&\"-\"&VLOOKUP(S285,EventConditionConfig!A:C,3,FALSE)))","v":""},1,"1001416","5310",5310,"（愣住）......",null,"",null,null,"",{"$nulls":4},{"$f":"IF(A285=\"\",\"\",IF(ISNUMBER(Y285),2,IF(A286=\"\",IF(OR(AK285>0,VLOOKUP(O285,EventConfig!A:C,3,FALSE)=4),3,\"\"),1)))","v":1},1001416,null,5310,10014]
[1001416,5289,"访贤许由",5290,"听一听这位尧帝口中的贤士有何说法",{"$nulls":5},{"$f":"IF(J286=\"\",\"\",VLOOKUP(J286,EventNPC!A:F,6,FALSE))","v":""},"",null,null,10014,16,"21",21,null,{"$f":"IF(R286=\"\",\"\",\"-\"&VLOOKUP(R286,EventConditionConfig!A:C,3,FALSE)&IF(S286=\"\",\"\",CHAR(10)&\"-\"&VLOOKUP(S286,EventConditionConfig!A:C,3,FALSE)))","v":"-达到境界：筑基-中期"},null,"","","",null,null,"",null,null,"",{"$nulls":4},{"$f":"IF(A286=\"\",\"\",IF(ISNUMBER(Y286),2,IF(A287=\"\",IF(OR(AK286>0,VLOOKUP(O286,EventConfig!A:C,3,FALSE)=4),3,\"\"),1)))","v":3},10015,null,5310,10014]
[null,"",null,"",{"$nulls":6},{"$f":"IF(J287=\"\",\"\",VLOOKUP(J287,EventNPC!A:F,6,FALSE))","v":""},"",null,null,null,"","",null,null,{"$f":"IF(R287=\"\",\"\",\"-\"&VLOOKUP(R287,EventConditionConfig!A:C,3,FALSE)&IF(S287=\"\",\"\",CHAR(10)&\"-\"&VLOOKUP(S287,EventConditionConfig!A:C,3,FALSE)))","v":""},null,"","","",null,null,"",null,null,"",{"$nulls":4},{"$f":"IF(A287=\"\",\"\",IF(ISNUMBER(Y287),2,IF(A288=\"\",IF(OR(AK287>0,VLOOKUP(O287,EventConfig!A:C,3,FALSE)=4),3,\"\"),1)))","v":""},"",null,"",0]
[{"$f":"O288*100+P288","v":1001501},5311,"割草喝茶","",{"$nulls":5},106,{"$f":"IF(J288=\"\",\"\",VLOOKUP(J288,EventNPC!A:F,6,FALSE))","v":"许由"},5312,"（转身望向屋后的山坡）你来得也巧，我正想在开辟一块新药田。",null,10015,1,"",null,null,{"$f":"IF(R288=\"\",\"\",\"-\"&VLOOKUP(R288,EventConditionConfig!A:C,3,FALSE)&IF(S288=\"\",\"\",CHAR(10)&\"-\"&VLOOKUP(S288,EventConditionConfig!A:C,3,FALSE)))","v":""},null,"","","",null,null,"",null,null,"",{"$nulls":4},{"$f":"IF(A288=\"\",\"\",IF(ISNUMBER(Y288),2,IF(A289=\"\",IF(OR(AK288>0,VLOOKUP(O288,EventConfig!A:C,3,FALSE)=4),3,\"\"),1)))","v":1},1001502,null,5312,10015]
[1001502,5311,"割草喝茶","",{"$nulls":5},106,{"$f":"IF(J289=\"\",\"\",VLOOKUP(J289,EventNPC!A:F,6,FALSE))","v":"许由"},5313,"后山有一块不错的地，离家有一点远平时我也懒得去打理，正好你来了帮我开辟出来吧。",null,10015,2,"",null,null,{"$f":"IF(R289=\"\",\"\",\"-\"&VLOOKUP(R289,EventConditionConfig!A:C,3,FALSE)&IF(S289=\"\",\"\",CHAR(10)&\"-\"&VLOOKUP(S289,EventConditionConfig!A:C,3,FALSE)))","v":""},1,"1001503","5314",5314,"……前辈是让我干农活吗",null,"",null,null,"",{"$nulls":4},{"$f":"IF(A289=\"\",\"\",IF(ISNUMBER(Y289),2,IF(A290=\"\",IF(OR(AK289>0,VLOOKUP(O289,EventConfig!A:C,3,FALSE)=4),3,\"\"),1)))","v":1},1001503,null,5314,10015]
[1001503,5311,"割草喝茶","",{"$nulls":5},106,{"$f":"IF(J290=\"\",\"\",VLOOKUP(J290,EventNPC!A:F,6,FALSE))","v":"许由"},5315,"（笑）哈哈，正是，帮我清理一下灵田，回来请你喝茶。",null,10015,3,{"$f":"_xlfn.TEXTJOIN(\";\",1,R290:S290)","v":""},null,null,{"$f":"IF(R290=\"\",\"\",\"-\"&VLOOKUP(R290,EventConditionConfig!A:C,3,FALSE)&IF(S290=\"\",\"\",CHAR(10)&\"-\"&VLOOKUP(S290,EventConditionConfig!A:C,3,FALSE)))","v":""},null,"","","",null,null,"",null,null,"",{"$nulls":4},{"$f":"IF(A290=\"\",\"\",IF(ISNUMBER(Y290),2,IF(A291=\"\",IF(OR(AK290>0,VLOOKUP(O290,EventConfig!A:C,3,FALSE)=4),3,\"\"),1)))","v":1},1001504,null,5315,10015]
[1001504,5311,"割草喝茶","",{"$nulls":5},106,{"$f":"IF(J291=\"\",\"\",VLOOKUP(J291,EventNPC!A:F,6,FALSE))","v":"许由"},5316,"对了，在哪些杂草中不也会生长着一些药效不错的药草，这些药草在杂草中没有更好的成长起来，如果发现了药草帮我收集一些药草的种子回来。",null,10015,4,"",null,null,{"$f":"IF(R291=\"\",\"\",\"-\"&VLOOKUP(R291,EventConditionConfig!A:C,3,FALSE)&IF(S291=\"\",\"\",CHAR(10)&\"-\"&VLOOKUP(S291,EventConditionConfig!A:C,3,FALSE)))","v":""},null,"","","",null,null,"",null,null,"",{"$nulls":4},{"$f":"IF(A291=\"\",\"\",IF(ISNUMBER(Y291),2,IF(A292=\"\",IF(OR(AK291>0,VLOOKUP(O291,EventConfig!A:C,3,FALSE)=4),3,\"\"),1)))","v":1},1001505,null,5316,10015]
[1001505,5311,"割草喝茶","",{"$nulls":5},106,{"$f":"IF(J292=\"\",\"\",VLOOKUP(J292,EventNPC!A:F,6,FALSE))","v":"许由"},5317,"在开辟的过程中也请小心一点，后山也经常有妖怪出没。",null,10015,5,"10;11",10,11,{"$f":"IF(R292=\"\",\"\",\"-\"&VLOOKUP(R292,EventConditionConfig!A:C,3,FALSE)&IF(S292=\"\",\"\",CHAR(10)&\"-\"&VLOOKUP(S292,EventConditionConfig!A:C,3,FALSE)))","v":"-击败后山小妖\n-收集灵草种子"},null,"","","",null,null,"",null,null,"",{"$nulls":4},{"$f":"IF(A292=\"\",\"\",IF(ISNUMBER(Y292),2,IF(A293=\"\",IF(OR(AK292>0,VLOOKUP(O292,EventConfig!A:C,3,FALSE)=4),3,\"\"),1)))","v":1},1001506,null,5317,10015]
[1001506,5311,"割草喝茶","",{"$nulls":6},{"$f":"IF(J293=\"\",\"\",VLOOKUP(J293,EventNPC!A:F,6,FALSE))","v":""},5318,"（你回到屋前，满身草屑与泥土，许由在烧水，煮茶）",null,10015,6,"",null,null,{"$f":"IF(R293=\"\",\"\",\"-\"&VLOOKUP(R293,EventConditionConfig!A:C,3,FALSE)&IF(S293=\"\",\"\",CHAR(10)&\"-\"&VLOOKUP(S293,EventConditionConfig!A:C,3,FALSE)))","v":""},null,"","","",null,null,"",null,null,"",{"$nulls":4},{"$f":"IF(A293=\"\",\"\",IF(ISNUMBER(Y293),2,IF(A294=\"\",IF(OR(AK293>0,VLOOKUP(O293,EventConfig!A:C,3,FALSE)=4),3,\"\"),1)))","v":1},1001507,null,5318,10015]
[1001507,5311,"割草喝茶","",{"$nulls":5},106,{"$f":"IF(J294=\"\",\"\",VLOOKUP(J294,EventNPC!A:F,6,FALSE))","v":"许由"},5319,"动得挺快。坐，喝口茶。",null,10015,7,"",null,null,{"$f":"IF(R294=\"\",\"\",\"-\"&VLOOKUP(R294,EventConditionConfig!A:C,3,FALSE)&IF(S294=\"\",\"\",CHAR(10)&\"-\"&VLOOKUP(S294,EventConditionConfig!A:C,3,FALSE)))","v":""},{"$f":"IF(Y294=\"\",\"\",1)","v":1},"1001508","5320",5320,"多谢前辈。",null,"",null,null,"",{"$nulls":4},{"$f":"IF(A294=\"\",\"\",IF(ISNUMBER(Y294),2,IF(A295=\"\",IF(OR(AK294>0,VLOOKUP(O294,EventConfig!A:C,3,FALSE)=4),3,\"\"),1)))","v":1},1001508,null,5320,10015]
[1001508,5311,"割草喝茶","",{"$nulls":6},{"$f":"IF(J295=\"\",\"\",VLOOKUP(J295,EventNPC!A:F,6,FALSE))","v":""},5321,"（你获得了永久属性提升）（此处需要进一步处理）",null,10015,8,"",null,null,{"$f":"IF(R295=\"\",\"\",\"-\"&VLOOKUP(R295,EventConditionConfig!A:C,3,FALSE)&IF(S295=\"\",\"\",CHAR(10)&\"-\"&VLOOKUP(S295,EventConditionConfig!A:C,3,FALSE)))","v":""},{"$f":"IF(Y295=\"\",\"\",1)","v":""},"","","",null,null,"",null,null,"",{"$nulls":4},{"$f":"IF(A295=\"\",\"\",IF(ISNUMBER(Y295),2,IF(A296=\"\",IF(OR(AK295>0,VLOOKUP(O295,EventConfig!A:C,3,FALSE)=4),3,\"\"),1)))","v":3},10016,null,5321,10015]
[null,"",null,"",{"$nulls":6},{"$f":"IF(J296=\"\",\"\",VLOOKUP(J296,EventNPC!A:F,6,FALSE))","v":""},"",null,null,null,"",{"$nulls":5},"","","",null,null,"",null,null,"",{"$nulls":4},{"$f":"IF(A296=\"\",\"\",IF(ISNUMBER(Y296),2,IF(A297=\"\",IF(OR(AK296>0,VLOOKUP(O296,EventConfig!A:C,3,FALSE)=4),3,\"\"),1)))","v":""},"",null,"",0]
[{"$f":"O297*100+P297","v":1001601},5322,"再来一杯","",{"$nulls":5},106,{"$f":"IF(J297=\"\",\"\",VLOOKUP(J297,EventNPC!A:F,6,FALSE))","v":"许由"},5323,"今天的风有点不对，开来昨日你在后山的动静不小呀，山那头怕是要来些不速之客。",null,10016,1,{"$f":"_xlfn.TEXTJOIN(\";\",1,R297:S297)","v":""},null,null,{"$f":"IF(R297=\"\",\"\",\"-\"&VLOOKUP(R297,EventConditionConfig!A:C,3,FALSE)&IF(S297=\"\",\"\",CHAR(10)&\"-\"&VLOOKUP(S297,EventConditionConfig!A:C,3,FALSE)))","v":""},{"$f":"IF(Y297=\"\",\"\",1)","v":""},"","","",null,null,"",null,null,"",{"$nulls":4},{"$f":"IF(A297=\"\",\"\",IF(ISNUMBER(Y297),2,IF(A298=\"\",IF(OR(AK297>0,VLOOKUP(O297,EventConfig!A:C,3,FALSE)=4),3,\"\"),1)))","v":1},1001602,null,5323,10016]
[1001602,5322,"再来一杯","",{"$nulls":5},106,{"$f":"IF(J298=\"\",\"\",VLOOKUP(J298,EventNPC!A:F,6,FALSE))","v":"许由"},5324,"你才帮我弄好灵草种子和灵田，别让妖兽给毁了。",null,10016,2,"",null,null,{"$f":"IF(R298=\"\",\"\",\"-\"&VLOOKUP(R298,EventConditionConfig!A:C,3,FALSE)&IF(S298=\"\",\"\",CHAR(10)&\"-\"&VLOOKUP(S298,EventConditionConfig!A:C,3,FALSE)))","v":""},"","","","",null,null,"",null,null,"",{"$nulls":4},{"$f":"IF(A298=\"\",\"\",IF(ISNUMBER(Y298),2,IF(A299=\"\",IF(OR(AK298>0,VLOOKUP(O298,EventConfig!A:C,3,FALSE)=4),3,\"\"),1)))","v":1},1001603,null,5324,10016]
[1001603,5322,"再来一杯","",{"$nulls":5},106,{"$f":"IF(J299=\"\",\"\",VLOOKUP(J299,EventNPC!A:F,6,FALSE))","v":"许由"},5325,"你去走一趟。",null,10016,3,"",null,null,{"$f":"IF(R299=\"\",\"\",\"-\"&VLOOKUP(R299,EventConditionConfig!A:C,3,FALSE)&IF(S299=\"\",\"\",CHAR(10)&\"-\"&VLOOKUP(S299,EventConditionConfig!A:C,3,FALSE)))","v":""},1,"1001604","5326",5326,"好的......",null,"",null,null,"",{"$nulls":4},{"$f":"IF(A299=\"\",\"\",IF(ISNUMBER(Y299),2,IF(A300=\"\",IF(OR(AK299>0,VLOOKUP(O299,EventConfig!A:C,3,FALSE)=4),3,\"\"),1)))","v":1},1001604,null,5326,10016]
[1001604,5322,"再来一杯","",{"$nulls":6},{"$f":"IF(J300=\"\",\"\",VLOOKUP(J300,EventNPC!A:F,6,FALSE))","v":""},"",null,null,10016,4,"12",12,null,{"$f":"IF(R300=\"\",\"\",\"-\"&VLOOKUP(R300,EventConditionConfig!A:C,3,FALSE)&IF(S300=\"\",\"\",CHAR(10)&\"-\"&VLOOKUP(S300,EventConditionConfig!A:C,3,FALSE)))","v":"-击败夜袭的妖兽"},"","","","",null,null,"",null,null,"",{"$nulls":4},{"$f":"IF(A300=\"\",\"\",IF(ISNUMBER(Y300),2,IF(A301=\"\",IF(OR(AK300>0,VLOOKUP(O300,EventConfig!A:C,3,FALSE)=4),3,\"\"),1)))","v":1},1001605,null,5326,10016]
[1001605,5322,"再来一杯","",{"$nulls":6},{"$f":"IF(J301=\"\",\"\",VLOOKUP(J301,EventNPC!A:F,6,FALSE))","v":""},5327,"（回到屋前，看到许由又在烧水，煮茶，和上次一样）",null,10016,5,"",null,null,{"$f":"IF(R301=\"\",\"\",\"-\"&VLOOKUP(R301,EventConditionConfig!A:C,3,FALSE)&IF(S301=\"\",\"\",CHAR(10)&\"-\"&VLOOKUP(S301,EventConditionConfig!A:C,3,FALSE)))","v":""},"","","","",null,null,"",null,null,"",{"$nulls":4},{"$f":"IF(A301=\"\",\"\",IF(ISNUMBER(Y301),2,IF(A302=\"\",IF(OR(AK301>0,VLOOKUP(O301,EventConfig!A:C,3,FALSE)=4),3,\"\"),1)))","v":1},1001606,null,5327,10016]
[1001606,5322,"再来一杯","",{"$nulls":5},106,{"$f":"IF(J302=\"\",\"\",VLOOKUP(J302,EventNPC!A:F,6,FALSE))","v":"许由"},5328,"来，喝茶。",null,10016,6,"",null,null,{"$f":"IF(R302=\"\",\"\",\"-\"&VLOOKUP(R302,EventConditionConfig!A:C,3,FALSE)&IF(S302=\"\",\"\",CHAR(10)&\"-\"&VLOOKUP(S302,EventConditionConfig!A:C,3,FALSE)))","v":""},"","","","",null,null,"",null,null,"",{"$nulls":4},{"$f":"IF(A302=\"\",\"\",IF(ISNUMBER(Y302),2,IF(A303=\"\",IF(OR(AK302>0,VLOOKUP(O302,EventConfig!A:C,3,FALSE)=4),3,\"\"),1)))","v":1},1001607,null,5328,10016]
[1001607,5322,"再来一杯","",{"$nulls":5},100,{"$f":"IF(J303=\"\",\"\",VLOOKUP(J303,EventNPC!A:F,6,FALSE))","v":"玩家"},5329,"（心中默念...这个精英妖兽，可费我一些功夫，怎么又是茶？）",null,10016,7,"",null,null,{"$f":"IF(R303=\"\",\"\",\"-\"&VLOOKUP(R303,EventConditionConfig!A:C,3,FALSE)&IF(S303=\"\",\"\",CHAR(10)&\"-\"&VLOOKUP(S303,EventConditionConfig!A:C,3,FALSE)))","v":""},1,"1001608","5330",5330,"（你没说话，默默喝下）",null,"",null,null,"",{"$nulls":4},{"$f":"IF(A303=\"\",\"\",IF(ISNUMBER(Y303),2,IF(A304=\"\",IF(OR(AK303>0,VLOOKUP(O303,EventConfig!A:C,3,FALSE)=4),3,\"\"),1)))","v":1},1001608,null,5330,10016]
[1001608,5322,"再来一杯","",{"$nulls":6},{"$f":"IF(J304=\"\",\"\",VLOOKUP(J304,EventNPC!A:F,6,FALSE))","v":""},5331,"（你获得了永久属性提升）（此处需要进一步处理）",null,10016,8,"22",22,null,{"$f":"IF(R304=\"\",\"\",\"-\"&VLOOKUP(R304,EventConditionConfig!A:C,3,FALSE)&IF(S304=\"\",\"\",CHAR(10)&\"-\"&VLOOKUP(S304,EventConditionConfig!A:C,3,FALSE)))","v":"-达到境界：筑基-后期"},"","","","",null,null,"",null,null,"",{"$nulls":4},{"$f":"IF(A304=\"\",\"\",IF(ISNUMBER(Y304),2,IF(A305=\"\",IF(OR(AK304>0,VLOOKUP(O304,EventConfig!A:C,3,FALSE)=4),3,\"\"),1)))","v":3},10017,null,5331,10016]
[null,"",null,"",{"$nulls":6},{"$f":"IF(J305=\"\",\"\",VLOOKUP(J305,EventNPC!A:F,6,FALSE))","v":""},"",null,null,null,"",{"$nulls":5},"","","",null,null,"",null,null,"",{"$nulls":4},{"$f":"IF(A305=\"\",\"\",IF(ISNUMBER(Y305),2,IF(A306=\"\",IF(OR(AK305>0,VLOOKUP(O305,EventConfig!A:C,3,FALSE)=4),3,\"\"),1)))","v":""},"",null,"",0]
[{"$f":"O306*100+P306","v":1001701},5332,"战胜妖王","",{"$nulls":6},{"$f":"IF(J306=\"\",\"\",VLOOKUP(J306,EventNPC!A:F,6,FALSE))","v":""},5333,"（次日清晨，山顶云气升腾，许由站在灵田边，看着远山）",null,10017,1,{"$f":"_xlfn.TEXTJOIN(\";\",1,R306:S306)","v":""},null,null,{"$f":"IF(R306=\"\",\"\",\"-\"&VLOOKUP(R306,EventConditionConfig!A:C,3,FALSE)&IF(S306=\"\",\"\",CHAR(10)&\"-\"&VLOOKUP(S306,EventConditionConfig!A:C,3,FALSE)))","v":""},{"$f":"IF(Y306=\"\",\"\",1)","v":""},"","","",null,null,"",null,null,"",{"$nulls":4},{"$f":"IF(A306=\"\",\"\",IF(ISNUMBER(Y306),2,IF(A307=\"\",IF(OR(AK306>0,VLOOKUP(O306,EventConfig!A:C,3,FALSE)=4),3,\"\"),1)))","v":1},1001702,null,5333,10017]
[1001702,5332,"战胜妖王","",{"$nulls":6},{"$f":"IF(J307=\"\",\"\",VLOOKUP(J307,EventNPC!A:F,6,FALSE))","v":""},5334," 先前的妖兽，被你压了下去。可峰顶还有一头老家伙，脾气大。",null,10017,2,"",null,null,{"$f":"IF(R307=\"\",\"\",\"-\"&VLOOKUP(R307,EventConditionConfig!A:C,3,FALSE)&IF(S307=\"\",\"\",CHAR(10)&\"-\"&VLOOKUP(S307,EventConditionConfig!A:C,3,FALSE)))","v":""},1,"1001703","5335",5335,"前辈可是希望我去处理？",null,"",null,null,"",{"$nulls":4},{"$f":"IF(A307=\"\",\"\",IF(ISNUMBER(Y307),2,IF(A308=\"\",IF(OR(AK307>0,VLOOKUP(O307,EventConfig!A:C,3,FALSE)=4),3,\"\"),1)))","v":1},1001703,null,5335,10017]
[1001703,5332,"战胜妖王","",{"$nulls":5},106,{"$f":"IF(J308=\"\",\"\",VLOOKUP(J308,EventNPC!A:F,6,FALSE))","v":"许由"},5336,"（淡笑）去吧，你可以应付的。",null,10017,3,"",null,null,{"$f":"IF(R308=\"\",\"\",\"-\"&VLOOKUP(R308,EventConditionConfig!A:C,3,FALSE)&IF(S308=\"\",\"\",CHAR(10)&\"-\"&VLOOKUP(S308,EventConditionConfig!A:C,3,FALSE)))","v":""},"","","","",null,null,"",null,null,"",{"$nulls":4},{"$f":"IF(A308=\"\",\"\",IF(ISNUMBER(Y308),2,IF(A309=\"\",IF(OR(AK308>0,VLOOKUP(O308,EventConfig!A:C,3,FALSE)=4),3,\"\"),1)))","v":1},1001704,null,5336,10017]
[1001704,5332,"战胜妖王","",{"$nulls":6},{"$f":"IF(J309=\"\",\"\",VLOOKUP(J309,EventNPC!A:F,6,FALSE))","v":""},"",null,null,10017,4,"13",13,null,{"$f":"IF(R309=\"\",\"\",\"-\"&VLOOKUP(R309,EventConditionConfig!A:C,3,FALSE)&IF(S309=\"\",\"\",CHAR(10)&\"-\"&VLOOKUP(S309,EventConditionConfig!A:C,3,FALSE)))","v":"-击败峰顶的妖王"},"","","","",null,null,"",null,null,"",{"$nulls":4},{"$f":"IF(A309=\"\",\"\",IF(ISNUMBER(Y309),2,IF(A310=\"\",IF(OR(AK309>0,VLOOKUP(O309,EventConfig!A:C,3,FALSE)=4),3,\"\"),1)))","v":1},1001705,null,5336,10017]
[1001705,5332,"战胜妖王","",{"$nulls":6},{"$f":"IF(J310=\"\",\"\",VLOOKUP(J310,EventNPC!A:F,6,FALSE))","v":""},5337,"（你回到屋前，略显疲惫，许由依然在烧水，煮茶）",null,10017,5,"",null,null,{"$f":"IF(R310=\"\",\"\",\"-\"&VLOOKUP(R310,EventConditionConfig!A:C,3,FALSE)&IF(S310=\"\",\"\",CHAR(10)&\"-\"&VLOOKUP(S310,EventConditionConfig!A:C,3,FALSE)))","v":""},"","","","",null,null,"",null,null,"",{"$nulls":4},{"$f":"IF(A310=\"\",\"\",IF(ISNUMBER(Y310),2,IF(A311=\"\",IF(OR(AK310>0,VLOOKUP(O310,EventConfig!A:C,3,FALSE)=4),3,\"\"),1)))","v":1},1001706,null,5337,10017]
[1001706,5332,"战胜妖王","",{"$nulls":5},106,{"$f":"IF(J311=\"\",\"\",VLOOKUP(J311,EventNPC!A:F,6,FALSE))","v":"许由"},5338,"（不动声色，递茶）喝吧。",null,10017,6,"",null,null,{"$f":"IF(R311=\"\",\"\",\"-\"&VLOOKUP(R311,EventConditionConfig!A:C,3,FALSE)&IF(S311=\"\",\"\",CHAR(10)&\"-\"&VLOOKUP(S311,EventConditionConfig!A:C,3,FALSE)))","v":""},"","","","",null,null,"",null,null,"",{"$nulls":4},{"$f":"IF(A311=\"\",\"\",IF(ISNUMBER(Y311),2,IF(A312=\"\",IF(OR(AK311>0,VLOOKUP(O311,EventConfig!A:C,3,FALSE)=4),3,\"\"),1)))","v":1},1001707,null,5338,10017]
[1001707,5332,"战胜妖王","",{"$nulls":5},100,{"$f":"IF(J312=\"\",\"\",VLOOKUP(J312,EventNPC!A:F,6,FALSE))","v":"玩家"},5339,"（低声）……前辈，我做了怎么多事，一次比一次难。为何每次都让我喝茶？",null,10017,7,"",null,null,{"$f":"IF(R312=\"\",\"\",\"-\"&VLOOKUP(R312,EventConditionConfig!A:C,3,FALSE)&IF(S312=\"\",\"\",CHAR(10)&\"-\"&VLOOKUP(S312,EventConditionConfig!A:C,3,FALSE)))","v":""},"","","","",null,null,"",null,null,"",{"$nulls":4},{"$f":"IF(A312=\"\",\"\",IF(ISNUMBER(Y312),2,IF(A313=\"\",IF(OR(AK312>0,VLOOKUP(O312,EventConfig!A:C,3,FALSE)=4),3,\"\"),1)))","v":1},1001708,null,5339,10017]
[1001708,5332,"战胜妖王","",{"$nulls":5},106,{"$f":"IF(J313=\"\",\"\",VLOOKUP(J313,EventNPC!A:F,6,FALSE))","v":"许由"},5340,"哈哈哈，小友.你赢得越来越多，喝得却越来越不甘心。",null,10017,8,"",null,null,{"$f":"IF(R313=\"\",\"\",\"-\"&VLOOKUP(R313,EventConditionConfig!A:C,3,FALSE)&IF(S313=\"\",\"\",CHAR(10)&\"-\"&VLOOKUP(S313,EventConditionConfig!A:C,3,FALSE)))","v":""},"","","","",null,null,"",null,null,"",{"$nulls":4},{"$f":"IF(A313=\"\",\"\",IF(ISNUMBER(Y313),2,IF(A314=\"\",IF(OR(AK313>0,VLOOKUP(O313,EventConfig!A:C,3,FALSE)=4),3,\"\"),1)))","v":1},1001709,null,5340,10017]
[1001709,5332,"战胜妖王","",{"$nulls":5},106,{"$f":"IF(J314=\"\",\"\",VLOOKUP(J314,EventNPC!A:F,6,FALSE))","v":"许由"},5341,"尧现在，或许也是这个心情吧。一路赢到底，却再没能静下心来，喝一杯茶。",null,10017,9,"",null,null,{"$f":"IF(R314=\"\",\"\",\"-\"&VLOOKUP(R314,EventConditionConfig!A:C,3,FALSE)&IF(S314=\"\",\"\",CHAR(10)&\"-\"&VLOOKUP(S314,EventConditionConfig!A:C,3,FALSE)))","v":""},"","","","",null,null,"",null,null,"",{"$nulls":4},{"$f":"IF(A314=\"\",\"\",IF(ISNUMBER(Y314),2,IF(A315=\"\",IF(OR(AK314>0,VLOOKUP(O314,EventConfig!A:C,3,FALSE)=4),3,\"\"),1)))","v":1},1001710,null,5341,10017]
[1001710,5332,"战胜妖王","",{"$nulls":5},106,{"$f":"IF(J315=\"\",\"\",VLOOKUP(J315,EventNPC!A:F,6,FALSE))","v":"许由"},5342,"好了，你回去吧。",null,10017,10,"",null,null,{"$f":"IF(R315=\"\",\"\",\"-\"&VLOOKUP(R315,EventConditionConfig!A:C,3,FALSE)&IF(S315=\"\",\"\",CHAR(10)&\"-\"&VLOOKUP(S315,EventConditionConfig!A:C,3,FALSE)))","v":""},1,"1001711;1001712","5343;5344",5343,"我该如何回复尧帝？",{"$f":"A316","v":1001711},5344,"多谢前辈提醒。",{"$f":"A317","v":1001712},"",null,{"$f":"D317","v":""},null,null,{"$f":"IF(A315=\"\",\"\",IF(ISNUMBER(Y315),2,IF(A316=\"\",IF(OR(AK315>0,VLOOKUP(O315,EventConfig!A:C,3,FALSE)=4),3,\"\"),1)))","v":1},1001711,null,5344,10017]
[1001711,5332,"战胜妖王","",{"$nulls":5},106,{"$f":"IF(J316=\"\",\"\",VLOOKUP(J316,EventNPC!A:F,6,FALSE))","v":"许由"},5345,"“道不碍政，心自碍道”。若心不净，纵避千山万水，又有何用。",null,10017,11,"",null,null,{"$f":"IF(R316=\"\",\"\",\"-\"&VLOOKUP(R316,EventConditionConfig!A:C,3,FALSE)&IF(S316=\"\",\"\",CHAR(10)&\"-\"&VLOOKUP(S316,EventConditionConfig!A:C,3,FALSE)))","v":""},"","","","",null,null,"",null,null,"",{"$nulls":4},{"$f":"IF(A316=\"\",\"\",IF(ISNUMBER(Y316),2,IF(A317=\"\",IF(OR(AK316>0,VLOOKUP(O316,EventConfig!A:C,3,FALSE)=4),3,\"\"),1)))","v":1},1001712,null,5345,10017]
[1001712,5332,"战胜妖王","",{"$nulls":6},{"$f":"IF(J317=\"\",\"\",VLOOKUP(J317,EventNPC!A:F,6,FALSE))","v":""},5346,"（你低头，看着杯中微动的茶水）\n（喝下第三杯茶，觉得一身轻松）",null,10017,12,"",null,null,{"$f":"IF(R317=\"\",\"\",\"-\"&VLOOKUP(R317,EventConditionConfig!A:C,3,FALSE)&IF(S317=\"\",\"\",CHAR(10)&\"-\"&VLOOKUP(S317,EventConditionConfig!A:C,3,FALSE)))","v":""},"","","","",null,null,"",null,null,"",{"$nulls":4},{"$f":"IF(A317=\"\",\"\",IF(ISNUMBER(Y317),2,IF(A318=\"\",IF(OR(AK317>0,VLOOKUP(O317,EventConfig!A:C,3,FALSE)=4),3,\"\"),1)))","v":1},1001713,null,5346,10017]
[1001713,5332,"战胜妖王","",{"$nulls":6},{"$f":"IF(J318=\"\",\"\",VLOOKUP(J318,EventNPC!A:F,6,FALSE))","v":""},5347,"（你获得了永久属性提升）（此处需要进一步处理）",null,10017,13,"",null,null,{"$f":"IF(R318=\"\",\"\",\"-\"&VLOOKUP(R318,EventConditionConfig!A:C,3,FALSE)&IF(S318=\"\",\"\",CHAR(10)&\"-\"&VLOOKUP(S318,EventConditionConfig!A:C,3,FALSE)))","v":""},"","","","",null,null,"",null,null,"",{"$nulls":4},{"$f":"IF(A318=\"\",\"\",IF(ISNUMBER(Y318),2,IF(A319=\"\",IF(OR(AK318>0,VLOOKUP(O318,EventConfig!A:C,3,FALSE)=4),3,\"\"),1)))","v":3},10018,null,5347,10017]
[null,"",null,"",{"$nulls":6},{"$f":"IF(J319=\"\",\"\",VLOOKUP(J319,EventNPC!A:F,6,FALSE))","v":""},"",null,null,null,"",{"$nulls":5},"","","",null,null,"",null,null,"",{"$nulls":4},{"$f":"IF(A319=\"\",\"\",IF(ISNUMBER(Y319),2,IF(A320=\"\",IF(OR(AK319>0,VLOOKUP(O319,EventConfig!A:C,3,FALSE)=4),3,\"\"),1)))","v":""},"",null,"",0]
[{"$f":"O320*100+P320","v":1001801},5348,"回尧城与帝尧对话，复述许由之言","",{"$nulls":5},100,{"$f":"IF(J320=\"\",\"\",VLOOKUP(J320,EventNPC!A:F,6,FALSE))","v":"玩家"},5349,"前辈，晚辈已往访许由，将事情告知他。",null,10018,1,{"$f":"_xlfn.TEXTJOIN(\";\",1,R320:S320)","v":""},null,null,{"$f":"IF(R320=\"\",\"\",\"-\"&VLOOKUP(R320,EventConditionConfig!A:C,3,FALSE)&IF(S320=\"\",\"\",CHAR(10)&\"-\"&VLOOKUP(S320,EventConditionConfig!A:C,3,FALSE)))","v":""},{"$f":"IF(Y320=\"\",\"\",1)","v":""},"","","",null,null,"",null,null,"",{"$nulls":4},{"$f":"IF(A320=\"\",\"\",IF(ISNUMBER(Y320),2,IF(A321=\"\",IF(OR(AK320>0,VLOOKUP(O320,EventConfig!A:C,3,FALSE)=4),3,\"\"),1)))","v":1},1001802,null,5349,10018]
[{"$f":"O321*100+P321","v":1001802},5348,"回尧城与帝尧对话，复述许由之言","",{"$nulls":5},105,{"$f":"IF(J321=\"\",\"\",VLOOKUP(J321,EventNPC!A:F,6,FALSE))","v":"尧帝"},5350,"他如何说？",null,10018,2,"",null,null,{"$f":"IF(R321=\"\",\"\",\"-\"&VLOOKUP(R321,EventConditionConfig!A:C,3,FALSE)&IF(S321=\"\",\"\",CHAR(10)&\"-\"&VLOOKUP(S321,EventConditionConfig!A:C,3,FALSE)))","v":""},"","","","",null,null,"",null,null,"",{"$nulls":4},{"$f":"IF(A321=\"\",\"\",IF(ISNUMBER(Y321),2,IF(A322=\"\",IF(OR(AK321>0,VLOOKUP(O321,EventConfig!A:C,3,FALSE)=4),3,\"\"),1)))","v":1},1001803,null,5350,10018]
[{"$f":"O322*100+P322","v":1001803},5348,"回尧城与帝尧对话，复述许由之言","",{"$nulls":5},100,{"$f":"IF(J322=\"\",\"\",VLOOKUP(J322,EventNPC!A:F,6,FALSE))","v":"玩家"},5351,"许由不愿出山，让我转告您一句话。\n“道不碍政，心自碍道。”\n若心不净，纵避千山万水，又有何用。”",null,10018,3,"",null,null,{"$f":"IF(R322=\"\",\"\",\"-\"&VLOOKUP(R322,EventConditionConfig!A:C,3,FALSE)&IF(S322=\"\",\"\",CHAR(10)&\"-\"&VLOOKUP(S322,EventConditionConfig!A:C,3,FALSE)))","v":""},"","","","",null,null,"",null,null,"",{"$nulls":4},{"$f":"IF(A322=\"\",\"\",IF(ISNUMBER(Y322),2,IF(A323=\"\",IF(OR(AK322>0,VLOOKUP(O322,EventConfig!A:C,3,FALSE)=4),3,\"\"),1)))","v":1},1001804,null,5351,10018]
[1001804,5348,"回尧城与帝尧对话，复述许由之言","",{"$nulls":5},105,{"$f":"IF(J323=\"\",\"\",VLOOKUP(J323,EventNPC!A:F,6,FALSE))","v":"尧帝"},5352,"（帝尧沉默，良久，轻轻点头）他还是那副模样……不肯出山。",null,{"$f":"IF(O322=\"\",O321+1,O322)","v":10018},4,"",null,null,{"$f":"IF(R323=\"\",\"\",\"-\"&VLOOKUP(R323,EventConditionConfig!A:C,3,FALSE)&IF(S323=\"\",\"\",CHAR(10)&\"-\"&VLOOKUP(S323,EventConditionConfig!A:C,3,FALSE)))","v":""},"","","","",null,null,"",null,null,"",{"$nulls":4},{"$f":"IF(A323=\"\",\"\",IF(ISNUMBER(Y323),2,IF(A324=\"\",IF(OR(AK323>0,VLOOKUP(O323,EventConfig!A:C,3,FALSE)=4),3,\"\"),1)))","v":1},1001805,null,5352,10018]
[1001805,5348,"回尧城与帝尧对话，复述许由之言","",{"$nulls":5},105,{"$f":"IF(J324=\"\",\"\",VLOOKUP(J324,EventNPC!A:F,6,FALSE))","v":"尧帝"},5353,"（抬眼望你）不过，他说得也有几分道理。",null,10018,5,"",null,null,{"$f":"IF(R324=\"\",\"\",\"-\"&VLOOKUP(R324,EventConditionConfig!A:C,3,FALSE)&IF(S324=\"\",\"\",CHAR(10)&\"-\"&VLOOKUP(S324,EventConditionConfig!A:C,3,FALSE)))","v":""},"","","","",null,null,"",null,null,"",{"$nulls":4},{"$f":"IF(A324=\"\",\"\",IF(ISNUMBER(Y324),2,IF(A325=\"\",IF(OR(AK324>0,VLOOKUP(O324,EventConfig!A:C,3,FALSE)=4),3,\"\"),1)))","v":1},1001806,null,5353,10018]
[1001806,5348,"回尧城与帝尧对话，复述许由之言","",{"$nulls":5},105,{"$f":"IF(J325=\"\",\"\",VLOOKUP(J325,EventNPC!A:F,6,FALSE))","v":"尧帝"},{"$f":"IF(M325=\"\",\"\",MAX(AL324,AL323,B325,D325)+1)","v":5354},"我以为，是天下扰我修行，难道是我自己扰了自己？我再想想吧。（轻叹）",null,10018,6,"",null,null,{"$f":"IF(R325=\"\",\"\",\"-\"&VLOOKUP(R325,EventConditionConfig!A:C,3,FALSE)&IF(S325=\"\",\"\",CHAR(10)&\"-\"&VLOOKUP(S325,EventConditionConfig!A:C,3,FALSE)))","v":""},"","","","",null,null,"",null,null,"",{"$nulls":4},{"$f":"IF(A325=\"\",\"\",IF(ISNUMBER(Y325),2,IF(A326=\"\",IF(OR(AK325>0,VLOOKUP(O325,EventConfig!A:C,3,FALSE)=4),3,\"\"),1)))","v":1},1001807,null,5354,10018]
[1001807,5348,"回尧城与帝尧对话，复述许由之言",{"$f":"IF(E326=\"\",\"\",IF(E326=E325,D325,MAX(AL325,AL324,B326)+1))","v":""},{"$nulls":5},105,{"$f":"IF(J326=\"\",\"\",VLOOKUP(J326,EventNPC!A:F,6,FALSE))","v":"尧帝"},5355,"小友，辛苦你这一趟。",null,10018,7,"",null,null,{"$f":"IF(R326=\"\",\"\",\"-\"&VLOOKUP(R326,EventConditionConfig!A:C,3,FALSE)&IF(S326=\"\",\"\",CHAR(10)&\"-\"&VLOOKUP(S326,EventConditionConfig!A:C,3,FALSE)))","v":""},"","","","",null,null,"",null,null,"",{"$nulls":4},{"$f":"IF(A326=\"\",\"\",IF(ISNUMBER(Y326),2,IF(A327=\"\",IF(OR(AK326>0,VLOOKUP(O326,EventConfig!A:C,3,FALSE)=4),3,\"\"),1)))","v":1},1001808,null,5355,10018]
[1001808,5348,"回尧城与帝尧对话，复述许由之言","",{"$nulls":5},105,{"$f":"IF(J327=\"\",\"\",VLOOKUP(J327,EventNPC!A:F,6,FALSE))","v":"尧帝"},5356,"你让我想起，我当年初修时，也常在山野之间，与人论道、与妖兽斗法……",null,10018,8,"",null,null,{"$f":"IF(R327=\"\",\"\",\"-\"&VLOOKUP(R327,EventConditionConfig!A:C,3,FALSE)&IF(S327=\"\",\"\",CHAR(10)&\"-\"&VLOOKUP(S327,EventConditionConfig!A:C,3,FALSE)))","v":""},"","","","",null,null,"",null,null,"",{"$nulls":4},{"$f":"IF(A327=\"\",\"\",IF(ISNUMBER(Y327),2,IF(A328=\"\",IF(OR(AK327>0,VLOOKUP(O327,EventConfig!A:C,3,FALSE)=4),3,\"\"),1)))","v":1},1001809,null,5356,10018]
[1001809,5348,"回尧城与帝尧对话，复述许由之言","",{"$nulls":5},105,{"$f":"IF(J328=\"\",\"\",VLOOKUP(J328,EventNPC!A:F,6,FALSE))","v":"尧帝"},5357,"（转身，望向殿后灵山）我这里灵气充沛，古迹亦多，不妨在此逗留几日，四处看看。",null,10018,9,"",null,null,{"$f":"IF(R328=\"\",\"\",\"-\"&VLOOKUP(R328,EventConditionConfig!A:C,3,FALSE)&IF(S328=\"\",\"\",CHAR(10)&\"-\"&VLOOKUP(S328,EventConditionConfig!A:C,3,FALSE)))","v":""},"","","","",null,null,"",null,null,"",{"$nulls":4},{"$f":"IF(A328=\"\",\"\",IF(ISNUMBER(Y328),2,IF(A329=\"\",IF(OR(AK328>0,VLOOKUP(O328,EventConfig!A:C,3,FALSE)=4),3,\"\"),1)))","v":1},1001810,null,{"$f":"IF(A328=\"\",\"\",MAX(B328,D328,L328,X328,AA328,AL327,AL326,AD328))","v":5357},{"$f":"O328","v":10018}]
[1001810,5348,"回尧城与帝尧对话，复述许由之言","",{"$nulls":5},105,{"$f":"IF(J329=\"\",\"\",VLOOKUP(J329,EventNPC!A:F,6,FALSE))","v":"尧帝"},5358,"或许这也是冲虚真人引你来的真正用意。",null,10018,10,"23",23,null,{"$f":"IF(R329=\"\",\"\",\"-\"&VLOOKUP(R329,EventConditionConfig!A:C,3,FALSE)&IF(S329=\"\",\"\",CHAR(10)&\"-\"&VLOOKUP(S329,EventConditionConfig!A:C,3,FALSE)))","v":"-达到境界：结丹-前期"},"","","","",null,null,"",null,null,"",{"$nulls":4},{"$f":"IF(A329=\"\",\"\",IF(ISNUMBER(Y329),2,IF(A330=\"\",IF(OR(AK329>0,VLOOKUP(O329,EventConfig!A:C,3,FALSE)=4),3,\"\"),1)))","v":3},10019,null,5358,10018]
[null,"",null,"",{"$nulls":6},{"$f":"IF(J330=\"\",\"\",VLOOKUP(J330,EventNPC!A:F,6,FALSE))","v":""},"",null,null,null,"",{"$nulls":5},"","","",null,null,"",null,null,"",{"$nulls":4},{"$f":"IF(A330=\"\",\"\",IF(ISNUMBER(Y330),2,IF(A331=\"\",IF(OR(AK330>0,VLOOKUP(O330,EventConfig!A:C,3,FALSE)=4),3,\"\"),1)))","v":""},"",null,"",0]
[{"$f":"O331*100+P331","v":1001901},5359,"和村民对话","",{"$nulls":5},107,{"$f":"IF(J331=\"\",\"\",VLOOKUP(J331,EventNPC!A:F,6,FALSE))","v":"村名甲"},5360,"（抬头看树）啧，这棵老怪树，又矮又歪，枝杈乱伸，挡着田，碍着路。",null,{"$f":"IF(O330=\"\",O329+1,O330)","v":10019},{"$f":"IF(O331=\"\",\"\",IF(O331=O330,P330+1,1))","v":1},{"$f":"_xlfn.TEXTJOIN(\";\",1,R331:S331)","v":""},null,null,{"$f":"IF(R331=\"\",\"\",\"-\"&VLOOKUP(R331,EventConditionConfig!A:C,3,FALSE)&IF(S331=\"\",\"\",CHAR(10)&\"-\"&VLOOKUP(S331,EventConditionConfig!A:C,3,FALSE)))","v":""},{"$f":"IF(Y331=\"\",\"\",1)","v":""},"","","",null,null,"",null,null,"",{"$nulls":4},{"$f":"IF(A331=\"\",\"\",IF(ISNUMBER(Y331),2,IF(A332=\"\",IF(OR(AK331>0,VLOOKUP(O331,EventConfig!A:C,3,FALSE)=4),3,\"\"),1)))","v":1},1001902,null,5360,10019]
[1001902,5359,"和村民对话","",{"$nulls":5},108,{"$f":"IF(J332=\"\",\"\",VLOOKUP(J332,EventNPC!A:F,6,FALSE))","v":"村名乙"},5361,"（叹气）啊，对对对。\n长得歪七扭八的，根还凸出土，差点把我家牛绊了。",null,10019,2,"",null,null,{"$f":"IF(R332=\"\",\"\",\"-\"&VLOOKUP(R332,EventConditionConfig!A:C,3,FALSE)&IF(S332=\"\",\"\",CHAR(10)&\"-\"&VLOOKUP(S332,EventConditionConfig!A:C,3,FALSE)))","v":""},"","",{"$f":"_xlfn.TEXTJOIN(\";\",1,X332,AA332,AD332)","v":""},{"$f":"IF(OR(ISNUMBER(Y332),Y332=\"\"),\"\",MAX(AL331,AL329,B332,D332,L332)+1)","v":""},null,null,{"$f":"IF(OR(ISNUMBER(AB332),AB332=\"\"),\"\",X332+1)","v":""},null,null,"",{"$nulls":4},{"$f":"IF(A332=\"\",\"\",IF(ISNUMBER(Y332),2,IF(A333=\"\",IF(OR(AK332>0,VLOOKUP(O332,EventConfig!A:C,3,FALSE)=4),3,\"\"),1)))","v":1},1001903,null,5361,10019]
[1001903,{"$f":"IF(C333=\"\",\"\",IF(C333=C332,B332,MAX(AL332,AL331)+1))","v":5359},"和村民对话","",{"$nulls":5},109,{"$f":"IF(J333=\"\",\"\",VLOOKUP(J333,EventNPC!A:F,6,FALSE))","v":"村名丙"},5362,"对对对，要是没有这棵树就好了，空占这么大块好地。",null,10019,3,"",null,null,{"$f":"IF(R333=\"\",\"\",\"-\"&VLOOKUP(R333,EventConditionConfig!A:C,3,FALSE)&IF(S333=\"\",\"\",CHAR(10)&\"-\"&VLOOKUP(S333,EventConditionConfig!A:C,3,FALSE)))","v":""},"","","","",null,null,"",null,null,{"$f":"IF(OR(ISNUMBER(AE333),AE333=\"\"),\"\",AA333+1)","v":""},{"$nulls":4},{"$f":"IF(A333=\"\",\"\",IF(ISNUMBER(Y333),2,IF(A334=\"\",IF(OR(AK333>0,VLOOKUP(O333,EventConfig!A:C,3,FALSE)=4),3,\"\"),1)))","v":1},1001904,null,5362,10019]
[1001904,5359,"和村民对话","",{"$nulls":5},107,{"$f":"IF(J334=\"\",\"\",VLOOKUP(J334,EventNPC!A:F,6,FALSE))","v":"村名甲"},5363,"这树是真没用，连个树荫都没，晴天底下站着热，雨天底下水多。",null,10019,4,"",null,null,{"$f":"IF(R334=\"\",\"\",\"-\"&VLOOKUP(R334,EventConditionConfig!A:C,3,FALSE)&IF(S334=\"\",\"\",CHAR(10)&\"-\"&VLOOKUP(S334,EventConditionConfig!A:C,3,FALSE)))","v":""},"",{"$f":"IF(U334=1,_xlfn.TEXTJOIN(\";\",1,IF(Z334=\"\",A334+1,Z334),IF(AND(AA334<>\"\",AC334=\"\"),A334+1,AC334),IF(AND(AD334<>\"\",AF334=\"\"),A334+1,AF334)),IF(U334=2,Y334,\"\"))","v":""},"","",null,null,"",null,null,"",{"$nulls":4},{"$f":"IF(A334=\"\",\"\",IF(ISNUMBER(Y334),2,IF(A335=\"\",IF(OR(AK334>0,VLOOKUP(O334,EventConfig!A:C,3,FALSE)=4),3,\"\"),1)))","v":1},{"$f":"IF(AI334=\"\",\"\",CHOOSE(AI334,IF(AK334=\"\",A334+1,AK334),CONCATENATE(IF(AK334=\"\",A334+1,AK334),\";101\"),IF(AK334=\"\",O334+1,AK334)))","v":1001905},null,5363,10019]
[1001905,5359,"和村民对话","",{"$nulls":5},108,{"$f":"IF(J335=\"\",\"\",VLOOKUP(J335,EventNPC!A:F,6,FALSE))","v":"村名乙"},5364,"就是啊，想在树下歇个脚都不行。",null,10019,5,"",null,null,{"$f":"IF(R335=\"\",\"\",\"-\"&VLOOKUP(R335,EventConditionConfig!A:C,3,FALSE)&IF(S335=\"\",\"\",CHAR(10)&\"-\"&VLOOKUP(S335,EventConditionConfig!A:C,3,FALSE)))","v":""},1,"1001906","5365",5365,"（环顾左右）是吗，我就不信，这棵树没有用…",null,"",null,null,"",{"$nulls":4},{"$f":"IF(A335=\"\",\"\",IF(ISNUMBER(Y335),2,IF(A336=\"\",IF(OR(AK335>0,VLOOKUP(O335,EventConfig!A:C,3,FALSE)=4),3,\"\"),1)))","v":1},1001906,null,5365,10019]
[1001906,5359,"和村民对话","",{"$nulls":5},109,{"$f":"IF(J336=\"\",\"\",VLOOKUP(J336,EventNPC!A:F,6,FALSE))","v":"村名丙"},5366,"这位仙长，那你说说看，这树能干什么？",null,10019,6,"",null,null,{"$f":"IF(R336=\"\",\"\",\"-\"&VLOOKUP(R336,EventConditionConfig!A:C,3,FALSE)&IF(S336=\"\",\"\",CHAR(10)&\"-\"&VLOOKUP(S336,EventConditionConfig!A:C,3,FALSE)))","v":""},1,"1001907","5367",5367,"劈了当柴烧。",null,"",null,null,"",{"$nulls":4},{"$f":"IF(A336=\"\",\"\",IF(ISNUMBER(Y336),2,IF(A337=\"\",IF(OR(AK336>0,VLOOKUP(O336,EventConfig!A:C,3,FALSE)=4),3,\"\"),1)))","v":1},1001907,null,5367,10019]
[1001907,5359,"和村民对话","",{"$nulls":5},107,{"$f":"IF(J337=\"\",\"\",VLOOKUP(J337,EventNPC!A:F,6,FALSE))","v":"村名甲"},5368,"这位仙长，你有所不知，这树又大又硬，根本没法劈。",null,10019,7,"",null,null,{"$f":"IF(R337=\"\",\"\",\"-\"&VLOOKUP(R337,EventConditionConfig!A:C,3,FALSE)&IF(S337=\"\",\"\",CHAR(10)&\"-\"&VLOOKUP(S337,EventConditionConfig!A:C,3,FALSE)))","v":""},1,"1001908","5369",5369,"劈了做家具。",null,"",null,null,"",{"$nulls":4},{"$f":"IF(A337=\"\",\"\",IF(ISNUMBER(Y337),2,IF(A338=\"\",IF(OR(AK337>0,VLOOKUP(O337,EventConfig!A:C,3,FALSE)=4),3,\"\"),1)))","v":1},1001908,null,5369,10019]
[1001908,5359,"和村民对话","",{"$nulls":5},108,{"$f":"IF(J338=\"\",\"\",VLOOKUP(J338,EventNPC!A:F,6,FALSE))","v":"村名乙"},5370,"我就是匠人，这树一看就不中用。",null,10019,8,"",null,null,{"$f":"IF(R338=\"\",\"\",\"-\"&VLOOKUP(R338,EventConditionConfig!A:C,3,FALSE)&IF(S338=\"\",\"\",CHAR(10)&\"-\"&VLOOKUP(S338,EventConditionConfig!A:C,3,FALSE)))","v":""},"","","","",null,null,"",null,null,"",{"$nulls":4},{"$f":"IF(A338=\"\",\"\",IF(ISNUMBER(Y338),2,IF(A339=\"\",IF(OR(AK338>0,VLOOKUP(O338,EventConfig!A:C,3,FALSE)=4),3,\"\"),1)))","v":1},1001909,null,5370,10019]
[1001909,5359,"和村民对话","",{"$nulls":5},108,{"$f":"IF(J339=\"\",\"\",VLOOKUP(J339,EventNPC!A:F,6,FALSE))","v":"村名乙"},5371,"锯下来的木头，绳墨拉不直，做不了梁柱，做不了门板，更别说其他家具了。",null,10019,9,"",null,null,{"$f":"IF(R339=\"\",\"\",\"-\"&VLOOKUP(R339,EventConditionConfig!A:C,3,FALSE)&IF(S339=\"\",\"\",CHAR(10)&\"-\"&VLOOKUP(S339,EventConditionConfig!A:C,3,FALSE)))","v":""},"","","","",null,null,"",null,null,"",{"$nulls":4},{"$f":"IF(A339=\"\",\"\",IF(ISNUMBER(Y339),2,IF(A340=\"\",IF(OR(AK339>0,VLOOKUP(O339,EventConfig!A:C,3,FALSE)=4),3,\"\"),1)))","v":1},1001910,null,5371,10019]
[1001910,5359,"和村民对话","",{"$nulls":5},109,{"$f":"IF(J340=\"\",\"\",VLOOKUP(J340,EventNPC!A:F,6,FALSE))","v":"村名丙"},5372,"没错，我是木匠，此树木质发涩发腥，连漆都涂不上，当真无用。",null,10019,10,"",null,null,{"$f":"IF(R340=\"\",\"\",\"-\"&VLOOKUP(R340,EventConditionConfig!A:C,3,FALSE)&IF(S340=\"\",\"\",CHAR(10)&\"-\"&VLOOKUP(S340,EventConditionConfig!A:C,3,FALSE)))","v":""},"","","","",null,null,"",null,null,"",{"$nulls":4},{"$f":"IF(A340=\"\",\"\",IF(ISNUMBER(Y340),2,IF(A341=\"\",IF(OR(AK340>0,VLOOKUP(O340,EventConfig!A:C,3,FALSE)=4),3,\"\"),1)))","v":1},1001911,null,5372,10019]
[1001911,5359,"和村民对话","",{"$nulls":5},100,{"$f":"IF(J341=\"\",\"\",VLOOKUP(J341,EventNPC!A:F,6,FALSE))","v":"玩家"},5373,"此树如此之大，真的毫无用处吗？\n此树看起来有数千年了。",null,10019,11,"",null,null,{"$f":"IF(R341=\"\",\"\",\"-\"&VLOOKUP(R341,EventConditionConfig!A:C,3,FALSE)&IF(S341=\"\",\"\",CHAR(10)&\"-\"&VLOOKUP(S341,EventConditionConfig!A:C,3,FALSE)))","v":""},"","","","",null,null,"",null,null,"",{"$nulls":4},{"$f":"IF(A341=\"\",\"\",IF(ISNUMBER(Y341),2,IF(A342=\"\",IF(OR(AK341>0,VLOOKUP(O341,EventConfig!A:C,3,FALSE)=4),3,\"\"),1)))","v":1},1001912,null,5373,10019]
[1001912,5359,"和村民对话","",{"$nulls":5},100,{"$f":"IF(J342=\"\",\"\",VLOOKUP(J342,EventNPC!A:F,6,FALSE))","v":"玩家"},5374,"（见村民纷纷离开了，你靠近大树）",null,10019,12,"",null,null,{"$f":"IF(R342=\"\",\"\",\"-\"&VLOOKUP(R342,EventConditionConfig!A:C,3,FALSE)&IF(S342=\"\",\"\",CHAR(10)&\"-\"&VLOOKUP(S342,EventConditionConfig!A:C,3,FALSE)))","v":""},"","","","",null,null,"",null,null,"",{"$nulls":4},{"$f":"IF(A342=\"\",\"\",IF(ISNUMBER(Y342),2,IF(A343=\"\",IF(OR(AK342>0,VLOOKUP(O342,EventConfig!A:C,3,FALSE)=4),3,\"\"),1)))","v":1},1001913,null,5374,10019]
[1001913,5359,"和村民对话","",{"$nulls":5},110,{"$f":"IF(J343=\"\",\"\",VLOOKUP(J343,EventNPC!A:F,6,FALSE))","v":"樗木之灵"},5375,"（低沉悠远的声音）我是樗。\n世人见我歪斜，粗大，笑我无用……",null,10019,13,"",null,null,{"$f":"IF(R343=\"\",\"\",\"-\"&VLOOKUP(R343,EventConditionConfig!A:C,3,FALSE)&IF(S343=\"\",\"\",CHAR(10)&\"-\"&VLOOKUP(S343,EventConditionConfig!A:C,3,FALSE)))","v":""},"","","","",null,null,"",null,null,"",{"$nulls":4},{"$f":"IF(A343=\"\",\"\",IF(ISNUMBER(Y343),2,IF(A344=\"\",IF(OR(AK343>0,VLOOKUP(O343,EventConfig!A:C,3,FALSE)=4),3,\"\"),1)))","v":1},1001914,null,5375,10019]
[1001914,5359,"和村民对话","",{"$nulls":5},110,{"$f":"IF(J344=\"\",\"\",VLOOKUP(J344,EventNPC!A:F,6,FALSE))","v":"樗木之灵"},5376,"可他们不知，正是这‘无用’，让我活过三千年。",null,10019,14,"",null,null,{"$f":"IF(R344=\"\",\"\",\"-\"&VLOOKUP(R344,EventConditionConfig!A:C,3,FALSE)&IF(S344=\"\",\"\",CHAR(10)&\"-\"&VLOOKUP(S344,EventConditionConfig!A:C,3,FALSE)))","v":""},1,"1001915","5377",5377,"那你可曾遗憾？毕竟无人欣赏你。",null,"",null,null,"",{"$nulls":4},{"$f":"IF(A344=\"\",\"\",IF(ISNUMBER(Y344),2,IF(A345=\"\",IF(OR(AK344>0,VLOOKUP(O344,EventConfig!A:C,3,FALSE)=4),3,\"\"),1)))","v":1},1001915,null,5377,10019]
[1001915,5359,"和村民对话","",{"$nulls":5},110,{"$f":"IF(J345=\"\",\"\",VLOOKUP(J345,EventNPC!A:F,6,FALSE))","v":"樗木之灵"},5378,"（枝叶轻摇）欣赏？那些笔直的楠木，被伐去做梁柱，不过百年；",null,10019,15,"",null,null,{"$f":"IF(R345=\"\",\"\",\"-\"&VLOOKUP(R345,EventConditionConfig!A:C,3,FALSE)&IF(S345=\"\",\"\",CHAR(10)&\"-\"&VLOOKUP(S345,EventConditionConfig!A:C,3,FALSE)))","v":""},"","","","",null,null,"",null,null,"",{"$nulls":4},{"$f":"IF(A345=\"\",\"\",IF(ISNUMBER(Y345),2,IF(A346=\"\",IF(OR(AK345>0,VLOOKUP(O345,EventConfig!A:C,3,FALSE)=4),3,\"\"),1)))","v":1},1001916,null,5378,10019]
[1001916,5359,"和村民对话","",{"$nulls":5},110,{"$f":"IF(J346=\"\",\"\",VLOOKUP(J346,EventNPC!A:F,6,FALSE))","v":"樗木之灵"},5379,"那些秀美的花树，被移栽进庭院，也不过百年。",null,10019,16,"",null,null,{"$f":"IF(R346=\"\",\"\",\"-\"&VLOOKUP(R346,EventConditionConfig!A:C,3,FALSE)&IF(S346=\"\",\"\",CHAR(10)&\"-\"&VLOOKUP(S346,EventConditionConfig!A:C,3,FALSE)))","v":""},"","","","",null,null,"",null,null,"",{"$nulls":4},{"$f":"IF(A346=\"\",\"\",IF(ISNUMBER(Y346),2,IF(A347=\"\",IF(OR(AK346>0,VLOOKUP(O346,EventConfig!A:C,3,FALSE)=4),3,\"\"),1)))","v":1},1001917,null,5379,10019]
[1001917,5359,"和村民对话","",{"$nulls":5},110,{"$f":"IF(J347=\"\",\"\",VLOOKUP(J347,EventNPC!A:F,6,FALSE))","v":"樗木之灵"},5380,"而我，仍在此处，看春去秋来，听风过林梢，不亦乐乎？",null,10019,17,"",null,null,{"$f":"IF(R347=\"\",\"\",\"-\"&VLOOKUP(R347,EventConditionConfig!A:C,3,FALSE)&IF(S347=\"\",\"\",CHAR(10)&\"-\"&VLOOKUP(S347,EventConditionConfig!A:C,3,FALSE)))","v":""},1,"1001918","5381",5381,"可你终究只是一棵树，不能动，不能说话",null,"",null,null,"",{"$nulls":4},{"$f":"IF(A347=\"\",\"\",IF(ISNUMBER(Y347),2,IF(A348=\"\",IF(OR(AK347>0,VLOOKUP(O347,EventConfig!A:C,3,FALSE)=4),3,\"\"),1)))","v":1},1001918,null,5381,10019]
[1001918,5359,"和村民对话","",{"$nulls":5},110,{"$f":"IF(J348=\"\",\"\",VLOOKUP(J348,EventNPC!A:F,6,FALSE))","v":"樗木之灵"},5382,"（树皮浮现苍老面容）动？说话？\n数千年过去，我早已有灵智，可以说话。",null,10019,18,"",null,null,{"$f":"IF(R348=\"\",\"\",\"-\"&VLOOKUP(R348,EventConditionConfig!A:C,3,FALSE)&IF(S348=\"\",\"\",CHAR(10)&\"-\"&VLOOKUP(S348,EventConditionConfig!A:C,3,FALSE)))","v":""},"","","","",null,null,"",null,null,"",{"$nulls":4},{"$f":"IF(A348=\"\",\"\",IF(ISNUMBER(Y348),2,IF(A349=\"\",IF(OR(AK348>0,VLOOKUP(O348,EventConfig!A:C,3,FALSE)=4),3,\"\"),1)))","v":1},1001919,null,5382,10019]
[1001919,5359,"和村民对话","",{"$nulls":5},110,{"$f":"IF(J349=\"\",\"\",VLOOKUP(J349,EventNPC!A:F,6,FALSE))","v":"樗木之灵"},5383,"不过我确实好久没动过了，小友，今日与你有缘，不如陪我动一动。",null,10019,19,"",null,null,{"$f":"IF(R349=\"\",\"\",\"-\"&VLOOKUP(R349,EventConditionConfig!A:C,3,FALSE)&IF(S349=\"\",\"\",CHAR(10)&\"-\"&VLOOKUP(S349,EventConditionConfig!A:C,3,FALSE)))","v":""},1,"1001920","5384",5384,"不好...这是要找我打架..",null,"",null,null,"",{"$nulls":4},{"$f":"IF(A349=\"\",\"\",IF(ISNUMBER(Y349),2,IF(A350=\"\",IF(OR(AK349>0,VLOOKUP(O349,EventConfig!A:C,3,FALSE)=4),3,\"\"),1)))","v":1},1001920,null,5384,10019]
[1001920,5359,"和村民对话","",{"$nulls":6},{"$f":"IF(J350=\"\",\"\",VLOOKUP(J350,EventNPC!A:F,6,FALSE))","v":""},"",null,null,10019,20,"",null,null,{"$f":"IF(R350=\"\",\"\",\"-\"&VLOOKUP(R350,EventConditionConfig!A:C,3,FALSE)&IF(S350=\"\",\"\",CHAR(10)&\"-\"&VLOOKUP(S350,EventConditionConfig!A:C,3,FALSE)))","v":""},"","","","",null,null,"",null,null,"",{"$nulls":4},{"$f":"IF(A350=\"\",\"\",IF(ISNUMBER(Y350),2,IF(A351=\"\",IF(OR(AK350>0,VLOOKUP(O350,EventConfig!A:C,3,FALSE)=4),3,\"\"),1)))","v":3},10020,null,5384,10019]
[null,"",null,"",{"$nulls":6},{"$f":"IF(J351=\"\",\"\",VLOOKUP(J351,EventNPC!A:F,6,FALSE))","v":""},"",null,null,null,"",{"$nulls":5},"","","",null,null,"",null,null,"",{"$nulls":4},{"$f":"IF(A351=\"\",\"\",IF(ISNUMBER(Y351),2,IF(A352=\"\",IF(OR(AK351>0,VLOOKUP(O351,EventConfig!A:C,3,FALSE)=4),3,\"\"),1)))","v":""},"",null,"",0]
[{"$f":"O352*100+P352","v":1002001},5385,"击败樗木之灵",5386,"击败樗木之灵",{"$nulls":5},{"$f":"IF(J352=\"\",\"\",VLOOKUP(J352,EventNPC!A:F,6,FALSE))","v":""},"",null,null,{"$f":"IF(O351=\"\",O350+1,O351)","v":10020},1,{"$f":"_xlfn.TEXTJOIN(\";\",1,R352:S352)","v":""},null,null,{"$f":"IF(R352=\"\",\"\",\"-\"&VLOOKUP(R352,EventConditionConfig!A:C,3,FALSE)&IF(S352=\"\",\"\",CHAR(10)&\"-\"&VLOOKUP(S352,EventConditionConfig!A:C,3,FALSE)))","v":""},{"$f":"IF(Y352=\"\",\"\",IF(ISTEXT(Y352),1,2))","v":2},1016,"","",1016,null,"",null,null,"",{"$nulls":4},{"$f":"IF(A352=\"\",\"\",IF(ISNUMBER(Y352),2,IF(A353=\"\",IF(OR(AK352>0,VLOOKUP(O352,EventConfig!A:C,3,FALSE)=4),3,\"\"),1)))","v":2},"1002002;101",null,5386,10020]
[{"$f":"O353*100+P353","v":1002002},5385,"击败樗木之灵",5386,"击败樗木之灵",{"$nulls":5},{"$f":"IF(J353=\"\",\"\",VLOOKUP(J353,EventNPC!A:F,6,FALSE))","v":""},"",null,null,{"$f":"IF(O352=\"\",O351+1,O352)","v":10020},2,{"$f":"_xlfn.TEXTJOIN(\";\",1,R353:S353)","v":""},null,null,{"$f":"IF(R353=\"\",\"\",\"-\"&VLOOKUP(R353,EventConditionConfig!A:C,3,FALSE)&IF(S353=\"\",\"\",CHAR(10)&\"-\"&VLOOKUP(S353,EventConditionConfig!A:C,3,FALSE)))","v":""},{"$f":"IF(Y353=\"\",\"\",1)","v":""},"","","",null,null,"",null,null,"",{"$nulls":4},{"$f":"IF(A353=\"\",\"\",IF(ISNUMBER(Y353),2,IF(A354=\"\",IF(OR(AK353>0,VLOOKUP(O353,EventConfig!A:C,3,FALSE)=4),3,\"\"),1)))","v":3},10021,null,5386,10020]
[null,"",null,"",{"$nulls":6},{"$f":"IF(J354=\"\",\"\",VLOOKUP(J354,EventNPC!A:F,6,FALSE))","v":""},"",null,null,null,"",{"$nulls":5},"","","",null,null,"",null,null,"",{"$nulls":4},{"$f":"IF(A354=\"\",\"\",IF(ISNUMBER(Y354),2,IF(A355=\"\",IF(OR(AK354>0,VLOOKUP(O354,EventConfig!A:C,3,FALSE)=4),3,\"\"),1)))","v":""},"",null,"",0]
[{"$f":"O355*100+P355","v":1002101},5387,"境界达到[金丹-前期]","",{"$nulls":5},100,{"$f":"IF(J355=\"\",\"\",VLOOKUP(J355,EventNPC!A:F,6,FALSE))","v":"玩家"},5388,"此处奇遇众多，灵气充裕，就留在此处修行，达到筑基巅峰吧。",null,{"$f":"IF(O354=\"\",O353+1,O354)","v":10021},1,{"$f":"_xlfn.TEXTJOIN(\";\",1,R355:S355)","v":""},null,null,{"$f":"IF(R355=\"\",\"\",\"-\"&VLOOKUP(R355,EventConditionConfig!A:C,3,FALSE)&IF(S355=\"\",\"\",CHAR(10)&\"-\"&VLOOKUP(S355,EventConditionConfig!A:C,3,FALSE)))","v":""},{"$f":"IF(Y355=\"\",\"\",1)","v":""},"","","",null,null,"",null,null,"",{"$nulls":4},{"$f":"IF(A355=\"\",\"\",IF(ISNUMBER(Y355),2,IF(A356=\"\",IF(OR(AK355>0,VLOOKUP(O355,EventConfig!A:C,3,FALSE)=4),3,\"\"),1)))","v":1},1002102,null,5388,10021]
[{"$f":"O356*100+P356","v":1002102},5387,"境界达到[金丹-前期]","",{"$nulls":5},100,{"$f":"IF(J356=\"\",\"\",VLOOKUP(J356,EventNPC!A:F,6,FALSE))","v":"玩家"},5389,"此地果真是好地方，修为又有精进。",null,{"$f":"IF(O355=\"\",O354+1,O355)","v":10021},2,{"$f":"_xlfn.TEXTJOIN(\";\",1,R356:S356)","v":"24"},24,null,{"$f":"IF(R356=\"\",\"\",\"-\"&VLOOKUP(R356,EventConditionConfig!A:C,3,FALSE)&IF(S356=\"\",\"\",CHAR(10)&\"-\"&VLOOKUP(S356,EventConditionConfig!A:C,3,FALSE)))","v":"-达到境界：结丹-中期"},{"$f":"IF(Y356=\"\",\"\",1)","v":""},"","","",null,null,"",null,null,"",{"$nulls":4},{"$f":"IF(A356=\"\",\"\",IF(ISNUMBER(Y356),2,IF(A357=\"\",IF(OR(AK356>0,VLOOKUP(O356,EventConfig!A:C,3,FALSE)=4),3,\"\"),1)))","v":1},1002103,null,5389,10021]
[{"$f":"O357*100+P357","v":1002103},5387,"境界达到[金丹-前期]","",{"$nulls":5},100,{"$f":"IF(J357=\"\",\"\",VLOOKUP(J357,EventNPC!A:F,6,FALSE))","v":"玩家"},5390,"不过想要达到更高的境界，突破冲虚说的什么心境，还需继续修行。",null,{"$f":"IF(O356=\"\",O355+1,O356)","v":10021},3,{"$f":"_xlfn.TEXTJOIN(\";\",1,R357:S357)","v":""},null,null,{"$f":"IF(R357=\"\",\"\",\"-\"&VLOOKUP(R357,EventConditionConfig!A:C,3,FALSE)&IF(S357=\"\",\"\",CHAR(10)&\"-\"&VLOOKUP(S357,EventConditionConfig!A:C,3,FALSE)))","v":""},{"$f":"IF(Y357=\"\",\"\",1)","v":""},"","","",null,null,"",null,null,"",{"$nulls":4},{"$f":"IF(A357=\"\",\"\",IF(ISNUMBER(Y357),2,IF(A358=\"\",IF(OR(AK357>0,VLOOKUP(O357,EventConfig!A:C,3,FALSE)=4),3,\"\"),1)))","v":1},1002104,null,5390,10021]
[{"$f":"O358*100+P358","v":1002104},5387,"境界达到[金丹-前期]","",{"$nulls":5},100,{"$f":"IF(J358=\"\",\"\",VLOOKUP(J358,EventNPC!A:F,6,FALSE))","v":"玩家"},5391,"是时候离开了，去问问尧帝有何建议。",null,{"$f":"IF(O357=\"\",O356+1,O357)","v":10021},4,{"$f":"_xlfn.TEXTJOIN(\";\",1,R358:S358)","v":""},null,null,{"$f":"IF(R358=\"\",\"\",\"-\"&VLOOKUP(R358,EventConditionConfig!A:C,3,FALSE)&IF(S358=\"\",\"\",CHAR(10)&\"-\"&VLOOKUP(S358,EventConditionConfig!A:C,3,FALSE)))","v":""},{"$f":"IF(Y358=\"\",\"\",1)","v":""},"","","",null,null,"",null,null,"",{"$nulls":4},{"$f":"IF(A358=\"\",\"\",IF(ISNUMBER(Y358),2,IF(A359=\"\",IF(OR(AK358>0,VLOOKUP(O358,EventConfig!A:C,3,FALSE)=4),3,\"\"),1)))","v":3},10022,null,5391,10021]
[null,"",null,"",{"$nulls":6},{"$f":"IF(J359=\"\",\"\",VLOOKUP(J359,EventNPC!A:F,6,FALSE))","v":""},"",null,null,null,"",{"$nulls":5},"","","",null,null,"",null,null,"",{"$nulls":4},{"$f":"IF(A359=\"\",\"\",IF(ISNUMBER(Y359),2,IF(A360=\"\",IF(OR(AK359>0,VLOOKUP(O359,EventConfig!A:C,3,FALSE)=4),3,\"\"),1)))","v":""},"",null,"",0]
[{"$f":"O360*100+P360","v":1002201},5392,"仙山传说","",{"$nulls":5},105,{"$f":"IF(J360=\"\",\"\",VLOOKUP(J360,EventNPC!A:F,6,FALSE))","v":"尧帝"},5393,"（高兴）小友，你来了。",null,{"$f":"IF(O359=\"\",O358+1,O359)","v":10022},1,{"$f":"_xlfn.TEXTJOIN(\";\",1,R360:S360)","v":""},null,null,{"$f":"IF(R360=\"\",\"\",\"-\"&VLOOKUP(R360,EventConditionConfig!A:C,3,FALSE)&IF(S360=\"\",\"\",CHAR(10)&\"-\"&VLOOKUP(S360,EventConditionConfig!A:C,3,FALSE)))","v":""},{"$f":"IF(Y360=\"\",\"\",1)","v":""},"","","",null,null,"",null,null,"",{"$nulls":4},{"$f":"IF(A360=\"\",\"\",IF(ISNUMBER(Y360),2,IF(A361=\"\",IF(OR(AK360>0,VLOOKUP(O360,EventConfig!A:C,3,FALSE)=4),3,\"\"),1)))","v":1},1002202,null,5393,10022]
[1002202,5392,"仙山传说","",{"$nulls":5},105,{"$f":"IF(J361=\"\",\"\",VLOOKUP(J361,EventNPC!A:F,6,FALSE))","v":"尧帝"},5394,"数月不见，你已入筑基巅峰，距离结丹，也是指日可待！",null,10022,2,"",null,null,{"$f":"IF(R361=\"\",\"\",\"-\"&VLOOKUP(R361,EventConditionConfig!A:C,3,FALSE)&IF(S361=\"\",\"\",CHAR(10)&\"-\"&VLOOKUP(S361,EventConditionConfig!A:C,3,FALSE)))","v":""},"","","","",null,null,"",null,null,"",{"$nulls":4},{"$f":"IF(A361=\"\",\"\",IF(ISNUMBER(Y361),2,IF(A362=\"\",IF(OR(AK361>0,VLOOKUP(O361,EventConfig!A:C,3,FALSE)=4),3,\"\"),1)))","v":1},1002203,null,5394,10022]
[1002203,5392,"仙山传说","",{"$nulls":5},100,{"$f":"IF(J362=\"\",\"\",VLOOKUP(J362,EventNPC!A:F,6,FALSE))","v":"玩家"},5395,"多谢尧帝，我是来辞行的，也想打听一下，关于“七道心境”的更多线索",null,10022,3,"",null,null,{"$f":"IF(R362=\"\",\"\",\"-\"&VLOOKUP(R362,EventConditionConfig!A:C,3,FALSE)&IF(S362=\"\",\"\",CHAR(10)&\"-\"&VLOOKUP(S362,EventConditionConfig!A:C,3,FALSE)))","v":""},"","","","",null,null,"",null,null,"",{"$nulls":4},{"$f":"IF(A362=\"\",\"\",IF(ISNUMBER(Y362),2,IF(A363=\"\",IF(OR(AK362>0,VLOOKUP(O362,EventConfig!A:C,3,FALSE)=4),3,\"\"),1)))","v":1},1002204,null,5395,10022]
[1002204,5392,"仙山传说","",{"$nulls":5},105,{"$f":"IF(J363=\"\",\"\",VLOOKUP(J363,EventNPC!A:F,6,FALSE))","v":"尧帝"},5396,"小友，你可曾听过‘藐姑射山’",null,10022,4,"",null,null,{"$f":"IF(R363=\"\",\"\",\"-\"&VLOOKUP(R363,EventConditionConfig!A:C,3,FALSE)&IF(S363=\"\",\"\",CHAR(10)&\"-\"&VLOOKUP(S363,EventConditionConfig!A:C,3,FALSE)))","v":""},1,"1002205;1002209","5397;5398",5397,"未曾听闻，请前辈指点。",{"$f":"A364","v":1002205},5398,"莫非是传说中的仙人居所？",{"$f":"A368","v":1002209},"",null,{"$f":"D368","v":""},null,null,{"$f":"IF(A363=\"\",\"\",IF(ISNUMBER(Y363),2,IF(A364=\"\",IF(OR(AK363>0,VLOOKUP(O363,EventConfig!A:C,3,FALSE)=4),3,\"\"),1)))","v":1},1002205,null,5398,10022]
[1002205,5392,"仙山传说","",{"$nulls":5},105,{"$f":"IF(J364=\"\",\"\",VLOOKUP(J364,EventNPC!A:F,6,FALSE))","v":"尧帝"},5399,"此山在尧都之北，云雾缭绕，凡人难见。当年我巡狩天下，偶遇山中神人……\n（尧帝眼神恍惚，似陷入回忆）",null,10022,5,"",null,null,{"$f":"IF(R364=\"\",\"\",\"-\"&VLOOKUP(R364,EventConditionConfig!A:C,3,FALSE)&IF(S364=\"\",\"\",CHAR(10)&\"-\"&VLOOKUP(S364,EventConditionConfig!A:C,3,FALSE)))","v":""},"","","","",null,null,"",null,null,"",{"$nulls":4},{"$f":"IF(A364=\"\",\"\",IF(ISNUMBER(Y364),2,IF(A365=\"\",IF(OR(AK364>0,VLOOKUP(O364,EventConfig!A:C,3,FALSE)=4),3,\"\"),1)))","v":1},1002206,null,5399,10022]
[1002206,5392,"仙山传说","",{"$nulls":5},105,{"$f":"IF(J365=\"\",\"\",VLOOKUP(J365,EventNPC!A:F,6,FALSE))","v":"尧帝"},5400,"不错。山中神人，她皮肤润白像冰雪，体态柔美如年轻的女子，不食五谷，吸清风饮甘露，乘云气驾飞龙，遨游于四海之外。",null,10022,6,"",null,null,{"$f":"IF(R365=\"\",\"\",\"-\"&VLOOKUP(R365,EventConditionConfig!A:C,3,FALSE)&IF(S365=\"\",\"\",CHAR(10)&\"-\"&VLOOKUP(S365,EventConditionConfig!A:C,3,FALSE)))","v":""},"","","","",null,null,"",null,null,"",{"$nulls":4},{"$f":"IF(A365=\"\",\"\",IF(ISNUMBER(Y365),2,IF(A366=\"\",IF(OR(AK365>0,VLOOKUP(O365,EventConfig!A:C,3,FALSE)=4),3,\"\"),1)))","v":1},1002207,null,5400,10022]
[1002207,5392,"仙山传说","",{"$nulls":5},105,{"$f":"IF(J366=\"\",\"\",VLOOKUP(J366,EventNPC!A:F,6,FALSE))","v":"尧帝"},5401,"当年见到神人时，我已是一都之君。可在她面前，自觉渺小如尘沙，治理的天下如同儿戏一般。",null,10022,7,"",null,null,{"$f":"IF(R366=\"\",\"\",\"-\"&VLOOKUP(R366,EventConditionConfig!A:C,3,FALSE)&IF(S366=\"\",\"\",CHAR(10)&\"-\"&VLOOKUP(S366,EventConditionConfig!A:C,3,FALSE)))","v":""},"","","","",null,null,"",null,null,"",{"$nulls":4},{"$f":"IF(A366=\"\",\"\",IF(ISNUMBER(Y366),2,IF(A367=\"\",IF(OR(AK366>0,VLOOKUP(O366,EventConfig!A:C,3,FALSE)=4),3,\"\"),1)))","v":1},1002208,null,5401,10022]
[1002208,5392,"仙山传说","",{"$nulls":5},105,{"$f":"IF(J367=\"\",\"\",VLOOKUP(J367,EventNPC!A:F,6,FALSE))","v":"尧帝"},5402,"甚至连开口说话，都没有勇气…",null,10022,8,"",null,null,{"$f":"IF(R367=\"\",\"\",\"-\"&VLOOKUP(R367,EventConditionConfig!A:C,3,FALSE)&IF(S367=\"\",\"\",CHAR(10)&\"-\"&VLOOKUP(S367,EventConditionConfig!A:C,3,FALSE)))","v":""},"","","","",null,null,"",null,null,"",{"$nulls":4},{"$f":"IF(A367=\"\",\"\",IF(ISNUMBER(Y367),2,IF(A368=\"\",IF(OR(AK367>0,VLOOKUP(O367,EventConfig!A:C,3,FALSE)=4),3,\"\"),1)))","v":1},1002209,null,5402,10022]
[1002209,5392,"仙山传说","",{"$nulls":5},100,{"$f":"IF(J368=\"\",\"\",VLOOKUP(J368,EventNPC!A:F,6,FALSE))","v":"玩家"},5403,"......",null,10022,9,"",null,null,{"$f":"IF(R368=\"\",\"\",\"-\"&VLOOKUP(R368,EventConditionConfig!A:C,3,FALSE)&IF(S368=\"\",\"\",CHAR(10)&\"-\"&VLOOKUP(S368,EventConditionConfig!A:C,3,FALSE)))","v":""},1,"1002210","5404",5404,"连尧帝都如此敬畏，那神人究竟何等境界？",null,"",null,null,"",{"$nulls":4},{"$f":"IF(A368=\"\",\"\",IF(ISNUMBER(Y368),2,IF(A369=\"\",IF(OR(AK368>0,VLOOKUP(O368,EventConfig!A:C,3,FALSE)=4),3,\"\"),1)))","v":1},1002210,null,5404,10022]
[1002210,5392,"仙山传说","",{"$nulls":5},105,{"$f":"IF(J369=\"\",\"\",VLOOKUP(J369,EventNPC!A:F,6,FALSE))","v":"尧帝"},5405,"我也不知..你可前去寻觅，如有缘遇见，定能提升修为，突破心境。",null,10022,10,"",null,null,{"$f":"IF(R369=\"\",\"\",\"-\"&VLOOKUP(R369,EventConditionConfig!A:C,3,FALSE)&IF(S369=\"\",\"\",CHAR(10)&\"-\"&VLOOKUP(S369,EventConditionConfig!A:C,3,FALSE)))","v":""},"","","","",null,null,"",null,null,"",{"$nulls":4},{"$f":"IF(A369=\"\",\"\",IF(ISNUMBER(Y369),2,IF(A370=\"\",IF(OR(AK369>0,VLOOKUP(O369,EventConfig!A:C,3,FALSE)=4),3,\"\"),1)))","v":1},1002211,null,5405,10022]
[1002211,5392,"仙山传说","",{"$nulls":5},105,{"$f":"IF(J370=\"\",\"\",VLOOKUP(J370,EventNPC!A:F,6,FALSE))","v":"尧帝"},5406,"你手中的逍遥铃，绝非凡物，跟着它的指引，应该能找到藐姑射山。",null,10022,11,"",null,null,{"$f":"IF(R370=\"\",\"\",\"-\"&VLOOKUP(R370,EventConditionConfig!A:C,3,FALSE)&IF(S370=\"\",\"\",CHAR(10)&\"-\"&VLOOKUP(S370,EventConditionConfig!A:C,3,FALSE)))","v":""},1,"1002212","5407",5407,"多谢前辈。",null,"",null,null,"",{"$nulls":4},{"$f":"IF(A370=\"\",\"\",IF(ISNUMBER(Y370),2,IF(A371=\"\",IF(OR(AK370>0,VLOOKUP(O370,EventConfig!A:C,3,FALSE)=4),3,\"\"),1)))","v":1},1002212,null,5407,10022]
[1002212,5392,"仙山传说","",{"$nulls":6},{"$f":"IF(J371=\"\",\"\",VLOOKUP(J371,EventNPC!A:F,6,FALSE))","v":""},"",null,null,10022,12,"25",25,null,{"$f":"IF(R371=\"\",\"\",\"-\"&VLOOKUP(R371,EventConditionConfig!A:C,3,FALSE)&IF(S371=\"\",\"\",CHAR(10)&\"-\"&VLOOKUP(S371,EventConditionConfig!A:C,3,FALSE)))","v":"-达到境界：结丹-后期"},"","","","",null,null,"",null,null,"",{"$nulls":4},{"$f":"IF(A371=\"\",\"\",IF(ISNUMBER(Y371),2,IF(A372=\"\",IF(OR(AK371>0,VLOOKUP(O371,EventConfig!A:C,3,FALSE)=4),3,\"\"),1)))","v":3},10023,null,5407,10022]
[null,"",null,"",{"$nulls":6},{"$f":"IF(J372=\"\",\"\",VLOOKUP(J372,EventNPC!A:F,6,FALSE))","v":""},"",null,null,null,"",{"$nulls":5},"","","",null,null,"",null,null,"",{"$nulls":4},{"$f":"IF(A372=\"\",\"\",IF(ISNUMBER(Y372),2,IF(A373=\"\",IF(OR(AK372>0,VLOOKUP(O372,EventConfig!A:C,3,FALSE)=4),3,\"\"),1)))","v":""},"",null,"",0]
[{"$f":"O373*100+P373","v":1002301},5408,"入山幻阵","",{"$nulls":6},{"$f":"IF(J373=\"\",\"\",VLOOKUP(J373,EventNPC!A:F,6,FALSE))","v":""},5409,"仙山被五行阵笼罩，需要击败阵眼方可破除（细节待设计）",null,{"$f":"IF(O372=\"\",O371+1,O372)","v":10023},1,{"$f":"_xlfn.TEXTJOIN(\";\",1,R373:S373)","v":""},null,null,{"$f":"IF(R373=\"\",\"\",\"-\"&VLOOKUP(R373,EventConditionConfig!A:C,3,FALSE)&IF(S373=\"\",\"\",CHAR(10)&\"-\"&VLOOKUP(S373,EventConditionConfig!A:C,3,FALSE)))","v":""},{"$f":"IF(Y373=\"\",\"\",1)","v":""},"","","",null,null,"",null,null,"",{"$nulls":4},{"$f":"IF(A373=\"\",\"\",IF(ISNUMBER(Y373),2,IF(A374=\"\",IF(OR(AK373>0,VLOOKUP(O373,EventConfig!A:C,3,FALSE)=4),3,\"\"),1)))","v":1},1002302,null,5409,10023]
[{"$f":"O374*100+P374","v":1002302},5408,"入山幻阵","",{"$nulls":6},{"$f":"IF(J374=\"\",\"\",VLOOKUP(J374,EventNPC!A:F,6,FALSE))","v":""},5410,"阵眼妖兽被击败，仙山现在可以进入了（细节待设计）",null,{"$f":"IF(O373=\"\",O372+1,O373)","v":10023},2,{"$f":"_xlfn.TEXTJOIN(\";\",1,R374:S374)","v":"15"},15,null,{"$f":"IF(R374=\"\",\"\",\"-\"&VLOOKUP(R374,EventConditionConfig!A:C,3,FALSE)&IF(S374=\"\",\"\",CHAR(10)&\"-\"&VLOOKUP(S374,EventConditionConfig!A:C,3,FALSE)))","v":"-击败仙山的阵眼妖兽"},{"$f":"IF(Y374=\"\",\"\",1)","v":""},"","","",null,null,"",null,null,"",{"$nulls":4},{"$f":"IF(A374=\"\",\"\",IF(ISNUMBER(Y374),2,IF(A375=\"\",IF(OR(AK374>0,VLOOKUP(O374,EventConfig!A:C,3,FALSE)=4),3,\"\"),1)))","v":1},1002303,null,5410,10023]
[{"$f":"O375*100+P375","v":1002303},5408,"入山幻阵","",{"$nulls":6},{"$f":"IF(J375=\"\",\"\",VLOOKUP(J375,EventNPC!A:F,6,FALSE))","v":""},"",null,null,{"$f":"IF(O374=\"\",O373+1,O374)","v":10023},3,{"$f":"_xlfn.TEXTJOIN(\";\",1,R375:S375)","v":""},null,null,{"$f":"IF(R375=\"\",\"\",\"-\"&VLOOKUP(R375,EventConditionConfig!A:C,3,FALSE)&IF(S375=\"\",\"\",CHAR(10)&\"-\"&VLOOKUP(S375,EventConditionConfig!A:C,3,FALSE)))","v":""},{"$f":"IF(Y375=\"\",\"\",1)","v":""},"","","",null,null,"",null,null,"",{"$nulls":4},{"$f":"IF(A375=\"\",\"\",IF(ISNUMBER(Y375),2,IF(A376=\"\",IF(OR(AK375>0,VLOOKUP(O375,EventConfig!A:C,3,FALSE)=4),3,\"\"),1)))","v":3},10024,null,5410,10023]
[null,"",null,"",{"$nulls":6},{"$f":"IF(J376=\"\",\"\",VLOOKUP(J376,EventNPC!A:F,6,FALSE))","v":""},"",null,null,null,"",{"$nulls":5},"","","",null,null,"",null,null,"",{"$nulls":4},{"$f":"IF(A376=\"\",\"\",IF(ISNUMBER(Y376),2,IF(A377=\"\",IF(OR(AK376>0,VLOOKUP(O376,EventConfig!A:C,3,FALSE)=4),3,\"\"),1)))","v":""},"",null,"",0]
[{"$f":"O377*100+P377","v":1002401},5411,"听惠子吹嘘种子来历，并答应帮他种葫芦","",{"$nulls":5},111,{"$f":"IF(J377=\"\",\"\",VLOOKUP(J377,EventNPC!A:F,6,FALSE))","v":"惠子"},5412,"（惠子手持一颗七彩流光的种子，满脸得意）\n“小友！来得正好！瞧我这宝贝——”",null,{"$f":"IF(O376=\"\",O375+1,O376)","v":10024},1,{"$f":"_xlfn.TEXTJOIN(\";\",1,R377:S377)","v":""},null,null,{"$f":"IF(R377=\"\",\"\",\"-\"&VLOOKUP(R377,EventConditionConfig!A:C,3,FALSE)&IF(S377=\"\",\"\",CHAR(10)&\"-\"&VLOOKUP(S377,EventConditionConfig!A:C,3,FALSE)))","v":""},{"$f":"IF(Y377=\"\",\"\",1)","v":""},"","","",null,null,"",null,null,"",{"$nulls":4},{"$f":"IF(A377=\"\",\"\",IF(ISNUMBER(Y377),2,IF(A378=\"\",IF(OR(AK377>0,VLOOKUP(O377,EventConfig!A:C,3,FALSE)=4),3,\"\"),1)))","v":1},1002402,null,5412,10024]
[1002402,5411,"听惠子吹嘘种子来历，并答应帮他种葫芦","",{"$nulls":5},111,{"$f":"IF(J378=\"\",\"\",VLOOKUP(J378,EventNPC!A:F,6,FALSE))","v":"惠子"},5413,"（惠子举起一颗种子，阳光照射下熠熠生辉）\n“此乃‘五石葫芦’之种！虽然我也不知道能种出来什么，但绝非凡品，一定大有用处！”",null,10024,2,"",null,null,{"$f":"IF(R378=\"\",\"\",\"-\"&VLOOKUP(R378,EventConditionConfig!A:C,3,FALSE)&IF(S378=\"\",\"\",CHAR(10)&\"-\"&VLOOKUP(S378,EventConditionConfig!A:C,3,FALSE)))","v":""},1,"1002403","5414",5414,"这么厉害？哪来的？",null,"",null,null,"",{"$nulls":4},{"$f":"IF(A378=\"\",\"\",IF(ISNUMBER(Y378),2,IF(A379=\"\",IF(OR(AK378>0,VLOOKUP(O378,EventConfig!A:C,3,FALSE)=4),3,\"\"),1)))","v":1},1002403,null,5414,10024]
[1002403,5411,"听惠子吹嘘种子来历，并答应帮他种葫芦","",{"$nulls":5},111,{"$f":"IF(J379=\"\",\"\",VLOOKUP(J379,EventNPC!A:F,6,FALSE))","v":"惠子"},5415,"这是我的好朋友庄子送我的，给的时候，还神神秘秘的，说种出来的东西很好玩。",null,10024,3,"",null,null,{"$f":"IF(R379=\"\",\"\",\"-\"&VLOOKUP(R379,EventConditionConfig!A:C,3,FALSE)&IF(S379=\"\",\"\",CHAR(10)&\"-\"&VLOOKUP(S379,EventConditionConfig!A:C,3,FALSE)))","v":""},"","","","",null,null,"",null,null,"",{"$nulls":4},{"$f":"IF(A379=\"\",\"\",IF(ISNUMBER(Y379),2,IF(A380=\"\",IF(OR(AK379>0,VLOOKUP(O379,EventConfig!A:C,3,FALSE)=4),3,\"\"),1)))","v":1},1002404,null,5415,10024]
[1002404,5411,"听惠子吹嘘种子来历，并答应帮他种葫芦","",{"$nulls":5},100,{"$f":"IF(J380=\"\",\"\",VLOOKUP(J380,EventNPC!A:F,6,FALSE))","v":"玩家"},5416,"原来如此。\n我游历到这里，是想拜访山中神仙，请道友指路。",null,10024,4,"",null,null,{"$f":"IF(R380=\"\",\"\",\"-\"&VLOOKUP(R380,EventConditionConfig!A:C,3,FALSE)&IF(S380=\"\",\"\",CHAR(10)&\"-\"&VLOOKUP(S380,EventConditionConfig!A:C,3,FALSE)))","v":""},"","","","",null,null,"",null,null,"",{"$nulls":4},{"$f":"IF(A380=\"\",\"\",IF(ISNUMBER(Y380),2,IF(A381=\"\",IF(OR(AK380>0,VLOOKUP(O380,EventConfig!A:C,3,FALSE)=4),3,\"\"),1)))","v":1},1002405,null,5416,10024]
[1002405,5411,"听惠子吹嘘种子来历，并答应帮他种葫芦","",{"$nulls":5},111,{"$f":"IF(J381=\"\",\"\",VLOOKUP(J381,EventNPC!A:F,6,FALSE))","v":"惠子"},5417,"又是来找神仙的？\n帮你也不是不行，但是你得先帮我，帮我种葫芦！",null,10024,5,"",null,null,{"$f":"IF(R381=\"\",\"\",\"-\"&VLOOKUP(R381,EventConditionConfig!A:C,3,FALSE)&IF(S381=\"\",\"\",CHAR(10)&\"-\"&VLOOKUP(S381,EventConditionConfig!A:C,3,FALSE)))","v":""},1,"1002406","5418",5418,"我不擅长种植",null,"",null,null,"",{"$nulls":4},{"$f":"IF(A381=\"\",\"\",IF(ISNUMBER(Y381),2,IF(A382=\"\",IF(OR(AK381>0,VLOOKUP(O381,EventConfig!A:C,3,FALSE)=4),3,\"\"),1)))","v":1},1002406,null,5418,10024]
[1002406,5411,"听惠子吹嘘种子来历，并答应帮他种葫芦","",{"$nulls":5},111,{"$f":"IF(J382=\"\",\"\",VLOOKUP(J382,EventNPC!A:F,6,FALSE))","v":"惠子"},5419,"没事，我非常擅长，哈哈。\n道友只需要帮我找几种肥料即可。",null,10024,6,"",null,null,{"$f":"IF(R382=\"\",\"\",\"-\"&VLOOKUP(R382,EventConditionConfig!A:C,3,FALSE)&IF(S382=\"\",\"\",CHAR(10)&\"-\"&VLOOKUP(S382,EventConditionConfig!A:C,3,FALSE)))","v":""},1,"1002407","5420",5420,"道友请讲…",null,"",null,null,"",{"$nulls":4},{"$f":"IF(A382=\"\",\"\",IF(ISNUMBER(Y382),2,IF(A383=\"\",IF(OR(AK382>0,VLOOKUP(O382,EventConfig!A:C,3,FALSE)=4),3,\"\"),1)))","v":1},1002407,null,5420,10024]
[1002407,5411,"听惠子吹嘘种子来历，并答应帮他种葫芦","",{"$nulls":5},111,{"$f":"IF(J383=\"\",\"\",VLOOKUP(J383,EventNPC!A:F,6,FALSE))","v":"惠子"},5421,"此葫芦种子，需要2种肥料：“天肥”和“地肥”。",null,10024,7,"",null,null,{"$f":"IF(R383=\"\",\"\",\"-\"&VLOOKUP(R383,EventConditionConfig!A:C,3,FALSE)&IF(S383=\"\",\"\",CHAR(10)&\"-\"&VLOOKUP(S383,EventConditionConfig!A:C,3,FALSE)))","v":""},"","","","",null,null,"",null,null,"",{"$nulls":4},{"$f":"IF(A383=\"\",\"\",IF(ISNUMBER(Y383),2,IF(A384=\"\",IF(OR(AK383>0,VLOOKUP(O383,EventConfig!A:C,3,FALSE)=4),3,\"\"),1)))","v":1},1002408,null,5421,10024]
[1002408,5411,"听惠子吹嘘种子来历，并答应帮他种葫芦","",{"$nulls":5},100,{"$f":"IF(J384=\"\",\"\",VLOOKUP(J384,EventNPC!A:F,6,FALSE))","v":"玩家"},5422,"....未曾听闻…",null,10024,8,"",null,null,{"$f":"IF(R384=\"\",\"\",\"-\"&VLOOKUP(R384,EventConditionConfig!A:C,3,FALSE)&IF(S384=\"\",\"\",CHAR(10)&\"-\"&VLOOKUP(S384,EventConditionConfig!A:C,3,FALSE)))","v":""},1,"1002409","5423",5423,"何为“天肥”",null,"",null,null,"",{"$nulls":4},{"$f":"IF(A384=\"\",\"\",IF(ISNUMBER(Y384),2,IF(A385=\"\",IF(OR(AK384>0,VLOOKUP(O384,EventConfig!A:C,3,FALSE)=4),3,\"\"),1)))","v":1},1002409,null,5423,10024]
[1002409,5411,"听惠子吹嘘种子来历，并答应帮他种葫芦","",{"$nulls":5},111,{"$f":"IF(J385=\"\",\"\",VLOOKUP(J385,EventNPC!A:F,6,FALSE))","v":"惠子"},5424,"天肥很简单，你往上看\n（惠子把手指向云端）",null,10024,9,"",null,null,{"$f":"IF(R385=\"\",\"\",\"-\"&VLOOKUP(R385,EventConditionConfig!A:C,3,FALSE)&IF(S385=\"\",\"\",CHAR(10)&\"-\"&VLOOKUP(S385,EventConditionConfig!A:C,3,FALSE)))","v":""},"","","","",null,null,"",null,null,"",{"$nulls":4},{"$f":"IF(A385=\"\",\"\",IF(ISNUMBER(Y385),2,IF(A386=\"\",IF(OR(AK385>0,VLOOKUP(O385,EventConfig!A:C,3,FALSE)=4),3,\"\"),1)))","v":1},1002410,null,5424,10024]
[1002410,5411,"听惠子吹嘘种子来历，并答应帮他种葫芦","",{"$nulls":5},111,{"$f":"IF(J386=\"\",\"\",VLOOKUP(J386,EventNPC!A:F,6,FALSE))","v":"惠子"},5425,"此山附近有许多飞行的灵兽围绕，你去击败几只飞行的灵兽，就有机会拿到了。",null,10024,10,"",null,null,{"$f":"IF(R386=\"\",\"\",\"-\"&VLOOKUP(R386,EventConditionConfig!A:C,3,FALSE)&IF(S386=\"\",\"\",CHAR(10)&\"-\"&VLOOKUP(S386,EventConditionConfig!A:C,3,FALSE)))","v":""},1,"1002411","5426",5426,"何为“地肥”",null,"",null,null,"",{"$nulls":4},{"$f":"IF(A386=\"\",\"\",IF(ISNUMBER(Y386),2,IF(A387=\"\",IF(OR(AK386>0,VLOOKUP(O386,EventConfig!A:C,3,FALSE)=4),3,\"\"),1)))","v":1},1002411,null,5426,10024]
[1002411,5411,"听惠子吹嘘种子来历，并答应帮他种葫芦","",{"$nulls":5},111,{"$f":"IF(J387=\"\",\"\",VLOOKUP(J387,EventNPC!A:F,6,FALSE))","v":"惠子"},5427,"这地肥就比较麻烦了，需要2000年以上的灵木树枝才能当“地肥”",null,10024,11,"",null,null,{"$f":"IF(R387=\"\",\"\",\"-\"&VLOOKUP(R387,EventConditionConfig!A:C,3,FALSE)&IF(S387=\"\",\"\",CHAR(10)&\"-\"&VLOOKUP(S387,EventConditionConfig!A:C,3,FALSE)))","v":""},"","","","",null,null,"",null,null,"",{"$nulls":4},{"$f":"IF(A387=\"\",\"\",IF(ISNUMBER(Y387),2,IF(A388=\"\",IF(OR(AK387>0,VLOOKUP(O387,EventConfig!A:C,3,FALSE)=4),3,\"\"),1)))","v":1},1002412,null,5427,10024]
[1002412,5411,"听惠子吹嘘种子来历，并答应帮他种葫芦","",{"$nulls":5},111,{"$f":"IF(J388=\"\",\"\",VLOOKUP(J388,EventNPC!A:F,6,FALSE))","v":"惠子"},5428,"不过，这千年以上的树木，都会化形，不好找啊，不好找。",null,10024,12,"",null,null,{"$f":"IF(R388=\"\",\"\",\"-\"&VLOOKUP(R388,EventConditionConfig!A:C,3,FALSE)&IF(S388=\"\",\"\",CHAR(10)&\"-\"&VLOOKUP(S388,EventConditionConfig!A:C,3,FALSE)))","v":""},1,"1002413","5429",5429,"好的道友，那我这就去寻。",null,"",null,null,"",{"$nulls":4},{"$f":"IF(A388=\"\",\"\",IF(ISNUMBER(Y388),2,IF(A389=\"\",IF(OR(AK388>0,VLOOKUP(O388,EventConfig!A:C,3,FALSE)=4),3,\"\"),1)))","v":1},1002413,null,5429,10024]
[1002413,5411,"听惠子吹嘘种子来历，并答应帮他种葫芦","",{"$nulls":6},{"$f":"IF(J389=\"\",\"\",VLOOKUP(J389,EventNPC!A:F,6,FALSE))","v":""},{"$f":"IF(M389=\"\",\"\",MAX(AL388,AL387,B389,D389)+1)","v":""},null,null,10024,13,"26",26,null,{"$f":"IF(R389=\"\",\"\",\"-\"&VLOOKUP(R389,EventConditionConfig!A:C,3,FALSE)&IF(S389=\"\",\"\",CHAR(10)&\"-\"&VLOOKUP(S389,EventConditionConfig!A:C,3,FALSE)))","v":"-达到境界：元婴-前期"},"","","","",null,null,"",null,null,"",{"$nulls":4},{"$f":"IF(A389=\"\",\"\",IF(ISNUMBER(Y389),2,IF(A390=\"\",IF(OR(AK389>0,VLOOKUP(O389,EventConfig!A:C,3,FALSE)=4),3,\"\"),1)))","v":3},10025,null,5429,10024]
[null,"",null,{"$f":"IF(E390=\"\",\"\",IF(E390=E389,D389,MAX(AL389,AL388,B390)+1))","v":""},{"$nulls":6},{"$f":"IF(J390=\"\",\"\",VLOOKUP(J390,EventNPC!A:F,6,FALSE))","v":""},"",null,null,null,"",{"$nulls":5},"","","",null,null,"",null,null,"",{"$nulls":4},{"$f":"IF(A390=\"\",\"\",IF(ISNUMBER(Y390),2,IF(A391=\"\",IF(OR(AK390>0,VLOOKUP(O390,EventConfig!A:C,3,FALSE)=4),3,\"\"),1)))","v":""},"",null,"",0]
[{"$f":"O391*100+P391","v":1002501},5430,"天肥地肥","",{"$nulls":6},{"$f":"IF(J391=\"\",\"\",VLOOKUP(J391,EventNPC!A:F,6,FALSE))","v":""},5431,"你来到飞行的灵兽周围，碰碰运气吧。",null,{"$f":"IF(O390=\"\",O388+1,O390)","v":10025},1,{"$f":"_xlfn.TEXTJOIN(\";\",1,R391:S391)","v":""},null,null,{"$f":"IF(R391=\"\",\"\",\"-\"&VLOOKUP(R391,EventConditionConfig!A:C,3,FALSE)&IF(S391=\"\",\"\",CHAR(10)&\"-\"&VLOOKUP(S391,EventConditionConfig!A:C,3,FALSE)))","v":""},{"$f":"IF(Y391=\"\",\"\",1)","v":""},"","","",null,null,"",null,null,"",{"$nulls":4},{"$f":"IF(A391=\"\",\"\",IF(ISNUMBER(Y391),2,IF(A392=\"\",IF(OR(AK391>0,VLOOKUP(O391,EventConfig!A:C,3,FALSE)=4),3,\"\"),1)))","v":1},1002502,null,5431,10025]
[1002502,5430,"天肥地肥","",{"$nulls":6},{"$f":"IF(J392=\"\",\"\",VLOOKUP(J392,EventNPC!A:F,6,FALSE))","v":""},5432,"天肥搜集到了，关于地肥，你突然想到之前碰到的樗木之灵",null,{"$f":"IF(O391=\"\",O390+1,O391)","v":10025},2,"17",17,null,{"$f":"IF(R392=\"\",\"\",\"-\"&VLOOKUP(R392,EventConditionConfig!A:C,3,FALSE)&IF(S392=\"\",\"\",CHAR(10)&\"-\"&VLOOKUP(S392,EventConditionConfig!A:C,3,FALSE)))","v":"-击杀灵兽获得天肥"},"","","","",null,null,"",null,null,"",{"$nulls":4},{"$f":"IF(A392=\"\",\"\",IF(ISNUMBER(Y392),2,IF(A393=\"\",IF(OR(AK392>0,VLOOKUP(O392,EventConfig!A:C,3,FALSE)=4),3,\"\"),1)))","v":1},1002503,null,{"$f":"IF(A392=\"\",\"\",MAX(B392,D392,L392,X392,AA392,AL391,AL390,AD392))","v":5432},{"$f":"O392","v":10025}]
[1002503,5430,"天肥地肥","",{"$nulls":5},100,{"$f":"IF(J393=\"\",\"\",VLOOKUP(J393,EventNPC!A:F,6,FALSE))","v":"玩家"},5433,"前辈，我有一事相求。",null,10025,3,"",null,null,{"$f":"IF(R393=\"\",\"\",\"-\"&VLOOKUP(R393,EventConditionConfig!A:C,3,FALSE)&IF(S393=\"\",\"\",CHAR(10)&\"-\"&VLOOKUP(S393,EventConditionConfig!A:C,3,FALSE)))","v":""},"","","","",null,null,"",null,null,"",{"$nulls":4},{"$f":"IF(A393=\"\",\"\",IF(ISNUMBER(Y393),2,IF(A394=\"\",IF(OR(AK393>0,VLOOKUP(O393,EventConfig!A:C,3,FALSE)=4),3,\"\"),1)))","v":1},1002504,null,5433,10025]
[1002504,5430,"天肥地肥","",{"$nulls":5},110,{"$f":"IF(J394=\"\",\"\",VLOOKUP(J394,EventNPC!A:F,6,FALSE))","v":"樗木之灵"},5434,"小友请说",null,10025,4,"",null,null,{"$f":"IF(R394=\"\",\"\",\"-\"&VLOOKUP(R394,EventConditionConfig!A:C,3,FALSE)&IF(S394=\"\",\"\",CHAR(10)&\"-\"&VLOOKUP(S394,EventConditionConfig!A:C,3,FALSE)))","v":""},"","","","",null,null,"",null,null,"",{"$nulls":4},{"$f":"IF(A394=\"\",\"\",IF(ISNUMBER(Y394),2,IF(A395=\"\",IF(OR(AK394>0,VLOOKUP(O394,EventConfig!A:C,3,FALSE)=4),3,\"\"),1)))","v":1},1002505,null,5434,10025]
[1002505,5430,"天肥地肥","",{"$nulls":5},100,{"$f":"IF(J395=\"\",\"\",VLOOKUP(J395,EventNPC!A:F,6,FALSE))","v":"玩家"},5435,"我在藐姑射山时，遇到有位道友让我帮他找“地肥”来种葫芦...\n不止前辈可否借我一点点树枝。",null,10025,{"$f":"IF(O395=\"\",\"\",IF(O395=O394,P394+1,1))","v":5},"",null,null,{"$f":"IF(R395=\"\",\"\",\"-\"&VLOOKUP(R395,EventConditionConfig!A:C,3,FALSE)&IF(S395=\"\",\"\",CHAR(10)&\"-\"&VLOOKUP(S395,EventConditionConfig!A:C,3,FALSE)))","v":""},"","","","",null,null,"",null,null,"",{"$nulls":4},{"$f":"IF(A395=\"\",\"\",IF(ISNUMBER(Y395),2,IF(A396=\"\",IF(OR(AK395>0,VLOOKUP(O395,EventConfig!A:C,3,FALSE)=4),3,\"\"),1)))","v":1},1002506,null,5435,10025]
[1002506,5430,"天肥地肥","",{"$nulls":5},110,{"$f":"IF(J396=\"\",\"\",VLOOKUP(J396,EventNPC!A:F,6,FALSE))","v":"樗木之灵"},5436,"好说好说，以后多来陪我聊聊天就好。",null,10025,6,"",null,null,{"$f":"IF(R396=\"\",\"\",\"-\"&VLOOKUP(R396,EventConditionConfig!A:C,3,FALSE)&IF(S396=\"\",\"\",CHAR(10)&\"-\"&VLOOKUP(S396,EventConditionConfig!A:C,3,FALSE)))","v":""},"","",{"$f":"_xlfn.TEXTJOIN(\";\",1,X396,AA396,AD396)","v":""},{"$f":"IF(OR(ISNUMBER(Y396),Y396=\"\"),\"\",MAX(AL395,AL393,B396,D396,L396)+1)","v":""},null,null,{"$f":"IF(OR(ISNUMBER(AB396),AB396=\"\"),\"\",X396+1)","v":""},null,null,"",{"$nulls":4},{"$f":"IF(A396=\"\",\"\",IF(ISNUMBER(Y396),2,IF(A397=\"\",IF(OR(AK396>0,VLOOKUP(O396,EventConfig!A:C,3,FALSE)=4),3,\"\"),1)))","v":1},1002507,null,5436,10025]
[1002507,{"$f":"IF(C397=\"\",\"\",IF(C397=C396,B396,MAX(AL396,AL395)+1))","v":5430},"天肥地肥","",{"$nulls":5},100,{"$f":"IF(J397=\"\",\"\",VLOOKUP(J397,EventNPC!A:F,6,FALSE))","v":"玩家"},5437,"多谢前辈！  （得到樗木的树枝）",null,10025,7,"",null,null,{"$f":"IF(R397=\"\",\"\",\"-\"&VLOOKUP(R397,EventConditionConfig!A:C,3,FALSE)&IF(S397=\"\",\"\",CHAR(10)&\"-\"&VLOOKUP(S397,EventConditionConfig!A:C,3,FALSE)))","v":""},"","","","",null,null,"",null,null,{"$f":"IF(OR(ISNUMBER(AE397),AE397=\"\"),\"\",AA397+1)","v":""},null,null,20001,1,{"$f":"IF(A397=\"\",\"\",IF(ISNUMBER(Y397),2,IF(A398=\"\",IF(OR(AK397>0,VLOOKUP(O397,EventConfig!A:C,3,FALSE)=4),3,\"\"),1)))","v":1},1002508,null,5437,10025]
[1002508,5430,"天肥地肥","",{"$nulls":6},{"$f":"IF(J398=\"\",\"\",VLOOKUP(J398,EventNPC!A:F,6,FALSE))","v":""},"",null,null,10025,8,"30",30,null,{"$f":"IF(R398=\"\",\"\",\"-\"&VLOOKUP(R398,EventConditionConfig!A:C,3,FALSE)&IF(S398=\"\",\"\",CHAR(10)&\"-\"&VLOOKUP(S398,EventConditionConfig!A:C,3,FALSE)))","v":"-达到境界：元婴-中期"},"",{"$f":"IF(U398=1,_xlfn.TEXTJOIN(\";\",1,IF(Z398=\"\",A398+1,Z398),IF(AND(AA398<>\"\",AC398=\"\"),A398+1,AC398),IF(AND(AD398<>\"\",AF398=\"\"),A398+1,AF398)),IF(U398=2,Y398,\"\"))","v":""},"","",null,null,"",null,null,"",{"$nulls":4},{"$f":"IF(A398=\"\",\"\",IF(ISNUMBER(Y398),2,IF(A399=\"\",IF(OR(AK398>0,VLOOKUP(O398,EventConfig!A:C,3,FALSE)=4),3,\"\"),1)))","v":3},{"$f":"IF(AI398=\"\",\"\",CHOOSE(AI398,IF(AK398=\"\",A398+1,AK398),CONCATENATE(IF(AK398=\"\",A398+1,AK398),\";101\"),IF(AK398=\"\",O398+1,AK398)))","v":10026},null,5437,10025]
[null,"",null,"",{"$nulls":6},{"$f":"IF(J399=\"\",\"\",VLOOKUP(J399,EventNPC!A:F,6,FALSE))","v":""},"",null,null,null,"",{"$nulls":5},"","","",null,null,"",null,null,"",{"$nulls":4},{"$f":"IF(A399=\"\",\"\",IF(ISNUMBER(Y399),2,IF(A400=\"\",IF(OR(AK399>0,VLOOKUP(O399,EventConfig!A:C,3,FALSE)=4),3,\"\"),1)))","v":""},"",null,"",0]
[{"$f":"O400*100+P400","v":1002601},5438,"登山","",{"$nulls":5},111,{"$f":"IF(J400=\"\",\"\",VLOOKUP(J400,EventNPC!A:F,6,FALSE))","v":"惠子"},5439,"（眼睛一亮）好好好！\n这位道友果然好手段！竟真能找到“地肥”！",null,{"$f":"IF(O399=\"\",O397+1,O399)","v":10026},1,{"$f":"_xlfn.TEXTJOIN(\";\",1,R400:S400)","v":""},null,null,{"$f":"IF(R400=\"\",\"\",\"-\"&VLOOKUP(R400,EventConditionConfig!A:C,3,FALSE)&IF(S400=\"\",\"\",CHAR(10)&\"-\"&VLOOKUP(S400,EventConditionConfig!A:C,3,FALSE)))","v":""},{"$f":"IF(Y400=\"\",\"\",1)","v":""},"","","",null,null,"",null,null,"",{"$nulls":4},{"$f":"IF(A400=\"\",\"\",IF(ISNUMBER(Y400),2,IF(A401=\"\",IF(OR(AK400>0,VLOOKUP(O400,EventConfig!A:C,3,FALSE)=4),3,\"\"),1)))","v":1},1002602,null,5439,10026]
[1002602,5438,"登山","",{"$nulls":5},100,{"$f":"IF(J401=\"\",\"\",VLOOKUP(J401,EventNPC!A:F,6,FALSE))","v":"玩家"},5440,"（谁管你的葫芦....）\n请道友告知，哪里可以见到神仙，我有事相求。",null,{"$f":"IF(O400=\"\",O399+1,O400)","v":10026},2,"",null,null,{"$f":"IF(R401=\"\",\"\",\"-\"&VLOOKUP(R401,EventConditionConfig!A:C,3,FALSE)&IF(S401=\"\",\"\",CHAR(10)&\"-\"&VLOOKUP(S401,EventConditionConfig!A:C,3,FALSE)))","v":""},"","","","",null,null,"",null,null,"",{"$nulls":4},{"$f":"IF(A401=\"\",\"\",IF(ISNUMBER(Y401),2,IF(A402=\"\",IF(OR(AK401>0,VLOOKUP(O401,EventConfig!A:C,3,FALSE)=4),3,\"\"),1)))","v":1},1002603,null,5440,10026]
[1002603,5438,"登山","",{"$nulls":5},111,{"$f":"IF(J402=\"\",\"\",VLOOKUP(J402,EventNPC!A:F,6,FALSE))","v":"惠子"},5441,"不瞒道友，我在这藐姑射山的山脚生活多年，并未见过神仙。\n来找神仙的倒是多…",null,10026,3,"",null,null,{"$f":"IF(R402=\"\",\"\",\"-\"&VLOOKUP(R402,EventConditionConfig!A:C,3,FALSE)&IF(S402=\"\",\"\",CHAR(10)&\"-\"&VLOOKUP(S402,EventConditionConfig!A:C,3,FALSE)))","v":""},1,"1002604","5442",5442,"…",null,"",null,null,"",{"$nulls":4},{"$f":"IF(A402=\"\",\"\",IF(ISNUMBER(Y402),2,IF(A403=\"\",IF(OR(AK402>0,VLOOKUP(O402,EventConfig!A:C,3,FALSE)=4),3,\"\"),1)))","v":1},1002604,null,5442,10026]
[1002604,5438,"登山","",{"$nulls":5},111,{"$f":"IF(J403=\"\",\"\",VLOOKUP(J403,EventNPC!A:F,6,FALSE))","v":"惠子"},5443,"不过道友也不要急，我确实听庄子提过，此山有神仙的事迹。",null,10026,4,"",null,null,{"$f":"IF(R403=\"\",\"\",\"-\"&VLOOKUP(R403,EventConditionConfig!A:C,3,FALSE)&IF(S403=\"\",\"\",CHAR(10)&\"-\"&VLOOKUP(S403,EventConditionConfig!A:C,3,FALSE)))","v":""},"","","","",null,null,"",null,null,"",{"$nulls":4},{"$f":"IF(A403=\"\",\"\",IF(ISNUMBER(Y403),2,IF(A404=\"\",IF(OR(AK403>0,VLOOKUP(O403,EventConfig!A:C,3,FALSE)=4),3,\"\"),1)))","v":1},1002605,null,5443,10026]
[1002605,5438,"登山","",{"$nulls":5},111,{"$f":"IF(J404=\"\",\"\",VLOOKUP(J404,EventNPC!A:F,6,FALSE))","v":"惠子"},5444,"我屋后设有一阵法，隐藏了上山的小路，我一会开启法阵，你从那边上山吧。",null,10026,5,"",null,null,{"$f":"IF(R404=\"\",\"\",\"-\"&VLOOKUP(R404,EventConditionConfig!A:C,3,FALSE)&IF(S404=\"\",\"\",CHAR(10)&\"-\"&VLOOKUP(S404,EventConditionConfig!A:C,3,FALSE)))","v":""},1,"1002606;1002607","5445;5446",5445,"我这就启程登山！",{"$f":"A405","v":1002606},5446,"道友竟然精通阵法？",{"$f":"A406","v":1002607},"",null,{"$f":"D406","v":""},null,null,{"$f":"IF(A404=\"\",\"\",IF(ISNUMBER(Y404),2,IF(A405=\"\",IF(OR(AK404>0,VLOOKUP(O404,EventConfig!A:C,3,FALSE)=4),3,\"\"),1)))","v":1},1002606,null,5446,10026]
[1002606,5438,"登山","",{"$nulls":5},111,{"$f":"IF(J405=\"\",\"\",VLOOKUP(J405,EventNPC!A:F,6,FALSE))","v":"惠子"},5447,"去吧，登上山顶，也许能找到你想要的。",null,10026,6,"",null,null,{"$f":"IF(R405=\"\",\"\",\"-\"&VLOOKUP(R405,EventConditionConfig!A:C,3,FALSE)&IF(S405=\"\",\"\",CHAR(10)&\"-\"&VLOOKUP(S405,EventConditionConfig!A:C,3,FALSE)))","v":""},"","","","",null,null,"",null,null,"",{"$nulls":4},{"$f":"IF(A405=\"\",\"\",IF(ISNUMBER(Y405),2,IF(A406=\"\",IF(OR(AK405>0,VLOOKUP(O405,EventConfig!A:C,3,FALSE)=4),3,\"\"),1)))","v":1},1002509,1002509,5447,10026]
[1002607,5438,"登山","",{"$nulls":5},111,{"$f":"IF(J406=\"\",\"\",VLOOKUP(J406,EventNPC!A:F,6,FALSE))","v":"惠子"},5448,"好说好说，我确实无心修炼，也对神仙没兴趣。",null,10026,7,"",null,null,{"$f":"IF(R406=\"\",\"\",\"-\"&VLOOKUP(R406,EventConditionConfig!A:C,3,FALSE)&IF(S406=\"\",\"\",CHAR(10)&\"-\"&VLOOKUP(S406,EventConditionConfig!A:C,3,FALSE)))","v":""},"","","","",null,null,"",null,null,"",{"$nulls":4},{"$f":"IF(A406=\"\",\"\",IF(ISNUMBER(Y406),2,IF(A407=\"\",IF(OR(AK406>0,VLOOKUP(O406,EventConfig!A:C,3,FALSE)=4),3,\"\"),1)))","v":1},1002608,null,5448,10026]
[1002608,5438,"登山","",{"$nulls":5},111,{"$f":"IF(J407=\"\",\"\",VLOOKUP(J407,EventNPC!A:F,6,FALSE))","v":"惠子"},5449,"闲来无事，种种花草，研究研究阵法。\n如果道友有兴趣，可以随时交流。",null,10026,8,"",null,null,{"$f":"IF(R407=\"\",\"\",\"-\"&VLOOKUP(R407,EventConditionConfig!A:C,3,FALSE)&IF(S407=\"\",\"\",CHAR(10)&\"-\"&VLOOKUP(S407,EventConditionConfig!A:C,3,FALSE)))","v":""},"","","","",null,null,"",null,null,"",{"$nulls":4},{"$f":"IF(A407=\"\",\"\",IF(ISNUMBER(Y407),2,IF(A408=\"\",IF(OR(AK407>0,VLOOKUP(O407,EventConfig!A:C,3,FALSE)=4),3,\"\"),1)))","v":1},1002609,null,5449,10026]
[1002609,5438,"登山","",{"$nulls":6},{"$f":"IF(J408=\"\",\"\",VLOOKUP(J408,EventNPC!A:F,6,FALSE))","v":""},"",null,null,10026,9,"31",31,null,{"$f":"IF(R408=\"\",\"\",\"-\"&VLOOKUP(R408,EventConditionConfig!A:C,3,FALSE)&IF(S408=\"\",\"\",CHAR(10)&\"-\"&VLOOKUP(S408,EventConditionConfig!A:C,3,FALSE)))","v":"-达到境界：元婴-后期"},"","","","",null,null,"",null,null,"",{"$nulls":4},{"$f":"IF(A408=\"\",\"\",IF(ISNUMBER(Y408),2,IF(A409=\"\",IF(OR(AK408>0,VLOOKUP(O408,EventConfig!A:C,3,FALSE)=4),3,\"\"),1)))","v":3},10027,null,5449,10026]
[null,"",null,"",{"$nulls":6},{"$f":"IF(J409=\"\",\"\",VLOOKUP(J409,EventNPC!A:F,6,FALSE))","v":""},"",null,null,null,"",{"$nulls":5},"","","",null,null,"",null,null,"",{"$nulls":4},{"$f":"IF(A409=\"\",\"\",IF(ISNUMBER(Y409),2,IF(A410=\"\",IF(OR(AK409>0,VLOOKUP(O409,EventConfig!A:C,3,FALSE)=4),3,\"\"),1)))","v":""},"",null,"",0]
[{"$f":"O410*100+P410","v":1002701},5450,"穿越山雾","",{"$nulls":6},{"$f":"IF(J410=\"\",\"\",VLOOKUP(J410,EventNPC!A:F,6,FALSE))","v":""},5451,"你穿过惠子开启的阵法，踏上藐姑射山的羊肠小径。",null,10027,1,{"$f":"_xlfn.TEXTJOIN(\";\",1,R410:S410)","v":""},null,null,{"$f":"IF(R410=\"\",\"\",\"-\"&VLOOKUP(R410,EventConditionConfig!A:C,3,FALSE)&IF(S410=\"\",\"\",CHAR(10)&\"-\"&VLOOKUP(S410,EventConditionConfig!A:C,3,FALSE)))","v":""},{"$f":"IF(Y410=\"\",\"\",IF(ISTEXT(Y410),1,2))","v":""},"","","",null,null,"",null,null,"",{"$nulls":4},{"$f":"IF(A410=\"\",\"\",IF(ISNUMBER(Y410),2,IF(A411=\"\",IF(OR(AK410>0,VLOOKUP(O410,EventConfig!A:C,3,FALSE)=4),3,\"\"),1)))","v":1},1002702,null,5451,10027]
[1002702,5450,"穿越山雾","",{"$nulls":6},{"$f":"IF(J411=\"\",\"\",VLOOKUP(J411,EventNPC!A:F,6,FALSE))","v":""},5452,"山路蜿蜒，云雾渐浓，似有无形之力扭曲空间。",null,10027,2,"",null,null,{"$f":"IF(R411=\"\",\"\",\"-\"&VLOOKUP(R411,EventConditionConfig!A:C,3,FALSE)&IF(S411=\"\",\"\",CHAR(10)&\"-\"&VLOOKUP(S411,EventConditionConfig!A:C,3,FALSE)))","v":""},"","","","",null,null,"",null,null,"",{"$nulls":4},{"$f":"IF(A411=\"\",\"\",IF(ISNUMBER(Y411),2,IF(A412=\"\",IF(OR(AK411>0,VLOOKUP(O411,EventConfig!A:C,3,FALSE)=4),3,\"\"),1)))","v":1},1002703,null,5452,10027]
[1002703,5450,"穿越山雾","",{"$nulls":6},{"$f":"IF(J412=\"\",\"\",VLOOKUP(J412,EventNPC!A:F,6,FALSE))","v":""},5453,"远方隐约传来风吟露滴之声，仿佛仙乐。",null,10027,3,"",null,null,{"$f":"IF(R412=\"\",\"\",\"-\"&VLOOKUP(R412,EventConditionConfig!A:C,3,FALSE)&IF(S412=\"\",\"\",CHAR(10)&\"-\"&VLOOKUP(S412,EventConditionConfig!A:C,3,FALSE)))","v":""},"","","","",null,null,"",null,null,"",{"$nulls":4},{"$f":"IF(A412=\"\",\"\",IF(ISNUMBER(Y412),2,IF(A413=\"\",IF(OR(AK412>0,VLOOKUP(O412,EventConfig!A:C,3,FALSE)=4),3,\"\"),1)))","v":1},1002704,null,5453,10027]
[1002704,5450,"穿越山雾","",{"$nulls":6},{"$f":"IF(J413=\"\",\"\",VLOOKUP(J413,EventNPC!A:F,6,FALSE))","v":""},5454,"然而，雾中忽现幻影，阻挡去路——",null,10027,4,"",null,null,{"$f":"IF(R413=\"\",\"\",\"-\"&VLOOKUP(R413,EventConditionConfig!A:C,3,FALSE)&IF(S413=\"\",\"\",CHAR(10)&\"-\"&VLOOKUP(S413,EventConditionConfig!A:C,3,FALSE)))","v":""},"","","","",null,null,"",null,null,"",{"$nulls":4},{"$f":"IF(A413=\"\",\"\",IF(ISNUMBER(Y413),2,IF(A414=\"\",IF(OR(AK413>0,VLOOKUP(O413,EventConfig!A:C,3,FALSE)=4),3,\"\"),1)))","v":1},1002705,null,5454,10027]
[1002705,5450,"穿越山雾","",{"$nulls":5},100,{"$f":"IF(J414=\"\",\"\",VLOOKUP(J414,EventNPC!A:F,6,FALSE))","v":"玩家"},5455,"雾里怎么会出现这些？看来是阵法在捣鬼……\n前面那是什么..",null,10027,5,"",null,null,{"$f":"IF(R414=\"\",\"\",\"-\"&VLOOKUP(R414,EventConditionConfig!A:C,3,FALSE)&IF(S414=\"\",\"\",CHAR(10)&\"-\"&VLOOKUP(S414,EventConditionConfig!A:C,3,FALSE)))","v":""},"","","","",null,null,"",null,null,"",{"$nulls":4},{"$f":"IF(A414=\"\",\"\",IF(ISNUMBER(Y414),2,IF(A415=\"\",IF(OR(AK414>0,VLOOKUP(O414,EventConfig!A:C,3,FALSE)=4),3,\"\"),1)))","v":1},1002706,null,5455,10027]
[1002706,5456,"小麻雀的幻影","",{"$nulls":5},115,{"$f":"IF(J415=\"\",\"\",VLOOKUP(J415,EventNPC!A:F,6,FALSE))","v":"小麻雀幻影"},5457,"大傻鸟飞那么远，有什么用？像我这样，上蹿下跳就够了！",null,10027,6,"",null,null,{"$f":"IF(R415=\"\",\"\",\"-\"&VLOOKUP(R415,EventConditionConfig!A:C,3,FALSE)&IF(S415=\"\",\"\",CHAR(10)&\"-\"&VLOOKUP(S415,EventConditionConfig!A:C,3,FALSE)))","v":""},1,"1002707;1002711","5458;5459",5458,"你不懂鲲鹏的志向！",null,5459,"或许你说得对，但我要亲眼看看。",{"$f":"A420","v":1002711},"",null,{"$f":"D420","v":""},null,null,{"$f":"IF(A415=\"\",\"\",IF(ISNUMBER(Y415),2,IF(A416=\"\",IF(OR(AK415>0,VLOOKUP(O415,EventConfig!A:C,3,FALSE)=4),3,\"\"),1)))","v":1},1002707,null,5459,10027]
[1002707,5456,"小麻雀的幻影","",{"$nulls":5},115,{"$f":"IF(J416=\"\",\"\",VLOOKUP(J416,EventNPC!A:F,6,FALSE))","v":"小麻雀幻影"},5460,"（歪头嘲笑）志向？那大鸟飞得再高，风一停还不是摔下来！你这傻瓜，也想学它？",null,10027,7,"",null,null,{"$f":"IF(R416=\"\",\"\",\"-\"&VLOOKUP(R416,EventConditionConfig!A:C,3,FALSE)&IF(S416=\"\",\"\",CHAR(10)&\"-\"&VLOOKUP(S416,EventConditionConfig!A:C,3,FALSE)))","v":""},"","","","",null,null,"",null,null,"",{"$nulls":4},{"$f":"IF(A416=\"\",\"\",IF(ISNUMBER(Y416),2,IF(A417=\"\",IF(OR(AK416>0,VLOOKUP(O416,EventConfig!A:C,3,FALSE)=4),3,\"\"),1)))","v":1},1002708,null,5460,10027]
[1002708,5456,"小麻雀的幻影","",{"$nulls":5},100,{"$f":"IF(J417=\"\",\"\",VLOOKUP(J417,EventNPC!A:F,6,FALSE))","v":"玩家"},5461,"鲲鹏的志向不是为了飞高，而是为了追寻心中的自由——你这小雀，永远不懂！",null,10027,8,"",null,null,{"$f":"IF(R417=\"\",\"\",\"-\"&VLOOKUP(R417,EventConditionConfig!A:C,3,FALSE)&IF(S417=\"\",\"\",CHAR(10)&\"-\"&VLOOKUP(S417,EventConditionConfig!A:C,3,FALSE)))","v":""},"","","","",null,null,"",null,null,"",{"$nulls":4},{"$f":"IF(A417=\"\",\"\",IF(ISNUMBER(Y417),2,IF(A418=\"\",IF(OR(AK417>0,VLOOKUP(O417,EventConfig!A:C,3,FALSE)=4),3,\"\"),1)))","v":1},1002709,null,5461,10027]
[1002709,5456,"小麻雀的幻影","",{"$nulls":5},115,{"$f":"IF(J418=\"\",\"\",VLOOKUP(J418,EventNPC!A:F,6,FALSE))","v":"小麻雀幻影"},5462,"到底是你不懂，还是我不懂？",null,10027,9,"",null,null,{"$f":"IF(R418=\"\",\"\",\"-\"&VLOOKUP(R418,EventConditionConfig!A:C,3,FALSE)&IF(S418=\"\",\"\",CHAR(10)&\"-\"&VLOOKUP(S418,EventConditionConfig!A:C,3,FALSE)))","v":""},"","","","",null,null,"",null,null,"",{"$nulls":4},{"$f":"IF(A418=\"\",\"\",IF(ISNUMBER(Y418),2,IF(A419=\"\",IF(OR(AK418>0,VLOOKUP(O418,EventConfig!A:C,3,FALSE)=4),3,\"\"),1)))","v":1},1002710,null,5462,10027]
[1002710,5456,"小麻雀的幻影","",{"$nulls":5},100,{"$f":"IF(J419=\"\",\"\",VLOOKUP(J419,EventNPC!A:F,6,FALSE))","v":"玩家"},5463,"........\n总之，我的路得自己走下去！",null,10027,10,"",null,null,{"$f":"IF(R419=\"\",\"\",\"-\"&VLOOKUP(R419,EventConditionConfig!A:C,3,FALSE)&IF(S419=\"\",\"\",CHAR(10)&\"-\"&VLOOKUP(S419,EventConditionConfig!A:C,3,FALSE)))","v":""},"","","","",null,null,"",null,null,"",{"$nulls":4},{"$f":"IF(A419=\"\",\"\",IF(ISNUMBER(Y419),2,IF(A420=\"\",IF(OR(AK419>0,VLOOKUP(O419,EventConfig!A:C,3,FALSE)=4),3,\"\"),1)))","v":1},1002714,{"$f":"A423","v":1002714},5463,10027]
[1002711,5456,"小麻雀的幻影","",{"$nulls":5},115,{"$f":"IF(J420=\"\",\"\",VLOOKUP(J420,EventNPC!A:F,6,FALSE))","v":"小麻雀幻影"},5464,"（扑腾翅膀开心）“哈哈，终于有人同意我了！那你干脆留下来，我陪你一起玩，何必四处奔波",null,10027,11,"",null,null,{"$f":"IF(R420=\"\",\"\",\"-\"&VLOOKUP(R420,EventConditionConfig!A:C,3,FALSE)&IF(S420=\"\",\"\",CHAR(10)&\"-\"&VLOOKUP(S420,EventConditionConfig!A:C,3,FALSE)))","v":""},"","","","",null,null,"",null,null,"",{"$nulls":4},{"$f":"IF(A420=\"\",\"\",IF(ISNUMBER(Y420),2,IF(A421=\"\",IF(OR(AK420>0,VLOOKUP(O420,EventConfig!A:C,3,FALSE)=4),3,\"\"),1)))","v":1},1002712,null,5464,10027]
[1002712,5456,"小麻雀的幻影","",{"$nulls":5},100,{"$f":"IF(J421=\"\",\"\",VLOOKUP(J421,EventNPC!A:F,6,FALSE))","v":"玩家"},5465,"你的说法有点道理，树上的自在倒也不错……",null,10027,12,"",null,null,{"$f":"IF(R421=\"\",\"\",\"-\"&VLOOKUP(R421,EventConditionConfig!A:C,3,FALSE)&IF(S421=\"\",\"\",CHAR(10)&\"-\"&VLOOKUP(S421,EventConditionConfig!A:C,3,FALSE)))","v":""},"","","","",null,null,"",null,null,"",{"$nulls":4},{"$f":"IF(A421=\"\",\"\",IF(ISNUMBER(Y421),2,IF(A422=\"\",IF(OR(AK421>0,VLOOKUP(O421,EventConfig!A:C,3,FALSE)=4),3,\"\"),1)))","v":1},1002713,null,5465,10027]
[1002713,5456,"小麻雀的幻影","",{"$nulls":5},100,{"$f":"IF(J422=\"\",\"\",VLOOKUP(J422,EventNPC!A:F,6,FALSE))","v":"玩家"},5466,"但我还是想亲眼去看看外面的天地，哪怕有点冒险也无妨！",null,10027,13,"",null,null,{"$f":"IF(R422=\"\",\"\",\"-\"&VLOOKUP(R422,EventConditionConfig!A:C,3,FALSE)&IF(S422=\"\",\"\",CHAR(10)&\"-\"&VLOOKUP(S422,EventConditionConfig!A:C,3,FALSE)))","v":""},"","","","",null,null,"",null,null,"",{"$nulls":4},{"$f":"IF(A422=\"\",\"\",IF(ISNUMBER(Y422),2,IF(A423=\"\",IF(OR(AK422>0,VLOOKUP(O422,EventConfig!A:C,3,FALSE)=4),3,\"\"),1)))","v":1},1002714,null,5466,10027]
[1002714,5456,"小麻雀的幻影","",{"$nulls":5},115,{"$f":"IF(J423=\"\",\"\",VLOOKUP(J423,EventNPC!A:F,6,FALSE))","v":"小麻雀幻影"},5467,"（翅膀扇起雾气）既然你这么顽固，那我就不客气了！",null,10027,14,"",null,null,{"$f":"IF(R423=\"\",\"\",\"-\"&VLOOKUP(R423,EventConditionConfig!A:C,3,FALSE)&IF(S423=\"\",\"\",CHAR(10)&\"-\"&VLOOKUP(S423,EventConditionConfig!A:C,3,FALSE)))","v":""},1,"1002715","5468",5468,"来吧，别再叽叽喳喳了！",null,"",null,null,"",{"$nulls":4},{"$f":"IF(A423=\"\",\"\",IF(ISNUMBER(Y423),2,IF(A424=\"\",IF(OR(AK423>0,VLOOKUP(O423,EventConfig!A:C,3,FALSE)=4),3,\"\"),1)))","v":1},1002715,null,5468,10027]
[1002715,5456,"小麻雀的幻影","",{"$nulls":6},{"$f":"IF(J424=\"\",\"\",VLOOKUP(J424,EventNPC!A:F,6,FALSE))","v":""},5469,"雾气凝聚，小麻雀幻影化作灵光扑来，战斗一触即发。",null,10027,15,"",null,null,{"$f":"IF(R424=\"\",\"\",\"-\"&VLOOKUP(R424,EventConditionConfig!A:C,3,FALSE)&IF(S424=\"\",\"\",CHAR(10)&\"-\"&VLOOKUP(S424,EventConditionConfig!A:C,3,FALSE)))","v":""},2,1010,"","",1010,null,"",null,null,"",{"$nulls":4},{"$f":"IF(A424=\"\",\"\",IF(ISNUMBER(Y424),2,IF(A425=\"\",IF(OR(AK424>0,VLOOKUP(O424,EventConfig!A:C,3,FALSE)=4),3,\"\"),1)))","v":2},"1002716;101",null,5469,10027]
[1002716,5470,"痴道人的幻影","",{"$nulls":5},116,{"$f":"IF(J425=\"\",\"\",VLOOKUP(J425,EventNPC!A:F,6,FALSE))","v":"痴道人幻影"},5471,"苦修一生，却寸步难行……何不就此止步？外面的世界，不过镜花水月罢了",null,10027,16,"",null,null,{"$f":"IF(R425=\"\",\"\",\"-\"&VLOOKUP(R425,EventConditionConfig!A:C,3,FALSE)&IF(S425=\"\",\"\",CHAR(10)&\"-\"&VLOOKUP(S425,EventConditionConfig!A:C,3,FALSE)))","v":""},1,"1002717;1002719","5472;5473",5472,"停步等于自缚，前行才能解脱！",null,5473,"听你师兄说，真正的束缚来自内心，为何不放过自己？",{"$f":"A428","v":1002719},"",null,{"$f":"D428","v":""},null,null,{"$f":"IF(A425=\"\",\"\",IF(ISNUMBER(Y425),2,IF(A426=\"\",IF(OR(AK425>0,VLOOKUP(O425,EventConfig!A:C,3,FALSE)=4),3,\"\"),1)))","v":1},1002717,null,5473,10027]
[1002717,5470,"痴道人的幻影","",{"$nulls":5},116,{"$f":"IF(J426=\"\",\"\",VLOOKUP(J426,EventNPC!A:F,6,FALSE))","v":"痴道人幻影"},5474,"（苦笑摇头）解脱？当年我也以为前行就能解脱，结果越走越累，越累越想停。你又怎知不会步我后尘？",null,10027,17,"",null,null,{"$f":"IF(R426=\"\",\"\",\"-\"&VLOOKUP(R426,EventConditionConfig!A:C,3,FALSE)&IF(S426=\"\",\"\",CHAR(10)&\"-\"&VLOOKUP(S426,EventConditionConfig!A:C,3,FALSE)))","v":""},"","","","",null,null,"",null,null,"",{"$nulls":4},{"$f":"IF(A426=\"\",\"\",IF(ISNUMBER(Y426),2,IF(A427=\"\",IF(OR(AK426>0,VLOOKUP(O426,EventConfig!A:C,3,FALSE)=4),3,\"\"),1)))","v":1},1002718,null,5474,10027]
[1002718,5470,"痴道人的幻影","",{"$nulls":5},100,{"$f":"IF(J427=\"\",\"\",VLOOKUP(J427,EventNPC!A:F,6,FALSE))","v":"玩家"},5475,"如果不走，怎么知道前方不是柳暗花明？\n停在这里，只会让心越来越沉重。",null,10027,18,"",null,null,{"$f":"IF(R427=\"\",\"\",\"-\"&VLOOKUP(R427,EventConditionConfig!A:C,3,FALSE)&IF(S427=\"\",\"\",CHAR(10)&\"-\"&VLOOKUP(S427,EventConditionConfig!A:C,3,FALSE)))","v":""},"","","","",null,null,"",null,null,"",{"$nulls":4},{"$f":"IF(A427=\"\",\"\",IF(ISNUMBER(Y427),2,IF(A428=\"\",IF(OR(AK427>0,VLOOKUP(O427,EventConfig!A:C,3,FALSE)=4),3,\"\"),1)))","v":1},1002721,{"$f":"A430","v":1002721},5475,10027]
[1002719,5470,"痴道人的幻影","",{"$nulls":5},116,{"$f":"IF(J428=\"\",\"\",VLOOKUP(J428,EventNPC!A:F,6,FALSE))","v":"痴道人幻影"},5476,"师兄总是这么说，可这风灵珠和浮岛，是我最后的依靠。\n离开它们，我就能找到出路？",null,10027,19,"",null,null,{"$f":"IF(R428=\"\",\"\",\"-\"&VLOOKUP(R428,EventConditionConfig!A:C,3,FALSE)&IF(S428=\"\",\"\",CHAR(10)&\"-\"&VLOOKUP(S428,EventConditionConfig!A:C,3,FALSE)))","v":""},"","","","",null,null,"",null,null,"",{"$nulls":4},{"$f":"IF(A428=\"\",\"\",IF(ISNUMBER(Y428),2,IF(A429=\"\",IF(OR(AK428>0,VLOOKUP(O428,EventConfig!A:C,3,FALSE)=4),3,\"\"),1)))","v":1},1002720,null,5476,10027]
[1002720,5470,"痴道人的幻影","",{"$nulls":5},100,{"$f":"IF(J429=\"\",\"\",VLOOKUP(J429,EventNPC!A:F,6,FALSE))","v":"玩家"},5477,"这些不过是外物，离开会让你更好——何不试着放下？",null,10027,20,"",null,null,{"$f":"IF(R429=\"\",\"\",\"-\"&VLOOKUP(R429,EventConditionConfig!A:C,3,FALSE)&IF(S429=\"\",\"\",CHAR(10)&\"-\"&VLOOKUP(S429,EventConditionConfig!A:C,3,FALSE)))","v":""},"","","","",null,null,"",null,null,"",{"$nulls":4},{"$f":"IF(A429=\"\",\"\",IF(ISNUMBER(Y429),2,IF(A430=\"\",IF(OR(AK429>0,VLOOKUP(O429,EventConfig!A:C,3,FALSE)=4),3,\"\"),1)))","v":1},1002721,null,5477,10027]
[1002721,5470,"痴道人的幻影","",{"$nulls":5},116,{"$f":"IF(J430=\"\",\"\",VLOOKUP(J430,EventNPC!A:F,6,FALSE))","v":"痴道人幻影"},5478,"（灵力涌动）一派胡言，试试我的风灵之力！",null,10027,21,"",null,null,{"$f":"IF(R430=\"\",\"\",\"-\"&VLOOKUP(R430,EventConditionConfig!A:C,3,FALSE)&IF(S430=\"\",\"\",CHAR(10)&\"-\"&VLOOKUP(S430,EventConditionConfig!A:C,3,FALSE)))","v":""},2,1011,"","",1011,null,"",null,null,"",{"$nulls":4},{"$f":"IF(A430=\"\",\"\",IF(ISNUMBER(Y430),2,IF(A431=\"\",IF(OR(AK430>0,VLOOKUP(O430,EventConfig!A:C,3,FALSE)=4),3,\"\"),1)))","v":2},"1002722;101",null,5478,10027]
[1002722,5479,"樗木之灵的幻影","",{"$nulls":5},117,{"$f":"IF(J431=\"\",\"\",VLOOKUP(J431,EventNPC!A:F,6,FALSE))","v":"樗木之灵幻影"},5480,"无用方能长存，你这忙碌之人，何不学我静立？",null,10027,22,"",null,null,{"$f":"IF(R431=\"\",\"\",\"-\"&VLOOKUP(R431,EventConditionConfig!A:C,3,FALSE)&IF(S431=\"\",\"\",CHAR(10)&\"-\"&VLOOKUP(S431,EventConditionConfig!A:C,3,FALSE)))","v":""},1,"1002723","5481",5481,"你有你的无用之道，但我有我的路。",null,"",null,null,"",{"$nulls":4},{"$f":"IF(A431=\"\",\"\",IF(ISNUMBER(Y431),2,IF(A432=\"\",IF(OR(AK431>0,VLOOKUP(O431,EventConfig!A:C,3,FALSE)=4),3,\"\"),1)))","v":1},1002723,null,5481,10027]
[1002723,5479,"樗木之灵的幻影","",{"$nulls":5},117,{"$f":"IF(J432=\"\",\"\",VLOOKUP(J432,EventNPC!A:F,6,FALSE))","v":"樗木之灵幻影"},5482,"（枝叶轻摇）你的路？忙忙碌碌，砍来伐去，到头来还不是尘土。",null,10027,23,"",null,null,{"$f":"IF(R432=\"\",\"\",\"-\"&VLOOKUP(R432,EventConditionConfig!A:C,3,FALSE)&IF(S432=\"\",\"\",CHAR(10)&\"-\"&VLOOKUP(S432,EventConditionConfig!A:C,3,FALSE)))","v":""},"","","","",null,null,"",null,null,"",{"$nulls":4},{"$f":"IF(A432=\"\",\"\",IF(ISNUMBER(Y432),2,IF(A433=\"\",IF(OR(AK432>0,VLOOKUP(O432,EventConfig!A:C,3,FALSE)=4),3,\"\"),1)))","v":1},1002724,null,5482,10027]
[1002724,5479,"樗木之灵的幻影","",{"$nulls":5},117,{"$f":"IF(J433=\"\",\"\",VLOOKUP(J433,EventNPC!A:F,6,FALSE))","v":"樗木之灵幻影"},5483,"像我这样无用，谁也不会动我。",null,10027,24,"",null,null,{"$f":"IF(R433=\"\",\"\",\"-\"&VLOOKUP(R433,EventConditionConfig!A:C,3,FALSE)&IF(S433=\"\",\"\",CHAR(10)&\"-\"&VLOOKUP(S433,EventConditionConfig!A:C,3,FALSE)))","v":""},"","","","",null,null,"",null,null,"",{"$nulls":4},{"$f":"IF(A433=\"\",\"\",IF(ISNUMBER(Y433),2,IF(A434=\"\",IF(OR(AK433>0,VLOOKUP(O433,EventConfig!A:C,3,FALSE)=4),3,\"\"),1)))","v":1},1002725,null,5483,10027]
[1002725,5479,"樗木之灵的幻影","",{"$nulls":5},100,{"$f":"IF(J434=\"\",\"\",VLOOKUP(J434,EventNPC!A:F,6,FALSE))","v":"玩家"},5484,"无用或许能长存，但千年不动，你又错过了多少风景？",null,10027,25,"",null,null,{"$f":"IF(R434=\"\",\"\",\"-\"&VLOOKUP(R434,EventConditionConfig!A:C,3,FALSE)&IF(S434=\"\",\"\",CHAR(10)&\"-\"&VLOOKUP(S434,EventConditionConfig!A:C,3,FALSE)))","v":""},"","","","",null,null,"",null,null,"",{"$nulls":4},{"$f":"IF(A434=\"\",\"\",IF(ISNUMBER(Y434),2,IF(A435=\"\",IF(OR(AK434>0,VLOOKUP(O434,EventConfig!A:C,3,FALSE)=4),3,\"\"),1)))","v":1},1002726,null,5484,10027]
[1002726,5479,"樗木之灵的幻影","",{"$nulls":5},117,{"$f":"IF(J435=\"\",\"\",VLOOKUP(J435,EventNPC!A:F,6,FALSE))","v":"樗木之灵幻影"},5485,"哈哈，我已活千年，经历山河变迁，见过的风景又岂能是你所能想象的。",null,10027,26,"",null,null,{"$f":"IF(R435=\"\",\"\",\"-\"&VLOOKUP(R435,EventConditionConfig!A:C,3,FALSE)&IF(S435=\"\",\"\",CHAR(10)&\"-\"&VLOOKUP(S435,EventConditionConfig!A:C,3,FALSE)))","v":""},"","","","",null,null,"",null,null,"",{"$nulls":4},{"$f":"IF(A435=\"\",\"\",IF(ISNUMBER(Y435),2,IF(A436=\"\",IF(OR(AK435>0,VLOOKUP(O435,EventConfig!A:C,3,FALSE)=4),3,\"\"),1)))","v":1},1002727,null,5485,10027]
[1002727,5479,"樗木之灵的幻影","",{"$nulls":5},100,{"$f":"IF(J436=\"\",\"\",VLOOKUP(J436,EventNPC!A:F,6,FALSE))","v":"玩家"},5486,"但我想去探索未知——就算短暂，也比千年不动更有趣！",null,10027,27,"",null,null,{"$f":"IF(R436=\"\",\"\",\"-\"&VLOOKUP(R436,EventConditionConfig!A:C,3,FALSE)&IF(S436=\"\",\"\",CHAR(10)&\"-\"&VLOOKUP(S436,EventConditionConfig!A:C,3,FALSE)))","v":""},"","","","",null,null,"",null,null,"",{"$nulls":4},{"$f":"IF(A436=\"\",\"\",IF(ISNUMBER(Y436),2,IF(A437=\"\",IF(OR(AK436>0,VLOOKUP(O436,EventConfig!A:C,3,FALSE)=4),3,\"\"),1)))","v":1},1002728,null,5486,10027]
[1002728,5479,"樗木之灵的幻影","",{"$nulls":5},117,{"$f":"IF(J437=\"\",\"\",VLOOKUP(J437,EventNPC!A:F,6,FALSE))","v":"樗木之灵幻影"},5487,"哎，你真是执迷不悟",null,10027,28,"",null,null,{"$f":"IF(R437=\"\",\"\",\"-\"&VLOOKUP(R437,EventConditionConfig!A:C,3,FALSE)&IF(S437=\"\",\"\",CHAR(10)&\"-\"&VLOOKUP(S437,EventConditionConfig!A:C,3,FALSE)))","v":""},"","","","",null,null,"",null,null,"",{"$nulls":4},{"$f":"IF(A437=\"\",\"\",IF(ISNUMBER(Y437),2,IF(A438=\"\",IF(OR(AK437>0,VLOOKUP(O437,EventConfig!A:C,3,FALSE)=4),3,\"\"),1)))","v":1},1002729,null,5487,10027]
[1002729,5479,"樗木之灵的幻影","",{"$nulls":5},100,{"$f":"IF(J438=\"\",\"\",VLOOKUP(J438,EventNPC!A:F,6,FALSE))","v":"玩家"},5488,"（这些幻影……定然是阵法在作祟。）\n看来不打败它们，就过不去这迷雾了。",null,10027,29,"",null,null,{"$f":"IF(R438=\"\",\"\",\"-\"&VLOOKUP(R438,EventConditionConfig!A:C,3,FALSE)&IF(S438=\"\",\"\",CHAR(10)&\"-\"&VLOOKUP(S438,EventConditionConfig!A:C,3,FALSE)))","v":""},2,1012,"","",1012,null,"",null,null,"",{"$nulls":4},{"$f":"IF(A438=\"\",\"\",IF(ISNUMBER(Y438),2,IF(A439=\"\",IF(OR(AK438>0,VLOOKUP(O438,EventConfig!A:C,3,FALSE)=4),3,\"\"),1)))","v":2},"1002730;101",null,5488,10027]
[1002730,5479,"樗木之灵的幻影","",{"$nulls":5},100,{"$f":"IF(J439=\"\",\"\",VLOOKUP(J439,EventNPC!A:F,6,FALSE))","v":"玩家"},5489,"雾散了……前方山路清晰了许多。",null,10027,30,"",null,null,{"$f":"IF(R439=\"\",\"\",\"-\"&VLOOKUP(R439,EventConditionConfig!A:C,3,FALSE)&IF(S439=\"\",\"\",CHAR(10)&\"-\"&VLOOKUP(S439,EventConditionConfig!A:C,3,FALSE)))","v":""},"","","","",null,null,"",null,null,"",{"$nulls":4},{"$f":"IF(A439=\"\",\"\",IF(ISNUMBER(Y439),2,IF(A440=\"\",IF(OR(AK439>0,VLOOKUP(O439,EventConfig!A:C,3,FALSE)=4),3,\"\"),1)))","v":1},1002731,null,5489,10027]
[1002731,5479,"樗木之灵的幻影","",{"$nulls":5},100,{"$f":"IF(J440=\"\",\"\",VLOOKUP(J440,EventNPC!A:F,6,FALSE))","v":"玩家"},5490,"小麻雀嘲笑远飞无用，只求树间的小乐；",null,10027,31,"",null,null,{"$f":"IF(R440=\"\",\"\",\"-\"&VLOOKUP(R440,EventConditionConfig!A:C,3,FALSE)&IF(S440=\"\",\"\",CHAR(10)&\"-\"&VLOOKUP(S440,EventConditionConfig!A:C,3,FALSE)))","v":""},"","","","",null,null,"",null,null,"",{"$nulls":4},{"$f":"IF(A440=\"\",\"\",IF(ISNUMBER(Y440),2,IF(A441=\"\",IF(OR(AK440>0,VLOOKUP(O440,EventConfig!A:C,3,FALSE)=4),3,\"\"),1)))","v":1},1002732,null,5490,10027]
[1002732,5479,"樗木之灵的幻影","",{"$nulls":5},100,{"$f":"IF(J441=\"\",\"\",VLOOKUP(J441,EventNPC!A:F,6,FALSE))","v":"玩家"},5491,"疯道人叹息苦修难进，劝我守住当下；",null,10027,32,"",null,null,{"$f":"IF(R441=\"\",\"\",\"-\"&VLOOKUP(R441,EventConditionConfig!A:C,3,FALSE)&IF(S441=\"\",\"\",CHAR(10)&\"-\"&VLOOKUP(S441,EventConditionConfig!A:C,3,FALSE)))","v":""},"","","","",null,null,"",null,null,"",{"$nulls":4},{"$f":"IF(A441=\"\",\"\",IF(ISNUMBER(Y441),2,IF(A442=\"\",IF(OR(AK441>0,VLOOKUP(O441,EventConfig!A:C,3,FALSE)=4),3,\"\"),1)))","v":1},1002733,null,5491,10027]
[1002733,5479,"樗木之灵的幻影","",{"$nulls":5},100,{"$f":"IF(J442=\"\",\"\",VLOOKUP(J442,EventNPC!A:F,6,FALSE))","v":"玩家"},5492,"樗木之灵诉说无用才能长存，忙碌总归尘土。",null,10027,33,"",null,null,{"$f":"IF(R442=\"\",\"\",\"-\"&VLOOKUP(R442,EventConditionConfig!A:C,3,FALSE)&IF(S442=\"\",\"\",CHAR(10)&\"-\"&VLOOKUP(S442,EventConditionConfig!A:C,3,FALSE)))","v":""},"","","","",null,null,"",null,null,"",{"$nulls":4},{"$f":"IF(A442=\"\",\"\",IF(ISNUMBER(Y442),2,IF(A443=\"\",IF(OR(AK442>0,VLOOKUP(O442,EventConfig!A:C,3,FALSE)=4),3,\"\"),1)))","v":1},1002734,null,5492,10027]
[1002734,5479,"樗木之灵的幻影","",{"$nulls":5},100,{"$f":"IF(J443=\"\",\"\",VLOOKUP(J443,EventNPC!A:F,6,FALSE))","v":"玩家"},5493,"听着都有些道理，却又说不清哪里不对，令我心神不宁！!",null,10027,34,"",null,null,{"$f":"IF(R443=\"\",\"\",\"-\"&VLOOKUP(R443,EventConditionConfig!A:C,3,FALSE)&IF(S443=\"\",\"\",CHAR(10)&\"-\"&VLOOKUP(S443,EventConditionConfig!A:C,3,FALSE)))","v":""},"","","","",null,null,"",null,null,"",{"$nulls":4},{"$f":"IF(A443=\"\",\"\",IF(ISNUMBER(Y443),2,IF(A444=\"\",IF(OR(AK443>0,VLOOKUP(O443,EventConfig!A:C,3,FALSE)=4),3,\"\"),1)))","v":1},1002735,null,5493,10027]
[1002735,5479,"樗木之灵的幻影","",{"$nulls":5},100,{"$f":"IF(J444=\"\",\"\",VLOOKUP(J444,EventNPC!A:F,6,FALSE))","v":"玩家"},5494,"我的修仙之路，到底在何方啊？",null,10027,35,"",null,null,{"$f":"IF(R444=\"\",\"\",\"-\"&VLOOKUP(R444,EventConditionConfig!A:C,3,FALSE)&IF(S444=\"\",\"\",CHAR(10)&\"-\"&VLOOKUP(S444,EventConditionConfig!A:C,3,FALSE)))","v":""},"","","","",null,null,"",null,null,"",{"$nulls":4},{"$f":"IF(A444=\"\",\"\",IF(ISNUMBER(Y444),2,IF(A445=\"\",IF(OR(AK444>0,VLOOKUP(O444,EventConfig!A:C,3,FALSE)=4),3,\"\"),1)))","v":1},1002736,null,5494,10027]
[1002736,5479,"樗木之灵的幻影","",{"$nulls":6},{"$f":"IF(J445=\"\",\"\",VLOOKUP(J445,EventNPC!A:F,6,FALSE))","v":""},"",null,null,10027,36,"32",32,null,{"$f":"IF(R445=\"\",\"\",\"-\"&VLOOKUP(R445,EventConditionConfig!A:C,3,FALSE)&IF(S445=\"\",\"\",CHAR(10)&\"-\"&VLOOKUP(S445,EventConditionConfig!A:C,3,FALSE)))","v":"-达到境界：化神-前期"},{"$f":"IF(Y445=\"\",\"\",1)","v":""},"","","",null,null,"",null,null,"",{"$nulls":4},{"$f":"IF(A445=\"\",\"\",IF(ISNUMBER(Y445),2,IF(A446=\"\",IF(OR(AK445>0,VLOOKUP(O445,EventConfig!A:C,3,FALSE)=4),3,\"\"),1)))","v":3},10028,null,5494,10027]
[null,"",null,"",{"$nulls":6},{"$f":"IF(J446=\"\",\"\",VLOOKUP(J446,EventNPC!A:F,6,FALSE))","v":""},"",null,null,null,"",{"$nulls":5},"","","",null,null,"",null,null,"",{"$nulls":4},{"$f":"IF(A446=\"\",\"\",IF(ISNUMBER(Y446),2,IF(A447=\"\",IF(OR(AK446>0,VLOOKUP(O446,EventConfig!A:C,3,FALSE)=4),3,\"\"),1)))","v":""},"",null,"",0]
[{"$f":"O447*100+P447","v":1002801},5495,"神识探索的奥秘","",{"$nulls":6},{"$f":"IF(J447=\"\",\"\",VLOOKUP(J447,EventNPC!A:F,6,FALSE))","v":""},"",null,null,{"$f":"IF(O446=\"\",O444+1,O446)","v":10028},1,{"$f":"_xlfn.TEXTJOIN(\";\",1,R447:S447)","v":"27"},27,null,{"$f":"IF(R447=\"\",\"\",\"-\"&VLOOKUP(R447,EventConditionConfig!A:C,3,FALSE)&IF(S447=\"\",\"\",CHAR(10)&\"-\"&VLOOKUP(S447,EventConditionConfig!A:C,3,FALSE)))","v":"-收集并饮用甘露"},{"$f":"IF(Y447=\"\",\"\",IF(ISTEXT(Y447),1,2))","v":""},"","","",null,null,"",null,null,"",null,null,1003,-1000,{"$f":"IF(A447=\"\",\"\",IF(ISNUMBER(Y447),2,IF(A448=\"\",IF(OR(AK447>0,VLOOKUP(O447,EventConfig!A:C,3,FALSE)=4),3,\"\"),1)))","v":3},10029,null,5495,10028]
[null,"",null,"",{"$nulls":6},{"$f":"IF(J448=\"\",\"\",VLOOKUP(J448,EventNPC!A:F,6,FALSE))","v":""},"",null,null,null,"",{"$nulls":5},"","","",null,null,"",null,null,"",{"$nulls":4},{"$f":"IF(A448=\"\",\"\",IF(ISNUMBER(Y448),2,IF(A449=\"\",IF(OR(AK448>0,VLOOKUP(O448,EventConfig!A:C,3,FALSE)=4),3,\"\"),1)))","v":""},"",null,"",0]
[{"$f":"O449*100+P449","v":1002901},5496,"与神仙对话","",{"$nulls":6},{"$f":"IF(J449=\"\",\"\",VLOOKUP(J449,EventNPC!A:F,6,FALSE))","v":""},5497,"你终于登顶藐姑射山。",null,10029,1,{"$f":"_xlfn.TEXTJOIN(\";\",1,R449:S449)","v":""},null,null,{"$f":"IF(R449=\"\",\"\",\"-\"&VLOOKUP(R449,EventConditionConfig!A:C,3,FALSE)&IF(S449=\"\",\"\",CHAR(10)&\"-\"&VLOOKUP(S449,EventConditionConfig!A:C,3,FALSE)))","v":""},{"$f":"IF(Y449=\"\",\"\",IF(ISTEXT(Y449),1,2))","v":""},"","","",null,null,"",null,null,"",{"$nulls":4},{"$f":"IF(A449=\"\",\"\",IF(ISNUMBER(Y449),2,IF(A450=\"\",IF(OR(AK449>0,VLOOKUP(O449,EventConfig!A:C,3,FALSE)=4),3,\"\"),1)))","v":1},1002902,null,5497,10029]
[1002902,5496,"与神仙对话","",{"$nulls":6},{"$f":"IF(J450=\"\",\"\",VLOOKUP(J450,EventNPC!A:F,6,FALSE))","v":""},5498,"峰顶云海翻涌，一位神人独立于虚空：皮肤如冰雪，体态柔美，乘云气，御飞龙，周身无尘世之气。",null,10029,2,"",null,null,{"$f":"IF(R450=\"\",\"\",\"-\"&VLOOKUP(R450,EventConditionConfig!A:C,3,FALSE)&IF(S450=\"\",\"\",CHAR(10)&\"-\"&VLOOKUP(S450,EventConditionConfig!A:C,3,FALSE)))","v":""},"","","","",null,null,"",null,null,"",{"$nulls":4},{"$f":"IF(A450=\"\",\"\",IF(ISNUMBER(Y450),2,IF(A451=\"\",IF(OR(AK450>0,VLOOKUP(O450,EventConfig!A:C,3,FALSE)=4),3,\"\"),1)))","v":1},1002903,null,5498,10029]
[1002903,5496,"与神仙对话","",{"$nulls":6},{"$f":"IF(J451=\"\",\"\",VLOOKUP(J451,EventNPC!A:F,6,FALSE))","v":""},5499,"她不言不语，却似洞察万物。与尧帝描述相同，你在她面前，自觉渺小。",null,10029,3,"",null,null,{"$f":"IF(R451=\"\",\"\",\"-\"&VLOOKUP(R451,EventConditionConfig!A:C,3,FALSE)&IF(S451=\"\",\"\",CHAR(10)&\"-\"&VLOOKUP(S451,EventConditionConfig!A:C,3,FALSE)))","v":""},"","","","",null,null,"",null,null,"",{"$nulls":4},{"$f":"IF(A451=\"\",\"\",IF(ISNUMBER(Y451),2,IF(A452=\"\",IF(OR(AK451>0,VLOOKUP(O451,EventConfig!A:C,3,FALSE)=4),3,\"\"),1)))","v":1},1002904,null,5499,10029]
[1002904,5496,"与神仙对话","",{"$nulls":5},100,{"$f":"IF(J452=\"\",\"\",VLOOKUP(J452,EventNPC!A:F,6,FALSE))","v":"玩家"},5500,"晚辈游历至此，求见神人，望赐教“逍遥”之道。",null,10029,4,"",null,null,{"$f":"IF(R452=\"\",\"\",\"-\"&VLOOKUP(R452,EventConditionConfig!A:C,3,FALSE)&IF(S452=\"\",\"\",CHAR(10)&\"-\"&VLOOKUP(S452,EventConditionConfig!A:C,3,FALSE)))","v":""},"","","","",null,null,"",null,null,"",{"$nulls":4},{"$f":"IF(A452=\"\",\"\",IF(ISNUMBER(Y452),2,IF(A453=\"\",IF(OR(AK452>0,VLOOKUP(O452,EventConfig!A:C,3,FALSE)=4),3,\"\"),1)))","v":1},1002905,null,5500,10029]
[1002905,5496,"与神仙对话","",{"$nulls":5},100,{"$f":"IF(J453=\"\",\"\",VLOOKUP(J453,EventNPC!A:F,6,FALSE))","v":"玩家"},{"$f":"IF(M453=\"\",\"\",MAX(AL452,AL451,B453,D453)+1)","v":5501},"冲虚真人指引我寻七道心境，此山可是其中一处？",null,10029,5,"",null,null,{"$f":"IF(R453=\"\",\"\",\"-\"&VLOOKUP(R453,EventConditionConfig!A:C,3,FALSE)&IF(S453=\"\",\"\",CHAR(10)&\"-\"&VLOOKUP(S453,EventConditionConfig!A:C,3,FALSE)))","v":""},"","","","",null,null,"",null,null,"",{"$nulls":4},{"$f":"IF(A453=\"\",\"\",IF(ISNUMBER(Y453),2,IF(A454=\"\",IF(OR(AK453>0,VLOOKUP(O453,EventConfig!A:C,3,FALSE)=4),3,\"\"),1)))","v":1},1002906,null,5501,10029]
[1002906,5496,"与神仙对话",{"$f":"IF(E454=\"\",\"\",IF(E454=E453,D453,MAX(AL453,AL452,B454)+1))","v":""},{"$nulls":5},118,{"$f":"IF(J454=\"\",\"\",VLOOKUP(J454,EventNPC!A:F,6,FALSE))","v":"神人"},5502,"（声音如风过林）“逍遥？何为逍遥？”",null,10029,6,"",null,null,{"$f":"IF(R454=\"\",\"\",\"-\"&VLOOKUP(R454,EventConditionConfig!A:C,3,FALSE)&IF(S454=\"\",\"\",CHAR(10)&\"-\"&VLOOKUP(S454,EventConditionConfig!A:C,3,FALSE)))","v":""},1,"1002907;1002908","5503;5504",5503,"如鲲鹏般鹏飞九万里。",{"$f":"A455","v":1002907},5504,"如许由般放下天下，隐于山林。",{"$f":"A456","v":1002908},"",null,{"$f":"D456","v":""},null,null,{"$f":"IF(A454=\"\",\"\",IF(ISNUMBER(Y454),2,IF(A455=\"\",IF(OR(AK454>0,VLOOKUP(O454,EventConfig!A:C,3,FALSE)=4),3,\"\"),1)))","v":1},1002907,null,5504,10029]
[1002907,5496,"与神仙对话","",{"$nulls":5},118,{"$f":"IF(J455=\"\",\"\",VLOOKUP(J455,EventNPC!A:F,6,FALSE))","v":"神人"},5505,"鲲鹏待风方起，才能飞九万里。",null,10029,7,"",null,null,{"$f":"IF(R455=\"\",\"\",\"-\"&VLOOKUP(R455,EventConditionConfig!A:C,3,FALSE)&IF(S455=\"\",\"\",CHAR(10)&\"-\"&VLOOKUP(S455,EventConditionConfig!A:C,3,FALSE)))","v":""},1,"1002909;1002910","5506;5507",5506,"如樗木般无用，长存千年。",{"$f":"A457","v":1002909},5507,"如麻雀般，知足常乐",{"$f":"A458","v":1002910},"",null,{"$f":"D458","v":""},null,null,{"$f":"IF(A455=\"\",\"\",IF(ISNUMBER(Y455),2,IF(A456=\"\",IF(OR(AK455>0,VLOOKUP(O455,EventConfig!A:C,3,FALSE)=4),3,\"\"),1)))","v":1},1002908,null,5507,10029]
[1002908,5496,"与神仙对话","",{"$nulls":5},118,{"$f":"IF(J456=\"\",\"\",VLOOKUP(J456,EventNPC!A:F,6,FALSE))","v":"神人"},5508,"许由避世却仍有心扰。",null,10029,8,"",null,null,{"$f":"IF(R456=\"\",\"\",\"-\"&VLOOKUP(R456,EventConditionConfig!A:C,3,FALSE)&IF(S456=\"\",\"\",CHAR(10)&\"-\"&VLOOKUP(S456,EventConditionConfig!A:C,3,FALSE)))","v":""},1,"1002909;1002910","5509;5510",5509,"如樗木般无用，长存千年。",{"$f":"A457","v":1002909},5510,"如麻雀般，知足常乐",{"$f":"A458","v":1002910},"",null,{"$f":"D458","v":""},null,null,{"$f":"IF(A456=\"\",\"\",IF(ISNUMBER(Y456),2,IF(A457=\"\",IF(OR(AK456>0,VLOOKUP(O456,EventConfig!A:C,3,FALSE)=4),3,\"\"),1)))","v":1},1002909,null,{"$f":"IF(A456=\"\",\"\",MAX(B456,D456,L456,X456,AA456,AL455,AL454,AD456))","v":5510},{"$f":"O456","v":10029}]
[1002909,5496,"与神仙对话","",{"$nulls":5},118,{"$f":"IF(J457=\"\",\"\",VLOOKUP(J457,EventNPC!A:F,6,FALSE))","v":"神人"},5511,"樗木不动岂知四海？",null,10029,9,"",null,null,{"$f":"IF(R457=\"\",\"\",\"-\"&VLOOKUP(R457,EventConditionConfig!A:C,3,FALSE)&IF(S457=\"\",\"\",CHAR(10)&\"-\"&VLOOKUP(S457,EventConditionConfig!A:C,3,FALSE)))","v":""},"","","","",null,null,"",null,null,"",{"$nulls":4},{"$f":"IF(A457=\"\",\"\",IF(ISNUMBER(Y457),2,IF(A458=\"\",IF(OR(AK457>0,VLOOKUP(O457,EventConfig!A:C,3,FALSE)=4),3,\"\"),1)))","v":1},1002911,{"$f":"A459","v":1002911},5511,10029]
[1002910,5496,"与神仙对话","",{"$nulls":5},118,{"$f":"IF(J458=\"\",\"\",VLOOKUP(J458,EventNPC!A:F,6,FALSE))","v":"神人"},5512,"麻雀虽长乐，却嘲笑大鹏。",null,10029,10,"",null,null,{"$f":"IF(R458=\"\",\"\",\"-\"&VLOOKUP(R458,EventConditionConfig!A:C,3,FALSE)&IF(S458=\"\",\"\",CHAR(10)&\"-\"&VLOOKUP(S458,EventConditionConfig!A:C,3,FALSE)))","v":""},"","","","",null,null,"",null,null,"",{"$nulls":4},{"$f":"IF(A458=\"\",\"\",IF(ISNUMBER(Y458),2,IF(A459=\"\",IF(OR(AK458>0,VLOOKUP(O458,EventConfig!A:C,3,FALSE)=4),3,\"\"),1)))","v":1},1002911,{"$f":"A459","v":1002911},5512,10029]
[1002911,5496,"与神仙对话","",{"$nulls":5},100,{"$f":"IF(J459=\"\",\"\",VLOOKUP(J459,EventNPC!A:F,6,FALSE))","v":"玩家"},5513,"（苦笑）请恕晚辈愚钝，无法理解何为逍遥，只觉心烦意乱。",null,10029,{"$f":"IF(O459=\"\",\"\",IF(O459=O458,P458+1,1))","v":11},"",null,null,{"$f":"IF(R459=\"\",\"\",\"-\"&VLOOKUP(R459,EventConditionConfig!A:C,3,FALSE)&IF(S459=\"\",\"\",CHAR(10)&\"-\"&VLOOKUP(S459,EventConditionConfig!A:C,3,FALSE)))","v":""},"","","","",null,null,"",null,null,"",{"$nulls":4},{"$f":"IF(A459=\"\",\"\",IF(ISNUMBER(Y459),2,IF(A460=\"\",IF(OR(AK459>0,VLOOKUP(O459,EventConfig!A:C,3,FALSE)=4),3,\"\"),1)))","v":1},1002912,null,5513,10029]
[1002912,5496,"与神仙对话","",{"$nulls":5},118,{"$f":"IF(J460=\"\",\"\",VLOOKUP(J460,EventNPC!A:F,6,FALSE))","v":"神人"},5514,"真正的逍遥是：乘天地之正，御六气之辩。",null,10029,12,"",null,null,{"$f":"IF(R460=\"\",\"\",\"-\"&VLOOKUP(R460,EventConditionConfig!A:C,3,FALSE)&IF(S460=\"\",\"\",CHAR(10)&\"-\"&VLOOKUP(S460,EventConditionConfig!A:C,3,FALSE)))","v":""},"","",{"$f":"_xlfn.TEXTJOIN(\";\",1,X460,AA460,AD460)","v":""},{"$f":"IF(OR(ISNUMBER(Y460),Y460=\"\"),\"\",MAX(AL459,AL457,B460,D460,L460)+1)","v":""},null,null,{"$f":"IF(OR(ISNUMBER(AB460),AB460=\"\"),\"\",X460+1)","v":""},null,null,"",{"$nulls":4},{"$f":"IF(A460=\"\",\"\",IF(ISNUMBER(Y460),2,IF(A461=\"\",IF(OR(AK460>0,VLOOKUP(O460,EventConfig!A:C,3,FALSE)=4),3,\"\"),1)))","v":1},1002913,null,5514,10029]
[1002913,{"$f":"IF(C461=\"\",\"\",IF(C461=C460,B460,MAX(AL460,AL459)+1))","v":5496},"与神仙对话","",{"$nulls":5},100,{"$f":"IF(J461=\"\",\"\",VLOOKUP(J461,EventNPC!A:F,6,FALSE))","v":"玩家"},5515,"什么是“乘天地之正，御六气之辩”？",null,10029,13,"",null,null,{"$f":"IF(R461=\"\",\"\",\"-\"&VLOOKUP(R461,EventConditionConfig!A:C,3,FALSE)&IF(S461=\"\",\"\",CHAR(10)&\"-\"&VLOOKUP(S461,EventConditionConfig!A:C,3,FALSE)))","v":""},"","","","",null,null,"",null,null,{"$f":"IF(OR(ISNUMBER(AE461),AE461=\"\"),\"\",AA461+1)","v":""},{"$nulls":4},{"$f":"IF(A461=\"\",\"\",IF(ISNUMBER(Y461),2,IF(A462=\"\",IF(OR(AK461>0,VLOOKUP(O461,EventConfig!A:C,3,FALSE)=4),3,\"\"),1)))","v":1},1002914,null,5515,10029]
[1002914,5496,"与神仙对话","",{"$nulls":5},118,{"$f":"IF(J462=\"\",\"\",VLOOKUP(J462,EventNPC!A:F,6,FALSE))","v":"神人"},5516,"便是不依附外物，不执着内心。",null,10029,14,"",null,null,{"$f":"IF(R462=\"\",\"\",\"-\"&VLOOKUP(R462,EventConditionConfig!A:C,3,FALSE)&IF(S462=\"\",\"\",CHAR(10)&\"-\"&VLOOKUP(S462,EventConditionConfig!A:C,3,FALSE)))","v":""},"",{"$f":"IF(U462=1,_xlfn.TEXTJOIN(\";\",1,IF(Z462=\"\",A462+1,Z462),IF(AND(AA462<>\"\",AC462=\"\"),A462+1,AC462),IF(AND(AD462<>\"\",AF462=\"\"),A462+1,AF462)),IF(U462=2,Y462,\"\"))","v":""},"","",null,null,"",null,null,"",{"$nulls":4},{"$f":"IF(A462=\"\",\"\",IF(ISNUMBER(Y462),2,IF(A463=\"\",IF(OR(AK462>0,VLOOKUP(O462,EventConfig!A:C,3,FALSE)=4),3,\"\"),1)))","v":1},{"$f":"IF(AI462=\"\",\"\",CHOOSE(AI462,IF(AK462=\"\",A462+1,AK462),CONCATENATE(IF(AK462=\"\",A462+1,AK462),\";101\"),IF(AK462=\"\",O462+1,AK462)))","v":1002915},null,5516,10029]
[1002915,5496,"与神仙对话","",{"$nulls":5},118,{"$f":"IF(J463=\"\",\"\",VLOOKUP(J463,EventNPC!A:F,6,FALSE))","v":"神人"},5517,"能顺应天地的自然规律，驾驭风云的变化。",null,10029,15,"",null,null,{"$f":"IF(R463=\"\",\"\",\"-\"&VLOOKUP(R463,EventConditionConfig!A:C,3,FALSE)&IF(S463=\"\",\"\",CHAR(10)&\"-\"&VLOOKUP(S463,EventConditionConfig!A:C,3,FALSE)))","v":""},"","","","",null,null,"",null,null,"",{"$nulls":4},{"$f":"IF(A463=\"\",\"\",IF(ISNUMBER(Y463),2,IF(A464=\"\",IF(OR(AK463>0,VLOOKUP(O463,EventConfig!A:C,3,FALSE)=4),3,\"\"),1)))","v":1},1002916,null,5517,10029]
[1002916,5496,"与神仙对话","",{"$nulls":5},118,{"$f":"IF(J464=\"\",\"\",VLOOKUP(J464,EventNPC!A:F,6,FALSE))","v":"神人"},5518,"这样的人，心无挂碍，来去如风，逍遥自在。",null,10029,16,"",null,null,{"$f":"IF(R464=\"\",\"\",\"-\"&VLOOKUP(R464,EventConditionConfig!A:C,3,FALSE)&IF(S464=\"\",\"\",CHAR(10)&\"-\"&VLOOKUP(S464,EventConditionConfig!A:C,3,FALSE)))","v":""},"","","","",null,null,"",null,null,"",{"$nulls":4},{"$f":"IF(A464=\"\",\"\",IF(ISNUMBER(Y464),2,IF(A465=\"\",IF(OR(AK464>0,VLOOKUP(O464,EventConfig!A:C,3,FALSE)=4),3,\"\"),1)))","v":1},1002917,null,5518,10029]
[1002917,5496,"与神仙对话","",{"$nulls":5},100,{"$f":"IF(J465=\"\",\"\",VLOOKUP(J465,EventNPC!A:F,6,FALSE))","v":"玩家"},5519,"这境界听来高远，请神人指点！",null,10029,17,"",null,null,{"$f":"IF(R465=\"\",\"\",\"-\"&VLOOKUP(R465,EventConditionConfig!A:C,3,FALSE)&IF(S465=\"\",\"\",CHAR(10)&\"-\"&VLOOKUP(S465,EventConditionConfig!A:C,3,FALSE)))","v":""},"","","","",null,null,"",null,null,"",{"$nulls":4},{"$f":"IF(A465=\"\",\"\",IF(ISNUMBER(Y465),2,IF(A466=\"\",IF(OR(AK465>0,VLOOKUP(O465,EventConfig!A:C,3,FALSE)=4),3,\"\"),1)))","v":1},1002918,null,5519,10029]
[1002918,5496,"与神仙对话","",{"$nulls":5},118,{"$f":"IF(J466=\"\",\"\",VLOOKUP(J466,EventNPC!A:F,6,FALSE))","v":"神人"},5520,"你已历诸多事，却仍有心魔缠身。看清自己，方能破之。\n（神人一挥手，云海中现出一面灵镜，映出你的身影）",null,10029,18,"",null,null,{"$f":"IF(R466=\"\",\"\",\"-\"&VLOOKUP(R466,EventConditionConfig!A:C,3,FALSE)&IF(S466=\"\",\"\",CHAR(10)&\"-\"&VLOOKUP(S466,EventConditionConfig!A:C,3,FALSE)))","v":""},"","","","",null,null,"",null,null,"",{"$nulls":4},{"$f":"IF(A466=\"\",\"\",IF(ISNUMBER(Y466),2,IF(A467=\"\",IF(OR(AK466>0,VLOOKUP(O466,EventConfig!A:C,3,FALSE)=4),3,\"\"),1)))","v":1},1002919,null,5520,10029]
[1002919,5496,"与神仙对话","",{"$nulls":5},118,{"$f":"IF(J467=\"\",\"\",VLOOKUP(J467,EventNPC!A:F,6,FALSE))","v":"神人"},5521,"此镜照心。击败它，便知一二。",null,10029,19,"",null,null,{"$f":"IF(R467=\"\",\"\",\"-\"&VLOOKUP(R467,EventConditionConfig!A:C,3,FALSE)&IF(S467=\"\",\"\",CHAR(10)&\"-\"&VLOOKUP(S467,EventConditionConfig!A:C,3,FALSE)))","v":""},"","","","",null,null,"",null,null,"",{"$nulls":4},{"$f":"IF(A467=\"\",\"\",IF(ISNUMBER(Y467),2,IF(A468=\"\",IF(OR(AK467>0,VLOOKUP(O467,EventConfig!A:C,3,FALSE)=4),3,\"\"),1)))","v":1},1002920,null,5521,10029]
[1002920,5496,"与神仙对话","",{"$nulls":6},{"$f":"IF(J468=\"\",\"\",VLOOKUP(J468,EventNPC!A:F,6,FALSE))","v":""},"",null,null,10029,20,"33",33,null,{"$f":"IF(R468=\"\",\"\",\"-\"&VLOOKUP(R468,EventConditionConfig!A:C,3,FALSE)&IF(S468=\"\",\"\",CHAR(10)&\"-\"&VLOOKUP(S468,EventConditionConfig!A:C,3,FALSE)))","v":"-达到境界：化神-中期"},{"$f":"IF(Y468=\"\",\"\",1)","v":""},"","","",null,null,"",null,null,"",{"$nulls":4},{"$f":"IF(A468=\"\",\"\",IF(ISNUMBER(Y468),2,IF(A469=\"\",IF(OR(AK468>0,VLOOKUP(O468,EventConfig!A:C,3,FALSE)=4),3,\"\"),1)))","v":3},10030,null,5521,10029]
[null,"",null,"",{"$nulls":6},{"$f":"IF(J469=\"\",\"\",VLOOKUP(J469,EventNPC!A:F,6,FALSE))","v":""},"",null,null,null,"",{"$nulls":5},"","","",null,null,"",null,null,"",{"$nulls":4},{"$f":"IF(A469=\"\",\"\",IF(ISNUMBER(Y469),2,IF(A470=\"\",IF(OR(AK469>0,VLOOKUP(O469,EventConfig!A:C,3,FALSE)=4),3,\"\"),1)))","v":""},"",null,"",0]
[{"$f":"O470*100+P470","v":1003001},"",null,5522,"击败心魔",{"$nulls":5},{"$f":"IF(J470=\"\",\"\",VLOOKUP(J470,EventNPC!A:F,6,FALSE))","v":""},"",null,null,{"$f":"IF(O469=\"\",O467+1,O469)","v":10030},1,{"$f":"_xlfn.TEXTJOIN(\";\",1,R470:S470)","v":""},null,null,{"$f":"IF(R470=\"\",\"\",\"-\"&VLOOKUP(R470,EventConditionConfig!A:C,3,FALSE)&IF(S470=\"\",\"\",CHAR(10)&\"-\"&VLOOKUP(S470,EventConditionConfig!A:C,3,FALSE)))","v":""},{"$f":"IF(Y470=\"\",\"\",IF(ISTEXT(Y470),1,2))","v":2},1013,"","",1013,null,"",null,null,"",{"$nulls":4},{"$f":"IF(A470=\"\",\"\",IF(ISNUMBER(Y470),2,IF(A471=\"\",IF(OR(AK470>0,VLOOKUP(O470,EventConfig!A:C,3,FALSE)=4),3,\"\"),1)))","v":2},"1003002;101",null,5522,10030]
[1003002,5523,"心魔消散","",{"$nulls":5},100,{"$f":"IF(J471=\"\",\"\",VLOOKUP(J471,EventNPC!A:F,6,FALSE))","v":"玩家"},5524,"心魔已破……那些过去的疑问，原来皆是“有所等待”的枷锁。",null,10030,2,"28",28,null,{"$f":"IF(R471=\"\",\"\",\"-\"&VLOOKUP(R471,EventConditionConfig!A:C,3,FALSE)&IF(S471=\"\",\"\",CHAR(10)&\"-\"&VLOOKUP(S471,EventConditionConfig!A:C,3,FALSE)))","v":"-击败心魔"},"","","","",null,null,"",null,null,"",{"$nulls":4},{"$f":"IF(A471=\"\",\"\",IF(ISNUMBER(Y471),2,IF(A472=\"\",IF(OR(AK471>0,VLOOKUP(O471,EventConfig!A:C,3,FALSE)=4),3,\"\"),1)))","v":1},1003003,null,5524,10030]
[1003003,5523,"心魔消散","",{"$nulls":5},100,{"$f":"IF(J472=\"\",\"\",VLOOKUP(J472,EventNPC!A:F,6,FALSE))","v":"玩家"},5525,"鲲鹏待风，我待顿悟。",null,10030,3,"",null,null,{"$f":"IF(R472=\"\",\"\",\"-\"&VLOOKUP(R472,EventConditionConfig!A:C,3,FALSE)&IF(S472=\"\",\"\",CHAR(10)&\"-\"&VLOOKUP(S472,EventConditionConfig!A:C,3,FALSE)))","v":""},"","","","",null,null,"",null,null,"",{"$nulls":4},{"$f":"IF(A472=\"\",\"\",IF(ISNUMBER(Y472),2,IF(A473=\"\",IF(OR(AK472>0,VLOOKUP(O472,EventConfig!A:C,3,FALSE)=4),3,\"\"),1)))","v":1},1003004,null,5525,10030]
[1003004,5523,"心魔消散","",{"$nulls":5},100,{"$f":"IF(J473=\"\",\"\",VLOOKUP(J473,EventNPC!A:F,6,FALSE))","v":"玩家"},5526,"不依附外物，不执着内心，就是真正的逍遥！",null,10030,4,"",null,null,{"$f":"IF(R473=\"\",\"\",\"-\"&VLOOKUP(R473,EventConditionConfig!A:C,3,FALSE)&IF(S473=\"\",\"\",CHAR(10)&\"-\"&VLOOKUP(S473,EventConditionConfig!A:C,3,FALSE)))","v":""},"","","","",null,null,"",null,null,"",{"$nulls":4},{"$f":"IF(A473=\"\",\"\",IF(ISNUMBER(Y473),2,IF(A474=\"\",IF(OR(AK473>0,VLOOKUP(O473,EventConfig!A:C,3,FALSE)=4),3,\"\"),1)))","v":1},1003005,null,5526,10030]
[1003005,5523,"心魔消散","",{"$nulls":5},118,{"$f":"IF(J474=\"\",\"\",VLOOKUP(J474,EventNPC!A:F,6,FALSE))","v":"神人"},5527,"不错。你已领悟第一道心境：逍遥自在。",null,10030,5,"",null,null,{"$f":"IF(R474=\"\",\"\",\"-\"&VLOOKUP(R474,EventConditionConfig!A:C,3,FALSE)&IF(S474=\"\",\"\",CHAR(10)&\"-\"&VLOOKUP(S474,EventConditionConfig!A:C,3,FALSE)))","v":""},"","","","",null,null,"",null,null,"",{"$nulls":4},{"$f":"IF(A474=\"\",\"\",IF(ISNUMBER(Y474),2,IF(A475=\"\",IF(OR(AK474>0,VLOOKUP(O474,EventConfig!A:C,3,FALSE)=4),3,\"\"),1)))","v":1},1003006,null,5527,10030]
[1003006,5523,"心魔消散","",{"$nulls":5},118,{"$f":"IF(J475=\"\",\"\",VLOOKUP(J475,EventNPC!A:F,6,FALSE))","v":"神人"},5528,"心无挂碍，来去如风，你的风灵珠也能发挥更大威力。（乘龙而去）",null,{"$f":"IF(O474=\"\",O473+1,O474)","v":10030},6,"",null,null,{"$f":"IF(R475=\"\",\"\",\"-\"&VLOOKUP(R475,EventConditionConfig!A:C,3,FALSE)&IF(S475=\"\",\"\",CHAR(10)&\"-\"&VLOOKUP(S475,EventConditionConfig!A:C,3,FALSE)))","v":""},"","","","",null,null,"",null,null,"",{"$nulls":4},{"$f":"IF(A475=\"\",\"\",IF(ISNUMBER(Y475),2,IF(A476=\"\",IF(OR(AK475>0,VLOOKUP(O475,EventConfig!A:C,3,FALSE)=4),3,\"\"),1)))","v":1},1003007,null,5528,10030]
[1003007,5523,"心魔消散","",{"$nulls":5},100,{"$f":"IF(J476=\"\",\"\",VLOOKUP(J476,EventNPC!A:F,6,FALSE))","v":"玩家"},5529,"多谢前辈指点！",null,10030,7,"",null,null,{"$f":"IF(R476=\"\",\"\",\"-\"&VLOOKUP(R476,EventConditionConfig!A:C,3,FALSE)&IF(S476=\"\",\"\",CHAR(10)&\"-\"&VLOOKUP(S476,EventConditionConfig!A:C,3,FALSE)))","v":""},"","","","",null,null,"",null,null,"",{"$nulls":4},{"$f":"IF(A476=\"\",\"\",IF(ISNUMBER(Y476),2,IF(A477=\"\",IF(OR(AK476>0,VLOOKUP(O476,EventConfig!A:C,3,FALSE)=4),3,\"\"),1)))","v":1},1003008,null,5529,10030]
[1003008,5523,"心魔消散","",{"$nulls":6},{"$f":"IF(J477=\"\",\"\",VLOOKUP(J477,EventNPC!A:F,6,FALSE))","v":""},"",null,null,10030,8,"34",34,null,{"$f":"IF(R477=\"\",\"\",\"-\"&VLOOKUP(R477,EventConditionConfig!A:C,3,FALSE)&IF(S477=\"\",\"\",CHAR(10)&\"-\"&VLOOKUP(S477,EventConditionConfig!A:C,3,FALSE)))","v":"-达到境界：化神-后期"},{"$f":"IF(Y477=\"\",\"\",1)","v":""},"","","",null,null,"",null,null,"",{"$nulls":4},{"$f":"IF(A477=\"\",\"\",IF(ISNUMBER(Y477),2,IF(A478=\"\",IF(OR(AK477>0,VLOOKUP(O477,EventConfig!A:C,3,FALSE)=4),3,\"\"),1)))","v":3},10031,null,5529,10030]
[null,"",null,"",{"$nulls":6},{"$f":"IF(J478=\"\",\"\",VLOOKUP(J478,EventNPC!A:F,6,FALSE))","v":""},"",null,null,null,"",{"$nulls":5},"","","",null,null,"",null,null,"",{"$nulls":4},{"$f":"IF(A478=\"\",\"\",IF(ISNUMBER(Y478),2,IF(A479=\"\",IF(OR(AK478>0,VLOOKUP(O478,EventConfig!A:C,3,FALSE)=4),3,\"\"),1)))","v":""},"",null,"",0]
[{"$f":"O479*100+P479","v":1003101},5530,"击败北海妖兽","",{"$nulls":6},{"$f":"IF(J479=\"\",\"\",VLOOKUP(J479,EventNPC!A:F,6,FALSE))","v":""},5531,"你重返北海深处。四处狂风呼啸，你却随风而行，好不自在。",null,{"$f":"IF(O478=\"\",O476+1,O478)","v":10031},1,{"$f":"_xlfn.TEXTJOIN(\";\",1,R479:S479)","v":""},null,null,{"$f":"IF(R479=\"\",\"\",\"-\"&VLOOKUP(R479,EventConditionConfig!A:C,3,FALSE)&IF(S479=\"\",\"\",CHAR(10)&\"-\"&VLOOKUP(S479,EventConditionConfig!A:C,3,FALSE)))","v":""},{"$f":"IF(Y479=\"\",\"\",IF(ISTEXT(Y479),1,2))","v":""},"","","",null,null,"",null,null,"",{"$nulls":4},{"$f":"IF(A479=\"\",\"\",IF(ISNUMBER(Y479),2,IF(A480=\"\",IF(OR(AK479>0,VLOOKUP(O479,EventConfig!A:C,3,FALSE)=4),3,\"\"),1)))","v":1},1003102,null,5531,10031]
[1003102,5530,"击败北海妖兽","",{"$nulls":6},{"$f":"IF(J480=\"\",\"\",VLOOKUP(J480,EventNPC!A:F,6,FALSE))","v":""},5532,"北海妖兽狂暴异常，挡住去路。",null,10031,2,"",null,null,{"$f":"IF(R480=\"\",\"\",\"-\"&VLOOKUP(R480,EventConditionConfig!A:C,3,FALSE)&IF(S480=\"\",\"\",CHAR(10)&\"-\"&VLOOKUP(S480,EventConditionConfig!A:C,3,FALSE)))","v":""},"","","","",null,null,"",null,null,"",{"$nulls":4},{"$f":"IF(A480=\"\",\"\",IF(ISNUMBER(Y480),2,IF(A481=\"\",IF(OR(AK480>0,VLOOKUP(O480,EventConfig!A:C,3,FALSE)=4),3,\"\"),1)))","v":1},1003103,null,5532,10031]
[1003103,5530,"击败北海妖兽","",{"$nulls":5},100,{"$f":"IF(J481=\"\",\"\",VLOOKUP(J481,EventNPC!A:F,6,FALSE))","v":"玩家"},5533,"这些妖兽……看来必须先清扫一番，才能见到鲲鹏。",null,10031,3,"",null,null,{"$f":"IF(R481=\"\",\"\",\"-\"&VLOOKUP(R481,EventConditionConfig!A:C,3,FALSE)&IF(S481=\"\",\"\",CHAR(10)&\"-\"&VLOOKUP(S481,EventConditionConfig!A:C,3,FALSE)))","v":""},2,1014,"","",1014,null,"",null,null,"",{"$nulls":4},{"$f":"IF(A481=\"\",\"\",IF(ISNUMBER(Y481),2,IF(A482=\"\",IF(OR(AK481>0,VLOOKUP(O481,EventConfig!A:C,3,FALSE)=4),3,\"\"),1)))","v":2},"1003104;101",null,5533,10031]
[1003104,5534,"鲲鹏对话","",{"$nulls":5},100,{"$f":"IF(J482=\"\",\"\",VLOOKUP(J482,EventNPC!A:F,6,FALSE))","v":"玩家"},5535,"妖兽退散了……鲲鹏前辈，我回来了。",null,10031,4,"29",29,null,{"$f":"IF(R482=\"\",\"\",\"-\"&VLOOKUP(R482,EventConditionConfig!A:C,3,FALSE)&IF(S482=\"\",\"\",CHAR(10)&\"-\"&VLOOKUP(S482,EventConditionConfig!A:C,3,FALSE)))","v":"-击败北海妖兽"},"","","","",null,null,"",null,null,"",{"$nulls":4},{"$f":"IF(A482=\"\",\"\",IF(ISNUMBER(Y482),2,IF(A483=\"\",IF(OR(AK482>0,VLOOKUP(O482,EventConfig!A:C,3,FALSE)=4),3,\"\"),1)))","v":1},1003105,null,5535,10031]
[1003105,5534,"鲲鹏对话","",{"$nulls":5},119,{"$f":"IF(J483=\"\",\"\",VLOOKUP(J483,EventNPC!A:F,6,FALSE))","v":"鲲鹏"},5536,"（低沉声，从水底传出）“北海虽广，却无足够之风。我待九万里之飞，已千年。小子，你又来作甚？”",null,10031,5,"",null,null,{"$f":"IF(R483=\"\",\"\",\"-\"&VLOOKUP(R483,EventConditionConfig!A:C,3,FALSE)&IF(S483=\"\",\"\",CHAR(10)&\"-\"&VLOOKUP(S483,EventConditionConfig!A:C,3,FALSE)))","v":""},"","","","",null,null,"",null,null,"",{"$nulls":4},{"$f":"IF(A483=\"\",\"\",IF(ISNUMBER(Y483),2,IF(A484=\"\",IF(OR(AK483>0,VLOOKUP(O483,EventConfig!A:C,3,FALSE)=4),3,\"\"),1)))","v":1},1003106,null,5536,10031]
[1003106,5534,"鲲鹏对话","",{"$nulls":5},100,{"$f":"IF(J484=\"\",\"\",VLOOKUP(J484,EventNPC!A:F,6,FALSE))","v":"玩家"},5537,"我历鲲鹏之志、尧让于许、无用之树、仙山神人，终悟“逍遥自在”。",null,10031,6,"",null,null,{"$f":"IF(R484=\"\",\"\",\"-\"&VLOOKUP(R484,EventConditionConfig!A:C,3,FALSE)&IF(S484=\"\",\"\",CHAR(10)&\"-\"&VLOOKUP(S484,EventConditionConfig!A:C,3,FALSE)))","v":""},"","","","",null,null,"",null,null,"",{"$nulls":4},{"$f":"IF(A484=\"\",\"\",IF(ISNUMBER(Y484),2,IF(A485=\"\",IF(OR(AK484>0,VLOOKUP(O484,EventConfig!A:C,3,FALSE)=4),3,\"\"),1)))","v":1},1003107,null,5537,10031]
[1003107,5534,"鲲鹏对话","",{"$nulls":5},100,{"$f":"IF(J485=\"\",\"\",VLOOKUP(J485,EventNPC!A:F,6,FALSE))","v":"玩家"},5538,"我已能完整驱动风灵珠，或许能助前辈一臂之力，召唤那九万里之风。",null,10031,7,"",null,null,{"$f":"IF(R485=\"\",\"\",\"-\"&VLOOKUP(R485,EventConditionConfig!A:C,3,FALSE)&IF(S485=\"\",\"\",CHAR(10)&\"-\"&VLOOKUP(S485,EventConditionConfig!A:C,3,FALSE)))","v":""},"","","","",null,null,"",null,null,"",{"$nulls":4},{"$f":"IF(A485=\"\",\"\",IF(ISNUMBER(Y485),2,IF(A486=\"\",IF(OR(AK485>0,VLOOKUP(O485,EventConfig!A:C,3,FALSE)=4),3,\"\"),1)))","v":1},1003108,null,5538,10031]
[1003108,5534,"鲲鹏对话","",{"$nulls":5},119,{"$f":"IF(J486=\"\",\"\",VLOOKUP(J486,EventNPC!A:F,6,FALSE))","v":"鲲鹏"},5539,"此话当真？你小子竟有此机缘，与神仙相遇？",null,10031,8,"",null,null,{"$f":"IF(R486=\"\",\"\",\"-\"&VLOOKUP(R486,EventConditionConfig!A:C,3,FALSE)&IF(S486=\"\",\"\",CHAR(10)&\"-\"&VLOOKUP(S486,EventConditionConfig!A:C,3,FALSE)))","v":""},"","","","",null,null,"",null,null,"",{"$nulls":4},{"$f":"IF(A486=\"\",\"\",IF(ISNUMBER(Y486),2,IF(A487=\"\",IF(OR(AK486>0,VLOOKUP(O486,EventConfig!A:C,3,FALSE)=4),3,\"\"),1)))","v":1},1003109,null,5539,10031]
[1003109,5534,"鲲鹏对话","",{"$nulls":5},100,{"$f":"IF(J487=\"\",\"\",VLOOKUP(J487,EventNPC!A:F,6,FALSE))","v":"玩家"},5540,"前辈请看.",null,10031,9,"",null,null,{"$f":"IF(R487=\"\",\"\",\"-\"&VLOOKUP(R487,EventConditionConfig!A:C,3,FALSE)&IF(S487=\"\",\"\",CHAR(10)&\"-\"&VLOOKUP(S487,EventConditionConfig!A:C,3,FALSE)))","v":""},1,"1003110","5541",5541,"使用风灵珠召唤龙卷风",null,"",null,null,"",{"$nulls":4},{"$f":"IF(A487=\"\",\"\",IF(ISNUMBER(Y487),2,IF(A488=\"\",IF(OR(AK487>0,VLOOKUP(O487,EventConfig!A:C,3,FALSE)=4),3,\"\"),1)))","v":1},1003110,null,5541,10031]
[1003110,5534,"鲲鹏对话","",{"$nulls":5},100,{"$f":"IF(J488=\"\",\"\",VLOOKUP(J488,EventNPC!A:F,6,FALSE))","v":"玩家"},5542,"你高举风灵珠，灵力涌动，周身风起云涌。",null,10031,10,"",null,null,{"$f":"IF(R488=\"\",\"\",\"-\"&VLOOKUP(R488,EventConditionConfig!A:C,3,FALSE)&IF(S488=\"\",\"\",CHAR(10)&\"-\"&VLOOKUP(S488,EventConditionConfig!A:C,3,FALSE)))","v":""},"","","","",null,null,"",null,null,"",{"$nulls":4},{"$f":"IF(A488=\"\",\"\",IF(ISNUMBER(Y488),2,IF(A489=\"\",IF(OR(AK488>0,VLOOKUP(O488,EventConfig!A:C,3,FALSE)=4),3,\"\"),1)))","v":1},1003111,null,5542,10031]
[1003111,5534,"鲲鹏对话","",{"$nulls":5},100,{"$f":"IF(J489=\"\",\"\",VLOOKUP(J489,EventNPC!A:F,6,FALSE))","v":"玩家"},5543,"珠中蕴藏的风灵之力如决堤般释放，北海上空风云变幻，狂风汇聚成巨大龙卷，直冲天际。",null,10031,11,"",null,null,{"$f":"IF(R489=\"\",\"\",\"-\"&VLOOKUP(R489,EventConditionConfig!A:C,3,FALSE)&IF(S489=\"\",\"\",CHAR(10)&\"-\"&VLOOKUP(S489,EventConditionConfig!A:C,3,FALSE)))","v":""},"","","","",null,null,"",null,null,"",{"$nulls":4},{"$f":"IF(A489=\"\",\"\",IF(ISNUMBER(Y489),2,IF(A490=\"\",IF(OR(AK489>0,VLOOKUP(O489,EventConfig!A:C,3,FALSE)=4),3,\"\"),1)))","v":1},1003112,null,5543,10031]
[1003112,5534,"鲲鹏对话","",{"$nulls":5},100,{"$f":"IF(J490=\"\",\"\",VLOOKUP(J490,EventNPC!A:F,6,FALSE))","v":"玩家"},5544,"水面翻腾，巨鲲破浪而出，化作大鹏，翼若垂天之云，乘风而上，扶摇直上九万里！",null,10031,12,"",null,null,{"$f":"IF(R490=\"\",\"\",\"-\"&VLOOKUP(R490,EventConditionConfig!A:C,3,FALSE)&IF(S490=\"\",\"\",CHAR(10)&\"-\"&VLOOKUP(S490,EventConditionConfig!A:C,3,FALSE)))","v":""},"","","","",null,null,"",null,null,"",{"$nulls":4},{"$f":"IF(A490=\"\",\"\",IF(ISNUMBER(Y490),2,IF(A491=\"\",IF(OR(AK490>0,VLOOKUP(O490,EventConfig!A:C,3,FALSE)=4),3,\"\"),1)))","v":1},1003113,null,5544,10031]
[1003113,5534,"鲲鹏对话","",{"$nulls":5},100,{"$f":"IF(J491=\"\",\"\",VLOOKUP(J491,EventNPC!A:F,6,FALSE))","v":"玩家"},5545,"北海为之震动，云海为之开道，此刻，水天一色，无边无际。",null,10031,13,"",null,null,{"$f":"IF(R491=\"\",\"\",\"-\"&VLOOKUP(R491,EventConditionConfig!A:C,3,FALSE)&IF(S491=\"\",\"\",CHAR(10)&\"-\"&VLOOKUP(S491,EventConditionConfig!A:C,3,FALSE)))","v":""},"","","","",null,null,"",null,null,"",{"$nulls":4},{"$f":"IF(A491=\"\",\"\",IF(ISNUMBER(Y491),2,IF(A492=\"\",IF(OR(AK491>0,VLOOKUP(O491,EventConfig!A:C,3,FALSE)=4),3,\"\"),1)))","v":1},1003114,null,5545,10031]
[1003114,5534,"鲲鹏对话","",{"$nulls":5},155,{"$f":"IF(J492=\"\",\"\",VLOOKUP(J492,EventNPC!A:F,6,FALSE))","v":"鲲鹏"},5546,"（振翅长啸，声音回荡天际）小子，多谢！这正是我要的大风。南海天池见，若有缘，再论大道。",null,10031,14,"",null,null,{"$f":"IF(R492=\"\",\"\",\"-\"&VLOOKUP(R492,EventConditionConfig!A:C,3,FALSE)&IF(S492=\"\",\"\",CHAR(10)&\"-\"&VLOOKUP(S492,EventConditionConfig!A:C,3,FALSE)))","v":""},"","","","",null,null,"",null,null,"",{"$nulls":4},{"$f":"IF(A492=\"\",\"\",IF(ISNUMBER(Y492),2,IF(A493=\"\",IF(OR(AK492>0,VLOOKUP(O492,EventConfig!A:C,3,FALSE)=4),3,\"\"),1)))","v":1},1003115,null,5546,10031]
[1003115,5534,"鲲鹏对话","",{"$nulls":5},100,{"$f":"IF(J493=\"\",\"\",VLOOKUP(J493,EventNPC!A:F,6,FALSE))","v":"玩家"},5547,"前辈，一路顺风！",null,10031,15,"",null,null,{"$f":"IF(R493=\"\",\"\",\"-\"&VLOOKUP(R493,EventConditionConfig!A:C,3,FALSE)&IF(S493=\"\",\"\",CHAR(10)&\"-\"&VLOOKUP(S493,EventConditionConfig!A:C,3,FALSE)))","v":""},"","","","",null,null,"",null,null,"",{"$nulls":4},{"$f":"IF(A493=\"\",\"\",IF(ISNUMBER(Y493),2,IF(A494=\"\",IF(OR(AK493>0,VLOOKUP(O493,EventConfig!A:C,3,FALSE)=4),3,\"\"),1)))","v":1},1003116,null,5547,10031]
[1003116,5534,"鲲鹏对话","",{"$nulls":6},{"$f":"IF(J494=\"\",\"\",VLOOKUP(J494,EventNPC!A:F,6,FALSE))","v":""},"",null,null,10031,16,"35",35,null,{"$f":"IF(R494=\"\",\"\",\"-\"&VLOOKUP(R494,EventConditionConfig!A:C,3,FALSE)&IF(S494=\"\",\"\",CHAR(10)&\"-\"&VLOOKUP(S494,EventConditionConfig!A:C,3,FALSE)))","v":"-达到境界：炼虚-前期"},{"$f":"IF(Y494=\"\",\"\",1)","v":""},"","","",null,null,"",null,null,"",{"$nulls":4},{"$f":"IF(A494=\"\",\"\",IF(ISNUMBER(Y494),2,IF(A495=\"\",IF(OR(AK494>0,VLOOKUP(O494,EventConfig!A:C,3,FALSE)=4),3,\"\"),1)))","v":3},10032,null,5547,10031]
[null,"",null,"",{"$nulls":6},{"$f":"IF(J495=\"\",\"\",VLOOKUP(J495,EventNPC!A:F,6,FALSE))","v":""},"",null,null,null,"",{"$nulls":5},"","","",null,null,"",null,null,"",{"$nulls":4},{"$f":"IF(A495=\"\",\"\",IF(ISNUMBER(Y495),2,IF(A496=\"\",IF(OR(AK495>0,VLOOKUP(O495,EventConfig!A:C,3,FALSE)=4),3,\"\"),1)))","v":""},"",null,"",0]
[{"$f":"O496*100+P496","v":3000301},5548,"击杀妖兽","",{"$nulls":6},{"$f":"IF(J496=\"\",\"\",VLOOKUP(J496,EventNPC!A:F,6,FALSE))","v":""},"",null,null,30003,1,{"$f":"_xlfn.TEXTJOIN(\";\",1,R496:S496)","v":""},null,null,{"$f":"IF(R496=\"\",\"\",\"-\"&VLOOKUP(R496,EventConditionConfig!A:C,3,FALSE)&IF(S496=\"\",\"\",CHAR(10)&\"-\"&VLOOKUP(S496,EventConditionConfig!A:C,3,FALSE)))","v":""},{"$f":"IF(Y496=\"\",\"\",IF(ISTEXT(Y496),1,2))","v":2},1004,"","",1004,null,"",null,null,"",{"$nulls":4},{"$f":"IF(A496=\"\",\"\",IF(ISNUMBER(Y496),2,IF(A497=\"\",IF(OR(AK496>0,VLOOKUP(O496,EventConfig!A:C,3,FALSE)=4),3,\"\"),1)))","v":2},"3000302;101",null,5548,30003]
[null,"",null,"",{"$nulls":6},{"$f":"IF(J497=\"\",\"\",VLOOKUP(J497,EventNPC!A:F,6,FALSE))","v":""},"",null,null,null,"",{"$nulls":5},"","","",null,null,"",null,null,"",{"$nulls":4},{"$f":"IF(A497=\"\",\"\",IF(ISNUMBER(Y497),2,IF(A498=\"\",IF(OR(AK497>0,VLOOKUP(O497,EventConfig!A:C,3,FALSE)=4),3,\"\"),1)))","v":""},"",null,"",0]
[{"$f":"O498*100+P498","v":3000401},5549,"击败后山小妖","",{"$nulls":6},{"$f":"IF(J498=\"\",\"\",VLOOKUP(J498,EventNPC!A:F,6,FALSE))","v":""},"",null,null,30004,1,{"$f":"_xlfn.TEXTJOIN(\";\",1,R498:S498)","v":""},null,null,{"$f":"IF(R498=\"\",\"\",\"-\"&VLOOKUP(R498,EventConditionConfig!A:C,3,FALSE)&IF(S498=\"\",\"\",CHAR(10)&\"-\"&VLOOKUP(S498,EventConditionConfig!A:C,3,FALSE)))","v":""},{"$f":"IF(Y498=\"\",\"\",IF(ISTEXT(Y498),1,2))","v":2},1004,"","",1004,null,"",null,null,"",{"$nulls":4},{"$f":"IF(A498=\"\",\"\",IF(ISNUMBER(Y498),2,IF(A499=\"\",IF(OR(AK498>0,VLOOKUP(O498,EventConfig!A:C,3,FALSE)=4),3,\"\"),1)))","v":2},"3000402;101",null,5549,30004]
[null,"",null,"",{"$nulls":6},{"$f":"IF(J499=\"\",\"\",VLOOKUP(J499,EventNPC!A:F,6,FALSE))","v":""},"",null,null,null,"",{"$nulls":5},"","","",null,null,"",null,null,"",{"$nulls":4},{"$f":"IF(A499=\"\",\"\",IF(ISNUMBER(Y499),2,IF(A500=\"\",IF(OR(AK499>0,VLOOKUP(O499,EventConfig!A:C,3,FALSE)=4),3,\"\"),1)))","v":""},"",null,"",0]
[{"$f":"O500*100+P500","v":3000501},5550,"击败夜袭的妖兽","",{"$nulls":6},{"$f":"IF(J500=\"\",\"\",VLOOKUP(J500,EventNPC!A:F,6,FALSE))","v":""},"",null,null,30005,1,{"$f":"_xlfn.TEXTJOIN(\";\",1,R500:S500)","v":""},null,null,{"$f":"IF(R500=\"\",\"\",\"-\"&VLOOKUP(R500,EventConditionConfig!A:C,3,FALSE)&IF(S500=\"\",\"\",CHAR(10)&\"-\"&VLOOKUP(S500,EventConditionConfig!A:C,3,FALSE)))","v":""},{"$f":"IF(Y500=\"\",\"\",IF(ISTEXT(Y500),1,2))","v":2},1005,"","",1005,null,"",null,null,"",{"$nulls":4},{"$f":"IF(A500=\"\",\"\",IF(ISNUMBER(Y500),2,IF(A501=\"\",IF(OR(AK500>0,VLOOKUP(O500,EventConfig!A:C,3,FALSE)=4),3,\"\"),1)))","v":2},"3000502;101",null,5550,30005]
[null,"",null,"",{"$nulls":6},{"$f":"IF(J501=\"\",\"\",VLOOKUP(J501,EventNPC!A:F,6,FALSE))","v":""},"",null,null,null,"",{"$nulls":5},"","","",null,null,"",null,null,"",{"$nulls":4},{"$f":"IF(A501=\"\",\"\",IF(ISNUMBER(Y501),2,IF(A502=\"\",IF(OR(AK501>0,VLOOKUP(O501,EventConfig!A:C,3,FALSE)=4),3,\"\"),1)))","v":""},"",null,"",0]
[{"$f":"O502*100+P502","v":3000601},5551,"击败峰顶的妖王","",{"$nulls":6},{"$f":"IF(J502=\"\",\"\",VLOOKUP(J502,EventNPC!A:F,6,FALSE))","v":""},"",null,null,30006,1,{"$f":"_xlfn.TEXTJOIN(\";\",1,R502:S502)","v":""},null,null,{"$f":"IF(R502=\"\",\"\",\"-\"&VLOOKUP(R502,EventConditionConfig!A:C,3,FALSE)&IF(S502=\"\",\"\",CHAR(10)&\"-\"&VLOOKUP(S502,EventConditionConfig!A:C,3,FALSE)))","v":""},{"$f":"IF(Y502=\"\",\"\",IF(ISTEXT(Y502),1,2))","v":2},1006,"","",1006,null,"",null,null,"",{"$nulls":4},{"$f":"IF(A502=\"\",\"\",IF(ISNUMBER(Y502),2,IF(A503=\"\",IF(OR(AK502>0,VLOOKUP(O502,EventConfig!A:C,3,FALSE)=4),3,\"\"),1)))","v":2},"3000602;101",null,5551,30006]
[null,"",null,"",{"$nulls":6},{"$f":"IF(J503=\"\",\"\",VLOOKUP(J503,EventNPC!A:F,6,FALSE))","v":""},"",null,null,null,"",{"$nulls":5},"","","",null,null,"",null,null,"",{"$nulls":4},{"$f":"IF(A503=\"\",\"\",IF(ISNUMBER(Y503),2,IF(A504=\"\",IF(OR(AK503>0,VLOOKUP(O503,EventConfig!A:C,3,FALSE)=4),3,\"\"),1)))","v":""},"",null,"",0]
[{"$f":"O504*100+P504","v":3000701},5552,"击败仙山的阵眼妖兽","",{"$nulls":6},{"$f":"IF(J504=\"\",\"\",VLOOKUP(J504,EventNPC!A:F,6,FALSE))","v":""},"",null,null,30007,1,{"$f":"_xlfn.TEXTJOIN(\";\",1,R504:S504)","v":""},null,null,{"$f":"IF(R504=\"\",\"\",\"-\"&VLOOKUP(R504,EventConditionConfig!A:C,3,FALSE)&IF(S504=\"\",\"\",CHAR(10)&\"-\"&VLOOKUP(S504,EventConditionConfig!A:C,3,FALSE)))","v":""},{"$f":"IF(Y504=\"\",\"\",IF(ISTEXT(Y504),1,2))","v":2},1007,"","",1007,null,"",null,null,"",{"$nulls":4},{"$f":"IF(A504=\"\",\"\",IF(ISNUMBER(Y504),2,IF(A505=\"\",IF(OR(AK504>0,VLOOKUP(O504,EventConfig!A:C,3,FALSE)=4),3,\"\"),1)))","v":2},"3000702;101",null,5552,30007]
[null,"",null,"",{"$nulls":6},{"$f":"IF(J505=\"\",\"\",VLOOKUP(J505,EventNPC!A:F,6,FALSE))","v":""},"",null,null,null,"",{"$nulls":5},"","","",null,null,"",null,null,"",{"$nulls":4},{"$f":"IF(A505=\"\",\"\",IF(ISNUMBER(Y505),2,IF(A506=\"\",IF(OR(AK505>0,VLOOKUP(O505,EventConfig!A:C,3,FALSE)=4),3,\"\"),1)))","v":""},"",null,"",0]
[{"$f":"O506*100+P506","v":3000801},5553,"击杀灵兽获得天肥","",{"$nulls":6},{"$f":"IF(J506=\"\",\"\",VLOOKUP(J506,EventNPC!A:F,6,FALSE))","v":""},"",null,null,30008,1,{"$f":"_xlfn.TEXTJOIN(\";\",1,R506:S506)","v":""},null,null,{"$f":"IF(R506=\"\",\"\",\"-\"&VLOOKUP(R506,EventConditionConfig!A:C,3,FALSE)&IF(S506=\"\",\"\",CHAR(10)&\"-\"&VLOOKUP(S506,EventConditionConfig!A:C,3,FALSE)))","v":""},{"$f":"IF(Y506=\"\",\"\",IF(ISTEXT(Y506),1,2))","v":2},1008,"","",1008,null,"",null,null,"",{"$nulls":4},{"$f":"IF(A506=\"\",\"\",IF(ISNUMBER(Y506),2,IF(A507=\"\",IF(OR(AK506>0,VLOOKUP(O506,EventConfig!A:C,3,FALSE)=4),3,\"\"),1)))","v":2},"3000802;101",null,5553,30008]
[null,"",null,"",{"$nulls":6},{"$f":"IF(J507=\"\",\"\",VLOOKUP(J507,EventNPC!A:F,6,FALSE))","v":""},"",null,null,null,"",{"$nulls":5},"","","",null,null,"",null,null,"",{"$nulls":4},{"$f":"IF(A507=\"\",\"\",IF(ISNUMBER(Y507),2,IF(A508=\"\",IF(OR(AK507>0,VLOOKUP(O507,EventConfig!A:C,3,FALSE)=4),3,\"\"),1)))","v":""},"",null,"",0]
[{"$f":"O508*100+P508","v":3001101},5554,"获得灵草种子","",{"$nulls":6},{"$f":"IF(J508=\"\",\"\",VLOOKUP(J508,EventNPC!A:F,6,FALSE))","v":""},5555,"你来到后山的草园中，按照许由的要求，摘了几株灵草种子。",null,30011,1,{"$f":"_xlfn.TEXTJOIN(\";\",1,R508:S508)","v":""},null,null,{"$f":"IF(R508=\"\",\"\",\"-\"&VLOOKUP(R508,EventConditionConfig!A:C,3,FALSE)&IF(S508=\"\",\"\",CHAR(10)&\"-\"&VLOOKUP(S508,EventConditionConfig!A:C,3,FALSE)))","v":""},{"$f":"IF(Y508=\"\",\"\",IF(ISTEXT(Y508),1,2))","v":1},"3001102","5556",5556,"将种子收好",null,"",null,null,"",{"$nulls":4},{"$f":"IF(A508=\"\",\"\",IF(ISNUMBER(Y508),2,IF(A509=\"\",IF(OR(AK508>0,VLOOKUP(O508,EventConfig!A:C,3,FALSE)=4),3,\"\"),1)))","v":1},3001102,null,5556,30011]
[{"$f":"O509*100+P509","v":3001102},5554,"获得灵草种子","",{"$nulls":6},{"$f":"IF(J509=\"\",\"\",VLOOKUP(J509,EventNPC!A:F,6,FALSE))","v":""},"",null,null,30011,2,{"$f":"_xlfn.TEXTJOIN(\";\",1,R509:S509)","v":""},null,null,{"$f":"IF(R509=\"\",\"\",\"-\"&VLOOKUP(R509,EventConditionConfig!A:C,3,FALSE)&IF(S509=\"\",\"\",CHAR(10)&\"-\"&VLOOKUP(S509,EventConditionConfig!A:C,3,FALSE)))","v":""},{"$f":"IF(Y509=\"\",\"\",IF(ISTEXT(Y509),1,2))","v":""},"","","",null,null,"",null,null,"",{"$nulls":4},{"$f":"IF(A509=\"\",\"\",IF(ISNUMBER(Y509),2,IF(A510=\"\",IF(OR(AK509>0,VLOOKUP(O509,EventConfig!A:C,3,FALSE)=4),3,\"\"),1)))","v":""},"",null,5556,30011]
[null,"",null,"",{"$nulls":6},{"$f":"IF(J510=\"\",\"\",VLOOKUP(J510,EventNPC!A:F,6,FALSE))","v":""},"",null,null,null,"",{"$nulls":5},"","","",null,null,"",null,null,"",{"$nulls":4},{"$f":"IF(A510=\"\",\"\",IF(ISNUMBER(Y510),2,IF(A511=\"\",IF(OR(AK510>0,VLOOKUP(O510,EventConfig!A:C,3,FALSE)=4),3,\"\"),1)))","v":""},"",null,"",0]
[{"$f":"O511*100+P511","v":101101},5557,"神识探索至一处山洞之中，似乎别有洞天","",{"$nulls":6},{"$f":"IF(J511=\"\",\"\",VLOOKUP(J511,EventNPC!A:F,6,FALSE))","v":""},5558,"前往山洞之中收集药材",null,1011,1,{"$f":"_xlfn.TEXTJOIN(\";\",1,R511:S511)","v":""},null,null,{"$f":"IF(R511=\"\",\"\",\"-\"&VLOOKUP(R511,EventConditionConfig!A:C,3,FALSE)&IF(S511=\"\",\"\",CHAR(10)&\"-\"&VLOOKUP(S511,EventConditionConfig!A:C,3,FALSE)))","v":""},{"$f":"IF(Y511=\"\",\"\",1)","v":""},"","","",null,null,"",null,null,"",{"$nulls":4},{"$f":"IF(A511=\"\",\"\",IF(ISNUMBER(Y511),2,IF(A512=\"\",IF(OR(AK511>0,VLOOKUP(O511,EventConfig!A:C,3,FALSE)=4),3,\"\"),1)))","v":{"$error":"#N/A"}},{"$error":"#N/A"},null,5558,1011]
[null,"",null,"",{"$nulls":6},{"$f":"IF(J512=\"\",\"\",VLOOKUP(J512,EventNPC!A:F,6,FALSE))","v":""},"",null,null,null,"",{"$nulls":5},"","","",null,null,"",null,null,"",{"$nulls":4},{"$f":"IF(A512=\"\",\"\",IF(ISNUMBER(Y512),2,IF(A513=\"\",IF(OR(AK512>0,VLOOKUP(O512,EventConfig!A:C,3,FALSE)=4),3,\"\"),1)))","v":""},"",null,"",0]
[{"$f":"O513*100+P513","v":500101},5559,"受疯道人所托，追查《御风化影诀》的下落",5560,"与疯道人对话(0/1)",{"$nulls":4},103,{"$f":"IF(J513=\"\",\"\",VLOOKUP(J513,EventNPC!A:F,6,FALSE))","v":"疯道人"},5561,"小友留步，老夫有一事相求",null,5001,1,{"$f":"_xlfn.TEXTJOIN(\";\",1,R513:S513)","v":""},null,null,{"$f":"IF(R513=\"\",\"\",\"-\"&VLOOKUP(R513,EventConditionConfig!A:C,3,FALSE)&IF(S513=\"\",\"\",CHAR(10)&\"-\"&VLOOKUP(S513,EventConditionConfig!A:C,3,FALSE)))","v":""},{"$f":"IF(Y513=\"\",\"\",IF(ISTEXT(Y513),1,2))","v":""},"","","",null,null,"",null,null,"",{"$nulls":4},{"$f":"IF(A513=\"\",\"\",IF(ISNUMBER(Y513),2,IF(A514=\"\",IF(OR(AK513>0,VLOOKUP(O513,EventConfig!A:C,3,FALSE)=4),3,\"\"),1)))","v":1},500102,null,5561,5001]
[500102,5559,"受疯道人所托，追查《御风化影诀》的下落",5560,"与疯道人对话(0/1)",{"$nulls":4},103,{"$f":"IF(J514=\"\",\"\",VLOOKUP(J514,EventNPC!A:F,6,FALSE))","v":"疯道人"},5562,"三十年前北海妖族来犯，击退妖族后老夫捡到个被妖兽重伤的娃娃。",null,5001,2,"",null,null,{"$f":"IF(R514=\"\",\"\",\"-\"&VLOOKUP(R514,EventConditionConfig!A:C,3,FALSE)&IF(S514=\"\",\"\",CHAR(10)&\"-\"&VLOOKUP(S514,EventConditionConfig!A:C,3,FALSE)))","v":""},{"$f":"IF(Y514=\"\",\"\",IF(ISTEXT(Y514),1,2))","v":""},"","","",null,null,"",null,null,"",{"$nulls":4},{"$f":"IF(A514=\"\",\"\",IF(ISNUMBER(Y514),2,IF(A515=\"\",IF(OR(AK514>0,VLOOKUP(O514,EventConfig!A:C,3,FALSE)=4),3,\"\"),1)))","v":1},500103,null,5562,5001]
[500103,5559,"受疯道人所托，追查《御风化影诀》的下落",5560,"与疯道人对话(0/1)",{"$nulls":4},103,{"$f":"IF(J515=\"\",\"\",VLOOKUP(J515,EventNPC!A:F,6,FALSE))","v":"疯道人"},5563,"他心口妖气汇聚，周身却萦绕着纯净的风灵根。这般矛盾体质，注定要卷入因果轮回。",null,5001,3,"",null,null,{"$f":"IF(R515=\"\",\"\",\"-\"&VLOOKUP(R515,EventConditionConfig!A:C,3,FALSE)&IF(S515=\"\",\"\",CHAR(10)&\"-\"&VLOOKUP(S515,EventConditionConfig!A:C,3,FALSE)))","v":""},"","","","",null,null,"",null,null,"",{"$nulls":4},{"$f":"IF(A515=\"\",\"\",IF(ISNUMBER(Y515),2,IF(A516=\"\",IF(OR(AK515>0,VLOOKUP(O515,EventConfig!A:C,3,FALSE)=4),3,\"\"),1)))","v":1},500104,null,5563,5001]
[500104,5559,"受疯道人所托，追查《御风化影诀》的下落",5560,"与疯道人对话(0/1)",{"$nulls":4},103,{"$f":"IF(J516=\"\",\"\",VLOOKUP(J516,EventNPC!A:F,6,FALSE))","v":"疯道人"},5564,"于是老夫收留他在门下修养",null,5001,4,"",null,null,{"$f":"IF(R516=\"\",\"\",\"-\"&VLOOKUP(R516,EventConditionConfig!A:C,3,FALSE)&IF(S516=\"\",\"\",CHAR(10)&\"-\"&VLOOKUP(S516,EventConditionConfig!A:C,3,FALSE)))","v":""},"","","","",null,null,"",null,null,"",{"$nulls":4},{"$f":"IF(A516=\"\",\"\",IF(ISNUMBER(Y516),2,IF(A517=\"\",IF(OR(AK516>0,VLOOKUP(O516,EventConfig!A:C,3,FALSE)=4),3,\"\"),1)))","v":1},500105,null,5564,5001]
[500105,5559,"受疯道人所托，追查《御风化影诀》的下落",5560,"与疯道人对话(0/1)",{"$nulls":4},103,{"$f":"IF(J517=\"\",\"\",VLOOKUP(J517,EventNPC!A:F,6,FALSE))","v":"疯道人"},{"$f":"IF(M517=\"\",\"\",MAX(AL516,AL515,B517,D517)+1)","v":5565},"但他心智被妖气所蛊惑一心只想报仇，整日念叨着要杀尽北海妖族。",null,5001,5,"",null,null,{"$f":"IF(R517=\"\",\"\",\"-\"&VLOOKUP(R517,EventConditionConfig!A:C,3,FALSE)&IF(S517=\"\",\"\",CHAR(10)&\"-\"&VLOOKUP(S517,EventConditionConfig!A:C,3,FALSE)))","v":""},"","","","",null,null,"",null,null,"",{"$nulls":4},{"$f":"IF(A517=\"\",\"\",IF(ISNUMBER(Y517),2,IF(A518=\"\",IF(OR(AK517>0,VLOOKUP(O517,EventConfig!A:C,3,FALSE)=4),3,\"\"),1)))","v":1},500106,null,5565,5001]
[500106,5559,"受疯道人所托，追查《御风化影诀》的下落",{"$f":"IF(E518=\"\",\"\",IF(E518=E517,D517,MAX(AL517,AL516,B518)+1))","v":5560},"与疯道人对话(0/1)",{"$nulls":4},103,{"$f":"IF(J518=\"\",\"\",VLOOKUP(J518,EventNPC!A:F,6,FALSE))","v":"疯道人"},5566,"但十年的相处老夫早就把他当做亲人看待，为了断掉念想，只得让他离去，他离开之时盗走了洞府中的禁书《御风化影诀》。",null,5001,6,"",null,null,{"$f":"IF(R518=\"\",\"\",\"-\"&VLOOKUP(R518,EventConditionConfig!A:C,3,FALSE)&IF(S518=\"\",\"\",CHAR(10)&\"-\"&VLOOKUP(S518,EventConditionConfig!A:C,3,FALSE)))","v":""},"","","","",null,null,"",null,null,"",{"$nulls":4},{"$f":"IF(A518=\"\",\"\",IF(ISNUMBER(Y518),2,IF(A519=\"\",IF(OR(AK518>0,VLOOKUP(O518,EventConfig!A:C,3,FALSE)=4),3,\"\"),1)))","v":1},500107,null,5566,5001]
[{"$f":"O519*100+P519","v":500107},5559,"受疯道人所托，追查《御风化影诀》的下落",5560,"与疯道人对话(0/1)",{"$nulls":4},100,{"$f":"IF(J519=\"\",\"\",VLOOKUP(J519,EventNPC!A:F,6,FALSE))","v":"玩家"},5567,"\"\"",null,5001,7,{"$f":"_xlfn.TEXTJOIN(\";\",1,R519:S519)","v":""},null,null,{"$f":"IF(R519=\"\",\"\",\"-\"&VLOOKUP(R519,EventConditionConfig!A:C,3,FALSE)&IF(S519=\"\",\"\",CHAR(10)&\"-\"&VLOOKUP(S519,EventConditionConfig!A:C,3,FALSE)))","v":""},1,"500108;500108","5568;5569",5568,"前辈为何不追",null,5569,"他怎会轻易盗走此书",null,"",{"$nulls":4},{"$f":"IF(A519=\"\",\"\",IF(ISNUMBER(Y519),2,IF(A520=\"\",IF(OR(AK519>0,VLOOKUP(O519,EventConfig!A:C,3,FALSE)=4),3,\"\"),1)))","v":1},500108,null,5569,5001]
[500108,5559,"受疯道人所托，追查《御风化影诀》的下落",5560,"与疯道人对话(0/1)",{"$nulls":4},103,{"$f":"IF(J520=\"\",\"\",VLOOKUP(J520,EventNPC!A:F,6,FALSE))","v":"疯道人"},5570,"那孩子恐是为了给爹妈寻仇，也是看往日情面，老夫不想亲自动手。",null,5001,8,"",null,null,{"$f":"IF(R520=\"\",\"\",\"-\"&VLOOKUP(R520,EventConditionConfig!A:C,3,FALSE)&IF(S520=\"\",\"\",CHAR(10)&\"-\"&VLOOKUP(S520,EventConditionConfig!A:C,3,FALSE)))","v":""},"","","","",null,null,"",null,null,"",{"$nulls":4},{"$f":"IF(A520=\"\",\"\",IF(ISNUMBER(Y520),2,IF(A521=\"\",IF(OR(AK520>0,VLOOKUP(O520,EventConfig!A:C,3,FALSE)=4),3,\"\"),1)))","v":1},500109,null,{"$f":"IF(A520=\"\",\"\",MAX(B520,D520,L520,X520,AA520,AL519,AL518,AD520))","v":5570},{"$f":"O520","v":5001}]
[500109,5559,"受疯道人所托，追查《御风化影诀》的下落",5560,"与疯道人对话(0/1)",{"$nulls":4},103,{"$f":"IF(J521=\"\",\"\",VLOOKUP(J521,EventNPC!A:F,6,FALSE))","v":"疯道人"},5571,"现如今老夫发现山中的生灵会莫名消失，村中孩童也是被神秘的妖气所卷走，这和书中的血肉炼化的方法一模一样，老夫断定是那孩子所为。",null,5001,9,"",null,null,{"$f":"IF(R521=\"\",\"\",\"-\"&VLOOKUP(R521,EventConditionConfig!A:C,3,FALSE)&IF(S521=\"\",\"\",CHAR(10)&\"-\"&VLOOKUP(S521,EventConditionConfig!A:C,3,FALSE)))","v":""},"","","","",null,null,"",null,null,"",{"$nulls":4},{"$f":"IF(A521=\"\",\"\",IF(ISNUMBER(Y521),2,IF(A522=\"\",IF(OR(AK521>0,VLOOKUP(O521,EventConfig!A:C,3,FALSE)=4),3,\"\"),1)))","v":1},500110,null,5571,5001]
[500110,5559,"受疯道人所托，追查《御风化影诀》的下落",5560,"与疯道人对话(0/1)",{"$nulls":4},103,{"$f":"IF(J522=\"\",\"\",VLOOKUP(J522,EventNPC!A:F,6,FALSE))","v":"疯道人"},5572,"小友，我追踪妖气波动，他就在西边的树林之中！",null,5001,10,"",null,null,{"$f":"IF(R522=\"\",\"\",\"-\"&VLOOKUP(R522,EventConditionConfig!A:C,3,FALSE)&IF(S522=\"\",\"\",CHAR(10)&\"-\"&VLOOKUP(S522,EventConditionConfig!A:C,3,FALSE)))","v":""},5,"","","",null,null,"",null,null,"",{"$nulls":4},{"$f":"IF(A522=\"\",\"\",IF(ISNUMBER(Y522),2,IF(A523=\"\",IF(OR(AK522>0,VLOOKUP(O522,EventConfig!A:C,3,FALSE)=4),3,\"\"),1)))","v":1},500111,null,5572,5001]
[500111,5559,"受疯道人所托，追查《御风化影诀》的下落",5573,"追查风无咎(0/1)",{"$nulls":5},{"$f":"IF(J523=\"\",\"\",VLOOKUP(J523,EventNPC!A:F,6,FALSE))","v":""},5574,"（枯叶居然无风漂浮在空中，地面残留着扭曲的符文刻痕，见风无咎在地上刻画着什么）",null,5001,{"$f":"IF(O523=\"\",\"\",IF(O523=O522,P522+1,1))","v":11},"",null,null,{"$f":"IF(R523=\"\",\"\",\"-\"&VLOOKUP(R523,EventConditionConfig!A:C,3,FALSE)&IF(S523=\"\",\"\",CHAR(10)&\"-\"&VLOOKUP(S523,EventConditionConfig!A:C,3,FALSE)))","v":""},{"$f":"IF(Y523=\"\",\"\",IF(ISTEXT(Y523),1,2))","v":""},"","","",null,null,"",null,null,"",{"$nulls":4},{"$f":"IF(A523=\"\",\"\",IF(ISNUMBER(Y523),2,IF(A524=\"\",IF(OR(AK523>0,VLOOKUP(O523,EventConfig!A:C,3,FALSE)=4),3,\"\"),1)))","v":1},500112,null,5574,5001]
[500112,5559,"受疯道人所托，追查《御风化影诀》的下落",5573,"追查风无咎(0/1)",{"$nulls":4},112,{"$f":"IF(J524=\"\",\"\",VLOOKUP(J524,EventNPC!A:F,6,FALSE))","v":0},5575,"(看见主角到来)你小子身上怎会有老疯子的气，是那老头让你来抓我的吗。",null,5001,12,"",null,null,{"$f":"IF(R524=\"\",\"\",\"-\"&VLOOKUP(R524,EventConditionConfig!A:C,3,FALSE)&IF(S524=\"\",\"\",CHAR(10)&\"-\"&VLOOKUP(S524,EventConditionConfig!A:C,3,FALSE)))","v":""},"","",{"$f":"_xlfn.TEXTJOIN(\";\",1,X524,AA524,AD524)","v":""},{"$f":"IF(OR(ISNUMBER(Y524),Y524=\"\"),\"\",MAX(AL523,AL521,B524,D524,L524)+1)","v":""},null,null,{"$f":"IF(OR(ISNUMBER(AB524),AB524=\"\"),\"\",X524+1)","v":""},null,null,"",{"$nulls":4},{"$f":"IF(A524=\"\",\"\",IF(ISNUMBER(Y524),2,IF(A525=\"\",IF(OR(AK524>0,VLOOKUP(O524,EventConfig!A:C,3,FALSE)=4),3,\"\"),1)))","v":1},500113,null,5575,5001]
[500113,{"$f":"IF(C525=\"\",\"\",IF(C525=C524,B524,MAX(AL524,AL523)+1))","v":5559},"受疯道人所托，追查《御风化影诀》的下落",5573,"追查风无咎(0/1)",{"$nulls":4},100,{"$f":"IF(J525=\"\",\"\",VLOOKUP(J525,EventNPC!A:F,6,FALSE))","v":"玩家"},5576,"前辈见往日情面不愿亲自动手，我一人足以",null,5001,13,"",null,null,{"$f":"IF(R525=\"\",\"\",\"-\"&VLOOKUP(R525,EventConditionConfig!A:C,3,FALSE)&IF(S525=\"\",\"\",CHAR(10)&\"-\"&VLOOKUP(S525,EventConditionConfig!A:C,3,FALSE)))","v":""},"","","","",null,null,"",null,null,{"$f":"IF(OR(ISNUMBER(AE525),AE525=\"\"),\"\",AA525+1)","v":""},{"$nulls":4},{"$f":"IF(A525=\"\",\"\",IF(ISNUMBER(Y525),2,IF(A526=\"\",IF(OR(AK525>0,VLOOKUP(O525,EventConfig!A:C,3,FALSE)=4),3,\"\"),1)))","v":1},500114,null,5576,5001]
[500114,5559,"受疯道人所托，追查《御风化影诀》的下落",5573,"追查风无咎(0/1)",{"$nulls":5},{"$f":"IF(J526=\"\",\"\",VLOOKUP(J526,EventNPC!A:F,6,FALSE))","v":""},5577,"（说罢，风无咎的影子化形，为了一妖，顿时煞气暴涨）",null,5001,14,"",null,null,{"$f":"IF(R526=\"\",\"\",\"-\"&VLOOKUP(R526,EventConditionConfig!A:C,3,FALSE)&IF(S526=\"\",\"\",CHAR(10)&\"-\"&VLOOKUP(S526,EventConditionConfig!A:C,3,FALSE)))","v":""},"",{"$f":"IF(U526=1,_xlfn.TEXTJOIN(\";\",1,IF(Z526=\"\",A526+1,Z526),IF(AND(AA526<>\"\",AC526=\"\"),A526+1,AC526),IF(AND(AD526<>\"\",AF526=\"\"),A526+1,AF526)),IF(U526=2,Y526,\"\"))","v":""},"","",null,null,"",null,null,"",{"$nulls":4},{"$f":"IF(A526=\"\",\"\",IF(ISNUMBER(Y526),2,IF(A527=\"\",IF(OR(AK526>0,VLOOKUP(O526,EventConfig!A:C,3,FALSE)=4),3,\"\"),1)))","v":1},{"$f":"IF(AI526=\"\",\"\",CHOOSE(AI526,IF(AK526=\"\",A526+1,AK526),CONCATENATE(IF(AK526=\"\",A526+1,AK526),\";101\"),IF(AK526=\"\",O526+1,AK526)))","v":500115},null,5577,5001]
[500115,5559,"受疯道人所托，追查《御风化影诀》的下落",5573,"追查风无咎(0/1)",{"$nulls":4},112,{"$f":"IF(J527=\"\",\"\",VLOOKUP(J527,EventNPC!A:F,6,FALSE))","v":0},5578,"如今我自断妖魂炼出影身，正好今天拿你试试！",null,5001,15,"",null,null,{"$f":"IF(R527=\"\",\"\",\"-\"&VLOOKUP(R527,EventConditionConfig!A:C,3,FALSE)&IF(S527=\"\",\"\",CHAR(10)&\"-\"&VLOOKUP(S527,EventConditionConfig!A:C,3,FALSE)))","v":""},2,100001,"","",100001,null,"",null,null,"",{"$nulls":4},{"$f":"IF(A527=\"\",\"\",IF(ISNUMBER(Y527),2,IF(A528=\"\",IF(OR(AK527>0,VLOOKUP(O527,EventConfig!A:C,3,FALSE)=4),3,\"\"),1)))","v":2},"500116;101",null,5578,5001]
[500116,5559,"受疯道人所托，追查《御风化影诀》的下落",5573,"追查风无咎(0/1)",{"$nulls":4},112,{"$f":"IF(J528=\"\",\"\",VLOOKUP(J528,EventNPC!A:F,6,FALSE))","v":0},5579,"岂会如此！",null,5001,16,"",null,null,{"$f":"IF(R528=\"\",\"\",\"-\"&VLOOKUP(R528,EventConditionConfig!A:C,3,FALSE)&IF(S528=\"\",\"\",CHAR(10)&\"-\"&VLOOKUP(S528,EventConditionConfig!A:C,3,FALSE)))","v":""},1,"500117","5580",5580,"交还书页，我可留你魂魄入轮回。",null,"",null,null,"",{"$nulls":4},{"$f":"IF(A528=\"\",\"\",IF(ISNUMBER(Y528),2,IF(A529=\"\",IF(OR(AK528>0,VLOOKUP(O528,EventConfig!A:C,3,FALSE)=4),3,\"\"),1)))","v":1},500117,null,5580,5001]
[500117,5559,"受疯道人所托，追查《御风化影诀》的下落",5573,"追查风无咎(0/1)",{"$nulls":4},112,{"$f":"IF(J529=\"\",\"\",VLOOKUP(J529,EventNPC!A:F,6,FALSE))","v":0},5581,"轮回？今日是我大意了！老东西还有你，给我等着！（化作一震妖风带着《御风化影诀》逃往远方",null,5001,17,"",null,null,{"$f":"IF(R529=\"\",\"\",\"-\"&VLOOKUP(R529,EventConditionConfig!A:C,3,FALSE)&IF(S529=\"\",\"\",CHAR(10)&\"-\"&VLOOKUP(S529,EventConditionConfig!A:C,3,FALSE)))","v":""},"","","","",null,null,"",null,null,"",{"$nulls":4},{"$f":"IF(A529=\"\",\"\",IF(ISNUMBER(Y529),2,IF(A530=\"\",IF(OR(AK529>0,VLOOKUP(O529,EventConfig!A:C,3,FALSE)=4),3,\"\"),1)))","v":1},500118,null,5581,5001]
[500118,5559,"受疯道人所托，追查《御风化影诀》的下落",5573,"追查风无咎(0/1)",{"$nulls":4},103,{"$f":"IF(J530=\"\",\"\",VLOOKUP(J530,EventNPC!A:F,6,FALSE))","v":"疯道人"},5582,"这孩子天资聪颖，短短二十年就能参悟书中所写。",null,5001,18,"",null,null,{"$f":"IF(R530=\"\",\"\",\"-\"&VLOOKUP(R530,EventConditionConfig!A:C,3,FALSE)&IF(S530=\"\",\"\",CHAR(10)&\"-\"&VLOOKUP(S530,EventConditionConfig!A:C,3,FALSE)))","v":""},"","","","",null,null,"",null,null,"",{"$nulls":4},{"$f":"IF(A530=\"\",\"\",IF(ISNUMBER(Y530),2,IF(A531=\"\",IF(OR(AK530>0,VLOOKUP(O530,EventConfig!A:C,3,FALSE)=4),3,\"\"),1)))","v":1},500119,null,5582,5001]
[500119,5559,"受疯道人所托，追查《御风化影诀》的下落",5573,"追查风无咎(0/1)",{"$nulls":4},103,{"$f":"IF(J531=\"\",\"\",VLOOKUP(J531,EventNPC!A:F,6,FALSE))","v":"疯道人"},5583,"无妨，此法需要大量血肉献祭，如此规模的法术定会妖气四散，找到他也是迟早之事。",null,5001,19,"",null,null,{"$f":"IF(R531=\"\",\"\",\"-\"&VLOOKUP(R531,EventConditionConfig!A:C,3,FALSE)&IF(S531=\"\",\"\",CHAR(10)&\"-\"&VLOOKUP(S531,EventConditionConfig!A:C,3,FALSE)))","v":""},"","","","",null,null,"",null,null,"",{"$nulls":4},{"$f":"IF(A531=\"\",\"\",IF(ISNUMBER(Y531),2,IF(A532=\"\",IF(OR(AK531>0,VLOOKUP(O531,EventConfig!A:C,3,FALSE)=4),3,\"\"),1)))","v":{"$error":"#N/A"}},{"$error":"#N/A"},null,5583,5001]
[null,"",null,"",{"$nulls":6},{"$f":"IF(J532=\"\",\"\",VLOOKUP(J532,EventNPC!A:F,6,FALSE))","v":""},"",null,null,null,"",{"$nulls":5},"","","",null,null,"",null,null,"",{"$nulls":4},{"$f":"IF(A532=\"\",\"\",IF(ISNUMBER(Y532),2,IF(A533=\"\",IF(OR(AK532>0,VLOOKUP(O532,EventConfig!A:C,3,FALSE)=4),3,\"\"),1)))","v":""},"",null,"",0]
[{"$f":"O533*100+P533","v":500301},5584,"受化妖剑士所托，帮助他消灭藏匿北海的海妖",5585,"与化妖剑士对话",{"$nulls":5},{"$f":"IF(J533=\"\",\"\",VLOOKUP(J533,EventNPC!A:F,6,FALSE))","v":""},5586,"咸腥的海风中，你看见礁石上蜷缩着人形怪物——它的脊椎刺破皮肤形成剑鞘，一柄生满红锈的巨剑就背在嵴骨之间。当它转头看向你时，你不由得心底生寒。",null,5003,1,{"$f":"_xlfn.TEXTJOIN(\";\",1,R533:S533)","v":""},null,null,{"$f":"IF(R533=\"\",\"\",\"-\"&VLOOKUP(R533,EventConditionConfig!A:C,3,FALSE)&IF(S533=\"\",\"\",CHAR(10)&\"-\"&VLOOKUP(S533,EventConditionConfig!A:C,3,FALSE)))","v":""},{"$f":"IF(Y533=\"\",\"\",IF(ISTEXT(Y533),1,2))","v":""},"","","",null,null,"",null,null,"",{"$nulls":4},{"$f":"IF(A533=\"\",\"\",IF(ISNUMBER(Y533),2,IF(A534=\"\",IF(OR(AK533>0,VLOOKUP(O533,EventConfig!A:C,3,FALSE)=4),3,\"\"),1)))","v":1},500302,null,5586,5003]
[500302,5584,"受化妖剑士所托，帮助他消灭藏匿北海的海妖",5585,"与化妖剑士对话",{"$nulls":4},113,{"$f":"IF(J534=\"\",\"\",VLOOKUP(J534,EventNPC!A:F,6,FALSE))","v":"北海剑妖"},5587,"你闻到了吗...海里的血锈味。那厮海妖在这片海滩卷走阿蘅时的这种味道",null,5003,2,"",null,null,{"$f":"IF(R534=\"\",\"\",\"-\"&VLOOKUP(R534,EventConditionConfig!A:C,3,FALSE)&IF(S534=\"\",\"\",CHAR(10)&\"-\"&VLOOKUP(S534,EventConditionConfig!A:C,3,FALSE)))","v":""},"","","","",null,null,"",null,null,"",{"$nulls":4},{"$f":"IF(A534=\"\",\"\",IF(ISNUMBER(Y534),2,IF(A535=\"\",IF(OR(AK534>0,VLOOKUP(O534,EventConfig!A:C,3,FALSE)=4),3,\"\"),1)))","v":1},500303,null,5587,5003]
[500303,5584,"受化妖剑士所托，帮助他消灭藏匿北海的海妖",5585,"与化妖剑士对话",{"$nulls":4},100,{"$f":"IF(J535=\"\",\"\",VLOOKUP(J535,EventNPC!A:F,6,FALSE))","v":"玩家"},5588,"什么血锈味，我闻不见，你口中的阿蘅是？",null,5003,3,"",null,null,{"$f":"IF(R535=\"\",\"\",\"-\"&VLOOKUP(R535,EventConditionConfig!A:C,3,FALSE)&IF(S535=\"\",\"\",CHAR(10)&\"-\"&VLOOKUP(S535,EventConditionConfig!A:C,3,FALSE)))","v":""},"","","","",null,null,"",null,null,"",{"$nulls":4},{"$f":"IF(A535=\"\",\"\",IF(ISNUMBER(Y535),2,IF(A536=\"\",IF(OR(AK535>0,VLOOKUP(O535,EventConfig!A:C,3,FALSE)=4),3,\"\"),1)))","v":1},500304,null,5588,5003]
[500304,5584,"受化妖剑士所托，帮助他消灭藏匿北海的海妖",5585,"与化妖剑士对话",{"$nulls":4},113,{"$f":"IF(J536=\"\",\"\",VLOOKUP(J536,EventNPC!A:F,6,FALSE))","v":"北海剑妖"},5589,"我的妻子。",null,5003,4,"",null,null,{"$f":"IF(R536=\"\",\"\",\"-\"&VLOOKUP(R536,EventConditionConfig!A:C,3,FALSE)&IF(S536=\"\",\"\",CHAR(10)&\"-\"&VLOOKUP(S536,EventConditionConfig!A:C,3,FALSE)))","v":""},"","","","",null,null,"",null,null,"",{"$nulls":4},{"$f":"IF(A536=\"\",\"\",IF(ISNUMBER(Y536),2,IF(A537=\"\",IF(OR(AK536>0,VLOOKUP(O536,EventConfig!A:C,3,FALSE)=4),3,\"\"),1)))","v":1},500305,null,5589,5003]
[500305,5584,"受化妖剑士所托，帮助他消灭藏匿北海的海妖",5585,"与化妖剑士对话",{"$nulls":4},100,{"$f":"IF(J537=\"\",\"\",VLOOKUP(J537,EventNPC!A:F,6,FALSE))","v":"玩家"},5590,"妖怪还有妻子，还挺稀奇。",null,5003,5,"",null,null,{"$f":"IF(R537=\"\",\"\",\"-\"&VLOOKUP(R537,EventConditionConfig!A:C,3,FALSE)&IF(S537=\"\",\"\",CHAR(10)&\"-\"&VLOOKUP(S537,EventConditionConfig!A:C,3,FALSE)))","v":""},"","","","",null,null,"",null,null,"",{"$nulls":4},{"$f":"IF(A537=\"\",\"\",IF(ISNUMBER(Y537),2,IF(A538=\"\",IF(OR(AK537>0,VLOOKUP(O537,EventConfig!A:C,3,FALSE)=4),3,\"\"),1)))","v":1},500306,null,5590,5003]
[500306,5584,"受化妖剑士所托，帮助他消灭藏匿北海的海妖",5585,"与化妖剑士对话",{"$nulls":4},113,{"$f":"IF(J538=\"\",\"\",VLOOKUP(J538,EventNPC!A:F,6,FALSE))","v":"北海剑妖"},5591,"当年我可是和你一样的修士，但从那之后一切都变了",null,5003,6,"",null,null,{"$f":"IF(R538=\"\",\"\",\"-\"&VLOOKUP(R538,EventConditionConfig!A:C,3,FALSE)&IF(S538=\"\",\"\",CHAR(10)&\"-\"&VLOOKUP(S538,EventConditionConfig!A:C,3,FALSE)))","v":""},"","","","",null,null,"",null,null,"",{"$nulls":4},{"$f":"IF(A538=\"\",\"\",IF(ISNUMBER(Y538),2,IF(A539=\"\",IF(OR(AK538>0,VLOOKUP(O538,EventConfig!A:C,3,FALSE)=4),3,\"\"),1)))","v":1},500307,null,5591,5003]
[500307,5584,"受化妖剑士所托，帮助他消灭藏匿北海的海妖",5585,"与化妖剑士对话",{"$nulls":4},113,{"$f":"IF(J539=\"\",\"\",VLOOKUP(J539,EventNPC!A:F,6,FALSE))","v":"北海剑妖"},5592,"百余年我送给阿蘅的定情信物贝壳项链，被阿蘅不慎遗失在这片海滩，她于是在这苦苦寻找。可突然间一头妖兽现身，将她拖入了海中！",null,5003,7,"",null,null,{"$f":"IF(R539=\"\",\"\",\"-\"&VLOOKUP(R539,EventConditionConfig!A:C,3,FALSE)&IF(S539=\"\",\"\",CHAR(10)&\"-\"&VLOOKUP(S539,EventConditionConfig!A:C,3,FALSE)))","v":""},"","","","",null,null,"",null,null,"",{"$nulls":4},{"$f":"IF(A539=\"\",\"\",IF(ISNUMBER(Y539),2,IF(A540=\"\",IF(OR(AK539>0,VLOOKUP(O539,EventConfig!A:C,3,FALSE)=4),3,\"\"),1)))","v":1},500308,null,5592,5003]
[500308,5584,"受化妖剑士所托，帮助他消灭藏匿北海的海妖",5585,"与化妖剑士对话",{"$nulls":4},113,{"$f":"IF(J540=\"\",\"\",VLOOKUP(J540,EventNPC!A:F,6,FALSE))","v":"北海剑妖"},5593,"得知此事后一直守在这，等着那厮妖兽从海中现身。",null,5003,8,"",null,null,{"$f":"IF(R540=\"\",\"\",\"-\"&VLOOKUP(R540,EventConditionConfig!A:C,3,FALSE)&IF(S540=\"\",\"\",CHAR(10)&\"-\"&VLOOKUP(S540,EventConditionConfig!A:C,3,FALSE)))","v":""},"","","","",null,null,"",null,null,"",{"$nulls":4},{"$f":"IF(A540=\"\",\"\",IF(ISNUMBER(Y540),2,IF(A541=\"\",IF(OR(AK540>0,VLOOKUP(O540,EventConfig!A:C,3,FALSE)=4),3,\"\"),1)))","v":1},500309,null,5593,5003]
[500309,5584,"受化妖剑士所托，帮助他消灭藏匿北海的海妖",5585,"与化妖剑士对话",{"$nulls":4},113,{"$f":"IF(J541=\"\",\"\",VLOOKUP(J541,EventNPC!A:F,6,FALSE))","v":"北海剑妖"},5594,"我在这片海滩终于等到那厮妖兽从海中出现，我便提剑向其冲去，我的剑深深刺入了妖兽的身体，它一吃痛逃入了这片海中，空中忽然刮起了狂风，被狂风阻拦无法进入海中追寻，妖兽也被狂风困在了海中",null,5003,9,"",null,null,{"$f":"IF(R541=\"\",\"\",\"-\"&VLOOKUP(R541,EventConditionConfig!A:C,3,FALSE)&IF(S541=\"\",\"\",CHAR(10)&\"-\"&VLOOKUP(S541,EventConditionConfig!A:C,3,FALSE)))","v":""},"","","","",null,null,"",null,null,"",{"$nulls":4},{"$f":"IF(A541=\"\",\"\",IF(ISNUMBER(Y541),2,IF(A542=\"\",IF(OR(AK541>0,VLOOKUP(O541,EventConfig!A:C,3,FALSE)=4),3,\"\"),1)))","v":1},500310,null,5594,5003]
[500310,5584,"受化妖剑士所托，帮助他消灭藏匿北海的海妖",5585,"与化妖剑士对话",{"$nulls":4},113,{"$f":"IF(J542=\"\",\"\",VLOOKUP(J542,EventNPC!A:F,6,FALSE))","v":"北海剑妖"},5595,"那你为何会变成了妖",null,5003,10,"",null,null,{"$f":"IF(R542=\"\",\"\",\"-\"&VLOOKUP(R542,EventConditionConfig!A:C,3,FALSE)&IF(S542=\"\",\"\",CHAR(10)&\"-\"&VLOOKUP(S542,EventConditionConfig!A:C,3,FALSE)))","v":""},"","","","",null,null,"",null,null,"",{"$nulls":4},{"$f":"IF(A542=\"\",\"\",IF(ISNUMBER(Y542),2,IF(A543=\"\",IF(OR(AK542>0,VLOOKUP(O542,EventConfig!A:C,3,FALSE)=4),3,\"\"),1)))","v":1},500311,null,5595,5003]
[500311,5584,"受化妖剑士所托，帮助他消灭藏匿北海的海妖",5585,"与化妖剑士对话",{"$nulls":4},113,{"$f":"IF(J543=\"\",\"\",VLOOKUP(J543,EventNPC!A:F,6,FALSE))","v":"北海剑妖"},5596,"因北海妖气横行，我被妖气入体，身体慢慢发生了变化，不妨这也算北海对我的恩赐，妻子死后我日以继日的待在这里等着复仇，等着斩杀掉那只吞掉我妻子的妖兽。",null,5003,11,"",null,null,{"$f":"IF(R543=\"\",\"\",\"-\"&VLOOKUP(R543,EventConditionConfig!A:C,3,FALSE)&IF(S543=\"\",\"\",CHAR(10)&\"-\"&VLOOKUP(S543,EventConditionConfig!A:C,3,FALSE)))","v":""},"","","","",null,null,"",null,null,"",{"$nulls":4},{"$f":"IF(A543=\"\",\"\",IF(ISNUMBER(Y543),2,IF(A544=\"\",IF(OR(AK543>0,VLOOKUP(O543,EventConfig!A:C,3,FALSE)=4),3,\"\"),1)))","v":1},500312,null,5596,5003]
[500312,5584,"受化妖剑士所托，帮助他消灭藏匿北海的海妖",5585,"与化妖剑士对话",{"$nulls":4},113,{"$f":"IF(J544=\"\",\"\",VLOOKUP(J544,EventNPC!A:F,6,FALSE))","v":"北海剑妖"},5597,"我有办法驱散狂风",null,5003,12,"",null,null,{"$f":"IF(R544=\"\",\"\",\"-\"&VLOOKUP(R544,EventConditionConfig!A:C,3,FALSE)&IF(S544=\"\",\"\",CHAR(10)&\"-\"&VLOOKUP(S544,EventConditionConfig!A:C,3,FALSE)))","v":""},"","","","",null,null,"",null,null,"",{"$nulls":4},{"$f":"IF(A544=\"\",\"\",IF(ISNUMBER(Y544),2,IF(A545=\"\",IF(OR(AK544>0,VLOOKUP(O544,EventConfig!A:C,3,FALSE)=4),3,\"\"),1)))","v":1},500313,null,5597,5003]
[500313,5584,"受化妖剑士所托，帮助他消灭藏匿北海的海妖",5585,"与化妖剑士对话",{"$nulls":5},{"$f":"IF(J545=\"\",\"\",VLOOKUP(J545,EventNPC!A:F,6,FALSE))","v":""},5598,"（拿出风灵珠驱散海面狂风）（瞬间海面变的不平，一头妖力浑厚的妖兽从海面中跃出）",null,5003,13,"",null,null,{"$f":"IF(R545=\"\",\"\",\"-\"&VLOOKUP(R545,EventConditionConfig!A:C,3,FALSE)&IF(S545=\"\",\"\",CHAR(10)&\"-\"&VLOOKUP(S545,EventConditionConfig!A:C,3,FALSE)))","v":""},"","","","",null,null,"",null,null,"",{"$nulls":4},{"$f":"IF(A545=\"\",\"\",IF(ISNUMBER(Y545),2,IF(A546=\"\",IF(OR(AK545>0,VLOOKUP(O545,EventConfig!A:C,3,FALSE)=4),3,\"\"),1)))","v":1},500314,null,5598,5003]
[500314,5584,"受化妖剑士所托，帮助他消灭藏匿北海的海妖",5599,"追查海妖(0/1)",{"$nulls":4},113,{"$f":"IF(J546=\"\",\"\",VLOOKUP(J546,EventNPC!A:F,6,FALSE))","v":"北海剑妖"},5600,"小友有如此绝技，当斩杀那厮妖兽后定当好好报答你！",null,5003,14,"",null,null,{"$f":"IF(R546=\"\",\"\",\"-\"&VLOOKUP(R546,EventConditionConfig!A:C,3,FALSE)&IF(S546=\"\",\"\",CHAR(10)&\"-\"&VLOOKUP(S546,EventConditionConfig!A:C,3,FALSE)))","v":""},2,100001,"","",100001,null,"",null,null,"",{"$nulls":4},{"$f":"IF(A546=\"\",\"\",IF(ISNUMBER(Y546),2,IF(A547=\"\",IF(OR(AK546>0,VLOOKUP(O546,EventConfig!A:C,3,FALSE)=4),3,\"\"),1)))","v":2},"500315;101",null,5600,5003]
[500315,5584,"受化妖剑士所托，帮助他消灭藏匿北海的海妖",5599,"追查海妖(0/1)",{"$nulls":4},113,{"$f":"IF(J547=\"\",\"\",VLOOKUP(J547,EventNPC!A:F,6,FALSE))","v":"北海剑妖"},5601,"小友你快躲开，无论如何我也要这妖兽葬身于此！即便魂飞魄散永世不得轮回也无所谓！阿蘅，我来见你了！",null,5003,15,"",null,null,{"$f":"IF(R547=\"\",\"\",\"-\"&VLOOKUP(R547,EventConditionConfig!A:C,3,FALSE)&IF(S547=\"\",\"\",CHAR(10)&\"-\"&VLOOKUP(S547,EventConditionConfig!A:C,3,FALSE)))","v":""},"","","","",null,null,"",null,null,"",{"$nulls":4},{"$f":"IF(A547=\"\",\"\",IF(ISNUMBER(Y547),2,IF(A548=\"\",IF(OR(AK547>0,VLOOKUP(O547,EventConfig!A:C,3,FALSE)=4),3,\"\"),1)))","v":1},500316,null,5601,5003]
[500316,5584,"受化妖剑士所托，帮助他消灭藏匿北海的海妖",5599,"追查海妖(0/1)",{"$nulls":5},{"$f":"IF(J548=\"\",\"\",VLOOKUP(J548,EventNPC!A:F,6,FALSE))","v":""},5602,"海面沸腾，妖兽嘶吼着掀起滔天巨浪，触须如铁鞭般抽向你。剑妖猛地推开你，他脊骨间的锈剑剧烈震颤，裂纹中迸发出刺目的血光。",null,5003,16,"",null,null,{"$f":"IF(R548=\"\",\"\",\"-\"&VLOOKUP(R548,EventConditionConfig!A:C,3,FALSE)&IF(S548=\"\",\"\",CHAR(10)&\"-\"&VLOOKUP(S548,EventConditionConfig!A:C,3,FALSE)))","v":""},"","","","",null,null,"",null,null,"",{"$nulls":4},{"$f":"IF(A548=\"\",\"\",IF(ISNUMBER(Y548),2,IF(A549=\"\",IF(OR(AK548>0,VLOOKUP(O548,EventConfig!A:C,3,FALSE)=4),3,\"\"),1)))","v":1},500317,null,5602,5003]
[500317,5584,"受化妖剑士所托，帮助他消灭藏匿北海的海妖",5599,"追查海妖(0/1)",{"$nulls":4},113,{"$f":"IF(J549=\"\",\"\",VLOOKUP(J549,EventNPC!A:F,6,FALSE))","v":"北海剑妖"},5603,"百年的执念……今日，该了结了！",null,5003,17,"",null,null,{"$f":"IF(R549=\"\",\"\",\"-\"&VLOOKUP(R549,EventConditionConfig!A:C,3,FALSE)&IF(S549=\"\",\"\",CHAR(10)&\"-\"&VLOOKUP(S549,EventConditionConfig!A:C,3,FALSE)))","v":""},"","","","",null,null,"",null,null,"",{"$nulls":4},{"$f":"IF(A549=\"\",\"\",IF(ISNUMBER(Y549),2,IF(A550=\"\",IF(OR(AK549>0,VLOOKUP(O549,EventConfig!A:C,3,FALSE)=4),3,\"\"),1)))","v":1},500318,null,5603,5003]
[500318,5584,"受化妖剑士所托，帮助他消灭藏匿北海的海妖",5599,"追查海妖(0/1)",{"$nulls":5},{"$f":"IF(J550=\"\",\"\",VLOOKUP(J550,EventNPC!A:F,6,FALSE))","v":""},5604,"剑妖的身体开始崩解，血肉化作赤红的火焰，缠绕着锈剑熊熊燃烧。那半枚嵌在脸上的银簪突然亮起幽蓝的光，与妖兽颅骨中的另半枚遥相呼应。",null,5003,18,"",null,null,{"$f":"IF(R550=\"\",\"\",\"-\"&VLOOKUP(R550,EventConditionConfig!A:C,3,FALSE)&IF(S550=\"\",\"\",CHAR(10)&\"-\"&VLOOKUP(S550,EventConditionConfig!A:C,3,FALSE)))","v":""},"","","","",null,null,"",null,null,"",{"$nulls":4},{"$f":"IF(A550=\"\",\"\",IF(ISNUMBER(Y550),2,IF(A551=\"\",IF(OR(AK550>0,VLOOKUP(O550,EventConfig!A:C,3,FALSE)=4),3,\"\"),1)))","v":1},500319,null,5604,5003]
[500319,5584,"受化妖剑士所托，帮助他消灭藏匿北海的海妖",5599,"追查海妖(0/1)",{"$nulls":4},113,{"$f":"IF(J551=\"\",\"\",VLOOKUP(J551,EventNPC!A:F,6,FALSE))","v":"北海剑妖"},5605,"阿蘅……你看到了吗？我终于……能带你回家了！",null,5003,19,"",null,null,{"$f":"IF(R551=\"\",\"\",\"-\"&VLOOKUP(R551,EventConditionConfig!A:C,3,FALSE)&IF(S551=\"\",\"\",CHAR(10)&\"-\"&VLOOKUP(S551,EventConditionConfig!A:C,3,FALSE)))","v":""},"","","","",null,null,"",null,null,"",{"$nulls":4},{"$f":"IF(A551=\"\",\"\",IF(ISNUMBER(Y551),2,IF(A552=\"\",IF(OR(AK551>0,VLOOKUP(O551,EventConfig!A:C,3,FALSE)=4),3,\"\"),1)))","v":1},500320,null,5605,5003]
[500320,5584,"受化妖剑士所托，帮助他消灭藏匿北海的海妖",5599,"追查海妖(0/1)",{"$nulls":5},{"$f":"IF(J552=\"\",\"\",VLOOKUP(J552,EventNPC!A:F,6,FALSE))","v":""},5606,"他化作一道血色，贯穿妖兽的头颅。银簪在爆炸的强光中被蹦飞，妖兽发出凄厉的哀嚎，庞大的身躯寸寸瓦解，化作漫天荧光。",null,5003,20,"",null,null,{"$f":"IF(R552=\"\",\"\",\"-\"&VLOOKUP(R552,EventConditionConfig!A:C,3,FALSE)&IF(S552=\"\",\"\",CHAR(10)&\"-\"&VLOOKUP(S552,EventConditionConfig!A:C,3,FALSE)))","v":""},"","","","",null,null,"",null,null,"",{"$nulls":4},{"$f":"IF(A552=\"\",\"\",IF(ISNUMBER(Y552),2,IF(A553=\"\",IF(OR(AK552>0,VLOOKUP(O552,EventConfig!A:C,3,FALSE)=4),3,\"\"),1)))","v":{"$error":"#N/A"}},{"$error":"#N/A"},null,5606,5003]
[null,"",null,"",{"$nulls":6},{"$f":"IF(J553=\"\",\"\",VLOOKUP(J553,EventNPC!A:F,6,FALSE))","v":""},"",null,null,null,"",{"$nulls":5},"","","",null,null,"",null,null,"",{"$nulls":4},{"$f":"IF(A553=\"\",\"\",IF(ISNUMBER(Y553),2,IF(A554=\"\",IF(OR(AK553>0,VLOOKUP(O553,EventConfig!A:C,3,FALSE)=4),3,\"\"),1)))","v":""},"",null,"",0]
[{"$f":"O554*100+P554","v":500201},5607,"受疯道人所托，追查《御风化影诀》的下落",5608,"与疯道人对话(0/1)",{"$nulls":4},103,{"$f":"IF(J554=\"\",\"\",VLOOKUP(J554,EventNPC!A:F,6,FALSE))","v":"疯道人"},5609,"小友，可曾记得风无咎",null,5002,1,{"$f":"_xlfn.TEXTJOIN(\";\",1,R554:S554)","v":""},null,null,{"$f":"IF(R554=\"\",\"\",\"-\"&VLOOKUP(R554,EventConditionConfig!A:C,3,FALSE)&IF(S554=\"\",\"\",CHAR(10)&\"-\"&VLOOKUP(S554,EventConditionConfig!A:C,3,FALSE)))","v":""},{"$f":"IF(Y554=\"\",\"\",IF(ISTEXT(Y554),1,2))","v":""},"","","",null,null,"",null,null,"",{"$nulls":4},{"$f":"IF(A554=\"\",\"\",IF(ISNUMBER(Y554),2,IF(A555=\"\",IF(OR(AK554>0,VLOOKUP(O554,EventConfig!A:C,3,FALSE)=4),3,\"\"),1)))","v":1},500202,null,5609,5002]
[500202,5607,"受疯道人所托，追查《御风化影诀》的下落",5608,"与疯道人对话(0/1)",{"$nulls":4},103,{"$f":"IF(J555=\"\",\"\",VLOOKUP(J555,EventNPC!A:F,6,FALSE))","v":"疯道人"},5610,"老夫感受到了风无咎的藏匿之地。",null,5002,2,"",null,null,{"$f":"IF(R555=\"\",\"\",\"-\"&VLOOKUP(R555,EventConditionConfig!A:C,3,FALSE)&IF(S555=\"\",\"\",CHAR(10)&\"-\"&VLOOKUP(S555,EventConditionConfig!A:C,3,FALSE)))","v":""},"","","","",null,null,"",null,null,"",{"$nulls":4},{"$f":"IF(A555=\"\",\"\",IF(ISNUMBER(Y555),2,IF(A556=\"\",IF(OR(AK555>0,VLOOKUP(O555,EventConfig!A:C,3,FALSE)=4),3,\"\"),1)))","v":1},500203,null,5610,5002]
[500203,5607,"受疯道人所托，追查《御风化影诀》的下落",5608,"与疯道人对话(0/1)",{"$nulls":4},100,{"$f":"IF(J556=\"\",\"\",VLOOKUP(J556,EventNPC!A:F,6,FALSE))","v":"玩家"},5611,"前辈我这就赶去。",null,5002,3,"",null,null,{"$f":"IF(R556=\"\",\"\",\"-\"&VLOOKUP(R556,EventConditionConfig!A:C,3,FALSE)&IF(S556=\"\",\"\",CHAR(10)&\"-\"&VLOOKUP(S556,EventConditionConfig!A:C,3,FALSE)))","v":""},"","","","",null,null,"",null,null,"",{"$nulls":4},{"$f":"IF(A556=\"\",\"\",IF(ISNUMBER(Y556),2,IF(A557=\"\",IF(OR(AK556>0,VLOOKUP(O556,EventConfig!A:C,3,FALSE)=4),3,\"\"),1)))","v":1},500204,null,5611,5002]
[500204,5607,"受疯道人所托，追查《御风化影诀》的下落",5608,"与疯道人对话(0/1)",{"$nulls":5},{"$f":"IF(J557=\"\",\"\",VLOOKUP(J557,EventNPC!A:F,6,FALSE))","v":""},5612,"（风无咎在一血池之中打坐，身旁妖气环绕，一眼望去全是生灵血肉）",null,5002,4,"",null,null,{"$f":"IF(R557=\"\",\"\",\"-\"&VLOOKUP(R557,EventConditionConfig!A:C,3,FALSE)&IF(S557=\"\",\"\",CHAR(10)&\"-\"&VLOOKUP(S557,EventConditionConfig!A:C,3,FALSE)))","v":""},"","","","",null,null,"",null,null,"",{"$nulls":4},{"$f":"IF(A557=\"\",\"\",IF(ISNUMBER(Y557),2,IF(A558=\"\",IF(OR(AK557>0,VLOOKUP(O557,EventConfig!A:C,3,FALSE)=4),3,\"\"),1)))","v":1},500205,null,5612,5002]
[500205,5607,"受疯道人所托，追查《御风化影诀》的下落",5608,"与疯道人对话(0/1)",{"$nulls":4},103,{"$f":"IF(J558=\"\",\"\",VLOOKUP(J558,EventNPC!A:F,6,FALSE))","v":"疯道人"},5613,"竟用生魂喂养功法...小友当心！",null,5002,5,"",null,null,{"$f":"IF(R558=\"\",\"\",\"-\"&VLOOKUP(R558,EventConditionConfig!A:C,3,FALSE)&IF(S558=\"\",\"\",CHAR(10)&\"-\"&VLOOKUP(S558,EventConditionConfig!A:C,3,FALSE)))","v":""},"","","","",null,null,"",null,null,"",{"$nulls":4},{"$f":"IF(A558=\"\",\"\",IF(ISNUMBER(Y558),2,IF(A559=\"\",IF(OR(AK558>0,VLOOKUP(O558,EventConfig!A:C,3,FALSE)=4),3,\"\"),1)))","v":1},500206,null,5613,5002]
[500206,5607,"受疯道人所托，追查《御风化影诀》的下落",5608,"与疯道人对话(0/1)",{"$nulls":5},{"$f":"IF(J559=\"\",\"\",VLOOKUP(J559,EventNPC!A:F,6,FALSE))","v":""},5614,"（血池突然炸开，风妖与影妖完全融合，妖躯浮现古魔纹路）",null,5002,6,"",null,null,{"$f":"IF(R559=\"\",\"\",\"-\"&VLOOKUP(R559,EventConditionConfig!A:C,3,FALSE)&IF(S559=\"\",\"\",CHAR(10)&\"-\"&VLOOKUP(S559,EventConditionConfig!A:C,3,FALSE)))","v":""},"","","","",null,null,"",null,null,"",{"$nulls":4},{"$f":"IF(A559=\"\",\"\",IF(ISNUMBER(Y559),2,IF(A560=\"\",IF(OR(AK559>0,VLOOKUP(O559,EventConfig!A:C,3,FALSE)=4),3,\"\"),1)))","v":1},500207,null,5614,5002]
[500207,5607,"受疯道人所托，追查《御风化影诀》的下落",5608,"与疯道人对话(0/1)",{"$nulls":4},112,{"$f":"IF(J560=\"\",\"\",VLOOKUP(J560,EventNPC!A:F,6,FALSE))","v":0},5615,"那日是我疏忽大意，这《御风化影诀》留给你们也是暴殄天物，如今在我手上才能发挥它的用处，多说无益既然你们追来了就留下给我当做丹引让我的功力更上一步吧！",null,5002,7,"",null,null,{"$f":"IF(R560=\"\",\"\",\"-\"&VLOOKUP(R560,EventConditionConfig!A:C,3,FALSE)&IF(S560=\"\",\"\",CHAR(10)&\"-\"&VLOOKUP(S560,EventConditionConfig!A:C,3,FALSE)))","v":""},"","","","",null,null,"",null,null,"",{"$nulls":4},{"$f":"IF(A560=\"\",\"\",IF(ISNUMBER(Y560),2,IF(A561=\"\",IF(OR(AK560>0,VLOOKUP(O560,EventConfig!A:C,3,FALSE)=4),3,\"\"),1)))","v":1},500208,null,5615,5002]
[500208,5607,"受疯道人所托，追查《御风化影诀》的下落",5616,"击败风无咎(0/1)",{"$nulls":4},100,{"$f":"IF(J561=\"\",\"\",VLOOKUP(J561,EventNPC!A:F,6,FALSE))","v":"玩家"},5617,"大胆邪修，今日就让你魂飞魄散。",null,5002,8,"",null,null,{"$f":"IF(R561=\"\",\"\",\"-\"&VLOOKUP(R561,EventConditionConfig!A:C,3,FALSE)&IF(S561=\"\",\"\",CHAR(10)&\"-\"&VLOOKUP(S561,EventConditionConfig!A:C,3,FALSE)))","v":""},2,100001,"","",100001,null,"",null,null,"",{"$nulls":4},{"$f":"IF(A561=\"\",\"\",IF(ISNUMBER(Y561),2,IF(A562=\"\",IF(OR(AK561>0,VLOOKUP(O561,EventConfig!A:C,3,FALSE)=4),3,\"\"),1)))","v":2},"500209;101",null,5617,5002]
[500209,5607,"受疯道人所托，追查《御风化影诀》的下落",5616,"击败风无咎(0/1)",{"$nulls":4},103,{"$f":"IF(J562=\"\",\"\",VLOOKUP(J562,EventNPC!A:F,6,FALSE))","v":"疯道人"},5618,"妖族灭我父母，修道的也要杀了我，我究竟做错了什么！",null,5002,9,"",null,null,{"$f":"IF(R562=\"\",\"\",\"-\"&VLOOKUP(R562,EventConditionConfig!A:C,3,FALSE)&IF(S562=\"\",\"\",CHAR(10)&\"-\"&VLOOKUP(S562,EventConditionConfig!A:C,3,FALSE)))","v":""},"","","","",null,null,"",null,null,"",{"$nulls":4},{"$f":"IF(A562=\"\",\"\",IF(ISNUMBER(Y562),2,IF(A563=\"\",IF(OR(AK562>0,VLOOKUP(O562,EventConfig!A:C,3,FALSE)=4),3,\"\"),1)))","v":1},500210,null,5618,5002]
[500210,5607,"受疯道人所托，追查《御风化影诀》的下落",5616,"击败风无咎(0/1)",{"$nulls":5},{"$f":"IF(J563=\"\",\"\",VLOOKUP(J563,EventNPC!A:F,6,FALSE))","v":""},5619,"疯道人赶来后醉醺醺的说道",null,5002,10,"",null,null,{"$f":"IF(R563=\"\",\"\",\"-\"&VLOOKUP(R563,EventConditionConfig!A:C,3,FALSE)&IF(S563=\"\",\"\",CHAR(10)&\"-\"&VLOOKUP(S563,EventConditionConfig!A:C,3,FALSE)))","v":""},"","","","",null,null,"",null,null,"",{"$nulls":4},{"$f":"IF(A563=\"\",\"\",IF(ISNUMBER(Y563),2,IF(A564=\"\",IF(OR(AK563>0,VLOOKUP(O563,EventConfig!A:C,3,FALSE)=4),3,\"\"),1)))","v":1},500211,null,5619,5002]
[500211,5607,"受疯道人所托，追查《御风化影诀》的下落",5616,"击败风无咎(0/1)",{"$nulls":4},103,{"$f":"IF(J564=\"\",\"\",VLOOKUP(J564,EventNPC!A:F,6,FALSE))","v":"疯道人"},5620,"小友还请留手。",null,5002,11,"",null,null,{"$f":"IF(R564=\"\",\"\",\"-\"&VLOOKUP(R564,EventConditionConfig!A:C,3,FALSE)&IF(S564=\"\",\"\",CHAR(10)&\"-\"&VLOOKUP(S564,EventConditionConfig!A:C,3,FALSE)))","v":""},"","","","",null,null,"",null,null,"",{"$nulls":4},{"$f":"IF(A564=\"\",\"\",IF(ISNUMBER(Y564),2,IF(A565=\"\",IF(OR(AK564>0,VLOOKUP(O564,EventConfig!A:C,3,FALSE)=4),3,\"\"),1)))","v":1},500212,null,5620,5002]
[500212,5607,"受疯道人所托，追查《御风化影诀》的下落",5616,"击败风无咎(0/1)",{"$nulls":4},100,{"$f":"IF(J565=\"\",\"\",VLOOKUP(J565,EventNPC!A:F,6,FALSE))","v":"玩家"},5621,"\"\"",null,5002,12,"",null,null,{"$f":"IF(R565=\"\",\"\",\"-\"&VLOOKUP(R565,EventConditionConfig!A:C,3,FALSE)&IF(S565=\"\",\"\",CHAR(10)&\"-\"&VLOOKUP(S565,EventConditionConfig!A:C,3,FALSE)))","v":""},1,"500213;500213","5622;5623",5622,"前辈这种时刻还有心思喝酒",null,5623,"这步入邪道之人留着为何",null,"",{"$nulls":4},{"$f":"IF(A565=\"\",\"\",IF(ISNUMBER(Y565),2,IF(A566=\"\",IF(OR(AK565>0,VLOOKUP(O565,EventConfig!A:C,3,FALSE)=4),3,\"\"),1)))","v":1},500213,null,5623,5002]
[500213,5607,"受疯道人所托，追查《御风化影诀》的下落",5616,"击败风无咎(0/1)",{"$nulls":4},103,{"$f":"IF(J566=\"\",\"\",VLOOKUP(J566,EventNPC!A:F,6,FALSE))","v":"疯道人"},5624,"所谓《御风化影诀》凡人无法驾驭，老夫念他风灵根强大便想着拿去便是",null,5002,13,"",null,null,{"$f":"IF(R566=\"\",\"\",\"-\"&VLOOKUP(R566,EventConditionConfig!A:C,3,FALSE)&IF(S566=\"\",\"\",CHAR(10)&\"-\"&VLOOKUP(S566,EventConditionConfig!A:C,3,FALSE)))","v":""},"","","","",null,null,"",null,null,"",{"$nulls":4},{"$f":"IF(A566=\"\",\"\",IF(ISNUMBER(Y566),2,IF(A567=\"\",IF(OR(AK566>0,VLOOKUP(O566,EventConfig!A:C,3,FALSE)=4),3,\"\"),1)))","v":1},500214,null,5624,5002]
[500214,5607,"受疯道人所托，追查《御风化影诀》的下落",5616,"击败风无咎(0/1)",{"$nulls":4},103,{"$f":"IF(J567=\"\",\"\",VLOOKUP(J567,EventNPC!A:F,6,FALSE))","v":"疯道人"},5625,"没想到你以魂为薪...以血为引...强行修炼",null,5002,14,"",null,null,{"$f":"IF(R567=\"\",\"\",\"-\"&VLOOKUP(R567,EventConditionConfig!A:C,3,FALSE)&IF(S567=\"\",\"\",CHAR(10)&\"-\"&VLOOKUP(S567,EventConditionConfig!A:C,3,FALSE)))","v":""},"","","","",null,null,"",null,null,"",{"$nulls":4},{"$f":"IF(A567=\"\",\"\",IF(ISNUMBER(Y567),2,IF(A568=\"\",IF(OR(AK567>0,VLOOKUP(O567,EventConfig!A:C,3,FALSE)=4),3,\"\"),1)))","v":1},500215,null,5625,5002]
[500215,5607,"受疯道人所托，追查《御风化影诀》的下落",5616,"击败风无咎(0/1)",{"$nulls":4},103,{"$f":"IF(J568=\"\",\"\",VLOOKUP(J568,EventNPC!A:F,6,FALSE))","v":"疯道人"},5626,"今日放你一马，去洗涤魔气后还能拜入我的门下",null,5002,15,"",null,null,{"$f":"IF(R568=\"\",\"\",\"-\"&VLOOKUP(R568,EventConditionConfig!A:C,3,FALSE)&IF(S568=\"\",\"\",CHAR(10)&\"-\"&VLOOKUP(S568,EventConditionConfig!A:C,3,FALSE)))","v":""},"","","","",null,null,"",null,null,"",{"$nulls":4},{"$f":"IF(A568=\"\",\"\",IF(ISNUMBER(Y568),2,IF(A569=\"\",IF(OR(AK568>0,VLOOKUP(O568,EventConfig!A:C,3,FALSE)=4),3,\"\"),1)))","v":1},500216,null,5626,5002]
[500216,5607,"受疯道人所托，追查《御风化影诀》的下落",5616,"击败风无咎(0/1)",{"$nulls":4},103,{"$f":"IF(J569=\"\",\"\",VLOOKUP(J569,EventNPC!A:F,6,FALSE))","v":"疯道人"},5627,"记住，靠吞噬得来的力量，终有一日会反噬其主。",null,5002,16,"",null,null,{"$f":"IF(R569=\"\",\"\",\"-\"&VLOOKUP(R569,EventConditionConfig!A:C,3,FALSE)&IF(S569=\"\",\"\",CHAR(10)&\"-\"&VLOOKUP(S569,EventConditionConfig!A:C,3,FALSE)))","v":""},"","","","",null,null,"",null,null,"",{"$nulls":4},{"$f":"IF(A569=\"\",\"\",IF(ISNUMBER(Y569),2,IF(A570=\"\",IF(OR(AK569>0,VLOOKUP(O569,EventConfig!A:C,3,FALSE)=4),3,\"\"),1)))","v":{"$error":"#N/A"}},{"$error":"#N/A"},null,5627,5002]
[null,"",null,"",{"$nulls":6},{"$f":"IF(J570=\"\",\"\",VLOOKUP(J570,EventNPC!A:F,6,FALSE))","v":""},"",null,null,null,"",{"$nulls":5},"","","",null,null,"",null,null,"",{"$nulls":4},{"$f":"IF(A570=\"\",\"\",IF(ISNUMBER(Y570),2,IF(A571=\"\",IF(OR(AK570>0,VLOOKUP(O570,EventConfig!A:C,3,FALSE)=4),3,\"\"),1)))","v":""},"",null,"",0]
[{"$f":"O571*100+P571","v":101201},5628,"神识探索至一处矿井之中，此处灵气氤氲","",{"$nulls":6},{"$f":"IF(J571=\"\",\"\",VLOOKUP(J571,EventNPC!A:F,6,FALSE))","v":""},5629,"前往矿井采集灵矿",null,1012,1,{"$f":"_xlfn.TEXTJOIN(\";\",1,R571:S571)","v":""},null,null,{"$f":"IF(R571=\"\",\"\",\"-\"&VLOOKUP(R571,EventConditionConfig!A:C,3,FALSE)&IF(S571=\"\",\"\",CHAR(10)&\"-\"&VLOOKUP(S571,EventConditionConfig!A:C,3,FALSE)))","v":""},{"$f":"IF(Y571=\"\",\"\",1)","v":""},"","","",null,null,"",null,null,"",{"$nulls":4},{"$f":"IF(A571=\"\",\"\",IF(ISNUMBER(Y571),2,IF(A572=\"\",IF(OR(AK571>0,VLOOKUP(O571,EventConfig!A:C,3,FALSE)=4),3,\"\"),1)))","v":{"$error":"#N/A"}},{"$error":"#N/A"},null,5629,1012]
[null,"",null,"",{"$nulls":6},{"$f":"IF(J572=\"\",\"\",VLOOKUP(J572,EventNPC!A:F,6,FALSE))","v":""},"",null,null,null,"",{"$nulls":5},"","","",null,null,"",null,null,"",{"$nulls":4},{"$f":"IF(A572=\"\",\"\",IF(ISNUMBER(Y572),2,IF(A573=\"\",IF(OR(AK572>0,VLOOKUP(O572,EventConfig!A:C,3,FALSE)=4),3,\"\"),1)))","v":""},"",null,"",0]
[{"$f":"O573*100+P573","v":101301},5630,"神识经过一处荒废寺庙之外，寺庙之中似乎有不同寻常之物","",{"$nulls":6},{"$f":"IF(J573=\"\",\"\",VLOOKUP(J573,EventNPC!A:F,6,FALSE))","v":""},5631,"进入寺庙找寻散发灵气的修为丹",null,1013,1,{"$f":"_xlfn.TEXTJOIN(\";\",1,R573:S573)","v":""},null,null,{"$f":"IF(R573=\"\",\"\",\"-\"&VLOOKUP(R573,EventConditionConfig!A:C,3,FALSE)&IF(S573=\"\",\"\",CHAR(10)&\"-\"&VLOOKUP(S573,EventConditionConfig!A:C,3,FALSE)))","v":""},{"$f":"IF(Y573=\"\",\"\",1)","v":""},"","","",null,null,"",null,null,"",{"$nulls":4},{"$f":"IF(A573=\"\",\"\",IF(ISNUMBER(Y573),2,IF(A574=\"\",IF(OR(AK573>0,VLOOKUP(O573,EventConfig!A:C,3,FALSE)=4),3,\"\"),1)))","v":{"$error":"#N/A"}},{"$error":"#N/A"},null,5631,1013]
[null,"",null,"",{"$nulls":6},{"$f":"IF(J574=\"\",\"\",VLOOKUP(J574,EventNPC!A:F,6,FALSE))","v":""},"",null,null,null,"",{"$nulls":5},"","","",null,null,"",null,null,"",{"$nulls":4},{"$f":"IF(A574=\"\",\"\",IF(ISNUMBER(Y574),2,IF(A575=\"\",IF(OR(AK574>0,VLOOKUP(O574,EventConfig!A:C,3,FALSE)=4),3,\"\"),1)))","v":""},"",null,"",0]
[{"$f":"O575*100+P575","v":101401},5632,"神识至一处灵气充盈之地，似乎是处洞府","",{"$nulls":6},{"$f":"IF(J575=\"\",\"\",VLOOKUP(J575,EventNPC!A:F,6,FALSE))","v":""},5633,"进入洞府收集可用之物",null,1014,1,{"$f":"_xlfn.TEXTJOIN(\";\",1,R575:S575)","v":""},null,null,{"$f":"IF(R575=\"\",\"\",\"-\"&VLOOKUP(R575,EventConditionConfig!A:C,3,FALSE)&IF(S575=\"\",\"\",CHAR(10)&\"-\"&VLOOKUP(S575,EventConditionConfig!A:C,3,FALSE)))","v":""},{"$f":"IF(Y575=\"\",\"\",1)","v":""},"","","",null,null,"",null,null,"",{"$nulls":4},{"$f":"IF(A575=\"\",\"\",IF(ISNUMBER(Y575),2,IF(A576=\"\",IF(OR(AK575>0,VLOOKUP(O575,EventConfig!A:C,3,FALSE)=4),3,\"\"),1)))","v":{"$error":"#N/A"}},{"$error":"#N/A"},null,5633,1014]
[null,"",null,"",{"$nulls":6},{"$f":"IF(J576=\"\",\"\",VLOOKUP(J576,EventNPC!A:F,6,FALSE))","v":""},"",null,null,null,"",{"$nulls":5},"","","",null,null,"",null,null,"",{"$nulls":4},{"$f":"IF(A576=\"\",\"\",IF(ISNUMBER(Y576),2,IF(A577=\"\",IF(OR(AK576>0,VLOOKUP(O576,EventConfig!A:C,3,FALSE)=4),3,\"\"),1)))","v":""},"",null,"",0]
[{"$f":"O577*100+P577","v":101501},5634,"一个不知好歹的邪修拦住了你的去路！",5635,"击败山贼（0/1)",{"$nulls":4},107,{"$f":"IF(J577=\"\",\"\",VLOOKUP(J577,EventNPC!A:F,6,FALSE))","v":"村名甲"},5636,"此路是我开，此树是我栽，要想从此过，留下买命财！",null,1015,1,{"$f":"_xlfn.TEXTJOIN(\";\",1,R577:S577)","v":""},null,null,{"$f":"IF(R577=\"\",\"\",\"-\"&VLOOKUP(R577,EventConditionConfig!A:C,3,FALSE)&IF(S577=\"\",\"\",CHAR(10)&\"-\"&VLOOKUP(S577,EventConditionConfig!A:C,3,FALSE)))","v":""},{"$f":"IF(Y577=\"\",\"\",IF(ISTEXT(Y577),1,2))","v":""},"","","",null,null,"",null,null,"",{"$nulls":4},{"$f":"IF(A577=\"\",\"\",IF(ISNUMBER(Y577),2,IF(A578=\"\",IF(OR(AK577>0,VLOOKUP(O577,EventConfig!A:C,3,FALSE)=4),3,\"\"),1)))","v":1},101502,null,5636,1015]
[{"$f":"O578*100+P578","v":101502},5634,"一个不知好歹的邪修拦住了你的去路！",5635,"击败山贼（0/1)",{"$nulls":4},107,{"$f":"IF(J578=\"\",\"\",VLOOKUP(J578,EventNPC!A:F,6,FALSE))","v":"村名甲"},5637,"大胆山贼，拿命来！",null,1015,2,{"$f":"_xlfn.TEXTJOIN(\";\",1,R578:S578)","v":""},null,null,{"$f":"IF(R578=\"\",\"\",\"-\"&VLOOKUP(R578,EventConditionConfig!A:C,3,FALSE)&IF(S578=\"\",\"\",CHAR(10)&\"-\"&VLOOKUP(S578,EventConditionConfig!A:C,3,FALSE)))","v":""},2,100001,"","",100001,null,"",null,null,"",{"$nulls":4},{"$f":"IF(A578=\"\",\"\",IF(ISNUMBER(Y578),2,IF(A579=\"\",IF(OR(AK578>0,VLOOKUP(O578,EventConfig!A:C,3,FALSE)=4),3,\"\"),1)))","v":2},"101503;101",null,5637,1015]
[null,"",null,"",{"$nulls":6},{"$f":"IF(J579=\"\",\"\",VLOOKUP(J579,EventNPC!A:F,6,FALSE))","v":""},"",null,null,null,"",{"$nulls":5},"","","",null,null,"",null,null,"",{"$nulls":4},{"$f":"IF(A579=\"\",\"\",IF(ISNUMBER(Y579),2,IF(A580=\"\",IF(OR(AK579>0,VLOOKUP(O579,EventConfig!A:C,3,FALSE)=4),3,\"\"),1)))","v":""},"",null,"",0]
[{"$f":"O580*100+P580","v":101601},5638,"一位和尚叫住了你，貌似有什么急事",5639,"找到袈裟",{"$nulls":4},108,{"$f":"IF(J580=\"\",\"\",VLOOKUP(J580,EventNPC!A:F,6,FALSE))","v":"村名乙"},5640,"仙长，我的袈裟被可恶的妖兽夺走了，还请为老僧主持公道啊",null,1016,1,{"$f":"_xlfn.TEXTJOIN(\";\",1,R580:S580)","v":""},null,null,{"$f":"IF(R580=\"\",\"\",\"-\"&VLOOKUP(R580,EventConditionConfig!A:C,3,FALSE)&IF(S580=\"\",\"\",CHAR(10)&\"-\"&VLOOKUP(S580,EventConditionConfig!A:C,3,FALSE)))","v":""},{"$f":"IF(Y580=\"\",\"\",IF(ISTEXT(Y580),1,2))","v":""},"","","",null,null,"",null,null,"",{"$nulls":4},{"$f":"IF(A580=\"\",\"\",IF(ISNUMBER(Y580),2,IF(A581=\"\",IF(OR(AK580>0,VLOOKUP(O580,EventConfig!A:C,3,FALSE)=4),3,\"\"),1)))","v":1},101602,null,5640,1016]
[{"$f":"O581*100+P581","v":101602},5638,"一位和尚叫住了你，貌似有什么急事",5641,"使用神识寻找袈裟",{"$nulls":4},100,{"$f":"IF(J581=\"\",\"\",VLOOKUP(J581,EventNPC!A:F,6,FALSE))","v":"玩家"},{"$f":"IF(M581=\"\",\"\",MAX(AL580,AL579,B581,D581)+1)","v":5642},"在此等待即可",null,1016,2,{"$f":"_xlfn.TEXTJOIN(\";\",1,R581:S581)","v":""},null,null,{"$f":"IF(R581=\"\",\"\",\"-\"&VLOOKUP(R581,EventConditionConfig!A:C,3,FALSE)&IF(S581=\"\",\"\",CHAR(10)&\"-\"&VLOOKUP(S581,EventConditionConfig!A:C,3,FALSE)))","v":""},{"$f":"IF(Y581=\"\",\"\",IF(ISTEXT(Y581),1,2))","v":""},"","","",null,null,"",null,null,"",{"$nulls":4},{"$f":"IF(A581=\"\",\"\",IF(ISNUMBER(Y581),2,IF(A582=\"\",IF(OR(AK581>0,VLOOKUP(O581,EventConfig!A:C,3,FALSE)=4),3,\"\"),1)))","v":{"$error":"#N/A"}},{"$error":"#N/A"},30009,5642,1016]
[null,"",null,{"$f":"IF(E582=\"\",\"\",IF(E582=E581,D581,MAX(AL581,AL580,B582)+1))","v":""},{"$nulls":6},{"$f":"IF(J582=\"\",\"\",VLOOKUP(J582,EventNPC!A:F,6,FALSE))","v":""},"",null,null,null,"",{"$nulls":5},"","","",null,null,"",null,null,"",{"$nulls":4},{"$f":"IF(A582=\"\",\"\",IF(ISNUMBER(Y582),2,IF(A583=\"\",IF(OR(AK582>0,VLOOKUP(O582,EventConfig!A:C,3,FALSE)=4),3,\"\"),1)))","v":""},"",null,"",0]
[{"$f":"O583*100+P583","v":101701},5643,"一位和尚叫住了你，貌似有什么急事",5644,"找到袈裟",{"$nulls":4},108,{"$f":"IF(J583=\"\",\"\",VLOOKUP(J583,EventNPC!A:F,6,FALSE))","v":"村名乙"},5645,"感谢仙长帮我寻回这件袈裟！",null,1017,1,{"$f":"_xlfn.TEXTJOIN(\";\",1,R583:S583)","v":"18"},18,null,{"$f":"IF(R583=\"\",\"\",\"-\"&VLOOKUP(R583,EventConditionConfig!A:C,3,FALSE)&IF(S583=\"\",\"\",CHAR(10)&\"-\"&VLOOKUP(S583,EventConditionConfig!A:C,3,FALSE)))","v":"-获得一件袈裟"},{"$f":"IF(Y583=\"\",\"\",IF(ISTEXT(Y583),1,2))","v":""},"","","",null,null,"",null,null,"",{"$nulls":4},{"$f":"IF(A583=\"\",\"\",IF(ISNUMBER(Y583),2,IF(A584=\"\",IF(OR(AK583>0,VLOOKUP(O583,EventConfig!A:C,3,FALSE)=4),3,\"\"),1)))","v":{"$error":"#N/A"}},{"$error":"#N/A"},null,5645,1017]
[null,"",null,"",{"$nulls":6},{"$f":"IF(J584=\"\",\"\",VLOOKUP(J584,EventNPC!A:F,6,FALSE))","v":""},"",null,null,null,"",{"$nulls":5},"","","",null,null,"",null,null,"",{"$nulls":4},{"$f":"IF(A584=\"\",\"\",IF(ISNUMBER(Y584),2,IF(A585=\"\",IF(OR(AK584>0,VLOOKUP(O584,EventConfig!A:C,3,FALSE)=4),3,\"\"),1)))","v":""},"",null,{"$f":"IF(A584=\"\",\"\",MAX(B584,D584,L584,X584,AA584,AL583,AL582,AD584))","v":""},{"$f":"O584","v":0}]
[{"$f":"O585*100+P585","v":3000901},5646,"击杀灵兽获得袈裟","",{"$nulls":6},{"$f":"IF(J585=\"\",\"\",VLOOKUP(J585,EventNPC!A:F,6,FALSE))","v":""},"",null,null,30009,1,{"$f":"_xlfn.TEXTJOIN(\";\",1,R585:S585)","v":""},null,null,{"$f":"IF(R585=\"\",\"\",\"-\"&VLOOKUP(R585,EventConditionConfig!A:C,3,FALSE)&IF(S585=\"\",\"\",CHAR(10)&\"-\"&VLOOKUP(S585,EventConditionConfig!A:C,3,FALSE)))","v":""},{"$f":"IF(Y585=\"\",\"\",IF(ISTEXT(Y585),1,2))","v":2},10001,"","",10001,null,"",null,null,"",null,null,1301,1,{"$f":"IF(A585=\"\",\"\",IF(ISNUMBER(Y585),2,IF(A586=\"\",IF(OR(AK585>0,VLOOKUP(O585,EventConfig!A:C,3,FALSE)=4),3,\"\"),1)))","v":2},"300902;101",300902,5646,30009]
[3000902,5646,"击杀灵兽获得袈裟","",{"$nulls":6},{"$f":"IF(J586=\"\",\"\",VLOOKUP(J586,EventNPC!A:F,6,FALSE))","v":""},"",null,null,30009,2,"",null,null,{"$f":"IF(R586=\"\",\"\",\"-\"&VLOOKUP(R586,EventConditionConfig!A:C,3,FALSE)&IF(S586=\"\",\"\",CHAR(10)&\"-\"&VLOOKUP(S586,EventConditionConfig!A:C,3,FALSE)))","v":""},null,"","","",null,null,"",null,null,"",{"$nulls":4},{"$f":"IF(A586=\"\",\"\",IF(ISNUMBER(Y586),2,IF(A587=\"\",IF(OR(AK586>0,VLOOKUP(O586,EventConfig!A:C,3,FALSE)=4),3,\"\"),1)))","v":3},1017,1017,5646,30009]
[null,"",null,"",{"$nulls":6},{"$f":"IF(J587=\"\",\"\",VLOOKUP(J587,EventNPC!A:F,6,FALSE))","v":""},"",null,null,null,{"$f":"IF(O587=\"\",\"\",IF(O587=O586,P586+1,1))","v":""},{"$nulls":5},"","","",null,null,"",null,null,"",{"$nulls":4},{"$f":"IF(A587=\"\",\"\",IF(ISNUMBER(Y587),2,IF(A588=\"\",IF(OR(AK587>0,VLOOKUP(O587,EventConfig!A:C,3,FALSE)=4),3,\"\"),1)))","v":""},"",null,"",0]
[101801,5647,"云游修士历练在即，急待前辈指点一二",5648,"指引云游修士",{"$nulls":4},107,{"$f":"IF(J588=\"\",\"\",VLOOKUP(J588,EventNPC!A:F,6,FALSE))","v":"村名甲"},5649,"前辈还请赐教一二",null,1018,1,"",null,null,{"$f":"IF(R588=\"\",\"\",\"-\"&VLOOKUP(R588,EventConditionConfig!A:C,3,FALSE)&IF(S588=\"\",\"\",CHAR(10)&\"-\"&VLOOKUP(S588,EventConditionConfig!A:C,3,FALSE)))","v":""},"","",{"$f":"_xlfn.TEXTJOIN(\";\",1,X588,AA588,AD588)","v":""},{"$f":"IF(OR(ISNUMBER(Y588),Y588=\"\"),\"\",MAX(AL587,AL585,B588,D588,L588)+1)","v":""},null,null,{"$f":"IF(OR(ISNUMBER(AB588),AB588=\"\"),\"\",X588+1)","v":""},null,null,"",{"$nulls":4},{"$f":"IF(A588=\"\",\"\",IF(ISNUMBER(Y588),2,IF(A589=\"\",IF(OR(AK588>0,VLOOKUP(O588,EventConfig!A:C,3,FALSE)=4),3,\"\"),1)))","v":1},101802,null,5649,1018]
[101802,{"$f":"IF(C589=\"\",\"\",IF(C589=C588,B588,MAX(AL588,AL587)+1))","v":5647},"云游修士历练在即，急待前辈指点一二",5648,"指引云游修士",{"$nulls":4},100,{"$f":"IF(J589=\"\",\"\",VLOOKUP(J589,EventNPC!A:F,6,FALSE))","v":"玩家"},5650,"\"\"",null,1018,2,"",null,null,{"$f":"IF(R589=\"\",\"\",\"-\"&VLOOKUP(R589,EventConditionConfig!A:C,3,FALSE)&IF(S589=\"\",\"\",CHAR(10)&\"-\"&VLOOKUP(S589,EventConditionConfig!A:C,3,FALSE)))","v":""},1,"101804;101803","5651;5652",5651,"不予理睬直接离开",101804,5652,"指导云游修士进行修炼",null,{"$f":"IF(OR(ISNUMBER(AE589),AE589=\"\"),\"\",AA589+1)","v":""},{"$nulls":4},{"$f":"IF(A589=\"\",\"\",IF(ISNUMBER(Y589),2,IF(A590=\"\",IF(OR(AK589>0,VLOOKUP(O589,EventConfig!A:C,3,FALSE)=4),3,\"\"),1)))","v":1},101803,null,5652,1018]
[101803,5647,"云游修士历练在即，急待前辈指点一二",5648,"指引云游修士",{"$nulls":4},107,{"$f":"IF(J590=\"\",\"\",VLOOKUP(J590,EventNPC!A:F,6,FALSE))","v":"村名甲"},5653,"多谢前辈！",null,1018,3,"",null,null,{"$f":"IF(R590=\"\",\"\",\"-\"&VLOOKUP(R590,EventConditionConfig!A:C,3,FALSE)&IF(S590=\"\",\"\",CHAR(10)&\"-\"&VLOOKUP(S590,EventConditionConfig!A:C,3,FALSE)))","v":""},"",{"$f":"IF(U590=1,_xlfn.TEXTJOIN(\";\",1,IF(Z590=\"\",A590+1,Z590),IF(AND(AA590<>\"\",AC590=\"\"),A590+1,AC590),IF(AND(AD590<>\"\",AF590=\"\"),A590+1,AF590)),IF(U590=2,Y590,\"\"))","v":""},"","",null,null,"",null,null,"",null,null,1202,1,{"$f":"IF(A590=\"\",\"\",IF(ISNUMBER(Y590),2,IF(A591=\"\",IF(OR(AK590>0,VLOOKUP(O590,EventConfig!A:C,3,FALSE)=4),3,\"\"),1)))","v":1},{"$f":"IF(AI590=\"\",\"\",CHOOSE(AI590,IF(AK590=\"\",A590+1,AK590),CONCATENATE(IF(AK590=\"\",A590+1,AK590),\";101\"),IF(AK590=\"\",O590+1,AK590)))","v":101804},null,5653,1018]
[101804,5647,"云游修士历练在即，急待前辈指点一二",5648,"指引云游修士",{"$nulls":5},{"$f":"IF(J591=\"\",\"\",VLOOKUP(J591,EventNPC!A:F,6,FALSE))","v":""},5654,"云游修士见你不愿教导便离开了",null,1018,4,"",null,null,{"$f":"IF(R591=\"\",\"\",\"-\"&VLOOKUP(R591,EventConditionConfig!A:C,3,FALSE)&IF(S591=\"\",\"\",CHAR(10)&\"-\"&VLOOKUP(S591,EventConditionConfig!A:C,3,FALSE)))","v":""},"","","","",null,null,"",null,null,"",null,null,1201,1,{"$f":"IF(A591=\"\",\"\",IF(ISNUMBER(Y591),2,IF(A592=\"\",IF(OR(AK591>0,VLOOKUP(O591,EventConfig!A:C,3,FALSE)=4),3,\"\"),1)))","v":{"$error":"#N/A"}},{"$error":"#N/A"},null,5654,1018]
[null,"",null,"",{"$nulls":6},{"$f":"IF(J592=\"\",\"\",VLOOKUP(J592,EventNPC!A:F,6,FALSE))","v":""},"",null,null,null,"",{"$nulls":5},"","","",null,null,"",null,null,"",{"$nulls":4},{"$f":"IF(A592=\"\",\"\",IF(ISNUMBER(Y592),2,IF(A593=\"\",IF(OR(AK592>0,VLOOKUP(O592,EventConfig!A:C,3,FALSE)=4),3,\"\"),1)))","v":""},"",null,"",0]
[{"$f":"O593*100+P593","v":101901},5655,"逍遥宗的长老似乎有事找你",5656,"清剿妖王（0/1）",{"$nulls":4},108,{"$f":"IF(J593=\"\",\"\",VLOOKUP(J593,EventNPC!A:F,6,FALSE))","v":"村名乙"},5657,"今日我宗弟子发现云海妖气冲天，怕是有妖兽来临。还望小友走一趟，消灭那的妖王",null,1019,1,{"$f":"_xlfn.TEXTJOIN(\";\",1,R593:S593)","v":""},null,null,null,{"$f":"IF(Y593=\"\",\"\",IF(ISTEXT(Y593),1,2))","v":""},"","","",null,null,"",null,null,"",{"$nulls":4},{"$f":"IF(A593=\"\",\"\",IF(ISNUMBER(Y593),2,IF(A594=\"\",IF(OR(AK593>0,VLOOKUP(O593,EventConfig!A:C,3,FALSE)=4),3,\"\"),1)))","v":1},101902,null,5657,1019]
[{"$f":"O594*100+P594","v":101902},5655,"逍遥宗的长老似乎有事找你",5656,"清剿妖王（0/1）",{"$nulls":4},100,{"$f":"IF(J594=\"\",\"\",VLOOKUP(J594,EventNPC!A:F,6,FALSE))","v":"玩家"},5658,"小事一桩",null,1019,2,{"$f":"_xlfn.TEXTJOIN(\";\",1,R594:S594)","v":""},null,null,{"$f":"IF(R594=\"\",\"\",\"-\"&VLOOKUP(R594,EventConditionConfig!A:C,3,FALSE)&IF(S594=\"\",\"\",CHAR(10)&\"-\"&VLOOKUP(S594,EventConditionConfig!A:C,3,FALSE)))","v":""},5,"","","",null,null,"",null,null,"",{"$nulls":4},{"$f":"IF(A594=\"\",\"\",IF(ISNUMBER(Y594),2,IF(A595=\"\",IF(OR(AK594>0,VLOOKUP(O594,EventConfig!A:C,3,FALSE)=4),3,\"\"),1)))","v":1},101903,null,5658,1019]
[{"$f":"O595*100+P595","v":101903},5659,"前往清剿妖王",5656,"清剿妖王（0/1）",{"$nulls":5},{"$f":"IF(J595=\"\",\"\",VLOOKUP(J595,EventNPC!A:F,6,FALSE))","v":""},"",null,null,1019,3,{"$f":"_xlfn.TEXTJOIN(\";\",1,R595:S595)","v":""},null,null,{"$f":"IF(R595=\"\",\"\",\"-\"&VLOOKUP(R595,EventConditionConfig!A:C,3,FALSE)&IF(S595=\"\",\"\",CHAR(10)&\"-\"&VLOOKUP(S595,EventConditionConfig!A:C,3,FALSE)))","v":""},{"$f":"IF(Y595=\"\",\"\",IF(ISTEXT(Y595),1,2))","v":2},100001,"","",100001,null,"",null,null,"",{"$nulls":4},{"$f":"IF(A595=\"\",\"\",IF(ISNUMBER(Y595),2,IF(A596=\"\",IF(OR(AK595>0,VLOOKUP(O595,EventConfig!A:C,3,FALSE)=4),3,\"\"),1)))","v":2},"101904;101",null,5659,1019]
[null,"",null,"",{"$nulls":6},{"$f":"IF(J596=\"\",\"\",VLOOKUP(J596,EventNPC!A:F,6,FALSE))","v":""},"",null,null,null,"",{"$nulls":5},"","","",null,null,"",null,null,"",{"$nulls":4},{"$f":"IF(A596=\"\",\"\",IF(ISNUMBER(Y596),2,IF(A597=\"\",IF(OR(AK596>0,VLOOKUP(O596,EventConfig!A:C,3,FALSE)=4),3,\"\"),1)))","v":""},"",null,"",0]
[{"$f":"O597*100+P597","v":102001},5660,"村民急匆匆的前来找你",5661,"清剿妖兽（0/1）",{"$nulls":4},108,{"$f":"IF(J597=\"\",\"\",VLOOKUP(J597,EventNPC!A:F,6,FALSE))","v":"村名乙"},5662,"仙长，村中有妖兽闹事，还请出手解决！",null,1020,1,{"$f":"_xlfn.TEXTJOIN(\";\",1,R597:S597)","v":""},null,null,null,{"$f":"IF(Y597=\"\",\"\",IF(ISTEXT(Y597),1,2))","v":1},"102002;102002","5663;5664",5663,"区区妖兽，灭掉便是",null,5664,"我可是要酬劳的",null,"",{"$nulls":4},{"$f":"IF(A597=\"\",\"\",IF(ISNUMBER(Y597),2,IF(A598=\"\",IF(OR(AK597>0,VLOOKUP(O597,EventConfig!A:C,3,FALSE)=4),3,\"\"),1)))","v":1},102002,null,5664,1020]
[102002,5660,"村民急匆匆的前来找你",5661,"清剿妖兽（0/1）",{"$nulls":4},108,{"$f":"IF(J598=\"\",\"\",VLOOKUP(J598,EventNPC!A:F,6,FALSE))","v":"村名乙"},5665,"多谢仙长相救!报酬好说",null,1020,2,"",null,null,null,{"$f":"IF(Y598=\"\",\"\",IF(ISTEXT(Y598),1,2))","v":2},100001,"","",100001,null,"",null,null,"",null,null,1203,1,{"$f":"IF(A598=\"\",\"\",IF(ISNUMBER(Y598),2,IF(A599=\"\",IF(OR(AK598>0,VLOOKUP(O598,EventConfig!A:C,3,FALSE)=4),3,\"\"),1)))","v":2},"102003;101",null,5665,1020]
[null,"",null,"",{"$nulls":6},{"$f":"IF(J599=\"\",\"\",VLOOKUP(J599,EventNPC!A:F,6,FALSE))","v":""},"",null,null,null,"",{"$nulls":5},"","","",null,null,"",null,null,"",{"$nulls":4},{"$f":"IF(A599=\"\",\"\",IF(ISNUMBER(Y599),2,IF(A600=\"\",IF(OR(AK599>0,VLOOKUP(O599,EventConfig!A:C,3,FALSE)=4),3,\"\"),1)))","v":""},"",null,"",0]
[102101,5666,"一个和尚急匆匆的叫住了你",5667,"与和尚对话",{"$nulls":4},108,{"$f":"IF(J600=\"\",\"\",VLOOKUP(J600,EventNPC!A:F,6,FALSE))","v":"村名乙"},5668,"前些日子有妖兽在寺中大闹，盗走了琉璃盏，还请仙长出手相助",null,1021,1,"",null,null,null,{"$f":"IF(Y600=\"\",\"\",IF(ISTEXT(Y600),1,2))","v":""},"","","",null,null,"",null,null,"",{"$nulls":4},{"$f":"IF(A600=\"\",\"\",IF(ISNUMBER(Y600),2,IF(A601=\"\",IF(OR(AK600>0,VLOOKUP(O600,EventConfig!A:C,3,FALSE)=4),3,\"\"),1)))","v":1},102102,null,5668,1021]
[102102,5666,"一个和尚急匆匆的叫住了你",5667,"与和尚对话",{"$nulls":4},100,{"$f":"IF(J601=\"\",\"\",VLOOKUP(J601,EventNPC!A:F,6,FALSE))","v":"玩家"},5669," ",null,1021,2,"",null,null,{"$f":"IF(R601=\"\",\"\",\"-\"&VLOOKUP(R601,EventConditionConfig!A:C,3,FALSE)&IF(S601=\"\",\"\",CHAR(10)&\"-\"&VLOOKUP(S601,EventConditionConfig!A:C,3,FALSE)))","v":""},{"$f":"IF(Y601=\"\",\"\",IF(ISTEXT(Y601),1,2))","v":1},"102103","5670",5670,"还请在此等候我拿来琉璃盏",null,"",null,null,"",{"$nulls":4},{"$f":"IF(A601=\"\",\"\",IF(ISNUMBER(Y601),2,IF(A602=\"\",IF(OR(AK601>0,VLOOKUP(O601,EventConfig!A:C,3,FALSE)=4),3,\"\"),1)))","v":1},102103,null,5670,1021]
[102103,5666,"一个和尚急匆匆的叫住了你",5667,"与和尚对话",{"$nulls":4},108,{"$f":"IF(J602=\"\",\"\",VLOOKUP(J602,EventNPC!A:F,6,FALSE))","v":"村名乙"},5671,"感谢仙长相助！",null,1021,3,"19",19,null,{"$f":"IF(R602=\"\",\"\",\"-\"&VLOOKUP(R602,EventConditionConfig!A:C,3,FALSE)&IF(S602=\"\",\"\",CHAR(10)&\"-\"&VLOOKUP(S602,EventConditionConfig!A:C,3,FALSE)))","v":"-夺回琉璃盏"},{"$f":"IF(Y602=\"\",\"\",IF(ISTEXT(Y602),1,2))","v":""},"","","",null,null,"",null,null,"",null,null,1203,1,{"$f":"IF(A602=\"\",\"\",IF(ISNUMBER(Y602),2,IF(A603=\"\",IF(OR(AK602>0,VLOOKUP(O602,EventConfig!A:C,3,FALSE)=4),3,\"\"),1)))","v":{"$error":"#N/A"}},{"$error":"#N/A"},null,5671,1021]
[null,"",null,"",{"$nulls":6},{"$f":"IF(J603=\"\",\"\",VLOOKUP(J603,EventNPC!A:F,6,FALSE))","v":""},"",null,null,null,"",{"$nulls":5},"","","",null,null,"",null,null,"",{"$nulls":4},{"$f":"IF(A603=\"\",\"\",IF(ISNUMBER(Y603),2,IF(A604=\"\",IF(OR(AK603>0,VLOOKUP(O603,EventConfig!A:C,3,FALSE)=4),3,\"\"),1)))","v":""},"",null,"",0]
[{"$f":"O604*100+P604","v":3001001},5672,"击败盗走琉璃盏的妖兽",5673,"击败妖兽",{"$nulls":4},100,{"$f":"IF(J604=\"\",\"\",VLOOKUP(J604,EventNPC!A:F,6,FALSE))","v":"玩家"},5674,"好一个妖兽竟敢盗走琉璃盏！",null,30010,1,{"$f":"_xlfn.TEXTJOIN(\";\",1,R604:S604)","v":""},null,null,null,{"$f":"IF(Y604=\"\",\"\",IF(ISTEXT(Y604),1,2))","v":2},100001,"","",100001,null,"",null,null,"",null,null,1001,null,{"$f":"IF(A604=\"\",\"\",IF(ISNUMBER(Y604),2,IF(A605=\"\",IF(OR(AK604>0,VLOOKUP(O604,EventConfig!A:C,3,FALSE)=4),3,\"\"),1)))","v":2},"3001002;101",null,5674,30010]
[null,"",null,"",{"$nulls":6},{"$f":"IF(J605=\"\",\"\",VLOOKUP(J605,EventNPC!A:F,6,FALSE))","v":""},"",null,null,null,"",{"$nulls":4},"","","","",null,null,"",null,null,"",{"$nulls":4},{"$f":"IF(A605=\"\",\"\",IF(ISNUMBER(Y605),2,IF(A606=\"\",IF(OR(AK605>0,VLOOKUP(O605,EventConfig!A:C,3,FALSE)=4),3,\"\"),1)))","v":""},"",null,"",0]
[102201,5675,"道之何在，明境道长前来论道",5676,"与道长进行对话",{"$nulls":4},107,{"$f":"IF(J606=\"\",\"\",VLOOKUP(J606,EventNPC!A:F,6,FALSE))","v":"村名甲"},5677,"世人都知神仙好，惟有功名忘不了。",null,1022,1,"",null,null,{"$f":"IF(R606=\"\",\"\",\"-\"&VLOOKUP(R606,EventConditionConfig!A:C,3,FALSE)&IF(S606=\"\",\"\",CHAR(10)&\"-\"&VLOOKUP(S606,EventConditionConfig!A:C,3,FALSE)))","v":""},"","","","",null,null,"",null,null,"",{"$nulls":4},{"$f":"IF(A606=\"\",\"\",IF(ISNUMBER(Y606),2,IF(A607=\"\",IF(OR(AK606>0,VLOOKUP(O606,EventConfig!A:C,3,FALSE)=4),3,\"\"),1)))","v":1},102202,null,5677,1022]
[102202,5675,"道之何在，明境道长前来论道",5676,"与道长进行对话",{"$nulls":4},107,{"$f":"IF(J607=\"\",\"\",VLOOKUP(J607,EventNPC!A:F,6,FALSE))","v":"村名甲"},5678,"古今将相在何方？荒冢一堆草没了。",null,1022,2,"",null,null,{"$f":"IF(R607=\"\",\"\",\"-\"&VLOOKUP(R607,EventConditionConfig!A:C,3,FALSE)&IF(S607=\"\",\"\",CHAR(10)&\"-\"&VLOOKUP(S607,EventConditionConfig!A:C,3,FALSE)))","v":""},"","","","",null,null,"",null,null,"",{"$nulls":4},{"$f":"IF(A607=\"\",\"\",IF(ISNUMBER(Y607),2,IF(A608=\"\",IF(OR(AK607>0,VLOOKUP(O607,EventConfig!A:C,3,FALSE)=4),3,\"\"),1)))","v":1},102203,null,5678,1022]
[102203,5675,"道之何在，明境道长前来论道",5676,"与道长进行对话",{"$nulls":4},107,{"$f":"IF(J608=\"\",\"\",VLOOKUP(J608,EventNPC!A:F,6,FALSE))","v":"村名甲"},5679,"仙友，这歌儿有些意思，可替我注解？",null,1022,3,"",null,null,{"$f":"IF(R608=\"\",\"\",\"-\"&VLOOKUP(R608,EventConditionConfig!A:C,3,FALSE)&IF(S608=\"\",\"\",CHAR(10)&\"-\"&VLOOKUP(S608,EventConditionConfig!A:C,3,FALSE)))","v":""},"","","","",null,null,"",null,null,"",{"$nulls":4},{"$f":"IF(A608=\"\",\"\",IF(ISNUMBER(Y608),2,IF(A609=\"\",IF(OR(AK608>0,VLOOKUP(O608,EventConfig!A:C,3,FALSE)=4),3,\"\"),1)))","v":1},102204,null,5679,1022]
[102204,5675,"道之何在，明境道长前来论道",5676,"与道长进行对话",{"$nulls":4},100,{"$f":"IF(J609=\"\",\"\",VLOOKUP(J609,EventNPC!A:F,6,FALSE))","v":"玩家"},5680,"\"\"",null,1022,4,"",null,null,{"$f":"IF(R609=\"\",\"\",\"-\"&VLOOKUP(R609,EventConditionConfig!A:C,3,FALSE)&IF(S609=\"\",\"\",CHAR(10)&\"-\"&VLOOKUP(S609,EventConditionConfig!A:C,3,FALSE)))","v":""},1,"102205;102207;102207","5681;5682",5681,"言语论道",null,5682,"拒绝回答",102207,"",null,102207,null,null,{"$f":"IF(A609=\"\",\"\",IF(ISNUMBER(Y609),2,IF(A610=\"\",IF(OR(AK609>0,VLOOKUP(O609,EventConfig!A:C,3,FALSE)=4),3,\"\"),1)))","v":1},102205,null,5682,1022]
[102205,5675,"道之何在，明境道长前来论道",5676,"与道长进行对话",{"$nulls":4},107,{"$f":"IF(J610=\"\",\"\",VLOOKUP(J610,EventNPC!A:F,6,FALSE))","v":"村名甲"},5683,"求仙不舍功名场，甚荒唐，到头来都是为他人作嫁衣裳。",null,1022,5,"",null,null,{"$f":"IF(R610=\"\",\"\",\"-\"&VLOOKUP(R610,EventConditionConfig!A:C,3,FALSE)&IF(S610=\"\",\"\",CHAR(10)&\"-\"&VLOOKUP(S610,EventConditionConfig!A:C,3,FALSE)))","v":""},"","","","",null,null,"",null,null,"",{"$nulls":4},{"$f":"IF(A610=\"\",\"\",IF(ISNUMBER(Y610),2,IF(A611=\"\",IF(OR(AK610>0,VLOOKUP(O610,EventConfig!A:C,3,FALSE)=4),3,\"\"),1)))","v":1},102206,null,5683,1022]
[102206,5675,"道之何在，明境道长前来论道",5676,"与道长进行对话",{"$nulls":4},107,{"$f":"IF(J611=\"\",\"\",VLOOKUP(J611,EventNPC!A:F,6,FALSE))","v":"村名甲"},5684,"明镜道长听到你的回复后，甚为满意的离去了。",null,1022,6,"",null,null,{"$f":"IF(R611=\"\",\"\",\"-\"&VLOOKUP(R611,EventConditionConfig!A:C,3,FALSE)&IF(S611=\"\",\"\",CHAR(10)&\"-\"&VLOOKUP(S611,EventConditionConfig!A:C,3,FALSE)))","v":""},"","","","",null,null,"",null,null,"",{"$nulls":4},{"$f":"IF(A611=\"\",\"\",IF(ISNUMBER(Y611),2,IF(A612=\"\",IF(OR(AK611>0,VLOOKUP(O611,EventConfig!A:C,3,FALSE)=4),3,\"\"),1)))","v":1},102207,null,5684,1022]
[102207,5675,"道之何在，明境道长前来论道",5676,"与道长进行对话",{"$nulls":4},107,{"$f":"IF(J612=\"\",\"\",VLOOKUP(J612,EventNPC!A:F,6,FALSE))","v":"村名甲"},5685,"明镜道长听到你的回复后，离开了。",null,1022,7,"",null,null,{"$f":"IF(R612=\"\",\"\",\"-\"&VLOOKUP(R612,EventConditionConfig!A:C,3,FALSE)&IF(S612=\"\",\"\",CHAR(10)&\"-\"&VLOOKUP(S612,EventConditionConfig!A:C,3,FALSE)))","v":""},"","","","",null,null,"",null,null,"",{"$nulls":4},{"$f":"IF(A612=\"\",\"\",IF(ISNUMBER(Y612),2,IF(A613=\"\",IF(OR(AK612>0,VLOOKUP(O612,EventConfig!A:C,3,FALSE)=4),3,\"\"),1)))","v":{"$error":"#N/A"}},{"$error":"#N/A"},null,5685,1022]
[null,"",null,"",{"$nulls":6},{"$f":"IF(J613=\"\",\"\",VLOOKUP(J613,EventNPC!A:F,6,FALSE))","v":""},"",null,null,null,"",{"$nulls":4},"","","","",null,null,"",null,null,"",{"$nulls":4},{"$f":"IF(A613=\"\",\"\",IF(ISNUMBER(Y613),2,IF(A614=\"\",IF(OR(AK613>0,VLOOKUP(O613,EventConfig!A:C,3,FALSE)=4),3,\"\"),1)))","v":""},"",null,"",0]
[{"$f":"O614*100+P614","v":102301},5686,"药童前来求得一枚丹药",5687,"与小药童对话(0/1)",{"$nulls":4},107,{"$f":"IF(J614=\"\",\"\",VLOOKUP(J614,EventNPC!A:F,6,FALSE))","v":"村名甲"},5688,"听闻道友经常出外历练，今日我师傅炼制丹药，尚缺一颗渡劫丹作为药引，苦寻不得，道友可否赠与一颗。",null,1023,1,{"$f":"_xlfn.TEXTJOIN(\";\",1,R614:S614)","v":""},null,null,{"$f":"IF(R614=\"\",\"\",\"-\"&VLOOKUP(R614,EventConditionConfig!A:C,3,FALSE)&IF(S614=\"\",\"\",CHAR(10)&\"-\"&VLOOKUP(S614,EventConditionConfig!A:C,3,FALSE)))","v":""},1,"102302;102303;102303","5689;5690",5689,"给予一颗渡劫丹",102302,5690,"没有此渡劫丹",102303,"",null,102303,null,null,{"$f":"IF(A614=\"\",\"\",IF(ISNUMBER(Y614),2,IF(A615=\"\",IF(OR(AK614>0,VLOOKUP(O614,EventConfig!A:C,3,FALSE)=4),3,\"\"),1)))","v":1},102302,null,5690,1023]
[{"$f":"O615*100+P615","v":102302},5686,"药童前来求得一枚丹药",5687,"与小药童对话(0/1)",{"$nulls":5},{"$f":"IF(J615=\"\",\"\",VLOOKUP(J615,EventNPC!A:F,6,FALSE))","v":""},5691,"你将丹药赠与药童。药童十分高兴表示可以回复命了。",null,1023,2,{"$f":"_xlfn.TEXTJOIN(\";\",1,R615:S615)","v":"20"},20,null,{"$f":"IF(R615=\"\",\"\",\"-\"&VLOOKUP(R615,EventConditionConfig!A:C,3,FALSE)&IF(S615=\"\",\"\",CHAR(10)&\"-\"&VLOOKUP(S615,EventConditionConfig!A:C,3,FALSE)))","v":"-给予渡劫丹"},"","","","",null,null,"",null,null,"",null,null,1001,null,{"$f":"IF(A615=\"\",\"\",IF(ISNUMBER(Y615),2,IF(A616=\"\",IF(OR(AK615>0,VLOOKUP(O615,EventConfig!A:C,3,FALSE)=4),3,\"\"),1)))","v":1},102303,null,5691,1023]
[{"$f":"O616*100+P616","v":102303},5686,"药童前来求得一枚丹药",5687,"与小药童对话(0/1)",{"$nulls":5},{"$f":"IF(J616=\"\",\"\",VLOOKUP(J616,EventNPC!A:F,6,FALSE))","v":""},5692,"药童听完便离开了",null,1023,3,{"$f":"_xlfn.TEXTJOIN(\";\",1,R616:S616)","v":""},null,null,{"$f":"IF(R616=\"\",\"\",\"-\"&VLOOKUP(R616,EventConditionConfig!A:C,3,FALSE)&IF(S616=\"\",\"\",CHAR(10)&\"-\"&VLOOKUP(S616,EventConditionConfig!A:C,3,FALSE)))","v":""},"","","","",null,null,"",null,null,"",{"$nulls":4},{"$f":"IF(A616=\"\",\"\",IF(ISNUMBER(Y616),2,IF(A617=\"\",IF(OR(AK616>0,VLOOKUP(O616,EventConfig!A:C,3,FALSE)=4),3,\"\"),1)))","v":{"$error":"#N/A"}},{"$error":"#N/A"},null,5692,1023]
[null,"",null,"",{"$nulls":6},{"$f":"IF(J617=\"\",\"\",VLOOKUP(J617,EventNPC!A:F,6,FALSE))","v":""},"",null,null,null,"",{"$nulls":4},"","","","",null,null,"",null,null,"",{"$nulls":4},{"$f":"IF(A617=\"\",\"\",IF(ISNUMBER(Y617),2,IF(A618=\"\",IF(OR(AK617>0,VLOOKUP(O617,EventConfig!A:C,3,FALSE)=4),3,\"\"),1)))","v":""},"",null,"",0]
[{"$f":"O618*100+P618","v":102401},5693,"风无咎前来武艺论道",5694,"与风无咎对话(0/1)",{"$nulls":4},112,{"$f":"IF(J618=\"\",\"\",VLOOKUP(J618,EventNPC!A:F,6,FALSE))","v":0},5695,"听闻道友最近修为又有所精进，特来讨教，望能切磋一二",null,1024,1,{"$f":"_xlfn.TEXTJOIN(\";\",1,R618:S618)","v":""},null,null,{"$f":"IF(R618=\"\",\"\",\"-\"&VLOOKUP(R618,EventConditionConfig!A:C,3,FALSE)&IF(S618=\"\",\"\",CHAR(10)&\"-\"&VLOOKUP(S618,EventConditionConfig!A:C,3,FALSE)))","v":""},1,"102402;102403;102403","5696;5697",5696,"全力切磋",102402,5697,"回绝切磋",102403,"",null,102403,null,null,{"$f":"IF(A618=\"\",\"\",IF(ISNUMBER(Y618),2,IF(A619=\"\",IF(OR(AK618>0,VLOOKUP(O618,EventConfig!A:C,3,FALSE)=4),3,\"\"),1)))","v":1},102402,null,5697,1024]
[{"$f":"O619*100+P619","v":102402},5693,"风无咎前来武艺论道",5694,"与风无咎对话(0/1)",{"$nulls":4},112,{"$f":"IF(J619=\"\",\"\",VLOOKUP(J619,EventNPC!A:F,6,FALSE))","v":0},5698,"还请讨教！",null,1024,2,{"$f":"_xlfn.TEXTJOIN(\";\",1,R619:S619)","v":""},null,null,{"$f":"IF(R619=\"\",\"\",\"-\"&VLOOKUP(R619,EventConditionConfig!A:C,3,FALSE)&IF(S619=\"\",\"\",CHAR(10)&\"-\"&VLOOKUP(S619,EventConditionConfig!A:C,3,FALSE)))","v":""},{"$f":"IF(Y619=\"\",\"\",IF(ISTEXT(Y619),1,2))","v":2},100001,"","",100001,null,"",null,null,"",null,null,1001,2,{"$f":"IF(A619=\"\",\"\",IF(ISNUMBER(Y619),2,IF(A620=\"\",IF(OR(AK619>0,VLOOKUP(O619,EventConfig!A:C,3,FALSE)=4),3,\"\"),1)))","v":2},"102403;101",null,5698,1024]
[{"$f":"O620*100+P620","v":102403},5693,"风无咎前来武艺论道",5694,"与风无咎对话(0/1)",{"$nulls":4},112,{"$f":"IF(J620=\"\",\"\",VLOOKUP(J620,EventNPC!A:F,6,FALSE))","v":0},5699,"若不愿意，也无妨，此物赠与道友继续修行",null,1024,3,{"$f":"_xlfn.TEXTJOIN(\";\",1,R620:S620)","v":""},null,null,{"$f":"IF(R620=\"\",\"\",\"-\"&VLOOKUP(R620,EventConditionConfig!A:C,3,FALSE)&IF(S620=\"\",\"\",CHAR(10)&\"-\"&VLOOKUP(S620,EventConditionConfig!A:C,3,FALSE)))","v":""},"","","","",null,null,"",null,null,"",null,null,1001,1,{"$f":"IF(A620=\"\",\"\",IF(ISNUMBER(Y620),2,IF(A621=\"\",IF(OR(AK620>0,VLOOKUP(O620,EventConfig!A:C,3,FALSE)=4),3,\"\"),1)))","v":{"$error":"#N/A"}},{"$error":"#N/A"},null,5699,1024]
[null,"",null,"",{"$nulls":6},{"$f":"IF(J621=\"\",\"\",VLOOKUP(J621,EventNPC!A:F,6,FALSE))","v":""},"",null,null,null,"",{"$nulls":4},"","","","",null,null,"",null,null,"",{"$nulls":4},{"$f":"IF(A621=\"\",\"\",IF(ISNUMBER(Y621),2,IF(A622=\"\",IF(OR(AK621>0,VLOOKUP(O621,EventConfig!A:C,3,FALSE)=4),3,\"\"),1)))","v":""},"",null,"",0]
[{"$f":"O622*100+P622","v":102501},5700,"魔族修士前来威胁你加入魔族",5701,"与魔族交涉",{"$nulls":4},107,{"$f":"IF(J622=\"\",\"\",VLOOKUP(J622,EventNPC!A:F,6,FALSE))","v":"村名甲"},5702,"三番两次邀请你加入我魔族，你却为了北海执迷不悟，今日本宫便让你知道拒绝魔族的后果！",null,1025,1,{"$f":"_xlfn.TEXTJOIN(\";\",1,R622:S622)","v":""},null,null,{"$f":"IF(R622=\"\",\"\",\"-\"&VLOOKUP(R622,EventConditionConfig!A:C,3,FALSE)&IF(S622=\"\",\"\",CHAR(10)&\"-\"&VLOOKUP(S622,EventConditionConfig!A:C,3,FALSE)))","v":""},1,"102502;102503;102503","5703;5704",5703,"全力应战",102502,5704,"御剑逃离",102503,"",null,102503,null,null,{"$f":"IF(A622=\"\",\"\",IF(ISNUMBER(Y622),2,IF(A623=\"\",IF(OR(AK622>0,VLOOKUP(O622,EventConfig!A:C,3,FALSE)=4),3,\"\"),1)))","v":1},102502,null,5704,1025]
[{"$f":"O623*100+P623","v":102502},5700,"魔族修士前来威胁你加入魔族",5701,"与魔族交涉",{"$nulls":4},107,{"$f":"IF(J623=\"\",\"\",VLOOKUP(J623,EventNPC!A:F,6,FALSE))","v":"村名甲"},5705,"你可知魔族威名！受死吧！",null,1025,2,{"$f":"_xlfn.TEXTJOIN(\";\",1,R623:S623)","v":""},null,null,{"$f":"IF(R623=\"\",\"\",\"-\"&VLOOKUP(R623,EventConditionConfig!A:C,3,FALSE)&IF(S623=\"\",\"\",CHAR(10)&\"-\"&VLOOKUP(S623,EventConditionConfig!A:C,3,FALSE)))","v":""},2,100001,"","",100001,null,"",null,null,"",null,null,1001,1,{"$f":"IF(A623=\"\",\"\",IF(ISNUMBER(Y623),2,IF(A624=\"\",IF(OR(AK623>0,VLOOKUP(O623,EventConfig!A:C,3,FALSE)=4),3,\"\"),1)))","v":2},"102503;101",null,5705,1025]
[{"$f":"O624*100+P624","v":102503},5700,"魔族修士前来威胁你加入魔族",5701,"与魔族交涉",{"$nulls":4},107,{"$f":"IF(J624=\"\",\"\",VLOOKUP(J624,EventNPC!A:F,6,FALSE))","v":"村名甲"},5706,"可恶！今日饶你一马",null,1025,3,{"$f":"_xlfn.TEXTJOIN(\";\",1,R624:S624)","v":""},null,null,{"$f":"IF(R624=\"\",\"\",\"-\"&VLOOKUP(R624,EventConditionConfig!A:C,3,FALSE)&IF(S624=\"\",\"\",CHAR(10)&\"-\"&VLOOKUP(S624,EventConditionConfig!A:C,3,FALSE)))","v":""},"","","","",null,null,"",null,null,"",{"$nulls":4},{"$f":"IF(A624=\"\",\"\",IF(ISNUMBER(Y624),2,IF(A625=\"\",IF(OR(AK624>0,VLOOKUP(O624,EventConfig!A:C,3,FALSE)=4),3,\"\"),1)))","v":{"$error":"#N/A"}},{"$error":"#N/A"},null,5706,1025]
[null,"",null,"",{"$nulls":6},{"$f":"IF(J625=\"\",\"\",VLOOKUP(J625,EventNPC!A:F,6,FALSE))","v":""},"",null,null,null,"",{"$nulls":4},"","","","",null,null,"",null,null,"",{"$nulls":4},{"$f":"IF(A625=\"\",\"\",IF(ISNUMBER(Y625),2,IF(A626=\"\",IF(OR(AK625>0,VLOOKUP(O625,EventConfig!A:C,3,FALSE)=4),3,\"\"),1)))","v":""},"",null,"",0]
[{"$f":"O626*100+P626","v":102601},5707,"妖兽入侵",5708,"前去击杀妖兽",{"$nulls":4},107,{"$f":"IF(J626=\"\",\"\",VLOOKUP(J626,EventNPC!A:F,6,FALSE))","v":"村名甲"},5709,"我在北海境内发现一只妖兽闯入，还请道友前往镇压",null,1026,1,{"$f":"_xlfn.TEXTJOIN(\";\",1,R626:S626)","v":""},null,null,{"$f":"IF(R626=\"\",\"\",\"-\"&VLOOKUP(R626,EventConditionConfig!A:C,3,FALSE)&IF(S626=\"\",\"\",CHAR(10)&\"-\"&VLOOKUP(S626,EventConditionConfig!A:C,3,FALSE)))","v":""},2,100001,"","",100001,null,"",null,null,"",{"$nulls":4},{"$f":"IF(A626=\"\",\"\",IF(ISNUMBER(Y626),2,IF(A627=\"\",IF(OR(AK626>0,VLOOKUP(O626,EventConfig!A:C,3,FALSE)=4),3,\"\"),1)))","v":2},"102602;101",null,5709,1026]
[{"$f":"O627*100+P627","v":102602},5707,"妖兽入侵",5708,"前去击杀妖兽",{"$nulls":4},107,{"$f":"IF(J627=\"\",\"\",VLOOKUP(J627,EventNPC!A:F,6,FALSE))","v":"村名甲"},5710,"北海境内越来越不安定了，若还有妖兽闯入，我会第一时间告知你",null,1026,2,{"$f":"_xlfn.TEXTJOIN(\";\",1,R627:S627)","v":""},null,null,{"$f":"IF(R627=\"\",\"\",\"-\"&VLOOKUP(R627,EventConditionConfig!A:C,3,FALSE)&IF(S627=\"\",\"\",CHAR(10)&\"-\"&VLOOKUP(S627,EventConditionConfig!A:C,3,FALSE)))","v":""},"","","","",null,null,"",null,null,"",{"$nulls":4},{"$f":"IF(A627=\"\",\"\",IF(ISNUMBER(Y627),2,IF(A628=\"\",IF(OR(AK627>0,VLOOKUP(O627,EventConfig!A:C,3,FALSE)=4),3,\"\"),1)))","v":{"$error":"#N/A"}},{"$error":"#N/A"},null,5710,1026]
[null,"",null,"",{"$nulls":6},{"$f":"IF(J628=\"\",\"\",VLOOKUP(J628,EventNPC!A:F,6,FALSE))","v":""},"",null,null,null,"",{"$nulls":4},"","","","",null,null,"",null,null,"",{"$nulls":4},{"$f":"IF(A628=\"\",\"\",IF(ISNUMBER(Y628),2,IF(A629=\"\",IF(OR(AK628>0,VLOOKUP(O628,EventConfig!A:C,3,FALSE)=4),3,\"\"),1)))","v":""},"",null,"",0]
[{"$f":"O629*100+P629","v":102701},5711,"妖兽拦住了你的去路",5712,"阻止妖族前往北海",{"$nulls":4},114,{"$f":"IF(J629=\"\",\"\",VLOOKUP(J629,EventNPC!A:F,6,FALSE))","v":"拦路妖兽"},5713,"站住，乖乖告诉我北海在哪",null,1027,1,{"$f":"_xlfn.TEXTJOIN(\";\",1,R629:S629)","v":""},null,null,{"$f":"IF(R629=\"\",\"\",\"-\"&VLOOKUP(R629,EventConditionConfig!A:C,3,FALSE)&IF(S629=\"\",\"\",CHAR(10)&\"-\"&VLOOKUP(S629,EventConditionConfig!A:C,3,FALSE)))","v":""},1,"102702","5714",5714,"大胆妖兽，今日就让你葬身于此",null,"",null,null,"",{"$nulls":4},{"$f":"IF(A629=\"\",\"\",IF(ISNUMBER(Y629),2,IF(A630=\"\",IF(OR(AK629>0,VLOOKUP(O629,EventConfig!A:C,3,FALSE)=4),3,\"\"),1)))","v":1},102702,null,5714,1027]
[{"$f":"O630*100+P630","v":102702},5711,"妖兽拦住了你的去路",5712,"阻止妖族前往北海",{"$nulls":4},114,{"$f":"IF(J630=\"\",\"\",VLOOKUP(J630,EventNPC!A:F,6,FALSE))","v":"拦路妖兽"},5715,"不识抬举，去死吧",null,1027,2,{"$f":"_xlfn.TEXTJOIN(\";\",1,R630:S630)","v":""},null,null,{"$f":"IF(R630=\"\",\"\",\"-\"&VLOOKUP(R630,EventConditionConfig!A:C,3,FALSE)&IF(S630=\"\",\"\",CHAR(10)&\"-\"&VLOOKUP(S630,EventConditionConfig!A:C,3,FALSE)))","v":""},2,100001,"","",100001,null,"",null,null,"",{"$nulls":4},{"$f":"IF(A630=\"\",\"\",IF(ISNUMBER(Y630),2,IF(A631=\"\",IF(OR(AK630>0,VLOOKUP(O630,EventConfig!A:C,3,FALSE)=4),3,\"\"),1)))","v":2},"102703;101",null,5715,1027]
[null,"",null,"",{"$nulls":6},{"$f":"IF(J631=\"\",\"\",VLOOKUP(J631,EventNPC!A:F,6,FALSE))","v":""},"",null,null,null,"",{"$nulls":4},"","","","",null,null,"",null,null,"",{"$nulls":4},{"$f":"IF(A631=\"\",\"\",IF(ISNUMBER(Y631),2,IF(A632=\"\",IF(OR(AK631>0,VLOOKUP(O631,EventConfig!A:C,3,FALSE)=4),3,\"\"),1)))","v":""},"",null,"",0]
[{"$f":"O632*100+P632","v":102801},5716,"前去击败入侵妖兽",5717,"击败入侵的妖兽",{"$nulls":4},114,{"$f":"IF(J632=\"\",\"\",VLOOKUP(J632,EventNPC!A:F,6,FALSE))","v":"拦路妖兽"},5718,"终于找到了北海城镇了，你拦不住我的，滚吧",null,1028,1,{"$f":"_xlfn.TEXTJOIN(\";\",1,R632:S632)","v":""},null,null,{"$f":"IF(R632=\"\",\"\",\"-\"&VLOOKUP(R632,EventConditionConfig!A:C,3,FALSE)&IF(S632=\"\",\"\",CHAR(10)&\"-\"&VLOOKUP(S632,EventConditionConfig!A:C,3,FALSE)))","v":""},1,"102802","5719",5719,"迎接敌人",null,"",null,null,"",{"$nulls":4},{"$f":"IF(A632=\"\",\"\",IF(ISNUMBER(Y632),2,IF(A633=\"\",IF(OR(AK632>0,VLOOKUP(O632,EventConfig!A:C,3,FALSE)=4),3,\"\"),1)))","v":1},102802,null,5719,1028]
[{"$f":"O633*100+P633","v":102802},5716,"前去击败入侵妖兽",5717,"击败入侵的妖兽",{"$nulls":4},114,{"$f":"IF(J633=\"\",\"\",VLOOKUP(J633,EventNPC!A:F,6,FALSE))","v":"拦路妖兽"},5720,"不识抬举，去死吧",null,1028,2,{"$f":"_xlfn.TEXTJOIN(\";\",1,R633:S633)","v":""},null,null,{"$f":"IF(R633=\"\",\"\",\"-\"&VLOOKUP(R633,EventConditionConfig!A:C,3,FALSE)&IF(S633=\"\",\"\",CHAR(10)&\"-\"&VLOOKUP(S633,EventConditionConfig!A:C,3,FALSE)))","v":""},2,100001,"","",100001,null,"",null,null,"",{"$nulls":4},{"$f":"IF(A633=\"\",\"\",IF(ISNUMBER(Y633),2,IF(A634=\"\",IF(OR(AK633>0,VLOOKUP(O633,EventConfig!A:C,3,FALSE)=4),3,\"\"),1)))","v":2},"102803;101",null,5720,1028]
[{"$f":"O634*100+P634","v":102803},5716,"前去击败入侵妖兽",5717,"击败入侵的妖兽",{"$nulls":5},{"$f":"IF(J634=\"\",\"\",VLOOKUP(J634,EventNPC!A:F,6,FALSE))","v":""},5721,"妖兽被重伤后吞下丹药激发了潜力，实力突然暴涨，阻止他破坏城镇",null,1028,3,{"$f":"_xlfn.TEXTJOIN(\";\",1,R634:S634)","v":""},null,null,{"$f":"IF(R634=\"\",\"\",\"-\"&VLOOKUP(R634,EventConditionConfig!A:C,3,FALSE)&IF(S634=\"\",\"\",CHAR(10)&\"-\"&VLOOKUP(S634,EventConditionConfig!A:C,3,FALSE)))","v":""},1,"102804;102805;102805","5722;5723",5722,"稍作休整",102804,5723,"挑战妖兽",102805,"",null,102805,null,null,{"$f":"IF(A634=\"\",\"\",IF(ISNUMBER(Y634),2,IF(A635=\"\",IF(OR(AK634>0,VLOOKUP(O634,EventConfig!A:C,3,FALSE)=4),3,\"\"),1)))","v":1},102804,null,5723,1028]
[{"$f":"O635*100+P635","v":102804},5716,"前去击败入侵妖兽",5717,"击败入侵的妖兽",{"$nulls":5},{"$f":"IF(J635=\"\",\"\",VLOOKUP(J635,EventNPC!A:F,6,FALSE))","v":""},5724,"见到情况不对，稍作休整再去击杀妖兽",null,1028,4,{"$f":"_xlfn.TEXTJOIN(\";\",1,R635:S635)","v":""},null,null,{"$f":"IF(R635=\"\",\"\",\"-\"&VLOOKUP(R635,EventConditionConfig!A:C,3,FALSE)&IF(S635=\"\",\"\",CHAR(10)&\"-\"&VLOOKUP(S635,EventConditionConfig!A:C,3,FALSE)))","v":""},5,"","","",null,null,"",null,null,"",{"$nulls":4},{"$f":"IF(A635=\"\",\"\",IF(ISNUMBER(Y635),2,IF(A636=\"\",IF(OR(AK635>0,VLOOKUP(O635,EventConfig!A:C,3,FALSE)=4),3,\"\"),1)))","v":1},102805,null,5724,1028]
[{"$f":"O636*100+P636","v":102805},5716,"前去击败入侵妖兽",5717,"击败入侵的妖兽",{"$nulls":4},114,{"$f":"IF(J636=\"\",\"\",VLOOKUP(J636,EventNPC!A:F,6,FALSE))","v":"拦路妖兽"},5725,"见到我不逃跑反而朝我攻来吗，有趣",null,1028,5,{"$f":"_xlfn.TEXTJOIN(\";\",1,R636:S636)","v":""},null,null,{"$f":"IF(R636=\"\",\"\",\"-\"&VLOOKUP(R636,EventConditionConfig!A:C,3,FALSE)&IF(S636=\"\",\"\",CHAR(10)&\"-\"&VLOOKUP(S636,EventConditionConfig!A:C,3,FALSE)))","v":""},{"$f":"IF(Y636=\"\",\"\",IF(ISTEXT(Y636),1,2))","v":2},100001,"","",100001,null,"",null,null,"",null,null,1001,10,{"$f":"IF(A636=\"\",\"\",IF(ISNUMBER(Y636),2,IF(A637=\"\",IF(OR(AK636>0,VLOOKUP(O636,EventConfig!A:C,3,FALSE)=4),3,\"\"),1)))","v":2},"102806;101",null,5725,1028]
[null,"",null,"",{"$nulls":6},{"$f":"IF(J637=\"\",\"\",VLOOKUP(J637,EventNPC!A:F,6,FALSE))","v":""},"",null,null,null,"",{"$nulls":4},"","","","",null,null,"",null,null,"",{"$nulls":4},{"$f":"IF(A637=\"\",\"\",IF(ISNUMBER(Y637),2,IF(A638=\"\",IF(OR(AK637>0,VLOOKUP(O637,EventConfig!A:C,3,FALSE)=4),3,\"\"),1)))","v":""},"",null,"",0]
[{"$f":"O638*100+P638","v":102901},5726,"明境道长邀请你前去论道",5727,"与道长进行对话",{"$nulls":4},107,{"$f":"IF(J638=\"\",\"\",VLOOKUP(J638,EventNPC!A:F,6,FALSE))","v":"村名甲"},5728,"小友修为有所长进，但我却不知你的道是独自一人还是众人前行",null,1029,1,{"$f":"_xlfn.TEXTJOIN(\";\",1,R638:S638)","v":""},null,null,{"$f":"IF(R638=\"\",\"\",\"-\"&VLOOKUP(R638,EventConditionConfig!A:C,3,FALSE)&IF(S638=\"\",\"\",CHAR(10)&\"-\"&VLOOKUP(S638,EventConditionConfig!A:C,3,FALSE)))","v":""},1,"102902;102903;102903","5729;5730",5729,"道之所在，在于自己，修炼其身即可成星火之势",102902,5730,"道之所在，在于众势，天下大同可让蚍蜉撼树",102903,"",null,102903,null,null,{"$f":"IF(A638=\"\",\"\",IF(ISNUMBER(Y638),2,IF(A639=\"\",IF(OR(AK638>0,VLOOKUP(O638,EventConfig!A:C,3,FALSE)=4),3,\"\"),1)))","v":1},102902,null,5730,1029]
[102902,5731,"明镜道长邀请你前去论道",5727,"与道长进行对话",{"$nulls":4},107,{"$f":"IF(J639=\"\",\"\",VLOOKUP(J639,EventNPC!A:F,6,FALSE))","v":"村名甲"},5732,"此言甚好，却不知小友遇见难关，是真的独自面对，还是寻求了他人帮助",null,1029,2,"",null,null,{"$f":"IF(R639=\"\",\"\",\"-\"&VLOOKUP(R639,EventConditionConfig!A:C,3,FALSE)&IF(S639=\"\",\"\",CHAR(10)&\"-\"&VLOOKUP(S639,EventConditionConfig!A:C,3,FALSE)))","v":""},1,"102904;102905;102905","5733;5734",5733,"这....",102904,5734,"道长此言甚有意为之，如遇难关确实迷茫会去寻求他人",102905,"",null,102905,null,null,{"$f":"IF(A639=\"\",\"\",IF(ISNUMBER(Y639),2,IF(A640=\"\",IF(OR(AK639>0,VLOOKUP(O639,EventConfig!A:C,3,FALSE)=4),3,\"\"),1)))","v":1},102903,null,5734,1029]
[102903,5731,"明镜道长邀请你前去论道",5727,"与道长进行对话",{"$nulls":4},107,{"$f":"IF(J640=\"\",\"\",VLOOKUP(J640,EventNPC!A:F,6,FALSE))","v":"村名甲"},5735,"绝境之中，众人离去，你又该如何呢?",null,1029,3,"",null,null,{"$f":"IF(R640=\"\",\"\",\"-\"&VLOOKUP(R640,EventConditionConfig!A:C,3,FALSE)&IF(S640=\"\",\"\",CHAR(10)&\"-\"&VLOOKUP(S640,EventConditionConfig!A:C,3,FALSE)))","v":""},1,"102904;102907;102907","5736;5737",5736,"这....",102904,5737,"绝境之下，亦能爆发潜能，无需借助他人也能成功",102907,"",null,102907,null,null,{"$f":"IF(A640=\"\",\"\",IF(ISNUMBER(Y640),2,IF(A641=\"\",IF(OR(AK640>0,VLOOKUP(O640,EventConfig!A:C,3,FALSE)=4),3,\"\"),1)))","v":1},102904,null,5737,1029]
[102904,5738,"明境道长邀请你前去论道",5727,"与道长进行对话",{"$nulls":4},107,{"$f":"IF(J641=\"\",\"\",VLOOKUP(J641,EventNPC!A:F,6,FALSE))","v":"村名甲"},5739,"看来你的道，还在混沌之中，独自面对亦或是众人攻克，这事并无绝对，还请小友继续去追寻自己正确的道",null,1029,4,"",null,null,{"$f":"IF(R641=\"\",\"\",\"-\"&VLOOKUP(R641,EventConditionConfig!A:C,3,FALSE)&IF(S641=\"\",\"\",CHAR(10)&\"-\"&VLOOKUP(S641,EventConditionConfig!A:C,3,FALSE)))","v":""},1,"102905","5740",5740,"多谢道长指点，晚辈明白",null,"",null,null,"",{"$nulls":4},{"$f":"IF(A641=\"\",\"\",IF(ISNUMBER(Y641),2,IF(A642=\"\",IF(OR(AK641>0,VLOOKUP(O641,EventConfig!A:C,3,FALSE)=4),3,\"\"),1)))","v":1},102905,null,5740,1029]
[102905,5738,"明境道长邀请你前去论道",5727,"与道长进行对话",{"$nulls":4},107,{"$f":"IF(J642=\"\",\"\",VLOOKUP(J642,EventNPC!A:F,6,FALSE))","v":"村名甲"},5741,"如你所说，道还不够坚定，你已经告诉了你自己还没有足够的力量去找到真正的道",null,1029,5,"",null,null,{"$f":"IF(R642=\"\",\"\",\"-\"&VLOOKUP(R642,EventConditionConfig!A:C,3,FALSE)&IF(S642=\"\",\"\",CHAR(10)&\"-\"&VLOOKUP(S642,EventConditionConfig!A:C,3,FALSE)))","v":""},"","","","",null,null,"",null,null,"",{"$nulls":4},{"$f":"IF(A642=\"\",\"\",IF(ISNUMBER(Y642),2,IF(A643=\"\",IF(OR(AK642>0,VLOOKUP(O642,EventConfig!A:C,3,FALSE)=4),3,\"\"),1)))","v":1},102906,102906,5741,1029]
[102906,5738,"明境道长邀请你前去论道",5727,"与道长进行对话",{"$nulls":4},100,{"$f":"IF(J643=\"\",\"\",VLOOKUP(J643,EventNPC!A:F,6,FALSE))","v":"玩家"},5742,"晚辈明白，多谢道长",null,1029,6,"",null,null,{"$f":"IF(R643=\"\",\"\",\"-\"&VLOOKUP(R643,EventConditionConfig!A:C,3,FALSE)&IF(S643=\"\",\"\",CHAR(10)&\"-\"&VLOOKUP(S643,EventConditionConfig!A:C,3,FALSE)))","v":""},"","","","",null,null,"",null,null,"",{"$nulls":4},{"$f":"IF(A643=\"\",\"\",IF(ISNUMBER(Y643),2,IF(A644=\"\",IF(OR(AK643>0,VLOOKUP(O643,EventConfig!A:C,3,FALSE)=4),3,\"\"),1)))","v":1},102907,null,5742,1029]
[102907,5738,"明境道长邀请你前去论道",5727,"与道长进行对话",{"$nulls":4},107,{"$f":"IF(J644=\"\",\"\",VLOOKUP(J644,EventNPC!A:F,6,FALSE))","v":"村名甲"},5743,"有趣，既然不是独步天下，为何又说无需借助",null,1029,7,"",null,null,{"$f":"IF(R644=\"\",\"\",\"-\"&VLOOKUP(R644,EventConditionConfig!A:C,3,FALSE)&IF(S644=\"\",\"\",CHAR(10)&\"-\"&VLOOKUP(S644,EventConditionConfig!A:C,3,FALSE)))","v":""},1,"102908;102908","5744;5745",5744,"道长此言差矣，没有他人帮助，怎会在绝境之战激发潜能去攻克难关，这并非独步天下",null,5745,"无需借助并非独步天下，能结缘不同的人，才能在绝境之中爆发潜能",null,"",{"$nulls":4},{"$f":"IF(A644=\"\",\"\",IF(ISNUMBER(Y644),2,IF(A645=\"\",IF(OR(AK644>0,VLOOKUP(O644,EventConfig!A:C,3,FALSE)=4),3,\"\"),1)))","v":1},102908,null,5745,1029]
[102908,5738,"明境道长邀请你前去论道",5727,"与道长进行对话",{"$nulls":4},107,{"$f":"IF(J645=\"\",\"\",VLOOKUP(J645,EventNPC!A:F,6,FALSE))","v":"村名甲"},{"$f":"IF(M645=\"\",\"\",MAX(AL644,AL643,B645,D645)+1)","v":5746},"禹能众万人心，舜能独断万古，你的道如禹舜之续，我很满意",null,1029,8,"",null,null,{"$f":"IF(R645=\"\",\"\",\"-\"&VLOOKUP(R645,EventConditionConfig!A:C,3,FALSE)&IF(S645=\"\",\"\",CHAR(10)&\"-\"&VLOOKUP(S645,EventConditionConfig!A:C,3,FALSE)))","v":""},"","","","",null,null,"",null,null,"",{"$nulls":4},{"$f":"IF(A645=\"\",\"\",IF(ISNUMBER(Y645),2,IF(A646=\"\",IF(OR(AK645>0,VLOOKUP(O645,EventConfig!A:C,3,FALSE)=4),3,\"\"),1)))","v":{"$error":"#N/A"}},{"$error":"#N/A"},null,5746,1029]
[null,"",null,{"$f":"IF(E646=\"\",\"\",IF(E646=E645,D645,MAX(AL645,AL644,B646)+1))","v":""},{"$nulls":6},{"$f":"IF(J646=\"\",\"\",VLOOKUP(J646,EventNPC!A:F,6,FALSE))","v":""},"",null,null,null,"",{"$nulls":5},"","","",null,null,"",null,null,"",{"$nulls":4},{"$f":"IF(A646=\"\",\"\",IF(ISNUMBER(Y646),2,IF(A647=\"\",IF(OR(AK646>0,VLOOKUP(O646,EventConfig!A:C,3,FALSE)=4),3,\"\"),1)))","v":""},"",null,"",0]
[{"$f":"O647*100+P647","v":103001},5747,"印宗邀请你一同论道",5748,"与印宗法师进行对话",{"$nulls":5},{"$f":"IF(J647=\"\",\"\",VLOOKUP(J647,EventNPC!A:F,6,FALSE))","v":""},5749,"你正遇上这里的印宗法师在讲经书。这时吹来了一阵风，把挂在门口和堂内的佛幡吹得飘舞起来。印宗法师看到佛幡舞动，于是问你",null,1030,1,{"$f":"_xlfn.TEXTJOIN(\";\",1,R647:S647)","v":""},null,null,{"$f":"IF(R647=\"\",\"\",\"-\"&VLOOKUP(R647,EventConditionConfig!A:C,3,FALSE)&IF(S647=\"\",\"\",CHAR(10)&\"-\"&VLOOKUP(S647,EventConditionConfig!A:C,3,FALSE)))","v":""},{"$f":"IF(Y647=\"\",\"\",IF(ISTEXT(Y647),1,2))","v":""},"","","",null,null,"",null,null,"",{"$nulls":4},{"$f":"IF(A647=\"\",\"\",IF(ISNUMBER(Y647),2,IF(A648=\"\",IF(OR(AK647>0,VLOOKUP(O647,EventConfig!A:C,3,FALSE)=4),3,\"\"),1)))","v":1},103002,null,5749,1030]
[103002,5747,"印宗邀请你一同论道",5748,"与印宗法师进行对话",{"$nulls":4},107,{"$f":"IF(J648=\"\",\"\",VLOOKUP(J648,EventNPC!A:F,6,FALSE))","v":"村名甲"},5750,"小友可知，这是风动？还是幡动？",null,1030,2,"",null,null,{"$f":"IF(R648=\"\",\"\",\"-\"&VLOOKUP(R648,EventConditionConfig!A:C,3,FALSE)&IF(S648=\"\",\"\",CHAR(10)&\"-\"&VLOOKUP(S648,EventConditionConfig!A:C,3,FALSE)))","v":""},1,"103003;103004;103004","5751;5752",5751,"是风在动而幡没有动",103003,5752,"是幡在动而风没有动",103004,"",null,103004,null,null,{"$f":"IF(A648=\"\",\"\",IF(ISNUMBER(Y648),2,IF(A649=\"\",IF(OR(AK648>0,VLOOKUP(O648,EventConfig!A:C,3,FALSE)=4),3,\"\"),1)))","v":1},103003,null,{"$f":"IF(A648=\"\",\"\",MAX(B648,D648,L648,X648,AA648,AL647,AL646,AD648))","v":5752},{"$f":"O648","v":1030}]
[103003,5747,"印宗邀请你一同论道",5748,"与印宗法师进行对话",{"$nulls":4},107,{"$f":"IF(J649=\"\",\"\",VLOOKUP(J649,EventNPC!A:F,6,FALSE))","v":"村名甲"},5753,"小友为何会认为是风动呢？",null,1030,3,"",null,null,{"$f":"IF(R649=\"\",\"\",\"-\"&VLOOKUP(R649,EventConditionConfig!A:C,3,FALSE)&IF(S649=\"\",\"\",CHAR(10)&\"-\"&VLOOKUP(S649,EventConditionConfig!A:C,3,FALSE)))","v":""},1,"103005","5754",5754,"风若不吹，幡怎么会自己动",103005,"",null,null,"",{"$nulls":4},{"$f":"IF(A649=\"\",\"\",IF(ISNUMBER(Y649),2,IF(A650=\"\",IF(OR(AK649>0,VLOOKUP(O649,EventConfig!A:C,3,FALSE)=4),3,\"\"),1)))","v":1},103004,null,5754,1030]
[103004,5747,"印宗邀请你一同论道",5748,"与印宗法师进行对话",{"$nulls":4},107,{"$f":"IF(J650=\"\",\"\",VLOOKUP(J650,EventNPC!A:F,6,FALSE))","v":"村名甲"},5755,"小友为何会认为是幡动呢？",null,1030,4,"",null,null,{"$f":"IF(R650=\"\",\"\",\"-\"&VLOOKUP(R650,EventConditionConfig!A:C,3,FALSE)&IF(S650=\"\",\"\",CHAR(10)&\"-\"&VLOOKUP(S650,EventConditionConfig!A:C,3,FALSE)))","v":""},1,"103005","5756",5756,"可能是幡有灵气，自己动了起来",103005,"",null,null,"",{"$nulls":4},{"$f":"IF(A650=\"\",\"\",IF(ISNUMBER(Y650),2,IF(A651=\"\",IF(OR(AK650>0,VLOOKUP(O650,EventConfig!A:C,3,FALSE)=4),3,\"\"),1)))","v":1},103005,null,5756,1030]
[103005,5747,"印宗邀请你一同论道",5748,"与印宗法师进行对话",{"$nulls":4},107,{"$f":"IF(J651=\"\",\"\",VLOOKUP(J651,EventNPC!A:F,6,FALSE))","v":"村名甲"},5757,"小友此解释确实有意思，但还是不对",null,1030,{"$f":"IF(O651=\"\",\"\",IF(O651=O650,P650+1,1))","v":5},"",null,null,{"$f":"IF(R651=\"\",\"\",\"-\"&VLOOKUP(R651,EventConditionConfig!A:C,3,FALSE)&IF(S651=\"\",\"\",CHAR(10)&\"-\"&VLOOKUP(S651,EventConditionConfig!A:C,3,FALSE)))","v":""},1,"103006","5758",5758,"大师此话怎讲，还请赐教",null,"",null,null,"",{"$nulls":4},{"$f":"IF(A651=\"\",\"\",IF(ISNUMBER(Y651),2,IF(A652=\"\",IF(OR(AK651>0,VLOOKUP(O651,EventConfig!A:C,3,FALSE)=4),3,\"\"),1)))","v":1},103006,null,5758,1030]
[103006,5747,"印宗邀请你一同论道",5748,"与印宗法师进行对话",{"$nulls":4},107,{"$f":"IF(J652=\"\",\"\",VLOOKUP(J652,EventNPC!A:F,6,FALSE))","v":"村名甲"},5759,"不是风动，不是幡动，是仁者心动",null,1030,6,"",null,null,{"$f":"IF(R652=\"\",\"\",\"-\"&VLOOKUP(R652,EventConditionConfig!A:C,3,FALSE)&IF(S652=\"\",\"\",CHAR(10)&\"-\"&VLOOKUP(S652,EventConditionConfig!A:C,3,FALSE)))","v":""},1,"103007",{"$f":"_xlfn.TEXTJOIN(\";\",1,X652,AA652,AD652)","v":"5760"},{"$f":"IF(OR(ISNUMBER(Y652),Y652=\"\"),\"\",MAX(AL651,AL649,B652,D652,L652)+1)","v":5760},"既不是风在动，也不是幡在动，而是我内心认为是在动的吗",null,{"$f":"IF(OR(ISNUMBER(AB652),AB652=\"\"),\"\",X652+1)","v":""},null,null,"",{"$nulls":4},{"$f":"IF(A652=\"\",\"\",IF(ISNUMBER(Y652),2,IF(A653=\"\",IF(OR(AK652>0,VLOOKUP(O652,EventConfig!A:C,3,FALSE)=4),3,\"\"),1)))","v":1},103007,null,5760,1030]
[103007,{"$f":"IF(C653=\"\",\"\",IF(C653=C652,B652,MAX(AL652,AL651)+1))","v":5747},"印宗邀请你一同论道",5748,"与印宗法师进行对话",{"$nulls":4},107,{"$f":"IF(J653=\"\",\"\",VLOOKUP(J653,EventNPC!A:F,6,FALSE))","v":"村名甲"},5761,"此话也不对。小友，你听经不得心识不专注，心识看到了旗帜上，而非经书上，你的心若在修行之上，那风与幡怎么会因你的心而舞动呢",null,1030,7,"",null,null,{"$f":"IF(R653=\"\",\"\",\"-\"&VLOOKUP(R653,EventConditionConfig!A:C,3,FALSE)&IF(S653=\"\",\"\",CHAR(10)&\"-\"&VLOOKUP(S653,EventConditionConfig!A:C,3,FALSE)))","v":""},"","","","",null,null,"",null,null,{"$f":"IF(OR(ISNUMBER(AE653),AE653=\"\"),\"\",AA653+1)","v":""},{"$nulls":4},{"$f":"IF(A653=\"\",\"\",IF(ISNUMBER(Y653),2,IF(A654=\"\",IF(OR(AK653>0,VLOOKUP(O653,EventConfig!A:C,3,FALSE)=4),3,\"\"),1)))","v":{"$error":"#N/A"}},{"$error":"#N/A"},null,5761,1030]
[null,"",null,"",{"$nulls":6},{"$f":"IF(J654=\"\",\"\",VLOOKUP(J654,EventNPC!A:F,6,FALSE))","v":""},"",null,null,null,"",{"$nulls":5},{"$f":"IF(U654=1,_xlfn.TEXTJOIN(\";\",1,IF(Z654=\"\",A654+1,Z654),IF(AND(AA654<>\"\",AC654=\"\"),A654+1,AC654),IF(AND(AD654<>\"\",AF654=\"\"),A654+1,AF654)),IF(U654=2,Y654,\"\"))","v":""},"","",null,null,"",null,null,"",{"$nulls":4},{"$f":"IF(A654=\"\",\"\",IF(ISNUMBER(Y654),2,IF(A655=\"\",IF(OR(AK654>0,VLOOKUP(O654,EventConfig!A:C,3,FALSE)=4),3,\"\"),1)))","v":""},{"$f":"IF(AI654=\"\",\"\",CHOOSE(AI654,IF(AK654=\"\",A654+1,AK654),CONCATENATE(IF(AK654=\"\",A654+1,AK654),\";101\"),IF(AK654=\"\",O654+1,AK654)))","v":""},null,"",0]
[{"$f":"O655*100+P655","v":103101},5762,"明境道长邀请你前去论道",5763,"与道长进行对话",{"$nulls":4},107,{"$f":"IF(J655=\"\",\"\",VLOOKUP(J655,EventNPC!A:F,6,FALSE))","v":"村名甲"},5764,"小友好些日子不见，可有时间与我看些经文",null,1031,1,{"$f":"_xlfn.TEXTJOIN(\";\",1,R655:S655)","v":""},null,null,{"$f":"IF(R655=\"\",\"\",\"-\"&VLOOKUP(R655,EventConditionConfig!A:C,3,FALSE)&IF(S655=\"\",\"\",CHAR(10)&\"-\"&VLOOKUP(S655,EventConditionConfig!A:C,3,FALSE)))","v":""},{"$f":"IF(Y655=\"\",\"\",IF(ISTEXT(Y655),1,2))","v":1},"103102;103105;103105","5765;5766",5765,"道长请讲",103102,5766,"回绝论道",103105,"",null,103105,null,null,{"$f":"IF(A655=\"\",\"\",IF(ISNUMBER(Y655),2,IF(A656=\"\",IF(OR(AK655>0,VLOOKUP(O655,EventConfig!A:C,3,FALSE)=4),3,\"\"),1)))","v":1},103102,null,5766,1031]
[{"$f":"O656*100+P656","v":103102},5762,"明境道长邀请你前去论道",5763,"与道长进行对话",{"$nulls":4},107,{"$f":"IF(J656=\"\",\"\",VLOOKUP(J656,EventNPC!A:F,6,FALSE))","v":"村名甲"},5767,"人生天地之间，若白驹之过隙，忽然而已。道友，这话有些意思，可知何意？",null,1031,2,{"$f":"_xlfn.TEXTJOIN(\";\",1,R656:S656)","v":""},null,null,{"$f":"IF(R656=\"\",\"\",\"-\"&VLOOKUP(R656,EventConditionConfig!A:C,3,FALSE)&IF(S656=\"\",\"\",CHAR(10)&\"-\"&VLOOKUP(S656,EventConditionConfig!A:C,3,FALSE)))","v":""},{"$f":"IF(Y656=\"\",\"\",IF(ISTEXT(Y656),1,2))","v":1},"103103","5768",5768,"生命如骏马跃过缝隙般短暂",null,"",null,null,"",{"$nulls":4},{"$f":"IF(A656=\"\",\"\",IF(ISNUMBER(Y656),2,IF(A657=\"\",IF(OR(AK656>0,VLOOKUP(O656,EventConfig!A:C,3,FALSE)=4),3,\"\"),1)))","v":1},103103,null,5768,1031]
[{"$f":"O657*100+P657","v":103103},5762,"明境道长邀请你前去论道",5763,"与道长进行对话",{"$nulls":4},107,{"$f":"IF(J657=\"\",\"\",VLOOKUP(J657,EventNPC!A:F,6,FALSE))","v":"村名甲"},5769,"小友可深得此话所讲？",null,1031,3,{"$f":"_xlfn.TEXTJOIN(\";\",1,R657:S657)","v":""},null,null,{"$f":"IF(R657=\"\",\"\",\"-\"&VLOOKUP(R657,EventConditionConfig!A:C,3,FALSE)&IF(S657=\"\",\"\",CHAR(10)&\"-\"&VLOOKUP(S657,EventConditionConfig!A:C,3,FALSE)))","v":""},{"$f":"IF(Y657=\"\",\"\",IF(ISTEXT(Y657),1,2))","v":1},"103104","5770",5770,"道长之意，可是想让我珍惜当下",null,"",null,null,"",{"$nulls":4},{"$f":"IF(A657=\"\",\"\",IF(ISNUMBER(Y657),2,IF(A658=\"\",IF(OR(AK657>0,VLOOKUP(O657,EventConfig!A:C,3,FALSE)=4),3,\"\"),1)))","v":1},103104,null,5770,1031]
[{"$f":"O658*100+P658","v":103104},5762,"明境道长邀请你前去论道",5763,"与道长进行对话",{"$nulls":4},107,{"$f":"IF(J658=\"\",\"\",VLOOKUP(J658,EventNPC!A:F,6,FALSE))","v":"村名甲"},5771,"看来你心有所感，我甚为满意。时间匆匆，还请小友破除对时间流逝的焦虑，好好感受现在的每一刻。",null,1031,4,{"$f":"_xlfn.TEXTJOIN(\";\",1,R658:S658)","v":""},null,null,{"$f":"IF(R658=\"\",\"\",\"-\"&VLOOKUP(R658,EventConditionConfig!A:C,3,FALSE)&IF(S658=\"\",\"\",CHAR(10)&\"-\"&VLOOKUP(S658,EventConditionConfig!A:C,3,FALSE)))","v":""},{"$f":"IF(Y658=\"\",\"\",IF(ISTEXT(Y658),1,2))","v":""},"","","",null,null,"",null,null,"",{"$nulls":4},{"$f":"IF(A658=\"\",\"\",IF(ISNUMBER(Y658),2,IF(A659=\"\",IF(OR(AK658>0,VLOOKUP(O658,EventConfig!A:C,3,FALSE)=4),3,\"\"),1)))","v":1},103105,null,5771,1031]
[{"$f":"O659*100+P659","v":103105},5762,"明境道长邀请你前去论道",5763,"与道长进行对话",{"$nulls":4},107,{"$f":"IF(J659=\"\",\"\",VLOOKUP(J659,EventNPC!A:F,6,FALSE))","v":"村名甲"},5772,"明镜道长听到你的拒绝后暂时离开了",null,1031,5,{"$f":"_xlfn.TEXTJOIN(\";\",1,R659:S659)","v":""},null,null,{"$f":"IF(R659=\"\",\"\",\"-\"&VLOOKUP(R659,EventConditionConfig!A:C,3,FALSE)&IF(S659=\"\",\"\",CHAR(10)&\"-\"&VLOOKUP(S659,EventConditionConfig!A:C,3,FALSE)))","v":""},{"$f":"IF(Y659=\"\",\"\",IF(ISTEXT(Y659),1,2))","v":""},"","","",null,null,"",null,null,"",{"$nulls":4},{"$f":"IF(A659=\"\",\"\",IF(ISNUMBER(Y659),2,IF(A660=\"\",IF(OR(AK659>0,VLOOKUP(O659,EventConfig!A:C,3,FALSE)=4),3,\"\"),1)))","v":{"$error":"#N/A"}},{"$error":"#N/A"},null,5772,1031]
[null,"",null,"",{"$nulls":6},{"$f":"IF(J660=\"\",\"\",VLOOKUP(J660,EventNPC!A:F,6,FALSE))","v":""},"",null,null,null,"",{"$nulls":5},"","","",null,null,"",null,null,"",{"$nulls":4},{"$f":"IF(A660=\"\",\"\",IF(ISNUMBER(Y660),2,IF(A661=\"\",IF(OR(AK660>0,VLOOKUP(O660,EventConfig!A:C,3,FALSE)=4),3,\"\"),1)))","v":""},"",null,"",0]
[{"$f":"O661*100+P661","v":500401},5773,"纳福-灵石","",{"$nulls":6},{"$f":"IF(J661=\"\",\"\",VLOOKUP(J661,EventNPC!A:F,6,FALSE))","v":""},5774,"你偶得良缘，大量灵石从天而降。",null,5004,1,{"$f":"_xlfn.TEXTJOIN(\";\",1,R661:S661)","v":""},null,null,{"$f":"IF(R661=\"\",\"\",\"-\"&VLOOKUP(R661,EventConditionConfig!A:C,3,FALSE)&IF(S661=\"\",\"\",CHAR(10)&\"-\"&VLOOKUP(S661,EventConditionConfig!A:C,3,FALSE)))","v":""},{"$f":"IF(Y661=\"\",\"\",IF(ISTEXT(Y661),1,2))","v":""},"","","",null,null,"",null,null,"",{"$nulls":4},{"$f":"IF(A661=\"\",\"\",IF(ISNUMBER(Y661),2,IF(A662=\"\",IF(OR(AK661>0,VLOOKUP(O661,EventConfig!A:C,3,FALSE)=4),3,\"\"),1)))","v":""},"",null,5774,5004]
[null,"",null,"",{"$nulls":6},{"$f":"IF(J662=\"\",\"\",VLOOKUP(J662,EventNPC!A:F,6,FALSE))","v":""},"",null,null,null,"",{"$nulls":5},"","","",null,null,"",null,null,"",{"$nulls":4},{"$f":"IF(A662=\"\",\"\",IF(ISNUMBER(Y662),2,IF(A663=\"\",IF(OR(AK662>0,VLOOKUP(O662,EventConfig!A:C,3,FALSE)=4),3,\"\"),1)))","v":""},"",null,"",0]
[{"$f":"O663*100+P663","v":500501},5775,"纳福-修为","",{"$nulls":6},{"$f":"IF(J663=\"\",\"\",VLOOKUP(J663,EventNPC!A:F,6,FALSE))","v":""},5776,"你偶得良缘，大量修为从天而降。",null,5005,1,{"$f":"_xlfn.TEXTJOIN(\";\",1,R663:S663)","v":""},null,null,{"$f":"IF(R663=\"\",\"\",\"-\"&VLOOKUP(R663,EventConditionConfig!A:C,3,FALSE)&IF(S663=\"\",\"\",CHAR(10)&\"-\"&VLOOKUP(S663,EventConditionConfig!A:C,3,FALSE)))","v":""},{"$f":"IF(Y663=\"\",\"\",IF(ISTEXT(Y663),1,2))","v":""},"","","",null,null,"",null,null,"",{"$nulls":4},{"$f":"IF(A663=\"\",\"\",IF(ISNUMBER(Y663),2,IF(A664=\"\",IF(OR(AK663>0,VLOOKUP(O663,EventConfig!A:C,3,FALSE)=4),3,\"\"),1)))","v":""},"",null,5776,5005]
[null,"",null,"",{"$nulls":6},{"$f":"IF(J664=\"\",\"\",VLOOKUP(J664,EventNPC!A:F,6,FALSE))","v":""},"",null,null,null,"",{"$nulls":5},"","","",null,null,"",null,null,"",{"$nulls":4},{"$f":"IF(A664=\"\",\"\",IF(ISNUMBER(Y664),2,IF(A665=\"\",IF(OR(AK664>0,VLOOKUP(O664,EventConfig!A:C,3,FALSE)=4),3,\"\"),1)))","v":""},"",null,"",0]
[{"$f":"O665*100+P665","v":500601},5777,"纳福-灵气","",{"$nulls":6},{"$f":"IF(J665=\"\",\"\",VLOOKUP(J665,EventNPC!A:F,6,FALSE))","v":""},5778,"你偶得良缘，大量灵气从天而降。",null,5006,1,{"$f":"_xlfn.TEXTJOIN(\";\",1,R665:S665)","v":""},null,null,{"$f":"IF(R665=\"\",\"\",\"-\"&VLOOKUP(R665,EventConditionConfig!A:C,3,FALSE)&IF(S665=\"\",\"\",CHAR(10)&\"-\"&VLOOKUP(S665,EventConditionConfig!A:C,3,FALSE)))","v":""},{"$f":"IF(Y665=\"\",\"\",IF(ISTEXT(Y665),1,2))","v":""},"","","",null,null,"",null,null,"",{"$nulls":4},{"$f":"IF(A665=\"\",\"\",IF(ISNUMBER(Y665),2,IF(A666=\"\",IF(OR(AK665>0,VLOOKUP(O665,EventConfig!A:C,3,FALSE)=4),3,\"\"),1)))","v":""},"",null,5778,5006]
[null,"",null,"",{"$nulls":6},{"$f":"IF(J666=\"\",\"\",VLOOKUP(J666,EventNPC!A:F,6,FALSE))","v":""},"",null,null,null,"",{"$nulls":5},"","","",null,null,"",null,null,"",{"$nulls":4},{"$f":"IF(A666=\"\",\"\",IF(ISNUMBER(Y666),2,IF(A667=\"\",IF(OR(AK666>0,VLOOKUP(O666,EventConfig!A:C,3,FALSE)=4),3,\"\"),1)))","v":""},"",null,"",0]
[{"$f":"O667*100+P667","v":500701},5779,"纳福-玄晶","",{"$nulls":6},{"$f":"IF(J667=\"\",\"\",VLOOKUP(J667,EventNPC!A:F,6,FALSE))","v":""},5780,"你偶得良缘，大量玄晶从天而降。",null,5007,1,{"$f":"_xlfn.TEXTJOIN(\";\",1,R667:S667)","v":""},null,null,{"$f":"IF(R667=\"\",\"\",\"-\"&VLOOKUP(R667,EventConditionConfig!A:C,3,FALSE)&IF(S667=\"\",\"\",CHAR(10)&\"-\"&VLOOKUP(S667,EventConditionConfig!A:C,3,FALSE)))","v":""},{"$f":"IF(Y667=\"\",\"\",IF(ISTEXT(Y667),1,2))","v":""},"","","",null,null,"",null,null,"",{"$nulls":4},{"$f":"IF(A667=\"\",\"\",IF(ISNUMBER(Y667),2,IF(A668=\"\",IF(OR(AK667>0,VLOOKUP(O667,EventConfig!A:C,3,FALSE)=4),3,\"\"),1)))","v":""},"",null,5780,5007]
[null,"",null,"",{"$nulls":6},{"$f":"IF(J668=\"\",\"\",VLOOKUP(J668,EventNPC!A:F,6,FALSE))","v":""},"",null,null,null,"",{"$nulls":5},"","","",null,null,"",null,null,"",{"$nulls":4},{"$f":"IF(A668=\"\",\"\",IF(ISNUMBER(Y668),2,IF(A669=\"\",IF(OR(AK668>0,VLOOKUP(O668,EventConfig!A:C,3,FALSE)=4),3,\"\"),1)))","v":""},"",null,"",0]
[{"$f":"O669*100+P669","v":910101},5781,{"$f":"CONCATENATE(\"你偶遇正在修炼的\",K669)","v":"你偶遇正在修炼的雀灵儿"},"",{"$nulls":5},2,{"$f":"IF(J669=\"\",\"\",VLOOKUP(J669,EventNPC!A:F,6,FALSE))","v":"雀灵儿"},5782,"嘿小友你好，初次见面不甚兴奋，赠你一朵小花花~",null,9101,1,{"$f":"_xlfn.TEXTJOIN(\";\",1,R669:S669)","v":""},null,null,{"$f":"IF(R669=\"\",\"\",\"-\"&VLOOKUP(R669,EventConditionConfig!A:C,3,FALSE)&IF(S669=\"\",\"\",CHAR(10)&\"-\"&VLOOKUP(S669,EventConditionConfig!A:C,3,FALSE)))","v":""},{"$f":"IF(Y669=\"\",\"\",IF(ISTEXT(Y669),1,2))","v":""},"","","",null,null,"",null,null,"",{"$nulls":5},"",null,5782,9101]
[null,"",null,"",{"$nulls":6},{"$f":"IF(J670=\"\",\"\",VLOOKUP(J670,EventNPC!A:F,6,FALSE))","v":""},"",null,null,null,"",{"$nulls":5},"","","",null,null,"",null,null,"",{"$nulls":5},"",null,"",0]
[{"$f":"O671*100+P671","v":910201},5783,{"$f":"CONCATENATE(\"你偶遇正在修炼的\",K671)","v":"你偶遇正在修炼的云枝"},"",{"$nulls":5},3,{"$f":"IF(J671=\"\",\"\",VLOOKUP(J671,EventNPC!A:F,6,FALSE))","v":"云枝"},5784,"嘿小友你好，初次见面不甚兴奋，赠你一朵小花花~",null,9102,1,{"$f":"_xlfn.TEXTJOIN(\";\",1,R671:S671)","v":""},null,null,{"$f":"IF(R671=\"\",\"\",\"-\"&VLOOKUP(R671,EventConditionConfig!A:C,3,FALSE)&IF(S671=\"\",\"\",CHAR(10)&\"-\"&VLOOKUP(S671,EventConditionConfig!A:C,3,FALSE)))","v":""},{"$f":"IF(Y671=\"\",\"\",IF(ISTEXT(Y671),1,2))","v":""},"","","",null,null,"",null,null,"",{"$nulls":5},"",null,5784,9102]
[null,"",null,"",{"$nulls":6},{"$f":"IF(J672=\"\",\"\",VLOOKUP(J672,EventNPC!A:F,6,FALSE))","v":""},"",null,null,null,"",{"$nulls":5},"","","",null,null,"",null,null,"",{"$nulls":5},"",null,"",0]
[{"$f":"O673*100+P673","v":910301},5785,{"$f":"CONCATENATE(\"你偶遇正在修炼的\",K673)","v":"你偶遇正在修炼的风瑶"},"",{"$nulls":5},4,{"$f":"IF(J673=\"\",\"\",VLOOKUP(J673,EventNPC!A:F,6,FALSE))","v":"风瑶"},5786,"嘿小友你好，初次见面不甚兴奋，赠你一朵小花花~",null,9103,1,{"$f":"_xlfn.TEXTJOIN(\";\",1,R673:S673)","v":""},null,null,{"$f":"IF(R673=\"\",\"\",\"-\"&VLOOKUP(R673,EventConditionConfig!A:C,3,FALSE)&IF(S673=\"\",\"\",CHAR(10)&\"-\"&VLOOKUP(S673,EventConditionConfig!A:C,3,FALSE)))","v":""},{"$f":"IF(Y673=\"\",\"\",IF(ISTEXT(Y673),1,2))","v":""},"","","",null,null,"",null,null,"",{"$nulls":5},"",null,5786,9103]
[null,"",null,"",{"$nulls":6},{"$f":"IF(J674=\"\",\"\",VLOOKUP(J674,EventNPC!A:F,6,FALSE))","v":""},"",null,null,null,"",{"$nulls":5},"","","",null,null,"",null,null,"",{"$nulls":5},"",null,"",0]
[{"$f":"O675*100+P675","v":910401},5787,{"$f":"CONCATENATE(\"你偶遇正在修炼的\",K675)","v":"你偶遇正在修炼的婉溪"},"",{"$nulls":5},5,{"$f":"IF(J675=\"\",\"\",VLOOKUP(J675,EventNPC!A:F,6,FALSE))","v":"婉溪"},5788,"嘿小友你好，初次见面不甚兴奋，赠你一朵小花花~",null,9104,1,{"$f":"_xlfn.TEXTJOIN(\";\",1,R675:S675)","v":""},null,null,{"$f":"IF(R675=\"\",\"\",\"-\"&VLOOKUP(R675,EventConditionConfig!A:C,3,FALSE)&IF(S675=\"\",\"\",CHAR(10)&\"-\"&VLOOKUP(S675,EventConditionConfig!A:C,3,FALSE)))","v":""},{"$f":"IF(Y675=\"\",\"\",IF(ISTEXT(Y675),1,2))","v":""},"","","",null,null,"",null,null,"",{"$nulls":5},"",null,5788,9104]
[null,"",null,"",{"$nulls":6},{"$f":"IF(J676=\"\",\"\",VLOOKUP(J676,EventNPC!A:F,6,FALSE))","v":""},"",null,null,null,"",{"$nulls":5},"","","",null,null,"",null,null,"",{"$nulls":5},"",null,"",0]
[{"$f":"O677*100+P677","v":910501},5789,{"$f":"CONCATENATE(\"你偶遇正在修炼的\",K677)","v":"你偶遇正在修炼的许由"},"",{"$nulls":5},6,{"$f":"IF(J677=\"\",\"\",VLOOKUP(J677,EventNPC!A:F,6,FALSE))","v":"许由"},5790,"嘿小友你好，初次见面不甚兴奋，赠你一朵小花花~",null,9105,1,{"$f":"_xlfn.TEXTJOIN(\";\",1,R677:S677)","v":""},null,null,{"$f":"IF(R677=\"\",\"\",\"-\"&VLOOKUP(R677,EventConditionConfig!A:C,3,FALSE)&IF(S677=\"\",\"\",CHAR(10)&\"-\"&VLOOKUP(S677,EventConditionConfig!A:C,3,FALSE)))","v":""},{"$f":"IF(Y677=\"\",\"\",IF(ISTEXT(Y677),1,2))","v":""},"","","",null,null,"",null,null,"",{"$nulls":5},"",null,5790,9105]
[null,"",null,"",{"$nulls":6},{"$f":"IF(J678=\"\",\"\",VLOOKUP(J678,EventNPC!A:F,6,FALSE))","v":""},"",null,null,null,"",{"$nulls":5},"","","",null,null,"",null,null,"",{"$nulls":5},"",null,"",0]
[{"$f":"O679*100+P679","v":910601},5791,{"$f":"CONCATENATE(\"你偶遇正在修炼的\",K679)","v":"你偶遇正在修炼的疯道人"},"",{"$nulls":5},7,{"$f":"IF(J679=\"\",\"\",VLOOKUP(J679,EventNPC!A:F,6,FALSE))","v":"疯道人"},5792,"嘿小友你好，初次见面不甚兴奋，赠你一朵小花花~",null,9106,1,{"$f":"_xlfn.TEXTJOIN(\";\",1,R679:S679)","v":""},null,null,{"$f":"IF(R679=\"\",\"\",\"-\"&VLOOKUP(R679,EventConditionConfig!A:C,3,FALSE)&IF(S679=\"\",\"\",CHAR(10)&\"-\"&VLOOKUP(S679,EventConditionConfig!A:C,3,FALSE)))","v":""},{"$f":"IF(Y679=\"\",\"\",IF(ISTEXT(Y679),1,2))","v":""},"","","",null,null,"",null,null,"",{"$nulls":5},"",null,5792,9106]
[null,"",null,"",{"$nulls":6},{"$f":"IF(J680=\"\",\"\",VLOOKUP(J680,EventNPC!A:F,6,FALSE))","v":""},"",null,null,null,"",{"$nulls":5},"","","",null,null,"",null,null,"",{"$nulls":5},"",null,"",0]
[{"$f":"O681*100+P681","v":910701},5793,{"$f":"CONCATENATE(\"你偶遇正在修炼的\",K681)","v":"你偶遇正在修炼的道友7"},"",{"$nulls":5},8,{"$f":"IF(J681=\"\",\"\",VLOOKUP(J681,EventNPC!A:F,6,FALSE))","v":"道友7"},5794,"嘿小友你好，初次见面不甚兴奋，赠你一朵小花花~",null,9107,1,{"$f":"_xlfn.TEXTJOIN(\";\",1,R681:S681)","v":""},null,null,{"$f":"IF(R681=\"\",\"\",\"-\"&VLOOKUP(R681,EventConditionConfig!A:C,3,FALSE)&IF(S681=\"\",\"\",CHAR(10)&\"-\"&VLOOKUP(S681,EventConditionConfig!A:C,3,FALSE)))","v":""},{"$f":"IF(Y681=\"\",\"\",IF(ISTEXT(Y681),1,2))","v":""},"","","",null,null,"",null,null,"",{"$nulls":5},"",null,5794,9107]
[null,"",null,"",{"$nulls":6},{"$f":"IF(J682=\"\",\"\",VLOOKUP(J682,EventNPC!A:F,6,FALSE))","v":""},"",null,null,null,"",{"$nulls":5},"","","",null,null,"",null,null,"",{"$nulls":5},"",null,"",0]
[{"$f":"O683*100+P683","v":910801},5795,{"$f":"CONCATENATE(\"你偶遇正在修炼的\",K683)","v":"你偶遇正在修炼的道友8"},"",{"$nulls":5},9,{"$f":"IF(J683=\"\",\"\",VLOOKUP(J683,EventNPC!A:F,6,FALSE))","v":"道友8"},5796,"嘿小友你好，初次见面不甚兴奋，赠你一朵小花花~",null,9108,1,{"$f":"_xlfn.TEXTJOIN(\";\",1,R683:S683)","v":""},null,null,{"$f":"IF(R683=\"\",\"\",\"-\"&VLOOKUP(R683,EventConditionConfig!A:C,3,FALSE)&IF(S683=\"\",\"\",CHAR(10)&\"-\"&VLOOKUP(S683,EventConditionConfig!A:C,3,FALSE)))","v":""},{"$f":"IF(Y683=\"\",\"\",IF(ISTEXT(Y683),1,2))","v":""},"","","",null,null,"",null,null,"",{"$nulls":5},"",null,5796,9108]
[null,"",null,"",{"$nulls":6},{"$f":"IF(J684=\"\",\"\",VLOOKUP(J684,EventNPC!A:F,6,FALSE))","v":""},"",null,null,null,"",{"$nulls":5},"","","",null,null,"",null,null,"",{"$nulls":5},"",null,"",0]
[{"$f":"O685*100+P685","v":910901},5797,{"$f":"CONCATENATE(\"你偶遇正在修炼的\",K685)","v":"你偶遇正在修炼的道友9"},"",{"$nulls":5},10,{"$f":"IF(J685=\"\",\"\",VLOOKUP(J685,EventNPC!A:F,6,FALSE))","v":"道友9"},5798,"嘿小友你好，初次见面不甚兴奋，赠你一朵小花花~",null,9109,1,{"$f":"_xlfn.TEXTJOIN(\";\",1,R685:S685)","v":""},null,null,{"$f":"IF(R685=\"\",\"\",\"-\"&VLOOKUP(R685,EventConditionConfig!A:C,3,FALSE)&IF(S685=\"\",\"\",CHAR(10)&\"-\"&VLOOKUP(S685,EventConditionConfig!A:C,3,FALSE)))","v":""},{"$f":"IF(Y685=\"\",\"\",IF(ISTEXT(Y685),1,2))","v":""},"","","",null,null,"",null,null,"",{"$nulls":5},"",null,5798,9109]
[null,"",null,"",{"$nulls":6},{"$f":"IF(J686=\"\",\"\",VLOOKUP(J686,EventNPC!A:F,6,FALSE))","v":""},"",null,null,null,"",{"$nulls":5},"","","",null,null,"",null,null,"",{"$nulls":5},"",null,"",0]
[{"$f":"O687*100+P687","v":911001},5799,{"$f":"CONCATENATE(\"你偶遇正在修炼的\",K687)","v":"你偶遇正在修炼的道友10"},"",{"$nulls":5},11,{"$f":"IF(J687=\"\",\"\",VLOOKUP(J687,EventNPC!A:F,6,FALSE))","v":"道友10"},5800,"嘿小友你好，初次见面不甚兴奋，赠你一朵小花花~",null,9110,1,{"$f":"_xlfn.TEXTJOIN(\";\",1,R687:S687)","v":""},null,null,{"$f":"IF(R687=\"\",\"\",\"-\"&VLOOKUP(R687,EventConditionConfig!A:C,3,FALSE)&IF(S687=\"\",\"\",CHAR(10)&\"-\"&VLOOKUP(S687,EventConditionConfig!A:C,3,FALSE)))","v":""},{"$f":"IF(Y687=\"\",\"\",IF(ISTEXT(Y687),1,2))","v":""},"","","",null,null,"",null,null,"",{"$nulls":5},"",null,5800,9110]
[null,"",null,"",{"$nulls":6},{"$f":"IF(J688=\"\",\"\",VLOOKUP(J688,EventNPC!A:F,6,FALSE))","v":""},"",null,null,null,"",{"$nulls":5},"","","",null,null,"",null,null,"",{"$nulls":4},{"$f":"IF(A688=\"\",\"\",IF(ISNUMBER(Y688),2,IF(A689=\"\",IF(OR(AK688>0,VLOOKUP(O688,EventConfig!A:C,3,FALSE)=4),3,\"\"),1)))","v":""},"",null,"",0]
[{"$f":"O689*100+P689","v":3001201},"",null,"",{"$nulls":6},{"$f":"IF(J689=\"\",\"\",VLOOKUP(J689,EventNPC!A:F,6,FALSE))","v":""},5801,"你偶然发现一股法力之泉，上前取得一滴甘露。",null,30012,1,{"$f":"_xlfn.TEXTJOIN(\";\",1,R689:S689)","v":""},null,null,{"$f":"IF(R689=\"\",\"\",\"-\"&VLOOKUP(R689,EventConditionConfig!A:C,3,FALSE)&IF(S689=\"\",\"\",CHAR(10)&\"-\"&VLOOKUP(S689,EventConditionConfig!A:C,3,FALSE)))","v":""},{"$f":"IF(Y689=\"\",\"\",IF(ISTEXT(Y689),1,2))","v":""},"","","",null,null,"",null,null,"",{"$nulls":4},{"$f":"IF(A689=\"\",\"\",IF(ISNUMBER(Y689),2,IF(A690=\"\",IF(OR(AK689>0,VLOOKUP(O689,EventConfig!A:C,3,FALSE)=4),3,\"\"),1)))","v":""},"",null,5801,30012]
[null,"",null,"",{"$nulls":6},{"$f":"IF(J690=\"\",\"\",VLOOKUP(J690,EventNPC!A:F,6,FALSE))","v":""},"",null,null,null,"",{"$nulls":5},"","","",null,null,"",null,null,"",{"$nulls":4},{"$f":"IF(A690=\"\",\"\",IF(ISNUMBER(Y690),2,IF(A691=\"\",IF(OR(AK690>0,VLOOKUP(O690,EventConfig!A:C,3,FALSE)=4),3,\"\"),1)))","v":""},"",null,"",0]
[{"$f":"O691*100+P691","v":3001301},"",null,"",{"$nulls":6},{"$f":"IF(J691=\"\",\"\",VLOOKUP(J691,EventNPC!A:F,6,FALSE))","v":""},5802,"你探索神识时，无意间获得1枚漂亮的风铃。把它送给雀灵儿的话，不知道她有多高兴呢。",null,30013,1,{"$f":"_xlfn.TEXTJOIN(\";\",1,R691:S691)","v":""},null,null,{"$f":"IF(R691=\"\",\"\",\"-\"&VLOOKUP(R691,EventConditionConfig!A:C,3,FALSE)&IF(S691=\"\",\"\",CHAR(10)&\"-\"&VLOOKUP(S691,EventConditionConfig!A:C,3,FALSE)))","v":""},{"$f":"IF(Y691=\"\",\"\",IF(ISTEXT(Y691),1,2))","v":""},"","","",null,null,"",null,null,"",{"$nulls":4},{"$f":"IF(A691=\"\",\"\",IF(ISNUMBER(Y691),2,IF(A692=\"\",IF(OR(AK691>0,VLOOKUP(O691,EventConfig!A:C,3,FALSE)=4),3,\"\"),1)))","v":""},"",null,5802,30013]
[null,"",null,"",{"$nulls":6},{"$f":"IF(J692=\"\",\"\",VLOOKUP(J692,EventNPC!A:F,6,FALSE))","v":""},"",null,null,null,"",{"$nulls":5},"","","",null,null,"",null,null,"",{"$nulls":4},{"$f":"IF(A692=\"\",\"\",IF(ISNUMBER(Y692),2,IF(A693=\"\",IF(OR(AK692>0,VLOOKUP(O692,EventConfig!A:C,3,FALSE)=4),3,\"\"),1)))","v":""},"",null,"",0]
[{"$f":"O693*100+P693","v":3001401},5803,"击败风妖","",{"$nulls":6},{"$f":"IF(J693=\"\",\"\",VLOOKUP(J693,EventNPC!A:F,6,FALSE))","v":""},5804,"你遇到了一队拦路的风妖",null,30014,1,{"$f":"_xlfn.TEXTJOIN(\";\",1,R693:S693)","v":""},null,null,{"$f":"IF(R693=\"\",\"\",\"-\"&VLOOKUP(R693,EventConditionConfig!A:C,3,FALSE)&IF(S693=\"\",\"\",CHAR(10)&\"-\"&VLOOKUP(S693,EventConditionConfig!A:C,3,FALSE)))","v":""},{"$f":"IF(Y693=\"\",\"\",IF(ISTEXT(Y693),1,2))","v":2},3003,"","",3003,null,"",null,null,"",{"$nulls":4},{"$f":"IF(A693=\"\",\"\",IF(ISNUMBER(Y693),2,IF(A694=\"\",IF(OR(AK693>0,VLOOKUP(O693,EventConfig!A:C,3,FALSE)=4),3,\"\"),1)))","v":2},"3001402;101",null,5804,30014]
[null,"",null,"",{"$nulls":6},{"$f":"IF(J694=\"\",\"\",VLOOKUP(J694,EventNPC!A:F,6,FALSE))","v":""},"",null,null,null,"",{"$nulls":5},"","","",null,null,"",null,null,"",{"$nulls":4},{"$f":"IF(A694=\"\",\"\",IF(ISNUMBER(Y694),2,IF(A695=\"\",IF(OR(AK694>0,VLOOKUP(O694,EventConfig!A:C,3,FALSE)=4),3,\"\"),1)))","v":""},"",null,"",0]
[{"$f":"O695*100+P695","v":3001501},5805,"收集风灵碎片","",{"$nulls":6},{"$f":"IF(J695=\"\",\"\",VLOOKUP(J695,EventNPC!A:F,6,FALSE))","v":""},5806,"你探索神识时，无意间获得一枚风灵碎片。",null,30015,1,{"$f":"_xlfn.TEXTJOIN(\";\",1,R695:S695)","v":""},null,null,{"$f":"IF(R695=\"\",\"\",\"-\"&VLOOKUP(R695,EventConditionConfig!A:C,3,FALSE)&IF(S695=\"\",\"\",CHAR(10)&\"-\"&VLOOKUP(S695,EventConditionConfig!A:C,3,FALSE)))","v":""},{"$f":"IF(Y695=\"\",\"\",IF(ISTEXT(Y695),1,2))","v":""},"","","",null,null,"",null,null,"",{"$nulls":4},{"$f":"IF(A695=\"\",\"\",IF(ISNUMBER(Y695),2,IF(A696=\"\",IF(OR(AK695>0,VLOOKUP(O695,EventConfig!A:C,3,FALSE)=4),3,\"\"),1)))","v":""},"",null,5806,30015]
[null,"",null,"",{"$nulls":6},{"$f":"IF(J696=\"\",\"\",VLOOKUP(J696,EventNPC!A:F,6,FALSE))","v":""},"",null,null,null,"",{"$nulls":5},"","","",null,null,"",null,null,"",{"$nulls":4},{"$f":"IF(A696=\"\",\"\",IF(ISNUMBER(Y696),2,IF(A697=\"\",IF(OR(AK696>0,VLOOKUP(O696,EventConfig!A:C,3,FALSE)=4),3,\"\"),1)))","v":""},"",null,"",0]
[{"$f":"O697*100+P697","v":3001601},5807,"向散修打听云隐宗的传闻","",{"$nulls":6},{"$f":"IF(J697=\"\",\"\",VLOOKUP(J697,EventNPC!A:F,6,FALSE))","v":""},5808,"你探索神识时，无意间遇到散修们在闲聊关于云隐宗的传闻，你决定上前打听一番。",null,30016,1,{"$f":"_xlfn.TEXTJOIN(\";\",1,R697:S697)","v":""},null,null,{"$f":"IF(R697=\"\",\"\",\"-\"&VLOOKUP(R697,EventConditionConfig!A:C,3,FALSE)&IF(S697=\"\",\"\",CHAR(10)&\"-\"&VLOOKUP(S697,EventConditionConfig!A:C,3,FALSE)))","v":""},{"$f":"IF(Y697=\"\",\"\",IF(ISTEXT(Y697),1,2))","v":""},"","","",null,null,"",null,null,"",{"$nulls":4},{"$f":"IF(A697=\"\",\"\",IF(ISNUMBER(Y697),2,IF(A698=\"\",IF(OR(AK697>0,VLOOKUP(O697,EventConfig!A:C,3,FALSE)=4),3,\"\"),1)))","v":1},3001602,null,5808,30016]
[{"$f":"O698*100+P698","v":3001602},5807,"向散修打听云隐宗的传闻","",{"$nulls":5},123,{"$f":"IF(J698=\"\",\"\",VLOOKUP(J698,EventNPC!A:F,6,FALSE))","v":"散修甲"},5809,"云隐宗？最近确实怪，宗门外围的风阵偶尔闪烁黑光，像被什么侵蚀了。不过我可不敢靠近。",null,30016,2,{"$f":"_xlfn.TEXTJOIN(\";\",1,R698:S698)","v":""},null,null,{"$f":"IF(R698=\"\",\"\",\"-\"&VLOOKUP(R698,EventConditionConfig!A:C,3,FALSE)&IF(S698=\"\",\"\",CHAR(10)&\"-\"&VLOOKUP(S698,EventConditionConfig!A:C,3,FALSE)))","v":""},{"$f":"IF(Y698=\"\",\"\",IF(ISTEXT(Y698),1,2))","v":""},"","","",null,null,"",null,null,"",{"$nulls":4},{"$f":"IF(A698=\"\",\"\",IF(ISNUMBER(Y698),2,IF(A699=\"\",IF(OR(AK698>0,VLOOKUP(O698,EventConfig!A:C,3,FALSE)=4),3,\"\"),1)))","v":1},3001603,null,5809,30016]
[{"$f":"O699*100+P699","v":3001603},5807,"向散修打听云隐宗的传闻","",{"$nulls":5},124,{"$f":"IF(J699=\"\",\"\",VLOOKUP(J699,EventNPC!A:F,6,FALSE))","v":"散修乙"},5810,"听说宗内有长老在炼制诡异的丹药，服用后修为暴增，但眼神空洞。别传出去啊！",null,30016,3,{"$f":"_xlfn.TEXTJOIN(\";\",1,R699:S699)","v":""},null,null,{"$f":"IF(R699=\"\",\"\",\"-\"&VLOOKUP(R699,EventConditionConfig!A:C,3,FALSE)&IF(S699=\"\",\"\",CHAR(10)&\"-\"&VLOOKUP(S699,EventConditionConfig!A:C,3,FALSE)))","v":""},{"$f":"IF(Y699=\"\",\"\",IF(ISTEXT(Y699),1,2))","v":""},"","","",null,null,"",null,null,"",{"$nulls":4},{"$f":"IF(A699=\"\",\"\",IF(ISNUMBER(Y699),2,IF(A700=\"\",IF(OR(AK699>0,VLOOKUP(O699,EventConfig!A:C,3,FALSE)=4),3,\"\"),1)))","v":1},3001604,null,5810,30016]
[{"$f":"O700*100+P700","v":3001604},5807,"向散修打听云隐宗的传闻","",{"$nulls":5},125,{"$f":"IF(J700=\"\",\"\",VLOOKUP(J700,EventNPC!A:F,6,FALSE))","v":"散修丙"},5811,"我见过一枚从云隐宗飘出的岛屿灵石，里面有股阴冷气息，不像正道之物。",null,30016,4,{"$f":"_xlfn.TEXTJOIN(\";\",1,R700:S700)","v":""},null,null,{"$f":"IF(R700=\"\",\"\",\"-\"&VLOOKUP(R700,EventConditionConfig!A:C,3,FALSE)&IF(S700=\"\",\"\",CHAR(10)&\"-\"&VLOOKUP(S700,EventConditionConfig!A:C,3,FALSE)))","v":""},{"$f":"IF(Y700=\"\",\"\",IF(ISTEXT(Y700),1,2))","v":""},"","","",null,null,"",null,null,"",{"$nulls":4},{"$f":"IF(A700=\"\",\"\",IF(ISNUMBER(Y700),2,IF(A701=\"\",IF(OR(AK700>0,VLOOKUP(O700,EventConfig!A:C,3,FALSE)=4),3,\"\"),1)))","v":""},"",null,5811,30016]
[null,"",null,"",{"$nulls":6},{"$f":"IF(J701=\"\",\"\",VLOOKUP(J701,EventNPC!A:F,6,FALSE))","v":""},"",null,null,null,"",{"$nulls":5},"","","",null,null,"",null,null,"",{"$nulls":4},{"$f":"IF(A701=\"\",\"\",IF(ISNUMBER(Y701),2,IF(A702=\"\",IF(OR(AK701>0,VLOOKUP(O701,EventConfig!A:C,3,FALSE)=4),3,\"\"),1)))","v":""},"",null,"",0]
[{"$f":"O702*100+P702","v":3001701},5812,"击败误食灵石的妖兽","",{"$nulls":6},{"$f":"IF(J702=\"\",\"\",VLOOKUP(J702,EventNPC!A:F,6,FALSE))","v":""},5813,"你探索神识时，无意间遇到一只误食灵石的妖兽。你决定上前结束他的痛苦。",null,30017,1,{"$f":"_xlfn.TEXTJOIN(\";\",1,R702:S702)","v":""},null,null,{"$f":"IF(R702=\"\",\"\",\"-\"&VLOOKUP(R702,EventConditionConfig!A:C,3,FALSE)&IF(S702=\"\",\"\",CHAR(10)&\"-\"&VLOOKUP(S702,EventConditionConfig!A:C,3,FALSE)))","v":""},{"$f":"IF(Y702=\"\",\"\",IF(ISTEXT(Y702),1,2))","v":2},30017,"","",30017,null,"",null,null,"",{"$nulls":4},{"$f":"IF(A702=\"\",\"\",IF(ISNUMBER(Y702),2,IF(A703=\"\",IF(OR(AK702>0,VLOOKUP(O702,EventConfig!A:C,3,FALSE)=4),3,\"\"),1)))","v":2},"3001702;101",null,5813,30017]
[null,"",null,"",{"$nulls":6},{"$f":"IF(J703=\"\",\"\",VLOOKUP(J703,EventNPC!A:F,6,FALSE))","v":""},"",null,null,null,"",{"$nulls":5},"","","",null,null,"",null,null,"",{"$nulls":4},{"$f":"IF(A703=\"\",\"\",IF(ISNUMBER(Y703),2,IF(A704=\"\",IF(OR(AK703>0,VLOOKUP(O703,EventConfig!A:C,3,FALSE)=4),3,\"\"),1)))","v":""},"",null,"",0]
[{"$f":"O704*100+P704","v":3001801},5814,"截取密信","",{"$nulls":6},{"$f":"IF(J704=\"\",\"\",VLOOKUP(J704,EventNPC!A:F,6,FALSE))","v":""},5815,"你探索神识时，无意间遇到一只信鸽，爪子上的标记让你识出它来自云隐宗。你决定截取这封密信。",null,30018,1,{"$f":"_xlfn.TEXTJOIN(\";\",1,R704:S704)","v":""},null,null,{"$f":"IF(R704=\"\",\"\",\"-\"&VLOOKUP(R704,EventConditionConfig!A:C,3,FALSE)&IF(S704=\"\",\"\",CHAR(10)&\"-\"&VLOOKUP(S704,EventConditionConfig!A:C,3,FALSE)))","v":""},{"$f":"IF(Y704=\"\",\"\",IF(ISTEXT(Y704),1,2))","v":""},"","","",null,null,"",null,null,"",{"$nulls":4},{"$f":"IF(A704=\"\",\"\",IF(ISNUMBER(Y704),2,IF(A705=\"\",IF(OR(AK704>0,VLOOKUP(O704,EventConfig!A:C,3,FALSE)=4),3,\"\"),1)))","v":""},"",null,5815,30018]
[null,"",null,"",{"$nulls":6},{"$f":"IF(J705=\"\",\"\",VLOOKUP(J705,EventNPC!A:F,6,FALSE))","v":""},"",null,null,null,"",{"$nulls":5},"","","",null,null,"",null,null,"",{"$nulls":4},{"$f":"IF(A705=\"\",\"\",IF(ISNUMBER(Y705),2,IF(A706=\"\",IF(OR(AK705>0,VLOOKUP(O705,EventConfig!A:C,3,FALSE)=4),3,\"\"),1)))","v":""},"",null,"",0]
[{"$f":"O706*100+P706","v":3001901},5816,"截取密信","",{"$nulls":6},{"$f":"IF(J706=\"\",\"\",VLOOKUP(J706,EventNPC!A:F,6,FALSE))","v":""},5817,"你在山林巡查时，看到一只山林小妖正在炫耀它抢到的玉佩，看来这就是婉溪口中所说的尧都玉佩了。你决定教训一下小妖。",null,30019,1,{"$f":"_xlfn.TEXTJOIN(\";\",1,R706:S706)","v":""},null,null,{"$f":"IF(R706=\"\",\"\",\"-\"&VLOOKUP(R706,EventConditionConfig!A:C,3,FALSE)&IF(S706=\"\",\"\",CHAR(10)&\"-\"&VLOOKUP(S706,EventConditionConfig!A:C,3,FALSE)))","v":""},{"$f":"IF(Y706=\"\",\"\",IF(ISTEXT(Y706),1,2))","v":2},3009,"","",3009,null,"",null,null,"",{"$nulls":4},{"$f":"IF(A706=\"\",\"\",IF(ISNUMBER(Y706),2,IF(A707=\"\",IF(OR(AK706>0,VLOOKUP(O706,EventConfig!A:C,3,FALSE)=4),3,\"\"),1)))","v":2},"3001902;101",null,5817,30019]
[null,"",null,"",{"$nulls":6},{"$f":"IF(J707=\"\",\"\",VLOOKUP(J707,EventNPC!A:F,6,FALSE))","v":""},"",null,null,null,"",{"$nulls":5},"","","",null,null,"",null,null,"",{"$nulls":4},{"$f":"IF(A707=\"\",\"\",IF(ISNUMBER(Y707),2,IF(A708=\"\",IF(OR(AK707>0,VLOOKUP(O707,EventConfig!A:C,3,FALSE)=4),3,\"\"),1)))","v":""},"",null,"",0]
[{"$f":"O708*100+P708","v":3002001},5818,"收集山野灵草","",{"$nulls":6},{"$f":"IF(J708=\"\",\"\",VLOOKUP(J708,EventNPC!A:F,6,FALSE))","v":""},5819,"你帮助许由采集灵草，但遇到一只小妖兽作祟，你不得不上前迎战。",null,30020,1,{"$f":"_xlfn.TEXTJOIN(\";\",1,R708:S708)","v":""},null,null,{"$f":"IF(R708=\"\",\"\",\"-\"&VLOOKUP(R708,EventConditionConfig!A:C,3,FALSE)&IF(S708=\"\",\"\",CHAR(10)&\"-\"&VLOOKUP(S708,EventConditionConfig!A:C,3,FALSE)))","v":""},{"$f":"IF(Y708=\"\",\"\",IF(ISTEXT(Y708),1,2))","v":2},3011,"","",3011,null,"",null,null,"",{"$nulls":4},{"$f":"IF(A708=\"\",\"\",IF(ISNUMBER(Y708),2,IF(A709=\"\",IF(OR(AK708>0,VLOOKUP(O708,EventConfig!A:C,3,FALSE)=4),3,\"\"),1)))","v":2},"3002002;101",null,5819,30020]
[null,"",null,"",{"$nulls":6},{"$f":"IF(J709=\"\",\"\",VLOOKUP(J709,EventNPC!A:F,6,FALSE))","v":""},{"$f":"IF(M709=\"\",\"\",MAX(AL708,AL707,B709,D709)+1)","v":""},null,null,null,"",{"$nulls":5},"","","",null,null,"",null,null,"",{"$nulls":4},{"$f":"IF(A709=\"\",\"\",IF(ISNUMBER(Y709),2,IF(A710=\"\",IF(OR(AK709>0,VLOOKUP(O709,EventConfig!A:C,3,FALSE)=4),3,\"\"),1)))","v":""},"",null,"",0]
[{"$f":"O710*100+P710","v":3002101},5820,"收集秘境种子",{"$f":"IF(E710=\"\",\"\",IF(E710=E709,D709,MAX(AL709,AL708,B710)+1))","v":""},{"$nulls":6},{"$f":"IF(J710=\"\",\"\",VLOOKUP(J710,EventNPC!A:F,6,FALSE))","v":""},5821,"经由许由允许，你来到一处后山的秘境。",null,30021,1,{"$f":"_xlfn.TEXTJOIN(\";\",1,R710:S710)","v":""},null,null,{"$f":"IF(R710=\"\",\"\",\"-\"&VLOOKUP(R710,EventConditionConfig!A:C,3,FALSE)&IF(S710=\"\",\"\",CHAR(10)&\"-\"&VLOOKUP(S710,EventConditionConfig!A:C,3,FALSE)))","v":""},{"$f":"IF(Y710=\"\",\"\",IF(ISTEXT(Y710),1,2))","v":""},"","","",null,null,"",null,null,"",{"$nulls":4},{"$f":"IF(A710=\"\",\"\",IF(ISNUMBER(Y710),2,IF(A711=\"\",IF(OR(AK710>0,VLOOKUP(O710,EventConfig!A:C,3,FALSE)=4),3,\"\"),1)))","v":1},3002102,null,5821,30021]
[{"$f":"O711*100+P711","v":3002102},5820,"收集秘境种子","",{"$nulls":6},{"$f":"IF(J711=\"\",\"\",VLOOKUP(J711,EventNPC!A:F,6,FALSE))","v":""},5822,"秘境中生长着你前所未见的花草，它们争奇斗艳颇为神秘。",null,30021,2,{"$f":"_xlfn.TEXTJOIN(\";\",1,R711:S711)","v":""},null,null,{"$f":"IF(R711=\"\",\"\",\"-\"&VLOOKUP(R711,EventConditionConfig!A:C,3,FALSE)&IF(S711=\"\",\"\",CHAR(10)&\"-\"&VLOOKUP(S711,EventConditionConfig!A:C,3,FALSE)))","v":""},{"$f":"IF(Y711=\"\",\"\",IF(ISTEXT(Y711),1,2))","v":""},"","","",null,null,"",null,null,"",{"$nulls":4},{"$f":"IF(A711=\"\",\"\",IF(ISNUMBER(Y711),2,IF(A712=\"\",IF(OR(AK711>0,VLOOKUP(O711,EventConfig!A:C,3,FALSE)=4),3,\"\"),1)))","v":1},3002103,null,5822,30021]
[{"$f":"O712*100+P712","v":3002103},5820,"收集秘境种子","",{"$nulls":6},{"$f":"IF(J712=\"\",\"\",VLOOKUP(J712,EventNPC!A:F,6,FALSE))","v":""},5823,"你忍不住上前想摘下一朵，殊不知危险就藏在身后…",null,30021,3,{"$f":"_xlfn.TEXTJOIN(\";\",1,R712:S712)","v":""},null,null,{"$f":"IF(R712=\"\",\"\",\"-\"&VLOOKUP(R712,EventConditionConfig!A:C,3,FALSE)&IF(S712=\"\",\"\",CHAR(10)&\"-\"&VLOOKUP(S712,EventConditionConfig!A:C,3,FALSE)))","v":""},{"$f":"IF(Y712=\"\",\"\",IF(ISTEXT(Y712),1,2))","v":2},3012,"","",3012,null,"",null,null,"",{"$nulls":4},{"$f":"IF(A712=\"\",\"\",IF(ISNUMBER(Y712),2,IF(A713=\"\",IF(OR(AK712>0,VLOOKUP(O712,EventConfig!A:C,3,FALSE)=4),3,\"\"),1)))","v":2},"3002104;101",null,{"$f":"IF(A712=\"\",\"\",MAX(B712,D712,L712,X712,AA712,AL711,AL710,AD712))","v":5823},{"$f":"O712","v":30021}]
[null,"",null,"",{"$nulls":6},{"$f":"IF(J713=\"\",\"\",VLOOKUP(J713,EventNPC!A:F,6,FALSE))","v":""},"",null,null,null,"",{"$nulls":5},"","","",null,null,"",null,null,"",{"$nulls":4},{"$f":"IF(A713=\"\",\"\",IF(ISNUMBER(Y713),2,IF(A714=\"\",IF(OR(AK713>0,VLOOKUP(O713,EventConfig!A:C,3,FALSE)=4),3,\"\"),1)))","v":""},"",null,"",0]
[{"$f":"O714*100+P714","v":3002201},5824,"收集秘境种子","",{"$nulls":6},{"$f":"IF(J714=\"\",\"\",VLOOKUP(J714,EventNPC!A:F,6,FALSE))","v":""},5825,"你探索神识时，无意间闯入一片仙气飘飘的果园。不妨采几颗果实给疯道人尝尝吧？",null,30022,1,{"$f":"_xlfn.TEXTJOIN(\";\",1,R714:S714)","v":""},null,null,{"$f":"IF(R714=\"\",\"\",\"-\"&VLOOKUP(R714,EventConditionConfig!A:C,3,FALSE)&IF(S714=\"\",\"\",CHAR(10)&\"-\"&VLOOKUP(S714,EventConditionConfig!A:C,3,FALSE)))","v":""},{"$f":"IF(Y714=\"\",\"\",IF(ISTEXT(Y714),1,2))","v":""},"","","",null,null,"",null,null,"",{"$nulls":4},{"$f":"IF(A714=\"\",\"\",IF(ISNUMBER(Y714),2,IF(A715=\"\",IF(OR(AK714>0,VLOOKUP(O714,EventConfig!A:C,3,FALSE)=4),3,\"\"),1)))","v":1},3002202,null,5825,30022]
[{"$f":"O715*100+P715","v":3002202},5824,"收集秘境种子","",{"$nulls":6},{"$f":"IF(J715=\"\",\"\",VLOOKUP(J715,EventNPC!A:F,6,FALSE))","v":""},5826,"你刚伸手去够，谁知从树上跳下来一只灵猴，对比张牙舞爪。看来它不太同意你的想法。接招！",null,30022,{"$f":"IF(O715=\"\",\"\",IF(O715=O714,P714+1,1))","v":2},{"$f":"_xlfn.TEXTJOIN(\";\",1,R715:S715)","v":""},null,null,{"$f":"IF(R715=\"\",\"\",\"-\"&VLOOKUP(R715,EventConditionConfig!A:C,3,FALSE)&IF(S715=\"\",\"\",CHAR(10)&\"-\"&VLOOKUP(S715,EventConditionConfig!A:C,3,FALSE)))","v":""},{"$f":"IF(Y715=\"\",\"\",IF(ISTEXT(Y715),1,2))","v":2},3013,"","",3013,null,"",null,null,"",{"$nulls":4},{"$f":"IF(A715=\"\",\"\",IF(ISNUMBER(Y715),2,IF(A716=\"\",IF(OR(AK715>0,VLOOKUP(O715,EventConfig!A:C,3,FALSE)=4),3,\"\"),1)))","v":2},"3002203;101",null,5826,30022]
[null,"",null,"",{"$nulls":6},{"$f":"IF(J716=\"\",\"\",VLOOKUP(J716,EventNPC!A:F,6,FALSE))","v":""},"",null,null,null,"",{"$nulls":5},"",{"$f":"_xlfn.TEXTJOIN(\";\",1,X716,AA716,AD716)","v":""},{"$f":"IF(OR(ISNUMBER(Y716),Y716=\"\"),\"\",MAX(AL715,AL713,B716,D716,L716)+1)","v":""},null,null,{"$f":"IF(OR(ISNUMBER(AB716),AB716=\"\"),\"\",X716+1)","v":""},null,null,"",{"$nulls":4},{"$f":"IF(A716=\"\",\"\",IF(ISNUMBER(Y716),2,IF(A717=\"\",IF(OR(AK716>0,VLOOKUP(O716,EventConfig!A:C,3,FALSE)=4),3,\"\"),1)))","v":""},"",null,"",0]
[{"$f":"O717*100+P717","v":600101},{"$f":"IF(C717=\"\",\"\",IF(C717=C716,B716,MAX(AL716,AL715)+1))","v":5827},"陪幻雀一起玩","",{"$nulls":6},{"$f":"IF(J717=\"\",\"\",VLOOKUP(J717,EventNPC!A:F,6,FALSE))","v":""},5828,"你返回北海密径，古松灵气未散。微风轻拂，树叶沙沙作响。",null,6001,1,{"$f":"_xlfn.TEXTJOIN(\";\",1,R717:S717)","v":""},null,null,{"$f":"IF(R717=\"\",\"\",\"-\"&VLOOKUP(R717,EventConditionConfig!A:C,3,FALSE)&IF(S717=\"\",\"\",CHAR(10)&\"-\"&VLOOKUP(S717,EventConditionConfig!A:C,3,FALSE)))","v":""},{"$f":"IF(Y717=\"\",\"\",IF(ISTEXT(Y717),1,2))","v":""},"","","",null,null,"",null,null,{"$f":"IF(OR(ISNUMBER(AE717),AE717=\"\"),\"\",AA717+1)","v":""},{"$nulls":4},{"$f":"IF(A717=\"\",\"\",IF(ISNUMBER(Y717),2,IF(A718=\"\",IF(OR(AK717>0,VLOOKUP(O717,EventConfig!A:C,3,FALSE)=4),3,\"\"),1)))","v":1},600102,null,5828,6001]
[600102,5827,"陪幻雀一起玩","",{"$nulls":6},{"$f":"IF(J718=\"\",\"\",VLOOKUP(J718,EventNPC!A:F,6,FALSE))","v":""},5829,"小麻雀化形为少女，扑棱袖子落在树枝上。",null,6001,2,"",null,null,{"$f":"IF(R718=\"\",\"\",\"-\"&VLOOKUP(R718,EventConditionConfig!A:C,3,FALSE)&IF(S718=\"\",\"\",CHAR(10)&\"-\"&VLOOKUP(S718,EventConditionConfig!A:C,3,FALSE)))","v":""},"",{"$f":"IF(U718=1,_xlfn.TEXTJOIN(\";\",1,IF(Z718=\"\",A718+1,Z718),IF(AND(AA718<>\"\",AC718=\"\"),A718+1,AC718),IF(AND(AD718<>\"\",AF718=\"\"),A718+1,AF718)),IF(U718=2,Y718,\"\"))","v":""},"","",null,null,"",null,null,"",{"$nulls":4},{"$f":"IF(A718=\"\",\"\",IF(ISNUMBER(Y718),2,IF(A719=\"\",IF(OR(AK718>0,VLOOKUP(O718,EventConfig!A:C,3,FALSE)=4),3,\"\"),1)))","v":1},{"$f":"IF(AI718=\"\",\"\",CHOOSE(AI718,IF(AK718=\"\",A718+1,AK718),CONCATENATE(IF(AK718=\"\",A718+1,AK718),\";101\"),IF(AK718=\"\",O718+1,AK718)))","v":600103},null,5829,6001]
[600103,5827,"陪幻雀一起玩","",{"$nulls":6},{"$f":"IF(J719=\"\",\"\",VLOOKUP(J719,EventNPC!A:F,6,FALSE))","v":""},5830,"她看起来约十六岁，头发蓬松如雀羽，眼睛亮晶晶的，带着调皮的笑意。",null,6001,3,"",null,null,{"$f":"IF(R719=\"\",\"\",\"-\"&VLOOKUP(R719,EventConditionConfig!A:C,3,FALSE)&IF(S719=\"\",\"\",CHAR(10)&\"-\"&VLOOKUP(S719,EventConditionConfig!A:C,3,FALSE)))","v":""},"","","","",null,null,"",null,null,"",{"$nulls":4},{"$f":"IF(A719=\"\",\"\",IF(ISNUMBER(Y719),2,IF(A720=\"\",IF(OR(AK719>0,VLOOKUP(O719,EventConfig!A:C,3,FALSE)=4),3,\"\"),1)))","v":1},600104,null,5830,6001]
[600104,5827,"陪幻雀一起玩","",{"$nulls":5},2,{"$f":"IF(J720=\"\",\"\",VLOOKUP(J720,EventNPC!A:F,6,FALSE))","v":"雀灵儿"},5831,"（歪头笑，跳来跳去）哎呀，你这大傻瓜，打败我们后就想溜？",null,6001,4,"",null,null,{"$f":"IF(R720=\"\",\"\",\"-\"&VLOOKUP(R720,EventConditionConfig!A:C,3,FALSE)&IF(S720=\"\",\"\",CHAR(10)&\"-\"&VLOOKUP(S720,EventConditionConfig!A:C,3,FALSE)))","v":""},"","","","",null,null,"",null,null,"",{"$nulls":4},{"$f":"IF(A720=\"\",\"\",IF(ISNUMBER(Y720),2,IF(A721=\"\",IF(OR(AK720>0,VLOOKUP(O720,EventConfig!A:C,3,FALSE)=4),3,\"\"),1)))","v":1},600105,null,5831,6001]
[600105,5827,"陪幻雀一起玩","",{"$nulls":5},2,{"$f":"IF(J721=\"\",\"\",VLOOKUP(J721,EventNPC!A:F,6,FALSE))","v":"雀灵儿"},5832,"我天天守在北海，好无聊，来陪我玩一会吧！从这儿到老松顶，看谁先到！",null,6001,5,"",null,null,{"$f":"IF(R721=\"\",\"\",\"-\"&VLOOKUP(R721,EventConditionConfig!A:C,3,FALSE)&IF(S721=\"\",\"\",CHAR(10)&\"-\"&VLOOKUP(S721,EventConditionConfig!A:C,3,FALSE)))","v":""},1,"600106","5833",5833,"好，来追你！",null,"",null,null,"",{"$nulls":4},{"$f":"IF(A721=\"\",\"\",IF(ISNUMBER(Y721),2,IF(A722=\"\",IF(OR(AK721>0,VLOOKUP(O721,EventConfig!A:C,3,FALSE)=4),3,\"\"),1)))","v":1},600106,null,5833,6001]
[600106,5827,"陪幻雀一起玩","",{"$nulls":5},2,{"$f":"IF(J722=\"\",\"\",VLOOKUP(J722,EventNPC!A:F,6,FALSE))","v":"雀灵儿"},5834,"（边跳边笑，在前方树枝上叫）哈哈，来追啊！你飞得真慢，好笨！",null,6001,6,"",null,null,{"$f":"IF(R722=\"\",\"\",\"-\"&VLOOKUP(R722,EventConditionConfig!A:C,3,FALSE)&IF(S722=\"\",\"\",CHAR(10)&\"-\"&VLOOKUP(S722,EventConditionConfig!A:C,3,FALSE)))","v":""},"","","","",null,null,"",null,null,"",{"$nulls":4},{"$f":"IF(A722=\"\",\"\",IF(ISNUMBER(Y722),2,IF(A723=\"\",IF(OR(AK722>0,VLOOKUP(O722,EventConfig!A:C,3,FALSE)=4),3,\"\"),1)))","v":1},600107,null,5834,6001]
[600107,5827,"陪幻雀一起玩","",{"$nulls":5},2,{"$f":"IF(J723=\"\",\"\",VLOOKUP(J723,EventNPC!A:F,6,FALSE))","v":"雀灵儿"},5835,"（继续往上跳）\n对了，北海深处风很大，你不怕吗？",null,6001,7,"",null,null,{"$f":"IF(R723=\"\",\"\",\"-\"&VLOOKUP(R723,EventConditionConfig!A:C,3,FALSE)&IF(S723=\"\",\"\",CHAR(10)&\"-\"&VLOOKUP(S723,EventConditionConfig!A:C,3,FALSE)))","v":""},"","","","",null,null,"",null,null,"",{"$nulls":4},{"$f":"IF(A723=\"\",\"\",IF(ISNUMBER(Y723),2,IF(A724=\"\",IF(OR(AK723>0,VLOOKUP(O723,EventConfig!A:C,3,FALSE)=4),3,\"\"),1)))","v":1},600108,null,5835,6001]
[600108,5827,"陪幻雀一起玩","",{"$nulls":5},100,{"$f":"IF(J724=\"\",\"\",VLOOKUP(J724,EventNPC!A:F,6,FALSE))","v":"玩家"},5836,"不怕，风大有风大的乐趣。\n你平时就躲树上玩？",null,6001,8,"",null,null,{"$f":"IF(R724=\"\",\"\",\"-\"&VLOOKUP(R724,EventConditionConfig!A:C,3,FALSE)&IF(S724=\"\",\"\",CHAR(10)&\"-\"&VLOOKUP(S724,EventConditionConfig!A:C,3,FALSE)))","v":""},"","","","",null,null,"",null,null,"",{"$nulls":4},{"$f":"IF(A724=\"\",\"\",IF(ISNUMBER(Y724),2,IF(A725=\"\",IF(OR(AK724>0,VLOOKUP(O724,EventConfig!A:C,3,FALSE)=4),3,\"\"),1)))","v":1},600109,null,5836,6001]
[600109,5827,"陪幻雀一起玩","",{"$nulls":5},2,{"$f":"IF(J725=\"\",\"\",VLOOKUP(J725,EventNPC!A:F,6,FALSE))","v":"雀灵儿"},5837,"（跳到下一枝）对啊，树上安全，上蹿下跳就够开心了！\n外面的世界，有什么好玩的吗？",null,6001,9,"",null,null,{"$f":"IF(R725=\"\",\"\",\"-\"&VLOOKUP(R725,EventConditionConfig!A:C,3,FALSE)&IF(S725=\"\",\"\",CHAR(10)&\"-\"&VLOOKUP(S725,EventConditionConfig!A:C,3,FALSE)))","v":""},"","","","",null,null,"",null,null,"",{"$nulls":4},{"$f":"IF(A725=\"\",\"\",IF(ISNUMBER(Y725),2,IF(A726=\"\",IF(OR(AK725>0,VLOOKUP(O725,EventConfig!A:C,3,FALSE)=4),3,\"\"),1)))","v":1},600110,null,5837,6001]
[600110,5827,"陪幻雀一起玩","",{"$nulls":5},100,{"$f":"IF(J726=\"\",\"\",VLOOKUP(J726,EventNPC!A:F,6,FALSE))","v":"玩家"},5838,"有大海、山林……还有鲲鹏要去的天池，风景壮阔。",null,6001,10,"",null,null,{"$f":"IF(R726=\"\",\"\",\"-\"&VLOOKUP(R726,EventConditionConfig!A:C,3,FALSE)&IF(S726=\"\",\"\",CHAR(10)&\"-\"&VLOOKUP(S726,EventConditionConfig!A:C,3,FALSE)))","v":""},"","","","",null,null,"",null,null,"",{"$nulls":4},{"$f":"IF(A726=\"\",\"\",IF(ISNUMBER(Y726),2,IF(A727=\"\",IF(OR(AK726>0,VLOOKUP(O726,EventConfig!A:C,3,FALSE)=4),3,\"\"),1)))","v":1},600111,null,5838,6001]
[600111,5827,"陪幻雀一起玩","",{"$nulls":5},2,{"$f":"IF(J727=\"\",\"\",VLOOKUP(J727,EventNPC!A:F,6,FALSE))","v":"雀灵儿"},5839,"（又跳一枝，喘气笑）南海天池？听起来远……但或许有趣。\n（不知不觉到树顶了）",null,6001,11,"",null,null,{"$f":"IF(R727=\"\",\"\",\"-\"&VLOOKUP(R727,EventConditionConfig!A:C,3,FALSE)&IF(S727=\"\",\"\",CHAR(10)&\"-\"&VLOOKUP(S727,EventConditionConfig!A:C,3,FALSE)))","v":""},"","","","",null,null,"",null,null,"",{"$nulls":4},{"$f":"IF(A727=\"\",\"\",IF(ISNUMBER(Y727),2,IF(A728=\"\",IF(OR(AK727>0,VLOOKUP(O727,EventConfig!A:C,3,FALSE)=4),3,\"\"),1)))","v":1},600112,null,5839,6001]
[600112,5827,"陪幻雀一起玩","",{"$nulls":5},2,{"$f":"IF(J728=\"\",\"\",VLOOKUP(J728,EventNPC!A:F,6,FALSE))","v":"雀灵儿"},5840,"（坐在树顶，开心）玩得挺开心……谢谢陪我。下次再来找我吧，我还有其他游戏！",null,6001,12,"",null,null,{"$f":"IF(R728=\"\",\"\",\"-\"&VLOOKUP(R728,EventConditionConfig!A:C,3,FALSE)&IF(S728=\"\",\"\",CHAR(10)&\"-\"&VLOOKUP(S728,EventConditionConfig!A:C,3,FALSE)))","v":""},"","","","",null,null,"",null,null,"",{"$nulls":4},{"$f":"IF(A728=\"\",\"\",IF(ISNUMBER(Y728),2,IF(A729=\"\",IF(OR(AK728>0,VLOOKUP(O728,EventConfig!A:C,3,FALSE)=4),3,\"\"),1)))","v":1},600113,null,5840,6001]
[600113,5827,"陪幻雀一起玩","",{"$nulls":6},{"$f":"IF(J729=\"\",\"\",VLOOKUP(J729,EventNPC!A:F,6,FALSE))","v":""},5841,"（此时，一道优雅身影从树后飞出）",null,6001,13,"",null,null,{"$f":"IF(R729=\"\",\"\",\"-\"&VLOOKUP(R729,EventConditionConfig!A:C,3,FALSE)&IF(S729=\"\",\"\",CHAR(10)&\"-\"&VLOOKUP(S729,EventConditionConfig!A:C,3,FALSE)))","v":""},"","","","",null,null,"",null,null,"",{"$nulls":4},{"$f":"IF(A729=\"\",\"\",IF(ISNUMBER(Y729),2,IF(A730=\"\",IF(OR(AK729>0,VLOOKUP(O729,EventConfig!A:C,3,FALSE)=4),3,\"\"),1)))","v":1},600114,null,5841,6001]
[600114,5827,"陪幻雀一起玩","",{"$nulls":5},121,{"$f":"IF(J730=\"\",\"\",VLOOKUP(J730,EventNPC!A:F,6,FALSE))","v":"云枝"},5842,"（严肃，眼神警惕）灵儿，别和外人玩太疯。北海风大，你又不是不知道，小心被卷走。",null,6001,14,"",null,null,{"$f":"IF(R730=\"\",\"\",\"-\"&VLOOKUP(R730,EventConditionConfig!A:C,3,FALSE)&IF(S730=\"\",\"\",CHAR(10)&\"-\"&VLOOKUP(S730,EventConditionConfig!A:C,3,FALSE)))","v":""},"","","","",null,null,"",null,null,"",{"$nulls":4},{"$f":"IF(A730=\"\",\"\",IF(ISNUMBER(Y730),2,IF(A731=\"\",IF(OR(AK730>0,VLOOKUP(O730,EventConfig!A:C,3,FALSE)=4),3,\"\"),1)))","v":1},600115,null,5842,6001]
[600115,5827,"陪幻雀一起玩","",{"$nulls":5},2,{"$f":"IF(J731=\"\",\"\",VLOOKUP(J731,EventNPC!A:F,6,FALSE))","v":"雀灵儿"},5843,"（撅嘴，不服）姐，我知道啦！……就玩玩而已嘛！",null,6001,15,"",null,null,{"$f":"IF(R731=\"\",\"\",\"-\"&VLOOKUP(R731,EventConditionConfig!A:C,3,FALSE)&IF(S731=\"\",\"\",CHAR(10)&\"-\"&VLOOKUP(S731,EventConditionConfig!A:C,3,FALSE)))","v":""},"","","","",null,null,"",null,null,"",{"$nulls":4},{"$f":"IF(A731=\"\",\"\",IF(ISNUMBER(Y731),2,IF(A732=\"\",IF(OR(AK731>0,VLOOKUP(O731,EventConfig!A:C,3,FALSE)=4),3,\"\"),1)))","v":1},600116,null,5843,6001]
[600116,5827,"陪幻雀一起玩","",{"$nulls":5},121,{"$f":"IF(J732=\"\",\"\",VLOOKUP(J732,EventNPC!A:F,6,FALSE))","v":"云枝"},5844,"（严肃）还有你，请速速离去，别再纠缠我妹妹",null,6001,16,"",null,null,{"$f":"IF(R732=\"\",\"\",\"-\"&VLOOKUP(R732,EventConditionConfig!A:C,3,FALSE)&IF(S732=\"\",\"\",CHAR(10)&\"-\"&VLOOKUP(S732,EventConditionConfig!A:C,3,FALSE)))","v":""},"","","","",null,null,"",null,null,"",{"$nulls":4},{"$f":"IF(A732=\"\",\"\",IF(ISNUMBER(Y732),2,IF(A733=\"\",IF(OR(AK732>0,VLOOKUP(O732,EventConfig!A:C,3,FALSE)=4),3,\"\"),1)))","v":1},600117,null,5844,6001]
[600117,5827,"陪幻雀一起玩","",{"$nulls":5},100,{"$f":"IF(J733=\"\",\"\",VLOOKUP(J733,EventNPC!A:F,6,FALSE))","v":"玩家"},5845,"告辞..\n（这小丫头调皮又可爱……北海的日子，也能这么有趣。）\n（或许多来几次，能知道她更多心事。）",null,6001,17,"",null,null,{"$f":"IF(R733=\"\",\"\",\"-\"&VLOOKUP(R733,EventConditionConfig!A:C,3,FALSE)&IF(S733=\"\",\"\",CHAR(10)&\"-\"&VLOOKUP(S733,EventConditionConfig!A:C,3,FALSE)))","v":""},"","","","",null,null,"",null,null,"",{"$nulls":4},{"$f":"IF(A733=\"\",\"\",IF(ISNUMBER(Y733),2,IF(A734=\"\",IF(OR(AK733>0,VLOOKUP(O733,EventConfig!A:C,3,FALSE)=4),3,\"\"),1)))","v":""},"",null,5845,6001]
[null,"",null,"",{"$nulls":6},{"$f":"IF(J734=\"\",\"\",VLOOKUP(J734,EventNPC!A:F,6,FALSE))","v":""},"",null,null,null,"",{"$nulls":5},"","","",null,null,"",null,null,"",{"$nulls":4},{"$f":"IF(A734=\"\",\"\",IF(ISNUMBER(Y734),2,IF(A735=\"\",IF(OR(AK734>0,VLOOKUP(O734,EventConfig!A:C,3,FALSE)=4),3,\"\"),1)))","v":""},"",null,"",0]
[{"$f":"O735*100+P735","v":600201},5846,"收集北海风铃","",{"$nulls":6},{"$f":"IF(J735=\"\",\"\",VLOOKUP(J735,EventNPC!A:F,6,FALSE))","v":""},5847,"灵儿拉你到树上，这里零零散散有几只风铃。",null,6002,1,{"$f":"_xlfn.TEXTJOIN(\";\",1,R735:S735)","v":""},null,null,{"$f":"IF(R735=\"\",\"\",\"-\"&VLOOKUP(R735,EventConditionConfig!A:C,3,FALSE)&IF(S735=\"\",\"\",CHAR(10)&\"-\"&VLOOKUP(S735,EventConditionConfig!A:C,3,FALSE)))","v":""},{"$f":"IF(Y735=\"\",\"\",IF(ISTEXT(Y735),1,2))","v":""},"","","",null,null,"",null,null,"",{"$nulls":4},{"$f":"IF(A735=\"\",\"\",IF(ISNUMBER(Y735),2,IF(A736=\"\",IF(OR(AK735>0,VLOOKUP(O735,EventConfig!A:C,3,FALSE)=4),3,\"\"),1)))","v":1},600202,null,5847,6002]
[600202,5846,"收集北海风铃","",{"$nulls":5},2,{"$f":"IF(J736=\"\",\"\",VLOOKUP(J736,EventNPC!A:F,6,FALSE))","v":"雀灵儿"},5848,"（扑棱袖子）风铃丢了一些，树上没声好无聊！你帮找，我怕风大。",null,6002,2,"",null,null,{"$f":"IF(R736=\"\",\"\",\"-\"&VLOOKUP(R736,EventConditionConfig!A:C,3,FALSE)&IF(S736=\"\",\"\",CHAR(10)&\"-\"&VLOOKUP(S736,EventConditionConfig!A:C,3,FALSE)))","v":""},1,"600203","5849",5849,"好，我去。",null,"",null,null,"",{"$nulls":4},{"$f":"IF(A736=\"\",\"\",IF(ISNUMBER(Y736),2,IF(A737=\"\",IF(OR(AK736>0,VLOOKUP(O736,EventConfig!A:C,3,FALSE)=4),3,\"\"),1)))","v":1},600203,null,5849,6002]
[600203,5846,"收集北海风铃","",{"$nulls":5},100,{"$f":"IF(J737=\"\",\"\",VLOOKUP(J737,EventNPC!A:F,6,FALSE))","v":"玩家"},5850,"来，给你这些铃铛，我好不容才找回来。",null,6002,3,"37",37,null,{"$f":"IF(R737=\"\",\"\",\"-\"&VLOOKUP(R737,EventConditionConfig!A:C,3,FALSE)&IF(S737=\"\",\"\",CHAR(10)&\"-\"&VLOOKUP(S737,EventConditionConfig!A:C,3,FALSE)))","v":"-帮雀灵儿搜集风铃"},"","","","",null,null,"",null,null,"",{"$nulls":4},{"$f":"IF(A737=\"\",\"\",IF(ISNUMBER(Y737),2,IF(A738=\"\",IF(OR(AK737>0,VLOOKUP(O737,EventConfig!A:C,3,FALSE)=4),3,\"\"),1)))","v":1},600204,null,5850,6002]
[600204,5846,"收集北海风铃","",{"$nulls":5},2,{"$f":"IF(J738=\"\",\"\",VLOOKUP(J738,EventNPC!A:F,6,FALSE))","v":"雀灵儿"},5851,"（拿到，开心挂上）谢谢！听见这风铃声，北海就没那么可怕了。",null,6002,4,"",null,null,{"$f":"IF(R738=\"\",\"\",\"-\"&VLOOKUP(R738,EventConditionConfig!A:C,3,FALSE)&IF(S738=\"\",\"\",CHAR(10)&\"-\"&VLOOKUP(S738,EventConditionConfig!A:C,3,FALSE)))","v":""},1,"600205","5852",5852,"你为什么怎么喜欢风铃的声音呢？",null,"",null,null,"",{"$nulls":4},{"$f":"IF(A738=\"\",\"\",IF(ISNUMBER(Y738),2,IF(A739=\"\",IF(OR(AK738>0,VLOOKUP(O738,EventConfig!A:C,3,FALSE)=4),3,\"\"),1)))","v":1},600205,null,5852,6002]
[600205,5846,"收集北海风铃","",{"$nulls":5},2,{"$f":"IF(J739=\"\",\"\",VLOOKUP(J739,EventNPC!A:F,6,FALSE))","v":"雀灵儿"},5853,"喜欢就是喜欢，哪里有怎么多为什么呀。你去过那么多地方，远方有更好铃铛吗？",null,6002,5,"",null,null,{"$f":"IF(R739=\"\",\"\",\"-\"&VLOOKUP(R739,EventConditionConfig!A:C,3,FALSE)&IF(S739=\"\",\"\",CHAR(10)&\"-\"&VLOOKUP(S739,EventConditionConfig!A:C,3,FALSE)))","v":""},1,"600206","5854",5854,"或许有,下次带给你。",null,"",null,null,"",{"$nulls":4},{"$f":"IF(A739=\"\",\"\",IF(ISNUMBER(Y739),2,IF(A740=\"\",IF(OR(AK739>0,VLOOKUP(O739,EventConfig!A:C,3,FALSE)=4),3,\"\"),1)))","v":1},600206,null,5854,6002]
[600206,5846,"收集北海风铃","",{"$nulls":5},2,{"$f":"IF(J740=\"\",\"\",VLOOKUP(J740,EventNPC!A:F,6,FALSE))","v":"雀灵儿"},5855,"好呀，说话要算数哦。",null,6002,6,"",null,null,{"$f":"IF(R740=\"\",\"\",\"-\"&VLOOKUP(R740,EventConditionConfig!A:C,3,FALSE)&IF(S740=\"\",\"\",CHAR(10)&\"-\"&VLOOKUP(S740,EventConditionConfig!A:C,3,FALSE)))","v":""},"","","","",null,null,"",null,null,"",{"$nulls":4},{"$f":"IF(A740=\"\",\"\",IF(ISNUMBER(Y740),2,IF(A741=\"\",IF(OR(AK740>0,VLOOKUP(O740,EventConfig!A:C,3,FALSE)=4),3,\"\"),1)))","v":""},"",null,5855,6002]
[null,"",null,"",{"$nulls":6},{"$f":"IF(J741=\"\",\"\",VLOOKUP(J741,EventNPC!A:F,6,FALSE))","v":""},"",null,null,null,"",{"$nulls":5},"","","",null,null,"",null,null,"",{"$nulls":4},{"$f":"IF(A741=\"\",\"\",IF(ISNUMBER(Y741),2,IF(A742=\"\",IF(OR(AK741>0,VLOOKUP(O741,EventConfig!A:C,3,FALSE)=4),3,\"\"),1)))","v":""},"",null,"",0]
[{"$f":"O742*100+P742","v":600301},5856,"击败袭击雀灵儿的妖兽","",{"$nulls":6},{"$f":"IF(J742=\"\",\"\",VLOOKUP(J742,EventNPC!A:F,6,FALSE))","v":""},5857,"北海大风渐起，树林阴影晃动。小风妖出没，雀灵儿有些不安，她拉你一起巡逻树林，守护她的“小天地”。",null,6003,1,{"$f":"_xlfn.TEXTJOIN(\";\",1,R742:S742)","v":""},null,null,{"$f":"IF(R742=\"\",\"\",\"-\"&VLOOKUP(R742,EventConditionConfig!A:C,3,FALSE)&IF(S742=\"\",\"\",CHAR(10)&\"-\"&VLOOKUP(S742,EventConditionConfig!A:C,3,FALSE)))","v":""},{"$f":"IF(Y742=\"\",\"\",IF(ISTEXT(Y742),1,2))","v":""},"","","",null,null,"",null,null,"",{"$nulls":4},{"$f":"IF(A742=\"\",\"\",IF(ISNUMBER(Y742),2,IF(A743=\"\",IF(OR(AK742>0,VLOOKUP(O742,EventConfig!A:C,3,FALSE)=4),3,\"\"),1)))","v":1},600302,null,5857,6003]
[600302,5856,"击败袭击雀灵儿的妖兽","",{"$nulls":6},{"$f":"IF(J743=\"\",\"\",VLOOKUP(J743,EventNPC!A:F,6,FALSE))","v":""},5858,"风中隐约有啸声，空气中弥漫着凉意。",null,6003,2,"",null,null,{"$f":"IF(R743=\"\",\"\",\"-\"&VLOOKUP(R743,EventConditionConfig!A:C,3,FALSE)&IF(S743=\"\",\"\",CHAR(10)&\"-\"&VLOOKUP(S743,EventConditionConfig!A:C,3,FALSE)))","v":""},"","","","",null,null,"",null,null,"",{"$nulls":4},{"$f":"IF(A743=\"\",\"\",IF(ISNUMBER(Y743),2,IF(A744=\"\",IF(OR(AK743>0,VLOOKUP(O743,EventConfig!A:C,3,FALSE)=4),3,\"\"),1)))","v":1},600303,null,5858,6003]
[600303,5856,"击败袭击雀灵儿的妖兽","",{"$nulls":5},2,{"$f":"IF(J744=\"\",\"\",VLOOKUP(J744,EventNPC!A:F,6,FALSE))","v":"雀灵儿"},5859,"（轻声，抓着袖子）这树林就是我的小天地，平时我都在这里玩游戏，很有趣的！",null,6003,3,"",null,null,{"$f":"IF(R744=\"\",\"\",\"-\"&VLOOKUP(R744,EventConditionConfig!A:C,3,FALSE)&IF(S744=\"\",\"\",CHAR(10)&\"-\"&VLOOKUP(S744,EventConditionConfig!A:C,3,FALSE)))","v":""},"","","","",null,null,"",null,null,"",{"$nulls":4},{"$f":"IF(A744=\"\",\"\",IF(ISNUMBER(Y744),2,IF(A745=\"\",IF(OR(AK744>0,VLOOKUP(O744,EventConfig!A:C,3,FALSE)=4),3,\"\"),1)))","v":1},600304,null,5859,6003]
[600304,5856,"击败袭击雀灵儿的妖兽","",{"$nulls":5},2,{"$f":"IF(J745=\"\",\"\",VLOOKUP(J745,EventNPC!A:F,6,FALSE))","v":"雀灵儿"},5860,"可这风妖经常来树林捣乱……我有点怕，大傻瓜，你陪我赶走它们，好吗？",null,6003,4,"",null,null,{"$f":"IF(R745=\"\",\"\",\"-\"&VLOOKUP(R745,EventConditionConfig!A:C,3,FALSE)&IF(S745=\"\",\"\",CHAR(10)&\"-\"&VLOOKUP(S745,EventConditionConfig!A:C,3,FALSE)))","v":""},1,"600305","5861",5861,"好,我护着你。",null,"",null,null,"",{"$nulls":4},{"$f":"IF(A745=\"\",\"\",IF(ISNUMBER(Y745),2,IF(A746=\"\",IF(OR(AK745>0,VLOOKUP(O745,EventConfig!A:C,3,FALSE)=4),3,\"\"),1)))","v":1},600305,null,5861,6003]
[600305,5856,"击败袭击雀灵儿的妖兽","",{"$nulls":6},{"$f":"IF(J746=\"\",\"\",VLOOKUP(J746,EventNPC!A:F,6,FALSE))","v":""},"",null,null,6003,5,"",null,null,{"$f":"IF(R746=\"\",\"\",\"-\"&VLOOKUP(R746,EventConditionConfig!A:C,3,FALSE)&IF(S746=\"\",\"\",CHAR(10)&\"-\"&VLOOKUP(S746,EventConditionConfig!A:C,3,FALSE)))","v":""},2,3001,"","",3001,null,"",null,null,"",{"$nulls":4},{"$f":"IF(A746=\"\",\"\",IF(ISNUMBER(Y746),2,IF(A747=\"\",IF(OR(AK746>0,VLOOKUP(O746,EventConfig!A:C,3,FALSE)=4),3,\"\"),1)))","v":2},"600306;101",null,5861,6003]
[600306,5856,"击败袭击雀灵儿的妖兽","",{"$nulls":5},2,{"$f":"IF(J747=\"\",\"\",VLOOKUP(J747,EventNPC!A:F,6,FALSE))","v":"雀灵儿"},5862,"（跟在身边，兴奋低声）看，那边还有风妖影子，快打它！平时我一个人，常常躲树后看风妖傻傻转圈，咯咯笑半天。",null,6003,6,"",null,null,{"$f":"IF(R747=\"\",\"\",\"-\"&VLOOKUP(R747,EventConditionConfig!A:C,3,FALSE)&IF(S747=\"\",\"\",CHAR(10)&\"-\"&VLOOKUP(S747,EventConditionConfig!A:C,3,FALSE)))","v":""},"","","","",null,null,"",null,null,"",{"$nulls":4},{"$f":"IF(A747=\"\",\"\",IF(ISNUMBER(Y747),2,IF(A748=\"\",IF(OR(AK747>0,VLOOKUP(O747,EventConfig!A:C,3,FALSE)=4),3,\"\"),1)))","v":1},600307,null,5862,6003]
[600307,5856,"击败袭击雀灵儿的妖兽","",{"$nulls":6},{"$f":"IF(J748=\"\",\"\",VLOOKUP(J748,EventNPC!A:F,6,FALSE))","v":""},"",null,null,6003,7,"",null,null,{"$f":"IF(R748=\"\",\"\",\"-\"&VLOOKUP(R748,EventConditionConfig!A:C,3,FALSE)&IF(S748=\"\",\"\",CHAR(10)&\"-\"&VLOOKUP(S748,EventConditionConfig!A:C,3,FALSE)))","v":""},2,3001,"","",3001,null,"",null,null,"",{"$nulls":4},{"$f":"IF(A748=\"\",\"\",IF(ISNUMBER(Y748),2,IF(A749=\"\",IF(OR(AK748>0,VLOOKUP(O748,EventConfig!A:C,3,FALSE)=4),3,\"\"),1)))","v":2},"600308;101",null,5862,6003]
[600308,5856,"击败袭击雀灵儿的妖兽","",{"$nulls":5},2,{"$f":"IF(J749=\"\",\"\",VLOOKUP(J749,EventNPC!A:F,6,FALSE))","v":"雀灵儿"},5863,"（跳起来拍手，眼睛亮晶晶）哇，你好厉害！\n这里玩躲猫猫最棒——树影多，风吹着叶子乱舞，我藏起来，连姐姐都找不到我呢。",null,6003,8,"",null,null,{"$f":"IF(R749=\"\",\"\",\"-\"&VLOOKUP(R749,EventConditionConfig!A:C,3,FALSE)&IF(S749=\"\",\"\",CHAR(10)&\"-\"&VLOOKUP(S749,EventConditionConfig!A:C,3,FALSE)))","v":""},"","","","",null,null,"",null,null,"",{"$nulls":4},{"$f":"IF(A749=\"\",\"\",IF(ISNUMBER(Y749),2,IF(A750=\"\",IF(OR(AK749>0,VLOOKUP(O749,EventConfig!A:C,3,FALSE)=4),3,\"\"),1)))","v":1},600309,null,5863,6003]
[600309,5856,"击败袭击雀灵儿的妖兽","",{"$nulls":5},2,{"$f":"IF(J750=\"\",\"\",VLOOKUP(J750,EventNPC!A:F,6,FALSE))","v":"雀灵儿"},5864,"你在外面的世界，也这么玩吗？”",null,6003,9,"",null,null,{"$f":"IF(R750=\"\",\"\",\"-\"&VLOOKUP(R750,EventConditionConfig!A:C,3,FALSE)&IF(S750=\"\",\"\",CHAR(10)&\"-\"&VLOOKUP(S750,EventConditionConfig!A:C,3,FALSE)))","v":""},"","","","",null,null,"",null,null,"",{"$nulls":4},{"$f":"IF(A750=\"\",\"\",IF(ISNUMBER(Y750),2,IF(A751=\"\",IF(OR(AK750>0,VLOOKUP(O750,EventConfig!A:C,3,FALSE)=4),3,\"\"),1)))","v":1},600310,null,5864,6003]
[600310,5856,"击败袭击雀灵儿的妖兽","",{"$nulls":5},100,{"$f":"IF(J751=\"\",\"\",VLOOKUP(J751,EventNPC!A:F,6,FALSE))","v":"玩家"},5865,"外面的玩法不一样，但也有趣。\n小心，可能还有妖兽。",null,6003,10,"",null,null,{"$f":"IF(R751=\"\",\"\",\"-\"&VLOOKUP(R751,EventConditionConfig!A:C,3,FALSE)&IF(S751=\"\",\"\",CHAR(10)&\"-\"&VLOOKUP(S751,EventConditionConfig!A:C,3,FALSE)))","v":""},"","","","",null,null,"",null,null,"",{"$nulls":4},{"$f":"IF(A751=\"\",\"\",IF(ISNUMBER(Y751),2,IF(A752=\"\",IF(OR(AK751>0,VLOOKUP(O751,EventConfig!A:C,3,FALSE)=4),3,\"\"),1)))","v":1},600311,null,5865,6003]
[600311,5856,"击败袭击雀灵儿的妖兽","",{"$nulls":5},2,{"$f":"IF(J752=\"\",\"\",VLOOKUP(J752,EventNPC!A:F,6,FALSE))","v":"雀灵儿"},5866,"（咯咯笑，蹦蹦跳跳）那你有空一定要给我讲讲外面的世界！\n哎呀，那边又有风妖，快赶走它们！",null,6003,11,"",null,null,{"$f":"IF(R752=\"\",\"\",\"-\"&VLOOKUP(R752,EventConditionConfig!A:C,3,FALSE)&IF(S752=\"\",\"\",CHAR(10)&\"-\"&VLOOKUP(S752,EventConditionConfig!A:C,3,FALSE)))","v":""},"","","","",null,null,"",null,null,"",{"$nulls":4},{"$f":"IF(A752=\"\",\"\",IF(ISNUMBER(Y752),2,IF(A753=\"\",IF(OR(AK752>0,VLOOKUP(O752,EventConfig!A:C,3,FALSE)=4),3,\"\"),1)))","v":1},600312,null,5866,6003]
[600312,5856,"击败袭击雀灵儿的妖兽","",{"$nulls":6},{"$f":"IF(J753=\"\",\"\",VLOOKUP(J753,EventNPC!A:F,6,FALSE))","v":""},"",null,null,6003,12,"",null,null,{"$f":"IF(R753=\"\",\"\",\"-\"&VLOOKUP(R753,EventConditionConfig!A:C,3,FALSE)&IF(S753=\"\",\"\",CHAR(10)&\"-\"&VLOOKUP(S753,EventConditionConfig!A:C,3,FALSE)))","v":""},2,3001,"","",3001,null,"",null,null,"",{"$nulls":4},{"$f":"IF(A753=\"\",\"\",IF(ISNUMBER(Y753),2,IF(A754=\"\",IF(OR(AK753>0,VLOOKUP(O753,EventConfig!A:C,3,FALSE)=4),3,\"\"),1)))","v":2},"600313;101",null,5866,6003]
[600313,5856,"击败袭击雀灵儿的妖兽","",{"$nulls":5},2,{"$f":"IF(J754=\"\",\"\",VLOOKUP(J754,EventNPC!A:F,6,FALSE))","v":"雀灵儿"},5867,"（开心转圈）全赶走了！树林又属于我了……睁大你的眼睛看看，这片小天地是不是很美呀！",null,6003,13,"",null,null,{"$f":"IF(R754=\"\",\"\",\"-\"&VLOOKUP(R754,EventConditionConfig!A:C,3,FALSE)&IF(S754=\"\",\"\",CHAR(10)&\"-\"&VLOOKUP(S754,EventConditionConfig!A:C,3,FALSE)))","v":""},"","","","",null,null,"",null,null,"",{"$nulls":4},{"$f":"IF(A754=\"\",\"\",IF(ISNUMBER(Y754),2,IF(A755=\"\",IF(OR(AK754>0,VLOOKUP(O754,EventConfig!A:C,3,FALSE)=4),3,\"\"),1)))","v":1},600314,null,5867,6003]
[600314,5856,"击败袭击雀灵儿的妖兽","",{"$nulls":5},100,{"$f":"IF(J755=\"\",\"\",VLOOKUP(J755,EventNPC!A:F,6,FALSE))","v":"玩家"},5868,"(北风吹过树梢，叶子如舞者在月光下飞旋，你仿佛置身一场浪漫的梦境）\n嗯，很美..",null,6003,14,"",null,null,{"$f":"IF(R755=\"\",\"\",\"-\"&VLOOKUP(R755,EventConditionConfig!A:C,3,FALSE)&IF(S755=\"\",\"\",CHAR(10)&\"-\"&VLOOKUP(S755,EventConditionConfig!A:C,3,FALSE)))","v":""},"","","","",null,null,"",null,null,"",{"$nulls":4},{"$f":"IF(A755=\"\",\"\",IF(ISNUMBER(Y755),2,IF(A756=\"\",IF(OR(AK755>0,VLOOKUP(O755,EventConfig!A:C,3,FALSE)=4),3,\"\"),1)))","v":1},600315,null,5868,6003]
[600315,5856,"击败袭击雀灵儿的妖兽","",{"$nulls":5},2,{"$f":"IF(J756=\"\",\"\",VLOOKUP(J756,EventNPC!A:F,6,FALSE))","v":"雀灵儿"},5869,"谢谢你，拯救我的小天地！\n下次风大时，我们再一起玩追叶子！",null,6003,15,"",null,null,{"$f":"IF(R756=\"\",\"\",\"-\"&VLOOKUP(R756,EventConditionConfig!A:C,3,FALSE)&IF(S756=\"\",\"\",CHAR(10)&\"-\"&VLOOKUP(S756,EventConditionConfig!A:C,3,FALSE)))","v":""},"","","","",null,null,"",null,null,"",{"$nulls":4},{"$f":"IF(A756=\"\",\"\",IF(ISNUMBER(Y756),2,IF(A757=\"\",IF(OR(AK756>0,VLOOKUP(O756,EventConfig!A:C,3,FALSE)=4),3,\"\"),1)))","v":""},"",null,5869,6003]
[null,"",null,"",{"$nulls":6},{"$f":"IF(J757=\"\",\"\",VLOOKUP(J757,EventNPC!A:F,6,FALSE))","v":""},"",null,null,null,"",{"$nulls":5},"","","",null,null,"",null,null,"",{"$nulls":4},{"$f":"IF(A757=\"\",\"\",IF(ISNUMBER(Y757),2,IF(A758=\"\",IF(OR(AK757>0,VLOOKUP(O757,EventConfig!A:C,3,FALSE)=4),3,\"\"),1)))","v":""},"",null,"",0]
[{"$f":"O758*100+P758","v":600401},5870,"陪雀灵儿飞行","",{"$nulls":6},{"$f":"IF(J758=\"\",\"\",VLOOKUP(J758,EventNPC!A:F,6,FALSE))","v":""},5871,"北海风轻，雀灵儿被外面的世界吸引，她站在树枝上，眼睛亮晶晶的，头发随风微微飘动，像在犹豫什么。",null,6004,1,{"$f":"_xlfn.TEXTJOIN(\";\",1,R758:S758)","v":""},null,null,{"$f":"IF(R758=\"\",\"\",\"-\"&VLOOKUP(R758,EventConditionConfig!A:C,3,FALSE)&IF(S758=\"\",\"\",CHAR(10)&\"-\"&VLOOKUP(S758,EventConditionConfig!A:C,3,FALSE)))","v":""},{"$f":"IF(Y758=\"\",\"\",IF(ISTEXT(Y758),1,2))","v":""},"","","",null,null,"",null,null,"",{"$nulls":4},{"$f":"IF(A758=\"\",\"\",IF(ISNUMBER(Y758),2,IF(A759=\"\",IF(OR(AK758>0,VLOOKUP(O758,EventConfig!A:C,3,FALSE)=4),3,\"\"),1)))","v":1},600402,null,5871,6004]
[600402,5870,"陪雀灵儿飞行","",{"$nulls":5},2,{"$f":"IF(J759=\"\",\"\",VLOOKUP(J759,EventNPC!A:F,6,FALSE))","v":"雀灵儿"},5872,"（脸微红，拽着袖子）“大傻瓜，你说的外世界那么有趣……陪我飞一小段试试，好吗？",null,6004,2,"",null,null,{"$f":"IF(R759=\"\",\"\",\"-\"&VLOOKUP(R759,EventConditionConfig!A:C,3,FALSE)&IF(S759=\"\",\"\",CHAR(10)&\"-\"&VLOOKUP(S759,EventConditionConfig!A:C,3,FALSE)))","v":""},"","","","",null,null,"",null,null,"",{"$nulls":4},{"$f":"IF(A759=\"\",\"\",IF(ISNUMBER(Y759),2,IF(A760=\"\",IF(OR(AK759>0,VLOOKUP(O759,EventConfig!A:C,3,FALSE)=4),3,\"\"),1)))","v":1},600403,null,5872,6004]
[600403,5870,"陪雀灵儿飞行","",{"$nulls":5},2,{"$f":"IF(J760=\"\",\"\",VLOOKUP(J760,EventNPC!A:F,6,FALSE))","v":"雀灵儿"},5873,"我想去到那边小岛，不远！但风有点大，我有点怕……”",null,6004,3,"",null,null,{"$f":"IF(R760=\"\",\"\",\"-\"&VLOOKUP(R760,EventConditionConfig!A:C,3,FALSE)&IF(S760=\"\",\"\",CHAR(10)&\"-\"&VLOOKUP(S760,EventConditionConfig!A:C,3,FALSE)))","v":""},1,"600404","5874",5874,"好,我拉着你飞。",null,"",null,null,"",{"$nulls":4},{"$f":"IF(A760=\"\",\"\",IF(ISNUMBER(Y760),2,IF(A761=\"\",IF(OR(AK760>0,VLOOKUP(O760,EventConfig!A:C,3,FALSE)=4),3,\"\"),1)))","v":1},600404,null,5874,6004]
[600404,5870,"陪雀灵儿飞行","",{"$nulls":5},2,{"$f":"IF(J761=\"\",\"\",VLOOKUP(J761,EventNPC!A:F,6,FALSE))","v":"雀灵儿"},5875,"（小手抓紧你）嘿，大傻瓜，你知道吗？风一吹，树叶沙沙、花儿摇摆，一切都跟着跳舞呢。",null,6004,4,"",null,null,{"$f":"IF(R761=\"\",\"\",\"-\"&VLOOKUP(R761,EventConditionConfig!A:C,3,FALSE)&IF(S761=\"\",\"\",CHAR(10)&\"-\"&VLOOKUP(S761,EventConditionConfig!A:C,3,FALSE)))","v":""},"","","","",null,null,"",null,null,"",{"$nulls":4},{"$f":"IF(A761=\"\",\"\",IF(ISNUMBER(Y761),2,IF(A762=\"\",IF(OR(AK761>0,VLOOKUP(O761,EventConfig!A:C,3,FALSE)=4),3,\"\"),1)))","v":1},600405,null,5875,6004]
[600405,5870,"陪雀灵儿飞行","",{"$nulls":5},100,{"$f":"IF(J762=\"\",\"\",VLOOKUP(J762,EventNPC!A:F,6,FALSE))","v":"玩家"},5876,"是啊，风一吹，一切都活络了。",null,6004,5,"",null,null,{"$f":"IF(R762=\"\",\"\",\"-\"&VLOOKUP(R762,EventConditionConfig!A:C,3,FALSE)&IF(S762=\"\",\"\",CHAR(10)&\"-\"&VLOOKUP(S762,EventConditionConfig!A:C,3,FALSE)))","v":""},"","","","",null,null,"",null,null,"",{"$nulls":4},{"$f":"IF(A762=\"\",\"\",IF(ISNUMBER(Y762),2,IF(A763=\"\",IF(OR(AK762>0,VLOOKUP(O762,EventConfig!A:C,3,FALSE)=4),3,\"\"),1)))","v":1},600406,null,5876,6004]
[600406,5870,"陪雀灵儿飞行","",{"$nulls":5},2,{"$f":"IF(J763=\"\",\"\",VLOOKUP(J763,EventNPC!A:F,6,FALSE))","v":"雀灵儿"},5877,"（咯咯笑，眼睛眯成月牙）快看，天真蓝！\n你说天本来就这样蓝，还是离我们太远了，看不清它的颜色呢？",null,6004,6,"",null,null,{"$f":"IF(R763=\"\",\"\",\"-\"&VLOOKUP(R763,EventConditionConfig!A:C,3,FALSE)&IF(S763=\"\",\"\",CHAR(10)&\"-\"&VLOOKUP(S763,EventConditionConfig!A:C,3,FALSE)))","v":""},"","","","",null,null,"",null,null,"",{"$nulls":4},{"$f":"IF(A763=\"\",\"\",IF(ISNUMBER(Y763),2,IF(A764=\"\",IF(OR(AK763>0,VLOOKUP(O763,EventConfig!A:C,3,FALSE)=4),3,\"\"),1)))","v":1},600407,null,5877,6004]
[600407,5870,"陪雀灵儿飞行","",{"$nulls":5},100,{"$f":"IF(J764=\"\",\"\",VLOOKUP(J764,EventNPC!A:F,6,FALSE))","v":"玩家"},5878,"谁知道呢.. \n外面的世界，有更多惊喜。",null,6004,7,"",null,null,{"$f":"IF(R764=\"\",\"\",\"-\"&VLOOKUP(R764,EventConditionConfig!A:C,3,FALSE)&IF(S764=\"\",\"\",CHAR(10)&\"-\"&VLOOKUP(S764,EventConditionConfig!A:C,3,FALSE)))","v":""},"","","","",null,null,"",null,null,"",{"$nulls":4},{"$f":"IF(A764=\"\",\"\",IF(ISNUMBER(Y764),2,IF(A765=\"\",IF(OR(AK764>0,VLOOKUP(O764,EventConfig!A:C,3,FALSE)=4),3,\"\"),1)))","v":1},600408,null,5878,6004]
[600408,5870,"陪雀灵儿飞行","",{"$nulls":5},2,{"$f":"IF(J765=\"\",\"\",VLOOKUP(J765,EventNPC!A:F,6,FALSE))","v":"雀灵儿"},5879,"（落地，脸红红的）“嗯……谢谢陪我。\n下次……飞远点？但还得你拉着哦！”",null,6004,8,"",null,null,{"$f":"IF(R765=\"\",\"\",\"-\"&VLOOKUP(R765,EventConditionConfig!A:C,3,FALSE)&IF(S765=\"\",\"\",CHAR(10)&\"-\"&VLOOKUP(S765,EventConditionConfig!A:C,3,FALSE)))","v":""},"","","","",null,null,"",null,null,"",{"$nulls":4},{"$f":"IF(A765=\"\",\"\",IF(ISNUMBER(Y765),2,IF(A766=\"\",IF(OR(AK765>0,VLOOKUP(O765,EventConfig!A:C,3,FALSE)=4),3,\"\"),1)))","v":1},600409,null,5879,6004]
[600409,5870,"陪雀灵儿飞行","",{"$nulls":5},100,{"$f":"IF(J766=\"\",\"\",VLOOKUP(J766,EventNPC!A:F,6,FALSE))","v":"玩家"},5880,"她飞起来那么开心，像只自由的小鸟……\n也越来越黏人了。",null,6004,9,"",null,null,{"$f":"IF(R766=\"\",\"\",\"-\"&VLOOKUP(R766,EventConditionConfig!A:C,3,FALSE)&IF(S766=\"\",\"\",CHAR(10)&\"-\"&VLOOKUP(S766,EventConditionConfig!A:C,3,FALSE)))","v":""},"","","","",null,null,"",null,null,"",{"$nulls":4},{"$f":"IF(A766=\"\",\"\",IF(ISNUMBER(Y766),2,IF(A767=\"\",IF(OR(AK766>0,VLOOKUP(O766,EventConfig!A:C,3,FALSE)=4),3,\"\"),1)))","v":""},"",null,5880,6004]
[null,"",null,"",{"$nulls":6},{"$f":"IF(J767=\"\",\"\",VLOOKUP(J767,EventNPC!A:F,6,FALSE))","v":""},"",null,null,null,"",{"$nulls":5},"","","",null,null,"",null,null,"",{"$nulls":4},{"$f":"IF(A767=\"\",\"\",IF(ISNUMBER(Y767),2,IF(A768=\"\",IF(OR(AK767>0,VLOOKUP(O767,EventConfig!A:C,3,FALSE)=4),3,\"\"),1)))","v":""},"",null,"",0]
[{"$f":"O768*100+P768","v":600501},5881,"找到雀灵儿","",{"$nulls":6},{"$f":"IF(J768=\"\",\"\",VLOOKUP(J768,EventNPC!A:F,6,FALSE))","v":""},5882,"北海突发大风，幻雀儿冒险飞出树林被困风涡。你收到她的灵讯求救。",null,6005,1,{"$f":"_xlfn.TEXTJOIN(\";\",1,R768:S768)","v":""},null,null,{"$f":"IF(R768=\"\",\"\",\"-\"&VLOOKUP(R768,EventConditionConfig!A:C,3,FALSE)&IF(S768=\"\",\"\",CHAR(10)&\"-\"&VLOOKUP(S768,EventConditionConfig!A:C,3,FALSE)))","v":""},{"$f":"IF(Y768=\"\",\"\",IF(ISTEXT(Y768),1,2))","v":""},"","","",null,null,"",null,null,"",{"$nulls":4},{"$f":"IF(A768=\"\",\"\",IF(ISNUMBER(Y768),2,IF(A769=\"\",IF(OR(AK768>0,VLOOKUP(O768,EventConfig!A:C,3,FALSE)=4),3,\"\"),1)))","v":1},600502,null,5882,6005]
[600502,5881,"找到雀灵儿","",{"$nulls":5},2,{"$f":"IF(J769=\"\",\"\",VLOOKUP(J769,EventNPC!A:F,6,FALSE))","v":"雀灵儿"},5883,"（灵讯，慌张）傻瓜，大风来了，我飞太远被困了！快来救我！",null,6005,2,"",null,null,{"$f":"IF(R769=\"\",\"\",\"-\"&VLOOKUP(R769,EventConditionConfig!A:C,3,FALSE)&IF(S769=\"\",\"\",CHAR(10)&\"-\"&VLOOKUP(S769,EventConditionConfig!A:C,3,FALSE)))","v":""},1,"600503","5884",5884,"坚持住，我来了！",null,"",null,null,"",{"$nulls":4},{"$f":"IF(A769=\"\",\"\",IF(ISNUMBER(Y769),2,IF(A770=\"\",IF(OR(AK769>0,VLOOKUP(O769,EventConfig!A:C,3,FALSE)=4),3,\"\"),1)))","v":1},600503,null,5884,6005]
[600503,5885,"击败大风妖兽","",{"$nulls":6},{"$f":"IF(J770=\"\",\"\",VLOOKUP(J770,EventNPC!A:F,6,FALSE))","v":""},5886,"灵儿，别怕，我看到你了！这风妖交给我，先护住自己",null,6005,3,"",null,null,{"$f":"IF(R770=\"\",\"\",\"-\"&VLOOKUP(R770,EventConditionConfig!A:C,3,FALSE)&IF(S770=\"\",\"\",CHAR(10)&\"-\"&VLOOKUP(S770,EventConditionConfig!A:C,3,FALSE)))","v":""},2,3002,"","",3002,null,"",null,null,"",{"$nulls":4},{"$f":"IF(A770=\"\",\"\",IF(ISNUMBER(Y770),2,IF(A771=\"\",IF(OR(AK770>0,VLOOKUP(O770,EventConfig!A:C,3,FALSE)=4),3,\"\"),1)))","v":2},"600504;101",null,5886,6005]
[600504,5885,"击败大风妖兽","",{"$nulls":5},2,{"$f":"IF(J771=\"\",\"\",VLOOKUP(J771,EventNPC!A:F,6,FALSE))","v":"雀灵儿"},5887,"（获救后，抱紧）谢谢……风这么大，我以为要被卷走了，像爸妈那样……\n但你一出现，一切都不怕了。",null,6005,4,"",null,null,{"$f":"IF(R771=\"\",\"\",\"-\"&VLOOKUP(R771,EventConditionConfig!A:C,3,FALSE)&IF(S771=\"\",\"\",CHAR(10)&\"-\"&VLOOKUP(S771,EventConditionConfig!A:C,3,FALSE)))","v":""},"","","","",null,null,"",null,null,"",{"$nulls":4},{"$f":"IF(A771=\"\",\"\",IF(ISNUMBER(Y771),2,IF(A772=\"\",IF(OR(AK771>0,VLOOKUP(O771,EventConfig!A:C,3,FALSE)=4),3,\"\"),1)))","v":1},600505,null,5887,6005]
[600505,5885,"击败大风妖兽","",{"$nulls":5},100,{"$f":"IF(J772=\"\",\"\",VLOOKUP(J772,EventNPC!A:F,6,FALSE))","v":"玩家"},5888,"没事了，从今以后，我们一起飞，再大的风也挡不住。",null,6005,5,"",null,null,{"$f":"IF(R772=\"\",\"\",\"-\"&VLOOKUP(R772,EventConditionConfig!A:C,3,FALSE)&IF(S772=\"\",\"\",CHAR(10)&\"-\"&VLOOKUP(S772,EventConditionConfig!A:C,3,FALSE)))","v":""},"","","","",null,null,"",null,null,"",{"$nulls":4},{"$f":"IF(A772=\"\",\"\",IF(ISNUMBER(Y772),2,IF(A773=\"\",IF(OR(AK772>0,VLOOKUP(O772,EventConfig!A:C,3,FALSE)=4),3,\"\"),1)))","v":1},600506,null,5888,6005]
[600506,5885,"击败大风妖兽","",{"$nulls":5},2,{"$f":"IF(J773=\"\",\"\",VLOOKUP(J773,EventNPC!A:F,6,FALSE))","v":"雀灵儿"},{"$f":"IF(M773=\"\",\"\",MAX(AL772,AL771,B773,D773)+1)","v":5889},"（小声，脸红靠近）嗯……跟你一起，树林外头的世界，好像也没那么可怕了。",null,6005,6,"",null,null,{"$f":"IF(R773=\"\",\"\",\"-\"&VLOOKUP(R773,EventConditionConfig!A:C,3,FALSE)&IF(S773=\"\",\"\",CHAR(10)&\"-\"&VLOOKUP(S773,EventConditionConfig!A:C,3,FALSE)))","v":""},"","","","",null,null,"",null,null,"",{"$nulls":4},{"$f":"IF(A773=\"\",\"\",IF(ISNUMBER(Y773),2,IF(A774=\"\",IF(OR(AK773>0,VLOOKUP(O773,EventConfig!A:C,3,FALSE)=4),3,\"\"),1)))","v":""},"",null,5889,6005]
[null,"",null,{"$f":"IF(E774=\"\",\"\",IF(E774=E773,D773,MAX(AL773,AL772,B774)+1))","v":""},{"$nulls":6},{"$f":"IF(J774=\"\",\"\",VLOOKUP(J774,EventNPC!A:F,6,FALSE))","v":""},"",null,null,null,"",{"$nulls":5},"","","",null,null,"",null,null,"",{"$nulls":4},{"$f":"IF(A774=\"\",\"\",IF(ISNUMBER(Y774),2,IF(A775=\"\",IF(OR(AK774>0,VLOOKUP(O774,EventConfig!A:C,3,FALSE)=4),3,\"\"),1)))","v":""},"",null,"",0]
[{"$f":"O775*100+P775","v":600601},5890,"和雀灵儿对话","",{"$nulls":6},{"$f":"IF(J775=\"\",\"\",VLOOKUP(J775,EventNPC!A:F,6,FALSE))","v":""},5891,"北海风平浪静，古松树下阳光斑驳。",null,6006,1,{"$f":"_xlfn.TEXTJOIN(\";\",1,R775:S775)","v":""},null,null,{"$f":"IF(R775=\"\",\"\",\"-\"&VLOOKUP(R775,EventConditionConfig!A:C,3,FALSE)&IF(S775=\"\",\"\",CHAR(10)&\"-\"&VLOOKUP(S775,EventConditionConfig!A:C,3,FALSE)))","v":""},{"$f":"IF(Y775=\"\",\"\",IF(ISTEXT(Y775),1,2))","v":""},"","","",null,null,"",null,null,"",{"$nulls":4},{"$f":"IF(A775=\"\",\"\",IF(ISNUMBER(Y775),2,IF(A776=\"\",IF(OR(AK775>0,VLOOKUP(O775,EventConfig!A:C,3,FALSE)=4),3,\"\"),1)))","v":1},600602,null,5891,6006]
[600602,5890,"和雀灵儿对话","",{"$nulls":6},{"$f":"IF(J776=\"\",\"\",VLOOKUP(J776,EventNPC!A:F,6,FALSE))","v":""},5892,"雀灵儿站在树枝上等着你，她穿着浅蓝羽衣，头发在微风中轻轻飘动，脸颊微红，眼睛里满是期待和一丝羞涩。",null,6006,2,"",null,null,{"$f":"IF(R776=\"\",\"\",\"-\"&VLOOKUP(R776,EventConditionConfig!A:C,3,FALSE)&IF(S776=\"\",\"\",CHAR(10)&\"-\"&VLOOKUP(S776,EventConditionConfig!A:C,3,FALSE)))","v":""},"","","","",null,null,"",null,null,"",{"$nulls":4},{"$f":"IF(A776=\"\",\"\",IF(ISNUMBER(Y776),2,IF(A777=\"\",IF(OR(AK776>0,VLOOKUP(O776,EventConfig!A:C,3,FALSE)=4),3,\"\"),1)))","v":1},600603,null,{"$f":"IF(A776=\"\",\"\",MAX(B776,D776,L776,X776,AA776,AL775,AL774,AD776))","v":5892},{"$f":"O776","v":6006}]
[600603,5893,"击败大风妖兽","",{"$nulls":5},2,{"$f":"IF(J777=\"\",\"\",VLOOKUP(J777,EventNPC!A:F,6,FALSE))","v":"雀灵儿"},5894,"（开心扑来，跳到你面前，小手拽着衣角）“大傻瓜，谢谢你陪我玩、守护我……",null,6006,3,"",null,null,{"$f":"IF(R777=\"\",\"\",\"-\"&VLOOKUP(R777,EventConditionConfig!A:C,3,FALSE)&IF(S777=\"\",\"\",CHAR(10)&\"-\"&VLOOKUP(S777,EventConditionConfig!A:C,3,FALSE)))","v":""},"","","","",null,null,"",null,null,"",{"$nulls":4},{"$f":"IF(A777=\"\",\"\",IF(ISNUMBER(Y777),2,IF(A778=\"\",IF(OR(AK777>0,VLOOKUP(O777,EventConfig!A:C,3,FALSE)=4),3,\"\"),1)))","v":1},600604,null,5894,6006]
[600604,5893,"击败大风妖兽","",{"$nulls":5},2,{"$f":"IF(J778=\"\",\"\",VLOOKUP(J778,EventNPC!A:F,6,FALSE))","v":"雀灵儿"},5895,"我现在觉得外面的世界没那么可怕了。",null,6006,4,"",null,null,{"$f":"IF(R778=\"\",\"\",\"-\"&VLOOKUP(R778,EventConditionConfig!A:C,3,FALSE)&IF(S778=\"\",\"\",CHAR(10)&\"-\"&VLOOKUP(S778,EventConditionConfig!A:C,3,FALSE)))","v":""},"","","","",null,null,"",null,null,"",{"$nulls":4},{"$f":"IF(A778=\"\",\"\",IF(ISNUMBER(Y778),2,IF(A779=\"\",IF(OR(AK778>0,VLOOKUP(O778,EventConfig!A:C,3,FALSE)=4),3,\"\"),1)))","v":1},600605,null,5895,6006]
[600605,5893,"击败大风妖兽","",{"$nulls":5},2,{"$f":"IF(J779=\"\",\"\",VLOOKUP(J779,EventNPC!A:F,6,FALSE))","v":"雀灵儿"},5896,"我想跟你飞远点，看看大海、山林，甚至南海天池！……行吗？我们一起？”",null,6006,{"$f":"IF(O779=\"\",\"\",IF(O779=O778,P778+1,1))","v":5},"",null,null,{"$f":"IF(R779=\"\",\"\",\"-\"&VLOOKUP(R779,EventConditionConfig!A:C,3,FALSE)&IF(S779=\"\",\"\",CHAR(10)&\"-\"&VLOOKUP(S779,EventConditionConfig!A:C,3,FALSE)))","v":""},1,"600606","5897",5897,"当然可以",null,"",null,null,"",{"$nulls":4},{"$f":"IF(A779=\"\",\"\",IF(ISNUMBER(Y779),2,IF(A780=\"\",IF(OR(AK779>0,VLOOKUP(O779,EventConfig!A:C,3,FALSE)=4),3,\"\"),1)))","v":1},600606,null,5897,6006]
[600606,5893,"击败大风妖兽","",{"$nulls":5},2,{"$f":"IF(J780=\"\",\"\",VLOOKUP(J780,EventNPC!A:F,6,FALSE))","v":"雀灵儿"},5898,"（脸红如霞）好！以后一起冒险飞远！有你在，风再大，也不怕了……",null,6006,6,"",null,null,{"$f":"IF(R780=\"\",\"\",\"-\"&VLOOKUP(R780,EventConditionConfig!A:C,3,FALSE)&IF(S780=\"\",\"\",CHAR(10)&\"-\"&VLOOKUP(S780,EventConditionConfig!A:C,3,FALSE)))","v":""},"","",{"$f":"_xlfn.TEXTJOIN(\";\",1,X780,AA780,AD780)","v":""},{"$f":"IF(OR(ISNUMBER(Y780),Y780=\"\"),\"\",MAX(AL779,AL777,B780,D780,L780)+1)","v":""},null,null,{"$f":"IF(OR(ISNUMBER(AB780),AB780=\"\"),\"\",X780+1)","v":""},null,null,"",{"$nulls":4},{"$f":"IF(A780=\"\",\"\",IF(ISNUMBER(Y780),2,IF(A781=\"\",IF(OR(AK780>0,VLOOKUP(O780,EventConfig!A:C,3,FALSE)=4),3,\"\"),1)))","v":1},600607,null,5898,6006]
[600607,{"$f":"IF(C781=\"\",\"\",IF(C781=C780,B780,MAX(AL780,AL779)+1))","v":5893},"击败大风妖兽","",{"$nulls":5},100,{"$f":"IF(J781=\"\",\"\",VLOOKUP(J781,EventNPC!A:F,6,FALSE))","v":"玩家"},5899,"嗯，我会一直陪着你。",null,6006,7,"",null,null,{"$f":"IF(R781=\"\",\"\",\"-\"&VLOOKUP(R781,EventConditionConfig!A:C,3,FALSE)&IF(S781=\"\",\"\",CHAR(10)&\"-\"&VLOOKUP(S781,EventConditionConfig!A:C,3,FALSE)))","v":""},"","","","",null,null,"",null,null,{"$f":"IF(OR(ISNUMBER(AE781),AE781=\"\"),\"\",AA781+1)","v":""},{"$nulls":4},{"$f":"IF(A781=\"\",\"\",IF(ISNUMBER(Y781),2,IF(A782=\"\",IF(OR(AK781>0,VLOOKUP(O781,EventConfig!A:C,3,FALSE)=4),3,\"\"),1)))","v":1},600608,null,5899,6006]
[600608,5893,"击败大风妖兽","",{"$nulls":5},2,{"$f":"IF(J782=\"\",\"\",VLOOKUP(J782,EventNPC!A:F,6,FALSE))","v":"雀灵儿"},5900,"（抱紧你，开心笑）太好了！从今以后，我们就是……\n走吧，大傻瓜！",null,6006,8,"",null,null,{"$f":"IF(R782=\"\",\"\",\"-\"&VLOOKUP(R782,EventConditionConfig!A:C,3,FALSE)&IF(S782=\"\",\"\",CHAR(10)&\"-\"&VLOOKUP(S782,EventConditionConfig!A:C,3,FALSE)))","v":""},"",{"$f":"IF(U782=1,_xlfn.TEXTJOIN(\";\",1,IF(Z782=\"\",A782+1,Z782),IF(AND(AA782<>\"\",AC782=\"\"),A782+1,AC782),IF(AND(AD782<>\"\",AF782=\"\"),A782+1,AF782)),IF(U782=2,Y782,\"\"))","v":""},"","",null,null,"",null,null,"",{"$nulls":4},{"$f":"IF(A782=\"\",\"\",IF(ISNUMBER(Y782),2,IF(A783=\"\",IF(OR(AK782>0,VLOOKUP(O782,EventConfig!A:C,3,FALSE)=4),3,\"\"),1)))","v":1},{"$f":"IF(AI782=\"\",\"\",CHOOSE(AI782,IF(AK782=\"\",A782+1,AK782),CONCATENATE(IF(AK782=\"\",A782+1,AK782),\";101\"),IF(AK782=\"\",O782+1,AK782)))","v":600609},null,5900,6006]
[600609,5893,"击败大风妖兽","",{"$nulls":5},100,{"$f":"IF(J783=\"\",\"\",VLOOKUP(J783,EventNPC!A:F,6,FALSE))","v":"玩家"},5901,"（之前的冒险让她变了，不再只是树上玩耍的小丫头，现在她看起来更自信，像一只准备展翅的鸟儿）",null,6006,9,"",null,null,{"$f":"IF(R783=\"\",\"\",\"-\"&VLOOKUP(R783,EventConditionConfig!A:C,3,FALSE)&IF(S783=\"\",\"\",CHAR(10)&\"-\"&VLOOKUP(S783,EventConditionConfig!A:C,3,FALSE)))","v":""},"","","","",null,null,"",null,null,"",{"$nulls":4},{"$f":"IF(A783=\"\",\"\",IF(ISNUMBER(Y783),2,IF(A784=\"\",IF(OR(AK783>0,VLOOKUP(O783,EventConfig!A:C,3,FALSE)=4),3,\"\"),1)))","v":""},"",null,5901,6006]
[null,"",null,"",{"$nulls":6},{"$f":"IF(J784=\"\",\"\",VLOOKUP(J784,EventNPC!A:F,6,FALSE))","v":""},"",null,null,null,"",{"$nulls":5},"","","",null,null,"",null,null,"",{"$nulls":4},{"$f":"IF(A784=\"\",\"\",IF(ISNUMBER(Y784),2,IF(A785=\"\",IF(OR(AK784>0,VLOOKUP(O784,EventConfig!A:C,3,FALSE)=4),3,\"\"),1)))","v":""},"",null,"",0]
[{"$f":"O785*100+P785","v":601101},5902,"与云枝对话","",{"$nulls":6},{"$f":"IF(J785=\"\",\"\",VLOOKUP(J785,EventNPC!A:F,6,FALSE))","v":""},5903,"你返回北海古松，云枝从树影中现身。她身姿修长，穿着绿叶长袍，头发盘起如古松枝，眼神冷静警惕。\n微风吹过，古松如在低语，守护着这片密径。",null,6011,1,{"$f":"_xlfn.TEXTJOIN(\";\",1,R785:S785)","v":""},null,null,{"$f":"IF(R785=\"\",\"\",\"-\"&VLOOKUP(R785,EventConditionConfig!A:C,3,FALSE)&IF(S785=\"\",\"\",CHAR(10)&\"-\"&VLOOKUP(S785,EventConditionConfig!A:C,3,FALSE)))","v":""},{"$f":"IF(Y785=\"\",\"\",IF(ISTEXT(Y785),1,2))","v":""},"","","",null,null,"",null,null,"",{"$nulls":4},{"$f":"IF(A785=\"\",\"\",IF(ISNUMBER(Y785),2,IF(A786=\"\",IF(OR(AK785>0,VLOOKUP(O785,EventConfig!A:C,3,FALSE)=4),3,\"\"),1)))","v":1},601102,null,5903,6011]
[601102,5902,"与云枝对话","",{"$nulls":5},121,{"$f":"IF(J786=\"\",\"\",VLOOKUP(J786,EventNPC!A:F,6,FALSE))","v":"云枝"},5904,"（冷冷注视，袖子微动）“外人，你又回来作甚？北海风大，妹妹刚和你玩闹，就别再纠缠。速速离去。”",null,6011,2,"",null,null,{"$f":"IF(R786=\"\",\"\",\"-\"&VLOOKUP(R786,EventConditionConfig!A:C,3,FALSE)&IF(S786=\"\",\"\",CHAR(10)&\"-\"&VLOOKUP(S786,EventConditionConfig!A:C,3,FALSE)))","v":""},1,"601103","5905",5905,"我只是想再见雀灵儿一面。",null,"",null,null,"",{"$nulls":4},{"$f":"IF(A786=\"\",\"\",IF(ISNUMBER(Y786),2,IF(A787=\"\",IF(OR(AK786>0,VLOOKUP(O786,EventConfig!A:C,3,FALSE)=4),3,\"\"),1)))","v":1},601103,null,5905,6011]
[601103,5902,"与云枝对话","",{"$nulls":5},121,{"$f":"IF(J787=\"\",\"\",VLOOKUP(J787,EventNPC!A:F,6,FALSE))","v":"云枝"},5906,"（眼神稍缓，但仍警惕）雀灵儿天真，你莫要带她冒险。",null,6011,3,"",null,null,{"$f":"IF(R787=\"\",\"\",\"-\"&VLOOKUP(R787,EventConditionConfig!A:C,3,FALSE)&IF(S787=\"\",\"\",CHAR(10)&\"-\"&VLOOKUP(S787,EventConditionConfig!A:C,3,FALSE)))","v":""},"","","","",null,null,"",null,null,"",{"$nulls":4},{"$f":"IF(A787=\"\",\"\",IF(ISNUMBER(Y787),2,IF(A788=\"\",IF(OR(AK787>0,VLOOKUP(O787,EventConfig!A:C,3,FALSE)=4),3,\"\"),1)))","v":1},601104,null,5906,6011]
[601104,5902,"与云枝对话","",{"$nulls":5},121,{"$f":"IF(J788=\"\",\"\",VLOOKUP(J788,EventNPC!A:F,6,FALSE))","v":"云枝"},5907,"北海风卷走太多东西……若你无事可做，帮我守一守树林边缘，看看有没有妖兽靠近。",null,6011,4,"",null,null,{"$f":"IF(R788=\"\",\"\",\"-\"&VLOOKUP(R788,EventConditionConfig!A:C,3,FALSE)&IF(S788=\"\",\"\",CHAR(10)&\"-\"&VLOOKUP(S788,EventConditionConfig!A:C,3,FALSE)))","v":""},1,"601105","5908",5908,"好，我去巡查。",null,"",null,null,"",{"$nulls":4},{"$f":"IF(A788=\"\",\"\",IF(ISNUMBER(Y788),2,IF(A789=\"\",IF(OR(AK788>0,VLOOKUP(O788,EventConfig!A:C,3,FALSE)=4),3,\"\"),1)))","v":1},601105,null,5908,6011]
[601105,5902,"与云枝对话","",{"$nulls":5},121,{"$f":"IF(J789=\"\",\"\",VLOOKUP(J789,EventNPC!A:F,6,FALSE))","v":"云枝"},5909,"“哼，算你识相。下次别来打扰。”",null,6011,5,"",null,null,{"$f":"IF(R789=\"\",\"\",\"-\"&VLOOKUP(R789,EventConditionConfig!A:C,3,FALSE)&IF(S789=\"\",\"\",CHAR(10)&\"-\"&VLOOKUP(S789,EventConditionConfig!A:C,3,FALSE)))","v":""},"","","","",null,null,"",null,null,"",{"$nulls":4},{"$f":"IF(A789=\"\",\"\",IF(ISNUMBER(Y789),2,IF(A790=\"\",IF(OR(AK789>0,VLOOKUP(O789,EventConfig!A:C,3,FALSE)=4),3,\"\"),1)))","v":1},601106,null,5909,6011]
[601106,5910,"击败风妖","",{"$nulls":5},100,{"$f":"IF(J790=\"\",\"\",VLOOKUP(J790,EventNPC!A:F,6,FALSE))","v":"玩家"},5911,"(警惕性很强……或许是保护妹妹太紧。)",null,6011,6,"",null,null,{"$f":"IF(R790=\"\",\"\",\"-\"&VLOOKUP(R790,EventConditionConfig!A:C,3,FALSE)&IF(S790=\"\",\"\",CHAR(10)&\"-\"&VLOOKUP(S790,EventConditionConfig!A:C,3,FALSE)))","v":""},"","","","",null,null,"",null,null,"",{"$nulls":4},{"$f":"IF(A790=\"\",\"\",IF(ISNUMBER(Y790),2,IF(A791=\"\",IF(OR(AK790>0,VLOOKUP(O790,EventConfig!A:C,3,FALSE)=4),3,\"\"),1)))","v":1},601107,null,5911,6011]
[601107,5910,"击败风妖","",{"$nulls":5},100,{"$f":"IF(J791=\"\",\"\",VLOOKUP(J791,EventNPC!A:F,6,FALSE))","v":"玩家"},5912,"云枝，风妖我清理干净了..\n云枝...人呢？怎么走了…",null,6011,7,"38",38,null,{"$f":"IF(R791=\"\",\"\",\"-\"&VLOOKUP(R791,EventConditionConfig!A:C,3,FALSE)&IF(S791=\"\",\"\",CHAR(10)&\"-\"&VLOOKUP(S791,EventConditionConfig!A:C,3,FALSE)))","v":"-击败风妖"},"","","","",null,null,"",null,null,"",{"$nulls":4},{"$f":"IF(A791=\"\",\"\",IF(ISNUMBER(Y791),2,IF(A792=\"\",IF(OR(AK791>0,VLOOKUP(O791,EventConfig!A:C,3,FALSE)=4),3,\"\"),1)))","v":""},"",null,5912,6011]
[null,"",null,"",{"$nulls":6},{"$f":"IF(J792=\"\",\"\",VLOOKUP(J792,EventNPC!A:F,6,FALSE))","v":""},"",null,null,null,"",{"$nulls":5},"","","",null,null,"",null,null,"",{"$nulls":4},{"$f":"IF(A792=\"\",\"\",IF(ISNUMBER(Y792),2,IF(A793=\"\",IF(OR(AK792>0,VLOOKUP(O792,EventConfig!A:C,3,FALSE)=4),3,\"\"),1)))","v":""},"",null,"",0]
[{"$f":"O793*100+P793","v":601201},5913,"击败小风妖","",{"$nulls":6},{"$f":"IF(J793=\"\",\"\",VLOOKUP(J793,EventNPC!A:F,6,FALSE))","v":""},5914,"树林边缘风起，云枝现身。\n她绿袍微摆，眼神锐利如风刃，身后古松如守护者般矗立，妖兽啸声时隐时现。",null,6012,1,{"$f":"_xlfn.TEXTJOIN(\";\",1,R793:S793)","v":""},null,null,{"$f":"IF(R793=\"\",\"\",\"-\"&VLOOKUP(R793,EventConditionConfig!A:C,3,FALSE)&IF(S793=\"\",\"\",CHAR(10)&\"-\"&VLOOKUP(S793,EventConditionConfig!A:C,3,FALSE)))","v":""},{"$f":"IF(Y793=\"\",\"\",IF(ISTEXT(Y793),1,2))","v":""},"","","",null,null,"",null,null,"",{"$nulls":4},{"$f":"IF(A793=\"\",\"\",IF(ISNUMBER(Y793),2,IF(A794=\"\",IF(OR(AK793>0,VLOOKUP(O793,EventConfig!A:C,3,FALSE)=4),3,\"\"),1)))","v":1},601202,null,5914,6012]
[601202,{"$f":"IF(C794=\"\",\"\",IF(C794=C793,B793,MAX(AL793,AL792)+1))","v":5913},"击败小风妖","",{"$nulls":5},121,{"$f":"IF(J794=\"\",\"\",VLOOKUP(J794,EventNPC!A:F,6,FALSE))","v":"云枝"},5915,"又来找灵儿！？\n那得看你没有这个本事，正好来了几只妖兽，帮我赶走它们。”",null,6012,2,"",null,null,{"$f":"IF(R794=\"\",\"\",\"-\"&VLOOKUP(R794,EventConditionConfig!A:C,3,FALSE)&IF(S794=\"\",\"\",CHAR(10)&\"-\"&VLOOKUP(S794,EventConditionConfig!A:C,3,FALSE)))","v":""},1,"601203;601204","5916;5917",5916,"好，我来对付这几只小妖。",{"$f":"A795","v":601203},5917,"让开，我来对付这几只高阶妖兽。",{"$f":"A796","v":601204},"",null,{"$f":"D796","v":""},null,null,{"$f":"IF(A794=\"\",\"\",IF(ISNUMBER(Y794),2,IF(A795=\"\",IF(OR(AK794>0,VLOOKUP(O794,EventConfig!A:C,3,FALSE)=4),3,\"\"),1)))","v":1},601203,null,5917,6012]
[601203,5913,"击败小风妖","",{"$nulls":5},121,{"$f":"IF(J795=\"\",\"\",VLOOKUP(J795,EventNPC!A:F,6,FALSE))","v":"云枝"},5918,"小心..",null,6012,3,"",null,null,{"$f":"IF(R795=\"\",\"\",\"-\"&VLOOKUP(R795,EventConditionConfig!A:C,3,FALSE)&IF(S795=\"\",\"\",CHAR(10)&\"-\"&VLOOKUP(S795,EventConditionConfig!A:C,3,FALSE)))","v":""},2,3004,"","",3004,null,"",null,null,"",{"$nulls":4},{"$f":"IF(A795=\"\",\"\",IF(ISNUMBER(Y795),2,IF(A796=\"\",IF(OR(AK795>0,VLOOKUP(O795,EventConfig!A:C,3,FALSE)=4),3,\"\"),1)))","v":2},"601205;101",{"$f":"A797","v":601205},5918,6012]
[601204,5913,"击败小风妖","",{"$nulls":5},121,{"$f":"IF(J796=\"\",\"\",VLOOKUP(J796,EventNPC!A:F,6,FALSE))","v":"云枝"},5919,"......小心，别逞能，风妖狡猾，别掉以轻心。",null,6012,4,"",null,null,{"$f":"IF(R796=\"\",\"\",\"-\"&VLOOKUP(R796,EventConditionConfig!A:C,3,FALSE)&IF(S796=\"\",\"\",CHAR(10)&\"-\"&VLOOKUP(S796,EventConditionConfig!A:C,3,FALSE)))","v":""},2,3005,"","",3005,null,"",null,null,"",{"$nulls":4},{"$f":"IF(A796=\"\",\"\",IF(ISNUMBER(Y796),2,IF(A797=\"\",IF(OR(AK796>0,VLOOKUP(O796,EventConfig!A:C,3,FALSE)=4),3,\"\"),1)))","v":2},"601205;101",{"$f":"A797","v":601205},5919,6012]
[601205,5913,"击败小风妖","",{"$nulls":5},121,{"$f":"IF(J797=\"\",\"\",VLOOKUP(J797,EventNPC!A:F,6,FALSE))","v":"云枝"},5920,"还算有点本事……雀灵儿喜欢玩闹，但我得护她周全。\n我不能让她冒险。你懂吗？",null,6012,5,"",null,null,{"$f":"IF(R797=\"\",\"\",\"-\"&VLOOKUP(R797,EventConditionConfig!A:C,3,FALSE)&IF(S797=\"\",\"\",CHAR(10)&\"-\"&VLOOKUP(S797,EventConditionConfig!A:C,3,FALSE)))","v":""},"","","","",null,null,"",null,null,"",{"$nulls":4},{"$f":"IF(A797=\"\",\"\",IF(ISNUMBER(Y797),2,IF(A798=\"\",IF(OR(AK797>0,VLOOKUP(O797,EventConfig!A:C,3,FALSE)=4),3,\"\"),1)))","v":1},601206,null,5920,6012]
[601206,5913,"击败小风妖","",{"$nulls":5},100,{"$f":"IF(J798=\"\",\"\",VLOOKUP(J798,EventNPC!A:F,6,FALSE))","v":"玩家"},5921,"我懂……我会小心。",null,6012,6,"",null,null,{"$f":"IF(R798=\"\",\"\",\"-\"&VLOOKUP(R798,EventConditionConfig!A:C,3,FALSE)&IF(S798=\"\",\"\",CHAR(10)&\"-\"&VLOOKUP(S798,EventConditionConfig!A:C,3,FALSE)))","v":""},"","","","",null,null,"",null,null,"",{"$nulls":4},{"$f":"IF(A798=\"\",\"\",IF(ISNUMBER(Y798),2,IF(A799=\"\",IF(OR(AK798>0,VLOOKUP(O798,EventConfig!A:C,3,FALSE)=4),3,\"\"),1)))","v":1},601207,null,5921,6012]
[601207,5913,"击败小风妖","",{"$nulls":5},121,{"$f":"IF(J799=\"\",\"\",VLOOKUP(J799,EventNPC!A:F,6,FALSE))","v":"云枝"},5922,"哼，灵儿出去了，下次再来吧。",null,6012,7,"",null,null,{"$f":"IF(R799=\"\",\"\",\"-\"&VLOOKUP(R799,EventConditionConfig!A:C,3,FALSE)&IF(S799=\"\",\"\",CHAR(10)&\"-\"&VLOOKUP(S799,EventConditionConfig!A:C,3,FALSE)))","v":""},"","","","",null,null,"",null,null,"",{"$nulls":4},{"$f":"IF(A799=\"\",\"\",IF(ISNUMBER(Y799),2,IF(A800=\"\",IF(OR(AK799>0,VLOOKUP(O799,EventConfig!A:C,3,FALSE)=4),3,\"\"),1)))","v":1},601208,null,5922,6012]
[601208,5913,"击败小风妖","",{"$nulls":5},100,{"$f":"IF(J800=\"\",\"\",VLOOKUP(J800,EventNPC!A:F,6,FALSE))","v":"玩家"},5923,"（高冷外表下，是姐姐的温柔，她似乎开始信任我了）",null,6012,8,"",null,null,{"$f":"IF(R800=\"\",\"\",\"-\"&VLOOKUP(R800,EventConditionConfig!A:C,3,FALSE)&IF(S800=\"\",\"\",CHAR(10)&\"-\"&VLOOKUP(S800,EventConditionConfig!A:C,3,FALSE)))","v":""},"","","","",null,null,"",null,null,"",{"$nulls":4},{"$f":"IF(A800=\"\",\"\",IF(ISNUMBER(Y800),2,IF(A801=\"\",IF(OR(AK800>0,VLOOKUP(O800,EventConfig!A:C,3,FALSE)=4),3,\"\"),1)))","v":""},"",null,5923,6012]
[null,"",null,"",{"$nulls":6},{"$f":"IF(J801=\"\",\"\",VLOOKUP(J801,EventNPC!A:F,6,FALSE))","v":""},"",null,null,null,"",{"$nulls":5},"","","",null,null,"",null,null,"",{"$nulls":4},{"$f":"IF(A801=\"\",\"\",IF(ISNUMBER(Y801),2,IF(A802=\"\",IF(OR(AK801>0,VLOOKUP(O801,EventConfig!A:C,3,FALSE)=4),3,\"\"),1)))","v":""},"",null,"",0]
[{"$f":"O802*100+P802","v":601301},{"$f":"IF(C802=\"\",\"\",IF(C802=C801,B801,MAX(AL801,AL800)+1))","v":5924},"协助云枝保护灵草","",{"$nulls":6},{"$f":"IF(J802=\"\",\"\",VLOOKUP(J802,EventNPC!A:F,6,FALSE))","v":""},5925,"云枝带你到树林深处，她轻抚琴弦，琴音如风过林，将灵力注入灵草中，助其生长并形成防护光幕。",null,6013,1,{"$f":"_xlfn.TEXTJOIN(\";\",1,R802:S802)","v":""},null,null,{"$f":"IF(R802=\"\",\"\",\"-\"&VLOOKUP(R802,EventConditionConfig!A:C,3,FALSE)&IF(S802=\"\",\"\",CHAR(10)&\"-\"&VLOOKUP(S802,EventConditionConfig!A:C,3,FALSE)))","v":""},{"$f":"IF(Y802=\"\",\"\",IF(ISTEXT(Y802),1,2))","v":""},"","","",null,null,"",null,null,"",{"$nulls":4},{"$f":"IF(A802=\"\",\"\",IF(ISNUMBER(Y802),2,IF(A803=\"\",IF(OR(AK802>0,VLOOKUP(O802,EventConfig!A:C,3,FALSE)=4),3,\"\"),1)))","v":1},601302,null,5925,6013]
[601302,5924,"协助云枝保护灵草","",{"$nulls":6},{"$f":"IF(J803=\"\",\"\",VLOOKUP(J803,EventNPC!A:F,6,FALSE))","v":""},5926,"但灵草能增强力量，风妖常来偷食，她让你帮忙守护。树林夜色渐深，风啸声中，灵草散发微光，仿佛在诉说北海的秘密。",null,6013,2,"",null,null,{"$f":"IF(R803=\"\",\"\",\"-\"&VLOOKUP(R803,EventConditionConfig!A:C,3,FALSE)&IF(S803=\"\",\"\",CHAR(10)&\"-\"&VLOOKUP(S803,EventConditionConfig!A:C,3,FALSE)))","v":""},"","","","",null,null,"",null,null,"",{"$nulls":4},{"$f":"IF(A803=\"\",\"\",IF(ISNUMBER(Y803),2,IF(A804=\"\",IF(OR(AK803>0,VLOOKUP(O803,EventConfig!A:C,3,FALSE)=4),3,\"\"),1)))","v":1},601303,null,5926,6013]
[601303,5924,"协助云枝保护灵草","",{"$nulls":5},121,{"$f":"IF(J804=\"\",\"\",VLOOKUP(J804,EventNPC!A:F,6,FALSE))","v":"云枝"},5927,"（优雅抚琴，声音柔和）看到这片草地了吗？\n经常有妖兽前来偷食，我会用灵力注入琴音，助其生长并防护。\n你在旁协助我，谨防高阶妖兽前来偷袭。",null,6013,3,"",null,null,{"$f":"IF(R804=\"\",\"\",\"-\"&VLOOKUP(R804,EventConditionConfig!A:C,3,FALSE)&IF(S804=\"\",\"\",CHAR(10)&\"-\"&VLOOKUP(S804,EventConditionConfig!A:C,3,FALSE)))","v":""},1,"601304","5928",5928,"这些草看起来普普通通，为何会吸引妖兽？",null,"",null,null,"",{"$nulls":4},{"$f":"IF(A804=\"\",\"\",IF(ISNUMBER(Y804),2,IF(A805=\"\",IF(OR(AK804>0,VLOOKUP(O804,EventConfig!A:C,3,FALSE)=4),3,\"\"),1)))","v":1},601304,null,5928,6013]
[601304,5924,"协助云枝保护灵草","",{"$nulls":5},121,{"$f":"IF(J805=\"\",\"\",VLOOKUP(J805,EventNPC!A:F,6,FALSE))","v":"云枝"},5929,"这些草拥有强大的灵力，复用后可增强力量，因此被妖兽盯上。",null,6013,4,"",null,null,{"$f":"IF(R805=\"\",\"\",\"-\"&VLOOKUP(R805,EventConditionConfig!A:C,3,FALSE)&IF(S805=\"\",\"\",CHAR(10)&\"-\"&VLOOKUP(S805,EventConditionConfig!A:C,3,FALSE)))","v":""},1,"601305","5930",5930,"原来如此,我帮你守护灵草。",null,"",null,null,"",{"$nulls":4},{"$f":"IF(A805=\"\",\"\",IF(ISNUMBER(Y805),2,IF(A806=\"\",IF(OR(AK805>0,VLOOKUP(O805,EventConfig!A:C,3,FALSE)=4),3,\"\"),1)))","v":1},601305,null,5930,6013]
[601305,5924,"协助云枝保护灵草","",{"$nulls":5},121,{"$f":"IF(J806=\"\",\"\",VLOOKUP(J806,EventNPC!A:F,6,FALSE))","v":"云枝"},5931,"嗯，谢谢",null,6013,5,"",null,null,{"$f":"IF(R806=\"\",\"\",\"-\"&VLOOKUP(R806,EventConditionConfig!A:C,3,FALSE)&IF(S806=\"\",\"\",CHAR(10)&\"-\"&VLOOKUP(S806,EventConditionConfig!A:C,3,FALSE)))","v":""},"","","","",null,null,"",null,null,"",{"$nulls":4},{"$f":"IF(A806=\"\",\"\",IF(ISNUMBER(Y806),2,IF(A807=\"\",IF(OR(AK806>0,VLOOKUP(O806,EventConfig!A:C,3,FALSE)=4),3,\"\"),1)))","v":1},601306,null,5931,6013]
[601306,5924,"协助云枝保护灵草","",{"$nulls":5},121,{"$f":"IF(J807=\"\",\"\",VLOOKUP(J807,EventNPC!A:F,6,FALSE))","v":"云枝"},5932,"风妖来了！它们冲着灵草而来，我的琴音能弱化它们，你快打。",null,6013,6,"",null,null,{"$f":"IF(R807=\"\",\"\",\"-\"&VLOOKUP(R807,EventConditionConfig!A:C,3,FALSE)&IF(S807=\"\",\"\",CHAR(10)&\"-\"&VLOOKUP(S807,EventConditionConfig!A:C,3,FALSE)))","v":""},2,3006,"","",3006,null,"",null,null,"",{"$nulls":4},{"$f":"IF(A807=\"\",\"\",IF(ISNUMBER(Y807),2,IF(A808=\"\",IF(OR(AK807>0,VLOOKUP(O807,EventConfig!A:C,3,FALSE)=4),3,\"\"),1)))","v":2},"601307;101",null,5932,6013]
[601307,5924,"协助云枝保护灵草","",{"$nulls":5},121,{"$f":"IF(J808=\"\",\"\",VLOOKUP(J808,EventNPC!A:F,6,FALSE))","v":"云枝"},5933,"好……灵草安全了些。平时我一人守这儿，琴音能驱邪，但风大时总力不从心。\n你……为什么愿意帮我？",null,6013,7,"",null,null,{"$f":"IF(R808=\"\",\"\",\"-\"&VLOOKUP(R808,EventConditionConfig!A:C,3,FALSE)&IF(S808=\"\",\"\",CHAR(10)&\"-\"&VLOOKUP(S808,EventConditionConfig!A:C,3,FALSE)))","v":""},1,"601308","5934",5934,"因为雀灵儿，也因为这树林值得守护。",null,"",null,null,"",{"$nulls":4},{"$f":"IF(A808=\"\",\"\",IF(ISNUMBER(Y808),2,IF(A809=\"\",IF(OR(AK808>0,VLOOKUP(O808,EventConfig!A:C,3,FALSE)=4),3,\"\"),1)))","v":1},601308,null,5934,6013]
[601308,5924,"协助云枝保护灵草","",{"$nulls":5},121,{"$f":"IF(J809=\"\",\"\",VLOOKUP(J809,EventNPC!A:F,6,FALSE))","v":"云枝"},5935,"（低声）雀灵儿天真，你懂守护……\n或许这是好最好安排..\n（欲言又止）",null,6013,8,"",null,null,{"$f":"IF(R809=\"\",\"\",\"-\"&VLOOKUP(R809,EventConditionConfig!A:C,3,FALSE)&IF(S809=\"\",\"\",CHAR(10)&\"-\"&VLOOKUP(S809,EventConditionConfig!A:C,3,FALSE)))","v":""},1,"601309","5936",5936,"能守护你，我也很开心",null,"",null,null,"",{"$nulls":4},{"$f":"IF(A809=\"\",\"\",IF(ISNUMBER(Y809),2,IF(A810=\"\",IF(OR(AK809>0,VLOOKUP(O809,EventConfig!A:C,3,FALSE)=4),3,\"\"),1)))","v":1},601309,null,5936,6013]
[601309,5924,"协助云枝保护灵草","",{"$nulls":5},121,{"$f":"IF(J810=\"\",\"\",VLOOKUP(J810,EventNPC!A:F,6,FALSE))","v":"云枝"},5937,"（低头去摘灵草）这几株灵草给你，能增强你的力量。",null,6013,9,"",null,null,{"$f":"IF(R810=\"\",\"\",\"-\"&VLOOKUP(R810,EventConditionConfig!A:C,3,FALSE)&IF(S810=\"\",\"\",CHAR(10)&\"-\"&VLOOKUP(S810,EventConditionConfig!A:C,3,FALSE)))","v":""},"","","","",null,null,"",null,null,"",{"$nulls":4},{"$f":"IF(A810=\"\",\"\",IF(ISNUMBER(Y810),2,IF(A811=\"\",IF(OR(AK810>0,VLOOKUP(O810,EventConfig!A:C,3,FALSE)=4),3,\"\"),1)))","v":1},601310,null,5937,6013]
[601310,5924,"协助云枝保护灵草","",{"$nulls":5},121,{"$f":"IF(J811=\"\",\"\",VLOOKUP(J811,EventNPC!A:F,6,FALSE))","v":"云枝"},5938,"多谢云枝。\n（高冷姐姐，也有柔软一面）",null,6013,10,"",null,null,{"$f":"IF(R811=\"\",\"\",\"-\"&VLOOKUP(R811,EventConditionConfig!A:C,3,FALSE)&IF(S811=\"\",\"\",CHAR(10)&\"-\"&VLOOKUP(S811,EventConditionConfig!A:C,3,FALSE)))","v":""},"","","","",null,null,"",null,null,"",{"$nulls":4},{"$f":"IF(A811=\"\",\"\",IF(ISNUMBER(Y811),2,IF(A812=\"\",IF(OR(AK811>0,VLOOKUP(O811,EventConfig!A:C,3,FALSE)=4),3,\"\"),1)))","v":""},"",null,5938,6013]
[null,"",null,"",{"$nulls":6},{"$f":"IF(J812=\"\",\"\",VLOOKUP(J812,EventNPC!A:F,6,FALSE))","v":""},"",null,null,null,"",{"$nulls":5},"","","",null,null,"",null,null,"",{"$nulls":4},{"$f":"IF(A812=\"\",\"\",IF(ISNUMBER(Y812),2,IF(A813=\"\",IF(OR(AK812>0,VLOOKUP(O812,EventConfig!A:C,3,FALSE)=4),3,\"\"),1)))","v":""},"",null,"",0]
[{"$f":"O813*100+P813","v":601401},5939,"云枝的回忆","",{"$nulls":6},{"$f":"IF(J813=\"\",\"\",VLOOKUP(J813,EventNPC!A:F,6,FALSE))","v":""},5940,"夜风轻，云枝坐在古松下，眼神遥远。她想你陪她聊聊往事。",null,6014,1,{"$f":"_xlfn.TEXTJOIN(\";\",1,R813:S813)","v":""},null,null,{"$f":"IF(R813=\"\",\"\",\"-\"&VLOOKUP(R813,EventConditionConfig!A:C,3,FALSE)&IF(S813=\"\",\"\",CHAR(10)&\"-\"&VLOOKUP(S813,EventConditionConfig!A:C,3,FALSE)))","v":""},{"$f":"IF(Y813=\"\",\"\",IF(ISTEXT(Y813),1,2))","v":""},"","","",null,null,"",null,null,"",{"$nulls":4},{"$f":"IF(A813=\"\",\"\",IF(ISNUMBER(Y813),2,IF(A814=\"\",IF(OR(AK813>0,VLOOKUP(O813,EventConfig!A:C,3,FALSE)=4),3,\"\"),1)))","v":1},601402,null,5940,6014]
[601402,5939,"云枝的回忆","",{"$nulls":5},121,{"$f":"IF(J814=\"\",\"\",VLOOKUP(J814,EventNPC!A:F,6,FALSE))","v":"云枝"},5941,"（低声，抚摸树干）北海的大风，卷走了太多……父母走后，我守着雀灵儿，不让她冒险。\n灵儿天真，你莫要带她走我的老路。你云游四方，可曾有后悔之事？",null,6014,2,"",null,null,{"$f":"IF(R814=\"\",\"\",\"-\"&VLOOKUP(R814,EventConditionConfig!A:C,3,FALSE)&IF(S814=\"\",\"\",CHAR(10)&\"-\"&VLOOKUP(S814,EventConditionConfig!A:C,3,FALSE)))","v":""},1,"601403","5942",5942,"不知道，但每次冒险，都让我离成仙更近。",null,"",null,null,"",{"$nulls":4},{"$f":"IF(A814=\"\",\"\",IF(ISNUMBER(Y814),2,IF(A815=\"\",IF(OR(AK814>0,VLOOKUP(O814,EventConfig!A:C,3,FALSE)=4),3,\"\"),1)))","v":1},601403,null,5942,6014]
[601403,5939,"云枝的回忆","",{"$nulls":5},121,{"$f":"IF(J815=\"\",\"\",VLOOKUP(J815,EventNPC!A:F,6,FALSE))","v":"云枝"},5943,"（眼神柔和）成仙吗？我没想过……\n小的时候我父母还在，我们一家在北海飞来飞去。",null,6014,3,"",null,null,{"$f":"IF(R815=\"\",\"\",\"-\"&VLOOKUP(R815,EventConditionConfig!A:C,3,FALSE)&IF(S815=\"\",\"\",CHAR(10)&\"-\"&VLOOKUP(S815,EventConditionConfig!A:C,3,FALSE)))","v":""},"","","","",null,null,"",null,null,"",{"$nulls":4},{"$f":"IF(A815=\"\",\"\",IF(ISNUMBER(Y815),2,IF(A816=\"\",IF(OR(AK815>0,VLOOKUP(O815,EventConfig!A:C,3,FALSE)=4),3,\"\"),1)))","v":1},601404,null,5943,6014]
[601404,5939,"云枝的回忆","",{"$nulls":5},121,{"$f":"IF(J816=\"\",\"\",VLOOKUP(J816,EventNPC!A:F,6,FALSE))","v":"云枝"},5944,"父亲教我御风，母亲弹琴驱妖。风大时，他们总笑说“借风飞远”，北海就是我们的游乐场。",null,6014,4,"",null,null,{"$f":"IF(R816=\"\",\"\",\"-\"&VLOOKUP(R816,EventConditionConfig!A:C,3,FALSE)&IF(S816=\"\",\"\",CHAR(10)&\"-\"&VLOOKUP(S816,EventConditionConfig!A:C,3,FALSE)))","v":""},"","","","",null,null,"",null,null,"",{"$nulls":4},{"$f":"IF(A816=\"\",\"\",IF(ISNUMBER(Y816),2,IF(A817=\"\",IF(OR(AK816>0,VLOOKUP(O816,EventConfig!A:C,3,FALSE)=4),3,\"\"),1)))","v":1},601405,null,5944,6014]
[601405,5939,"云枝的回忆","",{"$nulls":5},121,{"$f":"IF(J817=\"\",\"\",VLOOKUP(J817,EventNPC!A:F,6,FALSE))","v":"云枝"},5945,"我们常在树林追风玩闹，雀灵儿还小，咯咯笑着抓树叶……",null,6014,5,"",null,null,{"$f":"IF(R817=\"\",\"\",\"-\"&VLOOKUP(R817,EventConditionConfig!A:C,3,FALSE)&IF(S817=\"\",\"\",CHAR(10)&\"-\"&VLOOKUP(S817,EventConditionConfig!A:C,3,FALSE)))","v":""},1,"601406","5946",5946,"听起来很温暖……后来呢？",null,"",null,null,"",{"$nulls":4},{"$f":"IF(A817=\"\",\"\",IF(ISNUMBER(Y817),2,IF(A818=\"\",IF(OR(AK817>0,VLOOKUP(O817,EventConfig!A:C,3,FALSE)=4),3,\"\"),1)))","v":1},601406,null,5946,6014]
[601406,5939,"云枝的回忆","",{"$nulls":5},121,{"$f":"IF(J818=\"\",\"\",VLOOKUP(J818,EventNPC!A:F,6,FALSE))","v":"云枝"},5947,"（微微颤声，泪光闪现）后来，一夜大风暴，风卷走他们，只剩我和雀灵儿……从那后，我再不敢飞远，只守树林。",null,6014,6,"",null,null,{"$f":"IF(R818=\"\",\"\",\"-\"&VLOOKUP(R818,EventConditionConfig!A:C,3,FALSE)&IF(S818=\"\",\"\",CHAR(10)&\"-\"&VLOOKUP(S818,EventConditionConfig!A:C,3,FALSE)))","v":""},"","","","",null,null,"",null,null,"",{"$nulls":4},{"$f":"IF(A818=\"\",\"\",IF(ISNUMBER(Y818),2,IF(A819=\"\",IF(OR(AK818>0,VLOOKUP(O818,EventConfig!A:C,3,FALSE)=4),3,\"\"),1)))","v":1},601407,null,5947,6014]
[601407,5939,"云枝的回忆","",{"$nulls":5},121,{"$f":"IF(J819=\"\",\"\",VLOOKUP(J819,EventNPC!A:F,6,FALSE))","v":"云枝"},5948,"雀灵儿像小时候的我，天真好奇，总想飞出去。",null,6014,7,"",null,null,{"$f":"IF(R819=\"\",\"\",\"-\"&VLOOKUP(R819,EventConditionConfig!A:C,3,FALSE)&IF(S819=\"\",\"\",CHAR(10)&\"-\"&VLOOKUP(S819,EventConditionConfig!A:C,3,FALSE)))","v":""},"","","","",null,null,"",null,null,"",{"$nulls":4},{"$f":"IF(A819=\"\",\"\",IF(ISNUMBER(Y819),2,IF(A820=\"\",IF(OR(AK819>0,VLOOKUP(O819,EventConfig!A:C,3,FALSE)=4),3,\"\"),1)))","v":1},601408,null,5948,6014]
[601408,5939,"云枝的回忆","",{"$nulls":5},121,{"$f":"IF(J820=\"\",\"\",VLOOKUP(J820,EventNPC!A:F,6,FALSE))","v":"云枝"},5949,"但我怕……怕她也像父母那样消失。\n你懂这种怕吗？",null,6014,8,"",null,null,{"$f":"IF(R820=\"\",\"\",\"-\"&VLOOKUP(R820,EventConditionConfig!A:C,3,FALSE)&IF(S820=\"\",\"\",CHAR(10)&\"-\"&VLOOKUP(S820,EventConditionConfig!A:C,3,FALSE)))","v":""},"","","","",null,null,"",null,null,"",{"$nulls":4},{"$f":"IF(A820=\"\",\"\",IF(ISNUMBER(Y820),2,IF(A821=\"\",IF(OR(AK820>0,VLOOKUP(O820,EventConfig!A:C,3,FALSE)=4),3,\"\"),1)))","v":1},601409,null,5949,6014]
[601409,5939,"云枝的回忆","",{"$nulls":5},100,{"$f":"IF(J821=\"\",\"\",VLOOKUP(J821,EventNPC!A:F,6,FALSE))","v":"玩家"},5950,"我可能不懂，但我会守护你们。",null,6014,9,"",null,null,{"$f":"IF(R821=\"\",\"\",\"-\"&VLOOKUP(R821,EventConditionConfig!A:C,3,FALSE)&IF(S821=\"\",\"\",CHAR(10)&\"-\"&VLOOKUP(S821,EventConditionConfig!A:C,3,FALSE)))","v":""},"","","","",null,null,"",null,null,"",{"$nulls":4},{"$f":"IF(A821=\"\",\"\",IF(ISNUMBER(Y821),2,IF(A822=\"\",IF(OR(AK821>0,VLOOKUP(O821,EventConfig!A:C,3,FALSE)=4),3,\"\"),1)))","v":1},601410,null,5950,6014]
[601410,5939,"云枝的回忆","",{"$nulls":5},121,{"$f":"IF(J822=\"\",\"\",VLOOKUP(J822,EventNPC!A:F,6,FALSE))","v":"云枝"},5951,"（微笑一瞬，擦泪）谁要你的守护！\n不过还是谢谢你，听我讲怎么多的往事。",null,6014,10,"",null,null,{"$f":"IF(R822=\"\",\"\",\"-\"&VLOOKUP(R822,EventConditionConfig!A:C,3,FALSE)&IF(S822=\"\",\"\",CHAR(10)&\"-\"&VLOOKUP(S822,EventConditionConfig!A:C,3,FALSE)))","v":""},1,"601411","5952",5952,"（……高冷外壳下，是一颗温柔的心。）",null,"",null,null,"",{"$nulls":4},{"$f":"IF(A822=\"\",\"\",IF(ISNUMBER(Y822),2,IF(A823=\"\",IF(OR(AK822>0,VLOOKUP(O822,EventConfig!A:C,3,FALSE)=4),3,\"\"),1)))","v":""},"",null,5952,6014]
[null,"",null,"",{"$nulls":6},{"$f":"IF(J823=\"\",\"\",VLOOKUP(J823,EventNPC!A:F,6,FALSE))","v":""},"",null,null,null,"",{"$nulls":5},"","","",null,null,"",null,null,"",{"$nulls":4},{"$f":"IF(A823=\"\",\"\",IF(ISNUMBER(Y823),2,IF(A824=\"\",IF(OR(AK823>0,VLOOKUP(O823,EventConfig!A:C,3,FALSE)=4),3,\"\"),1)))","v":""},"",null,"",0]
[{"$f":"O824*100+P824","v":601501},5953,"帮助云枝击败来袭的妖兽","",{"$nulls":6},{"$f":"IF(J824=\"\",\"\",VLOOKUP(J824,EventNPC!A:F,6,FALSE))","v":""},5954,"乱风突袭北海树林，一群风妖借风势来袭，威胁古松小天地。",null,6015,1,{"$f":"_xlfn.TEXTJOIN(\";\",1,R824:S824)","v":""},null,null,{"$f":"IF(R824=\"\",\"\",\"-\"&VLOOKUP(R824,EventConditionConfig!A:C,3,FALSE)&IF(S824=\"\",\"\",CHAR(10)&\"-\"&VLOOKUP(S824,EventConditionConfig!A:C,3,FALSE)))","v":""},{"$f":"IF(Y824=\"\",\"\",IF(ISTEXT(Y824),1,2))","v":""},"","","",null,null,"",null,null,"",{"$nulls":4},{"$f":"IF(A824=\"\",\"\",IF(ISNUMBER(Y824),2,IF(A825=\"\",IF(OR(AK824>0,VLOOKUP(O824,EventConfig!A:C,3,FALSE)=4),3,\"\"),1)))","v":1},601502,null,5954,6015]
[601502,5953,"帮助云枝击败来袭的妖兽","",{"$nulls":6},{"$f":"IF(J825=\"\",\"\",VLOOKUP(J825,EventNPC!A:F,6,FALSE))","v":""},5955,"云枝护着雀灵儿战斗，但妖兽太多，她焦急向你求助。",null,6015,2,"",null,null,{"$f":"IF(R825=\"\",\"\",\"-\"&VLOOKUP(R825,EventConditionConfig!A:C,3,FALSE)&IF(S825=\"\",\"\",CHAR(10)&\"-\"&VLOOKUP(S825,EventConditionConfig!A:C,3,FALSE)))","v":""},"","","","",null,null,"",null,null,"",{"$nulls":4},{"$f":"IF(A825=\"\",\"\",IF(ISNUMBER(Y825),2,IF(A826=\"\",IF(OR(AK825>0,VLOOKUP(O825,EventConfig!A:C,3,FALSE)=4),3,\"\"),1)))","v":1},601503,null,5955,6015]
[601503,5953,"帮助云枝击败来袭的妖兽","",{"$nulls":6},{"$f":"IF(J826=\"\",\"\",VLOOKUP(J826,EventNPC!A:F,6,FALSE))","v":""},5956,"树叶乱飞，妖啸回荡，云枝绿袍在乱风中飘荡，雀灵儿躲在她身后，眼神害怕却坚强。",null,6015,3,"",null,null,{"$f":"IF(R826=\"\",\"\",\"-\"&VLOOKUP(R826,EventConditionConfig!A:C,3,FALSE)&IF(S826=\"\",\"\",CHAR(10)&\"-\"&VLOOKUP(S826,EventConditionConfig!A:C,3,FALSE)))","v":""},"","","","",null,null,"",null,null,"",{"$nulls":4},{"$f":"IF(A826=\"\",\"\",IF(ISNUMBER(Y826),2,IF(A827=\"\",IF(OR(AK826>0,VLOOKUP(O826,EventConfig!A:C,3,FALSE)=4),3,\"\"),1)))","v":1},601504,null,5956,6015]
[601504,5953,"帮助云枝击败来袭的妖兽","",{"$nulls":5},121,{"$f":"IF(J827=\"\",\"\",VLOOKUP(J827,EventNPC!A:F,6,FALSE))","v":"云枝"},5957,"（着急，用琴音抵挡妖群）妖群突袭！\n它们借大风群攻，雀灵儿在这里不安全……帮我击退它们，我护着她撤到安全处！",null,6015,4,"",null,null,{"$f":"IF(R827=\"\",\"\",\"-\"&VLOOKUP(R827,EventConditionConfig!A:C,3,FALSE)&IF(S827=\"\",\"\",CHAR(10)&\"-\"&VLOOKUP(S827,EventConditionConfig!A:C,3,FALSE)))","v":""},1,"601505","5958",5958,"好，我们一起守护！",null,"",null,null,"",{"$nulls":4},{"$f":"IF(A827=\"\",\"\",IF(ISNUMBER(Y827),2,IF(A828=\"\",IF(OR(AK827>0,VLOOKUP(O827,EventConfig!A:C,3,FALSE)=4),3,\"\"),1)))","v":1},601505,null,5958,6015]
[601505,5953,"帮助云枝击败来袭的妖兽","",{"$nulls":5},121,{"$f":"IF(J828=\"\",\"\",VLOOKUP(J828,EventNPC!A:F,6,FALSE))","v":"云枝"},5959,"（用琴音护住雀灵儿）灵儿，别怕，有姐姐在……一定保护你！！\n妖兽太多，这一群交给我，你看住我身后的妖兽！",null,6015,5,"",null,null,{"$f":"IF(R828=\"\",\"\",\"-\"&VLOOKUP(R828,EventConditionConfig!A:C,3,FALSE)&IF(S828=\"\",\"\",CHAR(10)&\"-\"&VLOOKUP(S828,EventConditionConfig!A:C,3,FALSE)))","v":""},"","","","",null,null,"",null,null,"",{"$nulls":4},{"$f":"IF(A828=\"\",\"\",IF(ISNUMBER(Y828),2,IF(A829=\"\",IF(OR(AK828>0,VLOOKUP(O828,EventConfig!A:C,3,FALSE)=4),3,\"\"),1)))","v":1},601506,null,5959,6015]
[601506,5953,"帮助云枝击败来袭的妖兽","",{"$nulls":5},2,{"$f":"IF(J829=\"\",\"\",VLOOKUP(J829,EventNPC!A:F,6,FALSE))","v":"雀灵儿"},5960,"（大声）大傻瓜，快帮姐姐！",null,6015,6,"",null,null,{"$f":"IF(R829=\"\",\"\",\"-\"&VLOOKUP(R829,EventConditionConfig!A:C,3,FALSE)&IF(S829=\"\",\"\",CHAR(10)&\"-\"&VLOOKUP(S829,EventConditionConfig!A:C,3,FALSE)))","v":""},2,3007,"","",3007,null,"",null,null,"",{"$nulls":4},{"$f":"IF(A829=\"\",\"\",IF(ISNUMBER(Y829),2,IF(A830=\"\",IF(OR(AK829>0,VLOOKUP(O829,EventConfig!A:C,3,FALSE)=4),3,\"\"),1)))","v":2},"601507;101",null,5960,6015]
[601507,5953,"帮助云枝击败来袭的妖兽","",{"$nulls":5},121,{"$f":"IF(J830=\"\",\"\",VLOOKUP(J830,EventNPC!A:F,6,FALSE))","v":"云枝"},5961,"（受伤）小心，这只妖兽灵力极强！",null,6015,7,"",null,null,{"$f":"IF(R830=\"\",\"\",\"-\"&VLOOKUP(R830,EventConditionConfig!A:C,3,FALSE)&IF(S830=\"\",\"\",CHAR(10)&\"-\"&VLOOKUP(S830,EventConditionConfig!A:C,3,FALSE)))","v":""},1,"601508","5962",5962,"你们快走，交给我！",null,"",null,null,"",{"$nulls":4},{"$f":"IF(A830=\"\",\"\",IF(ISNUMBER(Y830),2,IF(A831=\"\",IF(OR(AK830>0,VLOOKUP(O830,EventConfig!A:C,3,FALSE)=4),3,\"\"),1)))","v":1},601508,null,5962,6015]
[601508,5953,"帮助云枝击败来袭的妖兽","",{"$nulls":6},{"$f":"IF(J831=\"\",\"\",VLOOKUP(J831,EventNPC!A:F,6,FALSE))","v":""},"",null,null,6015,8,"",null,null,{"$f":"IF(R831=\"\",\"\",\"-\"&VLOOKUP(R831,EventConditionConfig!A:C,3,FALSE)&IF(S831=\"\",\"\",CHAR(10)&\"-\"&VLOOKUP(S831,EventConditionConfig!A:C,3,FALSE)))","v":""},2,3008,"","",3008,null,"",null,null,"",{"$nulls":4},{"$f":"IF(A831=\"\",\"\",IF(ISNUMBER(Y831),2,IF(A832=\"\",IF(OR(AK831>0,VLOOKUP(O831,EventConfig!A:C,3,FALSE)=4),3,\"\"),1)))","v":2},"601509;101",null,5962,6015]
[601509,5953,"帮助云枝击败来袭的妖兽","",{"$nulls":5},121,{"$f":"IF(J832=\"\",\"\",VLOOKUP(J832,EventNPC!A:F,6,FALSE))","v":"云枝"},5963,"（喘气，受伤但微笑）谢谢……风势退了，雀灵儿安全了。\n我平时总护她，这次多亏你。\n不进保护了灵儿，还守护了我...或许……",null,6015,9,"",null,null,{"$f":"IF(R832=\"\",\"\",\"-\"&VLOOKUP(R832,EventConditionConfig!A:C,3,FALSE)&IF(S832=\"\",\"\",CHAR(10)&\"-\"&VLOOKUP(S832,EventConditionConfig!A:C,3,FALSE)))","v":""},"","","","",null,null,"",null,null,"",{"$nulls":4},{"$f":"IF(A832=\"\",\"\",IF(ISNUMBER(Y832),2,IF(A833=\"\",IF(OR(AK832>0,VLOOKUP(O832,EventConfig!A:C,3,FALSE)=4),3,\"\"),1)))","v":1},601510,null,5963,6015]
[601510,5953,"帮助云枝击败来袭的妖兽","",{"$nulls":5},2,{"$f":"IF(J833=\"\",\"\",VLOOKUP(J833,EventNPC!A:F,6,FALSE))","v":"雀灵儿"},5964,"（抱云枝）姐姐受伤了……谢谢大傻瓜！",null,6015,10,"",null,null,{"$f":"IF(R833=\"\",\"\",\"-\"&VLOOKUP(R833,EventConditionConfig!A:C,3,FALSE)&IF(S833=\"\",\"\",CHAR(10)&\"-\"&VLOOKUP(S833,EventConditionConfig!A:C,3,FALSE)))","v":""},"","","","",null,null,"",null,null,"",{"$nulls":4},{"$f":"IF(A833=\"\",\"\",IF(ISNUMBER(Y833),2,IF(A834=\"\",IF(OR(AK833>0,VLOOKUP(O833,EventConfig!A:C,3,FALSE)=4),3,\"\"),1)))","v":1},601511,null,5964,6015]
[601511,5953,"帮助云枝击败来袭的妖兽","",{"$nulls":5},100,{"$f":"IF(J834=\"\",\"\",VLOOKUP(J834,EventNPC!A:F,6,FALSE))","v":"玩家"},5965,"(云枝...真是一个好女孩，好姐姐）",null,6015,11,"",null,null,{"$f":"IF(R834=\"\",\"\",\"-\"&VLOOKUP(R834,EventConditionConfig!A:C,3,FALSE)&IF(S834=\"\",\"\",CHAR(10)&\"-\"&VLOOKUP(S834,EventConditionConfig!A:C,3,FALSE)))","v":""},"","","","",null,null,"",null,null,"",{"$nulls":4},{"$f":"IF(A834=\"\",\"\",IF(ISNUMBER(Y834),2,IF(A835=\"\",IF(OR(AK834>0,VLOOKUP(O834,EventConfig!A:C,3,FALSE)=4),3,\"\"),1)))","v":""},"",null,5965,6015]
[null,"",null,"",{"$nulls":6},{"$f":"IF(J835=\"\",\"\",VLOOKUP(J835,EventNPC!A:F,6,FALSE))","v":""},"",null,null,null,"",{"$nulls":5},"","","",null,null,"",null,null,"",{"$nulls":4},{"$f":"IF(A835=\"\",\"\",IF(ISNUMBER(Y835),2,IF(A836=\"\",IF(OR(AK835>0,VLOOKUP(O835,EventConfig!A:C,3,FALSE)=4),3,\"\"),1)))","v":""},"",null,"",0]
[{"$f":"O836*100+P836","v":601601},5966,"与云枝对话","",{"$nulls":6},{"$f":"IF(J836=\"\",\"\",VLOOKUP(J836,EventNPC!A:F,6,FALSE))","v":""},5967,"云枝在古松等你。\n她绿袍轻摆，眼神柔和，不再高冷。\n树林外，云海如画。",null,6016,1,{"$f":"_xlfn.TEXTJOIN(\";\",1,R836:S836)","v":""},null,null,{"$f":"IF(R836=\"\",\"\",\"-\"&VLOOKUP(R836,EventConditionConfig!A:C,3,FALSE)&IF(S836=\"\",\"\",CHAR(10)&\"-\"&VLOOKUP(S836,EventConditionConfig!A:C,3,FALSE)))","v":""},{"$f":"IF(Y836=\"\",\"\",IF(ISTEXT(Y836),1,2))","v":""},"","","",null,null,"",null,null,"",{"$nulls":4},{"$f":"IF(A836=\"\",\"\",IF(ISNUMBER(Y836),2,IF(A837=\"\",IF(OR(AK836>0,VLOOKUP(O836,EventConfig!A:C,3,FALSE)=4),3,\"\"),1)))","v":1},601602,null,5967,6016]
[{"$f":"O837*100+P837","v":601602},5966,"与云枝对话","",{"$nulls":5},121,{"$f":"IF(J837=\"\",\"\",VLOOKUP(J837,EventNPC!A:F,6,FALSE))","v":"云枝"},{"$f":"IF(M837=\"\",\"\",MAX(AL836,AL835,B837,D837)+1)","v":5968},"（微笑，靠近）“谢谢你帮我守树林、救雀灵儿……北海风不再可怕，我想跟你飞远，守护更大世界……行吗？我们一起？”",null,6016,2,{"$f":"_xlfn.TEXTJOIN(\";\",1,R837:S837)","v":""},null,null,{"$f":"IF(R837=\"\",\"\",\"-\"&VLOOKUP(R837,EventConditionConfig!A:C,3,FALSE)&IF(S837=\"\",\"\",CHAR(10)&\"-\"&VLOOKUP(S837,EventConditionConfig!A:C,3,FALSE)))","v":""},{"$f":"IF(Y837=\"\",\"\",IF(ISTEXT(Y837),1,2))","v":1},"601603","5969",5969,"好，我们结为道侣吧",null,"",null,null,"",{"$nulls":4},{"$f":"IF(A837=\"\",\"\",IF(ISNUMBER(Y837),2,IF(A838=\"\",IF(OR(AK837>0,VLOOKUP(O837,EventConfig!A:C,3,FALSE)=4),3,\"\"),1)))","v":1},601603,null,5969,6016]
[{"$f":"O838*100+P838","v":601603},5966,"与云枝对话",{"$f":"IF(E838=\"\",\"\",IF(E838=E837,D837,MAX(AL837,AL836,B838)+1))","v":""},{"$nulls":5},121,{"$f":"IF(J838=\"\",\"\",VLOOKUP(J838,EventNPC!A:F,6,FALSE))","v":"云枝"},5970,"（脸红，低声）”道侣？嗯……我愿意！\n跟你一起，风中也有温柔。我们手牵手，飞到南海天池，飞到天涯海角！",null,6016,3,{"$f":"_xlfn.TEXTJOIN(\";\",1,R838:S838)","v":""},null,null,{"$f":"IF(R838=\"\",\"\",\"-\"&VLOOKUP(R838,EventConditionConfig!A:C,3,FALSE)&IF(S838=\"\",\"\",CHAR(10)&\"-\"&VLOOKUP(S838,EventConditionConfig!A:C,3,FALSE)))","v":""},{"$f":"IF(Y838=\"\",\"\",IF(ISTEXT(Y838),1,2))","v":""},"","","",null,null,"",null,null,"",{"$nulls":4},{"$f":"IF(A838=\"\",\"\",IF(ISNUMBER(Y838),2,IF(A839=\"\",IF(OR(AK838>0,VLOOKUP(O838,EventConfig!A:C,3,FALSE)=4),3,\"\"),1)))","v":1},601604,null,5970,6016]
[{"$f":"O839*100+P839","v":601604},5966,"与云枝对话","",{"$nulls":5},100,{"$f":"IF(J839=\"\",\"\",VLOOKUP(J839,EventNPC!A:F,6,FALSE))","v":"玩家"},5971,"我会一直陪着你，守护你和雀灵儿。",null,6016,4,{"$f":"_xlfn.TEXTJOIN(\";\",1,R839:S839)","v":""},null,null,{"$f":"IF(R839=\"\",\"\",\"-\"&VLOOKUP(R839,EventConditionConfig!A:C,3,FALSE)&IF(S839=\"\",\"\",CHAR(10)&\"-\"&VLOOKUP(S839,EventConditionConfig!A:C,3,FALSE)))","v":""},{"$f":"IF(Y839=\"\",\"\",IF(ISTEXT(Y839),1,2))","v":""},"","","",null,null,"",null,null,"",{"$nulls":4},{"$f":"IF(A839=\"\",\"\",IF(ISNUMBER(Y839),2,IF(A840=\"\",IF(OR(AK839>0,VLOOKUP(O839,EventConfig!A:C,3,FALSE)=4),3,\"\"),1)))","v":1},601605,null,5971,6016]
[{"$f":"O840*100+P840","v":601605},5966,"与云枝对话","",{"$nulls":5},121,{"$f":"IF(J840=\"\",\"\",VLOOKUP(J840,EventNPC!A:F,6,FALSE))","v":"云枝"},5972,"（抱紧）太好了…我们一起破风远行，那未知的云海，或许藏着永恒的自由。",null,6016,5,{"$f":"_xlfn.TEXTJOIN(\";\",1,R840:S840)","v":""},null,null,{"$f":"IF(R840=\"\",\"\",\"-\"&VLOOKUP(R840,EventConditionConfig!A:C,3,FALSE)&IF(S840=\"\",\"\",CHAR(10)&\"-\"&VLOOKUP(S840,EventConditionConfig!A:C,3,FALSE)))","v":""},{"$f":"IF(Y840=\"\",\"\",IF(ISTEXT(Y840),1,2))","v":""},"","","",null,null,"",null,null,"",{"$nulls":4},{"$f":"IF(A840=\"\",\"\",IF(ISNUMBER(Y840),2,IF(A841=\"\",IF(OR(AK840>0,VLOOKUP(O840,EventConfig!A:C,3,FALSE)=4),3,\"\"),1)))","v":""},"",null,{"$f":"IF(A840=\"\",\"\",MAX(B840,D840,L840,X840,AA840,AL839,AL838,AD840))","v":5972},{"$f":"O840","v":6016}]
[null,"",null,"",{"$nulls":6},{"$f":"IF(J841=\"\",\"\",VLOOKUP(J841,EventNPC!A:F,6,FALSE))","v":""},"",null,null,null,"",{"$nulls":5},"","","",null,null,"",null,null,"",{"$nulls":4},{"$f":"IF(A841=\"\",\"\",IF(ISNUMBER(Y841),2,IF(A842=\"\",IF(OR(AK841>0,VLOOKUP(O841,EventConfig!A:C,3,FALSE)=4),3,\"\"),1)))","v":""},"",null,"",0]
[{"$f":"O842*100+P842","v":602101},5973,"完成所有对话","",{"$nulls":6},{"$f":"IF(J842=\"\",\"\",VLOOKUP(J842,EventNPC!A:F,6,FALSE))","v":""},5974,"你御剑来到浮空岛边缘，一位身姿轻盈的女子站在崖边，风吹起她的浅青长发。她似乎在凝视远方云海，手中握着一枚闪烁微光的碎片。",null,6021,1,{"$f":"_xlfn.TEXTJOIN(\";\",1,R842:S842)","v":""},null,null,{"$f":"IF(R842=\"\",\"\",\"-\"&VLOOKUP(R842,EventConditionConfig!A:C,3,FALSE)&IF(S842=\"\",\"\",CHAR(10)&\"-\"&VLOOKUP(S842,EventConditionConfig!A:C,3,FALSE)))","v":""},{"$f":"IF(Y842=\"\",\"\",IF(ISTEXT(Y842),1,2))","v":1},"602102","5975",5975,"敢问道友是？",null,"",null,null,"",{"$nulls":4},{"$f":"IF(A842=\"\",\"\",IF(ISNUMBER(Y842),2,IF(A843=\"\",IF(OR(AK842>0,VLOOKUP(O842,EventConfig!A:C,3,FALSE)=4),3,\"\"),1)))","v":1},602102,null,5975,6021]
[{"$f":"O843*100+P843","v":602102},5973,"完成所有对话","",{"$nulls":5},122,{"$f":"IF(J843=\"\",\"\",VLOOKUP(J843,EventNPC!A:F,6,FALSE))","v":"风瑶"},5976,"（转头，明亮的眼睛打量你片刻，微微一笑）我叫风瑶，这里风大，你能来到此地，修为不浅。你是何人？",null,6021,{"$f":"IF(O843=\"\",\"\",IF(O843=O842,P842+1,1))","v":2},{"$f":"_xlfn.TEXTJOIN(\";\",1,R843:S843)","v":""},null,null,{"$f":"IF(R843=\"\",\"\",\"-\"&VLOOKUP(R843,EventConditionConfig!A:C,3,FALSE)&IF(S843=\"\",\"\",CHAR(10)&\"-\"&VLOOKUP(S843,EventConditionConfig!A:C,3,FALSE)))","v":""},{"$f":"IF(Y843=\"\",\"\",IF(ISTEXT(Y843),1,2))","v":1},"602103","5977",5977,"先前受疯道人指点，在此游历。",null,"",null,null,"",{"$nulls":4},{"$f":"IF(A843=\"\",\"\",IF(ISNUMBER(Y843),2,IF(A844=\"\",IF(OR(AK843>0,VLOOKUP(O843,EventConfig!A:C,3,FALSE)=4),3,\"\"),1)))","v":1},602103,null,5977,6021]
[{"$f":"O844*100+P844","v":602103},5973,"完成所有对话","",{"$nulls":5},122,{"$f":"IF(J844=\"\",\"\",VLOOKUP(J844,EventNPC!A:F,6,FALSE))","v":"风瑶"},5978,"兄长总爱帮人……不过这里浮岛多变，风势不定，你小心些。\n我出身云隐宗，那里本是修仙圣地，可最近有些不对劲……",null,6021,3,{"$f":"_xlfn.TEXTJOIN(\";\",1,R844:S844)","v":""},null,null,{"$f":"IF(R844=\"\",\"\",\"-\"&VLOOKUP(R844,EventConditionConfig!A:C,3,FALSE)&IF(S844=\"\",\"\",CHAR(10)&\"-\"&VLOOKUP(S844,EventConditionConfig!A:C,3,FALSE)))","v":""},{"$f":"IF(Y844=\"\",\"\",IF(ISTEXT(Y844),1,2))","v":""},"",{"$f":"_xlfn.TEXTJOIN(\";\",1,X844,AA844,AD844)","v":""},{"$f":"IF(OR(ISNUMBER(Y844),Y844=\"\"),\"\",MAX(AL843,AL841,B844,D844,L844)+1)","v":""},null,null,{"$f":"IF(OR(ISNUMBER(AB844),AB844=\"\"),\"\",X844+1)","v":""},null,null,"",{"$nulls":4},{"$f":"IF(A844=\"\",\"\",IF(ISNUMBER(Y844),2,IF(A845=\"\",IF(OR(AK844>0,VLOOKUP(O844,EventConfig!A:C,3,FALSE)=4),3,\"\"),1)))","v":1},602104,null,5978,6021]
[{"$f":"O845*100+P845","v":602104},5973,"完成所有对话","",{"$nulls":5},122,{"$f":"IF(J845=\"\",\"\",VLOOKUP(J845,EventNPC!A:F,6,FALSE))","v":"风瑶"},5979,"（她顿了顿，似乎欲言又止）\n罢了，不说这些。你若有空，能帮我收集些风灵碎片吗？岛间风口常有碎片飘落，能助我稳固此地。",null,6021,4,{"$f":"_xlfn.TEXTJOIN(\";\",1,R845:S845)","v":""},null,null,{"$f":"IF(R845=\"\",\"\",\"-\"&VLOOKUP(R845,EventConditionConfig!A:C,3,FALSE)&IF(S845=\"\",\"\",CHAR(10)&\"-\"&VLOOKUP(S845,EventConditionConfig!A:C,3,FALSE)))","v":""},{"$f":"IF(Y845=\"\",\"\",IF(ISTEXT(Y845),1,2))","v":1},"602105","5980",5980,"好，我去试试。",null,"",null,null,{"$f":"IF(OR(ISNUMBER(AE845),AE845=\"\"),\"\",AA845+1)","v":""},{"$nulls":4},{"$f":"IF(A845=\"\",\"\",IF(ISNUMBER(Y845),2,IF(A846=\"\",IF(OR(AK845>0,VLOOKUP(O845,EventConfig!A:C,3,FALSE)=4),3,\"\"),1)))","v":""},"",null,5980,6021]
[null,"",null,"",{"$nulls":6},{"$f":"IF(J846=\"\",\"\",VLOOKUP(J846,EventNPC!A:F,6,FALSE))","v":""},"",null,null,null,"",{"$nulls":5},{"$f":"IF(U846=1,_xlfn.TEXTJOIN(\";\",1,IF(Z846=\"\",A846+1,Z846),IF(AND(AA846<>\"\",AC846=\"\"),A846+1,AC846),IF(AND(AD846<>\"\",AF846=\"\"),A846+1,AF846)),IF(U846=2,Y846,\"\"))","v":""},"","",null,null,"",null,null,"",{"$nulls":4},{"$f":"IF(A846=\"\",\"\",IF(ISNUMBER(Y846),2,IF(A847=\"\",IF(OR(AK846>0,VLOOKUP(O846,EventConfig!A:C,3,FALSE)=4),3,\"\"),1)))","v":""},{"$f":"IF(AI846=\"\",\"\",CHOOSE(AI846,IF(AK846=\"\",A846+1,AK846),CONCATENATE(IF(AK846=\"\",A846+1,AK846),\";101\"),IF(AK846=\"\",O846+1,AK846)))","v":""},null,"",0]
[{"$f":"O847*100+P847","v":602201},5981,"收集风灵碎片","",{"$nulls":6},{"$f":"IF(J847=\"\",\"\",VLOOKUP(J847,EventNPC!A:F,6,FALSE))","v":""},5982,"你在浮空岛间御剑飞行，风啸耳边，碎片如流光散落。采集时，偶尔有小型风兽从漩涡中跃出，守护碎片。",null,6022,1,{"$f":"_xlfn.TEXTJOIN(\";\",1,R847:S847)","v":""},null,null,{"$f":"IF(R847=\"\",\"\",\"-\"&VLOOKUP(R847,EventConditionConfig!A:C,3,FALSE)&IF(S847=\"\",\"\",CHAR(10)&\"-\"&VLOOKUP(S847,EventConditionConfig!A:C,3,FALSE)))","v":""},{"$f":"IF(Y847=\"\",\"\",IF(ISTEXT(Y847),1,2))","v":""},"","","",null,null,"",null,null,"",{"$nulls":4},{"$f":"IF(A847=\"\",\"\",IF(ISNUMBER(Y847),2,IF(A848=\"\",IF(OR(AK847>0,VLOOKUP(O847,EventConfig!A:C,3,FALSE)=4),3,\"\"),1)))","v":1},602202,null,5982,6022]
[602202,5981,"收集风灵碎片","",{"$nulls":5},100,{"$f":"IF(J848=\"\",\"\",VLOOKUP(J848,EventNPC!A:F,6,FALSE))","v":"玩家"},5983,"道友，这些碎片可够？",null,6022,2,"39",39,null,{"$f":"IF(R848=\"\",\"\",\"-\"&VLOOKUP(R848,EventConditionConfig!A:C,3,FALSE)&IF(S848=\"\",\"\",CHAR(10)&\"-\"&VLOOKUP(S848,EventConditionConfig!A:C,3,FALSE)))","v":"-收集风灵碎片"},"","","","",null,null,"",null,null,"",{"$nulls":4},{"$f":"IF(A848=\"\",\"\",IF(ISNUMBER(Y848),2,IF(A849=\"\",IF(OR(AK848>0,VLOOKUP(O848,EventConfig!A:C,3,FALSE)=4),3,\"\"),1)))","v":1},602203,null,5983,6022]
[602203,5981,"收集风灵碎片","",{"$nulls":5},122,{"$f":"IF(J849=\"\",\"\",VLOOKUP(J849,EventNPC!A:F,6,FALSE))","v":"风瑶"},5984,"（接过碎片，眼中闪过一丝感激）多谢。这些碎片本是云隐宗的镇宗之宝的一部分，可惜散落了。",null,6022,3,"",null,null,{"$f":"IF(R849=\"\",\"\",\"-\"&VLOOKUP(R849,EventConditionConfig!A:C,3,FALSE)&IF(S849=\"\",\"\",CHAR(10)&\"-\"&VLOOKUP(S849,EventConditionConfig!A:C,3,FALSE)))","v":""},"","","","",null,null,"",null,null,"",{"$nulls":4},{"$f":"IF(A849=\"\",\"\",IF(ISNUMBER(Y849),2,IF(A850=\"\",IF(OR(AK849>0,VLOOKUP(O849,EventConfig!A:C,3,FALSE)=4),3,\"\"),1)))","v":1},602204,null,5984,6022]
[602204,5981,"收集风灵碎片","",{"$nulls":5},122,{"$f":"IF(J850=\"\",\"\",VLOOKUP(J850,EventNPC!A:F,6,FALSE))","v":"风瑶"},5985,"我在宗门时，无意中发现长老们在私下交易奇怪的灵石，似乎与外域势力有关……宗门一向清正，这事让我不安。",null,6022,4,"",null,null,{"$f":"IF(R850=\"\",\"\",\"-\"&VLOOKUP(R850,EventConditionConfig!A:C,3,FALSE)&IF(S850=\"\",\"\",CHAR(10)&\"-\"&VLOOKUP(S850,EventConditionConfig!A:C,3,FALSE)))","v":""},"","","","",null,null,"",null,null,"",{"$nulls":4},{"$f":"IF(A850=\"\",\"\",IF(ISNUMBER(Y850),2,IF(A851=\"\",IF(OR(AK850>0,VLOOKUP(O850,EventConfig!A:C,3,FALSE)=4),3,\"\"),1)))","v":1},602205,null,5985,6022]
[602205,5981,"收集风灵碎片","",{"$nulls":5},122,{"$f":"IF(J851=\"\",\"\",VLOOKUP(J851,EventNPC!A:F,6,FALSE))","v":"风瑶"},5986,"但我修为有限，无法深入查探。你看起来可靠，或许以后能帮我留意。",null,6022,5,"",null,null,{"$f":"IF(R851=\"\",\"\",\"-\"&VLOOKUP(R851,EventConditionConfig!A:C,3,FALSE)&IF(S851=\"\",\"\",CHAR(10)&\"-\"&VLOOKUP(S851,EventConditionConfig!A:C,3,FALSE)))","v":""},1,"602206","5987",5987,"云隐宗有何异常？",null,"",null,null,"",{"$nulls":4},{"$f":"IF(A851=\"\",\"\",IF(ISNUMBER(Y851),2,IF(A852=\"\",IF(OR(AK851>0,VLOOKUP(O851,EventConfig!A:C,3,FALSE)=4),3,\"\"),1)))","v":1},602206,null,5987,6022]
[602206,5981,"收集风灵碎片","",{"$nulls":5},122,{"$f":"IF(J852=\"\",\"\",VLOOKUP(J852,EventNPC!A:F,6,FALSE))","v":"风瑶"},5988,"只是些小线索，比如长老们频繁外出，带回的灵石有魔气残留。但别担心，我会自己调查。",null,6022,6,"",null,null,{"$f":"IF(R852=\"\",\"\",\"-\"&VLOOKUP(R852,EventConditionConfig!A:C,3,FALSE)&IF(S852=\"\",\"\",CHAR(10)&\"-\"&VLOOKUP(S852,EventConditionConfig!A:C,3,FALSE)))","v":""},"","","","",null,null,"",null,null,"",{"$nulls":4},{"$f":"IF(A852=\"\",\"\",IF(ISNUMBER(Y852),2,IF(A853=\"\",IF(OR(AK852>0,VLOOKUP(O852,EventConfig!A:C,3,FALSE)=4),3,\"\"),1)))","v":""},"",null,5988,6022]
[null,"",null,"",{"$nulls":6},{"$f":"IF(J853=\"\",\"\",VLOOKUP(J853,EventNPC!A:F,6,FALSE))","v":""},"",null,null,null,"",{"$nulls":5},"","","",null,null,"",null,null,"",{"$nulls":4},{"$f":"IF(A853=\"\",\"\",IF(ISNUMBER(Y853),2,IF(A854=\"\",IF(OR(AK853>0,VLOOKUP(O853,EventConfig!A:C,3,FALSE)=4),3,\"\"),1)))","v":""},"",null,"",0]
[{"$f":"O854*100+P854","v":602301},5989,"向风瑶报告你打听到的传闻","",{"$nulls":5},122,{"$f":"IF(J854=\"\",\"\",VLOOKUP(J854,EventNPC!A:F,6,FALSE))","v":"风瑶"},5990,"多谢上次的碎片。我最近听到风中传来的传闻，云隐宗附近有不明修士出没。\n你能帮我打听一下吗？",null,6023,1,{"$f":"_xlfn.TEXTJOIN(\";\",1,R854:S854)","v":""},null,null,{"$f":"IF(R854=\"\",\"\",\"-\"&VLOOKUP(R854,EventConditionConfig!A:C,3,FALSE)&IF(S854=\"\",\"\",CHAR(10)&\"-\"&VLOOKUP(S854,EventConditionConfig!A:C,3,FALSE)))","v":""},{"$f":"IF(Y854=\"\",\"\",IF(ISTEXT(Y854),1,2))","v":""},"","","",null,null,"",null,null,"",{"$nulls":4},{"$f":"IF(A854=\"\",\"\",IF(ISNUMBER(Y854),2,IF(A855=\"\",IF(OR(AK854>0,VLOOKUP(O854,EventConfig!A:C,3,FALSE)=4),3,\"\"),1)))","v":1},602302,null,5990,6023]
[{"$f":"O855*100+P855","v":602302},5989,"向风瑶报告你打听到的传闻","",{"$nulls":5},100,{"$f":"IF(J855=\"\",\"\",VLOOKUP(J855,EventNPC!A:F,6,FALSE))","v":"玩家"},5991,"（返回报告）道友，我听说了这些信息……",null,6023,2,{"$f":"_xlfn.TEXTJOIN(\";\",1,R855:S855)","v":"40"},40,null,{"$f":"IF(R855=\"\",\"\",\"-\"&VLOOKUP(R855,EventConditionConfig!A:C,3,FALSE)&IF(S855=\"\",\"\",CHAR(10)&\"-\"&VLOOKUP(S855,EventConditionConfig!A:C,3,FALSE)))","v":"-完成神识探索-云隐秘闻"},{"$f":"IF(Y855=\"\",\"\",IF(ISTEXT(Y855),1,2))","v":""},"","","",null,null,"",null,null,"",{"$nulls":4},{"$f":"IF(A855=\"\",\"\",IF(ISNUMBER(Y855),2,IF(A856=\"\",IF(OR(AK855>0,VLOOKUP(O855,EventConfig!A:C,3,FALSE)=4),3,\"\"),1)))","v":1},602303,null,5991,6023]
[{"$f":"O856*100+P856","v":602303},5989,"向风瑶报告你打听到的传闻","",{"$nulls":5},122,{"$f":"IF(J856=\"\",\"\",VLOOKUP(J856,EventNPC!A:F,6,FALSE))","v":"风瑶"},5992,"（眉头紧锁，眼中闪过忧虑）果然不对劲。长老们可能在暗中与魔修勾结，但证据不足。我不能贸然回去，得再想想办法。",null,6023,3,{"$f":"_xlfn.TEXTJOIN(\";\",1,R856:S856)","v":""},null,null,{"$f":"IF(R856=\"\",\"\",\"-\"&VLOOKUP(R856,EventConditionConfig!A:C,3,FALSE)&IF(S856=\"\",\"\",CHAR(10)&\"-\"&VLOOKUP(S856,EventConditionConfig!A:C,3,FALSE)))","v":""},{"$f":"IF(Y856=\"\",\"\",IF(ISTEXT(Y856),1,2))","v":""},"","","",null,null,"",null,null,"",{"$nulls":4},{"$f":"IF(A856=\"\",\"\",IF(ISNUMBER(Y856),2,IF(A857=\"\",IF(OR(AK856>0,VLOOKUP(O856,EventConfig!A:C,3,FALSE)=4),3,\"\"),1)))","v":""},"",null,5992,6023]
[null,"",null,"",{"$nulls":6},{"$f":"IF(J857=\"\",\"\",VLOOKUP(J857,EventNPC!A:F,6,FALSE))","v":""},"",null,null,null,"",{"$nulls":5},"","","",null,null,"",null,null,"",{"$nulls":4},{"$f":"IF(A857=\"\",\"\",IF(ISNUMBER(Y857),2,IF(A858=\"\",IF(OR(AK857>0,VLOOKUP(O857,EventConfig!A:C,3,FALSE)=4),3,\"\"),1)))","v":""},"",null,"",0]
[{"$f":"O858*100+P858","v":602401},5993,"收集岛屿灵石","",{"$nulls":5},122,{"$f":"IF(J858=\"\",\"\",VLOOKUP(J858,EventNPC!A:F,6,FALSE))","v":"风瑶"},5994,"那些情报让我更担心了。云隐宗的岛屿灵石本是纯净之物，若有魔气残留，必有大问题。",null,6024,1,{"$f":"_xlfn.TEXTJOIN(\";\",1,R858:S858)","v":""},null,null,{"$f":"IF(R858=\"\",\"\",\"-\"&VLOOKUP(R858,EventConditionConfig!A:C,3,FALSE)&IF(S858=\"\",\"\",CHAR(10)&\"-\"&VLOOKUP(S858,EventConditionConfig!A:C,3,FALSE)))","v":""},{"$f":"IF(Y858=\"\",\"\",IF(ISTEXT(Y858),1,2))","v":""},"","","",null,null,"",null,null,"",{"$nulls":4},{"$f":"IF(A858=\"\",\"\",IF(ISNUMBER(Y858),2,IF(A859=\"\",IF(OR(AK858>0,VLOOKUP(O858,EventConfig!A:C,3,FALSE)=4),3,\"\"),1)))","v":1},602402,null,5994,6024]
[{"$f":"O859*100+P859","v":602402},5993,"收集岛屿灵石","",{"$nulls":5},122,{"$f":"IF(J859=\"\",\"\",VLOOKUP(J859,EventNPC!A:F,6,FALSE))","v":"风瑶"},5995,"你能帮我猎杀些一些妖兽吗？它们常吞食飘落的灵石，或许能从中找到线索。",null,6024,2,{"$f":"_xlfn.TEXTJOIN(\";\",1,R859:S859)","v":""},null,null,{"$f":"IF(R859=\"\",\"\",\"-\"&VLOOKUP(R859,EventConditionConfig!A:C,3,FALSE)&IF(S859=\"\",\"\",CHAR(10)&\"-\"&VLOOKUP(S859,EventConditionConfig!A:C,3,FALSE)))","v":""},{"$f":"IF(Y859=\"\",\"\",IF(ISTEXT(Y859),1,2))","v":""},"","","",null,null,"",null,null,"",{"$nulls":4},{"$f":"IF(A859=\"\",\"\",IF(ISNUMBER(Y859),2,IF(A860=\"\",IF(OR(AK859>0,VLOOKUP(O859,EventConfig!A:C,3,FALSE)=4),3,\"\"),1)))","v":1},602403,null,5995,6024]
[{"$f":"O860*100+P860","v":602403},5993,"收集岛屿灵石","",{"$nulls":5},100,{"$f":"IF(J860=\"\",\"\",VLOOKUP(J860,EventNPC!A:F,6,FALSE))","v":"玩家"},5996,"从妖兽身上找到了这些浮岛灵石。",null,6024,3,{"$f":"_xlfn.TEXTJOIN(\";\",1,R860:S860)","v":"41"},41,null,{"$f":"IF(R860=\"\",\"\",\"-\"&VLOOKUP(R860,EventConditionConfig!A:C,3,FALSE)&IF(S860=\"\",\"\",CHAR(10)&\"-\"&VLOOKUP(S860,EventConditionConfig!A:C,3,FALSE)))","v":"-完成神识探索-误食灵石的妖兽"},{"$f":"IF(Y860=\"\",\"\",IF(ISTEXT(Y860),1,2))","v":""},"","","",null,null,"",null,null,"",{"$nulls":4},{"$f":"IF(A860=\"\",\"\",IF(ISNUMBER(Y860),2,IF(A861=\"\",IF(OR(AK860>0,VLOOKUP(O860,EventConfig!A:C,3,FALSE)=4),3,\"\"),1)))","v":1},602404,null,5996,6024]
[{"$f":"O861*100+P861","v":602404},5993,"收集岛屿灵石","",{"$nulls":5},122,{"$f":"IF(J861=\"\",\"\",VLOOKUP(J861,EventNPC!A:F,6,FALSE))","v":"风瑶"},5997,"（仔细检查，脸色微变）这黑纹……是云隐宗禁地阵法的痕迹！\n长老们可能在用阵法掩盖什么。",null,6024,4,{"$f":"_xlfn.TEXTJOIN(\";\",1,R861:S861)","v":""},null,null,{"$f":"IF(R861=\"\",\"\",\"-\"&VLOOKUP(R861,EventConditionConfig!A:C,3,FALSE)&IF(S861=\"\",\"\",CHAR(10)&\"-\"&VLOOKUP(S861,EventConditionConfig!A:C,3,FALSE)))","v":""},{"$f":"IF(Y861=\"\",\"\",IF(ISTEXT(Y861),1,2))","v":""},"","","",null,null,"",null,null,"",{"$nulls":4},{"$f":"IF(A861=\"\",\"\",IF(ISNUMBER(Y861),2,IF(A862=\"\",IF(OR(AK861>0,VLOOKUP(O861,EventConfig!A:C,3,FALSE)=4),3,\"\"),1)))","v":""},"",null,5997,6024]
[null,"",null,"",{"$nulls":6},{"$f":"IF(J862=\"\",\"\",VLOOKUP(J862,EventNPC!A:F,6,FALSE))","v":""},"",null,null,null,"",{"$nulls":5},"","","",null,null,"",null,null,"",{"$nulls":4},{"$f":"IF(A862=\"\",\"\",IF(ISNUMBER(Y862),2,IF(A863=\"\",IF(OR(AK862>0,VLOOKUP(O862,EventConfig!A:C,3,FALSE)=4),3,\"\"),1)))","v":""},"",null,"",0]
[{"$f":"O863*100+P863","v":602501},5998,"探索神识获得密信","",{"$nulls":5},122,{"$f":"IF(J863=\"\",\"\",VLOOKUP(J863,EventNPC!A:F,6,FALSE))","v":"风瑶"},5999,"我利用阵法放大了我的神识。捕捉到一缕从云隐宗方向飘来的风信。里面可能有长老的密信，你能帮我截获吗？",null,6025,1,{"$f":"_xlfn.TEXTJOIN(\";\",1,R863:S863)","v":""},null,null,{"$f":"IF(R863=\"\",\"\",\"-\"&VLOOKUP(R863,EventConditionConfig!A:C,3,FALSE)&IF(S863=\"\",\"\",CHAR(10)&\"-\"&VLOOKUP(S863,EventConditionConfig!A:C,3,FALSE)))","v":""},{"$f":"IF(Y863=\"\",\"\",IF(ISTEXT(Y863),1,2))","v":1},"602502","6000",6000,"好的，我试试。",null,"",null,null,"",{"$nulls":4},{"$f":"IF(A863=\"\",\"\",IF(ISNUMBER(Y863),2,IF(A864=\"\",IF(OR(AK863>0,VLOOKUP(O863,EventConfig!A:C,3,FALSE)=4),3,\"\"),1)))","v":1},602502,null,6000,6025]
[{"$f":"O864*100+P864","v":602502},6001,"击败信使","",{"$nulls":6},{"$f":"IF(J864=\"\",\"\",VLOOKUP(J864,EventNPC!A:F,6,FALSE))","v":""},"",null,null,6025,2,{"$f":"_xlfn.TEXTJOIN(\";\",1,R864:S864)","v":"42"},42,null,{"$f":"IF(R864=\"\",\"\",\"-\"&VLOOKUP(R864,EventConditionConfig!A:C,3,FALSE)&IF(S864=\"\",\"\",CHAR(10)&\"-\"&VLOOKUP(S864,EventConditionConfig!A:C,3,FALSE)))","v":"-完成神识探索-云隐宗长老密信"},{"$f":"IF(Y864=\"\",\"\",IF(ISTEXT(Y864),1,2))","v":1},"602503","6002",6002,"找到一封信，你看看。",null,"",null,null,"",{"$nulls":4},{"$f":"IF(A864=\"\",\"\",IF(ISNUMBER(Y864),2,IF(A865=\"\",IF(OR(AK864>0,VLOOKUP(O864,EventConfig!A:C,3,FALSE)=4),3,\"\"),1)))","v":1},602503,null,6002,6025]
[{"$f":"O865*100+P865","v":602503},6003,"探索神识获得密信","",{"$nulls":5},122,{"$f":"IF(J865=\"\",\"\",VLOOKUP(J865,EventNPC!A:F,6,FALSE))","v":"风瑶"},6004,"（震惊，但保持冷静）果然有大长老在修炼禁术。\n但信中没提阵法细节，看来长老们野心不小，去帮我找兄长！",null,6025,3,{"$f":"_xlfn.TEXTJOIN(\";\",1,R865:S865)","v":""},null,null,{"$f":"IF(R865=\"\",\"\",\"-\"&VLOOKUP(R865,EventConditionConfig!A:C,3,FALSE)&IF(S865=\"\",\"\",CHAR(10)&\"-\"&VLOOKUP(S865,EventConditionConfig!A:C,3,FALSE)))","v":""},{"$f":"IF(Y865=\"\",\"\",IF(ISTEXT(Y865),1,2))","v":""},"","","",null,null,"",null,null,"",{"$nulls":4},{"$f":"IF(A865=\"\",\"\",IF(ISNUMBER(Y865),2,IF(A866=\"\",IF(OR(AK865>0,VLOOKUP(O865,EventConfig!A:C,3,FALSE)=4),3,\"\"),1)))","v":""},"",null,6004,6025]
[null,{"$f":"IF(C866=\"\",\"\",IF(C866=C865,B865,MAX(AL865,AL864)+1))","v":""},null,"",{"$nulls":6},{"$f":"IF(J866=\"\",\"\",VLOOKUP(J866,EventNPC!A:F,6,FALSE))","v":""},"",null,null,null,"",{"$nulls":5},"","","",null,null,"",null,null,"",{"$nulls":4},{"$f":"IF(A866=\"\",\"\",IF(ISNUMBER(Y866),2,IF(A867=\"\",IF(OR(AK866>0,VLOOKUP(O866,EventConfig!A:C,3,FALSE)=4),3,\"\"),1)))","v":""},"",null,"",0]
[{"$f":"O867*100+P867","v":602601},6005,"完成与风瑶和疯道人的三方对话","",{"$nulls":6},{"$f":"IF(J867=\"\",\"\",VLOOKUP(J867,EventNPC!A:F,6,FALSE))","v":""},6006,"你找到疯道人，带他来见风瑶。（三人聚于岛边）",null,6026,1,{"$f":"_xlfn.TEXTJOIN(\";\",1,R867:S867)","v":""},null,null,{"$f":"IF(R867=\"\",\"\",\"-\"&VLOOKUP(R867,EventConditionConfig!A:C,3,FALSE)&IF(S867=\"\",\"\",CHAR(10)&\"-\"&VLOOKUP(S867,EventConditionConfig!A:C,3,FALSE)))","v":""},{"$f":"IF(Y867=\"\",\"\",IF(ISTEXT(Y867),1,2))","v":""},"","","",null,null,"",null,null,"",{"$nulls":4},{"$f":"IF(A867=\"\",\"\",IF(ISNUMBER(Y867),2,IF(A868=\"\",IF(OR(AK867>0,VLOOKUP(O867,EventConfig!A:C,3,FALSE)=4),3,\"\"),1)))","v":1},602602,null,6006,6026]
[602602,6005,"完成与风瑶和疯道人的三方对话","",{"$nulls":5},122,{"$f":"IF(J868=\"\",\"\",VLOOKUP(J868,EventNPC!A:F,6,FALSE))","v":"风瑶"},6007,"这些线索让我害怕……",null,6026,2,"",null,null,{"$f":"IF(R868=\"\",\"\",\"-\"&VLOOKUP(R868,EventConditionConfig!A:C,3,FALSE)&IF(S868=\"\",\"\",CHAR(10)&\"-\"&VLOOKUP(S868,EventConditionConfig!A:C,3,FALSE)))","v":""},"","","","",null,null,"",null,null,"",{"$nulls":4},{"$f":"IF(A868=\"\",\"\",IF(ISNUMBER(Y868),2,IF(A869=\"\",IF(OR(AK868>0,VLOOKUP(O868,EventConfig!A:C,3,FALSE)=4),3,\"\"),1)))","v":1},602603,null,6007,6026]
[602603,6005,"完成与风瑶和疯道人的三方对话","",{"$nulls":5},103,{"$f":"IF(J869=\"\",\"\",VLOOKUP(J869,EventNPC!A:F,6,FALSE))","v":"疯道人"},6008,"妹妹，你又在查云隐宗的事？那地方，早就不干净了。",null,6026,3,"",null,null,{"$f":"IF(R869=\"\",\"\",\"-\"&VLOOKUP(R869,EventConditionConfig!A:C,3,FALSE)&IF(S869=\"\",\"\",CHAR(10)&\"-\"&VLOOKUP(S869,EventConditionConfig!A:C,3,FALSE)))","v":""},"","","","",null,null,"",null,null,"",{"$nulls":4},{"$f":"IF(A869=\"\",\"\",IF(ISNUMBER(Y869),2,IF(A870=\"\",IF(OR(AK869>0,VLOOKUP(O869,EventConfig!A:C,3,FALSE)=4),3,\"\"),1)))","v":1},602604,null,6008,6026]
[602604,6005,"完成与风瑶和疯道人的三方对话","",{"$nulls":5},122,{"$f":"IF(J870=\"\",\"\",VLOOKUP(J870,EventNPC!A:F,6,FALSE))","v":"风瑶"},6009,"兄长，你知道？他们与魔修勾结！",null,6026,4,"",null,null,{"$f":"IF(R870=\"\",\"\",\"-\"&VLOOKUP(R870,EventConditionConfig!A:C,3,FALSE)&IF(S870=\"\",\"\",CHAR(10)&\"-\"&VLOOKUP(S870,EventConditionConfig!A:C,3,FALSE)))","v":""},"","","","",null,null,"",null,null,"",{"$nulls":4},{"$f":"IF(A870=\"\",\"\",IF(ISNUMBER(Y870),2,IF(A871=\"\",IF(OR(AK870>0,VLOOKUP(O870,EventConfig!A:C,3,FALSE)=4),3,\"\"),1)))","v":1},602605,null,6009,6026]
[602605,6005,"完成与风瑶和疯道人的三方对话","",{"$nulls":5},103,{"$f":"IF(J871=\"\",\"\",VLOOKUP(J871,EventNPC!A:F,6,FALSE))","v":"疯道人"},6010,"（叹息）我早有察觉，当年离开宗门，就是因为长老们开始炼制诡丹，借宗门资源为私。\n我无意参与斗争，因此离开。",null,6026,5,"",null,null,{"$f":"IF(R871=\"\",\"\",\"-\"&VLOOKUP(R871,EventConditionConfig!A:C,3,FALSE)&IF(S871=\"\",\"\",CHAR(10)&\"-\"&VLOOKUP(S871,EventConditionConfig!A:C,3,FALSE)))","v":""},1,"602606","6011",6011,"我们该如何应对？",null,"",null,null,"",{"$nulls":4},{"$f":"IF(A871=\"\",\"\",IF(ISNUMBER(Y871),2,IF(A872=\"\",IF(OR(AK871>0,VLOOKUP(O871,EventConfig!A:C,3,FALSE)=4),3,\"\"),1)))","v":1},602606,null,6011,6026]
[602606,6005,"完成与风瑶和疯道人的三方对话","",{"$nulls":5},122,{"$f":"IF(J872=\"\",\"\",VLOOKUP(J872,EventNPC!A:F,6,FALSE))","v":"风瑶"},6012,"（坚定）不能就这样不管！",null,6026,6,"",null,null,{"$f":"IF(R872=\"\",\"\",\"-\"&VLOOKUP(R872,EventConditionConfig!A:C,3,FALSE)&IF(S872=\"\",\"\",CHAR(10)&\"-\"&VLOOKUP(S872,EventConditionConfig!A:C,3,FALSE)))","v":""},"","","","",null,null,"",null,null,"",{"$nulls":4},{"$f":"IF(A872=\"\",\"\",IF(ISNUMBER(Y872),2,IF(A873=\"\",IF(OR(AK872>0,VLOOKUP(O872,EventConfig!A:C,3,FALSE)=4),3,\"\"),1)))","v":1},602607,null,6012,6026]
[602607,{"$f":"IF(C873=\"\",\"\",IF(C873=C872,B872,MAX(AL872,AL871)+1))","v":6005},"完成与风瑶和疯道人的三方对话","",{"$nulls":5},103,{"$f":"IF(J873=\"\",\"\",VLOOKUP(J873,EventNPC!A:F,6,FALSE))","v":"疯道人"},6013,"小友，你走吧，云隐宗的事，别卷太深。",null,6026,7,"",null,null,{"$f":"IF(R873=\"\",\"\",\"-\"&VLOOKUP(R873,EventConditionConfig!A:C,3,FALSE)&IF(S873=\"\",\"\",CHAR(10)&\"-\"&VLOOKUP(S873,EventConditionConfig!A:C,3,FALSE)))","v":""},"","","","",null,null,"",null,null,"",{"$nulls":4},{"$f":"IF(A873=\"\",\"\",IF(ISNUMBER(Y873),2,IF(A874=\"\",IF(OR(AK873>0,VLOOKUP(O873,EventConfig!A:C,3,FALSE)=4),3,\"\"),1)))","v":""},"",null,6013,6026]
[null,"",null,"",{"$nulls":6},{"$f":"IF(J874=\"\",\"\",VLOOKUP(J874,EventNPC!A:F,6,FALSE))","v":""},"",null,null,null,"",{"$nulls":5},"","","",null,null,"",null,null,"",{"$nulls":4},{"$f":"IF(A874=\"\",\"\",IF(ISNUMBER(Y874),2,IF(A875=\"\",IF(OR(AK874>0,VLOOKUP(O874,EventConfig!A:C,3,FALSE)=4),3,\"\"),1)))","v":""},"",null,"",0]
[{"$f":"O875*100+P875","v":603101},6014,"完成所有对话","",{"$nulls":6},{"$f":"IF(J875=\"\",\"\",VLOOKUP(J875,EventNPC!A:F,6,FALSE))","v":""},6015,"你沿着溪水小径前行，一位纤细优雅的女子正弯腰采摘溪边灵草，她的浅褐长发如藤蔓般垂落，眼睛柔和宁静。她抬起头，微微一笑，仿佛山林中的一缕清风。",null,6031,1,{"$f":"_xlfn.TEXTJOIN(\";\",1,R875:S875)","v":""},null,null,{"$f":"IF(R875=\"\",\"\",\"-\"&VLOOKUP(R875,EventConditionConfig!A:C,3,FALSE)&IF(S875=\"\",\"\",CHAR(10)&\"-\"&VLOOKUP(S875,EventConditionConfig!A:C,3,FALSE)))","v":""},{"$f":"IF(Y875=\"\",\"\",IF(ISTEXT(Y875),1,2))","v":""},"","","",null,null,"",null,null,"",{"$nulls":4},{"$f":"IF(A875=\"\",\"\",IF(ISNUMBER(Y875),2,IF(A876=\"\",IF(OR(AK875>0,VLOOKUP(O875,EventConfig!A:C,3,FALSE)=4),3,\"\"),1)))","v":1},603102,null,6015,6031]
[603102,6014,"完成所有对话","",{"$nulls":5},100,{"$f":"IF(J876=\"\",\"\",VLOOKUP(J876,EventNPC!A:F,6,FALSE))","v":"玩家"},6016,"敢问道友是？",null,6031,2,"",null,null,{"$f":"IF(R876=\"\",\"\",\"-\"&VLOOKUP(R876,EventConditionConfig!A:C,3,FALSE)&IF(S876=\"\",\"\",CHAR(10)&\"-\"&VLOOKUP(S876,EventConditionConfig!A:C,3,FALSE)))","v":""},"","","","",null,null,"",null,null,"",{"$nulls":4},{"$f":"IF(A876=\"\",\"\",IF(ISNUMBER(Y876),2,IF(A877=\"\",IF(OR(AK876>0,VLOOKUP(O876,EventConfig!A:C,3,FALSE)=4),3,\"\"),1)))","v":1},603103,null,6016,6031]
[603103,6014,"完成所有对话","",{"$nulls":5},5,{"$f":"IF(J877=\"\",\"\",VLOOKUP(J877,EventNPC!A:F,6,FALSE))","v":"婉溪"},6017,"（温和地直起身，声音如溪水潺潺）我是婉溪，兄长的妹妹。这里是幽山秘境，我们家族世代隐居于此，守护着一些古老的灵植。",null,6031,3,"",null,null,{"$f":"IF(R877=\"\",\"\",\"-\"&VLOOKUP(R877,EventConditionConfig!A:C,3,FALSE)&IF(S877=\"\",\"\",CHAR(10)&\"-\"&VLOOKUP(S877,EventConditionConfig!A:C,3,FALSE)))","v":""},"","","","",null,null,"",null,null,"",{"$nulls":4},{"$f":"IF(A877=\"\",\"\",IF(ISNUMBER(Y877),2,IF(A878=\"\",IF(OR(AK877>0,VLOOKUP(O877,EventConfig!A:C,3,FALSE)=4),3,\"\"),1)))","v":1},603104,null,6017,6031]
[603104,6014,"完成所有对话","",{"$nulls":5},5,{"$f":"IF(J878=\"\",\"\",VLOOKUP(J878,EventNPC!A:F,6,FALSE))","v":"婉溪"},6018,"我平日帮兄长劳作，种些茶草，煮些清茶。",null,6031,4,"",null,null,{"$f":"IF(R878=\"\",\"\",\"-\"&VLOOKUP(R878,EventConditionConfig!A:C,3,FALSE)&IF(S878=\"\",\"\",CHAR(10)&\"-\"&VLOOKUP(S878,EventConditionConfig!A:C,3,FALSE)))","v":""},"","","","",null,null,"",null,null,"",{"$nulls":4},{"$f":"IF(A878=\"\",\"\",IF(ISNUMBER(Y878),2,IF(A879=\"\",IF(OR(AK878>0,VLOOKUP(O878,EventConfig!A:C,3,FALSE)=4),3,\"\"),1)))","v":1},603105,null,6018,6031]
[603105,6014,"完成所有对话","",{"$nulls":5},5,{"$f":"IF(J879=\"\",\"\",VLOOKUP(J879,EventNPC!A:F,6,FALSE))","v":"婉溪"},6019,"你是外来游历的修士吧？山林幽静，少有客人。",null,6031,5,"",null,null,{"$f":"IF(R879=\"\",\"\",\"-\"&VLOOKUP(R879,EventConditionConfig!A:C,3,FALSE)&IF(S879=\"\",\"\",CHAR(10)&\"-\"&VLOOKUP(S879,EventConditionConfig!A:C,3,FALSE)))","v":""},1,"603106;603106","6020;6021",6020,"是的，我在寻七道心境。",null,6021,"许由前辈让我帮忙开辟灵田。",null,"",{"$nulls":4},{"$f":"IF(A879=\"\",\"\",IF(ISNUMBER(Y879),2,IF(A880=\"\",IF(OR(AK879>0,VLOOKUP(O879,EventConfig!A:C,3,FALSE)=4),3,\"\"),1)))","v":1},603106,null,6021,6031]
[603106,6014,"完成所有对话","",{"$nulls":5},5,{"$f":"IF(J880=\"\",\"\",VLOOKUP(J880,EventNPC!A:F,6,FALSE))","v":"婉溪"},6022,"（轻笑）兄长总爱麻烦人……不过你来得巧，我正缺些帮手。溪边灵田的种子发芽了，但需人照料。",null,6031,6,"",null,null,{"$f":"IF(R880=\"\",\"\",\"-\"&VLOOKUP(R880,EventConditionConfig!A:C,3,FALSE)&IF(S880=\"\",\"\",CHAR(10)&\"-\"&VLOOKUP(S880,EventConditionConfig!A:C,3,FALSE)))","v":""},"","","","",null,null,"",null,null,"",{"$nulls":4},{"$f":"IF(A880=\"\",\"\",IF(ISNUMBER(Y880),2,IF(A881=\"\",IF(OR(AK880>0,VLOOKUP(O880,EventConfig!A:C,3,FALSE)=4),3,\"\"),1)))","v":1},603107,null,6022,6031]
[603107,6014,"完成所有对话","",{"$nulls":5},5,{"$f":"IF(J881=\"\",\"\",VLOOKUP(J881,EventNPC!A:F,6,FALSE))","v":"婉溪"},6023,"你若不介意，能帮我浇灌一下吗？，我请你喝杯茶。",null,6031,7,"",null,null,{"$f":"IF(R881=\"\",\"\",\"-\"&VLOOKUP(R881,EventConditionConfig!A:C,3,FALSE)&IF(S881=\"\",\"\",CHAR(10)&\"-\"&VLOOKUP(S881,EventConditionConfig!A:C,3,FALSE)))","v":""},"","","","",null,null,"",null,null,"",{"$nulls":4},{"$f":"IF(A881=\"\",\"\",IF(ISNUMBER(Y881),2,IF(A882=\"\",IF(OR(AK881>0,VLOOKUP(O881,EventConfig!A:C,3,FALSE)=4),3,\"\"),1)))","v":1},603108,null,6023,6031]
[603108,6014,"完成所有对话","",{"$nulls":5},100,{"$f":"IF(J882=\"\",\"\",VLOOKUP(J882,EventNPC!A:F,6,FALSE))","v":"玩家"},6024,"（又喝茶...）\n乐意效劳。",null,6031,8,"",null,null,{"$f":"IF(R882=\"\",\"\",\"-\"&VLOOKUP(R882,EventConditionConfig!A:C,3,FALSE)&IF(S882=\"\",\"\",CHAR(10)&\"-\"&VLOOKUP(S882,EventConditionConfig!A:C,3,FALSE)))","v":""},"","","","",null,null,"",null,null,"",{"$nulls":4},{"$f":"IF(A882=\"\",\"\",IF(ISNUMBER(Y882),2,IF(A883=\"\",IF(OR(AK882>0,VLOOKUP(O882,EventConfig!A:C,3,FALSE)=4),3,\"\"),1)))","v":""},"",null,6024,6031]
[null,"",null,"",{"$nulls":6},{"$f":"IF(J883=\"\",\"\",VLOOKUP(J883,EventNPC!A:F,6,FALSE))","v":""},"",null,null,null,"",{"$nulls":5},"","","",null,null,"",null,null,"",{"$nulls":4},{"$f":"IF(A883=\"\",\"\",IF(ISNUMBER(Y883),2,IF(A884=\"\",IF(OR(AK883>0,VLOOKUP(O883,EventConfig!A:C,3,FALSE)=4),3,\"\"),1)))","v":""},"",null,"",0]
[{"$f":"O884*100+P884","v":603201},6025,"浇灌灵田 ","",{"$nulls":6},{"$f":"IF(J884=\"\",\"\",VLOOKUP(J884,EventNPC!A:F,6,FALSE))","v":""},6026,"你跟随婉溪来到溪边灵田，新芽嫩绿，灵气缭绕。\n她递给你一个玉瓢，教你如何用溪水滋养，避免惊扰灵根。",null,6032,1,{"$f":"_xlfn.TEXTJOIN(\";\",1,R884:S884)","v":""},null,null,{"$f":"IF(R884=\"\",\"\",\"-\"&VLOOKUP(R884,EventConditionConfig!A:C,3,FALSE)&IF(S884=\"\",\"\",CHAR(10)&\"-\"&VLOOKUP(S884,EventConditionConfig!A:C,3,FALSE)))","v":""},{"$f":"IF(Y884=\"\",\"\",IF(ISTEXT(Y884),1,2))","v":""},"","","",null,null,"",null,null,"",{"$nulls":4},{"$f":"IF(A884=\"\",\"\",IF(ISNUMBER(Y884),2,IF(A885=\"\",IF(OR(AK884>0,VLOOKUP(O884,EventConfig!A:C,3,FALSE)=4),3,\"\"),1)))","v":1},603202,null,6026,6032]
[{"$f":"O885*100+P885","v":603202},6025,"浇灌灵田 ","",{"$nulls":5},5,{"$f":"IF(J885=\"\",\"\",VLOOKUP(J885,EventNPC!A:F,6,FALSE))","v":"婉溪"},6027,"这灵田是我们家族的传承，种的茶草能酿出清心茶。\n可否帮我浇浇水。",null,6032,2,{"$f":"_xlfn.TEXTJOIN(\";\",1,R885:S885)","v":""},null,null,{"$f":"IF(R885=\"\",\"\",\"-\"&VLOOKUP(R885,EventConditionConfig!A:C,3,FALSE)&IF(S885=\"\",\"\",CHAR(10)&\"-\"&VLOOKUP(S885,EventConditionConfig!A:C,3,FALSE)))","v":""},{"$f":"IF(Y885=\"\",\"\",IF(ISTEXT(Y885),1,2))","v":1},"603203","6028",6028,"好的，我去浇水",null,"",null,null,"",{"$nulls":4},{"$f":"IF(A885=\"\",\"\",IF(ISNUMBER(Y885),2,IF(A886=\"\",IF(OR(AK885>0,VLOOKUP(O885,EventConfig!A:C,3,FALSE)=4),3,\"\"),1)))","v":1},603203,null,6028,6032]
[{"$f":"O886*100+P886","v":603203},6025,"浇灌灵田 ","",{"$nulls":6},{"$f":"IF(J886=\"\",\"\",VLOOKUP(J886,EventNPC!A:F,6,FALSE))","v":""},6029,"玩家看到水面映出自己的镜像，从忙碌御剑到悠闲品茶，镜像模糊后消散。\n（这水中的影子……像是我，却又不像。）",null,6032,3,{"$f":"_xlfn.TEXTJOIN(\";\",1,R886:S886)","v":""},null,null,{"$f":"IF(R886=\"\",\"\",\"-\"&VLOOKUP(R886,EventConditionConfig!A:C,3,FALSE)&IF(S886=\"\",\"\",CHAR(10)&\"-\"&VLOOKUP(S886,EventConditionConfig!A:C,3,FALSE)))","v":""},{"$f":"IF(Y886=\"\",\"\",IF(ISTEXT(Y886),1,2))","v":1},"603204","6030",6030,"灵田已浇灌好",null,"",null,null,"",{"$nulls":4},{"$f":"IF(A886=\"\",\"\",IF(ISNUMBER(Y886),2,IF(A887=\"\",IF(OR(AK886>0,VLOOKUP(O886,EventConfig!A:C,3,FALSE)=4),3,\"\"),1)))","v":1},603204,null,6030,6032]
[{"$f":"O887*100+P887","v":603204},6025,"浇灌灵田 ","",{"$nulls":5},5,{"$f":"IF(J887=\"\",\"\",VLOOKUP(J887,EventNPC!A:F,6,FALSE))","v":"婉溪"},6031,"（检查后）多谢，来尝尝我煮的灵茶。",null,6032,4,{"$f":"_xlfn.TEXTJOIN(\";\",1,R887:S887)","v":""},null,null,{"$f":"IF(R887=\"\",\"\",\"-\"&VLOOKUP(R887,EventConditionConfig!A:C,3,FALSE)&IF(S887=\"\",\"\",CHAR(10)&\"-\"&VLOOKUP(S887,EventConditionConfig!A:C,3,FALSE)))","v":""},{"$f":"IF(Y887=\"\",\"\",IF(ISTEXT(Y887),1,2))","v":""},"","","",null,null,"",null,null,"",{"$nulls":4},{"$f":"IF(A887=\"\",\"\",IF(ISNUMBER(Y887),2,IF(A888=\"\",IF(OR(AK887>0,VLOOKUP(O887,EventConfig!A:C,3,FALSE)=4),3,\"\"),1)))","v":""},"",null,6031,6032]
[null,"",null,"",{"$nulls":6},{"$f":"IF(J888=\"\",\"\",VLOOKUP(J888,EventNPC!A:F,6,FALSE))","v":""},"",null,null,null,"",{"$nulls":5},"","","",null,null,"",null,null,"",{"$nulls":4},{"$f":"IF(A888=\"\",\"\",IF(ISNUMBER(Y888),2,IF(A889=\"\",IF(OR(AK888>0,VLOOKUP(O888,EventConfig!A:C,3,FALSE)=4),3,\"\"),1)))","v":""},"",null,"",0]
[{"$f":"O889*100+P889","v":603301},6032,"给婉溪讲讲外面的世界","",{"$nulls":5},5,{"$f":"IF(J889=\"\",\"\",VLOOKUP(J889,EventNPC!A:F,6,FALSE))","v":"婉溪"},6033,"又见面了，坐吧，我请你喝茶。\n你给我讲讲有趣的故事，可好？",null,6033,1,{"$f":"_xlfn.TEXTJOIN(\";\",1,R889:S889)","v":""},null,null,{"$f":"IF(R889=\"\",\"\",\"-\"&VLOOKUP(R889,EventConditionConfig!A:C,3,FALSE)&IF(S889=\"\",\"\",CHAR(10)&\"-\"&VLOOKUP(S889,EventConditionConfig!A:C,3,FALSE)))","v":""},{"$f":"IF(Y889=\"\",\"\",IF(ISTEXT(Y889),1,2))","v":""},"","","",null,null,"",null,null,"",{"$nulls":4},{"$f":"IF(A889=\"\",\"\",IF(ISNUMBER(Y889),2,IF(A890=\"\",IF(OR(AK889>0,VLOOKUP(O889,EventConfig!A:C,3,FALSE)=4),3,\"\"),1)))","v":1},603302,null,6033,6033]
[{"$f":"O890*100+P890","v":603302},6032,"给婉溪讲讲外面的世界","",{"$nulls":6},{"$f":"IF(J890=\"\",\"\",VLOOKUP(J890,EventNPC!A:F,6,FALSE))","v":""},6034,"（玩家与婉溪围坐溪边，蒸汽袅袅。她煮茶时动作优雅，眼中偶尔闪过对外界的向往。）",null,6033,2,{"$f":"_xlfn.TEXTJOIN(\";\",1,R890:S890)","v":""},null,null,{"$f":"IF(R890=\"\",\"\",\"-\"&VLOOKUP(R890,EventConditionConfig!A:C,3,FALSE)&IF(S890=\"\",\"\",CHAR(10)&\"-\"&VLOOKUP(S890,EventConditionConfig!A:C,3,FALSE)))","v":""},{"$f":"IF(Y890=\"\",\"\",IF(ISTEXT(Y890),1,2))","v":1},"603303","6035",6035,"讲述北海鲲鹏的故事",null,"",null,null,"",{"$nulls":4},{"$f":"IF(A890=\"\",\"\",IF(ISNUMBER(Y890),2,IF(A891=\"\",IF(OR(AK890>0,VLOOKUP(O890,EventConfig!A:C,3,FALSE)=4),3,\"\"),1)))","v":1},603303,null,6035,6033]
[{"$f":"O891*100+P891","v":603303},6032,"给婉溪讲讲外面的世界","",{"$nulls":5},5,{"$f":"IF(J891=\"\",\"\",VLOOKUP(J891,EventNPC!A:F,6,FALSE))","v":"婉溪"},6036,"（睁大了眼睛听的滋滋有味）看来兄长提及的鲲鹏，是真的存在呀。我还想听一些故事，你还有么？",null,6033,3,{"$f":"_xlfn.TEXTJOIN(\";\",1,R891:S891)","v":""},null,null,{"$f":"IF(R891=\"\",\"\",\"-\"&VLOOKUP(R891,EventConditionConfig!A:C,3,FALSE)&IF(S891=\"\",\"\",CHAR(10)&\"-\"&VLOOKUP(S891,EventConditionConfig!A:C,3,FALSE)))","v":""},{"$f":"IF(Y891=\"\",\"\",IF(ISTEXT(Y891),1,2))","v":1},"603304","6037",6037,"分享尧都的祥和景象",null,"",null,null,"",{"$nulls":4},{"$f":"IF(A891=\"\",\"\",IF(ISNUMBER(Y891),2,IF(A892=\"\",IF(OR(AK891>0,VLOOKUP(O891,EventConfig!A:C,3,FALSE)=4),3,\"\"),1)))","v":1},603304,null,6037,6033]
[{"$f":"O892*100+P892","v":603304},6032,"给婉溪讲讲外面的世界","",{"$nulls":5},5,{"$f":"IF(J892=\"\",\"\",VLOOKUP(J892,EventNPC!A:F,6,FALSE))","v":"婉溪"},6038,"（意犹未尽的眼神）这么热闹繁华的大都市，我什么时候才能一睹风采呢？还有什么有趣的故事都说来听听呀（催促）",null,6033,4,{"$f":"_xlfn.TEXTJOIN(\";\",1,R892:S892)","v":""},null,null,{"$f":"IF(R892=\"\",\"\",\"-\"&VLOOKUP(R892,EventConditionConfig!A:C,3,FALSE)&IF(S892=\"\",\"\",CHAR(10)&\"-\"&VLOOKUP(S892,EventConditionConfig!A:C,3,FALSE)))","v":""},{"$f":"IF(Y892=\"\",\"\",IF(ISTEXT(Y892),1,2))","v":1},"603305","6039",6039,"描述藐姑射山的仙人",null,"",null,null,"",{"$nulls":4},{"$f":"IF(A892=\"\",\"\",IF(ISNUMBER(Y892),2,IF(A893=\"\",IF(OR(AK892>0,VLOOKUP(O892,EventConfig!A:C,3,FALSE)=4),3,\"\"),1)))","v":1},603305,null,6039,6033]
[{"$f":"O893*100+P893","v":603305},6032,"给婉溪讲讲外面的世界","",{"$nulls":5},5,{"$f":"IF(J893=\"\",\"\",VLOOKUP(J893,EventNPC!A:F,6,FALSE))","v":"婉溪"},6040,"（听后，柔和眼睛中多了一丝憧憬）外面的世界真奇妙……我虽爱这山林劳作，但也想偶尔出去看看。",null,6033,5,{"$f":"_xlfn.TEXTJOIN(\";\",1,R893:S893)","v":""},null,null,{"$f":"IF(R893=\"\",\"\",\"-\"&VLOOKUP(R893,EventConditionConfig!A:C,3,FALSE)&IF(S893=\"\",\"\",CHAR(10)&\"-\"&VLOOKUP(S893,EventConditionConfig!A:C,3,FALSE)))","v":""},{"$f":"IF(Y893=\"\",\"\",IF(ISTEXT(Y893),1,2))","v":""},"","","",null,null,"",null,null,"",{"$nulls":4},{"$f":"IF(A893=\"\",\"\",IF(ISNUMBER(Y893),2,IF(A894=\"\",IF(OR(AK893>0,VLOOKUP(O893,EventConfig!A:C,3,FALSE)=4),3,\"\"),1)))","v":""},"",null,6040,6033]
[null,"",null,"",{"$nulls":6},{"$f":"IF(J894=\"\",\"\",VLOOKUP(J894,EventNPC!A:F,6,FALSE))","v":""},"",null,null,null,"",{"$nulls":5},"","","",null,null,"",null,null,"",{"$nulls":4},{"$f":"IF(A894=\"\",\"\",IF(ISNUMBER(Y894),2,IF(A895=\"\",IF(OR(AK894>0,VLOOKUP(O894,EventConfig!A:C,3,FALSE)=4),3,\"\"),1)))","v":""},"",null,"",0]
[{"$f":"O895*100+P895","v":603401},6041,"收集尧都玉佩","",{"$nulls":5},5,{"$f":"IF(J895=\"\",\"\",VLOOKUP(J895,EventNPC!A:F,6,FALSE))","v":"婉溪"},6042,"尧都玉佩能镇压灵气波动，我家族的茶树最近不稳，你能帮我找来吗？山林小妖有时会抢走游人的玉佩。",null,6034,1,{"$f":"_xlfn.TEXTJOIN(\";\",1,R895:S895)","v":""},null,null,{"$f":"IF(R895=\"\",\"\",\"-\"&VLOOKUP(R895,EventConditionConfig!A:C,3,FALSE)&IF(S895=\"\",\"\",CHAR(10)&\"-\"&VLOOKUP(S895,EventConditionConfig!A:C,3,FALSE)))","v":""},{"$f":"IF(Y895=\"\",\"\",IF(ISTEXT(Y895),1,2))","v":""},"","","",null,null,"",null,null,"",{"$nulls":4},{"$f":"IF(A895=\"\",\"\",IF(ISNUMBER(Y895),2,IF(A896=\"\",IF(OR(AK895>0,VLOOKUP(O895,EventConfig!A:C,3,FALSE)=4),3,\"\"),1)))","v":1},603402,null,6042,6034]
[{"$f":"O896*100+P896","v":603402},6041,"收集尧都玉佩","",{"$nulls":5},100,{"$f":"IF(J896=\"\",\"\",VLOOKUP(J896,EventNPC!A:F,6,FALSE))","v":"玩家"},6043,"（返回）道友，这些玉佩可对？",null,6034,2,{"$f":"_xlfn.TEXTJOIN(\";\",1,R896:S896)","v":"43"},43,null,{"$f":"IF(R896=\"\",\"\",\"-\"&VLOOKUP(R896,EventConditionConfig!A:C,3,FALSE)&IF(S896=\"\",\"\",CHAR(10)&\"-\"&VLOOKUP(S896,EventConditionConfig!A:C,3,FALSE)))","v":"-完成神识探索-抢走玉佩的山林小妖"},{"$f":"IF(Y896=\"\",\"\",IF(ISTEXT(Y896),1,2))","v":""},"","","",null,null,"",null,null,"",{"$nulls":4},{"$f":"IF(A896=\"\",\"\",IF(ISNUMBER(Y896),2,IF(A897=\"\",IF(OR(AK896>0,VLOOKUP(O896,EventConfig!A:C,3,FALSE)=4),3,\"\"),1)))","v":1},603403,null,6043,6034]
[{"$f":"O897*100+P897","v":603403},6041,"收集尧都玉佩","",{"$nulls":5},5,{"$f":"IF(J897=\"\",\"\",VLOOKUP(J897,EventNPC!A:F,6,FALSE))","v":"婉溪"},6044,"（仔细查看）多谢，你真可靠。",null,6034,3,{"$f":"_xlfn.TEXTJOIN(\";\",1,R897:S897)","v":""},null,null,{"$f":"IF(R897=\"\",\"\",\"-\"&VLOOKUP(R897,EventConditionConfig!A:C,3,FALSE)&IF(S897=\"\",\"\",CHAR(10)&\"-\"&VLOOKUP(S897,EventConditionConfig!A:C,3,FALSE)))","v":""},{"$f":"IF(Y897=\"\",\"\",IF(ISTEXT(Y897),1,2))","v":""},"","","",null,null,"",null,null,"",{"$nulls":4},{"$f":"IF(A897=\"\",\"\",IF(ISNUMBER(Y897),2,IF(A898=\"\",IF(OR(AK897>0,VLOOKUP(O897,EventConfig!A:C,3,FALSE)=4),3,\"\"),1)))","v":""},"",null,6044,6034]
[null,"",null,"",{"$nulls":6},{"$f":"IF(J898=\"\",\"\",VLOOKUP(J898,EventNPC!A:F,6,FALSE))","v":""},"",null,null,null,"",{"$nulls":5},"","","",null,null,"",null,null,"",{"$nulls":4},{"$f":"IF(A898=\"\",\"\",IF(ISNUMBER(Y898),2,IF(A899=\"\",IF(OR(AK898>0,VLOOKUP(O898,EventConfig!A:C,3,FALSE)=4),3,\"\"),1)))","v":""},"",null,"",0]
[{"$f":"O899*100+P899","v":603501},6045,"击败溪边水灵","",{"$nulls":5},5,{"$f":"IF(J899=\"\",\"\",VLOOKUP(J899,EventNPC!A:F,6,FALSE))","v":"婉溪"},6046,"溪水又异动了，水中似有灵影作祟，影响灵田。你能帮我驱散吗？小心别伤了溪源。",null,6035,1,{"$f":"_xlfn.TEXTJOIN(\";\",1,R899:S899)","v":""},null,null,{"$f":"IF(R899=\"\",\"\",\"-\"&VLOOKUP(R899,EventConditionConfig!A:C,3,FALSE)&IF(S899=\"\",\"\",CHAR(10)&\"-\"&VLOOKUP(S899,EventConditionConfig!A:C,3,FALSE)))","v":""},{"$f":"IF(Y899=\"\",\"\",IF(ISTEXT(Y899),1,2))","v":2},3010,"","",3010,null,"",null,null,"",{"$nulls":4},{"$f":"IF(A899=\"\",\"\",IF(ISNUMBER(Y899),2,IF(A900=\"\",IF(OR(AK899>0,VLOOKUP(O899,EventConfig!A:C,3,FALSE)=4),3,\"\"),1)))","v":2},"603502;101",null,6046,6035]
[{"$f":"O900*100+P900","v":603502},6045,"击败溪边水灵","",{"$nulls":5},100,{"$f":"IF(J900=\"\",\"\",VLOOKUP(J900,EventNPC!A:F,6,FALSE))","v":"玩家"},6047,"道友,干扰已除,但水中有股陌生气息。",null,6035,2,{"$f":"_xlfn.TEXTJOIN(\";\",1,R900:S900)","v":""},null,null,{"$f":"IF(R900=\"\",\"\",\"-\"&VLOOKUP(R900,EventConditionConfig!A:C,3,FALSE)&IF(S900=\"\",\"\",CHAR(10)&\"-\"&VLOOKUP(S900,EventConditionConfig!A:C,3,FALSE)))","v":""},{"$f":"IF(Y900=\"\",\"\",IF(ISTEXT(Y900),1,2))","v":""},"","","",null,null,"",null,null,"",{"$nulls":4},{"$f":"IF(A900=\"\",\"\",IF(ISNUMBER(Y900),2,IF(A901=\"\",IF(OR(AK900>0,VLOOKUP(O900,EventConfig!A:C,3,FALSE)=4),3,\"\"),1)))","v":1},603503,null,6047,6035]
[{"$f":"O901*100+P901","v":603503},6045,"击败溪边水灵","",{"$nulls":5},5,{"$f":"IF(J901=\"\",\"\",VLOOKUP(J901,EventNPC!A:F,6,FALSE))","v":"婉溪"},{"$f":"IF(M901=\"\",\"\",MAX(AL900,AL899,B901,D901)+1)","v":6048},"这气息……像山外修士的痕迹！\n家族守护的茶树，能通灵感天地，或许吸引了窥探者。但我们隐居多年，为何现在异动？",null,6035,3,{"$f":"_xlfn.TEXTJOIN(\";\",1,R901:S901)","v":""},null,null,{"$f":"IF(R901=\"\",\"\",\"-\"&VLOOKUP(R901,EventConditionConfig!A:C,3,FALSE)&IF(S901=\"\",\"\",CHAR(10)&\"-\"&VLOOKUP(S901,EventConditionConfig!A:C,3,FALSE)))","v":""},{"$f":"IF(Y901=\"\",\"\",IF(ISTEXT(Y901),1,2))","v":""},"","","",null,null,"",null,null,"",{"$nulls":4},{"$f":"IF(A901=\"\",\"\",IF(ISNUMBER(Y901),2,IF(A902=\"\",IF(OR(AK901>0,VLOOKUP(O901,EventConfig!A:C,3,FALSE)=4),3,\"\"),1)))","v":""},"",null,6048,6035]
[null,"",null,{"$f":"IF(E902=\"\",\"\",IF(E902=E901,D901,MAX(AL901,AL900,B902)+1))","v":""},{"$nulls":6},{"$f":"IF(J902=\"\",\"\",VLOOKUP(J902,EventNPC!A:F,6,FALSE))","v":""},"",null,null,null,"",{"$nulls":5},"","","",null,null,"",null,null,"",{"$nulls":4},{"$f":"IF(A902=\"\",\"\",IF(ISNUMBER(Y902),2,IF(A903=\"\",IF(OR(AK902>0,VLOOKUP(O902,EventConfig!A:C,3,FALSE)=4),3,\"\"),1)))","v":""},"",null,"",0]
[{"$f":"O903*100+P903","v":603601},6049,"完成与婉溪和许由的三方对话","",{"$nulls":5},5,{"$f":"IF(J903=\"\",\"\",VLOOKUP(J903,EventNPC!A:F,6,FALSE))","v":"婉溪"},6050,"这些事让我不安……我去找兄长问问。你一起来吧。\n（三人聚于小屋前，溪水潺潺。）",null,6036,1,{"$f":"_xlfn.TEXTJOIN(\";\",1,R903:S903)","v":""},null,null,{"$f":"IF(R903=\"\",\"\",\"-\"&VLOOKUP(R903,EventConditionConfig!A:C,3,FALSE)&IF(S903=\"\",\"\",CHAR(10)&\"-\"&VLOOKUP(S903,EventConditionConfig!A:C,3,FALSE)))","v":""},{"$f":"IF(Y903=\"\",\"\",IF(ISTEXT(Y903),1,2))","v":""},"","","",null,null,"",null,null,"",{"$nulls":4},{"$f":"IF(A903=\"\",\"\",IF(ISNUMBER(Y903),2,IF(A904=\"\",IF(OR(AK903>0,VLOOKUP(O903,EventConfig!A:C,3,FALSE)=4),3,\"\"),1)))","v":1},603602,null,6050,6036]
[603602,6049,"完成与婉溪和许由的三方对话","",{"$nulls":5},106,{"$f":"IF(J904=\"\",\"\",VLOOKUP(J904,EventNPC!A:F,6,FALSE))","v":"许由"},6051,"妹妹，你又在多想？家族的事，别乱查。",null,6036,2,"",null,null,{"$f":"IF(R904=\"\",\"\",\"-\"&VLOOKUP(R904,EventConditionConfig!A:C,3,FALSE)&IF(S904=\"\",\"\",CHAR(10)&\"-\"&VLOOKUP(S904,EventConditionConfig!A:C,3,FALSE)))","v":""},"","","","",null,null,"",null,null,"",{"$nulls":4},{"$f":"IF(A904=\"\",\"\",IF(ISNUMBER(Y904),2,IF(A905=\"\",IF(OR(AK904>0,VLOOKUP(O904,EventConfig!A:C,3,FALSE)=4),3,\"\"),1)))","v":1},603603,null,{"$f":"IF(A904=\"\",\"\",MAX(B904,D904,L904,X904,AA904,AL903,AL902,AD904))","v":6051},{"$f":"O904","v":6036}]
[603603,6049,"完成与婉溪和许由的三方对话","",{"$nulls":5},5,{"$f":"IF(J905=\"\",\"\",VLOOKUP(J905,EventNPC!A:F,6,FALSE))","v":"婉溪"},6052,"兄长，最近溪流异动，可有什么我不知道的事情？",null,6036,3,"",null,null,{"$f":"IF(R905=\"\",\"\",\"-\"&VLOOKUP(R905,EventConditionConfig!A:C,3,FALSE)&IF(S905=\"\",\"\",CHAR(10)&\"-\"&VLOOKUP(S905,EventConditionConfig!A:C,3,FALSE)))","v":""},"","","","",null,null,"",null,null,"",{"$nulls":4},{"$f":"IF(A905=\"\",\"\",IF(ISNUMBER(Y905),2,IF(A906=\"\",IF(OR(AK905>0,VLOOKUP(O905,EventConfig!A:C,3,FALSE)=4),3,\"\"),1)))","v":1},603604,null,6052,6036]
[603604,6049,"完成与婉溪和许由的三方对话","",{"$nulls":5},106,{"$f":"IF(J906=\"\",\"\",VLOOKUP(J906,EventNPC!A:F,6,FALSE))","v":"许由"},6053,"（叹息）或许是旧敌重现，祸福未知。",null,6036,4,"",null,null,{"$f":"IF(R906=\"\",\"\",\"-\"&VLOOKUP(R906,EventConditionConfig!A:C,3,FALSE)&IF(S906=\"\",\"\",CHAR(10)&\"-\"&VLOOKUP(S906,EventConditionConfig!A:C,3,FALSE)))","v":""},"","","","",null,null,"",null,null,"",{"$nulls":4},{"$f":"IF(A906=\"\",\"\",IF(ISNUMBER(Y906),2,IF(A907=\"\",IF(OR(AK906>0,VLOOKUP(O906,EventConfig!A:C,3,FALSE)=4),3,\"\"),1)))","v":1},603605,null,6053,6036]
[603605,6049,"完成与婉溪和许由的三方对话","",{"$nulls":5},5,{"$f":"IF(J907=\"\",\"\",VLOOKUP(J907,EventNPC!A:F,6,FALSE))","v":"婉溪"},6054,"（坚定却温和）兄长，我已经长大了，可以帮你的。",null,6036,{"$f":"IF(O907=\"\",\"\",IF(O907=O906,P906+1,1))","v":5},"",null,null,{"$f":"IF(R907=\"\",\"\",\"-\"&VLOOKUP(R907,EventConditionConfig!A:C,3,FALSE)&IF(S907=\"\",\"\",CHAR(10)&\"-\"&VLOOKUP(S907,EventConditionConfig!A:C,3,FALSE)))","v":""},"","","","",null,null,"",null,null,"",{"$nulls":4},{"$f":"IF(A907=\"\",\"\",IF(ISNUMBER(Y907),2,IF(A908=\"\",IF(OR(AK907>0,VLOOKUP(O907,EventConfig!A:C,3,FALSE)=4),3,\"\"),1)))","v":1},603606,null,6054,6036]
[603606,6049,"完成与婉溪和许由的三方对话","",{"$nulls":5},106,{"$f":"IF(J908=\"\",\"\",VLOOKUP(J908,EventNPC!A:F,6,FALSE))","v":"许由"},6055,"小友，这是我家族的事，你到此为止吧。",null,6036,6,"",null,null,{"$f":"IF(R908=\"\",\"\",\"-\"&VLOOKUP(R908,EventConditionConfig!A:C,3,FALSE)&IF(S908=\"\",\"\",CHAR(10)&\"-\"&VLOOKUP(S908,EventConditionConfig!A:C,3,FALSE)))","v":""},"","",{"$f":"_xlfn.TEXTJOIN(\";\",1,X908,AA908,AD908)","v":""},{"$f":"IF(OR(ISNUMBER(Y908),Y908=\"\"),\"\",MAX(AL907,AL905,B908,D908,L908)+1)","v":""},null,null,{"$f":"IF(OR(ISNUMBER(AB908),AB908=\"\"),\"\",X908+1)","v":""},null,null,"",{"$nulls":4},{"$f":"IF(A908=\"\",\"\",IF(ISNUMBER(Y908),2,IF(A909=\"\",IF(OR(AK908>0,VLOOKUP(O908,EventConfig!A:C,3,FALSE)=4),3,\"\"),1)))","v":""},"",null,6055,6036]
[null,"",null,"",{"$nulls":6},{"$f":"IF(J909=\"\",\"\",VLOOKUP(J909,EventNPC!A:F,6,FALSE))","v":""},"",null,null,null,"",{"$nulls":5},"","","",null,null,"",null,null,{"$f":"IF(OR(ISNUMBER(AE909),AE909=\"\"),\"\",AA909+1)","v":""},{"$nulls":4},{"$f":"IF(A909=\"\",\"\",IF(ISNUMBER(Y909),2,IF(A910=\"\",IF(OR(AK909>0,VLOOKUP(O909,EventConfig!A:C,3,FALSE)=4),3,\"\"),1)))","v":""},"",null,"",0]
[{"$f":"O910*100+P910","v":604101},6056,"和许由对话","",{"$nulls":5},106,{"$f":"IF(J910=\"\",\"\",VLOOKUP(J910,EventNPC!A:F,6,FALSE))","v":"许由"},6057,"你重返许由的隐居之地，他正坐在青石上，面前一个小丹炉冒着淡淡青烟。\n山风徐徐，茶香飘散，他转头微笑，仿佛早已知晓你的到来。",null,6041,1,{"$f":"_xlfn.TEXTJOIN(\";\",1,R910:S910)","v":""},null,null,{"$f":"IF(R910=\"\",\"\",\"-\"&VLOOKUP(R910,EventConditionConfig!A:C,3,FALSE)&IF(S910=\"\",\"\",CHAR(10)&\"-\"&VLOOKUP(S910,EventConditionConfig!A:C,3,FALSE)))","v":""},{"$f":"IF(Y910=\"\",\"\",IF(ISTEXT(Y910),1,2))","v":""},{"$f":"IF(U910=1,_xlfn.TEXTJOIN(\";\",1,IF(Z910=\"\",A910+1,Z910),IF(AND(AA910<>\"\",AC910=\"\"),A910+1,AC910),IF(AND(AD910<>\"\",AF910=\"\"),A910+1,AF910)),IF(U910=2,Y910,\"\"))","v":""},"","",null,null,"",null,null,"",{"$nulls":4},{"$f":"IF(A910=\"\",\"\",IF(ISNUMBER(Y910),2,IF(A911=\"\",IF(OR(AK910>0,VLOOKUP(O910,EventConfig!A:C,3,FALSE)=4),3,\"\"),1)))","v":1},{"$f":"IF(AI910=\"\",\"\",CHOOSE(AI910,IF(AK910=\"\",A910+1,AK910),CONCATENATE(IF(AK910=\"\",A910+1,AK910),\";101\"),IF(AK910=\"\",O910+1,AK910)))","v":604102},null,6057,6041]
[{"$f":"O911*100+P911","v":604102},6056,"和许由对话","",{"$nulls":5},100,{"$f":"IF(J911=\"\",\"\",VLOOKUP(J911,EventNPC!A:F,6,FALSE))","v":"玩家"},6058,"前辈，我已完成尧帝的托付，再来拜访。",null,6041,2,{"$f":"_xlfn.TEXTJOIN(\";\",1,R911:S911)","v":""},null,null,{"$f":"IF(R911=\"\",\"\",\"-\"&VLOOKUP(R911,EventConditionConfig!A:C,3,FALSE)&IF(S911=\"\",\"\",CHAR(10)&\"-\"&VLOOKUP(S911,EventConditionConfig!A:C,3,FALSE)))","v":""},{"$f":"IF(Y911=\"\",\"\",IF(ISTEXT(Y911),1,2))","v":""},"","","",null,null,"",null,null,"",{"$nulls":4},{"$f":"IF(A911=\"\",\"\",IF(ISNUMBER(Y911),2,IF(A912=\"\",IF(OR(AK911>0,VLOOKUP(O911,EventConfig!A:C,3,FALSE)=4),3,\"\"),1)))","v":1},604103,null,6058,6041]
[{"$f":"O912*100+P912","v":604103},6056,"和许由对话","",{"$nulls":5},106,{"$f":"IF(J912=\"\",\"\",VLOOKUP(J912,EventNPC!A:F,6,FALSE))","v":"许由"},6059,"（平静点头）尧的事，我已知晓。\n小友此次前来，有何事？",null,6041,3,{"$f":"_xlfn.TEXTJOIN(\";\",1,R912:S912)","v":""},null,null,{"$f":"IF(R912=\"\",\"\",\"-\"&VLOOKUP(R912,EventConditionConfig!A:C,3,FALSE)&IF(S912=\"\",\"\",CHAR(10)&\"-\"&VLOOKUP(S912,EventConditionConfig!A:C,3,FALSE)))","v":""},{"$f":"IF(Y912=\"\",\"\",IF(ISTEXT(Y912),1,2))","v":1},"604104","6060",6060,"无事，碰巧路过，前来拜访。",null,"",null,null,"",{"$nulls":4},{"$f":"IF(A912=\"\",\"\",IF(ISNUMBER(Y912),2,IF(A913=\"\",IF(OR(AK912>0,VLOOKUP(O912,EventConfig!A:C,3,FALSE)=4),3,\"\"),1)))","v":1},604104,null,6060,6041]
[{"$f":"O913*100+P913","v":604104},6056,"和许由对话","",{"$nulls":5},106,{"$f":"IF(J913=\"\",\"\",VLOOKUP(J913,EventNPC!A:F,6,FALSE))","v":"许由"},6061,"（轻笑）无事甚好，不妨帮我采些山野灵草，助我炼一炉丹药。",null,6041,4,{"$f":"_xlfn.TEXTJOIN(\";\",1,R913:S913)","v":""},null,null,{"$f":"IF(R913=\"\",\"\",\"-\"&VLOOKUP(R913,EventConditionConfig!A:C,3,FALSE)&IF(S913=\"\",\"\",CHAR(10)&\"-\"&VLOOKUP(S913,EventConditionConfig!A:C,3,FALSE)))","v":""},{"$f":"IF(Y913=\"\",\"\",IF(ISTEXT(Y913),1,2))","v":1},"604105","6062",6062,"好的,前辈。",null,"",null,null,"",{"$nulls":4},{"$f":"IF(A913=\"\",\"\",IF(ISNUMBER(Y913),2,IF(A914=\"\",IF(OR(AK913>0,VLOOKUP(O913,EventConfig!A:C,3,FALSE)=4),3,\"\"),1)))","v":""},"",null,6062,6041]
[null,"",null,"",{"$nulls":6},{"$f":"IF(J914=\"\",\"\",VLOOKUP(J914,EventNPC!A:F,6,FALSE))","v":""},"",null,null,null,"",{"$nulls":5},"","","",null,null,"",null,null,"",{"$nulls":4},{"$f":"IF(A914=\"\",\"\",IF(ISNUMBER(Y914),2,IF(A915=\"\",IF(OR(AK914>0,VLOOKUP(O914,EventConfig!A:C,3,FALSE)=4),3,\"\"),1)))","v":""},"",null,"",0]
[{"$f":"O915*100+P915","v":604201},6063,"收集山野灵草","",{"$nulls":6},{"$f":"IF(J915=\"\",\"\",VLOOKUP(J915,EventNPC!A:F,6,FALSE))","v":""},6064,"你在山林间寻觅灵草，古木参天，草叶间灵气隐现。偶尔有小兽守护草丛，需小心避开或驱散。",null,6042,1,{"$f":"_xlfn.TEXTJOIN(\";\",1,R915:S915)","v":""},null,null,{"$f":"IF(R915=\"\",\"\",\"-\"&VLOOKUP(R915,EventConditionConfig!A:C,3,FALSE)&IF(S915=\"\",\"\",CHAR(10)&\"-\"&VLOOKUP(S915,EventConditionConfig!A:C,3,FALSE)))","v":""},{"$f":"IF(Y915=\"\",\"\",IF(ISTEXT(Y915),1,2))","v":""},"","","",null,null,"",null,null,"",{"$nulls":4},{"$f":"IF(A915=\"\",\"\",IF(ISNUMBER(Y915),2,IF(A916=\"\",IF(OR(AK915>0,VLOOKUP(O915,EventConfig!A:C,3,FALSE)=4),3,\"\"),1)))","v":1},604202,null,6064,6042]
[{"$f":"O916*100+P916","v":604202},6063,"收集山野灵草","",{"$nulls":5},106,{"$f":"IF(J916=\"\",\"\",VLOOKUP(J916,EventNPC!A:F,6,FALSE))","v":"许由"},6065,"这些灵草是炼丹之基，需采于晨露之时，方有纯净之气。山林万物，各有其时——你游历时，可曾想过何时是你的“晨露”？",null,6042,2,{"$f":"_xlfn.TEXTJOIN(\";\",1,R916:S916)","v":"44"},44,null,{"$f":"IF(R916=\"\",\"\",\"-\"&VLOOKUP(R916,EventConditionConfig!A:C,3,FALSE)&IF(S916=\"\",\"\",CHAR(10)&\"-\"&VLOOKUP(S916,EventConditionConfig!A:C,3,FALSE)))","v":"-完成神识探索-山野采草"},{"$f":"IF(Y916=\"\",\"\",IF(ISTEXT(Y916),1,2))","v":1},"604203","6066",6066,"前辈，灵草已采齐。",null,"",null,null,"",{"$nulls":4},{"$f":"IF(A916=\"\",\"\",IF(ISNUMBER(Y916),2,IF(A917=\"\",IF(OR(AK916>0,VLOOKUP(O916,EventConfig!A:C,3,FALSE)=4),3,\"\"),1)))","v":1},604203,null,6066,6042]
[{"$f":"O917*100+P917","v":604203},6063,"收集山野灵草","",{"$nulls":5},106,{"$f":"IF(J917=\"\",\"\",VLOOKUP(J917,EventNPC!A:F,6,FALSE))","v":"许由"},6067,"（检查后，眼中闪过一丝赞许）多谢，小友。我们来炼丹吧。\n炼丹如修道，急不得——可世间事，总有急时，你如何处之？",null,6042,3,{"$f":"_xlfn.TEXTJOIN(\";\",1,R917:S917)","v":""},null,null,{"$f":"IF(R917=\"\",\"\",\"-\"&VLOOKUP(R917,EventConditionConfig!A:C,3,FALSE)&IF(S917=\"\",\"\",CHAR(10)&\"-\"&VLOOKUP(S917,EventConditionConfig!A:C,3,FALSE)))","v":""},{"$f":"IF(Y917=\"\",\"\",IF(ISTEXT(Y917),1,2))","v":1},"604204","6068",6068,"请前辈指教",null,"",null,null,"",{"$nulls":4},{"$f":"IF(A917=\"\",\"\",IF(ISNUMBER(Y917),2,IF(A918=\"\",IF(OR(AK917>0,VLOOKUP(O917,EventConfig!A:C,3,FALSE)=4),3,\"\"),1)))","v":1},604204,null,6068,6042]
[{"$f":"O918*100+P918","v":604204},6063,"收集山野灵草","",{"$nulls":5},106,{"$f":"IF(J918=\"\",\"\",VLOOKUP(J918,EventNPC!A:F,6,FALSE))","v":"许由"},6069,"顺其自然，方不乱心，如山林，四季轮转，无需强求。",null,6042,4,{"$f":"_xlfn.TEXTJOIN(\";\",1,R918:S918)","v":""},null,null,{"$f":"IF(R918=\"\",\"\",\"-\"&VLOOKUP(R918,EventConditionConfig!A:C,3,FALSE)&IF(S918=\"\",\"\",CHAR(10)&\"-\"&VLOOKUP(S918,EventConditionConfig!A:C,3,FALSE)))","v":""},{"$f":"IF(Y918=\"\",\"\",IF(ISTEXT(Y918),1,2))","v":""},"","","",null,null,"",null,null,"",{"$nulls":4},{"$f":"IF(A918=\"\",\"\",IF(ISNUMBER(Y918),2,IF(A919=\"\",IF(OR(AK918>0,VLOOKUP(O918,EventConfig!A:C,3,FALSE)=4),3,\"\"),1)))","v":""},"",null,6069,6042]
[null,"",null,"",{"$nulls":6},{"$f":"IF(J919=\"\",\"\",VLOOKUP(J919,EventNPC!A:F,6,FALSE))","v":""},"",null,null,null,"",{"$nulls":5},"","6070",6070,"前辈，火候已稳。",null,"",null,null,"",{"$nulls":4},{"$f":"IF(A919=\"\",\"\",IF(ISNUMBER(Y919),2,IF(A920=\"\",IF(OR(AK919>0,VLOOKUP(O919,EventConfig!A:C,3,FALSE)=4),3,\"\"),1)))","v":""},"",null,"",0]
[{"$f":"O920*100+P920","v":604301},6070,"与许由对话","",{"$nulls":5},106,{"$f":"IF(J920=\"\",\"\",VLOOKUP(J920,EventNPC!A:F,6,FALSE))","v":"许由"},6071,"丹炉已备，你来助我控火。",null,6043,1,{"$f":"_xlfn.TEXTJOIN(\";\",1,R920:S920)","v":""},null,null,{"$f":"IF(R920=\"\",\"\",\"-\"&VLOOKUP(R920,EventConditionConfig!A:C,3,FALSE)&IF(S920=\"\",\"\",CHAR(10)&\"-\"&VLOOKUP(S920,EventConditionConfig!A:C,3,FALSE)))","v":""},{"$f":"IF(Y920=\"\",\"\",IF(ISTEXT(Y920),1,2))","v":""},"","","",null,null,"",null,null,"",{"$nulls":4},{"$f":"IF(A920=\"\",\"\",IF(ISNUMBER(Y920),2,IF(A921=\"\",IF(OR(AK920>0,VLOOKUP(O920,EventConfig!A:C,3,FALSE)=4),3,\"\"),1)))","v":1},604302,null,6071,6043]
[{"$f":"O921*100+P921","v":604302},6070,"与许由对话","",{"$nulls":5},106,{"$f":"IF(J921=\"\",\"\",VLOOKUP(J921,EventNPC!A:F,6,FALSE))","v":"许由"},6072,"多谢你。\n隐居炼丹，让我避开尘世纷扰，可有时我也想：拒绝天下，是真自在，还是另一种执着？",null,6043,2,{"$f":"_xlfn.TEXTJOIN(\";\",1,R921:S921)","v":""},null,null,{"$f":"IF(R921=\"\",\"\",\"-\"&VLOOKUP(R921,EventConditionConfig!A:C,3,FALSE)&IF(S921=\"\",\"\",CHAR(10)&\"-\"&VLOOKUP(S921,EventConditionConfig!A:C,3,FALSE)))","v":""},{"$f":"IF(Y921=\"\",\"\",IF(ISTEXT(Y921),1,2))","v":1},"604303","6073",6073,"晚辈不懂...",null,"",null,null,"",{"$nulls":4},{"$f":"IF(A921=\"\",\"\",IF(ISNUMBER(Y921),2,IF(A922=\"\",IF(OR(AK921>0,VLOOKUP(O921,EventConfig!A:C,3,FALSE)=4),3,\"\"),1)))","v":1},604303,null,6073,6043]
[{"$f":"O922*100+P922","v":604303},6070,"与许由对话","",{"$nulls":5},106,{"$f":"IF(J922=\"\",\"\",VLOOKUP(J922,EventNPC!A:F,6,FALSE))","v":"许由"},6074,"哈哈，我胡言乱语罢了。",null,6043,3,{"$f":"_xlfn.TEXTJOIN(\";\",1,R922:S922)","v":""},null,null,{"$f":"IF(R922=\"\",\"\",\"-\"&VLOOKUP(R922,EventConditionConfig!A:C,3,FALSE)&IF(S922=\"\",\"\",CHAR(10)&\"-\"&VLOOKUP(S922,EventConditionConfig!A:C,3,FALSE)))","v":""},{"$f":"IF(Y922=\"\",\"\",IF(ISTEXT(Y922),1,2))","v":""},"","","",null,null,"",null,null,"",{"$nulls":4},{"$f":"IF(A922=\"\",\"\",IF(ISNUMBER(Y922),2,IF(A923=\"\",IF(OR(AK922>0,VLOOKUP(O922,EventConfig!A:C,3,FALSE)=4),3,\"\"),1)))","v":""},"",null,6074,6043]
[null,"",null,"",{"$nulls":6},{"$f":"IF(J923=\"\",\"\",VLOOKUP(J923,EventNPC!A:F,6,FALSE))","v":""},"",null,null,null,"",{"$nulls":5},"","","",null,null,"",null,null,"",{"$nulls":4},{"$f":"IF(A923=\"\",\"\",IF(ISNUMBER(Y923),2,IF(A924=\"\",IF(OR(AK923>0,VLOOKUP(O923,EventConfig!A:C,3,FALSE)=4),3,\"\"),1)))","v":""},"",null,"",0]
[{"$f":"O924*100+P924","v":604401},6075,"收集秘境种子","",{"$nulls":5},106,{"$f":"IF(J924=\"\",\"\",VLOOKUP(J924,EventNPC!A:F,6,FALSE))","v":"许由"},6076,"我需要一些秘境种子。",null,6044,1,{"$f":"_xlfn.TEXTJOIN(\";\",1,R924:S924)","v":""},null,null,{"$f":"IF(R924=\"\",\"\",\"-\"&VLOOKUP(R924,EventConditionConfig!A:C,3,FALSE)&IF(S924=\"\",\"\",CHAR(10)&\"-\"&VLOOKUP(S924,EventConditionConfig!A:C,3,FALSE)))","v":""},{"$f":"IF(Y924=\"\",\"\",IF(ISTEXT(Y924),1,2))","v":""},"","","",null,null,"",null,null,"",{"$nulls":4},{"$f":"IF(A924=\"\",\"\",IF(ISNUMBER(Y924),2,IF(A925=\"\",IF(OR(AK924>0,VLOOKUP(O924,EventConfig!A:C,3,FALSE)=4),3,\"\"),1)))","v":1},604402,null,6076,6044]
[{"$f":"O925*100+P925","v":604402},6075,"收集秘境种子","",{"$nulls":5},100,{"$f":"IF(J925=\"\",\"\",VLOOKUP(J925,EventNPC!A:F,6,FALSE))","v":"玩家"},6077,"前辈,你要的种子。",null,6044,2,{"$f":"_xlfn.TEXTJOIN(\";\",1,R925:S925)","v":"45"},45,null,{"$f":"IF(R925=\"\",\"\",\"-\"&VLOOKUP(R925,EventConditionConfig!A:C,3,FALSE)&IF(S925=\"\",\"\",CHAR(10)&\"-\"&VLOOKUP(S925,EventConditionConfig!A:C,3,FALSE)))","v":"-完成神识探索-秘境种子"},{"$f":"IF(Y925=\"\",\"\",IF(ISTEXT(Y925),1,2))","v":""},"","","",null,null,"",null,null,"",{"$nulls":4},{"$f":"IF(A925=\"\",\"\",IF(ISNUMBER(Y925),2,IF(A926=\"\",IF(OR(AK925>0,VLOOKUP(O925,EventConfig!A:C,3,FALSE)=4),3,\"\"),1)))","v":1},604403,null,6077,6044]
[{"$f":"O926*100+P926","v":604403},6075,"收集秘境种子","",{"$nulls":5},106,{"$f":"IF(J926=\"\",\"\",VLOOKUP(J926,EventNPC!A:F,6,FALSE))","v":"许由"},6078,"（融入丹炉，点头）天下大，却非我所求。隐居小，却足我心。\n你说，大与小，谁更好？",null,6044,3,{"$f":"_xlfn.TEXTJOIN(\";\",1,R926:S926)","v":""},null,null,{"$f":"IF(R926=\"\",\"\",\"-\"&VLOOKUP(R926,EventConditionConfig!A:C,3,FALSE)&IF(S926=\"\",\"\",CHAR(10)&\"-\"&VLOOKUP(S926,EventConditionConfig!A:C,3,FALSE)))","v":""},{"$f":"IF(Y926=\"\",\"\",IF(ISTEXT(Y926),1,2))","v":1},"604404;604404","6079;6080",6079,"大有大自在，小有小逍遥。",null,6080,"心定，则处处自在。",null,"",{"$nulls":4},{"$f":"IF(A926=\"\",\"\",IF(ISNUMBER(Y926),2,IF(A927=\"\",IF(OR(AK926>0,VLOOKUP(O926,EventConfig!A:C,3,FALSE)=4),3,\"\"),1)))","v":1},604404,null,6080,6044]
[{"$f":"O927*100+P927","v":604404},6075,"收集秘境种子","",{"$nulls":5},106,{"$f":"IF(J927=\"\",\"\",VLOOKUP(J927,EventNPC!A:F,6,FALSE))","v":"许由"},6081,"哈哈哈，小友悟性不浅。",null,6044,4,{"$f":"_xlfn.TEXTJOIN(\";\",1,R927:S927)","v":""},null,null,{"$f":"IF(R927=\"\",\"\",\"-\"&VLOOKUP(R927,EventConditionConfig!A:C,3,FALSE)&IF(S927=\"\",\"\",CHAR(10)&\"-\"&VLOOKUP(S927,EventConditionConfig!A:C,3,FALSE)))","v":""},{"$f":"IF(Y927=\"\",\"\",IF(ISTEXT(Y927),1,2))","v":""},"","","",null,null,"",null,null,"",{"$nulls":4},{"$f":"IF(A927=\"\",\"\",IF(ISNUMBER(Y927),2,IF(A928=\"\",IF(OR(AK927>0,VLOOKUP(O927,EventConfig!A:C,3,FALSE)=4),3,\"\"),1)))","v":""},"",null,6081,6044]
[null,"",null,"",{"$nulls":6},{"$f":"IF(J928=\"\",\"\",VLOOKUP(J928,EventNPC!A:F,6,FALSE))","v":""},"",null,null,null,"",{"$nulls":5},"","","",null,null,"",null,null,"",{"$nulls":4},{"$f":"IF(A928=\"\",\"\",IF(ISNUMBER(Y928),2,IF(A929=\"\",IF(OR(AK928>0,VLOOKUP(O928,EventConfig!A:C,3,FALSE)=4),3,\"\"),1)))","v":""},"",null,"",0]
[{"$f":"O929*100+P929","v":604501},6082,"与许由对话","",{"$nulls":5},106,{"$f":"IF(J929=\"\",\"\",VLOOKUP(J929,EventNPC!A:F,6,FALSE))","v":"许由"},6083,"来，喝茶吧。\n再来聊聊你游历故事？",null,6045,1,{"$f":"_xlfn.TEXTJOIN(\";\",1,R929:S929)","v":""},null,null,{"$f":"IF(R929=\"\",\"\",\"-\"&VLOOKUP(R929,EventConditionConfig!A:C,3,FALSE)&IF(S929=\"\",\"\",CHAR(10)&\"-\"&VLOOKUP(S929,EventConditionConfig!A:C,3,FALSE)))","v":""},{"$f":"IF(Y929=\"\",\"\",IF(ISTEXT(Y929),1,2))","v":1},"604502","6084",6084,"讲述鲲鹏志向",null,"",null,null,"",{"$nulls":4},{"$f":"IF(A929=\"\",\"\",IF(ISNUMBER(Y929),2,IF(A930=\"\",IF(OR(AK929>0,VLOOKUP(O929,EventConfig!A:C,3,FALSE)=4),3,\"\"),1)))","v":1},604502,null,6084,6045]
[{"$f":"O930*100+P930","v":604502},6082,"与许由对话","",{"$nulls":5},106,{"$f":"IF(J930=\"\",\"\",VLOOKUP(J930,EventNPC!A:F,6,FALSE))","v":"许由"},6085,"鲲鹏飞高，可风一停就会落下，值得吗？",null,6045,2,{"$f":"_xlfn.TEXTJOIN(\";\",1,R930:S930)","v":""},null,null,{"$f":"IF(R930=\"\",\"\",\"-\"&VLOOKUP(R930,EventConditionConfig!A:C,3,FALSE)&IF(S930=\"\",\"\",CHAR(10)&\"-\"&VLOOKUP(S930,EventConditionConfig!A:C,3,FALSE)))","v":""},{"$f":"IF(Y930=\"\",\"\",IF(ISTEXT(Y930),1,2))","v":1},"604503","6086",6086,"分享樗木无用",null,"",null,null,"",{"$nulls":4},{"$f":"IF(A930=\"\",\"\",IF(ISNUMBER(Y930),2,IF(A931=\"\",IF(OR(AK930>0,VLOOKUP(O930,EventConfig!A:C,3,FALSE)=4),3,\"\"),1)))","v":1},604503,null,6086,6045]
[{"$f":"O931*100+P931","v":604503},6082,"与许由对话","",{"$nulls":5},106,{"$f":"IF(J931=\"\",\"\",VLOOKUP(J931,EventNPC!A:F,6,FALSE))","v":"许由"},6087,"无用长存，可长存中，是否少了花开的瞬间？",null,6045,3,{"$f":"_xlfn.TEXTJOIN(\";\",1,R931:S931)","v":""},null,null,{"$f":"IF(R931=\"\",\"\",\"-\"&VLOOKUP(R931,EventConditionConfig!A:C,3,FALSE)&IF(S931=\"\",\"\",CHAR(10)&\"-\"&VLOOKUP(S931,EventConditionConfig!A:C,3,FALSE)))","v":""},{"$f":"IF(Y931=\"\",\"\",IF(ISTEXT(Y931),1,2))","v":1},"604504","6088",6088,"描述姑射仙人",null,"",null,null,"",{"$nulls":4},{"$f":"IF(A931=\"\",\"\",IF(ISNUMBER(Y931),2,IF(A932=\"\",IF(OR(AK931>0,VLOOKUP(O931,EventConfig!A:C,3,FALSE)=4),3,\"\"),1)))","v":1},604504,null,6088,6045]
[{"$f":"O932*100+P932","v":604504},6082,"与许由对话","",{"$nulls":5},106,{"$f":"IF(J932=\"\",\"\",VLOOKUP(J932,EventNPC!A:F,6,FALSE))","v":"许由"},6089,"仙人逍遥，是否永远没有烦恼？",null,6045,4,{"$f":"_xlfn.TEXTJOIN(\";\",1,R932:S932)","v":""},null,null,{"$f":"IF(R932=\"\",\"\",\"-\"&VLOOKUP(R932,EventConditionConfig!A:C,3,FALSE)&IF(S932=\"\",\"\",CHAR(10)&\"-\"&VLOOKUP(S932,EventConditionConfig!A:C,3,FALSE)))","v":""},{"$f":"IF(Y932=\"\",\"\",IF(ISTEXT(Y932),1,2))","v":1},"604505","6090",6090,"多谢前辈指点",null,"",null,null,"",{"$nulls":4},{"$f":"IF(A932=\"\",\"\",IF(ISNUMBER(Y932),2,IF(A933=\"\",IF(OR(AK932>0,VLOOKUP(O932,EventConfig!A:C,3,FALSE)=4),3,\"\"),1)))","v":""},"",null,6090,6045]
[null,"",null,"",{"$nulls":6},{"$f":"IF(J933=\"\",\"\",VLOOKUP(J933,EventNPC!A:F,6,FALSE))","v":""},"",null,null,null,"",{"$nulls":5},"","","",null,null,"",null,null,"",{"$nulls":4},{"$f":"IF(A933=\"\",\"\",IF(ISNUMBER(Y933),2,IF(A934=\"\",IF(OR(AK933>0,VLOOKUP(O933,EventConfig!A:C,3,FALSE)=4),3,\"\"),1)))","v":""},"",null,"",0]
[{"$f":"O934*100+P934","v":604601},6091,"与许由对话","",{"$nulls":5},106,{"$f":"IF(J934=\"\",\"\",VLOOKUP(J934,EventNPC!A:F,6,FALSE))","v":"许由"},6092,"小友，近来与你品茶论道，我也获益良多。\n日后若有丹药，灵草之事，欢迎来找我。",null,6046,1,{"$f":"_xlfn.TEXTJOIN(\";\",1,R934:S934)","v":""},null,null,{"$f":"IF(R934=\"\",\"\",\"-\"&VLOOKUP(R934,EventConditionConfig!A:C,3,FALSE)&IF(S934=\"\",\"\",CHAR(10)&\"-\"&VLOOKUP(S934,EventConditionConfig!A:C,3,FALSE)))","v":""},{"$f":"IF(Y934=\"\",\"\",IF(ISTEXT(Y934),1,2))","v":1},"604602","6093",6093,"多谢前辈！",null,"",null,null,"",{"$nulls":4},{"$f":"IF(A934=\"\",\"\",IF(ISNUMBER(Y934),2,IF(A935=\"\",IF(OR(AK934>0,VLOOKUP(O934,EventConfig!A:C,3,FALSE)=4),3,\"\"),1)))","v":1},604602,null,6093,6046]
[{"$f":"O935*100+P935","v":604602},6091,"与许由对话","",{"$nulls":5},106,{"$f":"IF(J935=\"\",\"\",VLOOKUP(J935,EventNPC!A:F,6,FALSE))","v":"许由"},6094,"你去吧，继续你的旅程，有缘再见。",null,6046,2,{"$f":"_xlfn.TEXTJOIN(\";\",1,R935:S935)","v":""},null,null,{"$f":"IF(R935=\"\",\"\",\"-\"&VLOOKUP(R935,EventConditionConfig!A:C,3,FALSE)&IF(S935=\"\",\"\",CHAR(10)&\"-\"&VLOOKUP(S935,EventConditionConfig!A:C,3,FALSE)))","v":""},{"$f":"IF(Y935=\"\",\"\",IF(ISTEXT(Y935),1,2))","v":""},"","","",null,null,"",null,null,"",{"$nulls":4},{"$f":"IF(A935=\"\",\"\",IF(ISNUMBER(Y935),2,IF(A936=\"\",IF(OR(AK935>0,VLOOKUP(O935,EventConfig!A:C,3,FALSE)=4),3,\"\"),1)))","v":""},"",null,6094,6046]
[null,"",null,"",{"$nulls":6},{"$f":"IF(J936=\"\",\"\",VLOOKUP(J936,EventNPC!A:F,6,FALSE))","v":""},"",null,null,null,"",{"$nulls":5},"","","",null,null,"",null,null,"",{"$nulls":4},{"$f":"IF(A936=\"\",\"\",IF(ISNUMBER(Y936),2,IF(A937=\"\",IF(OR(AK936>0,VLOOKUP(O936,EventConfig!A:C,3,FALSE)=4),3,\"\"),1)))","v":""},"",null,"",0]
[{"$f":"O937*100+P937","v":605101},{"$f":"IF(C937=\"\",\"\",IF(C937=C936,B936,MAX(AL936,AL935)+1))","v":6095},"完成所有对话","",{"$nulls":6},{"$f":"IF(J937=\"\",\"\",VLOOKUP(J937,EventNPC!A:F,6,FALSE))","v":""},6096,"你游历途中，忽见疯道人御风而来，或立于云端，或坐于路边。他看起来像在随处发呆，却又像在听风说话。",null,6051,1,{"$f":"_xlfn.TEXTJOIN(\";\",1,R937:S937)","v":""},null,null,{"$f":"IF(R937=\"\",\"\",\"-\"&VLOOKUP(R937,EventConditionConfig!A:C,3,FALSE)&IF(S937=\"\",\"\",CHAR(10)&\"-\"&VLOOKUP(S937,EventConditionConfig!A:C,3,FALSE)))","v":""},{"$f":"IF(Y937=\"\",\"\",IF(ISTEXT(Y937),1,2))","v":""},"","","",null,null,"",null,null,"",{"$nulls":4},{"$f":"IF(A937=\"\",\"\",IF(ISNUMBER(Y937),2,IF(A938=\"\",IF(OR(AK937>0,VLOOKUP(O937,EventConfig!A:C,3,FALSE)=4),3,\"\"),1)))","v":1},605102,null,6096,6051]
[{"$f":"O938*100+P938","v":605102},6095,"完成所有对话","",{"$nulls":5},100,{"$f":"IF(J938=\"\",\"\",VLOOKUP(J938,EventNPC!A:F,6,FALSE))","v":"玩家"},6097,"前辈，好久不见。您怎会在此？",null,6051,2,{"$f":"_xlfn.TEXTJOIN(\";\",1,R938:S938)","v":""},null,null,{"$f":"IF(R938=\"\",\"\",\"-\"&VLOOKUP(R938,EventConditionConfig!A:C,3,FALSE)&IF(S938=\"\",\"\",CHAR(10)&\"-\"&VLOOKUP(S938,EventConditionConfig!A:C,3,FALSE)))","v":""},{"$f":"IF(Y938=\"\",\"\",IF(ISTEXT(Y938),1,2))","v":""},"","","",null,null,"",null,null,"",{"$nulls":4},{"$f":"IF(A938=\"\",\"\",IF(ISNUMBER(Y938),2,IF(A939=\"\",IF(OR(AK938>0,VLOOKUP(O938,EventConfig!A:C,3,FALSE)=4),3,\"\"),1)))","v":1},605103,null,6097,6051]
[{"$f":"O939*100+P939","v":605103},6095,"完成所有对话","",{"$nulls":5},7,{"$f":"IF(J939=\"\",\"\",VLOOKUP(J939,EventNPC!A:F,6,FALSE))","v":"疯道人"},6098,"（大笑，声音如风啸）小友，又是你。\n我在此发呆有段时间了，有人笑我疯，有人说我傻。",null,6051,3,{"$f":"_xlfn.TEXTJOIN(\";\",1,R939:S939)","v":""},null,null,{"$f":"IF(R939=\"\",\"\",\"-\"&VLOOKUP(R939,EventConditionConfig!A:C,3,FALSE)&IF(S939=\"\",\"\",CHAR(10)&\"-\"&VLOOKUP(S939,EventConditionConfig!A:C,3,FALSE)))","v":""},{"$f":"IF(Y939=\"\",\"\",IF(ISTEXT(Y939),1,2))","v":1},"605104","6099",6099,"是什么人，如此大胆？",null,"",null,null,"",{"$nulls":4},{"$f":"IF(A939=\"\",\"\",IF(ISNUMBER(Y939),2,IF(A940=\"\",IF(OR(AK939>0,VLOOKUP(O939,EventConfig!A:C,3,FALSE)=4),3,\"\"),1)))","v":1},605104,null,6099,6051]
[{"$f":"O940*100+P940","v":605104},6095,"完成所有对话","",{"$nulls":5},7,{"$f":"IF(J940=\"\",\"\",VLOOKUP(J940,EventNPC!A:F,6,FALSE))","v":"疯道人"},6100,"我可没空理会他们。\n你若有心，不妨帮我找些甜蜜果实，助我解乏。",null,6051,4,{"$f":"_xlfn.TEXTJOIN(\";\",1,R940:S940)","v":""},null,null,{"$f":"IF(R940=\"\",\"\",\"-\"&VLOOKUP(R940,EventConditionConfig!A:C,3,FALSE)&IF(S940=\"\",\"\",CHAR(10)&\"-\"&VLOOKUP(S940,EventConditionConfig!A:C,3,FALSE)))","v":""},{"$f":"IF(Y940=\"\",\"\",IF(ISTEXT(Y940),1,2))","v":1},"605105","6101",6101,"好的前辈",null,"",null,null,"",{"$nulls":4},{"$f":"IF(A940=\"\",\"\",IF(ISNUMBER(Y940),2,IF(A941=\"\",IF(OR(AK940>0,VLOOKUP(O940,EventConfig!A:C,3,FALSE)=4),3,\"\"),1)))","v":""},"",null,6101,6051]
[null,"",null,"",{"$nulls":6},{"$f":"IF(J941=\"\",\"\",VLOOKUP(J941,EventNPC!A:F,6,FALSE))","v":""},"",null,null,null,"",{"$nulls":5},"","","",null,null,"",null,null,"",{"$nulls":4},{"$f":"IF(A941=\"\",\"\",IF(ISNUMBER(Y941),2,IF(A942=\"\",IF(OR(AK941>0,VLOOKUP(O941,EventConfig!A:C,3,FALSE)=4),3,\"\"),1)))","v":""},"",null,"",0]
[{"$f":"O942*100+P942","v":605201},6102,"收集甜蜜果实","",{"$nulls":6},{"$f":"IF(J942=\"\",\"\",VLOOKUP(J942,EventNPC!A:F,6,FALSE))","v":""},6103,"你在游历间寻觅果实，果子甜香，灵气隐现。偶尔有小兽守护，需要小心避开或驱散。",null,6052,1,{"$f":"_xlfn.TEXTJOIN(\";\",1,R942:S942)","v":""},null,null,{"$f":"IF(R942=\"\",\"\",\"-\"&VLOOKUP(R942,EventConditionConfig!A:C,3,FALSE)&IF(S942=\"\",\"\",CHAR(10)&\"-\"&VLOOKUP(S942,EventConditionConfig!A:C,3,FALSE)))","v":""},{"$f":"IF(Y942=\"\",\"\",IF(ISTEXT(Y942),1,2))","v":""},"","","",null,null,"",null,null,"",{"$nulls":4},{"$f":"IF(A942=\"\",\"\",IF(ISNUMBER(Y942),2,IF(A943=\"\",IF(OR(AK942>0,VLOOKUP(O942,EventConfig!A:C,3,FALSE)=4),3,\"\"),1)))","v":1},605202,null,6103,6052]
[{"$f":"O943*100+P943","v":605202},6102,"收集甜蜜果实","",{"$nulls":5},100,{"$f":"IF(J943=\"\",\"\",VLOOKUP(J943,EventNPC!A:F,6,FALSE))","v":"玩家"},6104,"前辈，果实已集齐。",null,6052,2,{"$f":"_xlfn.TEXTJOIN(\";\",1,R943:S943)","v":"46"},46,null,{"$f":"IF(R943=\"\",\"\",\"-\"&VLOOKUP(R943,EventConditionConfig!A:C,3,FALSE)&IF(S943=\"\",\"\",CHAR(10)&\"-\"&VLOOKUP(S943,EventConditionConfig!A:C,3,FALSE)))","v":"-完成神识探索-甜蜜果实"},{"$f":"IF(Y943=\"\",\"\",IF(ISTEXT(Y943),1,2))","v":""},"","","",null,null,"",null,null,"",{"$nulls":4},{"$f":"IF(A943=\"\",\"\",IF(ISNUMBER(Y943),2,IF(A944=\"\",IF(OR(AK943>0,VLOOKUP(O943,EventConfig!A:C,3,FALSE)=4),3,\"\"),1)))","v":1},605203,null,6104,6052]
[{"$f":"O944*100+P944","v":605203},6102,"收集甜蜜果实","",{"$nulls":5},7,{"$f":"IF(J944=\"\",\"\",VLOOKUP(J944,EventNPC!A:F,6,FALSE))","v":"疯道人"},6105,"这些果实是解乏之物，长于树梢，有灵兽守护，这一趟辛苦你了。",null,6052,3,{"$f":"_xlfn.TEXTJOIN(\";\",1,R944:S944)","v":""},null,null,{"$f":"IF(R944=\"\",\"\",\"-\"&VLOOKUP(R944,EventConditionConfig!A:C,3,FALSE)&IF(S944=\"\",\"\",CHAR(10)&\"-\"&VLOOKUP(S944,EventConditionConfig!A:C,3,FALSE)))","v":""},{"$f":"IF(Y944=\"\",\"\",IF(ISTEXT(Y944),1,2))","v":""},"","","",null,null,"",null,null,"",{"$nulls":4},{"$f":"IF(A944=\"\",\"\",IF(ISNUMBER(Y944),2,IF(A945=\"\",IF(OR(AK944>0,VLOOKUP(O944,EventConfig!A:C,3,FALSE)=4),3,\"\"),1)))","v":1},605204,null,6105,6052]
[{"$f":"O945*100+P945","v":605204},6102,"收集甜蜜果实","",{"$nulls":5},7,{"$f":"IF(J945=\"\",\"\",VLOOKUP(J945,EventNPC!A:F,6,FALSE))","v":"疯道人"},6106,"（咬一口，眼中闪过一丝赞许）多谢。小友眼力不错，都是上好的果子。",null,6052,4,{"$f":"_xlfn.TEXTJOIN(\";\",1,R945:S945)","v":""},null,null,{"$f":"IF(R945=\"\",\"\",\"-\"&VLOOKUP(R945,EventConditionConfig!A:C,3,FALSE)&IF(S945=\"\",\"\",CHAR(10)&\"-\"&VLOOKUP(S945,EventConditionConfig!A:C,3,FALSE)))","v":""},{"$f":"IF(Y945=\"\",\"\",IF(ISTEXT(Y945),1,2))","v":""},"","","",null,null,"",null,null,"",{"$nulls":4},{"$f":"IF(A945=\"\",\"\",IF(ISNUMBER(Y945),2,IF(A946=\"\",IF(OR(AK945>0,VLOOKUP(O945,EventConfig!A:C,3,FALSE)=4),3,\"\"),1)))","v":""},"",null,6106,6052]
[null,"",null,"",{"$nulls":6},{"$f":"IF(J946=\"\",\"\",VLOOKUP(J946,EventNPC!A:F,6,FALSE))","v":""},"",null,null,null,"",{"$nulls":5},"","","",null,null,"",null,null,"",{"$nulls":4},{"$f":"IF(A946=\"\",\"\",IF(ISNUMBER(Y946),2,IF(A947=\"\",IF(OR(AK946>0,VLOOKUP(O946,EventConfig!A:C,3,FALSE)=4),3,\"\"),1)))","v":""},"",null,"",0]
[{"$f":"O947*100+P947","v":605301},6107,"收集甜蜜果实","",{"$nulls":5},7,{"$f":"IF(J947=\"\",\"\",VLOOKUP(J947,EventNPC!A:F,6,FALSE))","v":"疯道人"},6108,"果子已备，你来助我驱妖。",null,6053,1,{"$f":"_xlfn.TEXTJOIN(\";\",1,R947:S947)","v":""},null,null,{"$f":"IF(R947=\"\",\"\",\"-\"&VLOOKUP(R947,EventConditionConfig!A:C,3,FALSE)&IF(S947=\"\",\"\",CHAR(10)&\"-\"&VLOOKUP(S947,EventConditionConfig!A:C,3,FALSE)))","v":""},{"$f":"IF(Y947=\"\",\"\",IF(ISTEXT(Y947),1,2))","v":2},3014,"","",3014,null,"",null,null,"",{"$nulls":4},{"$f":"IF(A947=\"\",\"\",IF(ISNUMBER(Y947),2,IF(A948=\"\",IF(OR(AK947>0,VLOOKUP(O947,EventConfig!A:C,3,FALSE)=4),3,\"\"),1)))","v":2},"605302;101",null,6108,6053]
[{"$f":"O948*100+P948","v":605302},6107,"收集甜蜜果实","",{"$nulls":6},{"$f":"IF(J948=\"\",\"\",VLOOKUP(J948,EventNPC!A:F,6,FALSE))","v":""},"",null,null,6053,2,{"$f":"_xlfn.TEXTJOIN(\";\",1,R948:S948)","v":""},null,null,{"$f":"IF(R948=\"\",\"\",\"-\"&VLOOKUP(R948,EventConditionConfig!A:C,3,FALSE)&IF(S948=\"\",\"\",CHAR(10)&\"-\"&VLOOKUP(S948,EventConditionConfig!A:C,3,FALSE)))","v":""},{"$f":"IF(Y948=\"\",\"\",IF(ISTEXT(Y948),1,2))","v":1},"605303","6109",6109,"啊！前辈原来是在驱魔除妖，却被世人误会，为何不早解释。",null,"",null,null,"",{"$nulls":4},{"$f":"IF(A948=\"\",\"\",IF(ISNUMBER(Y948),2,IF(A949=\"\",IF(OR(AK948>0,VLOOKUP(O948,EventConfig!A:C,3,FALSE)=4),3,\"\"),1)))","v":1},605303,null,6109,6053]
[{"$f":"O949*100+P949","v":605303},6107,"收集甜蜜果实","",{"$nulls":5},7,{"$f":"IF(J949=\"\",\"\",VLOOKUP(J949,EventNPC!A:F,6,FALSE))","v":"疯道人"},6110,"我游荡多年，有人说我聪明，有人说我糊涂。可聪明糊涂，又有何区别？",null,6053,3,{"$f":"_xlfn.TEXTJOIN(\";\",1,R949:S949)","v":""},null,null,{"$f":"IF(R949=\"\",\"\",\"-\"&VLOOKUP(R949,EventConditionConfig!A:C,3,FALSE)&IF(S949=\"\",\"\",CHAR(10)&\"-\"&VLOOKUP(S949,EventConditionConfig!A:C,3,FALSE)))","v":""},{"$f":"IF(Y949=\"\",\"\",IF(ISTEXT(Y949),1,2))","v":1},"605304","6111",6111,"别人怎么评,前辈真不放在心上？",null,"",null,null,"",{"$nulls":4},{"$f":"IF(A949=\"\",\"\",IF(ISNUMBER(Y949),2,IF(A950=\"\",IF(OR(AK949>0,VLOOKUP(O949,EventConfig!A:C,3,FALSE)=4),3,\"\"),1)))","v":1},605304,null,6111,6053]
[{"$f":"O950*100+P950","v":605304},6107,"收集甜蜜果实","",{"$nulls":5},7,{"$f":"IF(J950=\"\",\"\",VLOOKUP(J950,EventNPC!A:F,6,FALSE))","v":"疯道人"},6112,"不会。",null,6053,4,{"$f":"_xlfn.TEXTJOIN(\";\",1,R950:S950)","v":""},null,null,{"$f":"IF(R950=\"\",\"\",\"-\"&VLOOKUP(R950,EventConditionConfig!A:C,3,FALSE)&IF(S950=\"\",\"\",CHAR(10)&\"-\"&VLOOKUP(S950,EventConditionConfig!A:C,3,FALSE)))","v":""},{"$f":"IF(Y950=\"\",\"\",IF(ISTEXT(Y950),1,2))","v":""},"","","",null,null,"",null,null,"",{"$nulls":4},{"$f":"IF(A950=\"\",\"\",IF(ISNUMBER(Y950),2,IF(A951=\"\",IF(OR(AK950>0,VLOOKUP(O950,EventConfig!A:C,3,FALSE)=4),3,\"\"),1)))","v":""},"",null,6112,6053]
[null,"",null,"",{"$nulls":6},{"$f":"IF(J951=\"\",\"\",VLOOKUP(J951,EventNPC!A:F,6,FALSE))","v":""},"",{"$nulls":9},"","","",null,null,"",null,null,"",{"$nulls":4},{"$f":"IF(A951=\"\",\"\",IF(ISNUMBER(Y951),2,IF(A952=\"\",IF(OR(AK951>0,VLOOKUP(O951,EventConfig!A:C,3,FALSE)=4),3,\"\"),1)))","v":""},"",null,"",0]
[{"$f":"O952*100+P952","v":605401},6113,"搜集灵石","",{"$nulls":5},7,{"$f":"IF(J952=\"\",\"\",VLOOKUP(J952,EventNPC!A:F,6,FALSE))","v":"疯道人"},6114,"最近灵石都花光了，能否借我一下。",null,6054,{"$f":"IF(O952=\"\",\"\",IF(O952=O951,P951+1,1))","v":1},{"$f":"_xlfn.TEXTJOIN(\";\",1,R952:S952)","v":""},null,null,{"$f":"IF(R952=\"\",\"\",\"-\"&VLOOKUP(R952,EventConditionConfig!A:C,3,FALSE)&IF(S952=\"\",\"\",CHAR(10)&\"-\"&VLOOKUP(S952,EventConditionConfig!A:C,3,FALSE)))","v":""},{"$f":"IF(Y952=\"\",\"\",IF(ISTEXT(Y952),1,2))","v":1},"605402;605403","6115;6116",6115,"给",{"$f":"A953","v":605402},6116,"不给",{"$f":"A954","v":605403},"",null,{"$f":"D954","v":""},null,null,{"$f":"IF(A952=\"\",\"\",IF(ISNUMBER(Y952),2,IF(A953=\"\",IF(OR(AK952>0,VLOOKUP(O952,EventConfig!A:C,3,FALSE)=4),3,\"\"),1)))","v":1},605402,null,6116,6054]
[{"$f":"O953*100+P953","v":605402},6113,"搜集灵石","",{"$nulls":5},7,{"$f":"IF(J953=\"\",\"\",VLOOKUP(J953,EventNPC!A:F,6,FALSE))","v":"疯道人"},6117,"（融入稳身，点头）多谢。",null,6054,{"$f":"IF(O953=\"\",\"\",IF(O953=O952,P952+1,1))","v":2},{"$f":"_xlfn.TEXTJOIN(\";\",1,R953:S953)","v":""},null,null,{"$f":"IF(R953=\"\",\"\",\"-\"&VLOOKUP(R953,EventConditionConfig!A:C,3,FALSE)&IF(S953=\"\",\"\",CHAR(10)&\"-\"&VLOOKUP(S953,EventConditionConfig!A:C,3,FALSE)))","v":""},{"$f":"IF(Y953=\"\",\"\",IF(ISTEXT(Y953),1,2))","v":""},"","","",null,null,"",null,null,"",{"$nulls":4},{"$f":"IF(A953=\"\",\"\",IF(ISNUMBER(Y953),2,IF(A954=\"\",IF(OR(AK953>0,VLOOKUP(O953,EventConfig!A:C,3,FALSE)=4),3,\"\"),1)))","v":1},605403,null,6117,6054]
[{"$f":"O954*100+P954","v":605403},6113,"搜集灵石","",{"$nulls":5},7,{"$f":"IF(J954=\"\",\"\",VLOOKUP(J954,EventNPC!A:F,6,FALSE))","v":"疯道人"},6118,"也罢，小友有我当年的气势，哈哈。",null,6054,{"$f":"IF(O954=\"\",\"\",IF(O954=O953,P953+1,1))","v":3},{"$f":"_xlfn.TEXTJOIN(\";\",1,R954:S954)","v":""},null,null,{"$f":"IF(R954=\"\",\"\",\"-\"&VLOOKUP(R954,EventConditionConfig!A:C,3,FALSE)&IF(S954=\"\",\"\",CHAR(10)&\"-\"&VLOOKUP(S954,EventConditionConfig!A:C,3,FALSE)))","v":""},{"$f":"IF(Y954=\"\",\"\",IF(ISTEXT(Y954),1,2))","v":""},"","","",null,null,"",null,null,"",{"$nulls":4},{"$f":"IF(A954=\"\",\"\",IF(ISNUMBER(Y954),2,IF(A955=\"\",IF(OR(AK954>0,VLOOKUP(O954,EventConfig!A:C,3,FALSE)=4),3,\"\"),1)))","v":1},605404,null,6118,6054]
[{"$f":"O955*100+P955","v":605404},6113,"搜集灵石","",{"$nulls":6},{"$f":"IF(J955=\"\",\"\",VLOOKUP(J955,EventNPC!A:F,6,FALSE))","v":""},6119,"（疯道人还是趁你不备顺走了你的一些灵石）虽然你发现了，但还是给前辈一个面子就此作罢。",null,6054,{"$f":"IF(O955=\"\",\"\",IF(O955=O954,P954+1,1))","v":4},{"$f":"_xlfn.TEXTJOIN(\";\",1,R955:S955)","v":""},null,null,{"$f":"IF(R955=\"\",\"\",\"-\"&VLOOKUP(R955,EventConditionConfig!A:C,3,FALSE)&IF(S955=\"\",\"\",CHAR(10)&\"-\"&VLOOKUP(S955,EventConditionConfig!A:C,3,FALSE)))","v":""},{"$f":"IF(Y955=\"\",\"\",IF(ISTEXT(Y955),1,2))","v":""},"","","",null,null,"",null,null,"",{"$nulls":4},{"$f":"IF(A955=\"\",\"\",IF(ISNUMBER(Y955),2,IF(A956=\"\",IF(OR(AK955>0,VLOOKUP(O955,EventConfig!A:C,3,FALSE)=4),3,\"\"),1)))","v":""},"",null,6119,6054]
[null,"",null,"",{"$nulls":6},{"$f":"IF(J956=\"\",\"\",VLOOKUP(J956,EventNPC!A:F,6,FALSE))","v":""},"",{"$nulls":9},"","","",null,null,"",null,null,"",{"$nulls":4},{"$f":"IF(A956=\"\",\"\",IF(ISNUMBER(Y956),2,IF(A957=\"\",IF(OR(AK956>0,VLOOKUP(O956,EventConfig!A:C,3,FALSE)=4),3,\"\"),1)))","v":""},"",null,"",0]
[{"$f":"O957*100+P957","v":605501},6120,"搜集灵石","",{"$nulls":6},{"$f":"IF(J957=\"\",\"\",VLOOKUP(J957,EventNPC!A:F,6,FALSE))","v":""},6121,"你游历途中，发现疯道人正和一群凡人赌钱，还输的一塌糊涂…",null,6055,{"$f":"IF(O957=\"\",\"\",IF(O957=O956,P956+1,1))","v":1},{"$f":"_xlfn.TEXTJOIN(\";\",1,R957:S957)","v":""},null,null,{"$f":"IF(R957=\"\",\"\",\"-\"&VLOOKUP(R957,EventConditionConfig!A:C,3,FALSE)&IF(S957=\"\",\"\",CHAR(10)&\"-\"&VLOOKUP(S957,EventConditionConfig!A:C,3,FALSE)))","v":""},{"$f":"IF(Y957=\"\",\"\",IF(ISTEXT(Y957),1,2))","v":""},"","","",null,null,"",null,null,"",{"$nulls":4},{"$f":"IF(A957=\"\",\"\",IF(ISNUMBER(Y957),2,IF(A958=\"\",IF(OR(AK957>0,VLOOKUP(O957,EventConfig!A:C,3,FALSE)=4),3,\"\"),1)))","v":1},605502,null,6121,6055]
[605502,6120,"搜集灵石","",{"$nulls":5},7,{"$f":"IF(J958=\"\",\"\",VLOOKUP(J958,EventNPC!A:F,6,FALSE))","v":"疯道人"},6122,"小友，又见面了！",null,6055,2,"",null,null,{"$f":"IF(R958=\"\",\"\",\"-\"&VLOOKUP(R958,EventConditionConfig!A:C,3,FALSE)&IF(S958=\"\",\"\",CHAR(10)&\"-\"&VLOOKUP(S958,EventConditionConfig!A:C,3,FALSE)))","v":""},1,"605503","6123",6123,"前辈你！？我借你的钱，都拿去和人赌博了？？",null,"",null,null,"",{"$nulls":4},{"$f":"IF(A958=\"\",\"\",IF(ISNUMBER(Y958),2,IF(A959=\"\",IF(OR(AK958>0,VLOOKUP(O958,EventConfig!A:C,3,FALSE)=4),3,\"\"),1)))","v":1},605503,null,6123,6055]
[605503,6120,"搜集灵石","",{"$nulls":5},7,{"$f":"IF(J959=\"\",\"\",VLOOKUP(J959,EventNPC!A:F,6,FALSE))","v":"疯道人"},6124,"不错，手气不好，小友不如再借我2000灵石，我很快就翻本了。",null,6055,3,"",null,null,{"$f":"IF(R959=\"\",\"\",\"-\"&VLOOKUP(R959,EventConditionConfig!A:C,3,FALSE)&IF(S959=\"\",\"\",CHAR(10)&\"-\"&VLOOKUP(S959,EventConditionConfig!A:C,3,FALSE)))","v":""},1,"605504","6125",6125,"（愤怒）太过分了，居然骗我钱。。",null,"",null,null,"",{"$nulls":4},{"$f":"IF(A959=\"\",\"\",IF(ISNUMBER(Y959),2,IF(A960=\"\",IF(OR(AK959>0,VLOOKUP(O959,EventConfig!A:C,3,FALSE)=4),3,\"\"),1)))","v":1},605504,null,6125,6055]
[605504,6120,"搜集灵石","",{"$nulls":5},7,{"$f":"IF(J960=\"\",\"\",VLOOKUP(J960,EventNPC!A:F,6,FALSE))","v":"疯道人"},6126,"小友，有话好好说，我可没骗你。\n你上次不也没问我借钱干嘛呀。",null,6055,4,"",null,null,{"$f":"IF(R960=\"\",\"\",\"-\"&VLOOKUP(R960,EventConditionConfig!A:C,3,FALSE)&IF(S960=\"\",\"\",CHAR(10)&\"-\"&VLOOKUP(S960,EventConditionConfig!A:C,3,FALSE)))","v":""},1,"605505","6127",6127,"还在狡辩，看招。",null,"",null,null,"",{"$nulls":4},{"$f":"IF(A960=\"\",\"\",IF(ISNUMBER(Y960),2,IF(A961=\"\",IF(OR(AK960>0,VLOOKUP(O960,EventConfig!A:C,3,FALSE)=4),3,\"\"),1)))","v":1},605505,null,6127,6055]
[605505,6128,"击败疯道人","",{"$nulls":6},{"$f":"IF(J961=\"\",\"\",VLOOKUP(J961,EventNPC!A:F,6,FALSE))","v":""},"",null,null,6055,5,"",null,null,{"$f":"IF(R961=\"\",\"\",\"-\"&VLOOKUP(R961,EventConditionConfig!A:C,3,FALSE)&IF(S961=\"\",\"\",CHAR(10)&\"-\"&VLOOKUP(S961,EventConditionConfig!A:C,3,FALSE)))","v":""},2,3015,"","",3015,null,"",null,null,"",{"$nulls":4},{"$f":"IF(A961=\"\",\"\",IF(ISNUMBER(Y961),2,IF(A962=\"\",IF(OR(AK961>0,VLOOKUP(O961,EventConfig!A:C,3,FALSE)=4),3,\"\"),1)))","v":2},"605506;101",null,6128,6055]
[605506,6128,"击败疯道人","",{"$nulls":6},{"$f":"IF(J962=\"\",\"\",VLOOKUP(J962,EventNPC!A:F,6,FALSE))","v":""},6129,"你击败了疯道人。",null,6055,6,"",null,null,{"$f":"IF(R962=\"\",\"\",\"-\"&VLOOKUP(R962,EventConditionConfig!A:C,3,FALSE)&IF(S962=\"\",\"\",CHAR(10)&\"-\"&VLOOKUP(S962,EventConditionConfig!A:C,3,FALSE)))","v":""},"","","","",null,null,"",null,null,"",{"$nulls":4},{"$f":"IF(A962=\"\",\"\",IF(ISNUMBER(Y962),2,IF(A963=\"\",IF(OR(AK962>0,VLOOKUP(O962,EventConfig!A:C,3,FALSE)=4),3,\"\"),1)))","v":""},"",null,6129,6055]
[null,"",null,"",{"$nulls":6},{"$f":"IF(J963=\"\",\"\",VLOOKUP(J963,EventNPC!A:F,6,FALSE))","v":""},"",{"$nulls":9},"","","",null,null,"",null,null,"",{"$nulls":4},{"$f":"IF(A963=\"\",\"\",IF(ISNUMBER(Y963),2,IF(A964=\"\",IF(OR(AK963>0,VLOOKUP(O963,EventConfig!A:C,3,FALSE)=4),3,\"\"),1)))","v":""},"",null,"",0]
[{"$f":"O964*100+P964","v":911101},6130,"和渔民们对话，了解渔民遇到什么困难","",{"$nulls":5},126,{"$f":"IF(J964=\"\",\"\",VLOOKUP(J964,EventNPC!A:F,6,FALSE))","v":"老张"},6131,"（紧张）你是路过的仙师吧？我们渔村遭了大难！",null,9111,{"$f":"IF(O964=\"\",\"\",IF(O964=O963,P963+1,1))","v":1},{"$f":"_xlfn.TEXTJOIN(\";\",1,R964:S964)","v":""},null,null,{"$f":"IF(R964=\"\",\"\",\"-\"&VLOOKUP(R964,EventConditionConfig!A:C,3,FALSE)&IF(S964=\"\",\"\",CHAR(10)&\"-\"&VLOOKUP(S964,EventConditionConfig!A:C,3,FALSE)))","v":""},{"$f":"IF(Y964=\"\",\"\",IF(ISTEXT(Y964),1,2))","v":""},"","","",null,null,"",null,null,"",{"$nulls":4},{"$f":"IF(A964=\"\",\"\",IF(ISNUMBER(Y964),2,IF(A965=\"\",IF(OR(AK964>0,VLOOKUP(O964,EventConfig!A:C,3,FALSE)=4),3,\"\"),1)))","v":1},911102,null,6131,9111]
[911102,6130,"和渔民们对话，了解渔民遇到什么困难","",{"$nulls":5},126,{"$f":"IF(J965=\"\",\"\",VLOOKUP(J965,EventNPC!A:F,6,FALSE))","v":"老张"},{"$f":"IF(M965=\"\",\"\",MAX(AL964,AL963,B965,D965)+1)","v":6132},"这几晚，海面亮得像铺了星辰，渔民出海就被水鬼缠上，网破船翻，连老李的儿子都失踪了！",null,9111,2,"",null,null,{"$f":"IF(R965=\"\",\"\",\"-\"&VLOOKUP(R965,EventConditionConfig!A:C,3,FALSE)&IF(S965=\"\",\"\",CHAR(10)&\"-\"&VLOOKUP(S965,EventConditionConfig!A:C,3,FALSE)))","v":""},"","","","",null,null,"",null,null,"",{"$nulls":4},{"$f":"IF(A965=\"\",\"\",IF(ISNUMBER(Y965),2,IF(A966=\"\",IF(OR(AK965>0,VLOOKUP(O965,EventConfig!A:C,3,FALSE)=4),3,\"\"),1)))","v":1},911103,null,6132,9111]
[911103,6130,"和渔民们对话，了解渔民遇到什么困难",{"$f":"IF(E966=\"\",\"\",IF(E966=E965,D965,MAX(AL965,AL964,B966)+1))","v":""},{"$nulls":5},126,{"$f":"IF(J966=\"\",\"\",VLOOKUP(J966,EventNPC!A:F,6,FALSE))","v":"老张"},6133,"仙师，求你帮帮我们，查查这怪事！",null,9111,3,"",null,null,{"$f":"IF(R966=\"\",\"\",\"-\"&VLOOKUP(R966,EventConditionConfig!A:C,3,FALSE)&IF(S966=\"\",\"\",CHAR(10)&\"-\"&VLOOKUP(S966,EventConditionConfig!A:C,3,FALSE)))","v":""},1,"911104;911107","6134;6135",6134,"妖物袭击？能否说说具体情况？",{"$f":"A967","v":911104},6135,"听起来很严重，我会尽力帮你们查明真相！",{"$f":"A970","v":911107},"",null,{"$f":"D970","v":""},null,null,{"$f":"IF(A966=\"\",\"\",IF(ISNUMBER(Y966),2,IF(A967=\"\",IF(OR(AK966>0,VLOOKUP(O966,EventConfig!A:C,3,FALSE)=4),3,\"\"),1)))","v":1},911104,null,6135,9111]
[911104,6130,"和渔民们对话，了解渔民遇到什么困难","",{"$nulls":5},126,{"$f":"IF(J967=\"\",\"\",VLOOKUP(J967,EventNPC!A:F,6,FALSE))","v":"老张"},6136,"唉，三天前开始，每到子时，海面就泛起蓝光，像有灵宝出世。",null,9111,4,"",null,null,{"$f":"IF(R967=\"\",\"\",\"-\"&VLOOKUP(R967,EventConditionConfig!A:C,3,FALSE)&IF(S967=\"\",\"\",CHAR(10)&\"-\"&VLOOKUP(S967,EventConditionConfig!A:C,3,FALSE)))","v":""},"","","","",null,null,"",null,null,"",{"$nulls":4},{"$f":"IF(A967=\"\",\"\",IF(ISNUMBER(Y967),2,IF(A968=\"\",IF(OR(AK967>0,VLOOKUP(O967,EventConfig!A:C,3,FALSE)=4),3,\"\"),1)))","v":1},911105,null,6136,9111]
[911105,6130,"和渔民们对话，了解渔民遇到什么困难","",{"$nulls":5},126,{"$f":"IF(J968=\"\",\"\",VLOOKUP(J968,EventNPC!A:F,6,FALSE))","v":"老张"},6137,"可渔民靠近就被水鬼拖下水，尖叫声传遍村子。",null,9111,5,"",null,null,{"$f":"IF(R968=\"\",\"\",\"-\"&VLOOKUP(R968,EventConditionConfig!A:C,3,FALSE)&IF(S968=\"\",\"\",CHAR(10)&\"-\"&VLOOKUP(S968,EventConditionConfig!A:C,3,FALSE)))","v":""},"","","","",null,null,"",null,null,"",{"$nulls":4},{"$f":"IF(A968=\"\",\"\",IF(ISNUMBER(Y968),2,IF(A969=\"\",IF(OR(AK968>0,VLOOKUP(O968,EventConfig!A:C,3,FALSE)=4),3,\"\"),1)))","v":1},911106,null,{"$f":"IF(A968=\"\",\"\",MAX(B968,D968,L968,X968,AA968,AL967,AL966,AD968))","v":6137},{"$f":"O968","v":9111}]
[911106,6130,"和渔民们对话，了解渔民遇到什么困难","",{"$nulls":5},126,{"$f":"IF(J969=\"\",\"\",VLOOKUP(J969,EventNPC!A:F,6,FALSE))","v":"老张"},6138,"老李的船回来时，上面全是抓痕，像是被妖兽挠的。我们怀疑是海灵发怒，可没人敢再出海了。",null,9111,6,"",null,null,{"$f":"IF(R969=\"\",\"\",\"-\"&VLOOKUP(R969,EventConditionConfig!A:C,3,FALSE)&IF(S969=\"\",\"\",CHAR(10)&\"-\"&VLOOKUP(S969,EventConditionConfig!A:C,3,FALSE)))","v":""},"","","","",null,null,"",null,null,"",{"$nulls":4},{"$f":"IF(A969=\"\",\"\",IF(ISNUMBER(Y969),2,IF(A970=\"\",IF(OR(AK969>0,VLOOKUP(O969,EventConfig!A:C,3,FALSE)=4),3,\"\"),1)))","v":1},911108,{"$f":"A971","v":911108},6138,9111]
[911107,6130,"和渔民们对话，了解渔民遇到什么困难","",{"$nulls":5},126,{"$f":"IF(J970=\"\",\"\",VLOOKUP(J970,EventNPC!A:F,6,FALSE))","v":"老张"},6139,"仙师仗义！我们这些凡人只能靠你了。。",null,9111,7,"",null,null,{"$f":"IF(R970=\"\",\"\",\"-\"&VLOOKUP(R970,EventConditionConfig!A:C,3,FALSE)&IF(S970=\"\",\"\",CHAR(10)&\"-\"&VLOOKUP(S970,EventConditionConfig!A:C,3,FALSE)))","v":""},"","","","",null,null,"",null,null,"",{"$nulls":4},{"$f":"IF(A970=\"\",\"\",IF(ISNUMBER(Y970),2,IF(A971=\"\",IF(OR(AK970>0,VLOOKUP(O970,EventConfig!A:C,3,FALSE)=4),3,\"\"),1)))","v":1},911108,{"$f":"A971","v":911108},6139,9111]
[911108,6130,"和渔民们对话，了解渔民遇到什么困难","",{"$nulls":5},127,{"$f":"IF(J971=\"\",\"\",VLOOKUP(J971,EventNPC!A:F,6,FALSE))","v":"老李"},6140,"儿……我儿出海后就没回来！那天晚上，海水亮得吓人，像是鬼火。",null,9111,8,"",null,null,{"$f":"IF(R971=\"\",\"\",\"-\"&VLOOKUP(R971,EventConditionConfig!A:C,3,FALSE)&IF(S971=\"\",\"\",CHAR(10)&\"-\"&VLOOKUP(S971,EventConditionConfig!A:C,3,FALSE)))","v":""},"","","","",null,null,"",null,null,"",{"$nulls":4},{"$f":"IF(A971=\"\",\"\",IF(ISNUMBER(Y971),2,IF(A972=\"\",IF(OR(AK971>0,VLOOKUP(O971,EventConfig!A:C,3,FALSE)=4),3,\"\"),1)))","v":1},911109,null,6140,9111]
[911109,6130,"和渔民们对话，了解渔民遇到什么困难","",{"$nulls":5},127,{"$f":"IF(J972=\"\",\"\",VLOOKUP(J972,EventNPC!A:F,6,FALSE))","v":"老李"},6141,"他船上留了这块鳞片，你看看，是不是妖物留下的？",null,9111,9,"",null,null,{"$f":"IF(R972=\"\",\"\",\"-\"&VLOOKUP(R972,EventConditionConfig!A:C,3,FALSE)&IF(S972=\"\",\"\",CHAR(10)&\"-\"&VLOOKUP(S972,EventConditionConfig!A:C,3,FALSE)))","v":""},"","",{"$f":"_xlfn.TEXTJOIN(\";\",1,X972,AA972,AD972)","v":""},{"$f":"IF(OR(ISNUMBER(Y972),Y972=\"\"),\"\",MAX(AL971,AL969,B972,D972,L972)+1)","v":""},null,null,{"$f":"IF(OR(ISNUMBER(AB972),AB972=\"\"),\"\",X972+1)","v":""},null,null,"",{"$nulls":4},{"$f":"IF(A972=\"\",\"\",IF(ISNUMBER(Y972),2,IF(A973=\"\",IF(OR(AK972>0,VLOOKUP(O972,EventConfig!A:C,3,FALSE)=4),3,\"\"),1)))","v":1},911110,null,6141,9111]
[911110,6130,"和渔民们对话，了解渔民遇到什么困难","",{"$nulls":5},100,{"$f":"IF(J973=\"\",\"\",VLOOKUP(J973,EventNPC!A:F,6,FALSE))","v":"玩家"},6142,"（接过鳞片）此物我也未曾见过，应该是妖怪所留。",null,9111,10,"",null,null,{"$f":"IF(R973=\"\",\"\",\"-\"&VLOOKUP(R973,EventConditionConfig!A:C,3,FALSE)&IF(S973=\"\",\"\",CHAR(10)&\"-\"&VLOOKUP(S973,EventConditionConfig!A:C,3,FALSE)))","v":""},"","","","",null,null,"",null,null,{"$f":"IF(OR(ISNUMBER(AE973),AE973=\"\"),\"\",AA973+1)","v":""},{"$nulls":4},{"$f":"IF(A973=\"\",\"\",IF(ISNUMBER(Y973),2,IF(A974=\"\",IF(OR(AK973>0,VLOOKUP(O973,EventConfig!A:C,3,FALSE)=4),3,\"\"),1)))","v":1},911111,null,6142,9111]
[911111,6130,"和渔民们对话，了解渔民遇到什么困难","",{"$nulls":5},127,{"$f":"IF(J974=\"\",\"\",VLOOKUP(J974,EventNPC!A:F,6,FALSE))","v":"老李"},6143,"这个鳞片你先拿着，我等凡人也看不出此物有何作用。也许对仙师对付妖物有用。",null,9111,11,"",null,null,{"$f":"IF(R974=\"\",\"\",\"-\"&VLOOKUP(R974,EventConditionConfig!A:C,3,FALSE)&IF(S974=\"\",\"\",CHAR(10)&\"-\"&VLOOKUP(S974,EventConditionConfig!A:C,3,FALSE)))","v":""},"",{"$f":"IF(U974=1,_xlfn.TEXTJOIN(\";\",1,IF(Z974=\"\",A974+1,Z974),IF(AND(AA974<>\"\",AC974=\"\"),A974+1,AC974),IF(AND(AD974<>\"\",AF974=\"\"),A974+1,AF974)),IF(U974=2,Y974,\"\"))","v":""},"","",null,null,"",null,null,"",{"$nulls":4},{"$f":"IF(A974=\"\",\"\",IF(ISNUMBER(Y974),2,IF(A975=\"\",IF(OR(AK974>0,VLOOKUP(O974,EventConfig!A:C,3,FALSE)=4),3,\"\"),1)))","v":1},{"$f":"IF(AI974=\"\",\"\",CHOOSE(AI974,IF(AK974=\"\",A974+1,AK974),CONCATENATE(IF(AK974=\"\",A974+1,AK974),\";101\"),IF(AK974=\"\",O974+1,AK974)))","v":911112},null,6143,9111]
[911112,6130,"和渔民们对话，了解渔民遇到什么困难","",{"$nulls":5},100,{"$f":"IF(J975=\"\",\"\",VLOOKUP(J975,EventNPC!A:F,6,FALSE))","v":"玩家"},6144,"好的，此物我先收下，你儿可有什么辨别之物？（玩家收下龙鳞，只感觉着龙鳞并非凡物）。",null,9111,12,"",null,null,{"$f":"IF(R975=\"\",\"\",\"-\"&VLOOKUP(R975,EventConditionConfig!A:C,3,FALSE)&IF(S975=\"\",\"\",CHAR(10)&\"-\"&VLOOKUP(S975,EventConditionConfig!A:C,3,FALSE)))","v":""},"","","","",null,null,"",null,null,"",{"$nulls":4},{"$f":"IF(A975=\"\",\"\",IF(ISNUMBER(Y975),2,IF(A976=\"\",IF(OR(AK975>0,VLOOKUP(O975,EventConfig!A:C,3,FALSE)=4),3,\"\"),1)))","v":1},911113,null,6144,9111]
[911113,6130,"和渔民们对话，了解渔民遇到什么困难","",{"$nulls":5},127,{"$f":"IF(J976=\"\",\"\",VLOOKUP(J976,EventNPC!A:F,6,FALSE))","v":"老李"},6145,"他脖子上带有我为他祈求的平安符。就是这种。（老李将平安符拿给玩家看）",null,9111,13,"",null,null,{"$f":"IF(R976=\"\",\"\",\"-\"&VLOOKUP(R976,EventConditionConfig!A:C,3,FALSE)&IF(S976=\"\",\"\",CHAR(10)&\"-\"&VLOOKUP(S976,EventConditionConfig!A:C,3,FALSE)))","v":""},"","","","",null,null,"",null,null,"",{"$nulls":4},{"$f":"IF(A976=\"\",\"\",IF(ISNUMBER(Y976),2,IF(A977=\"\",IF(OR(AK976>0,VLOOKUP(O976,EventConfig!A:C,3,FALSE)=4),3,\"\"),1)))","v":1},911114,null,6145,9111]
[911114,6130,"和渔民们对话，了解渔民遇到什么困难","",{"$nulls":5},100,{"$f":"IF(J977=\"\",\"\",VLOOKUP(J977,EventNPC!A:F,6,FALSE))","v":"玩家"},6146,"好的我前去查看一番。",null,9111,14,"",null,null,{"$f":"IF(R977=\"\",\"\",\"-\"&VLOOKUP(R977,EventConditionConfig!A:C,3,FALSE)&IF(S977=\"\",\"\",CHAR(10)&\"-\"&VLOOKUP(S977,EventConditionConfig!A:C,3,FALSE)))","v":""},"","","","",null,null,"",null,null,"",{"$nulls":4},{"$f":"IF(A977=\"\",\"\",IF(ISNUMBER(Y977),2,IF(A978=\"\",IF(OR(AK977>0,VLOOKUP(O977,EventConfig!A:C,3,FALSE)=4),3,\"\"),1)))","v":1},911115,null,6146,9111]
[911115,6130,"和渔民们对话，了解渔民遇到什么困难","",{"$nulls":5},127,{"$f":"IF(J978=\"\",\"\",VLOOKUP(J978,EventNPC!A:F,6,FALSE))","v":"老李"},6147,"他脖子上带有我为他祈求的平安符。就是这种。（老李将平安符拿给玩家看）",null,9111,15,"",null,null,{"$f":"IF(R978=\"\",\"\",\"-\"&VLOOKUP(R978,EventConditionConfig!A:C,3,FALSE)&IF(S978=\"\",\"\",CHAR(10)&\"-\"&VLOOKUP(S978,EventConditionConfig!A:C,3,FALSE)))","v":""},"","","","",null,null,"",null,null,"",{"$nulls":4},{"$f":"IF(A978=\"\",\"\",IF(ISNUMBER(Y978),2,IF(A979=\"\",IF(OR(AK978>0,VLOOKUP(O978,EventConfig!A:C,3,FALSE)=4),3,\"\"),1)))","v":1},911116,null,6147,9111]
[911116,6130,"和渔民们对话，了解渔民遇到什么困难","",{"$nulls":5},126,{"$f":"IF(J979=\"\",\"\",VLOOKUP(J979,EventNPC!A:F,6,FALSE))","v":"老张"},6148,"仙师这是村里前几日在后山发现的一点灵石希望仙师能手下。",null,9111,16,"",null,null,{"$f":"IF(R979=\"\",\"\",\"-\"&VLOOKUP(R979,EventConditionConfig!A:C,3,FALSE)&IF(S979=\"\",\"\",CHAR(10)&\"-\"&VLOOKUP(S979,EventConditionConfig!A:C,3,FALSE)))","v":""},"","","","",null,null,"",null,null,"",{"$nulls":4},{"$f":"IF(A979=\"\",\"\",IF(ISNUMBER(Y979),2,IF(A980=\"\",IF(OR(AK979>0,VLOOKUP(O979,EventConfig!A:C,3,FALSE)=4),3,\"\"),1)))","v":""},"",null,6148,9111]
[null,"",null,"",{"$nulls":6},{"$f":"IF(J980=\"\",\"\",VLOOKUP(J980,EventNPC!A:F,6,FALSE))","v":""},"",{"$nulls":9},"","","",null,null,"",null,null,"",{"$nulls":4},{"$f":"IF(A980=\"\",\"\",IF(ISNUMBER(Y980),2,IF(A981=\"\",IF(OR(AK980>0,VLOOKUP(O980,EventConfig!A:C,3,FALSE)=4),3,\"\"),1)))","v":""},"",null,"",0]
[{"$f":"O981*100+P981","v":911201},6149,"战胜妖物","",{"$nulls":5},128,{"$f":"IF(J981=\"\",\"\",VLOOKUP(J981,EventNPC!A:F,6,FALSE))","v":"敌人"},6150,"（有一点愤怒）上一个傀儡刚炼制好又有人前来送死了。",null,9112,{"$f":"IF(O981=\"\",\"\",IF(O981=O980,P980+1,1))","v":1},{"$f":"_xlfn.TEXTJOIN(\";\",1,R981:S981)","v":""},null,null,{"$f":"IF(R981=\"\",\"\",\"-\"&VLOOKUP(R981,EventConditionConfig!A:C,3,FALSE)&IF(S981=\"\",\"\",CHAR(10)&\"-\"&VLOOKUP(S981,EventConditionConfig!A:C,3,FALSE)))","v":""},{"$f":"IF(Y981=\"\",\"\",IF(ISTEXT(Y981),1,2))","v":""},"","","",null,null,"",null,null,"",{"$nulls":4},{"$f":"IF(A981=\"\",\"\",IF(ISNUMBER(Y981),2,IF(A982=\"\",IF(OR(AK981>0,VLOOKUP(O981,EventConfig!A:C,3,FALSE)=4),3,\"\"),1)))","v":1},911202,null,6150,9112]
[911202,6149,"战胜妖物","",{"$nulls":5},128,{"$f":"IF(J982=\"\",\"\",VLOOKUP(J982,EventNPC!A:F,6,FALSE))","v":"敌人"},6151,"（惊讶）龙鳞的气息……归还！归还！",null,9112,2,"",null,null,{"$f":"IF(R982=\"\",\"\",\"-\"&VLOOKUP(R982,EventConditionConfig!A:C,3,FALSE)&IF(S982=\"\",\"\",CHAR(10)&\"-\"&VLOOKUP(S982,EventConditionConfig!A:C,3,FALSE)))","v":""},1,"911203;911204","6152;6153",6152,"什么龙鳞？我可没有！",{"$f":"A983","v":911203},6153,"为何要袭击村民？",{"$f":"A984","v":911204},"",null,{"$f":"D984","v":""},null,null,{"$f":"IF(A982=\"\",\"\",IF(ISNUMBER(Y982),2,IF(A983=\"\",IF(OR(AK982>0,VLOOKUP(O982,EventConfig!A:C,3,FALSE)=4),3,\"\"),1)))","v":1},911203,null,6153,9112]
[911203,6149,"战胜妖物","",{"$nulls":5},128,{"$f":"IF(J983=\"\",\"\",VLOOKUP(J983,EventNPC!A:F,6,FALSE))","v":"敌人"},6154,"没有？那我就杀了你在自己找。",null,9112,3,"",null,null,{"$f":"IF(R983=\"\",\"\",\"-\"&VLOOKUP(R983,EventConditionConfig!A:C,3,FALSE)&IF(S983=\"\",\"\",CHAR(10)&\"-\"&VLOOKUP(S983,EventConditionConfig!A:C,3,FALSE)))","v":""},2,4001,"","",4001,null,"",null,null,"",{"$nulls":4},{"$f":"IF(A983=\"\",\"\",IF(ISNUMBER(Y983),2,IF(A984=\"\",IF(OR(AK983>0,VLOOKUP(O983,EventConfig!A:C,3,FALSE)=4),3,\"\"),1)))","v":2},"911205;101",{"$f":"A985","v":911205},6154,9112]
[911204,6149,"战胜妖物","",{"$nulls":5},128,{"$f":"IF(J984=\"\",\"\",VLOOKUP(J984,EventNPC!A:F,6,FALSE))","v":"敌人"},6155,"尔等凡人竟敢打扰我沉睡，我要将尔等炼化成我的傀儡。交出龙鳞，我会让你死的痛快一点。",null,9112,4,"",null,null,{"$f":"IF(R984=\"\",\"\",\"-\"&VLOOKUP(R984,EventConditionConfig!A:C,3,FALSE)&IF(S984=\"\",\"\",CHAR(10)&\"-\"&VLOOKUP(S984,EventConditionConfig!A:C,3,FALSE)))","v":""},2,4001,"","",4001,null,"",null,null,"",{"$nulls":4},{"$f":"IF(A984=\"\",\"\",IF(ISNUMBER(Y984),2,IF(A985=\"\",IF(OR(AK984>0,VLOOKUP(O984,EventConfig!A:C,3,FALSE)=4),3,\"\"),1)))","v":2},"911205;101",{"$f":"A985","v":911205},6155,9112]
[911205,6149,"战胜妖物","",{"$nulls":5},100,{"$f":"IF(J985=\"\",\"\",VLOOKUP(J985,EventNPC!A:F,6,FALSE))","v":"玩家"},6156,"（玩家看着一旁的傀儡）着傀儡上的平安符和老李给我看的一模一样，难道老李的儿子被炼制成了傀儡。",null,9112,5,"",null,null,{"$f":"IF(R985=\"\",\"\",\"-\"&VLOOKUP(R985,EventConditionConfig!A:C,3,FALSE)&IF(S985=\"\",\"\",CHAR(10)&\"-\"&VLOOKUP(S985,EventConditionConfig!A:C,3,FALSE)))","v":""},"","","","",null,null,"",null,null,"",{"$nulls":4},{"$f":"IF(A985=\"\",\"\",IF(ISNUMBER(Y985),2,IF(A986=\"\",IF(OR(AK985>0,VLOOKUP(O985,EventConfig!A:C,3,FALSE)=4),3,\"\"),1)))","v":1},911206,null,6156,9112]
[911206,6149,"战胜妖物","",{"$nulls":5},100,{"$f":"IF(J986=\"\",\"\",VLOOKUP(J986,EventNPC!A:F,6,FALSE))","v":"玩家"},6157,"妖物说所龙鳞，难道是这个鳞片。（玩家将背包里的鳞片拿出来仔细观摩）",null,9112,6,"",null,null,{"$f":"IF(R986=\"\",\"\",\"-\"&VLOOKUP(R986,EventConditionConfig!A:C,3,FALSE)&IF(S986=\"\",\"\",CHAR(10)&\"-\"&VLOOKUP(S986,EventConditionConfig!A:C,3,FALSE)))","v":""},"","","","",null,null,"",null,null,"",{"$nulls":4},{"$f":"IF(A986=\"\",\"\",IF(ISNUMBER(Y986),2,IF(A987=\"\",IF(OR(AK986>0,VLOOKUP(O986,EventConfig!A:C,3,FALSE)=4),3,\"\"),1)))","v":1},911207,null,6157,9112]
[911207,6149,"战胜妖物","",{"$nulls":5},100,{"$f":"IF(J987=\"\",\"\",VLOOKUP(J987,EventNPC!A:F,6,FALSE))","v":"玩家"},6158,"先不管了，感觉妖物这么重视此物肯定有它的用处，先收下再说。",null,9112,7,"",null,null,{"$f":"IF(R987=\"\",\"\",\"-\"&VLOOKUP(R987,EventConditionConfig!A:C,3,FALSE)&IF(S987=\"\",\"\",CHAR(10)&\"-\"&VLOOKUP(S987,EventConditionConfig!A:C,3,FALSE)))","v":""},"","","","",null,null,"",null,null,"",{"$nulls":4},{"$f":"IF(A987=\"\",\"\",IF(ISNUMBER(Y987),2,IF(A988=\"\",IF(OR(AK987>0,VLOOKUP(O987,EventConfig!A:C,3,FALSE)=4),3,\"\"),1)))","v":""},"",null,6158,9112]
[null,"",null,"",{"$nulls":6},{"$f":"IF(J988=\"\",\"\",VLOOKUP(J988,EventNPC!A:F,6,FALSE))","v":""},"",{"$nulls":9},"","","",null,null,"",null,null,"",{"$nulls":4},{"$f":"IF(A988=\"\",\"\",IF(ISNUMBER(Y988),2,IF(A989=\"\",IF(OR(AK988>0,VLOOKUP(O988,EventConfig!A:C,3,FALSE)=4),3,\"\"),1)))","v":""},"",null,"",0]
[{"$f":"O989*100+P989","v":911301},6159,"完成和NPC的对话","",{"$nulls":5},126,{"$f":"IF(J989=\"\",\"\",VLOOKUP(J989,EventNPC!A:F,6,FALSE))","v":"老张"},6160,"（期待）仙师你回来，有什么结果吗？",null,9113,{"$f":"IF(O989=\"\",\"\",IF(O989=O988,P988+1,1))","v":1},{"$f":"_xlfn.TEXTJOIN(\";\",1,R989:S989)","v":""},null,null,{"$f":"IF(R989=\"\",\"\",\"-\"&VLOOKUP(R989,EventConditionConfig!A:C,3,FALSE)&IF(S989=\"\",\"\",CHAR(10)&\"-\"&VLOOKUP(S989,EventConditionConfig!A:C,3,FALSE)))","v":""},{"$f":"IF(Y989=\"\",\"\",IF(ISTEXT(Y989),1,2))","v":""},"","","",null,null,"",null,null,"",{"$nulls":4},{"$f":"IF(A989=\"\",\"\",IF(ISNUMBER(Y989),2,IF(A990=\"\",IF(OR(AK989>0,VLOOKUP(O989,EventConfig!A:C,3,FALSE)=4),3,\"\"),1)))","v":1},911302,null,6160,9113]
[{"$f":"O990*100+P990","v":911302},6159,"完成和NPC的对话","",{"$nulls":5},100,{"$f":"IF(J990=\"\",\"\",VLOOKUP(J990,EventNPC!A:F,6,FALSE))","v":"玩家"},6161,"海上的水怪已被我消灭，在现场没有找到老李的儿子（不忍心告诉老李真相）。",null,9113,{"$f":"IF(O990=\"\",\"\",IF(O990=O989,P989+1,1))","v":2},{"$f":"_xlfn.TEXTJOIN(\";\",1,R990:S990)","v":""},null,null,{"$f":"IF(R990=\"\",\"\",\"-\"&VLOOKUP(R990,EventConditionConfig!A:C,3,FALSE)&IF(S990=\"\",\"\",CHAR(10)&\"-\"&VLOOKUP(S990,EventConditionConfig!A:C,3,FALSE)))","v":""},{"$f":"IF(Y990=\"\",\"\",IF(ISTEXT(Y990),1,2))","v":""},"","","",null,null,"",null,null,"",{"$nulls":4},{"$f":"IF(A990=\"\",\"\",IF(ISNUMBER(Y990),2,IF(A991=\"\",IF(OR(AK990>0,VLOOKUP(O990,EventConfig!A:C,3,FALSE)=4),3,\"\"),1)))","v":1},911303,null,6161,9113]
[{"$f":"O991*100+P991","v":911303},6159,"完成和NPC的对话","",{"$nulls":5},100,{"$f":"IF(J991=\"\",\"\",VLOOKUP(J991,EventNPC!A:F,6,FALSE))","v":"玩家"},6162,"这是在现场找到的平安符。（玩家将平安符交给老李）。",null,9113,{"$f":"IF(O991=\"\",\"\",IF(O991=O990,P990+1,1))","v":3},{"$f":"_xlfn.TEXTJOIN(\";\",1,R991:S991)","v":""},null,null,{"$f":"IF(R991=\"\",\"\",\"-\"&VLOOKUP(R991,EventConditionConfig!A:C,3,FALSE)&IF(S991=\"\",\"\",CHAR(10)&\"-\"&VLOOKUP(S991,EventConditionConfig!A:C,3,FALSE)))","v":""},{"$f":"IF(Y991=\"\",\"\",IF(ISTEXT(Y991),1,2))","v":""},"","","",null,null,"",null,null,"",{"$nulls":4},{"$f":"IF(A991=\"\",\"\",IF(ISNUMBER(Y991),2,IF(A992=\"\",IF(OR(AK991>0,VLOOKUP(O991,EventConfig!A:C,3,FALSE)=4),3,\"\"),1)))","v":1},911304,null,6162,9113]
[{"$f":"O992*100+P992","v":911304},6159,"完成和NPC的对话","",{"$nulls":5},127,{"$f":"IF(J992=\"\",\"\",VLOOKUP(J992,EventNPC!A:F,6,FALSE))","v":"老李"},6163,"（收下平安福后眼泪不经意间落下，也许他已经知道了结果）谢谢仙师。（能够从老李的表情中看出心里非常的痛苦）",null,9113,{"$f":"IF(O992=\"\",\"\",IF(O992=O991,P991+1,1))","v":4},{"$f":"_xlfn.TEXTJOIN(\";\",1,R992:S992)","v":""},null,null,{"$f":"IF(R992=\"\",\"\",\"-\"&VLOOKUP(R992,EventConditionConfig!A:C,3,FALSE)&IF(S992=\"\",\"\",CHAR(10)&\"-\"&VLOOKUP(S992,EventConditionConfig!A:C,3,FALSE)))","v":""},{"$f":"IF(Y992=\"\",\"\",IF(ISTEXT(Y992),1,2))","v":""},"","","",null,null,"",null,null,"",{"$nulls":4},{"$f":"IF(A992=\"\",\"\",IF(ISNUMBER(Y992),2,IF(A993=\"\",IF(OR(AK992>0,VLOOKUP(O992,EventConfig!A:C,3,FALSE)=4),3,\"\"),1)))","v":1},911305,null,6163,9113]
[{"$f":"O993*100+P993","v":911305},6159,"完成和NPC的对话","",{"$nulls":5},126,{"$f":"IF(J993=\"\",\"\",VLOOKUP(J993,EventNPC!A:F,6,FALSE))","v":"老张"},6164,"仙师辛苦了，以后我等村民又可出海了。",null,9113,{"$f":"IF(O993=\"\",\"\",IF(O993=O992,P992+1,1))","v":5},{"$f":"_xlfn.TEXTJOIN(\";\",1,R993:S993)","v":""},null,null,{"$f":"IF(R993=\"\",\"\",\"-\"&VLOOKUP(R993,EventConditionConfig!A:C,3,FALSE)&IF(S993=\"\",\"\",CHAR(10)&\"-\"&VLOOKUP(S993,EventConditionConfig!A:C,3,FALSE)))","v":""},{"$f":"IF(Y993=\"\",\"\",IF(ISTEXT(Y993),1,2))","v":""},"","","",null,null,"",null,null,"",{"$nulls":4},{"$f":"IF(A993=\"\",\"\",IF(ISNUMBER(Y993),2,IF(A994=\"\",IF(OR(AK993>0,VLOOKUP(O993,EventConfig!A:C,3,FALSE)=4),3,\"\"),1)))","v":""},"",null,6164,9113]
[null,"",null,"",{"$nulls":6},{"$f":"IF(J994=\"\",\"\",VLOOKUP(J994,EventNPC!A:F,6,FALSE))","v":""},"",{"$nulls":9},"","","",null,null,"",null,null,"",{"$nulls":4},{"$f":"IF(A994=\"\",\"\",IF(ISNUMBER(Y994),2,IF(A995=\"\",IF(OR(AK994>0,VLOOKUP(O994,EventConfig!A:C,3,FALSE)=4),3,\"\"),1)))","v":""},"",null,"",0]
[{"$f":"O995*100+P995","v":911401},6165,"完成和NPC的对话","",{"$nulls":5},100,{"$f":"IF(J995=\"\",\"\",VLOOKUP(J995,EventNPC!A:F,6,FALSE))","v":"玩家"},6166,"前方怎么感觉阴森恐怖，似有鬼气环绕。",null,9114,{"$f":"IF(O995=\"\",\"\",IF(O995=O994,P994+1,1))","v":1},{"$f":"_xlfn.TEXTJOIN(\";\",1,R995:S995)","v":""},null,null,{"$f":"IF(R995=\"\",\"\",\"-\"&VLOOKUP(R995,EventConditionConfig!A:C,3,FALSE)&IF(S995=\"\",\"\",CHAR(10)&\"-\"&VLOOKUP(S995,EventConditionConfig!A:C,3,FALSE)))","v":""},{"$f":"IF(Y995=\"\",\"\",IF(ISTEXT(Y995),1,2))","v":""},"","","",null,null,"",null,null,"",{"$nulls":4},{"$f":"IF(A995=\"\",\"\",IF(ISNUMBER(Y995),2,IF(A996=\"\",IF(OR(AK995>0,VLOOKUP(O995,EventConfig!A:C,3,FALSE)=4),3,\"\"),1)))","v":1},911402,null,6166,9114]
[911402,6165,"完成和NPC的对话","",{"$nulls":5},129,{"$f":"IF(J996=\"\",\"\",VLOOKUP(J996,EventNPC!A:F,6,FALSE))","v":"灵姬"},6167,"（隔空传音）小道友留步，不要再向前走，前方怨魂盘踞，鬼气侵魂，非练气修士可前去。你初入仙途，为何踏入此地。",null,9114,2,"",null,null,{"$f":"IF(R996=\"\",\"\",\"-\"&VLOOKUP(R996,EventConditionConfig!A:C,3,FALSE)&IF(S996=\"\",\"\",CHAR(10)&\"-\"&VLOOKUP(S996,EventConditionConfig!A:C,3,FALSE)))","v":""},1,"911403;911404","6168;6169",6168,"前辈，晚辈寻灵草机缘，误入此地。",{"$f":"A997","v":911403},6169,"晚辈看前方有点异常前来探个究竟。",{"$f":"A998","v":911404},"",null,{"$f":"D998","v":""},null,null,{"$f":"IF(A996=\"\",\"\",IF(ISNUMBER(Y996),2,IF(A997=\"\",IF(OR(AK996>0,VLOOKUP(O996,EventConfig!A:C,3,FALSE)=4),3,\"\"),1)))","v":1},911403,null,6169,9114]
[911403,6165,"完成和NPC的对话","",{"$nulls":5},129,{"$f":"IF(J997=\"\",\"\",VLOOKUP(J997,EventNPC!A:F,6,FALSE))","v":"灵姬"},6170,"（好奇）哦？寻灵草机缘，却能察觉鬼气异常，灵识倒是不俗。",null,9114,3,"",null,null,{"$f":"IF(R997=\"\",\"\",\"-\"&VLOOKUP(R997,EventConditionConfig!A:C,3,FALSE)&IF(S997=\"\",\"\",CHAR(10)&\"-\"&VLOOKUP(S997,EventConditionConfig!A:C,3,FALSE)))","v":""},"","","","",null,null,"",null,null,"",{"$nulls":4},{"$f":"IF(A997=\"\",\"\",IF(ISNUMBER(Y997),2,IF(A998=\"\",IF(OR(AK997>0,VLOOKUP(O997,EventConfig!A:C,3,FALSE)=4),3,\"\"),1)))","v":1},911405,{"$f":"A999","v":911405},6170,9114]
[911404,6165,"完成和NPC的对话","",{"$nulls":5},129,{"$f":"IF(J998=\"\",\"\",VLOOKUP(J998,EventNPC!A:F,6,FALSE))","v":"灵姬"},6171,"前方乃古战场遗址，有不少上古战死怨魂在此处。",null,9114,4,"",null,null,{"$f":"IF(R998=\"\",\"\",\"-\"&VLOOKUP(R998,EventConditionConfig!A:C,3,FALSE)&IF(S998=\"\",\"\",CHAR(10)&\"-\"&VLOOKUP(S998,EventConditionConfig!A:C,3,FALSE)))","v":""},"","","","",null,null,"",null,null,"",{"$nulls":4},{"$f":"IF(A998=\"\",\"\",IF(ISNUMBER(Y998),2,IF(A999=\"\",IF(OR(AK998>0,VLOOKUP(O998,EventConfig!A:C,3,FALSE)=4),3,\"\"),1)))","v":1},911405,null,6171,9114]
[911405,6165,"完成和NPC的对话","",{"$nulls":5},129,{"$f":"IF(J999=\"\",\"\",VLOOKUP(J999,EventNPC!A:F,6,FALSE))","v":"灵姬"},6172,"此处有阵法封印，怨魂是不会逃出来的，近日怨魂躁动，若不平息，恐生事端。你若愿助，完成简易祭魂仪式，吾当赠你机缘。",null,9114,5,"",null,null,{"$f":"IF(R999=\"\",\"\",\"-\"&VLOOKUP(R999,EventConditionConfig!A:C,3,FALSE)&IF(S999=\"\",\"\",CHAR(10)&\"-\"&VLOOKUP(S999,EventConditionConfig!A:C,3,FALSE)))","v":""},1,"911406;911407","6173;6174",6173,"前辈为何不亲自平息？",{"$f":"A1000","v":911406},6174,"请前辈详述所需之物与仪式之法",{"$f":"A1001","v":911407},"",null,{"$f":"D1001","v":""},null,null,{"$f":"IF(A999=\"\",\"\",IF(ISNUMBER(Y999),2,IF(A1000=\"\",IF(OR(AK999>0,VLOOKUP(O999,EventConfig!A:C,3,FALSE)=4),3,\"\"),1)))","v":1},911406,null,6174,9114]
[911406,6165,"完成和NPC的对话","",{"$nulls":5},129,{"$f":"IF(J1000=\"\",\"\",VLOOKUP(J1000,EventNPC!A:F,6,FALSE))","v":"灵姬"},6175,"小道友，吾若能亲自动手，何须借你之力？吾魂体受古灯束缚，行动不得超出十丈，且魂力日渐衰弱，强行出手恐引魂灯崩解，怨魂暴动更甚。",null,9114,6,"",null,null,{"$f":"IF(R1000=\"\",\"\",\"-\"&VLOOKUP(R1000,EventConditionConfig!A:C,3,FALSE)&IF(S1000=\"\",\"\",CHAR(10)&\"-\"&VLOOKUP(S1000,EventConditionConfig!A:C,3,FALSE)))","v":""},"","","","",null,null,"",null,null,"",{"$nulls":4},{"$f":"IF(A1000=\"\",\"\",IF(ISNUMBER(Y1000),2,IF(A1001=\"\",IF(OR(AK1000>0,VLOOKUP(O1000,EventConfig!A:C,3,FALSE)=4),3,\"\"),1)))","v":1},911407,{"$f":"A1001","v":911407},6175,9114]
[911407,{"$f":"IF(C1001=\"\",\"\",IF(C1001=C1000,B1000,MAX(AL1000,AL999)+1))","v":6165},"完成和NPC的对话","",{"$nulls":5},129,{"$f":"IF(J1001=\"\",\"\",VLOOKUP(J1001,EventNPC!A:F,6,FALSE))","v":"灵姬"},6176,"祭魂仪式需幽魂石，幽魂石周围一般有野兽护之，还请小道友小心。你若带来我便能用此物修复阵法，不需要太多有3颗足以。",null,9114,7,"",null,null,{"$f":"IF(R1001=\"\",\"\",\"-\"&VLOOKUP(R1001,EventConditionConfig!A:C,3,FALSE)&IF(S1001=\"\",\"\",CHAR(10)&\"-\"&VLOOKUP(S1001,EventConditionConfig!A:C,3,FALSE)))","v":""},"","","","",null,null,"",null,null,"",{"$nulls":4},{"$f":"IF(A1001=\"\",\"\",IF(ISNUMBER(Y1001),2,IF(A1002=\"\",IF(OR(AK1001>0,VLOOKUP(O1001,EventConfig!A:C,3,FALSE)=4),3,\"\"),1)))","v":1},911408,null,6176,9114]
[911408,6165,"完成和NPC的对话","",{"$nulls":5},100,{"$f":"IF(J1002=\"\",\"\",VLOOKUP(J1002,EventNPC!A:F,6,FALSE))","v":"玩家"},6177,"晚辈这就前去收集。",null,9114,8,"",null,null,{"$f":"IF(R1002=\"\",\"\",\"-\"&VLOOKUP(R1002,EventConditionConfig!A:C,3,FALSE)&IF(S1002=\"\",\"\",CHAR(10)&\"-\"&VLOOKUP(S1002,EventConditionConfig!A:C,3,FALSE)))","v":""},"","","","",null,null,"",null,null,"",{"$nulls":4},{"$f":"IF(A1002=\"\",\"\",IF(ISNUMBER(Y1002),2,IF(A1003=\"\",IF(OR(AK1002>0,VLOOKUP(O1002,EventConfig!A:C,3,FALSE)=4),3,\"\"),1)))","v":""},"",null,6177,9114]
[null,"",null,"",{"$nulls":6},{"$f":"IF(J1003=\"\",\"\",VLOOKUP(J1003,EventNPC!A:F,6,FALSE))","v":""},"",{"$nulls":9},"","","",null,null,"",null,null,"",{"$nulls":4},{"$f":"IF(A1003=\"\",\"\",IF(ISNUMBER(Y1003),2,IF(A1004=\"\",IF(OR(AK1003>0,VLOOKUP(O1003,EventConfig!A:C,3,FALSE)=4),3,\"\"),1)))","v":""},"",null,"",0]
[{"$f":"O1004*100+P1004","v":911501},6178,"完成和NPC的对话","",{"$nulls":5},100,{"$f":"IF(J1004=\"\",\"\",VLOOKUP(J1004,EventNPC!A:F,6,FALSE))","v":"玩家"},6179,"看来这就是幽魂石的守护兽了，看招！",null,9115,{"$f":"IF(O1004=\"\",\"\",IF(O1004=O1003,P1003+1,1))","v":1},{"$f":"_xlfn.TEXTJOIN(\";\",1,R1004:S1004)","v":""},null,null,{"$f":"IF(R1004=\"\",\"\",\"-\"&VLOOKUP(R1004,EventConditionConfig!A:C,3,FALSE)&IF(S1004=\"\",\"\",CHAR(10)&\"-\"&VLOOKUP(S1004,EventConditionConfig!A:C,3,FALSE)))","v":""},{"$f":"IF(Y1004=\"\",\"\",IF(ISTEXT(Y1004),1,2))","v":2},4002,"","",4002,null,"",null,null,"",{"$nulls":4},{"$f":"IF(A1004=\"\",\"\",IF(ISNUMBER(Y1004),2,IF(A1005=\"\",IF(OR(AK1004>0,VLOOKUP(O1004,EventConfig!A:C,3,FALSE)=4),3,\"\"),1)))","v":2},"911502;101",null,6179,9115]
[{"$f":"O1005*100+P1005","v":911502},6178,"完成和NPC的对话","",{"$nulls":5},100,{"$f":"IF(J1005=\"\",\"\",VLOOKUP(J1005,EventNPC!A:F,6,FALSE))","v":"玩家"},6180,"看来这就是幽魂石了。",null,9115,{"$f":"IF(O1005=\"\",\"\",IF(O1005=O1004,P1004+1,1))","v":2},{"$f":"_xlfn.TEXTJOIN(\";\",1,R1005:S1005)","v":""},null,null,{"$f":"IF(R1005=\"\",\"\",\"-\"&VLOOKUP(R1005,EventConditionConfig!A:C,3,FALSE)&IF(S1005=\"\",\"\",CHAR(10)&\"-\"&VLOOKUP(S1005,EventConditionConfig!A:C,3,FALSE)))","v":""},{"$f":"IF(Y1005=\"\",\"\",IF(ISTEXT(Y1005),1,2))","v":""},"","","",null,null,"",null,null,"",{"$nulls":4},{"$f":"IF(A1005=\"\",\"\",IF(ISNUMBER(Y1005),2,IF(A1006=\"\",IF(OR(AK1005>0,VLOOKUP(O1005,EventConfig!A:C,3,FALSE)=4),3,\"\"),1)))","v":""},"",null,6180,9115]
[null,"",null,"",{"$nulls":6},{"$f":"IF(J1006=\"\",\"\",VLOOKUP(J1006,EventNPC!A:F,6,FALSE))","v":""},"",{"$nulls":9},"","","",null,null,"",null,null,"",{"$nulls":4},{"$f":"IF(A1006=\"\",\"\",IF(ISNUMBER(Y1006),2,IF(A1007=\"\",IF(OR(AK1006>0,VLOOKUP(O1006,EventConfig!A:C,3,FALSE)=4),3,\"\"),1)))","v":""},"",null,"",0]
[{"$f":"O1007*100+P1007","v":911601},6181,"完成和NPC的对话","",{"$nulls":5},129,{"$f":"IF(J1007=\"\",\"\",VLOOKUP(J1007,EventNPC!A:F,6,FALSE))","v":"灵姬"},6182,"（高兴）小道友，幽魂石已集齐，干得不错。速将幽魂石置于灯前，吾以魂力引渡怨魂，平息躁动。",null,9116,{"$f":"IF(O1007=\"\",\"\",IF(O1007=O1006,P1006+1,1))","v":1},{"$f":"_xlfn.TEXTJOIN(\";\",1,R1007:S1007)","v":""},null,null,{"$f":"IF(R1007=\"\",\"\",\"-\"&VLOOKUP(R1007,EventConditionConfig!A:C,3,FALSE)&IF(S1007=\"\",\"\",CHAR(10)&\"-\"&VLOOKUP(S1007,EventConditionConfig!A:C,3,FALSE)))","v":""},{"$f":"IF(Y1007=\"\",\"\",IF(ISTEXT(Y1007),1,2))","v":""},"","","",null,null,"",null,null,"",{"$nulls":4},{"$f":"IF(A1007=\"\",\"\",IF(ISNUMBER(Y1007),2,IF(A1008=\"\",IF(OR(AK1007>0,VLOOKUP(O1007,EventConfig!A:C,3,FALSE)=4),3,\"\"),1)))","v":1},911602,null,6182,9116]
[911602,6181,"完成和NPC的对话","",{"$nulls":5},129,{"$f":"IF(J1008=\"\",\"\",VLOOKUP(J1008,EventNPC!A:F,6,FALSE))","v":"灵姬"},6183,"此仪式简单，你只需护住灵识，勿被鬼气干扰，我将以守护之名完成镇压。",null,9116,2,"",null,null,{"$f":"IF(R1008=\"\",\"\",\"-\"&VLOOKUP(R1008,EventConditionConfig!A:C,3,FALSE)&IF(S1008=\"\",\"\",CHAR(10)&\"-\"&VLOOKUP(S1008,EventConditionConfig!A:C,3,FALSE)))","v":""},"","","","",null,null,"",null,null,"",{"$nulls":4},{"$f":"IF(A1008=\"\",\"\",IF(ISNUMBER(Y1008),2,IF(A1009=\"\",IF(OR(AK1008>0,VLOOKUP(O1008,EventConfig!A:C,3,FALSE)=4),3,\"\"),1)))","v":1},911603,null,6183,9116]
[911603,6181,"完成和NPC的对话","",{"$nulls":5},130,{"$f":"IF(J1009=\"\",\"\",VLOOKUP(J1009,EventNPC!A:F,6,FALSE))","v":"冤魂"},6184,"（愤怒）为何镇压封印我等！我为仙踪立下赫赫战功却落得如此下场。不甘！不甘！",null,9116,3,"",null,null,{"$f":"IF(R1009=\"\",\"\",\"-\"&VLOOKUP(R1009,EventConditionConfig!A:C,3,FALSE)&IF(S1009=\"\",\"\",CHAR(10)&\"-\"&VLOOKUP(S1009,EventConditionConfig!A:C,3,FALSE)))","v":""},"","","","",null,null,"",null,null,"",{"$nulls":4},{"$f":"IF(A1009=\"\",\"\",IF(ISNUMBER(Y1009),2,IF(A1010=\"\",IF(OR(AK1009>0,VLOOKUP(O1009,EventConfig!A:C,3,FALSE)=4),3,\"\"),1)))","v":1},911604,null,6184,9116]
[911604,6181,"完成和NPC的对话","",{"$nulls":5},129,{"$f":"IF(J1010=\"\",\"\",VLOOKUP(J1010,EventNPC!A:F,6,FALSE))","v":"灵姬"},6185,"（吃力）镇压你等非我所愿。",null,9116,4,"",null,null,{"$f":"IF(R1010=\"\",\"\",\"-\"&VLOOKUP(R1010,EventConditionConfig!A:C,3,FALSE)&IF(S1010=\"\",\"\",CHAR(10)&\"-\"&VLOOKUP(S1010,EventConditionConfig!A:C,3,FALSE)))","v":""},"","","","",null,null,"",null,null,"",{"$nulls":4},{"$f":"IF(A1010=\"\",\"\",IF(ISNUMBER(Y1010),2,IF(A1011=\"\",IF(OR(AK1010>0,VLOOKUP(O1010,EventConfig!A:C,3,FALSE)=4),3,\"\"),1)))","v":1},911605,null,6185,9116]
[911605,6181,"完成和NPC的对话","",{"$nulls":5},129,{"$f":"IF(J1011=\"\",\"\",VLOOKUP(J1011,EventNPC!A:F,6,FALSE))","v":"灵姬"},6186,"（对你说）怨魂怒气冲天，欲挣脱我镇压！小道友，守住心神，勿被其怒所惑！古灯之力，镇！",null,9116,5,"",null,null,{"$f":"IF(R1011=\"\",\"\",\"-\"&VLOOKUP(R1011,EventConditionConfig!A:C,3,FALSE)&IF(S1011=\"\",\"\",CHAR(10)&\"-\"&VLOOKUP(S1011,EventConditionConfig!A:C,3,FALSE)))","v":""},"","","","",null,null,"",null,null,"",{"$nulls":4},{"$f":"IF(A1011=\"\",\"\",IF(ISNUMBER(Y1011),2,IF(A1012=\"\",IF(OR(AK1011>0,VLOOKUP(O1011,EventConfig!A:C,3,FALSE)=4),3,\"\"),1)))","v":1},911606,null,6186,9116]
[911606,6181,"完成和NPC的对话","",{"$nulls":5},130,{"$f":"IF(J1012=\"\",\"\",VLOOKUP(J1012,EventNPC!A:F,6,FALSE))","v":"冤魂"},6187,"（愤怒）终有一日我将冲出此地杀上宗门。",null,9116,6,"",null,null,{"$f":"IF(R1012=\"\",\"\",\"-\"&VLOOKUP(R1012,EventConditionConfig!A:C,3,FALSE)&IF(S1012=\"\",\"\",CHAR(10)&\"-\"&VLOOKUP(S1012,EventConditionConfig!A:C,3,FALSE)))","v":""},"","","","",null,null,"",null,null,"",{"$nulls":4},{"$f":"IF(A1012=\"\",\"\",IF(ISNUMBER(Y1012),2,IF(A1013=\"\",IF(OR(AK1012>0,VLOOKUP(O1012,EventConfig!A:C,3,FALSE)=4),3,\"\"),1)))","v":1},911607,null,6187,9116]
[911607,6181,"完成和NPC的对话","",{"$nulls":5},129,{"$f":"IF(J1013=\"\",\"\",VLOOKUP(J1013,EventNPC!A:F,6,FALSE))","v":"灵姬"},6188,"仪式已成。",null,9116,7,"",null,null,{"$f":"IF(R1013=\"\",\"\",\"-\"&VLOOKUP(R1013,EventConditionConfig!A:C,3,FALSE)&IF(S1013=\"\",\"\",CHAR(10)&\"-\"&VLOOKUP(S1013,EventConditionConfig!A:C,3,FALSE)))","v":""},"","","","",null,null,"",null,null,"",{"$nulls":4},{"$f":"IF(A1013=\"\",\"\",IF(ISNUMBER(Y1013),2,IF(A1014=\"\",IF(OR(AK1013>0,VLOOKUP(O1013,EventConfig!A:C,3,FALSE)=4),3,\"\"),1)))","v":1},911608,null,6188,9116]
[911608,6181,"完成和NPC的对话","",{"$nulls":5},100,{"$f":"IF(J1014=\"\",\"\",VLOOKUP(J1014,EventNPC!A:F,6,FALSE))","v":"玩家"},6189,"此怨魂好像是仙踪之人为何要将他们镇压在此？",null,9116,8,"",null,null,{"$f":"IF(R1014=\"\",\"\",\"-\"&VLOOKUP(R1014,EventConditionConfig!A:C,3,FALSE)&IF(S1014=\"\",\"\",CHAR(10)&\"-\"&VLOOKUP(S1014,EventConditionConfig!A:C,3,FALSE)))","v":""},"","","","",null,null,"",null,null,"",{"$nulls":4},{"$f":"IF(A1014=\"\",\"\",IF(ISNUMBER(Y1014),2,IF(A1015=\"\",IF(OR(AK1014>0,VLOOKUP(O1014,EventConfig!A:C,3,FALSE)=4),3,\"\"),1)))","v":1},911609,null,6189,9116]
[911609,6181,"完成和NPC的对话","",{"$nulls":5},129,{"$f":"IF(J1015=\"\",\"\",VLOOKUP(J1015,EventNPC!A:F,6,FALSE))","v":"灵姬"},6190,"上古时期妖魔入侵，仙踪集合多位化神级人物在此处激战，最后将大部分妖魔斩杀在此处",null,9116,9,"",null,null,{"$f":"IF(R1015=\"\",\"\",\"-\"&VLOOKUP(R1015,EventConditionConfig!A:C,3,FALSE)&IF(S1015=\"\",\"\",CHAR(10)&\"-\"&VLOOKUP(S1015,EventConditionConfig!A:C,3,FALSE)))","v":""},"","","","",null,null,"",null,null,"",{"$nulls":4},{"$f":"IF(A1015=\"\",\"\",IF(ISNUMBER(Y1015),2,IF(A1016=\"\",IF(OR(AK1015>0,VLOOKUP(O1015,EventConfig!A:C,3,FALSE)=4),3,\"\"),1)))","v":1},911610,null,6190,9116]
[911610,6181,"完成和NPC的对话","",{"$nulls":5},129,{"$f":"IF(J1016=\"\",\"\",VLOOKUP(J1016,EventNPC!A:F,6,FALSE))","v":"灵姬"},6191,"但有一个魔物拥有不死之身，最后只能将他封印在此，此阵有镇魂之用，死去之人的魂魄也无法离开此地。",null,9116,10,"",null,null,{"$f":"IF(R1016=\"\",\"\",\"-\"&VLOOKUP(R1016,EventConditionConfig!A:C,3,FALSE)&IF(S1016=\"\",\"\",CHAR(10)&\"-\"&VLOOKUP(S1016,EventConditionConfig!A:C,3,FALSE)))","v":""},"","","","",null,null,"",null,null,"",{"$nulls":4},{"$f":"IF(A1016=\"\",\"\",IF(ISNUMBER(Y1016),2,IF(A1017=\"\",IF(OR(AK1016>0,VLOOKUP(O1016,EventConfig!A:C,3,FALSE)=4),3,\"\"),1)))","v":1},911611,null,6191,9116]
[911611,6181,"完成和NPC的对话","",{"$nulls":5},129,{"$f":"IF(J1017=\"\",\"\",VLOOKUP(J1017,EventNPC!A:F,6,FALSE))","v":"灵姬"},6192,"时间久了不少同门心生怨气。也许有一日能有其他办法帮助同门解脱平息他们的怨气。",null,9116,11,"",null,null,{"$f":"IF(R1017=\"\",\"\",\"-\"&VLOOKUP(R1017,EventConditionConfig!A:C,3,FALSE)&IF(S1017=\"\",\"\",CHAR(10)&\"-\"&VLOOKUP(S1017,EventConditionConfig!A:C,3,FALSE)))","v":""},"","","","",null,null,"",null,null,"",{"$nulls":4},{"$f":"IF(A1017=\"\",\"\",IF(ISNUMBER(Y1017),2,IF(A1018=\"\",IF(OR(AK1017>0,VLOOKUP(O1017,EventConfig!A:C,3,FALSE)=4),3,\"\"),1)))","v":1},911612,null,6192,9116]
[911612,6181,"完成和NPC的对话","",{"$nulls":5},129,{"$f":"IF(J1018=\"\",\"\",VLOOKUP(J1018,EventNPC!A:F,6,FALSE))","v":"灵姬"},6193,"你虽初入仙途，心性与胆识可嘉。近日又有缘在此处相遇，也许你能想到其他办法。",null,9116,12,"",null,null,{"$f":"IF(R1018=\"\",\"\",\"-\"&VLOOKUP(R1018,EventConditionConfig!A:C,3,FALSE)&IF(S1018=\"\",\"\",CHAR(10)&\"-\"&VLOOKUP(S1018,EventConditionConfig!A:C,3,FALSE)))","v":""},"","","","",null,null,"",null,null,"",{"$nulls":4},{"$f":"IF(A1018=\"\",\"\",IF(ISNUMBER(Y1018),2,IF(A1019=\"\",IF(OR(AK1018>0,VLOOKUP(O1018,EventConfig!A:C,3,FALSE)=4),3,\"\"),1)))","v":1},911613,null,6193,9116]
[911613,6181,"完成和NPC的对话","",{"$nulls":5},100,{"$f":"IF(J1019=\"\",\"\",VLOOKUP(J1019,EventNPC!A:F,6,FALSE))","v":"玩家"},6194,"谢谢前辈夸奖！",null,9116,13,"",null,null,{"$f":"IF(R1019=\"\",\"\",\"-\"&VLOOKUP(R1019,EventConditionConfig!A:C,3,FALSE)&IF(S1019=\"\",\"\",CHAR(10)&\"-\"&VLOOKUP(S1019,EventConditionConfig!A:C,3,FALSE)))","v":""},"","","","",null,null,"",null,null,"",{"$nulls":4},{"$f":"IF(A1019=\"\",\"\",IF(ISNUMBER(Y1019),2,IF(A1020=\"\",IF(OR(AK1019>0,VLOOKUP(O1019,EventConfig!A:C,3,FALSE)=4),3,\"\"),1)))","v":1},911614,null,6194,9116]
[911614,6181,"完成和NPC的对话","",{"$nulls":5},129,{"$f":"IF(J1020=\"\",\"\",VLOOKUP(J1020,EventNPC!A:F,6,FALSE))","v":"灵姬"},6195,"前几日有妖物前来此处被我击杀，我从它身上发现了龙鳞，现在我把他赠与你，也许有朝一日对你有帮助。",null,9116,14,"",null,null,{"$f":"IF(R1020=\"\",\"\",\"-\"&VLOOKUP(R1020,EventConditionConfig!A:C,3,FALSE)&IF(S1020=\"\",\"\",CHAR(10)&\"-\"&VLOOKUP(S1020,EventConditionConfig!A:C,3,FALSE)))","v":""},"","","","",null,null,"",null,null,"",{"$nulls":4},{"$f":"IF(A1020=\"\",\"\",IF(ISNUMBER(Y1020),2,IF(A1021=\"\",IF(OR(AK1020>0,VLOOKUP(O1020,EventConfig!A:C,3,FALSE)=4),3,\"\"),1)))","v":1},911615,null,6195,9116]
[911615,6181,"完成和NPC的对话","",{"$nulls":5},100,{"$f":"IF(J1021=\"\",\"\",VLOOKUP(J1021,EventNPC!A:F,6,FALSE))","v":"玩家"},6196,"龙鳞？前几日我也获得几个，这个有何作用？",null,9116,15,"",null,null,{"$f":"IF(R1021=\"\",\"\",\"-\"&VLOOKUP(R1021,EventConditionConfig!A:C,3,FALSE)&IF(S1021=\"\",\"\",CHAR(10)&\"-\"&VLOOKUP(S1021,EventConditionConfig!A:C,3,FALSE)))","v":""},"","","","",null,null,"",null,null,"",{"$nulls":4},{"$f":"IF(A1021=\"\",\"\",IF(ISNUMBER(Y1021),2,IF(A1022=\"\",IF(OR(AK1021>0,VLOOKUP(O1021,EventConfig!A:C,3,FALSE)=4),3,\"\"),1)))","v":1},911616,null,6196,9116]
[911616,6181,"完成和NPC的对话","",{"$nulls":5},129,{"$f":"IF(J1022=\"\",\"\",VLOOKUP(J1022,EventNPC!A:F,6,FALSE))","v":"灵姬"},6197,"（惊讶）获得几个？看来此物确实与你有缘哈哈。",null,9116,16,"",null,null,{"$f":"IF(R1022=\"\",\"\",\"-\"&VLOOKUP(R1022,EventConditionConfig!A:C,3,FALSE)&IF(S1022=\"\",\"\",CHAR(10)&\"-\"&VLOOKUP(S1022,EventConditionConfig!A:C,3,FALSE)))","v":""},"","","","",null,null,"",null,null,"",{"$nulls":4},{"$f":"IF(A1022=\"\",\"\",IF(ISNUMBER(Y1022),2,IF(A1023=\"\",IF(OR(AK1022>0,VLOOKUP(O1022,EventConfig!A:C,3,FALSE)=4),3,\"\"),1)))","v":1},911617,null,6197,9116]
[911617,6181,"完成和NPC的对话","",{"$nulls":5},129,{"$f":"IF(J1023=\"\",\"\",VLOOKUP(J1023,EventNPC!A:F,6,FALSE))","v":"灵姬"},6198,"龙鳞是上古龙族遗留下来的鳞片，相传此鳞片能开启前往龙族圣地的大门。相传圣地里有各种宝物。",null,9116,17,"",null,null,{"$f":"IF(R1023=\"\",\"\",\"-\"&VLOOKUP(R1023,EventConditionConfig!A:C,3,FALSE)&IF(S1023=\"\",\"\",CHAR(10)&\"-\"&VLOOKUP(S1023,EventConditionConfig!A:C,3,FALSE)))","v":""},"","","","",null,null,"",null,null,"",{"$nulls":4},{"$f":"IF(A1023=\"\",\"\",IF(ISNUMBER(Y1023),2,IF(A1024=\"\",IF(OR(AK1023>0,VLOOKUP(O1023,EventConfig!A:C,3,FALSE)=4),3,\"\"),1)))","v":1},911618,null,6198,9116]
[911618,6181,"完成和NPC的对话","",{"$nulls":5},100,{"$f":"IF(J1024=\"\",\"\",VLOOKUP(J1024,EventNPC!A:F,6,FALSE))","v":"玩家"},6199,"前辈可知圣地在何处？",null,9116,18,"",null,null,{"$f":"IF(R1024=\"\",\"\",\"-\"&VLOOKUP(R1024,EventConditionConfig!A:C,3,FALSE)&IF(S1024=\"\",\"\",CHAR(10)&\"-\"&VLOOKUP(S1024,EventConditionConfig!A:C,3,FALSE)))","v":""},"","","","",null,null,"",null,null,"",{"$nulls":4},{"$f":"IF(A1024=\"\",\"\",IF(ISNUMBER(Y1024),2,IF(A1025=\"\",IF(OR(AK1024>0,VLOOKUP(O1024,EventConfig!A:C,3,FALSE)=4),3,\"\"),1)))","v":1},911619,null,6199,9116]
[911619,6181,"完成和NPC的对话","",{"$nulls":5},129,{"$f":"IF(J1025=\"\",\"\",VLOOKUP(J1025,EventNPC!A:F,6,FALSE))","v":"灵姬"},6200,"龙族圣地大门开启的位置可遇不可求，没有多少人知道。这个只能靠你自己了。",null,9116,19,"",null,null,{"$f":"IF(R1025=\"\",\"\",\"-\"&VLOOKUP(R1025,EventConditionConfig!A:C,3,FALSE)&IF(S1025=\"\",\"\",CHAR(10)&\"-\"&VLOOKUP(S1025,EventConditionConfig!A:C,3,FALSE)))","v":""},"","","","",null,null,"",null,null,"",{"$nulls":4},{"$f":"IF(A1025=\"\",\"\",IF(ISNUMBER(Y1025),2,IF(A1026=\"\",IF(OR(AK1025>0,VLOOKUP(O1025,EventConfig!A:C,3,FALSE)=4),3,\"\"),1)))","v":1},911620,null,6200,9116]
[911620,6181,"完成和NPC的对话","",{"$nulls":5},100,{"$f":"IF(J1026=\"\",\"\",VLOOKUP(J1026,EventNPC!A:F,6,FALSE))","v":"玩家"},6201,"好的谢谢前辈，那晚辈告辞",null,9116,20,"",null,null,{"$f":"IF(R1026=\"\",\"\",\"-\"&VLOOKUP(R1026,EventConditionConfig!A:C,3,FALSE)&IF(S1026=\"\",\"\",CHAR(10)&\"-\"&VLOOKUP(S1026,EventConditionConfig!A:C,3,FALSE)))","v":""},"","","","",null,null,"",null,null,"",{"$nulls":4},{"$f":"IF(A1026=\"\",\"\",IF(ISNUMBER(Y1026),2,IF(A1027=\"\",IF(OR(AK1026>0,VLOOKUP(O1026,EventConfig!A:C,3,FALSE)=4),3,\"\"),1)))","v":""},"",null,6201,9116]
[null,"",null,"",{"$nulls":6},{"$f":"IF(J1027=\"\",\"\",VLOOKUP(J1027,EventNPC!A:F,6,FALSE))","v":""},"",{"$nulls":9},"","","",null,null,"",null,null,"",{"$nulls":4},{"$f":"IF(A1027=\"\",\"\",IF(ISNUMBER(Y1027),2,IF(A1028=\"\",IF(OR(AK1027>0,VLOOKUP(O1027,EventConfig!A:C,3,FALSE)=4),3,\"\"),1)))","v":""},"",null,"",0]
[{"$f":"O1028*100+P1028","v":911701},6202,"完成和NPC的对话","",{"$nulls":5},131,{"$f":"IF(J1028=\"\",\"\",VLOOKUP(J1028,EventNPC!A:F,6,FALSE))","v":"馨儿"},6203,"喂！你是哪宗的修士？看你在这秘境里晃悠，是不是想探秘境的宝藏？",null,9117,{"$f":"IF(O1028=\"\",\"\",IF(O1028=O1027,P1027+1,1))","v":1},{"$f":"_xlfn.TEXTJOIN(\";\",1,R1028:S1028)","v":""},null,null,{"$f":"IF(R1028=\"\",\"\",\"-\"&VLOOKUP(R1028,EventConditionConfig!A:C,3,FALSE)&IF(S1028=\"\",\"\",CHAR(10)&\"-\"&VLOOKUP(S1028,EventConditionConfig!A:C,3,FALSE)))","v":""},{"$f":"IF(Y1028=\"\",\"\",IF(ISTEXT(Y1028),1,2))","v":""},"","","",null,null,"",null,null,"",{"$nulls":4},{"$f":"IF(A1028=\"\",\"\",IF(ISNUMBER(Y1028),2,IF(A1029=\"\",IF(OR(AK1028>0,VLOOKUP(O1028,EventConfig!A:C,3,FALSE)=4),3,\"\"),1)))","v":1},911702,null,6203,9117]
[911702,6202,"完成和NPC的对话","",{"$nulls":5},131,{"$f":"IF(J1029=\"\",\"\",VLOOKUP(J1029,EventNPC!A:F,6,FALSE))","v":"馨儿"},{"$f":"IF(M1029=\"\",\"\",MAX(AL1028,AL1027,B1029,D1029)+1)","v":6204},"咳，算了，先不说这个……我叫馨儿，云隐宗的弟子，初次见面，幸会啦！",null,9117,2,"",null,null,{"$f":"IF(R1029=\"\",\"\",\"-\"&VLOOKUP(R1029,EventConditionConfig!A:C,3,FALSE)&IF(S1029=\"\",\"\",CHAR(10)&\"-\"&VLOOKUP(S1029,EventConditionConfig!A:C,3,FALSE)))","v":""},"","","","",null,null,"",null,null,"",{"$nulls":4},{"$f":"IF(A1029=\"\",\"\",IF(ISNUMBER(Y1029),2,IF(A1030=\"\",IF(OR(AK1029>0,VLOOKUP(O1029,EventConfig!A:C,3,FALSE)=4),3,\"\"),1)))","v":1},911703,null,6204,9117]
[911703,6202,"完成和NPC的对话",{"$f":"IF(E1030=\"\",\"\",IF(E1030=E1029,D1029,MAX(AL1029,AL1028,B1030)+1))","v":""},{"$nulls":5},100,{"$f":"IF(J1030=\"\",\"\",VLOOKUP(J1030,EventNPC!A:F,6,FALSE))","v":"玩家"},6205,"我叫{0}，幸会！不知道友叫住我有何事？",null,9117,3,"",null,null,{"$f":"IF(R1030=\"\",\"\",\"-\"&VLOOKUP(R1030,EventConditionConfig!A:C,3,FALSE)&IF(S1030=\"\",\"\",CHAR(10)&\"-\"&VLOOKUP(S1030,EventConditionConfig!A:C,3,FALSE)))","v":""},"","","","",null,null,"",null,null,"",{"$nulls":4},{"$f":"IF(A1030=\"\",\"\",IF(ISNUMBER(Y1030),2,IF(A1031=\"\",IF(OR(AK1030>0,VLOOKUP(O1030,EventConfig!A:C,3,FALSE)=4),3,\"\"),1)))","v":1},911704,null,6205,9117]
[911704,6202,"完成和NPC的对话","",{"$nulls":5},131,{"$f":"IF(J1031=\"\",\"\",VLOOKUP(J1031,EventNPC!A:F,6,FALSE))","v":"馨儿"},6206,"其实吧，我正头疼呢！我们宗门的信使在这林子里失踪了，带着超级重要的密信！",null,9117,4,"",null,null,{"$f":"IF(R1031=\"\",\"\",\"-\"&VLOOKUP(R1031,EventConditionConfig!A:C,3,FALSE)&IF(S1031=\"\",\"\",CHAR(10)&\"-\"&VLOOKUP(S1031,EventConditionConfig!A:C,3,FALSE)))","v":""},"","","","",null,null,"",null,null,"",{"$nulls":4},{"$f":"IF(A1031=\"\",\"\",IF(ISNUMBER(Y1031),2,IF(A1032=\"\",IF(OR(AK1031>0,VLOOKUP(O1031,EventConfig!A:C,3,FALSE)=4),3,\"\"),1)))","v":1},911705,null,6206,9117]
[911705,6202,"完成和NPC的对话","",{"$nulls":5},131,{"$f":"IF(J1032=\"\",\"\",VLOOKUP(J1032,EventNPC!A:F,6,FALSE))","v":"馨儿"},6207,"师姐非让我找回来，可这雾气浓得跟迷魂阵似的，我一个人完全晕头转向……你看起来挺靠谱的，帮我个忙呗？",null,9117,5,"",null,null,{"$f":"IF(R1032=\"\",\"\",\"-\"&VLOOKUP(R1032,EventConditionConfig!A:C,3,FALSE)&IF(S1032=\"\",\"\",CHAR(10)&\"-\"&VLOOKUP(S1032,EventConditionConfig!A:C,3,FALSE)))","v":""},1,"911706;911708","6208;6209",6208,"初次见面就让我帮忙？你这人真自来熟……",{"$f":"A1033","v":911706},6209,"云雾林这么危险，我得掂量掂量。",{"$f":"A1035","v":911708},"",null,{"$f":"D1035","v":""},null,null,{"$f":"IF(A1032=\"\",\"\",IF(ISNUMBER(Y1032),2,IF(A1033=\"\",IF(OR(AK1032>0,VLOOKUP(O1032,EventConfig!A:C,3,FALSE)=4),3,\"\"),1)))","v":1},911706,null,{"$f":"IF(A1032=\"\",\"\",MAX(B1032,D1032,L1032,X1032,AA1032,AL1031,AL1030,AD1032))","v":6209},{"$f":"O1032","v":9117}]
[911706,6202,"完成和NPC的对话","",{"$nulls":5},131,{"$f":"IF(J1033=\"\",\"\",VLOOKUP(J1033,EventNPC!A:F,6,FALSE))","v":"馨儿"},6210,"自来熟怎么了？修仙界不就得互相帮忙吗？再说，这密信关系到云隐宗的大事！",null,9117,6,"",null,null,{"$f":"IF(R1033=\"\",\"\",\"-\"&VLOOKUP(R1033,EventConditionConfig!A:C,3,FALSE)&IF(S1033=\"\",\"\",CHAR(10)&\"-\"&VLOOKUP(S1033,EventConditionConfig!A:C,3,FALSE)))","v":""},"","","","",null,null,"",null,null,"",{"$nulls":4},{"$f":"IF(A1033=\"\",\"\",IF(ISNUMBER(Y1033),2,IF(A1034=\"\",IF(OR(AK1033>0,VLOOKUP(O1033,EventConfig!A:C,3,FALSE)=4),3,\"\"),1)))","v":1},911707,null,6210,9117]
[911707,6202,"完成和NPC的对话","",{"$nulls":5},131,{"$f":"IF(J1034=\"\",\"\",VLOOKUP(J1034,EventNPC!A:F,6,FALSE))","v":"馨儿"},6211,"丢了它，我得被师姐骂得狗血淋头！你忍心看我这么个娇滴滴的修士被责罚吗？帮帮忙事成后少不了你好处！",null,9117,7,"",null,null,{"$f":"IF(R1034=\"\",\"\",\"-\"&VLOOKUP(R1034,EventConditionConfig!A:C,3,FALSE)&IF(S1034=\"\",\"\",CHAR(10)&\"-\"&VLOOKUP(S1034,EventConditionConfig!A:C,3,FALSE)))","v":""},"","","","",null,null,"",null,null,"",{"$nulls":4},{"$f":"IF(A1034=\"\",\"\",IF(ISNUMBER(Y1034),2,IF(A1035=\"\",IF(OR(AK1034>0,VLOOKUP(O1034,EventConfig!A:C,3,FALSE)=4),3,\"\"),1)))","v":1},911710,{"$f":"A1037","v":911710},6211,9117]
[911708,6202,"完成和NPC的对话","",{"$nulls":5},131,{"$f":"IF(J1035=\"\",\"\",VLOOKUP(J1035,EventNPC!A:F,6,FALSE))","v":"馨儿"},6212,"危险？哼，修仙哪有不冒险的！再说，有我这云隐宗的天才弟子在旁边撑腰，你怕啥？",null,9117,8,"",null,null,{"$f":"IF(R1035=\"\",\"\",\"-\"&VLOOKUP(R1035,EventConditionConfig!A:C,3,FALSE)&IF(S1035=\"\",\"\",CHAR(10)&\"-\"&VLOOKUP(S1035,EventConditionConfig!A:C,3,FALSE)))","v":""},"","","","",null,null,"",null,null,"",{"$nulls":4},{"$f":"IF(A1035=\"\",\"\",IF(ISNUMBER(Y1035),2,IF(A1036=\"\",IF(OR(AK1035>0,VLOOKUP(O1035,EventConfig!A:C,3,FALSE)=4),3,\"\"),1)))","v":1},911709,null,6212,9117]
[911709,6202,"完成和NPC的对话","",{"$nulls":5},131,{"$f":"IF(J1036=\"\",\"\",VLOOKUP(J1036,EventNPC!A:F,6,FALSE))","v":"馨儿"},6213,"雾妖而已，小意思！快点，帮我找信使，事后我请你吃灵果！",null,9117,9,"",null,null,{"$f":"IF(R1036=\"\",\"\",\"-\"&VLOOKUP(R1036,EventConditionConfig!A:C,3,FALSE)&IF(S1036=\"\",\"\",CHAR(10)&\"-\"&VLOOKUP(S1036,EventConditionConfig!A:C,3,FALSE)))","v":""},"","",{"$f":"_xlfn.TEXTJOIN(\";\",1,X1036,AA1036,AD1036)","v":""},{"$f":"IF(OR(ISNUMBER(Y1036),Y1036=\"\"),\"\",MAX(AL1035,AL1033,B1036,D1036,L1036)+1)","v":""},null,null,{"$f":"IF(OR(ISNUMBER(AB1036),AB1036=\"\"),\"\",X1036+1)","v":""},null,null,"",{"$nulls":4},{"$f":"IF(A1036=\"\",\"\",IF(ISNUMBER(Y1036),2,IF(A1037=\"\",IF(OR(AK1036>0,VLOOKUP(O1036,EventConfig!A:C,3,FALSE)=4),3,\"\"),1)))","v":1},911710,{"$f":"A1037","v":911710},6213,9117]
[911710,6202,"完成和NPC的对话","",{"$nulls":5},100,{"$f":"IF(J1037=\"\",\"\",VLOOKUP(J1037,EventNPC!A:F,6,FALSE))","v":"玩家"},6214,"好吧，我帮你找信使.",null,9117,10,"",null,null,{"$f":"IF(R1037=\"\",\"\",\"-\"&VLOOKUP(R1037,EventConditionConfig!A:C,3,FALSE)&IF(S1037=\"\",\"\",CHAR(10)&\"-\"&VLOOKUP(S1037,EventConditionConfig!A:C,3,FALSE)))","v":""},"","","","",null,null,"",null,null,{"$f":"IF(OR(ISNUMBER(AE1037),AE1037=\"\"),\"\",AA1037+1)","v":""},{"$nulls":4},{"$f":"IF(A1037=\"\",\"\",IF(ISNUMBER(Y1037),2,IF(A1038=\"\",IF(OR(AK1037>0,VLOOKUP(O1037,EventConfig!A:C,3,FALSE)=4),3,\"\"),1)))","v":1},911711,null,6214,9117]
[911711,6202,"完成和NPC的对话","",{"$nulls":5},131,{"$f":"IF(J1038=\"\",\"\",VLOOKUP(J1038,EventNPC!A:F,6,FALSE))","v":"馨儿"},6215,"哈哈，果然没看错你！我就喜欢你这种爽快的修士！走走走，密信可不能落进别人手里。这是一点见面礼收下。",null,9117,11,"",null,null,{"$f":"IF(R1038=\"\",\"\",\"-\"&VLOOKUP(R1038,EventConditionConfig!A:C,3,FALSE)&IF(S1038=\"\",\"\",CHAR(10)&\"-\"&VLOOKUP(S1038,EventConditionConfig!A:C,3,FALSE)))","v":""},"",{"$f":"IF(U1038=1,_xlfn.TEXTJOIN(\";\",1,IF(Z1038=\"\",A1038+1,Z1038),IF(AND(AA1038<>\"\",AC1038=\"\"),A1038+1,AC1038),IF(AND(AD1038<>\"\",AF1038=\"\"),A1038+1,AF1038)),IF(U1038=2,Y1038,\"\"))","v":""},"","",null,null,"",null,null,"",{"$nulls":4},{"$f":"IF(A1038=\"\",\"\",IF(ISNUMBER(Y1038),2,IF(A1039=\"\",IF(OR(AK1038>0,VLOOKUP(O1038,EventConfig!A:C,3,FALSE)=4),3,\"\"),1)))","v":""},{"$f":"IF(AI1038=\"\",\"\",CHOOSE(AI1038,IF(AK1038=\"\",A1038+1,AK1038),CONCATENATE(IF(AK1038=\"\",A1038+1,AK1038),\";101\"),IF(AK1038=\"\",O1038+1,AK1038)))","v":""},null,6215,9117]
[null,"",null,"",{"$nulls":6},{"$f":"IF(J1039=\"\",\"\",VLOOKUP(J1039,EventNPC!A:F,6,FALSE))","v":""},"",{"$nulls":9},"","","",null,null,"",null,null,"",{"$nulls":4},{"$f":"IF(A1039=\"\",\"\",IF(ISNUMBER(Y1039),2,IF(A1040=\"\",IF(OR(AK1039>0,VLOOKUP(O1039,EventConfig!A:C,3,FALSE)=4),3,\"\"),1)))","v":""},"",null,"",0]
[{"$f":"O1040*100+P1040","v":911801},6216,"完成和NPC的对话","",{"$nulls":5},131,{"$f":"IF(J1040=\"\",\"\",VLOOKUP(J1040,EventNPC!A:F,6,FALSE))","v":"馨儿"},6217,"这秘境里的云雾真是邪门，雾气浓得跟师姐的脾气一样吓人！",null,9118,{"$f":"IF(O1040=\"\",\"\",IF(O1040=O1039,P1039+1,1))","v":1},{"$f":"_xlfn.TEXTJOIN(\";\",1,R1040:S1040)","v":""},null,null,{"$f":"IF(R1040=\"\",\"\",\"-\"&VLOOKUP(R1040,EventConditionConfig!A:C,3,FALSE)&IF(S1040=\"\",\"\",CHAR(10)&\"-\"&VLOOKUP(S1040,EventConditionConfig!A:C,3,FALSE)))","v":""},{"$f":"IF(Y1040=\"\",\"\",IF(ISTEXT(Y1040),1,2))","v":""},"","","",null,null,"",null,null,"",{"$nulls":4},{"$f":"IF(A1040=\"\",\"\",IF(ISNUMBER(Y1040),2,IF(A1041=\"\",IF(OR(AK1040>0,VLOOKUP(O1040,EventConfig!A:C,3,FALSE)=4),3,\"\"),1)))","v":1},911802,null,6217,9118]
[911802,6216,"完成和NPC的对话","",{"$nulls":5},131,{"$f":"IF(J1041=\"\",\"\",VLOOKUP(J1041,EventNPC!A:F,6,FALSE))","v":"馨儿"},6218,"玉符显示信使就在前面，不过老是有妖怪躲在雾里偷袭，烦死人了！",null,9118,2,"",null,null,{"$f":"IF(R1041=\"\",\"\",\"-\"&VLOOKUP(R1041,EventConditionConfig!A:C,3,FALSE)&IF(S1041=\"\",\"\",CHAR(10)&\"-\"&VLOOKUP(S1041,EventConditionConfig!A:C,3,FALSE)))","v":""},"","","","",null,null,"",null,null,"",{"$nulls":4},{"$f":"IF(A1041=\"\",\"\",IF(ISNUMBER(Y1041),2,IF(A1042=\"\",IF(OR(AK1041>0,VLOOKUP(O1041,EventConfig!A:C,3,FALSE)=4),3,\"\"),1)))","v":1},911803,null,6218,9118]
[911803,6216,"完成和NPC的对话","",{"$nulls":5},131,{"$f":"IF(J1042=\"\",\"\",VLOOKUP(J1042,EventNPC!A:F,6,FALSE))","v":"馨儿"},6219,"{0}道友，你准备好了吧？咱们得先干掉几只妖怪，免得它们捣乱！",null,9118,3,"",null,null,{"$f":"IF(R1042=\"\",\"\",\"-\"&VLOOKUP(R1042,EventConditionConfig!A:C,3,FALSE)&IF(S1042=\"\",\"\",CHAR(10)&\"-\"&VLOOKUP(S1042,EventConditionConfig!A:C,3,FALSE)))","v":""},"","","","",null,null,"",null,null,"",{"$nulls":4},{"$f":"IF(A1042=\"\",\"\",IF(ISNUMBER(Y1042),2,IF(A1043=\"\",IF(OR(AK1042>0,VLOOKUP(O1042,EventConfig!A:C,3,FALSE)=4),3,\"\"),1)))","v":1},911804,null,6219,9118]
[911804,6216,"完成和NPC的对话","",{"$nulls":5},100,{"$f":"IF(J1043=\"\",\"\",VLOOKUP(J1043,EventNPC!A:F,6,FALSE))","v":"玩家"},6220,"这妖怪看起来不好对付，你有什么计划？",null,9118,4,"",null,null,{"$f":"IF(R1043=\"\",\"\",\"-\"&VLOOKUP(R1043,EventConditionConfig!A:C,3,FALSE)&IF(S1043=\"\",\"\",CHAR(10)&\"-\"&VLOOKUP(S1043,EventConditionConfig!A:C,3,FALSE)))","v":""},"","","","",null,null,"",null,null,"",{"$nulls":4},{"$f":"IF(A1043=\"\",\"\",IF(ISNUMBER(Y1043),2,IF(A1044=\"\",IF(OR(AK1043>0,VLOOKUP(O1043,EventConfig!A:C,3,FALSE)=4),3,\"\"),1)))","v":1},911805,null,6220,9118]
[911805,6216,"完成和NPC的对话","",{"$nulls":5},131,{"$f":"IF(J1044=\"\",\"\",VLOOKUP(J1044,EventNPC!A:F,6,FALSE))","v":"馨儿"},6221,"计划？当然有！我的云雾术能让雾里的妖怪现形，你负责主攻，我来辅助！",null,9118,5,"",null,null,{"$f":"IF(R1044=\"\",\"\",\"-\"&VLOOKUP(R1044,EventConditionConfig!A:C,3,FALSE)&IF(S1044=\"\",\"\",CHAR(10)&\"-\"&VLOOKUP(S1044,EventConditionConfig!A:C,3,FALSE)))","v":""},"","","","",null,null,"",null,null,"",{"$nulls":4},{"$f":"IF(A1044=\"\",\"\",IF(ISNUMBER(Y1044),2,IF(A1045=\"\",IF(OR(AK1044>0,VLOOKUP(O1044,EventConfig!A:C,3,FALSE)=4),3,\"\"),1)))","v":1},911806,null,6221,9118]
[911806,6216,"完成和NPC的对话","",{"$nulls":5},131,{"$f":"IF(J1045=\"\",\"\",VLOOKUP(J1045,EventNPC!A:F,6,FALSE))","v":"馨儿"},6222,"别看我修为不高，阵法可是一流！怎么样，配合我一次？",null,9118,6,"",null,null,{"$f":"IF(R1045=\"\",\"\",\"-\"&VLOOKUP(R1045,EventConditionConfig!A:C,3,FALSE)&IF(S1045=\"\",\"\",CHAR(10)&\"-\"&VLOOKUP(S1045,EventConditionConfig!A:C,3,FALSE)))","v":""},"","","","",null,null,"",null,null,"",{"$nulls":4},{"$f":"IF(A1045=\"\",\"\",IF(ISNUMBER(Y1045),2,IF(A1046=\"\",IF(OR(AK1045>0,VLOOKUP(O1045,EventConfig!A:C,3,FALSE)=4),3,\"\"),1)))","v":1},911807,null,6222,9118]
[911807,6216,"完成和NPC的对话","",{"$nulls":5},100,{"$f":"IF(J1046=\"\",\"\",VLOOKUP(J1046,EventNPC!A:F,6,FALSE))","v":"玩家"},6223,"好，直接开打吧！",null,9118,7,"",null,null,{"$f":"IF(R1046=\"\",\"\",\"-\"&VLOOKUP(R1046,EventConditionConfig!A:C,3,FALSE)&IF(S1046=\"\",\"\",CHAR(10)&\"-\"&VLOOKUP(S1046,EventConditionConfig!A:C,3,FALSE)))","v":""},2,4003,"","",4003,null,"",null,null,"",{"$nulls":4},{"$f":"IF(A1046=\"\",\"\",IF(ISNUMBER(Y1046),2,IF(A1047=\"\",IF(OR(AK1046>0,VLOOKUP(O1046,EventConfig!A:C,3,FALSE)=4),3,\"\"),1)))","v":2},"911808;101",null,6223,9118]
[911808,6216,"完成和NPC的对话","",{"$nulls":5},131,{"$f":"IF(J1047=\"\",\"\",VLOOKUP(J1047,EventNPC!A:F,6,FALSE))","v":"馨儿"},6224,"信使就在前面了，我们抓紧时间吧。",null,9118,8,"",null,null,{"$f":"IF(R1047=\"\",\"\",\"-\"&VLOOKUP(R1047,EventConditionConfig!A:C,3,FALSE)&IF(S1047=\"\",\"\",CHAR(10)&\"-\"&VLOOKUP(S1047,EventConditionConfig!A:C,3,FALSE)))","v":""},"","","","",null,null,"",null,null,"",{"$nulls":4},{"$f":"IF(A1047=\"\",\"\",IF(ISNUMBER(Y1047),2,IF(A1048=\"\",IF(OR(AK1047>0,VLOOKUP(O1047,EventConfig!A:C,3,FALSE)=4),3,\"\"),1)))","v":""},"",null,6224,9118]
[null,"",null,"",{"$nulls":6},{"$f":"IF(J1048=\"\",\"\",VLOOKUP(J1048,EventNPC!A:F,6,FALSE))","v":""},"",{"$nulls":9},"","","",null,null,"",null,null,"",{"$nulls":4},{"$f":"IF(A1048=\"\",\"\",IF(ISNUMBER(Y1048),2,IF(A1049=\"\",IF(OR(AK1048>0,VLOOKUP(O1048,EventConfig!A:C,3,FALSE)=4),3,\"\"),1)))","v":""},"",null,"",0]
[{"$f":"O1049*100+P1049","v":911901},6225,"完成和NPC的对话","",{"$nulls":5},131,{"$f":"IF(J1049=\"\",\"\",VLOOKUP(J1049,EventNPC!A:F,6,FALSE))","v":"馨儿"},6226,"找到了！这就是我们宗的信使！",null,9119,{"$f":"IF(O1049=\"\",\"\",IF(O1049=O1048,P1048+1,1))","v":1},{"$f":"_xlfn.TEXTJOIN(\";\",1,R1049:S1049)","v":""},null,null,{"$f":"IF(R1049=\"\",\"\",\"-\"&VLOOKUP(R1049,EventConditionConfig!A:C,3,FALSE)&IF(S1049=\"\",\"\",CHAR(10)&\"-\"&VLOOKUP(S1049,EventConditionConfig!A:C,3,FALSE)))","v":""},{"$f":"IF(Y1049=\"\",\"\",IF(ISTEXT(Y1049),1,2))","v":""},"","","",null,null,"",null,null,"",{"$nulls":4},{"$f":"IF(A1049=\"\",\"\",IF(ISNUMBER(Y1049),2,IF(A1050=\"\",IF(OR(AK1049>0,VLOOKUP(O1049,EventConfig!A:C,3,FALSE)=4),3,\"\"),1)))","v":1},911902,null,6226,9119]
[911902,6225,"完成和NPC的对话","",{"$nulls":5},132,{"$f":"IF(J1050=\"\",\"\",VLOOKUP(J1050,EventNPC!A:F,6,FALSE))","v":"信使"},6227,"馨儿师姐你来了，小心阵法周围的妖物，我有阵法护佑他们伤害不了我。但也被阵法所困无法出去。",null,9119,2,"",null,null,{"$f":"IF(R1050=\"\",\"\",\"-\"&VLOOKUP(R1050,EventConditionConfig!A:C,3,FALSE)&IF(S1050=\"\",\"\",CHAR(10)&\"-\"&VLOOKUP(S1050,EventConditionConfig!A:C,3,FALSE)))","v":""},"","","","",null,null,"",null,null,"",{"$nulls":4},{"$f":"IF(A1050=\"\",\"\",IF(ISNUMBER(Y1050),2,IF(A1051=\"\",IF(OR(AK1050>0,VLOOKUP(O1050,EventConfig!A:C,3,FALSE)=4),3,\"\"),1)))","v":1},911903,null,6227,9119]
[911903,6225,"完成和NPC的对话","",{"$nulls":5},131,{"$f":"IF(J1051=\"\",\"\",VLOOKUP(J1051,EventNPC!A:F,6,FALSE))","v":"馨儿"},6228,"看样子是阵法失控。这可是云隐宗的独门手法，稍微有点复杂！",null,9119,3,"",null,null,{"$f":"IF(R1051=\"\",\"\",\"-\"&VLOOKUP(R1051,EventConditionConfig!A:C,3,FALSE)&IF(S1051=\"\",\"\",CHAR(10)&\"-\"&VLOOKUP(S1051,EventConditionConfig!A:C,3,FALSE)))","v":""},"","","","",null,null,"",null,null,"",{"$nulls":4},{"$f":"IF(A1051=\"\",\"\",IF(ISNUMBER(Y1051),2,IF(A1052=\"\",IF(OR(AK1051>0,VLOOKUP(O1051,EventConfig!A:C,3,FALSE)=4),3,\"\"),1)))","v":1},911904,null,6228,9119]
[911904,6225,"完成和NPC的对话","",{"$nulls":5},100,{"$f":"IF(J1052=\"\",\"\",VLOOKUP(J1052,EventNPC!A:F,6,FALSE))","v":"玩家"},6229,"我能做什么？",null,9119,4,"",null,null,{"$f":"IF(R1052=\"\",\"\",\"-\"&VLOOKUP(R1052,EventConditionConfig!A:C,3,FALSE)&IF(S1052=\"\",\"\",CHAR(10)&\"-\"&VLOOKUP(S1052,EventConditionConfig!A:C,3,FALSE)))","v":""},"","","","",null,null,"",null,null,"",{"$nulls":4},{"$f":"IF(A1052=\"\",\"\",IF(ISNUMBER(Y1052),2,IF(A1053=\"\",IF(OR(AK1052>0,VLOOKUP(O1052,EventConfig!A:C,3,FALSE)=4),3,\"\"),1)))","v":1},911905,null,6229,9119]
[911905,6225,"完成和NPC的对话","",{"$nulls":5},131,{"$f":"IF(J1053=\"\",\"\",VLOOKUP(J1053,EventNPC!A:F,6,FALSE))","v":"馨儿"},6230,"帮我护阵，我在破阵期间可能会有妖怪来袭",null,9119,5,"",null,null,{"$f":"IF(R1053=\"\",\"\",\"-\"&VLOOKUP(R1053,EventConditionConfig!A:C,3,FALSE)&IF(S1053=\"\",\"\",CHAR(10)&\"-\"&VLOOKUP(S1053,EventConditionConfig!A:C,3,FALSE)))","v":""},"","","","",null,null,"",null,null,"",{"$nulls":4},{"$f":"IF(A1053=\"\",\"\",IF(ISNUMBER(Y1053),2,IF(A1054=\"\",IF(OR(AK1053>0,VLOOKUP(O1053,EventConfig!A:C,3,FALSE)=4),3,\"\"),1)))","v":1},911906,null,6230,9119]
[911906,6225,"完成和NPC的对话","",{"$nulls":5},100,{"$f":"IF(J1054=\"\",\"\",VLOOKUP(J1054,EventNPC!A:F,6,FALSE))","v":"玩家"},6231,"好的没问题，你专心破阵。",null,9119,6,"",null,null,{"$f":"IF(R1054=\"\",\"\",\"-\"&VLOOKUP(R1054,EventConditionConfig!A:C,3,FALSE)&IF(S1054=\"\",\"\",CHAR(10)&\"-\"&VLOOKUP(S1054,EventConditionConfig!A:C,3,FALSE)))","v":""},2,4004,"","",4004,null,"",null,null,"",{"$nulls":4},{"$f":"IF(A1054=\"\",\"\",IF(ISNUMBER(Y1054),2,IF(A1055=\"\",IF(OR(AK1054>0,VLOOKUP(O1054,EventConfig!A:C,3,FALSE)=4),3,\"\"),1)))","v":2},"911907;101",null,6231,9119]
[911907,6225,"完成和NPC的对话","",{"$nulls":5},100,{"$f":"IF(J1055=\"\",\"\",VLOOKUP(J1055,EventNPC!A:F,6,FALSE))","v":"玩家"},6232,"周围的妖物又来了，看我的！",null,9119,7,"",null,null,{"$f":"IF(R1055=\"\",\"\",\"-\"&VLOOKUP(R1055,EventConditionConfig!A:C,3,FALSE)&IF(S1055=\"\",\"\",CHAR(10)&\"-\"&VLOOKUP(S1055,EventConditionConfig!A:C,3,FALSE)))","v":""},2,4005,"","",4005,null,"",null,null,"",{"$nulls":4},{"$f":"IF(A1055=\"\",\"\",IF(ISNUMBER(Y1055),2,IF(A1056=\"\",IF(OR(AK1055>0,VLOOKUP(O1055,EventConfig!A:C,3,FALSE)=4),3,\"\"),1)))","v":2},"911908;101",null,6232,9119]
[911908,6225,"完成和NPC的对话","",{"$nulls":5},131,{"$f":"IF(J1056=\"\",\"\",VLOOKUP(J1056,EventNPC!A:F,6,FALSE))","v":"馨儿"},6233,"破~！（阵法破裂开来）",null,9119,8,"",null,null,{"$f":"IF(R1056=\"\",\"\",\"-\"&VLOOKUP(R1056,EventConditionConfig!A:C,3,FALSE)&IF(S1056=\"\",\"\",CHAR(10)&\"-\"&VLOOKUP(S1056,EventConditionConfig!A:C,3,FALSE)))","v":""},"","","","",null,null,"",null,null,"",{"$nulls":4},{"$f":"IF(A1056=\"\",\"\",IF(ISNUMBER(Y1056),2,IF(A1057=\"\",IF(OR(AK1056>0,VLOOKUP(O1056,EventConfig!A:C,3,FALSE)=4),3,\"\"),1)))","v":1},911909,null,6233,9119]
[911909,6225,"完成和NPC的对话","",{"$nulls":5},132,{"$f":"IF(J1057=\"\",\"\",VLOOKUP(J1057,EventNPC!A:F,6,FALSE))","v":"信使"},6234,"多谢师姐和这位道友相助，不知这位道友如何称呼。",null,9119,9,"",null,null,{"$f":"IF(R1057=\"\",\"\",\"-\"&VLOOKUP(R1057,EventConditionConfig!A:C,3,FALSE)&IF(S1057=\"\",\"\",CHAR(10)&\"-\"&VLOOKUP(S1057,EventConditionConfig!A:C,3,FALSE)))","v":""},"","","","",null,null,"",null,null,"",{"$nulls":4},{"$f":"IF(A1057=\"\",\"\",IF(ISNUMBER(Y1057),2,IF(A1058=\"\",IF(OR(AK1057>0,VLOOKUP(O1057,EventConfig!A:C,3,FALSE)=4),3,\"\"),1)))","v":1},911910,null,6234,9119]
[911910,6225,"完成和NPC的对话","",{"$nulls":5},100,{"$f":"IF(J1058=\"\",\"\",VLOOKUP(J1058,EventNPC!A:F,6,FALSE))","v":"玩家"},6235,"我叫{0}",null,9119,10,"",null,null,{"$f":"IF(R1058=\"\",\"\",\"-\"&VLOOKUP(R1058,EventConditionConfig!A:C,3,FALSE)&IF(S1058=\"\",\"\",CHAR(10)&\"-\"&VLOOKUP(S1058,EventConditionConfig!A:C,3,FALSE)))","v":""},"","","","",null,null,"",null,null,"",{"$nulls":4},{"$f":"IF(A1058=\"\",\"\",IF(ISNUMBER(Y1058),2,IF(A1059=\"\",IF(OR(AK1058>0,VLOOKUP(O1058,EventConfig!A:C,3,FALSE)=4),3,\"\"),1)))","v":1},911911,null,6235,9119]
[911911,6225,"完成和NPC的对话","",{"$nulls":5},132,{"$f":"IF(J1059=\"\",\"\",VLOOKUP(J1059,EventNPC!A:F,6,FALSE))","v":"信使"},6236,"密信在我怀中，千万别让它落入外人之手",null,9119,11,"",null,null,{"$f":"IF(R1059=\"\",\"\",\"-\"&VLOOKUP(R1059,EventConditionConfig!A:C,3,FALSE)&IF(S1059=\"\",\"\",CHAR(10)&\"-\"&VLOOKUP(S1059,EventConditionConfig!A:C,3,FALSE)))","v":""},"","","","",null,null,"",null,null,"",{"$nulls":4},{"$f":"IF(A1059=\"\",\"\",IF(ISNUMBER(Y1059),2,IF(A1060=\"\",IF(OR(AK1059>0,VLOOKUP(O1059,EventConfig!A:C,3,FALSE)=4),3,\"\"),1)))","v":1},911912,null,6236,9119]
[911912,6225,"完成和NPC的对话","",{"$nulls":5},131,{"$f":"IF(J1060=\"\",\"\",VLOOKUP(J1060,EventNPC!A:F,6,FALSE))","v":"馨儿"},6237,"还好密信完好。{0}道友谢谢你了，这是你的奖励拿着。",null,9119,12,"",null,null,{"$f":"IF(R1060=\"\",\"\",\"-\"&VLOOKUP(R1060,EventConditionConfig!A:C,3,FALSE)&IF(S1060=\"\",\"\",CHAR(10)&\"-\"&VLOOKUP(S1060,EventConditionConfig!A:C,3,FALSE)))","v":""},"","","","",null,null,"",null,null,"",{"$nulls":4},{"$f":"IF(A1060=\"\",\"\",IF(ISNUMBER(Y1060),2,IF(A1061=\"\",IF(OR(AK1060>0,VLOOKUP(O1060,EventConfig!A:C,3,FALSE)=4),3,\"\"),1)))","v":1},911913,null,6237,9119]
[911913,6225,"完成和NPC的对话","",{"$nulls":5},100,{"$f":"IF(J1061=\"\",\"\",VLOOKUP(J1061,EventNPC!A:F,6,FALSE))","v":"玩家"},6238,"那我先走了，道友保重。",null,9119,13,"",null,null,{"$f":"IF(R1061=\"\",\"\",\"-\"&VLOOKUP(R1061,EventConditionConfig!A:C,3,FALSE)&IF(S1061=\"\",\"\",CHAR(10)&\"-\"&VLOOKUP(S1061,EventConditionConfig!A:C,3,FALSE)))","v":""},"","","","",null,null,"",null,null,"",{"$nulls":4},{"$f":"IF(A1061=\"\",\"\",IF(ISNUMBER(Y1061),2,IF(A1062=\"\",IF(OR(AK1061>0,VLOOKUP(O1061,EventConfig!A:C,3,FALSE)=4),3,\"\"),1)))","v":""},"",null,6238,9119]
[null,"",null,"",{"$nulls":6},{"$f":"IF(J1062=\"\",\"\",VLOOKUP(J1062,EventNPC!A:F,6,FALSE))","v":""},"",{"$nulls":9},"","","",null,null,"",null,null,"",{"$nulls":4},{"$f":"IF(A1062=\"\",\"\",IF(ISNUMBER(Y1062),2,IF(A1063=\"\",IF(OR(AK1062>0,VLOOKUP(O1062,EventConfig!A:C,3,FALSE)=4),3,\"\"),1)))","v":""},"",null,"",0]
[{"$f":"O1063*100+P1063","v":912001},6239,"完成和NPC的对话","",{"$nulls":5},131,{"$f":"IF(J1063=\"\",\"\",VLOOKUP(J1063,EventNPC!A:F,6,FALSE))","v":"馨儿"},6240,"{0}道友，是你！快来帮我一把！",null,9120,{"$f":"IF(O1063=\"\",\"\",IF(O1063=O1062,P1062+1,1))","v":1},{"$f":"_xlfn.TEXTJOIN(\";\",1,R1063:S1063)","v":""},null,null,{"$f":"IF(R1063=\"\",\"\",\"-\"&VLOOKUP(R1063,EventConditionConfig!A:C,3,FALSE)&IF(S1063=\"\",\"\",CHAR(10)&\"-\"&VLOOKUP(S1063,EventConditionConfig!A:C,3,FALSE)))","v":""},{"$f":"IF(Y1063=\"\",\"\",IF(ISTEXT(Y1063),1,2))","v":""},"","","",null,null,"",null,null,"",{"$nulls":4},{"$f":"IF(A1063=\"\",\"\",IF(ISNUMBER(Y1063),2,IF(A1064=\"\",IF(OR(AK1063>0,VLOOKUP(O1063,EventConfig!A:C,3,FALSE)=4),3,\"\"),1)))","v":1},912002,null,6240,9120]
[912002,6239,"完成和NPC的对话","",{"$nulls":5},100,{"$f":"IF(J1064=\"\",\"\",VLOOKUP(J1064,EventNPC!A:F,6,FALSE))","v":"玩家"},6241,"好久不见！馨儿道友是有什么事吗？",null,9120,2,"",null,null,{"$f":"IF(R1064=\"\",\"\",\"-\"&VLOOKUP(R1064,EventConditionConfig!A:C,3,FALSE)&IF(S1064=\"\",\"\",CHAR(10)&\"-\"&VLOOKUP(S1064,EventConditionConfig!A:C,3,FALSE)))","v":""},"","","","",null,null,"",null,null,"",{"$nulls":4},{"$f":"IF(A1064=\"\",\"\",IF(ISNUMBER(Y1064),2,IF(A1065=\"\",IF(OR(AK1064>0,VLOOKUP(O1064,EventConfig!A:C,3,FALSE)=4),3,\"\"),1)))","v":1},912003,null,6241,9120]
[912003,{"$f":"IF(C1065=\"\",\"\",IF(C1065=C1064,B1064,MAX(AL1064,AL1063)+1))","v":6239},"完成和NPC的对话","",{"$nulls":5},131,{"$f":"IF(J1065=\"\",\"\",VLOOKUP(J1065,EventNPC!A:F,6,FALSE))","v":"馨儿"},6242,"这风灵鸟偷了我的灵草，快帮我把它干掉！有我在，保你不吃亏！",null,9120,3,"",null,null,{"$f":"IF(R1065=\"\",\"\",\"-\"&VLOOKUP(R1065,EventConditionConfig!A:C,3,FALSE)&IF(S1065=\"\",\"\",CHAR(10)&\"-\"&VLOOKUP(S1065,EventConditionConfig!A:C,3,FALSE)))","v":""},1,"912004;912006","6243;6244",6243,"这鸟不好对付吧？",{"$f":"A1066","v":912004},6244,"我正忙着，你又惹麻烦了？",{"$f":"A1068","v":912006},"",null,{"$f":"D1068","v":""},null,null,{"$f":"IF(A1065=\"\",\"\",IF(ISNUMBER(Y1065),2,IF(A1066=\"\",IF(OR(AK1065>0,VLOOKUP(O1065,EventConfig!A:C,3,FALSE)=4),3,\"\"),1)))","v":1},912004,null,6244,9120]
[912004,6239,"完成和NPC的对话","",{"$nulls":5},131,{"$f":"IF(J1066=\"\",\"\",VLOOKUP(J1066,EventNPC!A:F,6,FALSE))","v":"馨儿"},6245,"不好对付？哼，它也就仗着飞得快！有我的云雾阵困着它，你出手准能搞定！",null,9120,4,"",null,null,{"$f":"IF(R1066=\"\",\"\",\"-\"&VLOOKUP(R1066,EventConditionConfig!A:C,3,FALSE)&IF(S1066=\"\",\"\",CHAR(10)&\"-\"&VLOOKUP(S1066,EventConditionConfig!A:C,3,FALSE)))","v":""},"","","","",null,null,"",null,null,"",{"$nulls":4},{"$f":"IF(A1066=\"\",\"\",IF(ISNUMBER(Y1066),2,IF(A1067=\"\",IF(OR(AK1066>0,VLOOKUP(O1066,EventConfig!A:C,3,FALSE)=4),3,\"\"),1)))","v":1},912005,null,6245,9120]
[912005,6239,"完成和NPC的对话","",{"$nulls":5},131,{"$f":"IF(J1067=\"\",\"\",VLOOKUP(J1067,EventNPC!A:F,6,FALSE))","v":"馨儿"},6246,"快点，灵草可是我好不容易找到的！",null,9120,5,"",null,null,{"$f":"IF(R1067=\"\",\"\",\"-\"&VLOOKUP(R1067,EventConditionConfig!A:C,3,FALSE)&IF(S1067=\"\",\"\",CHAR(10)&\"-\"&VLOOKUP(S1067,EventConditionConfig!A:C,3,FALSE)))","v":""},"","","","",null,null,"",null,null,"",{"$nulls":4},{"$f":"IF(A1067=\"\",\"\",IF(ISNUMBER(Y1067),2,IF(A1068=\"\",IF(OR(AK1067>0,VLOOKUP(O1067,EventConfig!A:C,3,FALSE)=4),3,\"\"),1)))","v":1},912006,null,6246,9120]
[912006,6239,"完成和NPC的对话","",{"$nulls":5},131,{"$f":"IF(J1068=\"\",\"\",VLOOKUP(J1068,EventNPC!A:F,6,FALSE))","v":"馨儿"},6247,"惹麻烦？拜托，这叫机缘好不好！这风灵鸟的羽毛可是炼器好材料，帮我抓它，战利品咱们平分！",null,9120,6,"",null,null,{"$f":"IF(R1068=\"\",\"\",\"-\"&VLOOKUP(R1068,EventConditionConfig!A:C,3,FALSE)&IF(S1068=\"\",\"\",CHAR(10)&\"-\"&VLOOKUP(S1068,EventConditionConfig!A:C,3,FALSE)))","v":""},"","","","",null,null,"",null,null,"",{"$nulls":4},{"$f":"IF(A1068=\"\",\"\",IF(ISNUMBER(Y1068),2,IF(A1069=\"\",IF(OR(AK1068>0,VLOOKUP(O1068,EventConfig!A:C,3,FALSE)=4),3,\"\"),1)))","v":1},912007,null,6247,9120]
[912007,6239,"完成和NPC的对话","",{"$nulls":5},100,{"$f":"IF(J1069=\"\",\"\",VLOOKUP(J1069,EventNPC!A:F,6,FALSE))","v":"玩家"},6248,"好吧！相遇就是缘分。",null,9120,7,"",null,null,{"$f":"IF(R1069=\"\",\"\",\"-\"&VLOOKUP(R1069,EventConditionConfig!A:C,3,FALSE)&IF(S1069=\"\",\"\",CHAR(10)&\"-\"&VLOOKUP(S1069,EventConditionConfig!A:C,3,FALSE)))","v":""},2,4006,"","",4006,null,"",null,null,"",{"$nulls":4},{"$f":"IF(A1069=\"\",\"\",IF(ISNUMBER(Y1069),2,IF(A1070=\"\",IF(OR(AK1069>0,VLOOKUP(O1069,EventConfig!A:C,3,FALSE)=4),3,\"\"),1)))","v":2},"912008;101",null,6248,9120]
[912008,6239,"完成和NPC的对话","",{"$nulls":5},131,{"$f":"IF(J1070=\"\",\"\",VLOOKUP(J1070,EventNPC!A:F,6,FALSE))","v":"馨儿"},6249,"这灵药我拿走了，那风灵鸟的材料就给你了。",null,9120,8,"",null,null,{"$f":"IF(R1070=\"\",\"\",\"-\"&VLOOKUP(R1070,EventConditionConfig!A:C,3,FALSE)&IF(S1070=\"\",\"\",CHAR(10)&\"-\"&VLOOKUP(S1070,EventConditionConfig!A:C,3,FALSE)))","v":""},"","","","",null,null,"",null,null,"",{"$nulls":4},{"$f":"IF(A1070=\"\",\"\",IF(ISNUMBER(Y1070),2,IF(A1071=\"\",IF(OR(AK1070>0,VLOOKUP(O1070,EventConfig!A:C,3,FALSE)=4),3,\"\"),1)))","v":""},"",null,6249,9120]
[null,"",null,"",{"$nulls":6},{"$f":"IF(J1071=\"\",\"\",VLOOKUP(J1071,EventNPC!A:F,6,FALSE))","v":""},"",{"$nulls":9},"","","",null,null,"",null,null,"",{"$nulls":4},{"$f":"IF(A1071=\"\",\"\",IF(ISNUMBER(Y1071),2,IF(A1072=\"\",IF(OR(AK1071>0,VLOOKUP(O1071,EventConfig!A:C,3,FALSE)=4),3,\"\"),1)))","v":""},"",null,"",0]
[{"$f":"O1072*100+P1072","v":912101},6250,"完成和NPC的对话","",{"$nulls":5},131,{"$f":"IF(J1072=\"\",\"\",VLOOKUP(J1072,EventNPC!A:F,6,FALSE))","v":"馨儿"},6251,"你看这浮岛的灵泉本来灵气充沛，可最近被一头怪物污染了，灵气都变浑浊了！",null,9121,{"$f":"IF(O1072=\"\",\"\",IF(O1072=O1071,P1071+1,1))","v":1},{"$f":"_xlfn.TEXTJOIN(\";\",1,R1072:S1072)","v":""},null,null,{"$f":"IF(R1072=\"\",\"\",\"-\"&VLOOKUP(R1072,EventConditionConfig!A:C,3,FALSE)&IF(S1072=\"\",\"\",CHAR(10)&\"-\"&VLOOKUP(S1072,EventConditionConfig!A:C,3,FALSE)))","v":""},{"$f":"IF(Y1072=\"\",\"\",IF(ISTEXT(Y1072),1,2))","v":""},"","","",null,null,"",null,null,"",{"$nulls":4},{"$f":"IF(A1072=\"\",\"\",IF(ISNUMBER(Y1072),2,IF(A1073=\"\",IF(OR(AK1072>0,VLOOKUP(O1072,EventConfig!A:C,3,FALSE)=4),3,\"\"),1)))","v":1},912102,null,6251,9121]
[912102,6250,"完成和NPC的对话","",{"$nulls":5},131,{"$f":"IF(J1073=\"\",\"\",VLOOKUP(J1073,EventNPC!A:F,6,FALSE))","v":"馨儿"},6252,"我们云隐宗想用这灵泉炼丹，得先把它净化。你帮我干掉那头怪物呗？",null,9121,2,"",null,null,{"$f":"IF(R1073=\"\",\"\",\"-\"&VLOOKUP(R1073,EventConditionConfig!A:C,3,FALSE)&IF(S1073=\"\",\"\",CHAR(10)&\"-\"&VLOOKUP(S1073,EventConditionConfig!A:C,3,FALSE)))","v":""},1,"912103;912104","6253;6254",6253,"听起来不好惹，我得想想",{"$f":"A1074","v":912103},6254,"好，我帮干掉这妖物",{"$f":"A1075","v":912104},"",null,{"$f":"D1075","v":""},null,null,{"$f":"IF(A1073=\"\",\"\",IF(ISNUMBER(Y1073),2,IF(A1074=\"\",IF(OR(AK1073>0,VLOOKUP(O1073,EventConfig!A:C,3,FALSE)=4),3,\"\"),1)))","v":1},912103,null,6254,9121]
[912103,6250,"完成和NPC的对话","",{"$nulls":5},131,{"$f":"IF(J1074=\"\",\"\",VLOOKUP(J1074,EventNPC!A:F,6,FALSE))","v":"馨儿"},6255,"有我的云雾阵辅助，你怕啥？净化灵泉，宗门长老都得谢你！",null,9121,3,"",null,null,{"$f":"IF(R1074=\"\",\"\",\"-\"&VLOOKUP(R1074,EventConditionConfig!A:C,3,FALSE)&IF(S1074=\"\",\"\",CHAR(10)&\"-\"&VLOOKUP(S1074,EventConditionConfig!A:C,3,FALSE)))","v":""},"","","","",null,null,"",null,null,"",{"$nulls":4},{"$f":"IF(A1074=\"\",\"\",IF(ISNUMBER(Y1074),2,IF(A1075=\"\",IF(OR(AK1074>0,VLOOKUP(O1074,EventConfig!A:C,3,FALSE)=4),3,\"\"),1)))","v":1},912105,{"$f":"A1076","v":912105},6255,9121]
[912104,6250,"完成和NPC的对话","",{"$nulls":5},131,{"$f":"IF(J1075=\"\",\"\",VLOOKUP(J1075,EventNPC!A:F,6,FALSE))","v":"馨儿"},6256,"哈哈，够义气！",null,9121,4,"",null,null,{"$f":"IF(R1075=\"\",\"\",\"-\"&VLOOKUP(R1075,EventConditionConfig!A:C,3,FALSE)&IF(S1075=\"\",\"\",CHAR(10)&\"-\"&VLOOKUP(S1075,EventConditionConfig!A:C,3,FALSE)))","v":""},"","","","",null,null,"",null,null,"",{"$nulls":4},{"$f":"IF(A1075=\"\",\"\",IF(ISNUMBER(Y1075),2,IF(A1076=\"\",IF(OR(AK1075>0,VLOOKUP(O1075,EventConfig!A:C,3,FALSE)=4),3,\"\"),1)))","v":1},912105,{"$f":"A1076","v":912105},6256,9121]
[912105,6250,"完成和NPC的对话","",{"$nulls":5},131,{"$f":"IF(J1076=\"\",\"\",VLOOKUP(J1076,EventNPC!A:F,6,FALSE))","v":"馨儿"},6257,"我开始布阵，你准备好。",null,9121,5,"",null,null,{"$f":"IF(R1076=\"\",\"\",\"-\"&VLOOKUP(R1076,EventConditionConfig!A:C,3,FALSE)&IF(S1076=\"\",\"\",CHAR(10)&\"-\"&VLOOKUP(S1076,EventConditionConfig!A:C,3,FALSE)))","v":""},2,4007,"","",4007,null,"",null,null,"",{"$nulls":4},{"$f":"IF(A1076=\"\",\"\",IF(ISNUMBER(Y1076),2,IF(A1077=\"\",IF(OR(AK1076>0,VLOOKUP(O1076,EventConfig!A:C,3,FALSE)=4),3,\"\"),1)))","v":2},"912106;101",null,6257,9121]
[912106,6250,"完成和NPC的对话","",{"$nulls":5},131,{"$f":"IF(J1077=\"\",\"\",VLOOKUP(J1077,EventNPC!A:F,6,FALSE))","v":"馨儿"},6258,"多谢{0}道友相助。",null,9121,6,"",null,null,{"$f":"IF(R1077=\"\",\"\",\"-\"&VLOOKUP(R1077,EventConditionConfig!A:C,3,FALSE)&IF(S1077=\"\",\"\",CHAR(10)&\"-\"&VLOOKUP(S1077,EventConditionConfig!A:C,3,FALSE)))","v":""},"","","","",null,null,"",null,null,"",{"$nulls":4},{"$f":"IF(A1077=\"\",\"\",IF(ISNUMBER(Y1077),2,IF(A1078=\"\",IF(OR(AK1077>0,VLOOKUP(O1077,EventConfig!A:C,3,FALSE)=4),3,\"\"),1)))","v":""},"",null,6258,9121]
[null,"",null,"",{"$nulls":6},{"$f":"IF(J1078=\"\",\"\",VLOOKUP(J1078,EventNPC!A:F,6,FALSE))","v":""},"",{"$nulls":9},"","","",null,null,"",null,null,"",{"$nulls":4},{"$f":"IF(A1078=\"\",\"\",IF(ISNUMBER(Y1078),2,IF(A1079=\"\",IF(OR(AK1078>0,VLOOKUP(O1078,EventConfig!A:C,3,FALSE)=4),3,\"\"),1)))","v":""},"",null,"",0]
[{"$f":"O1079*100+P1079","v":912201},6259,"完成和NPC的对话","",{"$nulls":5},131,{"$f":"IF(J1079=\"\",\"\",VLOOKUP(J1079,EventNPC!A:F,6,FALSE))","v":"馨儿"},6260,"嘘！我在浮岛发现一群盗修，偷偷摸摸地在挖掘什么，估计是冲着浮岛的宝藏来的！",null,9122,{"$f":"IF(O1079=\"\",\"\",IF(O1079=O1078,P1078+1,1))","v":1},{"$f":"_xlfn.TEXTJOIN(\";\",1,R1079:S1079)","v":""},null,null,{"$f":"IF(R1079=\"\",\"\",\"-\"&VLOOKUP(R1079,EventConditionConfig!A:C,3,FALSE)&IF(S1079=\"\",\"\",CHAR(10)&\"-\"&VLOOKUP(S1079,EventConditionConfig!A:C,3,FALSE)))","v":""},{"$f":"IF(Y1079=\"\",\"\",IF(ISTEXT(Y1079),1,2))","v":""},"","","",null,null,"",null,null,"",{"$nulls":4},{"$f":"IF(A1079=\"\",\"\",IF(ISNUMBER(Y1079),2,IF(A1080=\"\",IF(OR(AK1079>0,VLOOKUP(O1079,EventConfig!A:C,3,FALSE)=4),3,\"\"),1)))","v":1},912202,null,6260,9122]
[912202,6259,"完成和NPC的对话","",{"$nulls":5},131,{"$f":"IF(J1080=\"\",\"\",VLOOKUP(J1080,EventNPC!A:F,6,FALSE))","v":"馨儿"},6261,"他们还提到什么圣地，肯定有阴谋！咱们上去瞧瞧。",null,9122,2,"",null,null,{"$f":"IF(R1080=\"\",\"\",\"-\"&VLOOKUP(R1080,EventConditionConfig!A:C,3,FALSE)&IF(S1080=\"\",\"\",CHAR(10)&\"-\"&VLOOKUP(S1080,EventConditionConfig!A:C,3,FALSE)))","v":""},1,"912203;912204","6262;6263",6262,"盗修人多，我怕打不过。",{"$f":"A1081","v":912203},6263,"（圣地难道是龙族圣地）走去瞧瞧！",{"$f":"A1082","v":912204},"",null,{"$f":"D1082","v":""},null,null,{"$f":"IF(A1080=\"\",\"\",IF(ISNUMBER(Y1080),2,IF(A1081=\"\",IF(OR(AK1080>0,VLOOKUP(O1080,EventConfig!A:C,3,FALSE)=4),3,\"\"),1)))","v":1},912203,null,6263,9122]
[912203,6259,"完成和NPC的对话","",{"$nulls":5},131,{"$f":"IF(J1081=\"\",\"\",VLOOKUP(J1081,EventNPC!A:F,6,FALSE))","v":"馨儿"},6264,"他们就是一群乌合之众！快来，宝藏等着咱们！",null,9122,3,"",null,null,{"$f":"IF(R1081=\"\",\"\",\"-\"&VLOOKUP(R1081,EventConditionConfig!A:C,3,FALSE)&IF(S1081=\"\",\"\",CHAR(10)&\"-\"&VLOOKUP(S1081,EventConditionConfig!A:C,3,FALSE)))","v":""},"","","","",null,null,"",null,null,"",{"$nulls":4},{"$f":"IF(A1081=\"\",\"\",IF(ISNUMBER(Y1081),2,IF(A1082=\"\",IF(OR(AK1081>0,VLOOKUP(O1081,EventConfig!A:C,3,FALSE)=4),3,\"\"),1)))","v":1},912204,{"$f":"A1082","v":912204},6264,9122]
[912204,6259,"完成和NPC的对话","",{"$nulls":5},128,{"$f":"IF(J1082=\"\",\"\",VLOOKUP(J1082,EventNPC!A:F,6,FALSE))","v":"敌人"},6265,"什么人？",null,9122,4,"",null,null,{"$f":"IF(R1082=\"\",\"\",\"-\"&VLOOKUP(R1082,EventConditionConfig!A:C,3,FALSE)&IF(S1082=\"\",\"\",CHAR(10)&\"-\"&VLOOKUP(S1082,EventConditionConfig!A:C,3,FALSE)))","v":""},"","","","",null,null,"",null,null,"",{"$nulls":4},{"$f":"IF(A1082=\"\",\"\",IF(ISNUMBER(Y1082),2,IF(A1083=\"\",IF(OR(AK1082>0,VLOOKUP(O1082,EventConfig!A:C,3,FALSE)=4),3,\"\"),1)))","v":1},912205,null,6265,9122]
[912205,6259,"完成和NPC的对话","",{"$nulls":5},131,{"$f":"IF(J1083=\"\",\"\",VLOOKUP(J1083,EventNPC!A:F,6,FALSE))","v":"馨儿"},6266,"你们偷偷摸摸的在干什么老实交代。",null,9122,5,"",null,null,{"$f":"IF(R1083=\"\",\"\",\"-\"&VLOOKUP(R1083,EventConditionConfig!A:C,3,FALSE)&IF(S1083=\"\",\"\",CHAR(10)&\"-\"&VLOOKUP(S1083,EventConditionConfig!A:C,3,FALSE)))","v":""},"","","","",null,null,"",null,null,"",{"$nulls":4},{"$f":"IF(A1083=\"\",\"\",IF(ISNUMBER(Y1083),2,IF(A1084=\"\",IF(OR(AK1083>0,VLOOKUP(O1083,EventConfig!A:C,3,FALSE)=4),3,\"\"),1)))","v":1},912206,null,6266,9122]
[912206,6259,"完成和NPC的对话","",{"$nulls":5},135,{"$f":"IF(J1084=\"\",\"\",VLOOKUP(J1084,EventNPC!A:F,6,FALSE))","v":"血海宗弟子B"},6267,"干什么不需要你们知道，既然发现了我们那你们就去死吧。",null,9122,6,"",null,null,{"$f":"IF(R1084=\"\",\"\",\"-\"&VLOOKUP(R1084,EventConditionConfig!A:C,3,FALSE)&IF(S1084=\"\",\"\",CHAR(10)&\"-\"&VLOOKUP(S1084,EventConditionConfig!A:C,3,FALSE)))","v":""},"","","","",null,null,"",null,null,"",{"$nulls":4},{"$f":"IF(A1084=\"\",\"\",IF(ISNUMBER(Y1084),2,IF(A1085=\"\",IF(OR(AK1084>0,VLOOKUP(O1084,EventConfig!A:C,3,FALSE)=4),3,\"\"),1)))","v":1},912207,null,6267,9122]
[912207,6259,"完成和NPC的对话","",{"$nulls":5},131,{"$f":"IF(J1085=\"\",\"\",VLOOKUP(J1085,EventNPC!A:F,6,FALSE))","v":"馨儿"},6268,"那2个交给我，剩下的你解决。",null,9122,7,"",null,null,{"$f":"IF(R1085=\"\",\"\",\"-\"&VLOOKUP(R1085,EventConditionConfig!A:C,3,FALSE)&IF(S1085=\"\",\"\",CHAR(10)&\"-\"&VLOOKUP(S1085,EventConditionConfig!A:C,3,FALSE)))","v":""},"","","","",null,null,"",null,null,"",{"$nulls":4},{"$f":"IF(A1085=\"\",\"\",IF(ISNUMBER(Y1085),2,IF(A1086=\"\",IF(OR(AK1085>0,VLOOKUP(O1085,EventConfig!A:C,3,FALSE)=4),3,\"\"),1)))","v":1},912208,null,6268,9122]
[912208,6259,"完成和NPC的对话","",{"$nulls":5},100,{"$f":"IF(J1086=\"\",\"\",VLOOKUP(J1086,EventNPC!A:F,6,FALSE))","v":"玩家"},6269,"啊？留给我的这2个怎么看起来厉害一些！",null,9122,8,"",null,null,{"$f":"IF(R1086=\"\",\"\",\"-\"&VLOOKUP(R1086,EventConditionConfig!A:C,3,FALSE)&IF(S1086=\"\",\"\",CHAR(10)&\"-\"&VLOOKUP(S1086,EventConditionConfig!A:C,3,FALSE)))","v":""},2,4008,"","",4008,null,"",null,null,"",{"$nulls":4},{"$f":"IF(A1086=\"\",\"\",IF(ISNUMBER(Y1086),2,IF(A1087=\"\",IF(OR(AK1086>0,VLOOKUP(O1086,EventConfig!A:C,3,FALSE)=4),3,\"\"),1)))","v":2},"912209;101",null,6269,9122]
[912209,6259,"完成和NPC的对话","",{"$nulls":5},131,{"$f":"IF(J1087=\"\",\"\",VLOOKUP(J1087,EventNPC!A:F,6,FALSE))","v":"馨儿"},6270,"我们去看看他们刚刚挖的什么。",null,9122,9,"",null,null,{"$f":"IF(R1087=\"\",\"\",\"-\"&VLOOKUP(R1087,EventConditionConfig!A:C,3,FALSE)&IF(S1087=\"\",\"\",CHAR(10)&\"-\"&VLOOKUP(S1087,EventConditionConfig!A:C,3,FALSE)))","v":""},"","","","",null,null,"",null,null,"",{"$nulls":4},{"$f":"IF(A1087=\"\",\"\",IF(ISNUMBER(Y1087),2,IF(A1088=\"\",IF(OR(AK1087>0,VLOOKUP(O1087,EventConfig!A:C,3,FALSE)=4),3,\"\"),1)))","v":1},912210,null,6270,9122]
[912210,6259,"完成和NPC的对话","",{"$nulls":5},131,{"$f":"IF(J1088=\"\",\"\",VLOOKUP(J1088,EventNPC!A:F,6,FALSE))","v":"馨儿"},6271,"这里有一个宝盒。（打开）",null,9122,10,"",null,null,{"$f":"IF(R1088=\"\",\"\",\"-\"&VLOOKUP(R1088,EventConditionConfig!A:C,3,FALSE)&IF(S1088=\"\",\"\",CHAR(10)&\"-\"&VLOOKUP(S1088,EventConditionConfig!A:C,3,FALSE)))","v":""},"","","","",null,null,"",null,null,"",{"$nulls":4},{"$f":"IF(A1088=\"\",\"\",IF(ISNUMBER(Y1088),2,IF(A1089=\"\",IF(OR(AK1088>0,VLOOKUP(O1088,EventConfig!A:C,3,FALSE)=4),3,\"\"),1)))","v":1},912211,null,6271,9122]
[912211,6259,"完成和NPC的对话","",{"$nulls":5},131,{"$f":"IF(J1089=\"\",\"\",VLOOKUP(J1089,EventNPC!A:F,6,FALSE))","v":"馨儿"},6272,"哇千年灵草，这个给我了没意见吧！",null,9122,11,"",null,null,{"$f":"IF(R1089=\"\",\"\",\"-\"&VLOOKUP(R1089,EventConditionConfig!A:C,3,FALSE)&IF(S1089=\"\",\"\",CHAR(10)&\"-\"&VLOOKUP(S1089,EventConditionConfig!A:C,3,FALSE)))","v":""},"","","","",null,null,"",null,null,"",{"$nulls":4},{"$f":"IF(A1089=\"\",\"\",IF(ISNUMBER(Y1089),2,IF(A1090=\"\",IF(OR(AK1089>0,VLOOKUP(O1089,EventConfig!A:C,3,FALSE)=4),3,\"\"),1)))","v":1},912212,null,6272,9122]
[912212,6259,"完成和NPC的对话","",{"$nulls":5},100,{"$f":"IF(J1090=\"\",\"\",VLOOKUP(J1090,EventNPC!A:F,6,FALSE))","v":"玩家"},6273,"......",null,9122,12,"",null,null,{"$f":"IF(R1090=\"\",\"\",\"-\"&VLOOKUP(R1090,EventConditionConfig!A:C,3,FALSE)&IF(S1090=\"\",\"\",CHAR(10)&\"-\"&VLOOKUP(S1090,EventConditionConfig!A:C,3,FALSE)))","v":""},"","","","",null,null,"",null,null,"",{"$nulls":4},{"$f":"IF(A1090=\"\",\"\",IF(ISNUMBER(Y1090),2,IF(A1091=\"\",IF(OR(AK1090>0,VLOOKUP(O1090,EventConfig!A:C,3,FALSE)=4),3,\"\"),1)))","v":1},912213,null,6273,9122]
[912213,6259,"完成和NPC的对话","",{"$nulls":5},131,{"$f":"IF(J1091=\"\",\"\",VLOOKUP(J1091,EventNPC!A:F,6,FALSE))","v":"馨儿"},6274,"不说话就是同意了，那我收下了，这里还有一个像是鱼鳞什么的给你吧。",null,9122,13,"",null,null,{"$f":"IF(R1091=\"\",\"\",\"-\"&VLOOKUP(R1091,EventConditionConfig!A:C,3,FALSE)&IF(S1091=\"\",\"\",CHAR(10)&\"-\"&VLOOKUP(S1091,EventConditionConfig!A:C,3,FALSE)))","v":""},"","","","",null,null,"",null,null,"",{"$nulls":4},{"$f":"IF(A1091=\"\",\"\",IF(ISNUMBER(Y1091),2,IF(A1092=\"\",IF(OR(AK1091>0,VLOOKUP(O1091,EventConfig!A:C,3,FALSE)=4),3,\"\"),1)))","v":1},912214,null,6274,9122]
[912214,6259,"完成和NPC的对话","",{"$nulls":5},100,{"$f":"IF(J1092=\"\",\"\",VLOOKUP(J1092,EventNPC!A:F,6,FALSE))","v":"玩家"},6275,"......（算了正好我也想要此物）",null,9122,14,"",null,null,{"$f":"IF(R1092=\"\",\"\",\"-\"&VLOOKUP(R1092,EventConditionConfig!A:C,3,FALSE)&IF(S1092=\"\",\"\",CHAR(10)&\"-\"&VLOOKUP(S1092,EventConditionConfig!A:C,3,FALSE)))","v":""},"","","","",null,null,"",null,null,"",{"$nulls":4},{"$f":"IF(A1092=\"\",\"\",IF(ISNUMBER(Y1092),2,IF(A1093=\"\",IF(OR(AK1092>0,VLOOKUP(O1092,EventConfig!A:C,3,FALSE)=4),3,\"\"),1)))","v":1},912215,null,6275,9122]
[912215,6259,"完成和NPC的对话","",{"$nulls":5},131,{"$f":"IF(J1093=\"\",\"\",VLOOKUP(J1093,EventNPC!A:F,6,FALSE))","v":"馨儿"},{"$f":"IF(M1093=\"\",\"\",MAX(AL1092,AL1091,B1093,D1093)+1)","v":6276},"不要不开心嘛，这点灵石也给你。",null,9122,15,"",null,null,{"$f":"IF(R1093=\"\",\"\",\"-\"&VLOOKUP(R1093,EventConditionConfig!A:C,3,FALSE)&IF(S1093=\"\",\"\",CHAR(10)&\"-\"&VLOOKUP(S1093,EventConditionConfig!A:C,3,FALSE)))","v":""},"","","","",null,null,"",null,null,"",{"$nulls":4},{"$f":"IF(A1093=\"\",\"\",IF(ISNUMBER(Y1093),2,IF(A1094=\"\",IF(OR(AK1093>0,VLOOKUP(O1093,EventConfig!A:C,3,FALSE)=4),3,\"\"),1)))","v":""},"",null,6276,9122]
[null,"",null,{"$f":"IF(E1094=\"\",\"\",IF(E1094=E1093,D1093,MAX(AL1093,AL1092,B1094)+1))","v":""},{"$nulls":6},{"$f":"IF(J1094=\"\",\"\",VLOOKUP(J1094,EventNPC!A:F,6,FALSE))","v":""},"",{"$nulls":9},"","","",null,null,"",null,null,"",{"$nulls":4},{"$f":"IF(A1094=\"\",\"\",IF(ISNUMBER(Y1094),2,IF(A1095=\"\",IF(OR(AK1094>0,VLOOKUP(O1094,EventConfig!A:C,3,FALSE)=4),3,\"\"),1)))","v":""},"",null,"",0]
[{"$f":"O1095*100+P1095","v":912301},6277,"完成和NPC的对话","",{"$nulls":5},100,{"$f":"IF(J1095=\"\",\"\",VLOOKUP(J1095,EventNPC!A:F,6,FALSE))","v":"玩家"},6278,"前方好似有人在斗法，屏蔽下神识以免被人发现。（玩家悄悄的过去）",null,9123,{"$f":"IF(O1095=\"\",\"\",IF(O1095=O1094,P1094+1,1))","v":1},{"$f":"_xlfn.TEXTJOIN(\";\",1,R1095:S1095)","v":""},null,null,{"$f":"IF(R1095=\"\",\"\",\"-\"&VLOOKUP(R1095,EventConditionConfig!A:C,3,FALSE)&IF(S1095=\"\",\"\",CHAR(10)&\"-\"&VLOOKUP(S1095,EventConditionConfig!A:C,3,FALSE)))","v":""},{"$f":"IF(Y1095=\"\",\"\",IF(ISTEXT(Y1095),1,2))","v":""},"","","",null,null,"",null,null,"",{"$nulls":4},{"$f":"IF(A1095=\"\",\"\",IF(ISNUMBER(Y1095),2,IF(A1096=\"\",IF(OR(AK1095>0,VLOOKUP(O1095,EventConfig!A:C,3,FALSE)=4),3,\"\"),1)))","v":1},912302,null,6278,9123]
[912302,6277,"完成和NPC的对话","",{"$nulls":5},100,{"$f":"IF(J1096=\"\",\"\",VLOOKUP(J1096,EventNPC!A:F,6,FALSE))","v":"玩家"},6279,"这不是血海宗和云雾宗的弟子吗，先看看他们在做什么",null,9123,2,"",null,null,{"$f":"IF(R1096=\"\",\"\",\"-\"&VLOOKUP(R1096,EventConditionConfig!A:C,3,FALSE)&IF(S1096=\"\",\"\",CHAR(10)&\"-\"&VLOOKUP(S1096,EventConditionConfig!A:C,3,FALSE)))","v":""},"","","","",null,null,"",null,null,"",{"$nulls":4},{"$f":"IF(A1096=\"\",\"\",IF(ISNUMBER(Y1096),2,IF(A1097=\"\",IF(OR(AK1096>0,VLOOKUP(O1096,EventConfig!A:C,3,FALSE)=4),3,\"\"),1)))","v":1},912303,null,{"$f":"IF(A1096=\"\",\"\",MAX(B1096,D1096,L1096,X1096,AA1096,AL1095,AL1094,AD1096))","v":6279},{"$f":"O1096","v":9123}]
[912303,6277,"完成和NPC的对话","",{"$nulls":5},133,{"$f":"IF(J1097=\"\",\"\",VLOOKUP(J1097,EventNPC!A:F,6,FALSE))","v":"血海宗弟子A"},6280,"你们云雾宗是没有人了吗？竟派你这等修为的弟子前来追击。",null,9123,3,"",null,null,{"$f":"IF(R1097=\"\",\"\",\"-\"&VLOOKUP(R1097,EventConditionConfig!A:C,3,FALSE)&IF(S1097=\"\",\"\",CHAR(10)&\"-\"&VLOOKUP(S1097,EventConditionConfig!A:C,3,FALSE)))","v":""},"","","","",null,null,"",null,null,"",{"$nulls":4},{"$f":"IF(A1097=\"\",\"\",IF(ISNUMBER(Y1097),2,IF(A1098=\"\",IF(OR(AK1097>0,VLOOKUP(O1097,EventConfig!A:C,3,FALSE)=4),3,\"\"),1)))","v":1},912304,null,6280,9123]
[912304,6277,"完成和NPC的对话","",{"$nulls":5},134,{"$f":"IF(J1098=\"\",\"\",VLOOKUP(J1098,EventNPC!A:F,6,FALSE))","v":"柳轻烟"},6281,"（受伤的状态）你不要高兴太早，敢抢夺云雾宗密钥，你以为就只有我来追击吗？",null,9123,4,"",null,null,{"$f":"IF(R1098=\"\",\"\",\"-\"&VLOOKUP(R1098,EventConditionConfig!A:C,3,FALSE)&IF(S1098=\"\",\"\",CHAR(10)&\"-\"&VLOOKUP(S1098,EventConditionConfig!A:C,3,FALSE)))","v":""},"","","","",null,null,"",null,null,"",{"$nulls":4},{"$f":"IF(A1098=\"\",\"\",IF(ISNUMBER(Y1098),2,IF(A1099=\"\",IF(OR(AK1098>0,VLOOKUP(O1098,EventConfig!A:C,3,FALSE)=4),3,\"\"),1)))","v":1},912305,null,6281,9123]
[912305,6277,"完成和NPC的对话","",{"$nulls":5},133,{"$f":"IF(J1099=\"\",\"\",VLOOKUP(J1099,EventNPC!A:F,6,FALSE))","v":"血海宗弟子A"},6282,"哼，什么叫抢，这叫借用几天，用完血海宗自会还你。",null,9123,5,"",null,null,{"$f":"IF(R1099=\"\",\"\",\"-\"&VLOOKUP(R1099,EventConditionConfig!A:C,3,FALSE)&IF(S1099=\"\",\"\",CHAR(10)&\"-\"&VLOOKUP(S1099,EventConditionConfig!A:C,3,FALSE)))","v":""},"","","","",null,null,"",null,null,"",{"$nulls":4},{"$f":"IF(A1099=\"\",\"\",IF(ISNUMBER(Y1099),2,IF(A1100=\"\",IF(OR(AK1099>0,VLOOKUP(O1099,EventConfig!A:C,3,FALSE)=4),3,\"\"),1)))","v":1},912306,null,6282,9123]
[912306,6277,"完成和NPC的对话","",{"$nulls":5},134,{"$f":"IF(J1100=\"\",\"\",VLOOKUP(J1100,EventNPC!A:F,6,FALSE))","v":"柳轻烟"},6283,"（受伤的状态）呸，冠冕堂皇。",null,9123,6,"",null,null,{"$f":"IF(R1100=\"\",\"\",\"-\"&VLOOKUP(R1100,EventConditionConfig!A:C,3,FALSE)&IF(S1100=\"\",\"\",CHAR(10)&\"-\"&VLOOKUP(S1100,EventConditionConfig!A:C,3,FALSE)))","v":""},"","",{"$f":"_xlfn.TEXTJOIN(\";\",1,X1100,AA1100,AD1100)","v":""},{"$f":"IF(OR(ISNUMBER(Y1100),Y1100=\"\"),\"\",MAX(AL1099,AL1097,B1100,D1100,L1100)+1)","v":""},null,null,{"$f":"IF(OR(ISNUMBER(AB1100),AB1100=\"\"),\"\",X1100+1)","v":""},null,null,"",{"$nulls":4},{"$f":"IF(A1100=\"\",\"\",IF(ISNUMBER(Y1100),2,IF(A1101=\"\",IF(OR(AK1100>0,VLOOKUP(O1100,EventConfig!A:C,3,FALSE)=4),3,\"\"),1)))","v":1},912307,null,6283,9123]
[912307,6277,"完成和NPC的对话","",{"$nulls":5},135,{"$f":"IF(J1101=\"\",\"\",VLOOKUP(J1101,EventNPC!A:F,6,FALSE))","v":"血海宗弟子B"},6284,"师兄少给她废话，我们还是赶快走，以免误了宗主的计划。",null,9123,7,"",null,null,{"$f":"IF(R1101=\"\",\"\",\"-\"&VLOOKUP(R1101,EventConditionConfig!A:C,3,FALSE)&IF(S1101=\"\",\"\",CHAR(10)&\"-\"&VLOOKUP(S1101,EventConditionConfig!A:C,3,FALSE)))","v":""},"","","","",null,null,"",null,null,{"$f":"IF(OR(ISNUMBER(AE1101),AE1101=\"\"),\"\",AA1101+1)","v":""},{"$nulls":4},{"$f":"IF(A1101=\"\",\"\",IF(ISNUMBER(Y1101),2,IF(A1102=\"\",IF(OR(AK1101>0,VLOOKUP(O1101,EventConfig!A:C,3,FALSE)=4),3,\"\"),1)))","v":1},912308,null,6284,9123]
[912308,6277,"完成和NPC的对话","",{"$nulls":5},133,{"$f":"IF(J1102=\"\",\"\",VLOOKUP(J1102,EventNPC!A:F,6,FALSE))","v":"血海宗弟子A"},6285,"今天就先放过你，回去练练再出来吧哈哈（快速飞走）",null,9123,8,"",null,null,{"$f":"IF(R1102=\"\",\"\",\"-\"&VLOOKUP(R1102,EventConditionConfig!A:C,3,FALSE)&IF(S1102=\"\",\"\",CHAR(10)&\"-\"&VLOOKUP(S1102,EventConditionConfig!A:C,3,FALSE)))","v":""},1,{"$f":"IF(U1102=1,_xlfn.TEXTJOIN(\";\",1,IF(Z1102=\"\",A1102+1,Z1102),IF(AND(AA1102<>\"\",AC1102=\"\"),A1102+1,AC1102),IF(AND(AD1102<>\"\",AF1102=\"\"),A1102+1,AF1102)),IF(U1102=2,Y1102,\"\"))","v":"912310;912314"},"6286;6287",6286,"多一事不如少一事，我还是走吧",{"$f":"A1104","v":912310},6287,"修仙者修的是境界，也修的是人性。现前去了解情况做打算",{"$f":"A1108","v":912314},"",null,{"$f":"D1108","v":""},null,null,{"$f":"IF(A1102=\"\",\"\",IF(ISNUMBER(Y1102),2,IF(A1103=\"\",IF(OR(AK1102>0,VLOOKUP(O1102,EventConfig!A:C,3,FALSE)=4),3,\"\"),1)))","v":1},{"$f":"IF(AI1102=\"\",\"\",CHOOSE(AI1102,IF(AK1102=\"\",A1102+1,AK1102),CONCATENATE(IF(AK1102=\"\",A1102+1,AK1102),\";101\"),IF(AK1102=\"\",O1102+1,AK1102)))","v":912309},null,6287,9123]
[912309,6277,"完成和NPC的对话","",{"$nulls":5},100,{"$f":"IF(J1103=\"\",\"\",VLOOKUP(J1103,EventNPC!A:F,6,FALSE))","v":"玩家"},6288,"（此人好像受伤很严重）",null,9123,9,"",null,null,{"$f":"IF(R1103=\"\",\"\",\"-\"&VLOOKUP(R1103,EventConditionConfig!A:C,3,FALSE)&IF(S1103=\"\",\"\",CHAR(10)&\"-\"&VLOOKUP(S1103,EventConditionConfig!A:C,3,FALSE)))","v":""},"","","","",null,null,"",null,null,"",{"$nulls":4},{"$f":"IF(A1103=\"\",\"\",IF(ISNUMBER(Y1103),2,IF(A1104=\"\",IF(OR(AK1103>0,VLOOKUP(O1103,EventConfig!A:C,3,FALSE)=4),3,\"\"),1)))","v":1},912310,null,6288,9123]
[912310,6277,"完成和NPC的对话","",{"$nulls":5},134,{"$f":"IF(J1104=\"\",\"\",VLOOKUP(J1104,EventNPC!A:F,6,FALSE))","v":"柳轻烟"},6289,"（受伤的状态）道友何不现身。看了这么久相信道友也已知来龙去脉。",null,9123,10,"",null,null,{"$f":"IF(R1104=\"\",\"\",\"-\"&VLOOKUP(R1104,EventConditionConfig!A:C,3,FALSE)&IF(S1104=\"\",\"\",CHAR(10)&\"-\"&VLOOKUP(S1104,EventConditionConfig!A:C,3,FALSE)))","v":""},"","","","",null,null,"",null,null,"",{"$nulls":4},{"$f":"IF(A1104=\"\",\"\",IF(ISNUMBER(Y1104),2,IF(A1105=\"\",IF(OR(AK1104>0,VLOOKUP(O1104,EventConfig!A:C,3,FALSE)=4),3,\"\"),1)))","v":1},912311,null,6289,9123]
[912311,6277,"完成和NPC的对话","",{"$nulls":5},100,{"$f":"IF(J1105=\"\",\"\",VLOOKUP(J1105,EventNPC!A:F,6,FALSE))","v":"玩家"},6290,"（惊讶）：（被发现了？）",null,9123,11,"",null,null,{"$f":"IF(R1105=\"\",\"\",\"-\"&VLOOKUP(R1105,EventConditionConfig!A:C,3,FALSE)&IF(S1105=\"\",\"\",CHAR(10)&\"-\"&VLOOKUP(S1105,EventConditionConfig!A:C,3,FALSE)))","v":""},"","","","",null,null,"",null,null,"",{"$nulls":4},{"$f":"IF(A1105=\"\",\"\",IF(ISNUMBER(Y1105),2,IF(A1106=\"\",IF(OR(AK1105>0,VLOOKUP(O1105,EventConfig!A:C,3,FALSE)=4),3,\"\"),1)))","v":1},912312,null,6290,9123]
[912312,6277,"完成和NPC的对话","",{"$nulls":5},134,{"$f":"IF(J1106=\"\",\"\",VLOOKUP(J1106,EventNPC!A:F,6,FALSE))","v":"柳轻烟"},6291,"不要感到惊讶，你虽屏蔽了神识，但我有宗门法宝窥识珠，能识方圆10公里修仙者。",null,9123,12,"",null,null,{"$f":"IF(R1106=\"\",\"\",\"-\"&VLOOKUP(R1106,EventConditionConfig!A:C,3,FALSE)&IF(S1106=\"\",\"\",CHAR(10)&\"-\"&VLOOKUP(S1106,EventConditionConfig!A:C,3,FALSE)))","v":""},"","","","",null,null,"",null,null,"",{"$nulls":4},{"$f":"IF(A1106=\"\",\"\",IF(ISNUMBER(Y1106),2,IF(A1107=\"\",IF(OR(AK1106>0,VLOOKUP(O1106,EventConfig!A:C,3,FALSE)=4),3,\"\"),1)))","v":1},912313,null,6291,9123]
[912313,6277,"完成和NPC的对话","",{"$nulls":5},100,{"$f":"IF(J1107=\"\",\"\",VLOOKUP(J1107,EventNPC!A:F,6,FALSE))","v":"玩家"},6292,"（索性也不隐藏了）",null,9123,13,"",null,null,{"$f":"IF(R1107=\"\",\"\",\"-\"&VLOOKUP(R1107,EventConditionConfig!A:C,3,FALSE)&IF(S1107=\"\",\"\",CHAR(10)&\"-\"&VLOOKUP(S1107,EventConditionConfig!A:C,3,FALSE)))","v":""},"","","","",null,null,"",null,null,"",{"$nulls":4},{"$f":"IF(A1107=\"\",\"\",IF(ISNUMBER(Y1107),2,IF(A1108=\"\",IF(OR(AK1107>0,VLOOKUP(O1107,EventConfig!A:C,3,FALSE)=4),3,\"\"),1)))","v":1},912318,{"$f":"A1112","v":912318},6292,9123]
[912314,6277,"完成和NPC的对话","",{"$nulls":5},100,{"$f":"IF(J1108=\"\",\"\",VLOOKUP(J1108,EventNPC!A:F,6,FALSE))","v":"玩家"},6293,"（从树林背后走出）",null,9123,14,"",null,null,{"$f":"IF(R1108=\"\",\"\",\"-\"&VLOOKUP(R1108,EventConditionConfig!A:C,3,FALSE)&IF(S1108=\"\",\"\",CHAR(10)&\"-\"&VLOOKUP(S1108,EventConditionConfig!A:C,3,FALSE)))","v":""},"","","","",null,null,"",null,null,"",{"$nulls":4},{"$f":"IF(A1108=\"\",\"\",IF(ISNUMBER(Y1108),2,IF(A1109=\"\",IF(OR(AK1108>0,VLOOKUP(O1108,EventConfig!A:C,3,FALSE)=4),3,\"\"),1)))","v":1},912315,null,6293,9123]
[912315,6277,"完成和NPC的对话","",{"$nulls":5},134,{"$f":"IF(J1109=\"\",\"\",VLOOKUP(J1109,EventNPC!A:F,6,FALSE))","v":"柳轻烟"},6294,"（受伤的状态）这位道友看了这么久相信道友也已知来龙去脉。",null,9123,15,"",null,null,{"$f":"IF(R1109=\"\",\"\",\"-\"&VLOOKUP(R1109,EventConditionConfig!A:C,3,FALSE)&IF(S1109=\"\",\"\",CHAR(10)&\"-\"&VLOOKUP(S1109,EventConditionConfig!A:C,3,FALSE)))","v":""},"","","","",null,null,"",null,null,"",{"$nulls":4},{"$f":"IF(A1109=\"\",\"\",IF(ISNUMBER(Y1109),2,IF(A1110=\"\",IF(OR(AK1109>0,VLOOKUP(O1109,EventConfig!A:C,3,FALSE)=4),3,\"\"),1)))","v":1},912316,null,6294,9123]
[912316,6277,"完成和NPC的对话","",{"$nulls":5},100,{"$f":"IF(J1110=\"\",\"\",VLOOKUP(J1110,EventNPC!A:F,6,FALSE))","v":"玩家"},6295,"（惊讶）你早知我以到此地？",null,9123,16,"",null,null,{"$f":"IF(R1110=\"\",\"\",\"-\"&VLOOKUP(R1110,EventConditionConfig!A:C,3,FALSE)&IF(S1110=\"\",\"\",CHAR(10)&\"-\"&VLOOKUP(S1110,EventConditionConfig!A:C,3,FALSE)))","v":""},"","","","",null,null,"",null,null,"",{"$nulls":4},{"$f":"IF(A1110=\"\",\"\",IF(ISNUMBER(Y1110),2,IF(A1111=\"\",IF(OR(AK1110>0,VLOOKUP(O1110,EventConfig!A:C,3,FALSE)=4),3,\"\"),1)))","v":1},912317,null,6295,9123]
[912317,6277,"完成和NPC的对话","",{"$nulls":5},134,{"$f":"IF(J1111=\"\",\"\",VLOOKUP(J1111,EventNPC!A:F,6,FALSE))","v":"柳轻烟"},6296,"不要感到惊讶，你虽屏蔽了神识，但我有宗门法宝窥识珠，能识方圆10公里修仙者。",null,9123,17,"",null,null,{"$f":"IF(R1111=\"\",\"\",\"-\"&VLOOKUP(R1111,EventConditionConfig!A:C,3,FALSE)&IF(S1111=\"\",\"\",CHAR(10)&\"-\"&VLOOKUP(S1111,EventConditionConfig!A:C,3,FALSE)))","v":""},"","","","",null,null,"",null,null,"",{"$nulls":4},{"$f":"IF(A1111=\"\",\"\",IF(ISNUMBER(Y1111),2,IF(A1112=\"\",IF(OR(AK1111>0,VLOOKUP(O1111,EventConfig!A:C,3,FALSE)=4),3,\"\"),1)))","v":1},912318,{"$f":"A1112","v":912318},6296,9123]
[912318,6277,"完成和NPC的对话","",{"$nulls":5},134,{"$f":"IF(J1112=\"\",\"\",VLOOKUP(J1112,EventNPC!A:F,6,FALSE))","v":"柳轻烟"},6297,"（受伤的状态）道友……咳咳……在下柳轻烟，不知道友如何称呼？",null,9123,18,"",null,null,{"$f":"IF(R1112=\"\",\"\",\"-\"&VLOOKUP(R1112,EventConditionConfig!A:C,3,FALSE)&IF(S1112=\"\",\"\",CHAR(10)&\"-\"&VLOOKUP(S1112,EventConditionConfig!A:C,3,FALSE)))","v":""},"","","","",null,null,"",null,null,"",{"$nulls":4},{"$f":"IF(A1112=\"\",\"\",IF(ISNUMBER(Y1112),2,IF(A1113=\"\",IF(OR(AK1112>0,VLOOKUP(O1112,EventConfig!A:C,3,FALSE)=4),3,\"\"),1)))","v":1},912319,null,6297,9123]
[912319,6277,"完成和NPC的对话","",{"$nulls":5},100,{"$f":"IF(J1113=\"\",\"\",VLOOKUP(J1113,EventNPC!A:F,6,FALSE))","v":"玩家"},6298,"我叫{0}，柳道友先服下这颗丹药",null,9123,19,"",null,null,{"$f":"IF(R1113=\"\",\"\",\"-\"&VLOOKUP(R1113,EventConditionConfig!A:C,3,FALSE)&IF(S1113=\"\",\"\",CHAR(10)&\"-\"&VLOOKUP(S1113,EventConditionConfig!A:C,3,FALSE)))","v":""},"","","","",null,null,"",null,null,"",{"$nulls":4},{"$f":"IF(A1113=\"\",\"\",IF(ISNUMBER(Y1113),2,IF(A1114=\"\",IF(OR(AK1113>0,VLOOKUP(O1113,EventConfig!A:C,3,FALSE)=4),3,\"\"),1)))","v":1},912320,null,6298,9123]
[912320,6277,"完成和NPC的对话","",{"$nulls":5},134,{"$f":"IF(J1114=\"\",\"\",VLOOKUP(J1114,EventNPC!A:F,6,FALSE))","v":"柳轻烟"},6299,"道友的心意我领了，我伤无大碍",null,9123,20,"",null,null,{"$f":"IF(R1114=\"\",\"\",\"-\"&VLOOKUP(R1114,EventConditionConfig!A:C,3,FALSE)&IF(S1114=\"\",\"\",CHAR(10)&\"-\"&VLOOKUP(S1114,EventConditionConfig!A:C,3,FALSE)))","v":""},"","","","",null,null,"",null,null,"",{"$nulls":4},{"$f":"IF(A1114=\"\",\"\",IF(ISNUMBER(Y1114),2,IF(A1115=\"\",IF(OR(AK1114>0,VLOOKUP(O1114,EventConfig!A:C,3,FALSE)=4),3,\"\"),1)))","v":1},912321,null,6299,9123]
[912321,6277,"完成和NPC的对话","",{"$nulls":5},134,{"$f":"IF(J1115=\"\",\"\",VLOOKUP(J1115,EventNPC!A:F,6,FALSE))","v":"柳轻烟"},6300,"我乃云雾宗内门弟子，奉师命探查北海深处寻找云雾秘钥，却不慎被血海宗埋伏，身受重伤。",null,9123,21,"",null,null,{"$f":"IF(R1115=\"\",\"\",\"-\"&VLOOKUP(R1115,EventConditionConfig!A:C,3,FALSE)&IF(S1115=\"\",\"\",CHAR(10)&\"-\"&VLOOKUP(S1115,EventConditionConfig!A:C,3,FALSE)))","v":""},"","","","",null,null,"",null,null,"",{"$nulls":4},{"$f":"IF(A1115=\"\",\"\",IF(ISNUMBER(Y1115),2,IF(A1116=\"\",IF(OR(AK1115>0,VLOOKUP(O1115,EventConfig!A:C,3,FALSE)=4),3,\"\"),1)))","v":1},912322,null,6300,9123]
[912322,6277,"完成和NPC的对话","",{"$nulls":5},134,{"$f":"IF(J1116=\"\",\"\",VLOOKUP(J1116,EventNPC!A:F,6,FALSE))","v":"柳轻烟"},6301,"他们抢走了我宗至宝‘云雾秘钥’,此物能开启祖师堂的封印，内藏突破元婴的机缘！",null,9123,22,"",null,null,{"$f":"IF(R1116=\"\",\"\",\"-\"&VLOOKUP(R1116,EventConditionConfig!A:C,3,FALSE)&IF(S1116=\"\",\"\",CHAR(10)&\"-\"&VLOOKUP(S1116,EventConditionConfig!A:C,3,FALSE)))","v":""},"","","","",null,null,"",null,null,"",{"$nulls":4},{"$f":"IF(A1116=\"\",\"\",IF(ISNUMBER(Y1116),2,IF(A1117=\"\",IF(OR(AK1116>0,VLOOKUP(O1116,EventConfig!A:C,3,FALSE)=4),3,\"\"),1)))","v":1},912323,null,6301,9123]
[912323,6277,"完成和NPC的对话","",{"$nulls":5},134,{"$f":"IF(J1117=\"\",\"\",VLOOKUP(J1117,EventNPC!A:F,6,FALSE))","v":"柳轻烟"},6302,"若秘钥落入血海宗之手，云雾宗气运将受重创……求你帮我夺回秘钥。",null,9123,23,"",null,null,{"$f":"IF(R1117=\"\",\"\",\"-\"&VLOOKUP(R1117,EventConditionConfig!A:C,3,FALSE)&IF(S1117=\"\",\"\",CHAR(10)&\"-\"&VLOOKUP(S1117,EventConditionConfig!A:C,3,FALSE)))","v":""},1,"912324;912325","6303;6304",6303,"柳道友放心，我定会夺回秘钥，助云雾宗渡过此劫！",{"$f":"A1118","v":912324},6304,"柳道友，血海宗实力强大，我恐怕力有不逮……",{"$f":"A1119","v":912325},"",null,{"$f":"D1119","v":""},null,null,{"$f":"IF(A1117=\"\",\"\",IF(ISNUMBER(Y1117),2,IF(A1118=\"\",IF(OR(AK1117>0,VLOOKUP(O1117,EventConfig!A:C,3,FALSE)=4),3,\"\"),1)))","v":1},912324,null,6304,9123]
[912324,6277,"完成和NPC的对话","",{"$nulls":5},134,{"$f":"IF(J1118=\"\",\"\",VLOOKUP(J1118,EventNPC!A:F,6,FALSE))","v":"柳轻烟"},6305,"多谢道友仗义相助！此符交给你，愿你平安归来……禁地凶险，若遇不测，务必以保命为先！",null,9123,24,"",null,null,{"$f":"IF(R1118=\"\",\"\",\"-\"&VLOOKUP(R1118,EventConditionConfig!A:C,3,FALSE)&IF(S1118=\"\",\"\",CHAR(10)&\"-\"&VLOOKUP(S1118,EventConditionConfig!A:C,3,FALSE)))","v":""},"","","","",null,null,"",null,null,"",{"$nulls":4},{"$f":"IF(A1118=\"\",\"\",IF(ISNUMBER(Y1118),2,IF(A1119=\"\",IF(OR(AK1118>0,VLOOKUP(O1118,EventConfig!A:C,3,FALSE)=4),3,\"\"),1)))","v":1},912328,{"$f":"A1122","v":912328},6305,9123]
[912325,6277,"完成和NPC的对话","",{"$nulls":5},134,{"$f":"IF(J1119=\"\",\"\",VLOOKUP(J1119,EventNPC!A:F,6,FALSE))","v":"柳轻烟"},6306,"我知此行凶险，强人所难了……但秘钥关乎云雾宗存亡，我身受重伤，已无他法！！",null,9123,25,"",null,null,{"$f":"IF(R1119=\"\",\"\",\"-\"&VLOOKUP(R1119,EventConditionConfig!A:C,3,FALSE)&IF(S1119=\"\",\"\",CHAR(10)&\"-\"&VLOOKUP(S1119,EventConditionConfig!A:C,3,FALSE)))","v":""},"","","","",null,null,"",null,null,"",{"$nulls":4},{"$f":"IF(A1119=\"\",\"\",IF(ISNUMBER(Y1119),2,IF(A1120=\"\",IF(OR(AK1119>0,VLOOKUP(O1119,EventConfig!A:C,3,FALSE)=4),3,\"\"),1)))","v":1},912326,null,6306,9123]
[912326,6277,"完成和NPC的对话","",{"$nulls":5},134,{"$f":"IF(J1120=\"\",\"\",VLOOKUP(J1120,EventNPC!A:F,6,FALSE))","v":"柳轻烟"},6307,"道友若肯相助，以后有任何困难云雾宗都已全力以赴帮助道友。",null,9123,26,"",null,null,{"$f":"IF(R1120=\"\",\"\",\"-\"&VLOOKUP(R1120,EventConditionConfig!A:C,3,FALSE)&IF(S1120=\"\",\"\",CHAR(10)&\"-\"&VLOOKUP(S1120,EventConditionConfig!A:C,3,FALSE)))","v":""},"","","","",null,null,"",null,null,"",{"$nulls":4},{"$f":"IF(A1120=\"\",\"\",IF(ISNUMBER(Y1120),2,IF(A1121=\"\",IF(OR(AK1120>0,VLOOKUP(O1120,EventConfig!A:C,3,FALSE)=4),3,\"\"),1)))","v":1},912328,{"$f":"A1122","v":912328},6307,9123]
[912327,6277,"完成和NPC的对话","",{"$nulls":5},134,{"$f":"IF(J1121=\"\",\"\",VLOOKUP(J1121,EventNPC!A:F,6,FALSE))","v":"柳轻烟"},6308,"对了，这里有几个丹药对道友的修为有所帮助，望道友鼎力相助！",null,9123,27,"",null,null,{"$f":"IF(R1121=\"\",\"\",\"-\"&VLOOKUP(R1121,EventConditionConfig!A:C,3,FALSE)&IF(S1121=\"\",\"\",CHAR(10)&\"-\"&VLOOKUP(S1121,EventConditionConfig!A:C,3,FALSE)))","v":""},"","","","",null,null,"",null,null,"",{"$nulls":4},{"$f":"IF(A1121=\"\",\"\",IF(ISNUMBER(Y1121),2,IF(A1122=\"\",IF(OR(AK1121>0,VLOOKUP(O1121,EventConfig!A:C,3,FALSE)=4),3,\"\"),1)))","v":1},912328,null,6308,9123]
[912328,6277,"完成和NPC的对话","",{"$nulls":5},100,{"$f":"IF(J1122=\"\",\"\",VLOOKUP(J1122,EventNPC!A:F,6,FALSE))","v":"玩家"},6309,"好的，我尽力而为。",null,9123,28,"",null,null,{"$f":"IF(R1122=\"\",\"\",\"-\"&VLOOKUP(R1122,EventConditionConfig!A:C,3,FALSE)&IF(S1122=\"\",\"\",CHAR(10)&\"-\"&VLOOKUP(S1122,EventConditionConfig!A:C,3,FALSE)))","v":""},"","","","",null,null,"",null,null,"",{"$nulls":4},{"$f":"IF(A1122=\"\",\"\",IF(ISNUMBER(Y1122),2,IF(A1123=\"\",IF(OR(AK1122>0,VLOOKUP(O1122,EventConfig!A:C,3,FALSE)=4),3,\"\"),1)))","v":1},912329,null,6309,9123]
[912329,6277,"完成和NPC的对话","",{"$nulls":5},134,{"$f":"IF(J1123=\"\",\"\",VLOOKUP(J1123,EventNPC!A:F,6,FALSE))","v":"柳轻烟"},6310,"感谢道友，我在此地疗伤，道友如找到后在此处找我。",null,9123,29,"",null,null,{"$f":"IF(R1123=\"\",\"\",\"-\"&VLOOKUP(R1123,EventConditionConfig!A:C,3,FALSE)&IF(S1123=\"\",\"\",CHAR(10)&\"-\"&VLOOKUP(S1123,EventConditionConfig!A:C,3,FALSE)))","v":""},"","","","",null,null,"",null,null,"",{"$nulls":4},{"$f":"IF(A1123=\"\",\"\",IF(ISNUMBER(Y1123),2,IF(A1124=\"\",IF(OR(AK1123>0,VLOOKUP(O1123,EventConfig!A:C,3,FALSE)=4),3,\"\"),1)))","v":""},"",null,6310,9123]
[null,"",null,"",{"$nulls":6},{"$f":"IF(J1124=\"\",\"\",VLOOKUP(J1124,EventNPC!A:F,6,FALSE))","v":""},"",{"$nulls":9},"","","",null,null,"",null,null,"",{"$nulls":4},{"$f":"IF(A1124=\"\",\"\",IF(ISNUMBER(Y1124),2,IF(A1125=\"\",IF(OR(AK1124>0,VLOOKUP(O1124,EventConfig!A:C,3,FALSE)=4),3,\"\"),1)))","v":""},"",null,"",0]
[{"$f":"O1125*100+P1125","v":912401},6311,"完成和NPC的对话","",{"$nulls":5},100,{"$f":"IF(J1125=\"\",\"\",VLOOKUP(J1125,EventNPC!A:F,6,FALSE))","v":"玩家"},6312,"你就是血海宗的人吧，交出云雾秘钥绕你们不死。",null,9124,{"$f":"IF(O1125=\"\",\"\",IF(O1125=O1124,P1124+1,1))","v":1},{"$f":"_xlfn.TEXTJOIN(\";\",1,R1125:S1125)","v":""},null,null,{"$f":"IF(R1125=\"\",\"\",\"-\"&VLOOKUP(R1125,EventConditionConfig!A:C,3,FALSE)&IF(S1125=\"\",\"\",CHAR(10)&\"-\"&VLOOKUP(S1125,EventConditionConfig!A:C,3,FALSE)))","v":""},{"$f":"IF(Y1125=\"\",\"\",IF(ISTEXT(Y1125),1,2))","v":""},"","","",null,null,"",null,null,"",{"$nulls":4},{"$f":"IF(A1125=\"\",\"\",IF(ISNUMBER(Y1125),2,IF(A1126=\"\",IF(OR(AK1125>0,VLOOKUP(O1125,EventConfig!A:C,3,FALSE)=4),3,\"\"),1)))","v":1},912402,null,6312,9124]
[{"$f":"O1126*100+P1126","v":912402},6311,"完成和NPC的对话","",{"$nulls":5},136,{"$f":"IF(J1126=\"\",\"\",VLOOKUP(J1126,EventNPC!A:F,6,FALSE))","v":"血海宗敌人"},6313,"（对另外一个NPC说）你们先带个云雾秘钥快走，我来断后。",null,9124,{"$f":"IF(O1126=\"\",\"\",IF(O1126=O1125,P1125+1,1))","v":2},{"$f":"_xlfn.TEXTJOIN(\";\",1,R1126:S1126)","v":""},null,null,{"$f":"IF(R1126=\"\",\"\",\"-\"&VLOOKUP(R1126,EventConditionConfig!A:C,3,FALSE)&IF(S1126=\"\",\"\",CHAR(10)&\"-\"&VLOOKUP(S1126,EventConditionConfig!A:C,3,FALSE)))","v":""},{"$f":"IF(Y1126=\"\",\"\",IF(ISTEXT(Y1126),1,2))","v":2},4009,"","",4009,null,"",null,null,"",{"$nulls":4},{"$f":"IF(A1126=\"\",\"\",IF(ISNUMBER(Y1126),2,IF(A1127=\"\",IF(OR(AK1126>0,VLOOKUP(O1126,EventConfig!A:C,3,FALSE)=4),3,\"\"),1)))","v":2},"912403;101",null,6313,9124]
[{"$f":"O1127*100+P1127","v":912403},6311,"完成和NPC的对话","",{"$nulls":5},100,{"$f":"IF(J1127=\"\",\"\",VLOOKUP(J1127,EventNPC!A:F,6,FALSE))","v":"玩家"},6314,"不好，让另一个血海宗的人带着钥匙跑掉了",null,9124,{"$f":"IF(O1127=\"\",\"\",IF(O1127=O1126,P1126+1,1))","v":3},{"$f":"_xlfn.TEXTJOIN(\";\",1,R1127:S1127)","v":""},null,null,{"$f":"IF(R1127=\"\",\"\",\"-\"&VLOOKUP(R1127,EventConditionConfig!A:C,3,FALSE)&IF(S1127=\"\",\"\",CHAR(10)&\"-\"&VLOOKUP(S1127,EventConditionConfig!A:C,3,FALSE)))","v":""},{"$f":"IF(Y1127=\"\",\"\",IF(ISTEXT(Y1127),1,2))","v":""},"","","",null,null,"",null,null,"",{"$nulls":4},{"$f":"IF(A1127=\"\",\"\",IF(ISNUMBER(Y1127),2,IF(A1128=\"\",IF(OR(AK1127>0,VLOOKUP(O1127,EventConfig!A:C,3,FALSE)=4),3,\"\"),1)))","v":""},"",null,6314,9124]
[null,"",null,"",{"$nulls":6},{"$f":"IF(J1128=\"\",\"\",VLOOKUP(J1128,EventNPC!A:F,6,FALSE))","v":""},"",{"$nulls":9},"","","",null,null,"",null,null,"",{"$nulls":4},{"$f":"IF(A1128=\"\",\"\",IF(ISNUMBER(Y1128),2,IF(A1129=\"\",IF(OR(AK1128>0,VLOOKUP(O1128,EventConfig!A:C,3,FALSE)=4),3,\"\"),1)))","v":""},"",null,"",0]
[{"$f":"O1129*100+P1129","v":912501},{"$f":"IF(C1129=\"\",\"\",IF(C1129=C1128,B1128,MAX(AL1128,AL1127)+1))","v":6315},"完成和NPC的对话","",{"$nulls":5},100,{"$f":"IF(J1129=\"\",\"\",VLOOKUP(J1129,EventNPC!A:F,6,FALSE))","v":"玩家"},6316,"还想跑，交出云雾秘钥。",null,9125,{"$f":"IF(O1129=\"\",\"\",IF(O1129=O1128,P1128+1,1))","v":1},{"$f":"_xlfn.TEXTJOIN(\";\",1,R1129:S1129)","v":""},null,null,{"$f":"IF(R1129=\"\",\"\",\"-\"&VLOOKUP(R1129,EventConditionConfig!A:C,3,FALSE)&IF(S1129=\"\",\"\",CHAR(10)&\"-\"&VLOOKUP(S1129,EventConditionConfig!A:C,3,FALSE)))","v":""},{"$f":"IF(Y1129=\"\",\"\",IF(ISTEXT(Y1129),1,2))","v":""},"","","",null,null,"",null,null,"",{"$nulls":4},{"$f":"IF(A1129=\"\",\"\",IF(ISNUMBER(Y1129),2,IF(A1130=\"\",IF(OR(AK1129>0,VLOOKUP(O1129,EventConfig!A:C,3,FALSE)=4),3,\"\"),1)))","v":1},912502,null,6316,9125]
[{"$f":"O1130*100+P1130","v":912502},{"$f":"IF(C1130=\"\",\"\",IF(C1130=C1129,B1129,MAX(AL1129,AL1128)+1))","v":6315},"完成和NPC的对话","",{"$nulls":5},136,{"$f":"IF(J1130=\"\",\"\",VLOOKUP(J1130,EventNPC!A:F,6,FALSE))","v":"血海宗敌人"},6317,"找死！",null,9125,{"$f":"IF(O1130=\"\",\"\",IF(O1130=O1129,P1129+1,1))","v":2},{"$f":"_xlfn.TEXTJOIN(\";\",1,R1130:S1130)","v":""},null,null,{"$f":"IF(R1130=\"\",\"\",\"-\"&VLOOKUP(R1130,EventConditionConfig!A:C,3,FALSE)&IF(S1130=\"\",\"\",CHAR(10)&\"-\"&VLOOKUP(S1130,EventConditionConfig!A:C,3,FALSE)))","v":""},{"$f":"IF(Y1130=\"\",\"\",IF(ISTEXT(Y1130),1,2))","v":2},4010,"","",4010,null,"",null,null,"",{"$nulls":4},{"$f":"IF(A1130=\"\",\"\",IF(ISNUMBER(Y1130),2,IF(A1131=\"\",IF(OR(AK1130>0,VLOOKUP(O1130,EventConfig!A:C,3,FALSE)=4),3,\"\"),1)))","v":2},"912503;101",null,6317,9125]
[{"$f":"O1131*100+P1131","v":912503},{"$f":"IF(C1131=\"\",\"\",IF(C1131=C1130,B1130,MAX(AL1130,AL1129)+1))","v":6315},"完成和NPC的对话","",{"$nulls":5},100,{"$f":"IF(J1131=\"\",\"\",VLOOKUP(J1131,EventNPC!A:F,6,FALSE))","v":"玩家"},6318,"终于拿到钥匙了",null,9125,{"$f":"IF(O1131=\"\",\"\",IF(O1131=O1130,P1130+1,1))","v":3},{"$f":"_xlfn.TEXTJOIN(\";\",1,R1131:S1131)","v":""},null,null,{"$f":"IF(R1131=\"\",\"\",\"-\"&VLOOKUP(R1131,EventConditionConfig!A:C,3,FALSE)&IF(S1131=\"\",\"\",CHAR(10)&\"-\"&VLOOKUP(S1131,EventConditionConfig!A:C,3,FALSE)))","v":""},{"$f":"IF(Y1131=\"\",\"\",IF(ISTEXT(Y1131),1,2))","v":""},"","","",null,null,"",null,null,"",{"$nulls":4},{"$f":"IF(A1131=\"\",\"\",IF(ISNUMBER(Y1131),2,IF(A1132=\"\",IF(OR(AK1131>0,VLOOKUP(O1131,EventConfig!A:C,3,FALSE)=4),3,\"\"),1)))","v":""},"",null,6318,9125]
[{"$nulls":10},{"$f":"IF(J1132=\"\",\"\",VLOOKUP(J1132,EventNPC!A:F,6,FALSE))","v":""},{"$nulls":10},"","",{"$nulls":11},{"$f":"IF(A1132=\"\",\"\",IF(ISNUMBER(Y1132),2,IF(A1133=\"\",IF(OR(AK1132>0,VLOOKUP(O1132,EventConfig!A:C,3,FALSE)=4),3,\"\"),1)))","v":""},null,null,"",0]
[{"$f":"O1133*100+P1133","v":912601},{"$f":"IF(C1133=\"\",\"\",IF(C1133=C1132,B1132,MAX(AL1132,AL1131)+1))","v":6319},"完成和NPC的对话",{"$f":"IF(E1133=\"\",\"\",IF(E1133=E1132,D1132,MAX(AL1132,AL1131,B1133)+1))","v":""},{"$nulls":5},156,{"$f":"IF(J1133=\"\",\"\",VLOOKUP(J1133,EventNPC!A:F,6,FALSE))","v":"柳轻烟"},{"$f":"IF(M1133=\"\",\"\",MAX(AL1132,AL1131,B1133,D1133)+1)","v":6320},"道友可否带回云雾秘钥？",null,9126,{"$f":"IF(O1133=\"\",\"\",IF(O1133=O1132,P1132+1,1))","v":1},{"$f":"_xlfn.TEXTJOIN(\";\",1,R1133:S1133)","v":""},null,null,{"$f":"IF(R1133=\"\",\"\",\"-\"&VLOOKUP(R1133,EventConditionConfig!A:C,3,FALSE)&IF(S1133=\"\",\"\",CHAR(10)&\"-\"&VLOOKUP(S1133,EventConditionConfig!A:C,3,FALSE)))","v":""},{"$f":"IF(Y1133=\"\",\"\",IF(ISTEXT(Y1133),1,2))","v":""},"","",{"$f":"IF(OR(ISNUMBER(Y1133),Y1133=\"\"),\"\",MAX(AL1132,AL1130,B1133,D1133,L1133)+1)","v":""},null,null,{"$f":"IF(OR(ISNUMBER(AB1133),AB1133=\"\"),\"\",X1133+1)","v":""},null,null,{"$f":"IF(OR(ISNUMBER(AE1133),AE1133=\"\"),\"\",AA1133+1)","v":""},{"$nulls":4},{"$f":"IF(A1133=\"\",\"\",IF(ISNUMBER(Y1133),2,IF(A1134=\"\",IF(OR(AK1133>0,VLOOKUP(O1133,EventConfig!A:C,3,FALSE)=4),3,\"\"),1)))","v":1},{"$f":"IF(AI1133=\"\",\"\",CHOOSE(AI1133,IF(AK1133=\"\",A1133+1,AK1133),CONCATENATE(IF(AK1133=\"\",A1133+1,AK1133),\";101\"),IF(AK1133=\"\",O1133+1,AK1133)))","v":912602},null,6320,9126]
[{"$f":"O1134*100+P1134","v":912602},{"$f":"IF(C1134=\"\",\"\",IF(C1134=C1133,B1133,MAX(AL1133,AL1132)+1))","v":6319},"完成和NPC的对话",{"$f":"IF(E1134=\"\",\"\",IF(E1134=E1133,D1133,MAX(AL1133,AL1132,B1134)+1))","v":""},{"$nulls":5},100,{"$f":"IF(J1134=\"\",\"\",VLOOKUP(J1134,EventNPC!A:F,6,FALSE))","v":"玩家"},{"$f":"IF(M1134=\"\",\"\",MAX(AL1133,AL1132,B1134,D1134)+1)","v":6321},"你看是否是此物。",null,9126,{"$f":"IF(O1134=\"\",\"\",IF(O1134=O1133,P1133+1,1))","v":2},{"$f":"_xlfn.TEXTJOIN(\";\",1,R1134:S1134)","v":""},null,null,{"$f":"IF(R1134=\"\",\"\",\"-\"&VLOOKUP(R1134,EventConditionConfig!A:C,3,FALSE)&IF(S1134=\"\",\"\",CHAR(10)&\"-\"&VLOOKUP(S1134,EventConditionConfig!A:C,3,FALSE)))","v":""},{"$f":"IF(Y1134=\"\",\"\",IF(ISTEXT(Y1134),1,2))","v":""},"","",{"$f":"IF(OR(ISNUMBER(Y1134),Y1134=\"\"),\"\",MAX(AL1133,AL1131,B1134,D1134,L1134)+1)","v":""},null,null,{"$f":"IF(OR(ISNUMBER(AB1134),AB1134=\"\"),\"\",X1134+1)","v":""},null,null,{"$f":"IF(OR(ISNUMBER(AE1134),AE1134=\"\"),\"\",AA1134+1)","v":""},{"$nulls":4},{"$f":"IF(A1134=\"\",\"\",IF(ISNUMBER(Y1134),2,IF(A1135=\"\",IF(OR(AK1134>0,VLOOKUP(O1134,EventConfig!A:C,3,FALSE)=4),3,\"\"),1)))","v":1},{"$f":"IF(AI1134=\"\",\"\",CHOOSE(AI1134,IF(AK1134=\"\",A1134+1,AK1134),CONCATENATE(IF(AK1134=\"\",A1134+1,AK1134),\";101\"),IF(AK1134=\"\",O1134+1,AK1134)))","v":912603},null,6321,9126]
[{"$f":"O1135*100+P1135","v":912603},{"$f":"IF(C1135=\"\",\"\",IF(C1135=C1134,B1134,MAX(AL1134,AL1133)+1))","v":6319},"完成和NPC的对话",{"$f":"IF(E1135=\"\",\"\",IF(E1135=E1134,D1134,MAX(AL1134,AL1133,B1135)+1))","v":""},{"$nulls":5},156,{"$f":"IF(J1135=\"\",\"\",VLOOKUP(J1135,EventNPC!A:F,6,FALSE))","v":"柳轻烟"},{"$f":"IF(M1135=\"\",\"\",MAX(AL1134,AL1133,B1135,D1135)+1)","v":6322},"对就是此物，感谢道友鼎力相助。日后有什么困难来云雾宗找我。",null,9126,{"$f":"IF(O1135=\"\",\"\",IF(O1135=O1134,P1134+1,1))","v":3},{"$f":"_xlfn.TEXTJOIN(\";\",1,R1135:S1135)","v":""},null,null,{"$f":"IF(R1135=\"\",\"\",\"-\"&VLOOKUP(R1135,EventConditionConfig!A:C,3,FALSE)&IF(S1135=\"\",\"\",CHAR(10)&\"-\"&VLOOKUP(S1135,EventConditionConfig!A:C,3,FALSE)))","v":""},{"$f":"IF(Y1135=\"\",\"\",IF(ISTEXT(Y1135),1,2))","v":""},"","",{"$f":"IF(OR(ISNUMBER(Y1135),Y1135=\"\"),\"\",MAX(AL1134,AL1132,B1135,D1135,L1135)+1)","v":""},null,null,{"$f":"IF(OR(ISNUMBER(AB1135),AB1135=\"\"),\"\",X1135+1)","v":""},null,null,{"$f":"IF(OR(ISNUMBER(AE1135),AE1135=\"\"),\"\",AA1135+1)","v":""},{"$nulls":4},{"$f":"IF(A1135=\"\",\"\",IF(ISNUMBER(Y1135),2,IF(A1136=\"\",IF(OR(AK1135>0,VLOOKUP(O1135,EventConfig!A:C,3,FALSE)=4),3,\"\"),1)))","v":1},{"$f":"IF(AI1135=\"\",\"\",CHOOSE(AI1135,IF(AK1135=\"\",A1135+1,AK1135),CONCATENATE(IF(AK1135=\"\",A1135+1,AK1135),\";101\"),IF(AK1135=\"\",O1135+1,AK1135)))","v":912604},null,6322,9126]
[{"$f":"O1136*100+P1136","v":912604},{"$f":"IF(C1136=\"\",\"\",IF(C1136=C1135,B1135,MAX(AL1135,AL1134)+1))","v":6319},"完成和NPC的对话",{"$f":"IF(E1136=\"\",\"\",IF(E1136=E1135,D1135,MAX(AL1135,AL1134,B1136)+1))","v":""},{"$nulls":5},156,{"$f":"IF(J1136=\"\",\"\",VLOOKUP(J1136,EventNPC!A:F,6,FALSE))","v":"柳轻烟"},{"$f":"IF(M1136=\"\",\"\",MAX(AL1135,AL1134,B1136,D1136)+1)","v":6323},"我的伤也可好得差不多了，也该回宗门了，这是一点心意还请道友收下。",null,9126,{"$f":"IF(O1136=\"\",\"\",IF(O1136=O1135,P1135+1,1))","v":4},{"$f":"_xlfn.TEXTJOIN(\";\",1,R1136:S1136)","v":""},null,null,{"$f":"IF(R1136=\"\",\"\",\"-\"&VLOOKUP(R1136,EventConditionConfig!A:C,3,FALSE)&IF(S1136=\"\",\"\",CHAR(10)&\"-\"&VLOOKUP(S1136,EventConditionConfig!A:C,3,FALSE)))","v":""},{"$f":"IF(Y1136=\"\",\"\",IF(ISTEXT(Y1136),1,2))","v":""},"","",{"$f":"IF(OR(ISNUMBER(Y1136),Y1136=\"\"),\"\",MAX(AL1135,AL1133,B1136,D1136,L1136)+1)","v":""},null,null,{"$f":"IF(OR(ISNUMBER(AB1136),AB1136=\"\"),\"\",X1136+1)","v":""},null,null,{"$f":"IF(OR(ISNUMBER(AE1136),AE1136=\"\"),\"\",AA1136+1)","v":""},{"$nulls":4},{"$f":"IF(A1136=\"\",\"\",IF(ISNUMBER(Y1136),2,IF(A1137=\"\",IF(OR(AK1136>0,VLOOKUP(O1136,EventConfig!A:C,3,FALSE)=4),3,\"\"),1)))","v":""},{"$f":"IF(AI1136=\"\",\"\",CHOOSE(AI1136,IF(AK1136=\"\",A1136+1,AK1136),CONCATENATE(IF(AK1136=\"\",A1136+1,AK1136),\";101\"),IF(AK1136=\"\",O1136+1,AK1136)))","v":""},null,6323,9126]
[{"$nulls":10},{"$f":"IF(J1137=\"\",\"\",VLOOKUP(J1137,EventNPC!A:F,6,FALSE))","v":""},{"$nulls":10},"","",{"$nulls":11},{"$f":"IF(A1137=\"\",\"\",IF(ISNUMBER(Y1137),2,IF(A1138=\"\",IF(OR(AK1137>0,VLOOKUP(O1137,EventConfig!A:C,3,FALSE)=4),3,\"\"),1)))","v":""},null,null,"",0]
[{"$f":"O1138*100+P1138","v":912701},{"$f":"IF(C1138=\"\",\"\",IF(C1138=C1137,B1137,MAX(AL1137,AL1136)+1))","v":6324},"完成和NPC的对话",{"$f":"IF(E1138=\"\",\"\",IF(E1138=E1137,D1137,MAX(AL1137,AL1136,B1138)+1))","v":""},{"$nulls":5},131,{"$f":"IF(J1138=\"\",\"\",VLOOKUP(J1138,EventNPC!A:F,6,FALSE))","v":"馨儿"},{"$f":"IF(M1138=\"\",\"\",MAX(AL1137,AL1136,B1138,D1138)+1)","v":6325},"（喘着气，语气带着兴奋）哈哈，又是你！我来这儿采灵花，为拍卖云霞丹做准备，可这些熊妖死缠烂打！能帮我清掉它们吗？",null,9127,{"$f":"IF(O1138=\"\",\"\",IF(O1138=O1137,P1137+1,1))","v":1},{"$f":"_xlfn.TEXTJOIN(\";\",1,R1138:S1138)","v":""},null,null,{"$f":"IF(R1138=\"\",\"\",\"-\"&VLOOKUP(R1138,EventConditionConfig!A:C,3,FALSE)&IF(S1138=\"\",\"\",CHAR(10)&\"-\"&VLOOKUP(S1138,EventConditionConfig!A:C,3,FALSE)))","v":""},{"$f":"IF(Y1138=\"\",\"\",IF(ISTEXT(Y1138),1,2))","v":1},"912702;912703","6326;6327",{"$f":"IF(OR(ISNUMBER(Y1138),Y1138=\"\"),\"\",MAX(AL1137,AL1135,B1138,D1138,L1138)+1)","v":6326},"这灵花有啥特别的？",{"$f":"A1139","v":912702},{"$f":"IF(OR(ISNUMBER(AB1138),AB1138=\"\"),\"\",X1138+1)","v":6327},"好，我来帮你！",{"$f":"A1140","v":912703},{"$f":"IF(OR(ISNUMBER(AE1138),AE1138=\"\"),\"\",AA1138+1)","v":""},null,{"$f":"D1140","v":""},null,null,{"$f":"IF(A1138=\"\",\"\",IF(ISNUMBER(Y1138),2,IF(A1139=\"\",IF(OR(AK1138>0,VLOOKUP(O1138,EventConfig!A:C,3,FALSE)=4),3,\"\"),1)))","v":1},{"$f":"IF(AI1138=\"\",\"\",CHOOSE(AI1138,IF(AK1138=\"\",A1138+1,AK1138),CONCATENATE(IF(AK1138=\"\",A1138+1,AK1138),\";101\"),IF(AK1138=\"\",O1138+1,AK1138)))","v":912702},null,6327,9127]
[912702,6324,"完成和NPC的对话","",{"$nulls":5},131,{"$f":"IF(J1139=\"\",\"\",VLOOKUP(J1139,EventNPC!A:F,6,FALSE))","v":"馨儿"},6328,"特别？当然！这冰霜灵花是云霞丹的辅材，拍卖会全靠它增色！",null,9127,2,"",null,null,{"$f":"IF(R1139=\"\",\"\",\"-\"&VLOOKUP(R1139,EventConditionConfig!A:C,3,FALSE)&IF(S1139=\"\",\"\",CHAR(10)&\"-\"&VLOOKUP(S1139,EventConditionConfig!A:C,3,FALSE)))","v":""},"","","","",null,null,"",null,null,"",{"$nulls":4},{"$f":"IF(A1139=\"\",\"\",IF(ISNUMBER(Y1139),2,IF(A1140=\"\",IF(OR(AK1139>0,VLOOKUP(O1139,EventConfig!A:C,3,FALSE)=4),3,\"\"),1)))","v":1},912704,{"$f":"A1141","v":912704},6328,9127]
[912703,6324,"完成和NPC的对话","",{"$nulls":5},131,{"$f":"IF(J1140=\"\",\"\",VLOOKUP(J1140,EventNPC!A:F,6,FALSE))","v":"馨儿"},6329,"我就知道你靠得住！来，咱们联手让这些熊妖吃瘪！",null,9127,3,"",null,null,{"$f":"IF(R1140=\"\",\"\",\"-\"&VLOOKUP(R1140,EventConditionConfig!A:C,3,FALSE)&IF(S1140=\"\",\"\",CHAR(10)&\"-\"&VLOOKUP(S1140,EventConditionConfig!A:C,3,FALSE)))","v":""},"","","","",null,null,"",null,null,"",{"$nulls":4},{"$f":"IF(A1140=\"\",\"\",IF(ISNUMBER(Y1140),2,IF(A1141=\"\",IF(OR(AK1140>0,VLOOKUP(O1140,EventConfig!A:C,3,FALSE)=4),3,\"\"),1)))","v":1},912704,{"$f":"A1141","v":912704},6329,9127]
[912704,6324,"完成和NPC的对话","",{"$nulls":5},100,{"$f":"IF(J1141=\"\",\"\",VLOOKUP(J1141,EventNPC!A:F,6,FALSE))","v":"玩家"},6330,"你开阵，我来输出！",null,9127,4,"",null,null,{"$f":"IF(R1141=\"\",\"\",\"-\"&VLOOKUP(R1141,EventConditionConfig!A:C,3,FALSE)&IF(S1141=\"\",\"\",CHAR(10)&\"-\"&VLOOKUP(S1141,EventConditionConfig!A:C,3,FALSE)))","v":""},2,4011,"","",4011,null,"",null,null,"",{"$nulls":4},{"$f":"IF(A1141=\"\",\"\",IF(ISNUMBER(Y1141),2,IF(A1142=\"\",IF(OR(AK1141>0,VLOOKUP(O1141,EventConfig!A:C,3,FALSE)=4),3,\"\"),1)))","v":2},"912705;101",null,6330,9127]
[912705,6324,"完成和NPC的对话","",{"$nulls":5},131,{"$f":"IF(J1142=\"\",\"\",VLOOKUP(J1142,EventNPC!A:F,6,FALSE))","v":"馨儿"},6331,"灵花终于到手，这下我的云霞丹能买个好价钱了。",null,9127,5,"",null,null,{"$f":"IF(R1142=\"\",\"\",\"-\"&VLOOKUP(R1142,EventConditionConfig!A:C,3,FALSE)&IF(S1142=\"\",\"\",CHAR(10)&\"-\"&VLOOKUP(S1142,EventConditionConfig!A:C,3,FALSE)))","v":""},"","","","",null,null,"",null,null,"",{"$nulls":4},{"$f":"IF(A1142=\"\",\"\",IF(ISNUMBER(Y1142),2,IF(A1143=\"\",IF(OR(AK1142>0,VLOOKUP(O1142,EventConfig!A:C,3,FALSE)=4),3,\"\"),1)))","v":1},912706,null,6331,9127]
[912706,6324,"完成和NPC的对话","",{"$nulls":5},100,{"$f":"IF(J1143=\"\",\"\",VLOOKUP(J1143,EventNPC!A:F,6,FALSE))","v":"玩家"},6332,"云霞丹是什么？",null,9127,6,"",null,null,{"$f":"IF(R1143=\"\",\"\",\"-\"&VLOOKUP(R1143,EventConditionConfig!A:C,3,FALSE)&IF(S1143=\"\",\"\",CHAR(10)&\"-\"&VLOOKUP(S1143,EventConditionConfig!A:C,3,FALSE)))","v":""},"","","","",null,null,"",null,null,"",{"$nulls":4},{"$f":"IF(A1143=\"\",\"\",IF(ISNUMBER(Y1143),2,IF(A1144=\"\",IF(OR(AK1143>0,VLOOKUP(O1143,EventConfig!A:C,3,FALSE)=4),3,\"\"),1)))","v":1},912707,null,6332,9127]
[912707,6324,"完成和NPC的对话","",{"$nulls":5},131,{"$f":"IF(J1144=\"\",\"\",VLOOKUP(J1144,EventNPC!A:F,6,FALSE))","v":"馨儿"},6333,"云霞丹乃我宗秘制丹药能助人修为大进。",null,9127,7,"",null,null,{"$f":"IF(R1144=\"\",\"\",\"-\"&VLOOKUP(R1144,EventConditionConfig!A:C,3,FALSE)&IF(S1144=\"\",\"\",CHAR(10)&\"-\"&VLOOKUP(S1144,EventConditionConfig!A:C,3,FALSE)))","v":""},"","","","",null,null,"",null,null,"",{"$nulls":4},{"$f":"IF(A1144=\"\",\"\",IF(ISNUMBER(Y1144),2,IF(A1145=\"\",IF(OR(AK1144>0,VLOOKUP(O1144,EventConfig!A:C,3,FALSE)=4),3,\"\"),1)))","v":1},912708,null,6333,9127]
[912708,6324,"完成和NPC的对话","",{"$nulls":5},131,{"$f":"IF(J1145=\"\",\"\",VLOOKUP(J1145,EventNPC!A:F,6,FALSE))","v":"馨儿"},6334,"要不你和我结伴前行，听说有散修在峡谷设伏，想抢前往拍卖会的宝物！我们结伴而行更安全，事成后我给一颗尝尝怎么样。哈哈。",null,9127,8,"",null,null,{"$f":"IF(R1145=\"\",\"\",\"-\"&VLOOKUP(R1145,EventConditionConfig!A:C,3,FALSE)&IF(S1145=\"\",\"\",CHAR(10)&\"-\"&VLOOKUP(S1145,EventConditionConfig!A:C,3,FALSE)))","v":""},"","","","",null,null,"",null,null,"",{"$nulls":4},{"$f":"IF(A1145=\"\",\"\",IF(ISNUMBER(Y1145),2,IF(A1146=\"\",IF(OR(AK1145>0,VLOOKUP(O1145,EventConfig!A:C,3,FALSE)=4),3,\"\"),1)))","v":1},912709,null,6334,9127]
[912709,6324,"完成和NPC的对话","",{"$nulls":5},100,{"$f":"IF(J1146=\"\",\"\",VLOOKUP(J1146,EventNPC!A:F,6,FALSE))","v":"玩家"},6335,"没问题，正好顺路。",null,9127,9,"",null,null,{"$f":"IF(R1146=\"\",\"\",\"-\"&VLOOKUP(R1146,EventConditionConfig!A:C,3,FALSE)&IF(S1146=\"\",\"\",CHAR(10)&\"-\"&VLOOKUP(S1146,EventConditionConfig!A:C,3,FALSE)))","v":""},"","","","",null,null,"",null,null,"",{"$nulls":4},{"$f":"IF(A1146=\"\",\"\",IF(ISNUMBER(Y1146),2,IF(A1147=\"\",IF(OR(AK1146>0,VLOOKUP(O1146,EventConfig!A:C,3,FALSE)=4),3,\"\"),1)))","v":""},"",null,6335,9127]
[{"$nulls":10},{"$f":"IF(J1147=\"\",\"\",VLOOKUP(J1147,EventNPC!A:F,6,FALSE))","v":""},{"$nulls":10},"","",{"$nulls":11},{"$f":"IF(A1147=\"\",\"\",IF(ISNUMBER(Y1147),2,IF(A1148=\"\",IF(OR(AK1147>0,VLOOKUP(O1147,EventConfig!A:C,3,FALSE)=4),3,\"\"),1)))","v":""},null,null,"",0]
[{"$f":"O1148*100+P1148","v":912801},{"$f":"IF(C1148=\"\",\"\",IF(C1148=C1147,B1147,MAX(AL1147,AL1146)+1))","v":6336},"完成和NPC的对话",{"$f":"IF(E1148=\"\",\"\",IF(E1148=E1147,D1147,MAX(AL1147,AL1146,B1148)+1))","v":""},{"$nulls":5},138,{"$f":"IF(J1148=\"\",\"\",VLOOKUP(J1148,EventNPC!A:F,6,FALSE))","v":"散修"},{"$f":"IF(M1148=\"\",\"\",MAX(AL1147,AL1146,B1148,D1148)+1)","v":6337},"没问题，正好顺路。",null,9128,{"$f":"IF(O1148=\"\",\"\",IF(O1148=O1147,P1147+1,1))","v":1},{"$f":"_xlfn.TEXTJOIN(\";\",1,R1148:S1148)","v":""},null,null,{"$f":"IF(R1148=\"\",\"\",\"-\"&VLOOKUP(R1148,EventConditionConfig!A:C,3,FALSE)&IF(S1148=\"\",\"\",CHAR(10)&\"-\"&VLOOKUP(S1148,EventConditionConfig!A:C,3,FALSE)))","v":""},{"$f":"IF(Y1148=\"\",\"\",IF(ISTEXT(Y1148),1,2))","v":""},"","",{"$f":"IF(OR(ISNUMBER(Y1148),Y1148=\"\"),\"\",MAX(AL1147,AL1145,B1148,D1148,L1148)+1)","v":""},null,null,{"$f":"IF(OR(ISNUMBER(AB1148),AB1148=\"\"),\"\",X1148+1)","v":""},null,null,{"$f":"IF(OR(ISNUMBER(AE1148),AE1148=\"\"),\"\",AA1148+1)","v":""},{"$nulls":4},{"$f":"IF(A1148=\"\",\"\",IF(ISNUMBER(Y1148),2,IF(A1149=\"\",IF(OR(AK1148>0,VLOOKUP(O1148,EventConfig!A:C,3,FALSE)=4),3,\"\"),1)))","v":1},{"$f":"IF(AI1148=\"\",\"\",CHOOSE(AI1148,IF(AK1148=\"\",A1148+1,AK1148),CONCATENATE(IF(AK1148=\"\",A1148+1,AK1148),\";101\"),IF(AK1148=\"\",O1148+1,AK1148)))","v":912802},null,6337,9128]
[912802,6336,"完成和NPC的对话","",{"$nulls":5},131,{"$f":"IF(J1149=\"\",\"\",VLOOKUP(J1149,EventNPC!A:F,6,FALSE))","v":"馨儿"},6338,"（大笑）：买路财？你们这群散修脑子冻坏了？敢拦我云隐宗的路！",null,9128,2,"",null,null,{"$f":"IF(R1149=\"\",\"\",\"-\"&VLOOKUP(R1149,EventConditionConfig!A:C,3,FALSE)&IF(S1149=\"\",\"\",CHAR(10)&\"-\"&VLOOKUP(S1149,EventConditionConfig!A:C,3,FALSE)))","v":""},"","","","",null,null,"",null,null,"",{"$nulls":4},{"$f":"IF(A1149=\"\",\"\",IF(ISNUMBER(Y1149),2,IF(A1150=\"\",IF(OR(AK1149>0,VLOOKUP(O1149,EventConfig!A:C,3,FALSE)=4),3,\"\"),1)))","v":1},912803,null,6338,9128]
[912803,6336,"完成和NPC的对话","",{"$nulls":5},138,{"$f":"IF(J1150=\"\",\"\",VLOOKUP(J1150,EventNPC!A:F,6,FALSE))","v":"散修"},6339,"（不屑）：我管你什么宗，路过此地就必须留点东西。",null,9128,3,"",null,null,{"$f":"IF(R1150=\"\",\"\",\"-\"&VLOOKUP(R1150,EventConditionConfig!A:C,3,FALSE)&IF(S1150=\"\",\"\",CHAR(10)&\"-\"&VLOOKUP(S1150,EventConditionConfig!A:C,3,FALSE)))","v":""},"","","","",null,null,"",null,null,"",{"$nulls":4},{"$f":"IF(A1150=\"\",\"\",IF(ISNUMBER(Y1150),2,IF(A1151=\"\",IF(OR(AK1150>0,VLOOKUP(O1150,EventConfig!A:C,3,FALSE)=4),3,\"\"),1)))","v":1},912804,null,6339,9128]
[912804,6336,"完成和NPC的对话","",{"$nulls":5},131,{"$f":"IF(J1151=\"\",\"\",VLOOKUP(J1151,EventNPC!A:F,6,FALSE))","v":"馨儿"},6340,"那就没得商量了，{0}道友我们上。",null,9128,4,"",null,null,{"$f":"IF(R1151=\"\",\"\",\"-\"&VLOOKUP(R1151,EventConditionConfig!A:C,3,FALSE)&IF(S1151=\"\",\"\",CHAR(10)&\"-\"&VLOOKUP(S1151,EventConditionConfig!A:C,3,FALSE)))","v":""},2,4012,"","",4012,null,"",null,null,"",{"$nulls":4},{"$f":"IF(A1151=\"\",\"\",IF(ISNUMBER(Y1151),2,IF(A1152=\"\",IF(OR(AK1151>0,VLOOKUP(O1151,EventConfig!A:C,3,FALSE)=4),3,\"\"),1)))","v":2},"912805;101",null,6340,9128]
[912805,6336,"完成和NPC的对话","",{"$nulls":5},131,{"$f":"IF(J1152=\"\",\"\",VLOOKUP(J1152,EventNPC!A:F,6,FALSE))","v":"馨儿"},6341,"就这境界也敢来抢劫。",null,9128,5,"",null,null,{"$f":"IF(R1152=\"\",\"\",\"-\"&VLOOKUP(R1152,EventConditionConfig!A:C,3,FALSE)&IF(S1152=\"\",\"\",CHAR(10)&\"-\"&VLOOKUP(S1152,EventConditionConfig!A:C,3,FALSE)))","v":""},"","","","",null,null,"",null,null,"",{"$nulls":4},{"$f":"IF(A1152=\"\",\"\",IF(ISNUMBER(Y1152),2,IF(A1153=\"\",IF(OR(AK1152>0,VLOOKUP(O1152,EventConfig!A:C,3,FALSE)=4),3,\"\"),1)))","v":1},912806,null,6341,9128]
[912806,6336,"完成和NPC的对话","",{"$nulls":5},100,{"$f":"IF(J1153=\"\",\"\",VLOOKUP(J1153,EventNPC!A:F,6,FALSE))","v":"玩家"},6342,"还是多加小心，后面恐有高手坐阵。",null,9128,6,"",null,null,{"$f":"IF(R1153=\"\",\"\",\"-\"&VLOOKUP(R1153,EventConditionConfig!A:C,3,FALSE)&IF(S1153=\"\",\"\",CHAR(10)&\"-\"&VLOOKUP(S1153,EventConditionConfig!A:C,3,FALSE)))","v":""},"","","","",null,null,"",null,null,"",{"$nulls":4},{"$f":"IF(A1153=\"\",\"\",IF(ISNUMBER(Y1153),2,IF(A1154=\"\",IF(OR(AK1153>0,VLOOKUP(O1153,EventConfig!A:C,3,FALSE)=4),3,\"\"),1)))","v":1},912807,null,6342,9128]
[912807,6336,"完成和NPC的对话","",{"$nulls":5},131,{"$f":"IF(J1154=\"\",\"\",VLOOKUP(J1154,EventNPC!A:F,6,FALSE))","v":"馨儿"},6343,"好的，过了前面那座山峰应该就安全了",null,9128,7,"",null,null,{"$f":"IF(R1154=\"\",\"\",\"-\"&VLOOKUP(R1154,EventConditionConfig!A:C,3,FALSE)&IF(S1154=\"\",\"\",CHAR(10)&\"-\"&VLOOKUP(S1154,EventConditionConfig!A:C,3,FALSE)))","v":""},"","","","",null,null,"",null,null,"",{"$nulls":4},{"$f":"IF(A1154=\"\",\"\",IF(ISNUMBER(Y1154),2,IF(A1155=\"\",IF(OR(AK1154>0,VLOOKUP(O1154,EventConfig!A:C,3,FALSE)=4),3,\"\"),1)))","v":""},"",null,6343,9128]
[{"$nulls":10},{"$f":"IF(J1155=\"\",\"\",VLOOKUP(J1155,EventNPC!A:F,6,FALSE))","v":""},{"$nulls":10},"","",{"$nulls":11},{"$f":"IF(A1155=\"\",\"\",IF(ISNUMBER(Y1155),2,IF(A1156=\"\",IF(OR(AK1155>0,VLOOKUP(O1155,EventConfig!A:C,3,FALSE)=4),3,\"\"),1)))","v":""},null,null,"",0]
[{"$f":"O1156*100+P1156","v":912901},{"$f":"IF(C1156=\"\",\"\",IF(C1156=C1155,B1155,MAX(AL1155,AL1154)+1))","v":6344},"完成和NPC的对话",{"$f":"IF(E1156=\"\",\"\",IF(E1156=E1155,D1155,MAX(AL1155,AL1154,B1156)+1))","v":""},{"$nulls":5},139,{"$f":"IF(J1156=\"\",\"\",VLOOKUP(J1156,EventNPC!A:F,6,FALSE))","v":"蒙面散修精英"},{"$f":"IF(M1156=\"\",\"\",MAX(AL1155,AL1154,B1156,D1156)+1)","v":6345},"今天真是一个不错的日子，各种宝贝送上门来哈哈。",null,9129,{"$f":"IF(O1156=\"\",\"\",IF(O1156=O1155,P1155+1,1))","v":1},{"$f":"_xlfn.TEXTJOIN(\";\",1,R1156:S1156)","v":""},null,null,{"$f":"IF(R1156=\"\",\"\",\"-\"&VLOOKUP(R1156,EventConditionConfig!A:C,3,FALSE)&IF(S1156=\"\",\"\",CHAR(10)&\"-\"&VLOOKUP(S1156,EventConditionConfig!A:C,3,FALSE)))","v":""},{"$f":"IF(Y1156=\"\",\"\",IF(ISTEXT(Y1156),1,2))","v":""},"","",{"$f":"IF(OR(ISNUMBER(Y1156),Y1156=\"\"),\"\",MAX(AL1155,AL1153,B1156,D1156,L1156)+1)","v":""},null,null,{"$f":"IF(OR(ISNUMBER(AB1156),AB1156=\"\"),\"\",X1156+1)","v":""},null,null,{"$f":"IF(OR(ISNUMBER(AE1156),AE1156=\"\"),\"\",AA1156+1)","v":""},{"$nulls":4},{"$f":"IF(A1156=\"\",\"\",IF(ISNUMBER(Y1156),2,IF(A1157=\"\",IF(OR(AK1156>0,VLOOKUP(O1156,EventConfig!A:C,3,FALSE)=4),3,\"\"),1)))","v":1},{"$f":"IF(AI1156=\"\",\"\",CHOOSE(AI1156,IF(AK1156=\"\",A1156+1,AK1156),CONCATENATE(IF(AK1156=\"\",A1156+1,AK1156),\";101\"),IF(AK1156=\"\",O1156+1,AK1156)))","v":912902},null,6345,9129]
[912902,6344,"完成和NPC的对话","",{"$nulls":5},131,{"$f":"IF(J1157=\"\",\"\",VLOOKUP(J1157,EventNPC!A:F,6,FALSE))","v":"馨儿"},6346,"宝贝？什么宝贝拿来给我瞧瞧。",null,9129,2,"",null,null,{"$f":"IF(R1157=\"\",\"\",\"-\"&VLOOKUP(R1157,EventConditionConfig!A:C,3,FALSE)&IF(S1157=\"\",\"\",CHAR(10)&\"-\"&VLOOKUP(S1157,EventConditionConfig!A:C,3,FALSE)))","v":""},"","","","",null,null,"",null,null,"",{"$nulls":4},{"$f":"IF(A1157=\"\",\"\",IF(ISNUMBER(Y1157),2,IF(A1158=\"\",IF(OR(AK1157>0,VLOOKUP(O1157,EventConfig!A:C,3,FALSE)=4),3,\"\"),1)))","v":1},912903,null,6346,9129]
[912903,6344,"完成和NPC的对话","",{"$nulls":5},139,{"$f":"IF(J1158=\"\",\"\",VLOOKUP(J1158,EventNPC!A:F,6,FALSE))","v":"蒙面散修精英"},6347,"（奸笑）：跟我走，我让你瞧个够。",null,9129,3,"",null,null,{"$f":"IF(R1158=\"\",\"\",\"-\"&VLOOKUP(R1158,EventConditionConfig!A:C,3,FALSE)&IF(S1158=\"\",\"\",CHAR(10)&\"-\"&VLOOKUP(S1158,EventConditionConfig!A:C,3,FALSE)))","v":""},"","","","",null,null,"",null,null,"",{"$nulls":4},{"$f":"IF(A1158=\"\",\"\",IF(ISNUMBER(Y1158),2,IF(A1159=\"\",IF(OR(AK1158>0,VLOOKUP(O1158,EventConfig!A:C,3,FALSE)=4),3,\"\"),1)))","v":1},912904,null,6347,9129]
[912904,6344,"完成和NPC的对话","",{"$nulls":5},140,{"$f":"IF(J1159=\"\",\"\",VLOOKUP(J1159,EventNPC!A:F,6,FALSE))","v":"楚云缪"},6348,"（有点受伤）：二位道友小心，这蒙面者实力可不一般。",null,9129,4,"",null,null,{"$f":"IF(R1159=\"\",\"\",\"-\"&VLOOKUP(R1159,EventConditionConfig!A:C,3,FALSE)&IF(S1159=\"\",\"\",CHAR(10)&\"-\"&VLOOKUP(S1159,EventConditionConfig!A:C,3,FALSE)))","v":""},"","","","",null,null,"",null,null,"",{"$nulls":4},{"$f":"IF(A1159=\"\",\"\",IF(ISNUMBER(Y1159),2,IF(A1160=\"\",IF(OR(AK1159>0,VLOOKUP(O1159,EventConfig!A:C,3,FALSE)=4),3,\"\"),1)))","v":1},912905,null,6348,9129]
[912905,6344,"完成和NPC的对话","",{"$nulls":5},131,{"$f":"IF(J1160=\"\",\"\",VLOOKUP(J1160,EventNPC!A:F,6,FALSE))","v":"馨儿"},6349,"这位道友放心，有我两在今天就是他最后一天站着说话了。",null,9129,5,"",null,null,{"$f":"IF(R1160=\"\",\"\",\"-\"&VLOOKUP(R1160,EventConditionConfig!A:C,3,FALSE)&IF(S1160=\"\",\"\",CHAR(10)&\"-\"&VLOOKUP(S1160,EventConditionConfig!A:C,3,FALSE)))","v":""},"","","","",null,null,"",null,null,"",{"$nulls":4},{"$f":"IF(A1160=\"\",\"\",IF(ISNUMBER(Y1160),2,IF(A1161=\"\",IF(OR(AK1160>0,VLOOKUP(O1160,EventConfig!A:C,3,FALSE)=4),3,\"\"),1)))","v":1},912906,null,{"$f":"IF(A1160=\"\",\"\",MAX(B1160,D1160,L1160,X1160,AA1160,AL1159,AL1158,AD1160))","v":6349},{"$f":"O1160","v":9129}]
[912906,6344,"完成和NPC的对话","",{"$nulls":5},138,{"$f":"IF(J1161=\"\",\"\",VLOOKUP(J1161,EventNPC!A:F,6,FALSE))","v":"散修"},6350,"云隐宗的弟子，胆子不小！",null,9129,6,"",null,null,{"$f":"IF(R1161=\"\",\"\",\"-\"&VLOOKUP(R1161,EventConditionConfig!A:C,3,FALSE)&IF(S1161=\"\",\"\",CHAR(10)&\"-\"&VLOOKUP(S1161,EventConditionConfig!A:C,3,FALSE)))","v":""},"","","","",null,null,"",null,null,"",{"$nulls":4},{"$f":"IF(A1161=\"\",\"\",IF(ISNUMBER(Y1161),2,IF(A1162=\"\",IF(OR(AK1161>0,VLOOKUP(O1161,EventConfig!A:C,3,FALSE)=4),3,\"\"),1)))","v":1},912907,null,6350,9129]
[912907,6344,"完成和NPC的对话","",{"$nulls":5},131,{"$f":"IF(J1162=\"\",\"\",VLOOKUP(J1162,EventNPC!A:F,6,FALSE))","v":"馨儿"},6351,"{0}这大个就交给你了，我来结阵。",null,9129,7,"",null,null,{"$f":"IF(R1162=\"\",\"\",\"-\"&VLOOKUP(R1162,EventConditionConfig!A:C,3,FALSE)&IF(S1162=\"\",\"\",CHAR(10)&\"-\"&VLOOKUP(S1162,EventConditionConfig!A:C,3,FALSE)))","v":""},"","","","",null,null,"",null,null,"",{"$nulls":4},{"$f":"IF(A1162=\"\",\"\",IF(ISNUMBER(Y1162),2,IF(A1163=\"\",IF(OR(AK1162>0,VLOOKUP(O1162,EventConfig!A:C,3,FALSE)=4),3,\"\"),1)))","v":1},912908,null,6351,9129]
[912908,6344,"完成和NPC的对话","",{"$nulls":5},138,{"$f":"IF(J1163=\"\",\"\",VLOOKUP(J1163,EventNPC!A:F,6,FALSE))","v":"散修"},6352,"看我撕了你们！",null,9129,8,"",null,null,{"$f":"IF(R1163=\"\",\"\",\"-\"&VLOOKUP(R1163,EventConditionConfig!A:C,3,FALSE)&IF(S1163=\"\",\"\",CHAR(10)&\"-\"&VLOOKUP(S1163,EventConditionConfig!A:C,3,FALSE)))","v":""},2,4013,"","",4013,null,"",null,null,"",{"$nulls":4},{"$f":"IF(A1163=\"\",\"\",IF(ISNUMBER(Y1163),2,IF(A1164=\"\",IF(OR(AK1163>0,VLOOKUP(O1163,EventConfig!A:C,3,FALSE)=4),3,\"\"),1)))","v":2},"912909;101",null,6352,9129]
[912909,6344,"完成和NPC的对话","",{"$nulls":5},131,{"$f":"IF(J1164=\"\",\"\",VLOOKUP(J1164,EventNPC!A:F,6,FALSE))","v":"馨儿"},6353,"这家伙是比上次的难缠一点，还好有你在。不然这次拍卖会我可能还真到不了。",null,9129,9,"",null,null,{"$f":"IF(R1164=\"\",\"\",\"-\"&VLOOKUP(R1164,EventConditionConfig!A:C,3,FALSE)&IF(S1164=\"\",\"\",CHAR(10)&\"-\"&VLOOKUP(S1164,EventConditionConfig!A:C,3,FALSE)))","v":""},"","",{"$f":"_xlfn.TEXTJOIN(\";\",1,X1164,AA1164,AD1164)","v":""},"",null,null,"",null,null,"",{"$nulls":4},{"$f":"IF(A1164=\"\",\"\",IF(ISNUMBER(Y1164),2,IF(A1165=\"\",IF(OR(AK1164>0,VLOOKUP(O1164,EventConfig!A:C,3,FALSE)=4),3,\"\"),1)))","v":1},912910,null,6353,9129]
[912910,6344,"完成和NPC的对话","",{"$nulls":5},140,{"$f":"IF(J1165=\"\",\"\",VLOOKUP(J1165,EventNPC!A:F,6,FALSE))","v":"楚云缪"},6354,"二位道友真是好身手，在下楚云缪一名散修。",null,9129,10,"",null,null,{"$f":"IF(R1165=\"\",\"\",\"-\"&VLOOKUP(R1165,EventConditionConfig!A:C,3,FALSE)&IF(S1165=\"\",\"\",CHAR(10)&\"-\"&VLOOKUP(S1165,EventConditionConfig!A:C,3,FALSE)))","v":""},"","","","",null,null,"",null,null,"",{"$nulls":4},{"$f":"IF(A1165=\"\",\"\",IF(ISNUMBER(Y1165),2,IF(A1166=\"\",IF(OR(AK1165>0,VLOOKUP(O1165,EventConfig!A:C,3,FALSE)=4),3,\"\"),1)))","v":1},912911,null,6354,9129]
[912911,6344,"完成和NPC的对话","",{"$nulls":5},100,{"$f":"IF(J1166=\"\",\"\",VLOOKUP(J1166,EventNPC!A:F,6,FALSE))","v":"玩家"},6355,"在下{0}。这位是馨儿，楚道友伤势怎么样。",null,9129,11,"",null,null,{"$f":"IF(R1166=\"\",\"\",\"-\"&VLOOKUP(R1166,EventConditionConfig!A:C,3,FALSE)&IF(S1166=\"\",\"\",CHAR(10)&\"-\"&VLOOKUP(S1166,EventConditionConfig!A:C,3,FALSE)))","v":""},"",{"$f":"IF(U1166=1,_xlfn.TEXTJOIN(\";\",1,IF(Z1166=\"\",A1166+1,Z1166),IF(AND(AA1166<>\"\",AC1166=\"\"),A1166+1,AC1166),IF(AND(AD1166<>\"\",AF1166=\"\"),A1166+1,AF1166)),IF(U1166=2,Y1166,\"\"))","v":""},"","",null,null,"",null,null,"",{"$nulls":4},{"$f":"IF(A1166=\"\",\"\",IF(ISNUMBER(Y1166),2,IF(A1167=\"\",IF(OR(AK1166>0,VLOOKUP(O1166,EventConfig!A:C,3,FALSE)=4),3,\"\"),1)))","v":1},912912,null,6355,9129]
[912912,6344,"完成和NPC的对话","",{"$nulls":5},140,{"$f":"IF(J1167=\"\",\"\",VLOOKUP(J1167,EventNPC!A:F,6,FALSE))","v":"楚云缪"},6356,"无碍，二位道友可是前往尧都主城参加拍卖会？不知可否一路也好有个照应。",null,9129,12,"",null,null,{"$f":"IF(R1167=\"\",\"\",\"-\"&VLOOKUP(R1167,EventConditionConfig!A:C,3,FALSE)&IF(S1167=\"\",\"\",CHAR(10)&\"-\"&VLOOKUP(S1167,EventConditionConfig!A:C,3,FALSE)))","v":""},"","","","",null,null,"",null,null,"",{"$nulls":4},{"$f":"IF(A1167=\"\",\"\",IF(ISNUMBER(Y1167),2,IF(A1168=\"\",IF(OR(AK1167>0,VLOOKUP(O1167,EventConfig!A:C,3,FALSE)=4),3,\"\"),1)))","v":1},912913,null,6356,9129]
[912913,6344,"完成和NPC的对话","",{"$nulls":5},100,{"$f":"IF(J1168=\"\",\"\",VLOOKUP(J1168,EventNPC!A:F,6,FALSE))","v":"玩家"},6357,"我没有什么物品值得拍卖,就不去了",null,9129,13,"",null,null,{"$f":"IF(R1168=\"\",\"\",\"-\"&VLOOKUP(R1168,EventConditionConfig!A:C,3,FALSE)&IF(S1168=\"\",\"\",CHAR(10)&\"-\"&VLOOKUP(S1168,EventConditionConfig!A:C,3,FALSE)))","v":""},"","","","",null,null,"",null,null,"",{"$nulls":4},{"$f":"IF(A1168=\"\",\"\",IF(ISNUMBER(Y1168),2,IF(A1169=\"\",IF(OR(AK1168>0,VLOOKUP(O1168,EventConfig!A:C,3,FALSE)=4),3,\"\"),1)))","v":1},912914,null,6357,9129]
[912914,6344,"完成和NPC的对话","",{"$nulls":5},131,{"$f":"IF(J1169=\"\",\"\",VLOOKUP(J1169,EventNPC!A:F,6,FALSE))","v":"馨儿"},6358,"楚道友是吧，我要去拍卖会，咱们一起。",null,9129,14,"",null,null,{"$f":"IF(R1169=\"\",\"\",\"-\"&VLOOKUP(R1169,EventConditionConfig!A:C,3,FALSE)&IF(S1169=\"\",\"\",CHAR(10)&\"-\"&VLOOKUP(S1169,EventConditionConfig!A:C,3,FALSE)))","v":""},"","","","",null,null,"",null,null,"",{"$nulls":4},{"$f":"IF(A1169=\"\",\"\",IF(ISNUMBER(Y1169),2,IF(A1170=\"\",IF(OR(AK1169>0,VLOOKUP(O1169,EventConfig!A:C,3,FALSE)=4),3,\"\"),1)))","v":1},912915,null,6358,9129]
[912915,6344,"完成和NPC的对话","",{"$nulls":5},131,{"$f":"IF(J1170=\"\",\"\",VLOOKUP(J1170,EventNPC!A:F,6,FALSE))","v":"馨儿"},6359,"{0}道友，那我和楚道友就先行一步告辞。",null,9129,15,"",null,null,{"$f":"IF(R1170=\"\",\"\",\"-\"&VLOOKUP(R1170,EventConditionConfig!A:C,3,FALSE)&IF(S1170=\"\",\"\",CHAR(10)&\"-\"&VLOOKUP(S1170,EventConditionConfig!A:C,3,FALSE)))","v":""},"","","","",null,null,"",null,null,"",{"$nulls":4},{"$f":"IF(A1170=\"\",\"\",IF(ISNUMBER(Y1170),2,IF(A1171=\"\",IF(OR(AK1170>0,VLOOKUP(O1170,EventConfig!A:C,3,FALSE)=4),3,\"\"),1)))","v":""},"",null,6359,9129]
[{"$nulls":10},{"$f":"IF(J1171=\"\",\"\",VLOOKUP(J1171,EventNPC!A:F,6,FALSE))","v":""},{"$nulls":10},"","",{"$nulls":11},{"$f":"IF(A1171=\"\",\"\",IF(ISNUMBER(Y1171),2,IF(A1172=\"\",IF(OR(AK1171>0,VLOOKUP(O1171,EventConfig!A:C,3,FALSE)=4),3,\"\"),1)))","v":""},null,null,"",0]
[{"$f":"O1172*100+P1172","v":913001},{"$f":"IF(C1172=\"\",\"\",IF(C1172=C1171,B1171,MAX(AL1171,AL1170)+1))","v":6360},"完成和NPC的对话",{"$f":"IF(E1172=\"\",\"\",IF(E1172=E1171,D1171,MAX(AL1171,AL1170,B1172)+1))","v":""},{"$nulls":5},140,{"$f":"IF(J1172=\"\",\"\",VLOOKUP(J1172,EventNPC!A:F,6,FALSE))","v":"楚云缪"},{"$f":"IF(M1172=\"\",\"\",MAX(AL1171,AL1170,B1172,D1172)+1)","v":6361},"（受伤）：{0}道友！",null,9130,{"$f":"IF(O1172=\"\",\"\",IF(O1172=O1171,P1171+1,1))","v":1},{"$f":"_xlfn.TEXTJOIN(\";\",1,R1172:S1172)","v":""},null,null,{"$f":"IF(R1172=\"\",\"\",\"-\"&VLOOKUP(R1172,EventConditionConfig!A:C,3,FALSE)&IF(S1172=\"\",\"\",CHAR(10)&\"-\"&VLOOKUP(S1172,EventConditionConfig!A:C,3,FALSE)))","v":""},{"$f":"IF(Y1172=\"\",\"\",IF(ISTEXT(Y1172),1,2))","v":""},"","",{"$f":"IF(OR(ISNUMBER(Y1172),Y1172=\"\"),\"\",MAX(AL1171,AL1169,B1172,D1172,L1172)+1)","v":""},null,null,{"$f":"IF(OR(ISNUMBER(AB1172),AB1172=\"\"),\"\",X1172+1)","v":""},null,null,{"$f":"IF(OR(ISNUMBER(AE1172),AE1172=\"\"),\"\",AA1172+1)","v":""},{"$nulls":4},{"$f":"IF(A1172=\"\",\"\",IF(ISNUMBER(Y1172),2,IF(A1173=\"\",IF(OR(AK1172>0,VLOOKUP(O1172,EventConfig!A:C,3,FALSE)=4),3,\"\"),1)))","v":1},{"$f":"IF(AI1172=\"\",\"\",CHOOSE(AI1172,IF(AK1172=\"\",A1172+1,AK1172),CONCATENATE(IF(AK1172=\"\",A1172+1,AK1172),\";101\"),IF(AK1172=\"\",O1172+1,AK1172)))","v":913002},null,6361,9130]
[913002,6360,"完成和NPC的对话","",{"$nulls":5},100,{"$f":"IF(J1173=\"\",\"\",VLOOKUP(J1173,EventNPC!A:F,6,FALSE))","v":"玩家"},6362,"楚道友，你这是怎么了？",null,9130,2,"",null,null,{"$f":"IF(R1173=\"\",\"\",\"-\"&VLOOKUP(R1173,EventConditionConfig!A:C,3,FALSE)&IF(S1173=\"\",\"\",CHAR(10)&\"-\"&VLOOKUP(S1173,EventConditionConfig!A:C,3,FALSE)))","v":""},"","","","",null,null,"",null,null,"",{"$nulls":4},{"$f":"IF(A1173=\"\",\"\",IF(ISNUMBER(Y1173),2,IF(A1174=\"\",IF(OR(AK1173>0,VLOOKUP(O1173,EventConfig!A:C,3,FALSE)=4),3,\"\"),1)))","v":1},913003,null,6362,9130]
[913003,6360,"完成和NPC的对话","",{"$nulls":5},140,{"$f":"IF(J1174=\"\",\"\",VLOOKUP(J1174,EventNPC!A:F,6,FALSE))","v":"楚云缪"},6363,"说来话长，我与馨儿姑娘刚进城中就被一男子从背后偷袭，我的碧云佩被抢了，此物本要送往天宝阁拍卖的。馨儿姑娘前去追击那男子去了。",null,9130,3,"",null,null,{"$f":"IF(R1174=\"\",\"\",\"-\"&VLOOKUP(R1174,EventConditionConfig!A:C,3,FALSE)&IF(S1174=\"\",\"\",CHAR(10)&\"-\"&VLOOKUP(S1174,EventConditionConfig!A:C,3,FALSE)))","v":""},"","","","",null,null,"",null,null,"",{"$nulls":4},{"$f":"IF(A1174=\"\",\"\",IF(ISNUMBER(Y1174),2,IF(A1175=\"\",IF(OR(AK1174>0,VLOOKUP(O1174,EventConfig!A:C,3,FALSE)=4),3,\"\"),1)))","v":1},913004,null,6363,9130]
[913004,6360,"完成和NPC的对话","",{"$nulls":5},100,{"$f":"IF(J1175=\"\",\"\",VLOOKUP(J1175,EventNPC!A:F,6,FALSE))","v":"玩家"},6364,"城中也能发生此事。馨儿是往什么方向去了？",null,9130,4,"",null,null,{"$f":"IF(R1175=\"\",\"\",\"-\"&VLOOKUP(R1175,EventConditionConfig!A:C,3,FALSE)&IF(S1175=\"\",\"\",CHAR(10)&\"-\"&VLOOKUP(S1175,EventConditionConfig!A:C,3,FALSE)))","v":""},"","","","",null,null,"",null,null,"",{"$nulls":4},{"$f":"IF(A1175=\"\",\"\",IF(ISNUMBER(Y1175),2,IF(A1176=\"\",IF(OR(AK1175>0,VLOOKUP(O1175,EventConfig!A:C,3,FALSE)=4),3,\"\"),1)))","v":1},913005,null,6364,9130]
[913005,6360,"完成和NPC的对话","",{"$nulls":5},140,{"$f":"IF(J1176=\"\",\"\",VLOOKUP(J1176,EventNPC!A:F,6,FALSE))","v":"楚云缪"},6365,"东南方向，我看偷袭之人好像还有同伴，我担心馨儿不敌。",null,9130,5,"",null,null,{"$f":"IF(R1176=\"\",\"\",\"-\"&VLOOKUP(R1176,EventConditionConfig!A:C,3,FALSE)&IF(S1176=\"\",\"\",CHAR(10)&\"-\"&VLOOKUP(S1176,EventConditionConfig!A:C,3,FALSE)))","v":""},"","","","",null,null,"",null,null,"",{"$nulls":4},{"$f":"IF(A1176=\"\",\"\",IF(ISNUMBER(Y1176),2,IF(A1177=\"\",IF(OR(AK1176>0,VLOOKUP(O1176,EventConfig!A:C,3,FALSE)=4),3,\"\"),1)))","v":1},913006,null,6365,9130]
[913006,6360,"完成和NPC的对话","",{"$nulls":5},100,{"$f":"IF(J1177=\"\",\"\",VLOOKUP(J1177,EventNPC!A:F,6,FALSE))","v":"玩家"},6366,"好，你先在此疗伤，我速去看看。",null,9130,6,"",null,null,{"$f":"IF(R1177=\"\",\"\",\"-\"&VLOOKUP(R1177,EventConditionConfig!A:C,3,FALSE)&IF(S1177=\"\",\"\",CHAR(10)&\"-\"&VLOOKUP(S1177,EventConditionConfig!A:C,3,FALSE)))","v":""},"","","","",null,null,"",null,null,"",{"$nulls":4},{"$f":"IF(A1177=\"\",\"\",IF(ISNUMBER(Y1177),2,IF(A1178=\"\",IF(OR(AK1177>0,VLOOKUP(O1177,EventConfig!A:C,3,FALSE)=4),3,\"\"),1)))","v":1},913007,null,6366,9130]
[913007,6360,"完成和NPC的对话","",{"$nulls":5},140,{"$f":"IF(J1178=\"\",\"\",VLOOKUP(J1178,EventNPC!A:F,6,FALSE))","v":"楚云缪"},6367,"{0}道友小心，我伤无大碍，我随后就来。",null,9130,7,"",null,null,{"$f":"IF(R1178=\"\",\"\",\"-\"&VLOOKUP(R1178,EventConditionConfig!A:C,3,FALSE)&IF(S1178=\"\",\"\",CHAR(10)&\"-\"&VLOOKUP(S1178,EventConditionConfig!A:C,3,FALSE)))","v":""},"","","","",null,null,"",null,null,"",{"$nulls":4},{"$f":"IF(A1178=\"\",\"\",IF(ISNUMBER(Y1178),2,IF(A1179=\"\",IF(OR(AK1178>0,VLOOKUP(O1178,EventConfig!A:C,3,FALSE)=4),3,\"\"),1)))","v":""},"",null,6367,9130]
[{"$nulls":10},{"$f":"IF(J1179=\"\",\"\",VLOOKUP(J1179,EventNPC!A:F,6,FALSE))","v":""},{"$nulls":10},"","",{"$nulls":11},{"$f":"IF(A1179=\"\",\"\",IF(ISNUMBER(Y1179),2,IF(A1180=\"\",IF(OR(AK1179>0,VLOOKUP(O1179,EventConfig!A:C,3,FALSE)=4),3,\"\"),1)))","v":""},null,null,"",0]
[{"$f":"O1180*100+P1180","v":913101},{"$f":"IF(C1180=\"\",\"\",IF(C1180=C1179,B1179,MAX(AL1179,AL1178)+1))","v":6368},"完成和NPC的对话",{"$f":"IF(E1180=\"\",\"\",IF(E1180=E1179,D1179,MAX(AL1179,AL1178,B1180)+1))","v":""},{"$nulls":5},100,{"$f":"IF(J1180=\"\",\"\",VLOOKUP(J1180,EventNPC!A:F,6,FALSE))","v":"玩家"},{"$f":"IF(M1180=\"\",\"\",MAX(AL1179,AL1178,B1180,D1180)+1)","v":6369},"终于追上了。",null,9131,{"$f":"IF(O1180=\"\",\"\",IF(O1180=O1179,P1179+1,1))","v":1},{"$f":"_xlfn.TEXTJOIN(\";\",1,R1180:S1180)","v":""},null,null,{"$f":"IF(R1180=\"\",\"\",\"-\"&VLOOKUP(R1180,EventConditionConfig!A:C,3,FALSE)&IF(S1180=\"\",\"\",CHAR(10)&\"-\"&VLOOKUP(S1180,EventConditionConfig!A:C,3,FALSE)))","v":""},{"$f":"IF(Y1180=\"\",\"\",IF(ISTEXT(Y1180),1,2))","v":""},"","",{"$f":"IF(OR(ISNUMBER(Y1180),Y1180=\"\"),\"\",MAX(AL1179,AL1177,B1180,D1180,L1180)+1)","v":""},null,null,{"$f":"IF(OR(ISNUMBER(AB1180),AB1180=\"\"),\"\",X1180+1)","v":""},null,null,{"$f":"IF(OR(ISNUMBER(AE1180),AE1180=\"\"),\"\",AA1180+1)","v":""},{"$nulls":4},{"$f":"IF(A1180=\"\",\"\",IF(ISNUMBER(Y1180),2,IF(A1181=\"\",IF(OR(AK1180>0,VLOOKUP(O1180,EventConfig!A:C,3,FALSE)=4),3,\"\"),1)))","v":1},{"$f":"IF(AI1180=\"\",\"\",CHOOSE(AI1180,IF(AK1180=\"\",A1180+1,AK1180),CONCATENATE(IF(AK1180=\"\",A1180+1,AK1180),\";101\"),IF(AK1180=\"\",O1180+1,AK1180)))","v":913102},null,6369,9131]
[{"$f":"O1181*100+P1181","v":913102},{"$f":"IF(C1181=\"\",\"\",IF(C1181=C1180,B1180,MAX(AL1180,AL1179)+1))","v":6368},"完成和NPC的对话",{"$f":"IF(E1181=\"\",\"\",IF(E1181=E1180,D1180,MAX(AL1180,AL1179,B1181)+1))","v":""},{"$nulls":5},131,{"$f":"IF(J1181=\"\",\"\",VLOOKUP(J1181,EventNPC!A:F,6,FALSE))","v":"馨儿"},{"$f":"IF(M1181=\"\",\"\",MAX(AL1180,AL1179,B1181,D1181)+1)","v":6370},"{0}道友，你怎么在这里？",null,9131,{"$f":"IF(O1181=\"\",\"\",IF(O1181=O1180,P1180+1,1))","v":2},{"$f":"_xlfn.TEXTJOIN(\";\",1,R1181:S1181)","v":""},null,null,{"$f":"IF(R1181=\"\",\"\",\"-\"&VLOOKUP(R1181,EventConditionConfig!A:C,3,FALSE)&IF(S1181=\"\",\"\",CHAR(10)&\"-\"&VLOOKUP(S1181,EventConditionConfig!A:C,3,FALSE)))","v":""},{"$f":"IF(Y1181=\"\",\"\",IF(ISTEXT(Y1181),1,2))","v":""},"","",{"$f":"IF(OR(ISNUMBER(Y1181),Y1181=\"\"),\"\",MAX(AL1180,AL1178,B1181,D1181,L1181)+1)","v":""},null,null,{"$f":"IF(OR(ISNUMBER(AB1181),AB1181=\"\"),\"\",X1181+1)","v":""},null,null,{"$f":"IF(OR(ISNUMBER(AE1181),AE1181=\"\"),\"\",AA1181+1)","v":""},{"$nulls":4},{"$f":"IF(A1181=\"\",\"\",IF(ISNUMBER(Y1181),2,IF(A1182=\"\",IF(OR(AK1181>0,VLOOKUP(O1181,EventConfig!A:C,3,FALSE)=4),3,\"\"),1)))","v":1},{"$f":"IF(AI1181=\"\",\"\",CHOOSE(AI1181,IF(AK1181=\"\",A1181+1,AK1181),CONCATENATE(IF(AK1181=\"\",A1181+1,AK1181),\";101\"),IF(AK1181=\"\",O1181+1,AK1181)))","v":913103},null,6370,9131]
[{"$f":"O1182*100+P1182","v":913103},{"$f":"IF(C1182=\"\",\"\",IF(C1182=C1181,B1181,MAX(AL1181,AL1180)+1))","v":6368},"完成和NPC的对话",{"$f":"IF(E1182=\"\",\"\",IF(E1182=E1181,D1181,MAX(AL1181,AL1180,B1182)+1))","v":""},{"$nulls":5},100,{"$f":"IF(J1182=\"\",\"\",VLOOKUP(J1182,EventNPC!A:F,6,FALSE))","v":"玩家"},{"$f":"IF(M1182=\"\",\"\",MAX(AL1181,AL1180,B1182,D1182)+1)","v":6371},"楚道友已给我说明缘由了。",null,9131,{"$f":"IF(O1182=\"\",\"\",IF(O1182=O1181,P1181+1,1))","v":3},{"$f":"_xlfn.TEXTJOIN(\";\",1,R1182:S1182)","v":""},null,null,{"$f":"IF(R1182=\"\",\"\",\"-\"&VLOOKUP(R1182,EventConditionConfig!A:C,3,FALSE)&IF(S1182=\"\",\"\",CHAR(10)&\"-\"&VLOOKUP(S1182,EventConditionConfig!A:C,3,FALSE)))","v":""},{"$f":"IF(Y1182=\"\",\"\",IF(ISTEXT(Y1182),1,2))","v":""},"","",{"$f":"IF(OR(ISNUMBER(Y1182),Y1182=\"\"),\"\",MAX(AL1181,AL1179,B1182,D1182,L1182)+1)","v":""},null,null,{"$f":"IF(OR(ISNUMBER(AB1182),AB1182=\"\"),\"\",X1182+1)","v":""},null,null,{"$f":"IF(OR(ISNUMBER(AE1182),AE1182=\"\"),\"\",AA1182+1)","v":""},{"$nulls":4},{"$f":"IF(A1182=\"\",\"\",IF(ISNUMBER(Y1182),2,IF(A1183=\"\",IF(OR(AK1182>0,VLOOKUP(O1182,EventConfig!A:C,3,FALSE)=4),3,\"\"),1)))","v":1},{"$f":"IF(AI1182=\"\",\"\",CHOOSE(AI1182,IF(AK1182=\"\",A1182+1,AK1182),CONCATENATE(IF(AK1182=\"\",A1182+1,AK1182),\";101\"),IF(AK1182=\"\",O1182+1,AK1182)))","v":913104},null,6371,9131]
[{"$f":"O1183*100+P1183","v":913104},{"$f":"IF(C1183=\"\",\"\",IF(C1183=C1182,B1182,MAX(AL1182,AL1181)+1))","v":6368},"完成和NPC的对话",{"$f":"IF(E1183=\"\",\"\",IF(E1183=E1182,D1182,MAX(AL1182,AL1181,B1183)+1))","v":""},{"$nulls":5},131,{"$f":"IF(J1183=\"\",\"\",VLOOKUP(J1183,EventNPC!A:F,6,FALSE))","v":"馨儿"},{"$f":"IF(M1183=\"\",\"\",MAX(AL1182,AL1181,B1183,D1183)+1)","v":6372},"正好，那偷袭之人就在前方，我看好像有接引之人，我们抓紧时间。",null,9131,{"$f":"IF(O1183=\"\",\"\",IF(O1183=O1182,P1182+1,1))","v":4},{"$f":"_xlfn.TEXTJOIN(\";\",1,R1183:S1183)","v":""},null,null,{"$f":"IF(R1183=\"\",\"\",\"-\"&VLOOKUP(R1183,EventConditionConfig!A:C,3,FALSE)&IF(S1183=\"\",\"\",CHAR(10)&\"-\"&VLOOKUP(S1183,EventConditionConfig!A:C,3,FALSE)))","v":""},{"$f":"IF(Y1183=\"\",\"\",IF(ISTEXT(Y1183),1,2))","v":""},"","",{"$f":"IF(OR(ISNUMBER(Y1183),Y1183=\"\"),\"\",MAX(AL1182,AL1180,B1183,D1183,L1183)+1)","v":""},null,null,{"$f":"IF(OR(ISNUMBER(AB1183),AB1183=\"\"),\"\",X1183+1)","v":""},null,null,{"$f":"IF(OR(ISNUMBER(AE1183),AE1183=\"\"),\"\",AA1183+1)","v":""},{"$nulls":4},{"$f":"IF(A1183=\"\",\"\",IF(ISNUMBER(Y1183),2,IF(A1184=\"\",IF(OR(AK1183>0,VLOOKUP(O1183,EventConfig!A:C,3,FALSE)=4),3,\"\"),1)))","v":""},{"$f":"IF(AI1183=\"\",\"\",CHOOSE(AI1183,IF(AK1183=\"\",A1183+1,AK1183),CONCATENATE(IF(AK1183=\"\",A1183+1,AK1183),\";101\"),IF(AK1183=\"\",O1183+1,AK1183)))","v":""},null,6372,9131]
[{"$nulls":10},{"$f":"IF(J1184=\"\",\"\",VLOOKUP(J1184,EventNPC!A:F,6,FALSE))","v":""},{"$nulls":10},"","",{"$nulls":11},{"$f":"IF(A1184=\"\",\"\",IF(ISNUMBER(Y1184),2,IF(A1185=\"\",IF(OR(AK1184>0,VLOOKUP(O1184,EventConfig!A:C,3,FALSE)=4),3,\"\"),1)))","v":""},null,null,"",0]
[{"$f":"O1185*100+P1185","v":913201},{"$f":"IF(C1185=\"\",\"\",IF(C1185=C1184,B1184,MAX(AL1184,AL1183)+1))","v":6373},"完成和NPC的对话",{"$f":"IF(E1185=\"\",\"\",IF(E1185=E1184,D1184,MAX(AL1184,AL1183,B1185)+1))","v":""},{"$nulls":5},131,{"$f":"IF(J1185=\"\",\"\",VLOOKUP(J1185,EventNPC!A:F,6,FALSE))","v":"馨儿"},{"$f":"IF(M1185=\"\",\"\",MAX(AL1184,AL1183,B1185,D1185)+1)","v":6374},"还跑？背后偷袭，果然不是什么正派修士。",null,9132,{"$f":"IF(O1185=\"\",\"\",IF(O1185=O1184,P1184+1,1))","v":1},{"$f":"_xlfn.TEXTJOIN(\";\",1,R1185:S1185)","v":""},null,null,{"$f":"IF(R1185=\"\",\"\",\"-\"&VLOOKUP(R1185,EventConditionConfig!A:C,3,FALSE)&IF(S1185=\"\",\"\",CHAR(10)&\"-\"&VLOOKUP(S1185,EventConditionConfig!A:C,3,FALSE)))","v":""},{"$f":"IF(Y1185=\"\",\"\",IF(ISTEXT(Y1185),1,2))","v":""},"","",{"$f":"IF(OR(ISNUMBER(Y1185),Y1185=\"\"),\"\",MAX(AL1184,AL1182,B1185,D1185,L1185)+1)","v":""},null,null,{"$f":"IF(OR(ISNUMBER(AB1185),AB1185=\"\"),\"\",X1185+1)","v":""},null,null,{"$f":"IF(OR(ISNUMBER(AE1185),AE1185=\"\"),\"\",AA1185+1)","v":""},{"$nulls":4},{"$f":"IF(A1185=\"\",\"\",IF(ISNUMBER(Y1185),2,IF(A1186=\"\",IF(OR(AK1185>0,VLOOKUP(O1185,EventConfig!A:C,3,FALSE)=4),3,\"\"),1)))","v":1},{"$f":"IF(AI1185=\"\",\"\",CHOOSE(AI1185,IF(AK1185=\"\",A1185+1,AK1185),CONCATENATE(IF(AK1185=\"\",A1185+1,AK1185),\";101\"),IF(AK1185=\"\",O1185+1,AK1185)))","v":913202},null,6374,9132]
[913202,6373,"完成和NPC的对话","",{"$nulls":5},141,{"$f":"IF(J1186=\"\",\"\",VLOOKUP(J1186,EventNPC!A:F,6,FALSE))","v":"青狼散人"},6375,"什么狗屁正派，敢坏我青狼帮好事？碧云佩已是本座之物，识相的速速退去，免得魂飞魄散！",null,9132,2,"",null,null,{"$f":"IF(R1186=\"\",\"\",\"-\"&VLOOKUP(R1186,EventConditionConfig!A:C,3,FALSE)&IF(S1186=\"\",\"\",CHAR(10)&\"-\"&VLOOKUP(S1186,EventConditionConfig!A:C,3,FALSE)))","v":""},"","","","",null,null,"",null,null,"",{"$nulls":4},{"$f":"IF(A1186=\"\",\"\",IF(ISNUMBER(Y1186),2,IF(A1187=\"\",IF(OR(AK1186>0,VLOOKUP(O1186,EventConfig!A:C,3,FALSE)=4),3,\"\"),1)))","v":1},913203,null,6375,9132]
[913203,6373,"完成和NPC的对话","",{"$nulls":5},131,{"$f":"IF(J1187=\"\",\"\",VLOOKUP(J1187,EventNPC!A:F,6,FALSE))","v":"馨儿"},6376,"{0}道友，我们上。",null,9132,3,"",null,null,{"$f":"IF(R1187=\"\",\"\",\"-\"&VLOOKUP(R1187,EventConditionConfig!A:C,3,FALSE)&IF(S1187=\"\",\"\",CHAR(10)&\"-\"&VLOOKUP(S1187,EventConditionConfig!A:C,3,FALSE)))","v":""},2,4014,"","",4014,null,"",null,null,"",{"$nulls":4},{"$f":"IF(A1187=\"\",\"\",IF(ISNUMBER(Y1187),2,IF(A1188=\"\",IF(OR(AK1187>0,VLOOKUP(O1187,EventConfig!A:C,3,FALSE)=4),3,\"\"),1)))","v":2},"913204;101",null,6376,9132]
[913204,6373,"完成和NPC的对话","",{"$nulls":5},141,{"$f":"IF(J1188=\"\",\"\",VLOOKUP(J1188,EventNPC!A:F,6,FALSE))","v":"青狼散人"},6377,"（奄奄一息）：青狼帮不会放过你们的~",null,9132,4,"",null,null,{"$f":"IF(R1188=\"\",\"\",\"-\"&VLOOKUP(R1188,EventConditionConfig!A:C,3,FALSE)&IF(S1188=\"\",\"\",CHAR(10)&\"-\"&VLOOKUP(S1188,EventConditionConfig!A:C,3,FALSE)))","v":""},"","","","",null,null,"",null,null,"",{"$nulls":4},{"$f":"IF(A1188=\"\",\"\",IF(ISNUMBER(Y1188),2,IF(A1189=\"\",IF(OR(AK1188>0,VLOOKUP(O1188,EventConfig!A:C,3,FALSE)=4),3,\"\"),1)))","v":1},913205,null,6377,9132]
[913205,6373,"完成和NPC的对话","",{"$nulls":5},131,{"$f":"IF(J1189=\"\",\"\",VLOOKUP(J1189,EventNPC!A:F,6,FALSE))","v":"馨儿"},6378,"什么青狼帮从未听说过。还好碧云佩到手。",null,9132,5,"",null,null,{"$f":"IF(R1189=\"\",\"\",\"-\"&VLOOKUP(R1189,EventConditionConfig!A:C,3,FALSE)&IF(S1189=\"\",\"\",CHAR(10)&\"-\"&VLOOKUP(S1189,EventConditionConfig!A:C,3,FALSE)))","v":""},"","","","",null,null,"",null,null,"",{"$nulls":4},{"$f":"IF(A1189=\"\",\"\",IF(ISNUMBER(Y1189),2,IF(A1190=\"\",IF(OR(AK1189>0,VLOOKUP(O1189,EventConfig!A:C,3,FALSE)=4),3,\"\"),1)))","v":1},913206,null,6378,9132]
[913206,6373,"完成和NPC的对话","",{"$nulls":5},140,{"$f":"IF(J1190=\"\",\"\",VLOOKUP(J1190,EventNPC!A:F,6,FALSE))","v":"楚云缪"},6379,"（飞了过来）已经摆平了？真是感谢二位道友。",null,9132,6,"",null,null,{"$f":"IF(R1190=\"\",\"\",\"-\"&VLOOKUP(R1190,EventConditionConfig!A:C,3,FALSE)&IF(S1190=\"\",\"\",CHAR(10)&\"-\"&VLOOKUP(S1190,EventConditionConfig!A:C,3,FALSE)))","v":""},"","","","",null,null,"",null,null,"",{"$nulls":4},{"$f":"IF(A1190=\"\",\"\",IF(ISNUMBER(Y1190),2,IF(A1191=\"\",IF(OR(AK1190>0,VLOOKUP(O1190,EventConfig!A:C,3,FALSE)=4),3,\"\"),1)))","v":1},913207,null,6379,9132]
[913207,6373,"完成和NPC的对话","",{"$nulls":5},100,{"$f":"IF(J1191=\"\",\"\",VLOOKUP(J1191,EventNPC!A:F,6,FALSE))","v":"玩家"},6380,"道友不必客气。",null,9132,7,"",null,null,{"$f":"IF(R1191=\"\",\"\",\"-\"&VLOOKUP(R1191,EventConditionConfig!A:C,3,FALSE)&IF(S1191=\"\",\"\",CHAR(10)&\"-\"&VLOOKUP(S1191,EventConditionConfig!A:C,3,FALSE)))","v":""},"","","","",null,null,"",null,null,"",{"$nulls":4},{"$f":"IF(A1191=\"\",\"\",IF(ISNUMBER(Y1191),2,IF(A1192=\"\",IF(OR(AK1191>0,VLOOKUP(O1191,EventConfig!A:C,3,FALSE)=4),3,\"\"),1)))","v":1},913208,null,6380,9132]
[913208,6373,"完成和NPC的对话","",{"$nulls":5},131,{"$f":"IF(J1192=\"\",\"\",VLOOKUP(J1192,EventNPC!A:F,6,FALSE))","v":"馨儿"},6381,"（调皮）好辛苦呀，有没有什么宝物相赠呀。",null,9132,8,"",null,null,{"$f":"IF(R1192=\"\",\"\",\"-\"&VLOOKUP(R1192,EventConditionConfig!A:C,3,FALSE)&IF(S1192=\"\",\"\",CHAR(10)&\"-\"&VLOOKUP(S1192,EventConditionConfig!A:C,3,FALSE)))","v":""},"","","","",null,null,"",null,null,"",{"$nulls":4},{"$f":"IF(A1192=\"\",\"\",IF(ISNUMBER(Y1192),2,IF(A1193=\"\",IF(OR(AK1192>0,VLOOKUP(O1192,EventConfig!A:C,3,FALSE)=4),3,\"\"),1)))","v":1},913209,null,6381,9132]
[913209,6373,"完成和NPC的对话","",{"$nulls":5},140,{"$f":"IF(J1193=\"\",\"\",VLOOKUP(J1193,EventNPC!A:F,6,FALSE))","v":"楚云缪"},6382,"哈哈，有，这点材料本来也是想在拍卖会上拍卖的，二位如不嫌弃就请收下。",null,9132,9,"",null,null,{"$f":"IF(R1193=\"\",\"\",\"-\"&VLOOKUP(R1193,EventConditionConfig!A:C,3,FALSE)&IF(S1193=\"\",\"\",CHAR(10)&\"-\"&VLOOKUP(S1193,EventConditionConfig!A:C,3,FALSE)))","v":""},"","","","",null,null,"",null,null,"",{"$nulls":4},{"$f":"IF(A1193=\"\",\"\",IF(ISNUMBER(Y1193),2,IF(A1194=\"\",IF(OR(AK1193>0,VLOOKUP(O1193,EventConfig!A:C,3,FALSE)=4),3,\"\"),1)))","v":1},913210,null,6382,9132]
[913210,6373,"完成和NPC的对话","",{"$nulls":5},100,{"$f":"IF(J1194=\"\",\"\",VLOOKUP(J1194,EventNPC!A:F,6,FALSE))","v":"玩家"},6383,"这..",null,9132,10,"",null,null,{"$f":"IF(R1194=\"\",\"\",\"-\"&VLOOKUP(R1194,EventConditionConfig!A:C,3,FALSE)&IF(S1194=\"\",\"\",CHAR(10)&\"-\"&VLOOKUP(S1194,EventConditionConfig!A:C,3,FALSE)))","v":""},"","","","",null,null,"",null,null,"",{"$nulls":4},{"$f":"IF(A1194=\"\",\"\",IF(ISNUMBER(Y1194),2,IF(A1195=\"\",IF(OR(AK1194>0,VLOOKUP(O1194,EventConfig!A:C,3,FALSE)=4),3,\"\"),1)))","v":1},913211,null,6383,9132]
[913211,6373,"完成和NPC的对话","",{"$nulls":5},131,{"$f":"IF(J1195=\"\",\"\",VLOOKUP(J1195,EventNPC!A:F,6,FALSE))","v":"馨儿"},6384,"我不嫌弃！（快速向前拿走一份）",null,9132,11,"",null,null,{"$f":"IF(R1195=\"\",\"\",\"-\"&VLOOKUP(R1195,EventConditionConfig!A:C,3,FALSE)&IF(S1195=\"\",\"\",CHAR(10)&\"-\"&VLOOKUP(S1195,EventConditionConfig!A:C,3,FALSE)))","v":""},"","","","",null,null,"",null,null,"",{"$nulls":4},{"$f":"IF(A1195=\"\",\"\",IF(ISNUMBER(Y1195),2,IF(A1196=\"\",IF(OR(AK1195>0,VLOOKUP(O1195,EventConfig!A:C,3,FALSE)=4),3,\"\"),1)))","v":1},913212,null,6384,9132]
[913212,6373,"完成和NPC的对话","",{"$nulls":5},140,{"$f":"IF(J1196=\"\",\"\",VLOOKUP(J1196,EventNPC!A:F,6,FALSE))","v":"楚云缪"},6385,"{0}道友，你也拿着。这也不是什么很值钱的东西。",null,9132,12,"",null,null,{"$f":"IF(R1196=\"\",\"\",\"-\"&VLOOKUP(R1196,EventConditionConfig!A:C,3,FALSE)&IF(S1196=\"\",\"\",CHAR(10)&\"-\"&VLOOKUP(S1196,EventConditionConfig!A:C,3,FALSE)))","v":""},"","","","",null,null,"",null,null,"",{"$nulls":4},{"$f":"IF(A1196=\"\",\"\",IF(ISNUMBER(Y1196),2,IF(A1197=\"\",IF(OR(AK1196>0,VLOOKUP(O1196,EventConfig!A:C,3,FALSE)=4),3,\"\"),1)))","v":1},913213,null,6385,9132]
[913213,6373,"完成和NPC的对话","",{"$nulls":5},140,{"$f":"IF(J1197=\"\",\"\",VLOOKUP(J1197,EventNPC!A:F,6,FALSE))","v":"楚云缪"},6386,"馨儿道友那我们赶快会拍卖会吧，应该马上就要开始了，{0}道友，我们就先走了。",null,9132,13,"",null,null,{"$f":"IF(R1197=\"\",\"\",\"-\"&VLOOKUP(R1197,EventConditionConfig!A:C,3,FALSE)&IF(S1197=\"\",\"\",CHAR(10)&\"-\"&VLOOKUP(S1197,EventConditionConfig!A:C,3,FALSE)))","v":""},"","","","",null,null,"",null,null,"",{"$nulls":4},{"$f":"IF(A1197=\"\",\"\",IF(ISNUMBER(Y1197),2,IF(A1198=\"\",IF(OR(AK1197>0,VLOOKUP(O1197,EventConfig!A:C,3,FALSE)=4),3,\"\"),1)))","v":""},"",null,6386,9132]
[{"$nulls":10},{"$f":"IF(J1198=\"\",\"\",VLOOKUP(J1198,EventNPC!A:F,6,FALSE))","v":""},{"$nulls":10},"","",{"$nulls":11},{"$f":"IF(A1198=\"\",\"\",IF(ISNUMBER(Y1198),2,IF(A1199=\"\",IF(OR(AK1198>0,VLOOKUP(O1198,EventConfig!A:C,3,FALSE)=4),3,\"\"),1)))","v":""},null,null,"",0]
[{"$f":"O1199*100+P1199","v":913301},{"$f":"IF(C1199=\"\",\"\",IF(C1199=C1198,B1198,MAX(AL1198,AL1197)+1))","v":6387},"完成和NPC的对话",{"$f":"IF(E1199=\"\",\"\",IF(E1199=E1198,D1198,MAX(AL1198,AL1197,B1199)+1))","v":""},{"$nulls":5},133,{"$f":"IF(J1199=\"\",\"\",VLOOKUP(J1199,EventNPC!A:F,6,FALSE))","v":"血海宗弟子A"},{"$f":"IF(M1199=\"\",\"\",MAX(AL1198,AL1197,B1199,D1199)+1)","v":6388},"这位道友可是从尧都主城而来？",null,9133,{"$f":"IF(O1199=\"\",\"\",IF(O1199=O1198,P1198+1,1))","v":1},{"$f":"_xlfn.TEXTJOIN(\";\",1,R1199:S1199)","v":""},null,null,{"$f":"IF(R1199=\"\",\"\",\"-\"&VLOOKUP(R1199,EventConditionConfig!A:C,3,FALSE)&IF(S1199=\"\",\"\",CHAR(10)&\"-\"&VLOOKUP(S1199,EventConditionConfig!A:C,3,FALSE)))","v":""},{"$f":"IF(Y1199=\"\",\"\",IF(ISTEXT(Y1199),1,2))","v":""},"","",{"$f":"IF(OR(ISNUMBER(Y1199),Y1199=\"\"),\"\",MAX(AL1198,AL1196,B1199,D1199,L1199)+1)","v":""},null,null,{"$f":"IF(OR(ISNUMBER(AB1199),AB1199=\"\"),\"\",X1199+1)","v":""},null,null,{"$f":"IF(OR(ISNUMBER(AE1199),AE1199=\"\"),\"\",AA1199+1)","v":""},{"$nulls":4},{"$f":"IF(A1199=\"\",\"\",IF(ISNUMBER(Y1199),2,IF(A1200=\"\",IF(OR(AK1199>0,VLOOKUP(O1199,EventConfig!A:C,3,FALSE)=4),3,\"\"),1)))","v":1},{"$f":"IF(AI1199=\"\",\"\",CHOOSE(AI1199,IF(AK1199=\"\",A1199+1,AK1199),CONCATENATE(IF(AK1199=\"\",A1199+1,AK1199),\";101\"),IF(AK1199=\"\",O1199+1,AK1199)))","v":913302},null,6388,9133]
[913302,6387,"完成和NPC的对话","",{"$nulls":5},100,{"$f":"IF(J1200=\"\",\"\",VLOOKUP(J1200,EventNPC!A:F,6,FALSE))","v":"玩家"},6389,"正是。不知道友有何事？（看到此人来者不善，你提高了警惕）",null,9133,2,"",null,null,{"$f":"IF(R1200=\"\",\"\",\"-\"&VLOOKUP(R1200,EventConditionConfig!A:C,3,FALSE)&IF(S1200=\"\",\"\",CHAR(10)&\"-\"&VLOOKUP(S1200,EventConditionConfig!A:C,3,FALSE)))","v":""},"","","","",null,null,"",null,null,"",{"$nulls":4},{"$f":"IF(A1200=\"\",\"\",IF(ISNUMBER(Y1200),2,IF(A1201=\"\",IF(OR(AK1200>0,VLOOKUP(O1200,EventConfig!A:C,3,FALSE)=4),3,\"\"),1)))","v":1},913303,null,6389,9133]
[913303,6387,"完成和NPC的对话","",{"$nulls":5},133,{"$f":"IF(J1201=\"\",\"\",VLOOKUP(J1201,EventNPC!A:F,6,FALSE))","v":"血海宗弟子A"},6390,"尧都刚举办完拍卖大会，不知道友可拍到了什么值钱的东西？",null,9133,3,"",null,null,{"$f":"IF(R1201=\"\",\"\",\"-\"&VLOOKUP(R1201,EventConditionConfig!A:C,3,FALSE)&IF(S1201=\"\",\"\",CHAR(10)&\"-\"&VLOOKUP(S1201,EventConditionConfig!A:C,3,FALSE)))","v":""},1,"913304;913305","6391;6392",6391,"我也只是路过尧都而已，没参加拍卖会",{"$f":"A1202","v":913304},6392,"说明你真正的来意吧。",{"$f":"A1203","v":913305},"",null,{"$f":"D1203","v":""},null,null,{"$f":"IF(A1201=\"\",\"\",IF(ISNUMBER(Y1201),2,IF(A1202=\"\",IF(OR(AK1201>0,VLOOKUP(O1201,EventConfig!A:C,3,FALSE)=4),3,\"\"),1)))","v":1},913304,null,6392,9133]
[913304,6387,"完成和NPC的对话","",{"$nulls":5},133,{"$f":"IF(J1202=\"\",\"\",VLOOKUP(J1202,EventNPC!A:F,6,FALSE))","v":"血海宗弟子A"},6393,"没参加？哼！那就把你值钱的东西留下吧。",null,9133,4,"",null,null,{"$f":"IF(R1202=\"\",\"\",\"-\"&VLOOKUP(R1202,EventConditionConfig!A:C,3,FALSE)&IF(S1202=\"\",\"\",CHAR(10)&\"-\"&VLOOKUP(S1202,EventConditionConfig!A:C,3,FALSE)))","v":""},"","","","",null,null,"",null,null,"",{"$nulls":4},{"$f":"IF(A1202=\"\",\"\",IF(ISNUMBER(Y1202),2,IF(A1203=\"\",IF(OR(AK1202>0,VLOOKUP(O1202,EventConfig!A:C,3,FALSE)=4),3,\"\"),1)))","v":1},913306,{"$f":"A1204","v":913306},6393,9133]
[913305,6387,"完成和NPC的对话","",{"$nulls":5},133,{"$f":"IF(J1203=\"\",\"\",VLOOKUP(J1203,EventNPC!A:F,6,FALSE))","v":"血海宗弟子A"},6394,"哈哈，果然敏锐。我也不绕弯子了，把身上的宝物留下就行。",null,9133,5,"",null,null,{"$f":"IF(R1203=\"\",\"\",\"-\"&VLOOKUP(R1203,EventConditionConfig!A:C,3,FALSE)&IF(S1203=\"\",\"\",CHAR(10)&\"-\"&VLOOKUP(S1203,EventConditionConfig!A:C,3,FALSE)))","v":""},"","","","",null,null,"",null,null,"",{"$nulls":4},{"$f":"IF(A1203=\"\",\"\",IF(ISNUMBER(Y1203),2,IF(A1204=\"\",IF(OR(AK1203>0,VLOOKUP(O1203,EventConfig!A:C,3,FALSE)=4),3,\"\"),1)))","v":1},913306,{"$f":"A1204","v":913306},6394,9133]
[913306,6387,"完成和NPC的对话","",{"$nulls":5},100,{"$f":"IF(J1204=\"\",\"\",VLOOKUP(J1204,EventNPC!A:F,6,FALSE))","v":"玩家"},6395,"那就看你有没有这个本事了。",null,9133,6,"",null,null,{"$f":"IF(R1204=\"\",\"\",\"-\"&VLOOKUP(R1204,EventConditionConfig!A:C,3,FALSE)&IF(S1204=\"\",\"\",CHAR(10)&\"-\"&VLOOKUP(S1204,EventConditionConfig!A:C,3,FALSE)))","v":""},2,4015,"","",4015,null,"",null,null,"",{"$nulls":4},{"$f":"IF(A1204=\"\",\"\",IF(ISNUMBER(Y1204),2,IF(A1205=\"\",IF(OR(AK1204>0,VLOOKUP(O1204,EventConfig!A:C,3,FALSE)=4),3,\"\"),1)))","v":2},"913307;101",null,6395,9133]
[913307,6387,"完成和NPC的对话","",{"$nulls":5},133,{"$f":"IF(J1205=\"\",\"\",VLOOKUP(J1205,EventNPC!A:F,6,FALSE))","v":"血海宗弟子A"},6396,"不要杀我，不要杀我，我是血海宗弟子，你若杀了我血海宗不会放过你。",null,9133,7,"",null,null,{"$f":"IF(R1205=\"\",\"\",\"-\"&VLOOKUP(R1205,EventConditionConfig!A:C,3,FALSE)&IF(S1205=\"\",\"\",CHAR(10)&\"-\"&VLOOKUP(S1205,EventConditionConfig!A:C,3,FALSE)))","v":""},"","","","",null,null,"",null,null,"",{"$nulls":4},{"$f":"IF(A1205=\"\",\"\",IF(ISNUMBER(Y1205),2,IF(A1206=\"\",IF(OR(AK1205>0,VLOOKUP(O1205,EventConfig!A:C,3,FALSE)=4),3,\"\"),1)))","v":1},913308,null,6396,9133]
[913308,6387,"完成和NPC的对话","",{"$nulls":5},100,{"$f":"IF(J1206=\"\",\"\",VLOOKUP(J1206,EventNPC!A:F,6,FALSE))","v":"玩家"},6397,"血海宗是吧，我记住了。（玩家一丙飞剑贯穿敌人咽喉）",null,9133,8,"",null,null,{"$f":"IF(R1206=\"\",\"\",\"-\"&VLOOKUP(R1206,EventConditionConfig!A:C,3,FALSE)&IF(S1206=\"\",\"\",CHAR(10)&\"-\"&VLOOKUP(S1206,EventConditionConfig!A:C,3,FALSE)))","v":""},"","","","",null,null,"",null,null,"",{"$nulls":4},{"$f":"IF(A1206=\"\",\"\",IF(ISNUMBER(Y1206),2,IF(A1207=\"\",IF(OR(AK1206>0,VLOOKUP(O1206,EventConfig!A:C,3,FALSE)=4),3,\"\"),1)))","v":1},913309,null,6397,9133]
[913309,6387,"完成和NPC的对话","",{"$nulls":5},133,{"$f":"IF(J1207=\"\",\"\",VLOOKUP(J1207,EventNPC!A:F,6,FALSE))","v":"血海宗弟子A"},6398,"啊~啊~啊~",null,9133,9,"",null,null,{"$f":"IF(R1207=\"\",\"\",\"-\"&VLOOKUP(R1207,EventConditionConfig!A:C,3,FALSE)&IF(S1207=\"\",\"\",CHAR(10)&\"-\"&VLOOKUP(S1207,EventConditionConfig!A:C,3,FALSE)))","v":""},"","","","",null,null,"",null,null,"",{"$nulls":4},{"$f":"IF(A1207=\"\",\"\",IF(ISNUMBER(Y1207),2,IF(A1208=\"\",IF(OR(AK1207>0,VLOOKUP(O1207,EventConfig!A:C,3,FALSE)=4),3,\"\"),1)))","v":""},"",null,6398,9133]
[{"$nulls":10},{"$f":"IF(J1208=\"\",\"\",VLOOKUP(J1208,EventNPC!A:F,6,FALSE))","v":""},{"$nulls":10},"","",{"$nulls":11},{"$f":"IF(A1208=\"\",\"\",IF(ISNUMBER(Y1208),2,IF(A1209=\"\",IF(OR(AK1208>0,VLOOKUP(O1208,EventConfig!A:C,3,FALSE)=4),3,\"\"),1)))","v":""},null,null,"",0]
[{"$f":"O1209*100+P1209","v":913401},{"$f":"IF(C1209=\"\",\"\",IF(C1209=C1208,B1208,MAX(AL1208,AL1207)+1))","v":6399},"完成和NPC的对话",{"$f":"IF(E1209=\"\",\"\",IF(E1209=E1208,D1208,MAX(AL1208,AL1207,B1209)+1))","v":""},{"$nulls":5},135,{"$f":"IF(J1209=\"\",\"\",VLOOKUP(J1209,EventNPC!A:F,6,FALSE))","v":"血海宗弟子B"},{"$f":"IF(M1209=\"\",\"\",MAX(AL1208,AL1207,B1209,D1209)+1)","v":6400},"你可真能跑，拍卖会上竟敢和血海宗争夺玄冥晶，你小子活腻了。",null,9134,{"$f":"IF(O1209=\"\",\"\",IF(O1209=O1208,P1208+1,1))","v":1},{"$f":"_xlfn.TEXTJOIN(\";\",1,R1209:S1209)","v":""},null,null,{"$f":"IF(R1209=\"\",\"\",\"-\"&VLOOKUP(R1209,EventConditionConfig!A:C,3,FALSE)&IF(S1209=\"\",\"\",CHAR(10)&\"-\"&VLOOKUP(S1209,EventConditionConfig!A:C,3,FALSE)))","v":""},{"$f":"IF(Y1209=\"\",\"\",IF(ISTEXT(Y1209),1,2))","v":""},"","",{"$f":"IF(OR(ISNUMBER(Y1209),Y1209=\"\"),\"\",MAX(AL1208,AL1206,B1209,D1209,L1209)+1)","v":""},null,null,{"$f":"IF(OR(ISNUMBER(AB1209),AB1209=\"\"),\"\",X1209+1)","v":""},null,null,{"$f":"IF(OR(ISNUMBER(AE1209),AE1209=\"\"),\"\",AA1209+1)","v":""},{"$nulls":4},{"$f":"IF(A1209=\"\",\"\",IF(ISNUMBER(Y1209),2,IF(A1210=\"\",IF(OR(AK1209>0,VLOOKUP(O1209,EventConfig!A:C,3,FALSE)=4),3,\"\"),1)))","v":1},{"$f":"IF(AI1209=\"\",\"\",CHOOSE(AI1209,IF(AK1209=\"\",A1209+1,AK1209),CONCATENATE(IF(AK1209=\"\",A1209+1,AK1209),\";101\"),IF(AK1209=\"\",O1209+1,AK1209)))","v":913402},null,6400,9134]
[913402,6399,"完成和NPC的对话","",{"$nulls":5},142,{"$f":"IF(J1210=\"\",\"\",VLOOKUP(J1210,EventNPC!A:F,6,FALSE))","v":"林风"},6401,"（疲惫受伤）：血海宗不要欺人太甚，竟敢违背拍卖会铁律。不怕尧都城主追责吗？",null,9134,2,"",null,null,{"$f":"IF(R1210=\"\",\"\",\"-\"&VLOOKUP(R1210,EventConditionConfig!A:C,3,FALSE)&IF(S1210=\"\",\"\",CHAR(10)&\"-\"&VLOOKUP(S1210,EventConditionConfig!A:C,3,FALSE)))","v":""},"","","","",null,null,"",null,null,"",{"$nulls":4},{"$f":"IF(A1210=\"\",\"\",IF(ISNUMBER(Y1210),2,IF(A1211=\"\",IF(OR(AK1210>0,VLOOKUP(O1210,EventConfig!A:C,3,FALSE)=4),3,\"\"),1)))","v":1},913403,null,6401,9134]
[913403,6399,"完成和NPC的对话","",{"$nulls":5},135,{"$f":"IF(J1211=\"\",\"\",VLOOKUP(J1211,EventNPC!A:F,6,FALSE))","v":"血海宗弟子B"},6402,"尧都城主？在这山林之间把你灭了城主怎知？哈哈，这玄冥晶我就收下了，受死吧！",null,9134,3,"",null,null,{"$f":"IF(R1211=\"\",\"\",\"-\"&VLOOKUP(R1211,EventConditionConfig!A:C,3,FALSE)&IF(S1211=\"\",\"\",CHAR(10)&\"-\"&VLOOKUP(S1211,EventConditionConfig!A:C,3,FALSE)))","v":""},"","","","",null,null,"",null,null,"",{"$nulls":4},{"$f":"IF(A1211=\"\",\"\",IF(ISNUMBER(Y1211),2,IF(A1212=\"\",IF(OR(AK1211>0,VLOOKUP(O1211,EventConfig!A:C,3,FALSE)=4),3,\"\"),1)))","v":1},913404,null,6402,9134]
[913404,6399,"完成和NPC的对话","",{"$nulls":5},100,{"$f":"IF(J1212=\"\",\"\",VLOOKUP(J1212,EventNPC!A:F,6,FALSE))","v":"玩家"},6403,"（一丙飞剑打断了血海宗弟子对林风的致命攻击）我看你们血海宗以后还是改名叫强盗宗吧，到处抢人宝物。",null,9134,4,"",null,null,{"$f":"IF(R1212=\"\",\"\",\"-\"&VLOOKUP(R1212,EventConditionConfig!A:C,3,FALSE)&IF(S1212=\"\",\"\",CHAR(10)&\"-\"&VLOOKUP(S1212,EventConditionConfig!A:C,3,FALSE)))","v":""},"","","","",null,null,"",null,null,"",{"$nulls":4},{"$f":"IF(A1212=\"\",\"\",IF(ISNUMBER(Y1212),2,IF(A1213=\"\",IF(OR(AK1212>0,VLOOKUP(O1212,EventConfig!A:C,3,FALSE)=4),3,\"\"),1)))","v":1},913405,null,6403,9134]
[913405,6399,"完成和NPC的对话","",{"$nulls":5},135,{"$f":"IF(J1213=\"\",\"\",VLOOKUP(J1213,EventNPC!A:F,6,FALSE))","v":"血海宗弟子B"},6404,"什么人？竟敢阻挡血海宗办事。",null,9134,5,"",null,null,{"$f":"IF(R1213=\"\",\"\",\"-\"&VLOOKUP(R1213,EventConditionConfig!A:C,3,FALSE)&IF(S1213=\"\",\"\",CHAR(10)&\"-\"&VLOOKUP(S1213,EventConditionConfig!A:C,3,FALSE)))","v":""},"","","","",null,null,"",null,null,"",{"$nulls":4},{"$f":"IF(A1213=\"\",\"\",IF(ISNUMBER(Y1213),2,IF(A1214=\"\",IF(OR(AK1213>0,VLOOKUP(O1213,EventConfig!A:C,3,FALSE)=4),3,\"\"),1)))","v":1},913406,null,6404,9134]
[913406,6399,"完成和NPC的对话","",{"$nulls":5},100,{"$f":"IF(J1214=\"\",\"\",VLOOKUP(J1214,EventNPC!A:F,6,FALSE))","v":"玩家"},6405,"我就一名散修，看不惯你们血海宗的肮脏行为。",null,9134,6,"",null,null,{"$f":"IF(R1214=\"\",\"\",\"-\"&VLOOKUP(R1214,EventConditionConfig!A:C,3,FALSE)&IF(S1214=\"\",\"\",CHAR(10)&\"-\"&VLOOKUP(S1214,EventConditionConfig!A:C,3,FALSE)))","v":""},"","","","",null,null,"",null,null,"",{"$nulls":4},{"$f":"IF(A1214=\"\",\"\",IF(ISNUMBER(Y1214),2,IF(A1215=\"\",IF(OR(AK1214>0,VLOOKUP(O1214,EventConfig!A:C,3,FALSE)=4),3,\"\"),1)))","v":1},913407,null,6405,9134]
[913407,6399,"完成和NPC的对话","",{"$nulls":5},142,{"$f":"IF(J1215=\"\",\"\",VLOOKUP(J1215,EventNPC!A:F,6,FALSE))","v":"林风"},6406,"（疲惫受伤）：道友救命！在下林风，望道友相助！",null,9134,7,"",null,null,{"$f":"IF(R1215=\"\",\"\",\"-\"&VLOOKUP(R1215,EventConditionConfig!A:C,3,FALSE)&IF(S1215=\"\",\"\",CHAR(10)&\"-\"&VLOOKUP(S1215,EventConditionConfig!A:C,3,FALSE)))","v":""},"","","","",null,null,"",null,null,"",{"$nulls":4},{"$f":"IF(A1215=\"\",\"\",IF(ISNUMBER(Y1215),2,IF(A1216=\"\",IF(OR(AK1215>0,VLOOKUP(O1215,EventConfig!A:C,3,FALSE)=4),3,\"\"),1)))","v":1},913408,null,6406,9134]
[913408,6399,"完成和NPC的对话","",{"$nulls":5},100,{"$f":"IF(J1216=\"\",\"\",VLOOKUP(J1216,EventNPC!A:F,6,FALSE))","v":"玩家"},6407,"血海宗欺人太甚！林道友放心，我必护你周全",null,9134,8,"",null,null,{"$f":"IF(R1216=\"\",\"\",\"-\"&VLOOKUP(R1216,EventConditionConfig!A:C,3,FALSE)&IF(S1216=\"\",\"\",CHAR(10)&\"-\"&VLOOKUP(S1216,EventConditionConfig!A:C,3,FALSE)))","v":""},"","","","",null,null,"",null,null,"",{"$nulls":4},{"$f":"IF(A1216=\"\",\"\",IF(ISNUMBER(Y1216),2,IF(A1217=\"\",IF(OR(AK1216>0,VLOOKUP(O1216,EventConfig!A:C,3,FALSE)=4),3,\"\"),1)))","v":1},913409,null,6407,9134]
[913409,6399,"完成和NPC的对话","",{"$nulls":5},142,{"$f":"IF(J1217=\"\",\"\",VLOOKUP(J1217,EventNPC!A:F,6,FALSE))","v":"林风"},6408,"道友大恩，林某没齿难忘！只是血海宗狡诈，恐有埋伏，需小心行事！",null,9134,9,"",null,null,{"$f":"IF(R1217=\"\",\"\",\"-\"&VLOOKUP(R1217,EventConditionConfig!A:C,3,FALSE)&IF(S1217=\"\",\"\",CHAR(10)&\"-\"&VLOOKUP(S1217,EventConditionConfig!A:C,3,FALSE)))","v":""},"","","","",null,null,"",null,null,"",{"$nulls":4},{"$f":"IF(A1217=\"\",\"\",IF(ISNUMBER(Y1217),2,IF(A1218=\"\",IF(OR(AK1217>0,VLOOKUP(O1217,EventConfig!A:C,3,FALSE)=4),3,\"\"),1)))","v":1},913410,null,6408,9134]
[913410,6399,"完成和NPC的对话","",{"$nulls":5},135,{"$f":"IF(J1218=\"\",\"\",VLOOKUP(J1218,EventNPC!A:F,6,FALSE))","v":"血海宗弟子B"},6409,"真是找死！",null,9134,10,"",null,null,{"$f":"IF(R1218=\"\",\"\",\"-\"&VLOOKUP(R1218,EventConditionConfig!A:C,3,FALSE)&IF(S1218=\"\",\"\",CHAR(10)&\"-\"&VLOOKUP(S1218,EventConditionConfig!A:C,3,FALSE)))","v":""},2,4016,"","",4016,null,"",null,null,"",{"$nulls":4},{"$f":"IF(A1218=\"\",\"\",IF(ISNUMBER(Y1218),2,IF(A1219=\"\",IF(OR(AK1218>0,VLOOKUP(O1218,EventConfig!A:C,3,FALSE)=4),3,\"\"),1)))","v":2},"913411;101",null,6409,9134]
[913411,6399,"完成和NPC的对话","",{"$nulls":5},142,{"$f":"IF(J1219=\"\",\"\",VLOOKUP(J1219,EventNPC!A:F,6,FALSE))","v":"林风"},6410,"感谢道友出手相助，不知道友贵姓？",null,9134,11,"",null,null,{"$f":"IF(R1219=\"\",\"\",\"-\"&VLOOKUP(R1219,EventConditionConfig!A:C,3,FALSE)&IF(S1219=\"\",\"\",CHAR(10)&\"-\"&VLOOKUP(S1219,EventConditionConfig!A:C,3,FALSE)))","v":""},"","","","",null,null,"",null,null,"",{"$nulls":4},{"$f":"IF(A1219=\"\",\"\",IF(ISNUMBER(Y1219),2,IF(A1220=\"\",IF(OR(AK1219>0,VLOOKUP(O1219,EventConfig!A:C,3,FALSE)=4),3,\"\"),1)))","v":1},913412,null,6410,9134]
[913412,6399,"完成和NPC的对话","",{"$nulls":5},100,{"$f":"IF(J1220=\"\",\"\",VLOOKUP(J1220,EventNPC!A:F,6,FALSE))","v":"玩家"},6411,"在下{0}",null,9134,12,"",null,null,{"$f":"IF(R1220=\"\",\"\",\"-\"&VLOOKUP(R1220,EventConditionConfig!A:C,3,FALSE)&IF(S1220=\"\",\"\",CHAR(10)&\"-\"&VLOOKUP(S1220,EventConditionConfig!A:C,3,FALSE)))","v":""},"","","","",null,null,"",null,null,"",{"$nulls":4},{"$f":"IF(A1220=\"\",\"\",IF(ISNUMBER(Y1220),2,IF(A1221=\"\",IF(OR(AK1220>0,VLOOKUP(O1220,EventConfig!A:C,3,FALSE)=4),3,\"\"),1)))","v":1},913413,null,6411,9134]
[913413,6399,"完成和NPC的对话","",{"$nulls":5},142,{"$f":"IF(J1221=\"\",\"\",VLOOKUP(J1221,EventNPC!A:F,6,FALSE))","v":"林风"},6412,"{0}道友，在下身受重伤，血海宗的恶贼肯定还是派人来追杀夺走玄冥晶，若道友能护我到百里外的青云镇，我愿献上二阶灵丹，助你修行！",null,9134,13,"",null,null,{"$f":"IF(R1221=\"\",\"\",\"-\"&VLOOKUP(R1221,EventConditionConfig!A:C,3,FALSE)&IF(S1221=\"\",\"\",CHAR(10)&\"-\"&VLOOKUP(S1221,EventConditionConfig!A:C,3,FALSE)))","v":""},1,"913414;913415","6413;6414",6413,"血海宗欺人太甚！林道友，我必护你周全，前往青云镇！",{"$f":"A1222","v":913414},6414,"玄冥晶为何引来血海宗如此追杀？",{"$f":"A1223","v":913415},"",null,{"$f":"D1223","v":""},null,null,{"$f":"IF(A1221=\"\",\"\",IF(ISNUMBER(Y1221),2,IF(A1222=\"\",IF(OR(AK1221>0,VLOOKUP(O1221,EventConfig!A:C,3,FALSE)=4),3,\"\"),1)))","v":1},913414,null,6414,9134]
[913414,6399,"完成和NPC的对话","",{"$nulls":5},142,{"$f":"IF(J1222=\"\",\"\",VLOOKUP(J1222,EventNPC!A:F,6,FALSE))","v":"林风"},6415,"道友大恩，林某没齿难忘！只是血海宗狡诈，恐有埋伏，需小心行事！",null,9134,14,"",null,null,{"$f":"IF(R1222=\"\",\"\",\"-\"&VLOOKUP(R1222,EventConditionConfig!A:C,3,FALSE)&IF(S1222=\"\",\"\",CHAR(10)&\"-\"&VLOOKUP(S1222,EventConditionConfig!A:C,3,FALSE)))","v":""},"","","","",null,null,"",null,null,"",{"$nulls":4},{"$f":"IF(A1222=\"\",\"\",IF(ISNUMBER(Y1222),2,IF(A1223=\"\",IF(OR(AK1222>0,VLOOKUP(O1222,EventConfig!A:C,3,FALSE)=4),3,\"\"),1)))","v":1},913417,{"$f":"A1225","v":913417},6415,9134]
[913415,6399,"完成和NPC的对话","",{"$nulls":5},142,{"$f":"IF(J1223=\"\",\"\",VLOOKUP(J1223,EventNPC!A:F,6,FALSE))","v":"林风"},6416,"玄冥晶乃炼制上品法宝的至宝，血海宗欲用它炼制邪器，祸害苍生。",null,9134,15,"",null,null,{"$f":"IF(R1223=\"\",\"\",\"-\"&VLOOKUP(R1223,EventConditionConfig!A:C,3,FALSE)&IF(S1223=\"\",\"\",CHAR(10)&\"-\"&VLOOKUP(S1223,EventConditionConfig!A:C,3,FALSE)))","v":""},"","","","",null,null,"",null,null,"",{"$nulls":4},{"$f":"IF(A1223=\"\",\"\",IF(ISNUMBER(Y1223),2,IF(A1224=\"\",IF(OR(AK1223>0,VLOOKUP(O1223,EventConfig!A:C,3,FALSE)=4),3,\"\"),1)))","v":1},913416,null,6416,9134]
[913416,6399,"完成和NPC的对话","",{"$nulls":5},100,{"$f":"IF(J1224=\"\",\"\",VLOOKUP(J1224,EventNPC!A:F,6,FALSE))","v":"玩家"},6417,"这血海宗真是一大邪宗，林道友放心，我必护你周全，前往青云镇。",null,9134,16,"",null,null,{"$f":"IF(R1224=\"\",\"\",\"-\"&VLOOKUP(R1224,EventConditionConfig!A:C,3,FALSE)&IF(S1224=\"\",\"\",CHAR(10)&\"-\"&VLOOKUP(S1224,EventConditionConfig!A:C,3,FALSE)))","v":""},"","","","",null,null,"",null,null,"",{"$nulls":4},{"$f":"IF(A1224=\"\",\"\",IF(ISNUMBER(Y1224),2,IF(A1225=\"\",IF(OR(AK1224>0,VLOOKUP(O1224,EventConfig!A:C,3,FALSE)=4),3,\"\"),1)))","v":1},913417,{"$f":"A1225","v":913417},{"$f":"IF(A1224=\"\",\"\",MAX(B1224,D1224,L1224,X1224,AA1224,AL1223,AL1222,AD1224))","v":6417},{"$f":"O1224","v":9134}]
[913417,6399,"完成和NPC的对话","",{"$nulls":5},142,{"$f":"IF(J1225=\"\",\"\",VLOOKUP(J1225,EventNPC!A:F,6,FALSE))","v":"林风"},6418,"多谢{0}道友，这丹药你先拿着",null,9134,17,"",null,null,{"$f":"IF(R1225=\"\",\"\",\"-\"&VLOOKUP(R1225,EventConditionConfig!A:C,3,FALSE)&IF(S1225=\"\",\"\",CHAR(10)&\"-\"&VLOOKUP(S1225,EventConditionConfig!A:C,3,FALSE)))","v":""},"","","","",null,null,"",null,null,"",{"$nulls":4},{"$f":"IF(A1225=\"\",\"\",IF(ISNUMBER(Y1225),2,IF(A1226=\"\",IF(OR(AK1225>0,VLOOKUP(O1225,EventConfig!A:C,3,FALSE)=4),3,\"\"),1)))","v":""},"",null,6418,9134]
[{"$nulls":10},{"$f":"IF(J1226=\"\",\"\",VLOOKUP(J1226,EventNPC!A:F,6,FALSE))","v":""},{"$nulls":10},"","",{"$nulls":11},{"$f":"IF(A1226=\"\",\"\",IF(ISNUMBER(Y1226),2,IF(A1227=\"\",IF(OR(AK1226>0,VLOOKUP(O1226,EventConfig!A:C,3,FALSE)=4),3,\"\"),1)))","v":""},null,null,"",0]
[{"$f":"O1227*100+P1227","v":913501},{"$f":"IF(C1227=\"\",\"\",IF(C1227=C1226,B1226,MAX(AL1226,AL1225)+1))","v":6419},"完成和NPC的对话",{"$f":"IF(E1227=\"\",\"\",IF(E1227=E1226,D1226,MAX(AL1226,AL1225,B1227)+1))","v":""},{"$nulls":5},133,{"$f":"IF(J1227=\"\",\"\",VLOOKUP(J1227,EventNPC!A:F,6,FALSE))","v":"血海宗弟子A"},{"$f":"IF(M1227=\"\",\"\",MAX(AL1226,AL1225,B1227,D1227)+1)","v":6420},"交出玄冥晶，饶你不死！",null,9135,{"$f":"IF(O1227=\"\",\"\",IF(O1227=O1226,P1226+1,1))","v":1},{"$f":"_xlfn.TEXTJOIN(\";\",1,R1227:S1227)","v":""},null,null,{"$f":"IF(R1227=\"\",\"\",\"-\"&VLOOKUP(R1227,EventConditionConfig!A:C,3,FALSE)&IF(S1227=\"\",\"\",CHAR(10)&\"-\"&VLOOKUP(S1227,EventConditionConfig!A:C,3,FALSE)))","v":""},{"$f":"IF(Y1227=\"\",\"\",IF(ISTEXT(Y1227),1,2))","v":2},4017,"",{"$f":"IF(OR(ISNUMBER(Y1227),Y1227=\"\"),\"\",MAX(AL1226,AL1224,B1227,D1227,L1227)+1)","v":""},4017,null,{"$f":"IF(OR(ISNUMBER(AB1227),AB1227=\"\"),\"\",X1227+1)","v":""},null,null,{"$f":"IF(OR(ISNUMBER(AE1227),AE1227=\"\"),\"\",AA1227+1)","v":""},{"$nulls":4},{"$f":"IF(A1227=\"\",\"\",IF(ISNUMBER(Y1227),2,IF(A1228=\"\",IF(OR(AK1227>0,VLOOKUP(O1227,EventConfig!A:C,3,FALSE)=4),3,\"\"),1)))","v":2},{"$f":"IF(AI1227=\"\",\"\",CHOOSE(AI1227,IF(AK1227=\"\",A1227+1,AK1227),CONCATENATE(IF(AK1227=\"\",A1227+1,AK1227),\";101\"),IF(AK1227=\"\",O1227+1,AK1227)))","v":"913502;101"},null,6420,9135]
[{"$f":"O1228*100+P1228","v":913502},{"$f":"IF(C1228=\"\",\"\",IF(C1228=C1227,B1227,MAX(AL1227,AL1226)+1))","v":6419},"完成和NPC的对话",{"$f":"IF(E1228=\"\",\"\",IF(E1228=E1227,D1227,MAX(AL1227,AL1226,B1228)+1))","v":""},{"$nulls":5},135,{"$f":"IF(J1228=\"\",\"\",VLOOKUP(J1228,EventNPC!A:F,6,FALSE))","v":"血海宗弟子B"},{"$f":"IF(M1228=\"\",\"\",MAX(AL1227,AL1226,B1228,D1228)+1)","v":6421},"师兄你暂且休息，换我来会会他~",null,9135,{"$f":"IF(O1228=\"\",\"\",IF(O1228=O1227,P1227+1,1))","v":2},{"$f":"_xlfn.TEXTJOIN(\";\",1,R1228:S1228)","v":""},null,null,{"$f":"IF(R1228=\"\",\"\",\"-\"&VLOOKUP(R1228,EventConditionConfig!A:C,3,FALSE)&IF(S1228=\"\",\"\",CHAR(10)&\"-\"&VLOOKUP(S1228,EventConditionConfig!A:C,3,FALSE)))","v":""},{"$f":"IF(Y1228=\"\",\"\",IF(ISTEXT(Y1228),1,2))","v":2},4018,{"$f":"_xlfn.TEXTJOIN(\";\",1,X1228,AA1228,AD1228)","v":""},{"$f":"IF(OR(ISNUMBER(Y1228),Y1228=\"\"),\"\",MAX(AL1227,AL1225,B1228,D1228,L1228)+1)","v":""},4018,null,{"$f":"IF(OR(ISNUMBER(AB1228),AB1228=\"\"),\"\",X1228+1)","v":""},null,null,{"$f":"IF(OR(ISNUMBER(AE1228),AE1228=\"\"),\"\",AA1228+1)","v":""},{"$nulls":4},{"$f":"IF(A1228=\"\",\"\",IF(ISNUMBER(Y1228),2,IF(A1229=\"\",IF(OR(AK1228>0,VLOOKUP(O1228,EventConfig!A:C,3,FALSE)=4),3,\"\"),1)))","v":2},{"$f":"IF(AI1228=\"\",\"\",CHOOSE(AI1228,IF(AK1228=\"\",A1228+1,AK1228),CONCATENATE(IF(AK1228=\"\",A1228+1,AK1228),\";101\"),IF(AK1228=\"\",O1228+1,AK1228)))","v":"913503;101"},null,6421,9135]
[{"$f":"O1229*100+P1229","v":913503},{"$f":"IF(C1229=\"\",\"\",IF(C1229=C1228,B1228,MAX(AL1228,AL1227)+1))","v":6419},"完成和NPC的对话",{"$f":"IF(E1229=\"\",\"\",IF(E1229=E1228,D1228,MAX(AL1228,AL1227,B1229)+1))","v":""},{"$nulls":5},136,{"$f":"IF(J1229=\"\",\"\",VLOOKUP(J1229,EventNPC!A:F,6,FALSE))","v":"血海宗敌人"},{"$f":"IF(M1229=\"\",\"\",MAX(AL1228,AL1227,B1229,D1229)+1)","v":6422},"两个废物！一个散修都打不过！",null,9135,{"$f":"IF(O1229=\"\",\"\",IF(O1229=O1228,P1228+1,1))","v":3},{"$f":"_xlfn.TEXTJOIN(\";\",1,R1229:S1229)","v":""},null,null,{"$f":"IF(R1229=\"\",\"\",\"-\"&VLOOKUP(R1229,EventConditionConfig!A:C,3,FALSE)&IF(S1229=\"\",\"\",CHAR(10)&\"-\"&VLOOKUP(S1229,EventConditionConfig!A:C,3,FALSE)))","v":""},{"$f":"IF(Y1229=\"\",\"\",IF(ISTEXT(Y1229),1,2))","v":2},4019,"",{"$f":"IF(OR(ISNUMBER(Y1229),Y1229=\"\"),\"\",MAX(AL1228,AL1226,B1229,D1229,L1229)+1)","v":""},4019,null,{"$f":"IF(OR(ISNUMBER(AB1229),AB1229=\"\"),\"\",X1229+1)","v":""},null,null,{"$f":"IF(OR(ISNUMBER(AE1229),AE1229=\"\"),\"\",AA1229+1)","v":""},{"$nulls":4},{"$f":"IF(A1229=\"\",\"\",IF(ISNUMBER(Y1229),2,IF(A1230=\"\",IF(OR(AK1229>0,VLOOKUP(O1229,EventConfig!A:C,3,FALSE)=4),3,\"\"),1)))","v":2},{"$f":"IF(AI1229=\"\",\"\",CHOOSE(AI1229,IF(AK1229=\"\",A1229+1,AK1229),CONCATENATE(IF(AK1229=\"\",A1229+1,AK1229),\";101\"),IF(AK1229=\"\",O1229+1,AK1229)))","v":"913504;101"},null,6422,9135]
[{"$f":"O1230*100+P1230","v":913504},{"$f":"IF(C1230=\"\",\"\",IF(C1230=C1229,B1229,MAX(AL1229,AL1228)+1))","v":6419},"完成和NPC的对话",{"$f":"IF(E1230=\"\",\"\",IF(E1230=E1229,D1229,MAX(AL1229,AL1228,B1230)+1))","v":""},{"$nulls":5},142,{"$f":"IF(J1230=\"\",\"\",VLOOKUP(J1230,EventNPC!A:F,6,FALSE))","v":"林风"},{"$f":"IF(M1230=\"\",\"\",MAX(AL1229,AL1228,B1230,D1230)+1)","v":6423},"终于摆脱了追敌，前方不远处就是青云镇。",null,9135,{"$f":"IF(O1230=\"\",\"\",IF(O1230=O1229,P1229+1,1))","v":4},{"$f":"_xlfn.TEXTJOIN(\";\",1,R1230:S1230)","v":""},null,null,{"$f":"IF(R1230=\"\",\"\",\"-\"&VLOOKUP(R1230,EventConditionConfig!A:C,3,FALSE)&IF(S1230=\"\",\"\",CHAR(10)&\"-\"&VLOOKUP(S1230,EventConditionConfig!A:C,3,FALSE)))","v":""},{"$f":"IF(Y1230=\"\",\"\",IF(ISTEXT(Y1230),1,2))","v":""},{"$f":"IF(U1230=1,_xlfn.TEXTJOIN(\";\",1,IF(Z1230=\"\",A1230+1,Z1230),IF(AND(AA1230<>\"\",AC1230=\"\"),A1230+1,AC1230),IF(AND(AD1230<>\"\",AF1230=\"\"),A1230+1,AF1230)),IF(U1230=2,Y1230,\"\"))","v":""},"",{"$f":"IF(OR(ISNUMBER(Y1230),Y1230=\"\"),\"\",MAX(AL1229,AL1227,B1230,D1230,L1230)+1)","v":""},null,null,{"$f":"IF(OR(ISNUMBER(AB1230),AB1230=\"\"),\"\",X1230+1)","v":""},null,null,{"$f":"IF(OR(ISNUMBER(AE1230),AE1230=\"\"),\"\",AA1230+1)","v":""},{"$nulls":4},{"$f":"IF(A1230=\"\",\"\",IF(ISNUMBER(Y1230),2,IF(A1231=\"\",IF(OR(AK1230>0,VLOOKUP(O1230,EventConfig!A:C,3,FALSE)=4),3,\"\"),1)))","v":""},{"$f":"IF(AI1230=\"\",\"\",CHOOSE(AI1230,IF(AK1230=\"\",A1230+1,AK1230),CONCATENATE(IF(AK1230=\"\",A1230+1,AK1230),\";101\"),IF(AK1230=\"\",O1230+1,AK1230)))","v":""},null,6423,9135]
[{"$nulls":10},{"$f":"IF(J1231=\"\",\"\",VLOOKUP(J1231,EventNPC!A:F,6,FALSE))","v":""},{"$nulls":10},"","",{"$nulls":11},{"$f":"IF(A1231=\"\",\"\",IF(ISNUMBER(Y1231),2,IF(A1232=\"\",IF(OR(AK1231>0,VLOOKUP(O1231,EventConfig!A:C,3,FALSE)=4),3,\"\"),1)))","v":""},null,null,"",0]
[{"$f":"O1232*100+P1232","v":913601},{"$f":"IF(C1232=\"\",\"\",IF(C1232=C1231,B1231,MAX(AL1231,AL1230)+1))","v":6424},"完成和NPC的对话",{"$f":"IF(E1232=\"\",\"\",IF(E1232=E1231,D1231,MAX(AL1231,AL1230,B1232)+1))","v":""},{"$nulls":5},143,{"$f":"IF(J1232=\"\",\"\",VLOOKUP(J1232,EventNPC!A:F,6,FALSE))","v":"柳清清"},{"$f":"IF(M1232=\"\",\"\",MAX(AL1231,AL1230,B1232,D1232)+1)","v":6425},"师兄这是怎么了？",null,9136,{"$f":"IF(O1232=\"\",\"\",IF(O1232=O1231,P1231+1,1))","v":1},{"$f":"_xlfn.TEXTJOIN(\";\",1,R1232:S1232)","v":""},null,null,{"$f":"IF(R1232=\"\",\"\",\"-\"&VLOOKUP(R1232,EventConditionConfig!A:C,3,FALSE)&IF(S1232=\"\",\"\",CHAR(10)&\"-\"&VLOOKUP(S1232,EventConditionConfig!A:C,3,FALSE)))","v":""},{"$f":"IF(Y1232=\"\",\"\",IF(ISTEXT(Y1232),1,2))","v":""},"","",{"$f":"IF(OR(ISNUMBER(Y1232),Y1232=\"\"),\"\",MAX(AL1231,AL1229,B1232,D1232,L1232)+1)","v":""},null,null,{"$f":"IF(OR(ISNUMBER(AB1232),AB1232=\"\"),\"\",X1232+1)","v":""},null,null,{"$f":"IF(OR(ISNUMBER(AE1232),AE1232=\"\"),\"\",AA1232+1)","v":""},{"$nulls":4},{"$f":"IF(A1232=\"\",\"\",IF(ISNUMBER(Y1232),2,IF(A1233=\"\",IF(OR(AK1232>0,VLOOKUP(O1232,EventConfig!A:C,3,FALSE)=4),3,\"\"),1)))","v":1},{"$f":"IF(AI1232=\"\",\"\",CHOOSE(AI1232,IF(AK1232=\"\",A1232+1,AK1232),CONCATENATE(IF(AK1232=\"\",A1232+1,AK1232),\";101\"),IF(AK1232=\"\",O1232+1,AK1232)))","v":913602},null,6425,9136]
[{"$f":"O1233*100+P1233","v":913602},{"$f":"IF(C1233=\"\",\"\",IF(C1233=C1232,B1232,MAX(AL1232,AL1231)+1))","v":6424},"完成和NPC的对话",{"$f":"IF(E1233=\"\",\"\",IF(E1233=E1232,D1232,MAX(AL1232,AL1231,B1233)+1))","v":""},{"$nulls":5},142,{"$f":"IF(J1233=\"\",\"\",VLOOKUP(J1233,EventNPC!A:F,6,FALSE))","v":"林风"},{"$f":"IF(M1233=\"\",\"\",MAX(AL1232,AL1231,B1233,D1233)+1)","v":6426},"（带伤）：拍卖会回来的路上被血海宗的人暗算，幸亏有这位道兄相助才逃过此劫。",null,9136,{"$f":"IF(O1233=\"\",\"\",IF(O1233=O1232,P1232+1,1))","v":2},{"$f":"_xlfn.TEXTJOIN(\";\",1,R1233:S1233)","v":""},null,null,{"$f":"IF(R1233=\"\",\"\",\"-\"&VLOOKUP(R1233,EventConditionConfig!A:C,3,FALSE)&IF(S1233=\"\",\"\",CHAR(10)&\"-\"&VLOOKUP(S1233,EventConditionConfig!A:C,3,FALSE)))","v":""},{"$f":"IF(Y1233=\"\",\"\",IF(ISTEXT(Y1233),1,2))","v":""},"","",{"$f":"IF(OR(ISNUMBER(Y1233),Y1233=\"\"),\"\",MAX(AL1232,AL1230,B1233,D1233,L1233)+1)","v":""},null,null,{"$f":"IF(OR(ISNUMBER(AB1233),AB1233=\"\"),\"\",X1233+1)","v":""},null,null,{"$f":"IF(OR(ISNUMBER(AE1233),AE1233=\"\"),\"\",AA1233+1)","v":""},{"$nulls":4},{"$f":"IF(A1233=\"\",\"\",IF(ISNUMBER(Y1233),2,IF(A1234=\"\",IF(OR(AK1233>0,VLOOKUP(O1233,EventConfig!A:C,3,FALSE)=4),3,\"\"),1)))","v":1},{"$f":"IF(AI1233=\"\",\"\",CHOOSE(AI1233,IF(AK1233=\"\",A1233+1,AK1233),CONCATENATE(IF(AK1233=\"\",A1233+1,AK1233),\";101\"),IF(AK1233=\"\",O1233+1,AK1233)))","v":913603},null,6426,9136]
[{"$f":"O1234*100+P1234","v":913603},{"$f":"IF(C1234=\"\",\"\",IF(C1234=C1233,B1233,MAX(AL1233,AL1232)+1))","v":6424},"完成和NPC的对话",{"$f":"IF(E1234=\"\",\"\",IF(E1234=E1233,D1233,MAX(AL1233,AL1232,B1234)+1))","v":""},{"$nulls":5},143,{"$f":"IF(J1234=\"\",\"\",VLOOKUP(J1234,EventNPC!A:F,6,FALSE))","v":"柳清清"},{"$f":"IF(M1234=\"\",\"\",MAX(AL1233,AL1232,B1234,D1234)+1)","v":6427},"道兄救命之恩小女子无以回报，在下柳清清这是一点心意还请不要推辞。",null,9136,{"$f":"IF(O1234=\"\",\"\",IF(O1234=O1233,P1233+1,1))","v":3},{"$f":"_xlfn.TEXTJOIN(\";\",1,R1234:S1234)","v":""},null,null,{"$f":"IF(R1234=\"\",\"\",\"-\"&VLOOKUP(R1234,EventConditionConfig!A:C,3,FALSE)&IF(S1234=\"\",\"\",CHAR(10)&\"-\"&VLOOKUP(S1234,EventConditionConfig!A:C,3,FALSE)))","v":""},{"$f":"IF(Y1234=\"\",\"\",IF(ISTEXT(Y1234),1,2))","v":""},"","",{"$f":"IF(OR(ISNUMBER(Y1234),Y1234=\"\"),\"\",MAX(AL1233,AL1231,B1234,D1234,L1234)+1)","v":""},null,null,{"$f":"IF(OR(ISNUMBER(AB1234),AB1234=\"\"),\"\",X1234+1)","v":""},null,null,{"$f":"IF(OR(ISNUMBER(AE1234),AE1234=\"\"),\"\",AA1234+1)","v":""},{"$nulls":4},{"$f":"IF(A1234=\"\",\"\",IF(ISNUMBER(Y1234),2,IF(A1235=\"\",IF(OR(AK1234>0,VLOOKUP(O1234,EventConfig!A:C,3,FALSE)=4),3,\"\"),1)))","v":1},{"$f":"IF(AI1234=\"\",\"\",CHOOSE(AI1234,IF(AK1234=\"\",A1234+1,AK1234),CONCATENATE(IF(AK1234=\"\",A1234+1,AK1234),\";101\"),IF(AK1234=\"\",O1234+1,AK1234)))","v":913604},null,6427,9136]
[{"$f":"O1235*100+P1235","v":913604},{"$f":"IF(C1235=\"\",\"\",IF(C1235=C1234,B1234,MAX(AL1234,AL1233)+1))","v":6424},"完成和NPC的对话",{"$f":"IF(E1235=\"\",\"\",IF(E1235=E1234,D1234,MAX(AL1234,AL1233,B1235)+1))","v":""},{"$nulls":5},100,{"$f":"IF(J1235=\"\",\"\",VLOOKUP(J1235,EventNPC!A:F,6,FALSE))","v":"玩家"},{"$f":"IF(M1235=\"\",\"\",MAX(AL1234,AL1233,B1235,D1235)+1)","v":6428},"举手之劳，林兄已安全到达此地。那我们就在此别过。",null,9136,{"$f":"IF(O1235=\"\",\"\",IF(O1235=O1234,P1234+1,1))","v":4},{"$f":"_xlfn.TEXTJOIN(\";\",1,R1235:S1235)","v":""},null,null,{"$f":"IF(R1235=\"\",\"\",\"-\"&VLOOKUP(R1235,EventConditionConfig!A:C,3,FALSE)&IF(S1235=\"\",\"\",CHAR(10)&\"-\"&VLOOKUP(S1235,EventConditionConfig!A:C,3,FALSE)))","v":""},{"$f":"IF(Y1235=\"\",\"\",IF(ISTEXT(Y1235),1,2))","v":""},"","",{"$f":"IF(OR(ISNUMBER(Y1235),Y1235=\"\"),\"\",MAX(AL1234,AL1232,B1235,D1235,L1235)+1)","v":""},null,null,{"$f":"IF(OR(ISNUMBER(AB1235),AB1235=\"\"),\"\",X1235+1)","v":""},null,null,{"$f":"IF(OR(ISNUMBER(AE1235),AE1235=\"\"),\"\",AA1235+1)","v":""},{"$nulls":4},{"$f":"IF(A1235=\"\",\"\",IF(ISNUMBER(Y1235),2,IF(A1236=\"\",IF(OR(AK1235>0,VLOOKUP(O1235,EventConfig!A:C,3,FALSE)=4),3,\"\"),1)))","v":1},{"$f":"IF(AI1235=\"\",\"\",CHOOSE(AI1235,IF(AK1235=\"\",A1235+1,AK1235),CONCATENATE(IF(AK1235=\"\",A1235+1,AK1235),\";101\"),IF(AK1235=\"\",O1235+1,AK1235)))","v":913605},null,6428,9136]
[{"$f":"O1236*100+P1236","v":913605},{"$f":"IF(C1236=\"\",\"\",IF(C1236=C1235,B1235,MAX(AL1235,AL1234)+1))","v":6424},"完成和NPC的对话",{"$f":"IF(E1236=\"\",\"\",IF(E1236=E1235,D1235,MAX(AL1235,AL1234,B1236)+1))","v":""},{"$nulls":5},142,{"$f":"IF(J1236=\"\",\"\",VLOOKUP(J1236,EventNPC!A:F,6,FALSE))","v":"林风"},{"$f":"IF(M1236=\"\",\"\",MAX(AL1235,AL1234,B1236,D1236)+1)","v":6429},"（跟柳清清一起）道友保重！",null,9136,{"$f":"IF(O1236=\"\",\"\",IF(O1236=O1235,P1235+1,1))","v":5},{"$f":"_xlfn.TEXTJOIN(\";\",1,R1236:S1236)","v":""},null,null,{"$f":"IF(R1236=\"\",\"\",\"-\"&VLOOKUP(R1236,EventConditionConfig!A:C,3,FALSE)&IF(S1236=\"\",\"\",CHAR(10)&\"-\"&VLOOKUP(S1236,EventConditionConfig!A:C,3,FALSE)))","v":""},{"$f":"IF(Y1236=\"\",\"\",IF(ISTEXT(Y1236),1,2))","v":""},"","",{"$f":"IF(OR(ISNUMBER(Y1236),Y1236=\"\"),\"\",MAX(AL1235,AL1233,B1236,D1236,L1236)+1)","v":""},null,null,{"$f":"IF(OR(ISNUMBER(AB1236),AB1236=\"\"),\"\",X1236+1)","v":""},null,null,{"$f":"IF(OR(ISNUMBER(AE1236),AE1236=\"\"),\"\",AA1236+1)","v":""},{"$nulls":4},{"$f":"IF(A1236=\"\",\"\",IF(ISNUMBER(Y1236),2,IF(A1237=\"\",IF(OR(AK1236>0,VLOOKUP(O1236,EventConfig!A:C,3,FALSE)=4),3,\"\"),1)))","v":""},{"$f":"IF(AI1236=\"\",\"\",CHOOSE(AI1236,IF(AK1236=\"\",A1236+1,AK1236),CONCATENATE(IF(AK1236=\"\",A1236+1,AK1236),\";101\"),IF(AK1236=\"\",O1236+1,AK1236)))","v":""},null,6429,9136]
[{"$nulls":10},{"$f":"IF(J1237=\"\",\"\",VLOOKUP(J1237,EventNPC!A:F,6,FALSE))","v":""},{"$nulls":10},"","",{"$nulls":11},{"$f":"IF(A1237=\"\",\"\",IF(ISNUMBER(Y1237),2,IF(A1238=\"\",IF(OR(AK1237>0,VLOOKUP(O1237,EventConfig!A:C,3,FALSE)=4),3,\"\"),1)))","v":""},null,null,"",0]
[{"$f":"O1238*100+P1238","v":913701},{"$f":"IF(C1238=\"\",\"\",IF(C1238=C1237,B1237,MAX(AL1237,AL1236)+1))","v":6430},"完成和NPC的对话",{"$f":"IF(E1238=\"\",\"\",IF(E1238=E1237,D1237,MAX(AL1237,AL1236,B1238)+1))","v":""},{"$nulls":5},142,{"$f":"IF(J1238=\"\",\"\",VLOOKUP(J1238,EventNPC!A:F,6,FALSE))","v":"林风"},{"$f":"IF(M1238=\"\",\"\",MAX(AL1237,AL1236,B1238,D1238)+1)","v":6431},"道友，又遇见你了。",null,9137,{"$f":"IF(O1238=\"\",\"\",IF(O1238=O1237,P1237+1,1))","v":1},{"$f":"_xlfn.TEXTJOIN(\";\",1,R1238:S1238)","v":""},null,null,{"$f":"IF(R1238=\"\",\"\",\"-\"&VLOOKUP(R1238,EventConditionConfig!A:C,3,FALSE)&IF(S1238=\"\",\"\",CHAR(10)&\"-\"&VLOOKUP(S1238,EventConditionConfig!A:C,3,FALSE)))","v":""},{"$f":"IF(Y1238=\"\",\"\",IF(ISTEXT(Y1238),1,2))","v":""},"","",{"$f":"IF(OR(ISNUMBER(Y1238),Y1238=\"\"),\"\",MAX(AL1237,AL1235,B1238,D1238,L1238)+1)","v":""},null,null,{"$f":"IF(OR(ISNUMBER(AB1238),AB1238=\"\"),\"\",X1238+1)","v":""},null,null,{"$f":"IF(OR(ISNUMBER(AE1238),AE1238=\"\"),\"\",AA1238+1)","v":""},{"$nulls":4},{"$f":"IF(A1238=\"\",\"\",IF(ISNUMBER(Y1238),2,IF(A1239=\"\",IF(OR(AK1238>0,VLOOKUP(O1238,EventConfig!A:C,3,FALSE)=4),3,\"\"),1)))","v":1},{"$f":"IF(AI1238=\"\",\"\",CHOOSE(AI1238,IF(AK1238=\"\",A1238+1,AK1238),CONCATENATE(IF(AK1238=\"\",A1238+1,AK1238),\";101\"),IF(AK1238=\"\",O1238+1,AK1238)))","v":913702},null,6431,9137]
[913702,6430,"完成和NPC的对话","",{"$nulls":5},100,{"$f":"IF(J1239=\"\",\"\",VLOOKUP(J1239,EventNPC!A:F,6,FALSE))","v":"玩家"},6432,"林兄这伤势还没痊愈怎么又出来了。",null,9137,2,"",null,null,{"$f":"IF(R1239=\"\",\"\",\"-\"&VLOOKUP(R1239,EventConditionConfig!A:C,3,FALSE)&IF(S1239=\"\",\"\",CHAR(10)&\"-\"&VLOOKUP(S1239,EventConditionConfig!A:C,3,FALSE)))","v":""},"","","","",null,null,"",null,null,"",{"$nulls":4},{"$f":"IF(A1239=\"\",\"\",IF(ISNUMBER(Y1239),2,IF(A1240=\"\",IF(OR(AK1239>0,VLOOKUP(O1239,EventConfig!A:C,3,FALSE)=4),3,\"\"),1)))","v":1},913703,null,6432,9137]
[913703,6430,"完成和NPC的对话","",{"$nulls":5},142,{"$f":"IF(J1240=\"\",\"\",VLOOKUP(J1240,EventNPC!A:F,6,FALSE))","v":"林风"},6433,"我太大意了！昨夜一蒙面修士偷袭，玄冥晶被夺，我师妹也被重伤，幸得镇上修士相救才保住性命。那贼人留下血海宗印记，定是带晶石去了郊外。道兄可否再替我前去夺回这晶石?",null,9137,3,"",null,null,{"$f":"IF(R1240=\"\",\"\",\"-\"&VLOOKUP(R1240,EventConditionConfig!A:C,3,FALSE)&IF(S1240=\"\",\"\",CHAR(10)&\"-\"&VLOOKUP(S1240,EventConditionConfig!A:C,3,FALSE)))","v":""},"","","","",null,null,"",null,null,"",{"$nulls":4},{"$f":"IF(A1240=\"\",\"\",IF(ISNUMBER(Y1240),2,IF(A1241=\"\",IF(OR(AK1240>0,VLOOKUP(O1240,EventConfig!A:C,3,FALSE)=4),3,\"\"),1)))","v":1},913704,null,6433,9137]
[913704,6430,"完成和NPC的对话","",{"$nulls":5},100,{"$f":"IF(J1241=\"\",\"\",VLOOKUP(J1241,EventNPC!A:F,6,FALSE))","v":"玩家"},6434,"林兄放心，我这就前往。",null,9137,4,"",null,null,{"$f":"IF(R1241=\"\",\"\",\"-\"&VLOOKUP(R1241,EventConditionConfig!A:C,3,FALSE)&IF(S1241=\"\",\"\",CHAR(10)&\"-\"&VLOOKUP(S1241,EventConditionConfig!A:C,3,FALSE)))","v":""},"","","","",null,null,"",null,null,"",{"$nulls":4},{"$f":"IF(A1241=\"\",\"\",IF(ISNUMBER(Y1241),2,IF(A1242=\"\",IF(OR(AK1241>0,VLOOKUP(O1241,EventConfig!A:C,3,FALSE)=4),3,\"\"),1)))","v":1},913705,null,6434,9137]
[913705,6430,"完成和NPC的对话","",{"$nulls":5},142,{"$f":"IF(J1242=\"\",\"\",VLOOKUP(J1242,EventNPC!A:F,6,FALSE))","v":"林风"},6435,"多谢道友。",null,9137,5,"",null,null,{"$f":"IF(R1242=\"\",\"\",\"-\"&VLOOKUP(R1242,EventConditionConfig!A:C,3,FALSE)&IF(S1242=\"\",\"\",CHAR(10)&\"-\"&VLOOKUP(S1242,EventConditionConfig!A:C,3,FALSE)))","v":""},"","","","",null,null,"",null,null,"",{"$nulls":4},{"$f":"IF(A1242=\"\",\"\",IF(ISNUMBER(Y1242),2,IF(A1243=\"\",IF(OR(AK1242>0,VLOOKUP(O1242,EventConfig!A:C,3,FALSE)=4),3,\"\"),1)))","v":1},913706,null,6435,9137]
[913706,6430,"完成和NPC的对话","",{"$nulls":5},142,{"$f":"IF(J1243=\"\",\"\",VLOOKUP(J1243,EventNPC!A:F,6,FALSE))","v":"林风"},6436,"这是一点我和师妹以前炼制的法宝，看能否帮助到道友。",null,9137,6,"",null,null,{"$f":"IF(R1243=\"\",\"\",\"-\"&VLOOKUP(R1243,EventConditionConfig!A:C,3,FALSE)&IF(S1243=\"\",\"\",CHAR(10)&\"-\"&VLOOKUP(S1243,EventConditionConfig!A:C,3,FALSE)))","v":""},"","","","",null,null,"",null,null,"",{"$nulls":4},{"$f":"IF(A1243=\"\",\"\",IF(ISNUMBER(Y1243),2,IF(A1244=\"\",IF(OR(AK1243>0,VLOOKUP(O1243,EventConfig!A:C,3,FALSE)=4),3,\"\"),1)))","v":1},913707,null,6436,9137]
[913707,6430,"完成和NPC的对话","",{"$nulls":5},100,{"$f":"IF(J1244=\"\",\"\",VLOOKUP(J1244,EventNPC!A:F,6,FALSE))","v":"玩家"},6437,"好的，交给我，你先回去安静疗伤。",null,9137,7,"",null,null,{"$f":"IF(R1244=\"\",\"\",\"-\"&VLOOKUP(R1244,EventConditionConfig!A:C,3,FALSE)&IF(S1244=\"\",\"\",CHAR(10)&\"-\"&VLOOKUP(S1244,EventConditionConfig!A:C,3,FALSE)))","v":""},"","","","",null,null,"",null,null,"",{"$nulls":4},{"$f":"IF(A1244=\"\",\"\",IF(ISNUMBER(Y1244),2,IF(A1245=\"\",IF(OR(AK1244>0,VLOOKUP(O1244,EventConfig!A:C,3,FALSE)=4),3,\"\"),1)))","v":""},"",null,6437,9137]
[{"$nulls":10},{"$f":"IF(J1245=\"\",\"\",VLOOKUP(J1245,EventNPC!A:F,6,FALSE))","v":""},{"$nulls":10},"","",{"$nulls":11},{"$f":"IF(A1245=\"\",\"\",IF(ISNUMBER(Y1245),2,IF(A1246=\"\",IF(OR(AK1245>0,VLOOKUP(O1245,EventConfig!A:C,3,FALSE)=4),3,\"\"),1)))","v":""},null,null,"",0]
[{"$f":"O1246*100+P1246","v":913801},{"$f":"IF(C1246=\"\",\"\",IF(C1246=C1245,B1245,MAX(AL1245,AL1244)+1))","v":6438},"完成和NPC的对话",{"$f":"IF(E1246=\"\",\"\",IF(E1246=E1245,D1245,MAX(AL1245,AL1244,B1246)+1))","v":""},{"$nulls":5},142,{"$f":"IF(J1246=\"\",\"\",VLOOKUP(J1246,EventNPC!A:F,6,FALSE))","v":"林风"},{"$f":"IF(M1246=\"\",\"\",MAX(AL1245,AL1244,B1246,D1246)+1)","v":6439},"道兄可是带回了玄冥晶？",null,9138,{"$f":"IF(O1246=\"\",\"\",IF(O1246=O1245,P1245+1,1))","v":1},{"$f":"_xlfn.TEXTJOIN(\";\",1,R1246:S1246)","v":""},null,null,{"$f":"IF(R1246=\"\",\"\",\"-\"&VLOOKUP(R1246,EventConditionConfig!A:C,3,FALSE)&IF(S1246=\"\",\"\",CHAR(10)&\"-\"&VLOOKUP(S1246,EventConditionConfig!A:C,3,FALSE)))","v":""},{"$f":"IF(Y1246=\"\",\"\",IF(ISTEXT(Y1246),1,2))","v":""},"","",{"$f":"IF(OR(ISNUMBER(Y1246),Y1246=\"\"),\"\",MAX(AL1245,AL1243,B1246,D1246,L1246)+1)","v":""},null,null,{"$f":"IF(OR(ISNUMBER(AB1246),AB1246=\"\"),\"\",X1246+1)","v":""},null,null,{"$f":"IF(OR(ISNUMBER(AE1246),AE1246=\"\"),\"\",AA1246+1)","v":""},{"$nulls":4},{"$f":"IF(A1246=\"\",\"\",IF(ISNUMBER(Y1246),2,IF(A1247=\"\",IF(OR(AK1246>0,VLOOKUP(O1246,EventConfig!A:C,3,FALSE)=4),3,\"\"),1)))","v":1},{"$f":"IF(AI1246=\"\",\"\",CHOOSE(AI1246,IF(AK1246=\"\",A1246+1,AK1246),CONCATENATE(IF(AK1246=\"\",A1246+1,AK1246),\";101\"),IF(AK1246=\"\",O1246+1,AK1246)))","v":913802},null,6439,9138]
[913802,6438,"完成和NPC的对话","",{"$nulls":5},100,{"$f":"IF(J1247=\"\",\"\",VLOOKUP(J1247,EventNPC!A:F,6,FALSE))","v":"玩家"},6440,"是的，你看有没有少。",null,9138,2,"",null,null,{"$f":"IF(R1247=\"\",\"\",\"-\"&VLOOKUP(R1247,EventConditionConfig!A:C,3,FALSE)&IF(S1247=\"\",\"\",CHAR(10)&\"-\"&VLOOKUP(S1247,EventConditionConfig!A:C,3,FALSE)))","v":""},"","","","",null,null,"",null,null,"",{"$nulls":4},{"$f":"IF(A1247=\"\",\"\",IF(ISNUMBER(Y1247),2,IF(A1248=\"\",IF(OR(AK1247>0,VLOOKUP(O1247,EventConfig!A:C,3,FALSE)=4),3,\"\"),1)))","v":1},913803,null,6440,9138]
[913803,6438,"完成和NPC的对话","",{"$nulls":5},142,{"$f":"IF(J1248=\"\",\"\",VLOOKUP(J1248,EventNPC!A:F,6,FALSE))","v":"林风"},6441,"少了一点，不过没关系，有这些也足够了。",null,9138,3,"",null,null,{"$f":"IF(R1248=\"\",\"\",\"-\"&VLOOKUP(R1248,EventConditionConfig!A:C,3,FALSE)&IF(S1248=\"\",\"\",CHAR(10)&\"-\"&VLOOKUP(S1248,EventConditionConfig!A:C,3,FALSE)))","v":""},"","","","",null,null,"",null,null,"",{"$nulls":4},{"$f":"IF(A1248=\"\",\"\",IF(ISNUMBER(Y1248),2,IF(A1249=\"\",IF(OR(AK1248>0,VLOOKUP(O1248,EventConfig!A:C,3,FALSE)=4),3,\"\"),1)))","v":1},913804,null,6441,9138]
[913804,6438,"完成和NPC的对话","",{"$nulls":5},100,{"$f":"IF(J1249=\"\",\"\",VLOOKUP(J1249,EventNPC!A:F,6,FALSE))","v":"玩家"},6442,"我看血海宗对这个玄冥晶很重视，玄冥晶除了炼制法宝还有什么用？",null,9138,4,"",null,null,{"$f":"IF(R1249=\"\",\"\",\"-\"&VLOOKUP(R1249,EventConditionConfig!A:C,3,FALSE)&IF(S1249=\"\",\"\",CHAR(10)&\"-\"&VLOOKUP(S1249,EventConditionConfig!A:C,3,FALSE)))","v":""},"","","","",null,null,"",null,null,"",{"$nulls":4},{"$f":"IF(A1249=\"\",\"\",IF(ISNUMBER(Y1249),2,IF(A1250=\"\",IF(OR(AK1249>0,VLOOKUP(O1249,EventConfig!A:C,3,FALSE)=4),3,\"\"),1)))","v":1},913805,null,6442,9138]
[913805,6438,"完成和NPC的对话","",{"$nulls":5},142,{"$f":"IF(J1250=\"\",\"\",VLOOKUP(J1250,EventNPC!A:F,6,FALSE))","v":"林风"},6443,"这我也不太清楚，我只知道这个可以炼制法宝。血海宗为什么这么重视，可能只有血海宗的人清楚。",null,9138,5,"",null,null,{"$f":"IF(R1250=\"\",\"\",\"-\"&VLOOKUP(R1250,EventConditionConfig!A:C,3,FALSE)&IF(S1250=\"\",\"\",CHAR(10)&\"-\"&VLOOKUP(S1250,EventConditionConfig!A:C,3,FALSE)))","v":""},"","","","",null,null,"",null,null,"",{"$nulls":4},{"$f":"IF(A1250=\"\",\"\",IF(ISNUMBER(Y1250),2,IF(A1251=\"\",IF(OR(AK1250>0,VLOOKUP(O1250,EventConfig!A:C,3,FALSE)=4),3,\"\"),1)))","v":1},913806,null,6443,9138]
[913806,6438,"完成和NPC的对话","",{"$nulls":5},100,{"$f":"IF(J1251=\"\",\"\",VLOOKUP(J1251,EventNPC!A:F,6,FALSE))","v":"玩家"},6444,"也是，有时间我去血海宗打听打听。",null,9138,6,"",null,null,{"$f":"IF(R1251=\"\",\"\",\"-\"&VLOOKUP(R1251,EventConditionConfig!A:C,3,FALSE)&IF(S1251=\"\",\"\",CHAR(10)&\"-\"&VLOOKUP(S1251,EventConditionConfig!A:C,3,FALSE)))","v":""},"","","","",null,null,"",null,null,"",{"$nulls":4},{"$f":"IF(A1251=\"\",\"\",IF(ISNUMBER(Y1251),2,IF(A1252=\"\",IF(OR(AK1251>0,VLOOKUP(O1251,EventConfig!A:C,3,FALSE)=4),3,\"\"),1)))","v":1},913807,null,6444,9138]
[913807,6438,"完成和NPC的对话","",{"$nulls":5},142,{"$f":"IF(J1252=\"\",\"\",VLOOKUP(J1252,EventNPC!A:F,6,FALSE))","v":"林风"},6445,"道兄这是一点心意还请收下。",null,9138,7,"",null,null,{"$f":"IF(R1252=\"\",\"\",\"-\"&VLOOKUP(R1252,EventConditionConfig!A:C,3,FALSE)&IF(S1252=\"\",\"\",CHAR(10)&\"-\"&VLOOKUP(S1252,EventConditionConfig!A:C,3,FALSE)))","v":""},"","","","",null,null,"",null,null,"",{"$nulls":4},{"$f":"IF(A1252=\"\",\"\",IF(ISNUMBER(Y1252),2,IF(A1253=\"\",IF(OR(AK1252>0,VLOOKUP(O1252,EventConfig!A:C,3,FALSE)=4),3,\"\"),1)))","v":1},913808,null,6445,9138]
[913808,6438,"完成和NPC的对话","",{"$nulls":5},100,{"$f":"IF(J1253=\"\",\"\",VLOOKUP(J1253,EventNPC!A:F,6,FALSE))","v":"玩家"},6446,"那我告辞了。",null,9138,8,"",null,null,{"$f":"IF(R1253=\"\",\"\",\"-\"&VLOOKUP(R1253,EventConditionConfig!A:C,3,FALSE)&IF(S1253=\"\",\"\",CHAR(10)&\"-\"&VLOOKUP(S1253,EventConditionConfig!A:C,3,FALSE)))","v":""},"","","","",null,null,"",null,null,"",{"$nulls":4},{"$f":"IF(A1253=\"\",\"\",IF(ISNUMBER(Y1253),2,IF(A1254=\"\",IF(OR(AK1253>0,VLOOKUP(O1253,EventConfig!A:C,3,FALSE)=4),3,\"\"),1)))","v":1},913809,null,6446,9138]
[913809,6438,"完成和NPC的对话","",{"$nulls":5},142,{"$f":"IF(J1254=\"\",\"\",VLOOKUP(J1254,EventNPC!A:F,6,FALSE))","v":"林风"},6447,"道兄慢走。",null,9138,9,"",null,null,{"$f":"IF(R1254=\"\",\"\",\"-\"&VLOOKUP(R1254,EventConditionConfig!A:C,3,FALSE)&IF(S1254=\"\",\"\",CHAR(10)&\"-\"&VLOOKUP(S1254,EventConditionConfig!A:C,3,FALSE)))","v":""},"","","","",null,null,"",null,null,"",{"$nulls":4},{"$f":"IF(A1254=\"\",\"\",IF(ISNUMBER(Y1254),2,IF(A1255=\"\",IF(OR(AK1254>0,VLOOKUP(O1254,EventConfig!A:C,3,FALSE)=4),3,\"\"),1)))","v":""},"",null,6447,9138]
[{"$nulls":10},{"$f":"IF(J1255=\"\",\"\",VLOOKUP(J1255,EventNPC!A:F,6,FALSE))","v":""},{"$nulls":10},"","",{"$nulls":11},{"$f":"IF(A1255=\"\",\"\",IF(ISNUMBER(Y1255),2,IF(A1256=\"\",IF(OR(AK1255>0,VLOOKUP(O1255,EventConfig!A:C,3,FALSE)=4),3,\"\"),1)))","v":""},null,null,"",0]
[{"$f":"O1256*100+P1256","v":913901},{"$f":"IF(C1256=\"\",\"\",IF(C1256=C1255,B1255,MAX(AL1255,AL1254)+1))","v":6448},"完成和NPC的对话",{"$f":"IF(E1256=\"\",\"\",IF(E1256=E1255,D1255,MAX(AL1255,AL1254,B1256)+1))","v":""},{"$nulls":5},136,{"$f":"IF(J1256=\"\",\"\",VLOOKUP(J1256,EventNPC!A:F,6,FALSE))","v":"血海宗敌人"},{"$f":"IF(M1256=\"\",\"\",MAX(AL1255,AL1254,B1256,D1256)+1)","v":6449},"啧啧，倒是小瞧了你这散修，竟能追到此处！这玄冥晶乃我血海宗必得之物。",null,9139,{"$f":"IF(O1256=\"\",\"\",IF(O1256=O1255,P1255+1,1))","v":1},{"$f":"_xlfn.TEXTJOIN(\";\",1,R1256:S1256)","v":""},null,null,{"$f":"IF(R1256=\"\",\"\",\"-\"&VLOOKUP(R1256,EventConditionConfig!A:C,3,FALSE)&IF(S1256=\"\",\"\",CHAR(10)&\"-\"&VLOOKUP(S1256,EventConditionConfig!A:C,3,FALSE)))","v":""},{"$f":"IF(Y1256=\"\",\"\",IF(ISTEXT(Y1256),1,2))","v":""},"","",{"$f":"IF(OR(ISNUMBER(Y1256),Y1256=\"\"),\"\",MAX(AL1255,AL1253,B1256,D1256,L1256)+1)","v":""},null,null,{"$f":"IF(OR(ISNUMBER(AB1256),AB1256=\"\"),\"\",X1256+1)","v":""},null,null,{"$f":"IF(OR(ISNUMBER(AE1256),AE1256=\"\"),\"\",AA1256+1)","v":""},{"$nulls":4},{"$f":"IF(A1256=\"\",\"\",IF(ISNUMBER(Y1256),2,IF(A1257=\"\",IF(OR(AK1256>0,VLOOKUP(O1256,EventConfig!A:C,3,FALSE)=4),3,\"\"),1)))","v":1},{"$f":"IF(AI1256=\"\",\"\",CHOOSE(AI1256,IF(AK1256=\"\",A1256+1,AK1256),CONCATENATE(IF(AK1256=\"\",A1256+1,AK1256),\";101\"),IF(AK1256=\"\",O1256+1,AK1256)))","v":913902},null,6449,9139]
[913902,6448,"完成和NPC的对话","",{"$nulls":5},136,{"$f":"IF(J1257=\"\",\"\",VLOOKUP(J1257,EventNPC!A:F,6,FALSE))","v":"血海宗敌人"},6450,"你若识相，速速退去，本座可饶你一命！否则，这废墟便是你的埋骨之地！",null,9139,2,"",null,null,{"$f":"IF(R1257=\"\",\"\",\"-\"&VLOOKUP(R1257,EventConditionConfig!A:C,3,FALSE)&IF(S1257=\"\",\"\",CHAR(10)&\"-\"&VLOOKUP(S1257,EventConditionConfig!A:C,3,FALSE)))","v":""},1,"913903;913904","6451;6452",6451,"交出玄冥晶，免你一死！",{"$f":"A1258","v":913903},6452,"玄冥晶有何用？血海宗为何如此执着，不惜派你这筑基修士偷袭？",{"$f":"A1259","v":913904},"",null,{"$f":"D1259","v":""},null,null,{"$f":"IF(A1257=\"\",\"\",IF(ISNUMBER(Y1257),2,IF(A1258=\"\",IF(OR(AK1257>0,VLOOKUP(O1257,EventConfig!A:C,3,FALSE)=4),3,\"\"),1)))","v":1},913903,null,6452,9139]
[913903,6448,"完成和NPC的对话","",{"$nulls":5},136,{"$f":"IF(J1258=\"\",\"\",VLOOKUP(J1258,EventNPC!A:F,6,FALSE))","v":"血海宗敌人"},6453,"好大胆！区区散修，也敢挑衅血海宗？来吧，让你见识血刃术的厉害！",null,9139,3,"",null,null,{"$f":"IF(R1258=\"\",\"\",\"-\"&VLOOKUP(R1258,EventConditionConfig!A:C,3,FALSE)&IF(S1258=\"\",\"\",CHAR(10)&\"-\"&VLOOKUP(S1258,EventConditionConfig!A:C,3,FALSE)))","v":""},2,4020,"","",4020,null,"",null,null,"",{"$nulls":4},{"$f":"IF(A1258=\"\",\"\",IF(ISNUMBER(Y1258),2,IF(A1259=\"\",IF(OR(AK1258>0,VLOOKUP(O1258,EventConfig!A:C,3,FALSE)=4),3,\"\"),1)))","v":2},"913907;101",{"$f":"A1262","v":913907},6453,9139]
[913904,6448,"完成和NPC的对话","",{"$nulls":5},136,{"$f":"IF(J1259=\"\",\"\",VLOOKUP(J1259,EventNPC!A:F,6,FALSE))","v":"血海宗敌人"},6454,"哦？倒有些头脑。这晶石的秘密，你这散修不配知道！不过……若你肯投靠血海宗，本座可分你一成好处，如何？",null,9139,4,"",null,null,{"$f":"IF(R1259=\"\",\"\",\"-\"&VLOOKUP(R1259,EventConditionConfig!A:C,3,FALSE)&IF(S1259=\"\",\"\",CHAR(10)&\"-\"&VLOOKUP(S1259,EventConditionConfig!A:C,3,FALSE)))","v":""},"","","","",null,null,"",null,null,"",{"$nulls":4},{"$f":"IF(A1259=\"\",\"\",IF(ISNUMBER(Y1259),2,IF(A1260=\"\",IF(OR(AK1259>0,VLOOKUP(O1259,EventConfig!A:C,3,FALSE)=4),3,\"\"),1)))","v":1},913905,null,6454,9139]
[913905,6448,"完成和NPC的对话","",{"$nulls":5},100,{"$f":"IF(J1260=\"\",\"\",VLOOKUP(J1260,EventNPC!A:F,6,FALSE))","v":"玩家"},6455,"那可不必，我自由自在惯了。待我拿下你在逼问你说出来就行了。",null,9139,5,"",null,null,{"$f":"IF(R1260=\"\",\"\",\"-\"&VLOOKUP(R1260,EventConditionConfig!A:C,3,FALSE)&IF(S1260=\"\",\"\",CHAR(10)&\"-\"&VLOOKUP(S1260,EventConditionConfig!A:C,3,FALSE)))","v":""},"","","","",null,null,"",null,null,"",{"$nulls":4},{"$f":"IF(A1260=\"\",\"\",IF(ISNUMBER(Y1260),2,IF(A1261=\"\",IF(OR(AK1260>0,VLOOKUP(O1260,EventConfig!A:C,3,FALSE)=4),3,\"\"),1)))","v":1},913906,null,6455,9139]
[913906,6448,"完成和NPC的对话","",{"$nulls":5},136,{"$f":"IF(J1261=\"\",\"\",VLOOKUP(J1261,EventNPC!A:F,6,FALSE))","v":"血海宗敌人"},6456,"找死！",null,9139,6,"",null,null,{"$f":"IF(R1261=\"\",\"\",\"-\"&VLOOKUP(R1261,EventConditionConfig!A:C,3,FALSE)&IF(S1261=\"\",\"\",CHAR(10)&\"-\"&VLOOKUP(S1261,EventConditionConfig!A:C,3,FALSE)))","v":""},2,4021,"","",4021,null,"",null,null,"",{"$nulls":4},{"$f":"IF(A1261=\"\",\"\",IF(ISNUMBER(Y1261),2,IF(A1262=\"\",IF(OR(AK1261>0,VLOOKUP(O1261,EventConfig!A:C,3,FALSE)=4),3,\"\"),1)))","v":2},"913907;101",{"$f":"A1262","v":913907},6456,9139]
[913907,6448,"完成和NPC的对话","",{"$nulls":5},136,{"$f":"IF(J1262=\"\",\"\",VLOOKUP(J1262,EventNPC!A:F,6,FALSE))","v":"血海宗敌人"},6457,"没想到我竟不是你的对手，这玄冥晶你也别想拿走。",null,9139,7,"",null,null,{"$f":"IF(R1262=\"\",\"\",\"-\"&VLOOKUP(R1262,EventConditionConfig!A:C,3,FALSE)&IF(S1262=\"\",\"\",CHAR(10)&\"-\"&VLOOKUP(S1262,EventConditionConfig!A:C,3,FALSE)))","v":""},"","","","",null,null,"",null,null,"",{"$nulls":4},{"$f":"IF(A1262=\"\",\"\",IF(ISNUMBER(Y1262),2,IF(A1263=\"\",IF(OR(AK1262>0,VLOOKUP(O1262,EventConfig!A:C,3,FALSE)=4),3,\"\"),1)))","v":1},913908,null,6457,9139]
[913908,6448,"完成和NPC的对话","",{"$nulls":5},100,{"$f":"IF(J1263=\"\",\"\",VLOOKUP(J1263,EventNPC!A:F,6,FALSE))","v":"玩家"},6458,"不好。（玩家快速使出一柄飞剑刺向蒙面修士，但还是晚了一步）（只见蒙面修士用处最后一口气发出了一个求救信号）",null,9139,8,"",null,null,{"$f":"IF(R1263=\"\",\"\",\"-\"&VLOOKUP(R1263,EventConditionConfig!A:C,3,FALSE)&IF(S1263=\"\",\"\",CHAR(10)&\"-\"&VLOOKUP(S1263,EventConditionConfig!A:C,3,FALSE)))","v":""},"","","","",null,null,"",null,null,"",{"$nulls":4},{"$f":"IF(A1263=\"\",\"\",IF(ISNUMBER(Y1263),2,IF(A1264=\"\",IF(OR(AK1263>0,VLOOKUP(O1263,EventConfig!A:C,3,FALSE)=4),3,\"\"),1)))","v":1},913909,null,6458,9139]
[913909,6448,"完成和NPC的对话","",{"$nulls":5},100,{"$f":"IF(J1264=\"\",\"\",VLOOKUP(J1264,EventNPC!A:F,6,FALSE))","v":"玩家"},6459,"我得赶快离开此地。",null,9139,9,"",null,null,{"$f":"IF(R1264=\"\",\"\",\"-\"&VLOOKUP(R1264,EventConditionConfig!A:C,3,FALSE)&IF(S1264=\"\",\"\",CHAR(10)&\"-\"&VLOOKUP(S1264,EventConditionConfig!A:C,3,FALSE)))","v":""},"","","","",null,null,"",null,null,"",{"$nulls":4},{"$f":"IF(A1264=\"\",\"\",IF(ISNUMBER(Y1264),2,IF(A1265=\"\",IF(OR(AK1264>0,VLOOKUP(O1264,EventConfig!A:C,3,FALSE)=4),3,\"\"),1)))","v":""},"",null,6459,9139]
[{"$nulls":10},{"$f":"IF(J1265=\"\",\"\",VLOOKUP(J1265,EventNPC!A:F,6,FALSE))","v":""},{"$nulls":10},"","",{"$nulls":11},{"$f":"IF(A1265=\"\",\"\",IF(ISNUMBER(Y1265),2,IF(A1266=\"\",IF(OR(AK1265>0,VLOOKUP(O1265,EventConfig!A:C,3,FALSE)=4),3,\"\"),1)))","v":""},null,null,"",0]
[{"$f":"O1266*100+P1266","v":914001},{"$f":"IF(C1266=\"\",\"\",IF(C1266=C1265,B1265,MAX(AL1265,AL1264)+1))","v":6460},"完成和NPC的对话",{"$f":"IF(E1266=\"\",\"\",IF(E1266=E1265,D1265,MAX(AL1265,AL1264,B1266)+1))","v":""},{"$nulls":5},136,{"$f":"IF(J1266=\"\",\"\",VLOOKUP(J1266,EventNPC!A:F,6,FALSE))","v":"血海宗敌人"},{"$f":"IF(M1266=\"\",\"\",MAX(AL1265,AL1264,B1266,D1266)+1)","v":6461},"你竟敢杀我师弟！玄冥晶岂是你这散修能碰的，交出晶石。留你一个全尸。",null,9140,{"$f":"IF(O1266=\"\",\"\",IF(O1266=O1265,P1265+1,1))","v":1},{"$f":"_xlfn.TEXTJOIN(\";\",1,R1266:S1266)","v":""},null,null,{"$f":"IF(R1266=\"\",\"\",\"-\"&VLOOKUP(R1266,EventConditionConfig!A:C,3,FALSE)&IF(S1266=\"\",\"\",CHAR(10)&\"-\"&VLOOKUP(S1266,EventConditionConfig!A:C,3,FALSE)))","v":""},{"$f":"IF(Y1266=\"\",\"\",IF(ISTEXT(Y1266),1,2))","v":""},"","",{"$f":"IF(OR(ISNUMBER(Y1266),Y1266=\"\"),\"\",MAX(AL1265,AL1263,B1266,D1266,L1266)+1)","v":""},null,null,{"$f":"IF(OR(ISNUMBER(AB1266),AB1266=\"\"),\"\",X1266+1)","v":""},null,null,{"$f":"IF(OR(ISNUMBER(AE1266),AE1266=\"\"),\"\",AA1266+1)","v":""},{"$nulls":4},{"$f":"IF(A1266=\"\",\"\",IF(ISNUMBER(Y1266),2,IF(A1267=\"\",IF(OR(AK1266>0,VLOOKUP(O1266,EventConfig!A:C,3,FALSE)=4),3,\"\"),1)))","v":1},{"$f":"IF(AI1266=\"\",\"\",CHOOSE(AI1266,IF(AK1266=\"\",A1266+1,AK1266),CONCATENATE(IF(AK1266=\"\",A1266+1,AK1266),\";101\"),IF(AK1266=\"\",O1266+1,AK1266)))","v":914002},null,6461,9140]
[{"$f":"O1267*100+P1267","v":914002},{"$f":"IF(C1267=\"\",\"\",IF(C1267=C1266,B1266,MAX(AL1266,AL1265)+1))","v":6460},"完成和NPC的对话",{"$f":"IF(E1267=\"\",\"\",IF(E1267=E1266,D1266,MAX(AL1266,AL1265,B1267)+1))","v":""},{"$nulls":5},100,{"$f":"IF(J1267=\"\",\"\",VLOOKUP(J1267,EventNPC!A:F,6,FALSE))","v":"玩家"},{"$f":"IF(M1267=\"\",\"\",MAX(AL1266,AL1265,B1267,D1267)+1)","v":6462},"血海宗一再挑衅，今日我便让你血债血偿。",null,9140,{"$f":"IF(O1267=\"\",\"\",IF(O1267=O1266,P1266+1,1))","v":2},{"$f":"_xlfn.TEXTJOIN(\";\",1,R1267:S1267)","v":""},null,null,{"$f":"IF(R1267=\"\",\"\",\"-\"&VLOOKUP(R1267,EventConditionConfig!A:C,3,FALSE)&IF(S1267=\"\",\"\",CHAR(10)&\"-\"&VLOOKUP(S1267,EventConditionConfig!A:C,3,FALSE)))","v":""},{"$f":"IF(Y1267=\"\",\"\",IF(ISTEXT(Y1267),1,2))","v":2},4022,"",{"$f":"IF(OR(ISNUMBER(Y1267),Y1267=\"\"),\"\",MAX(AL1266,AL1264,B1267,D1267,L1267)+1)","v":""},4022,null,{"$f":"IF(OR(ISNUMBER(AB1267),AB1267=\"\"),\"\",X1267+1)","v":""},null,null,{"$f":"IF(OR(ISNUMBER(AE1267),AE1267=\"\"),\"\",AA1267+1)","v":""},{"$nulls":4},{"$f":"IF(A1267=\"\",\"\",IF(ISNUMBER(Y1267),2,IF(A1268=\"\",IF(OR(AK1267>0,VLOOKUP(O1267,EventConfig!A:C,3,FALSE)=4),3,\"\"),1)))","v":2},{"$f":"IF(AI1267=\"\",\"\",CHOOSE(AI1267,IF(AK1267=\"\",A1267+1,AK1267),CONCATENATE(IF(AK1267=\"\",A1267+1,AK1267),\";101\"),IF(AK1267=\"\",O1267+1,AK1267)))","v":"914003;101"},null,6462,9140]
[{"$f":"O1268*100+P1268","v":914003},{"$f":"IF(C1268=\"\",\"\",IF(C1268=C1267,B1267,MAX(AL1267,AL1266)+1))","v":6460},"完成和NPC的对话",{"$f":"IF(E1268=\"\",\"\",IF(E1268=E1267,D1267,MAX(AL1267,AL1266,B1268)+1))","v":""},{"$nulls":5},100,{"$f":"IF(J1268=\"\",\"\",VLOOKUP(J1268,EventNPC!A:F,6,FALSE))","v":"玩家"},{"$f":"IF(M1268=\"\",\"\",MAX(AL1267,AL1266,B1268,D1268)+1)","v":6463},"（拿走玄冥晶）",null,9140,{"$f":"IF(O1268=\"\",\"\",IF(O1268=O1267,P1267+1,1))","v":3},{"$f":"_xlfn.TEXTJOIN(\";\",1,R1268:S1268)","v":""},null,null,{"$f":"IF(R1268=\"\",\"\",\"-\"&VLOOKUP(R1268,EventConditionConfig!A:C,3,FALSE)&IF(S1268=\"\",\"\",CHAR(10)&\"-\"&VLOOKUP(S1268,EventConditionConfig!A:C,3,FALSE)))","v":""},{"$f":"IF(Y1268=\"\",\"\",IF(ISTEXT(Y1268),1,2))","v":""},"","",{"$f":"IF(OR(ISNUMBER(Y1268),Y1268=\"\"),\"\",MAX(AL1267,AL1265,B1268,D1268,L1268)+1)","v":""},null,null,{"$f":"IF(OR(ISNUMBER(AB1268),AB1268=\"\"),\"\",X1268+1)","v":""},null,null,{"$f":"IF(OR(ISNUMBER(AE1268),AE1268=\"\"),\"\",AA1268+1)","v":""},{"$nulls":4},{"$f":"IF(A1268=\"\",\"\",IF(ISNUMBER(Y1268),2,IF(A1269=\"\",IF(OR(AK1268>0,VLOOKUP(O1268,EventConfig!A:C,3,FALSE)=4),3,\"\"),1)))","v":""},{"$f":"IF(AI1268=\"\",\"\",CHOOSE(AI1268,IF(AK1268=\"\",A1268+1,AK1268),CONCATENATE(IF(AK1268=\"\",A1268+1,AK1268),\";101\"),IF(AK1268=\"\",O1268+1,AK1268)))","v":""},null,6463,9140]
[{"$nulls":10},{"$f":"IF(J1269=\"\",\"\",VLOOKUP(J1269,EventNPC!A:F,6,FALSE))","v":""},{"$nulls":10},"","",{"$nulls":11},{"$f":"IF(A1269=\"\",\"\",IF(ISNUMBER(Y1269),2,IF(A1270=\"\",IF(OR(AK1269>0,VLOOKUP(O1269,EventConfig!A:C,3,FALSE)=4),3,\"\"),1)))","v":""},null,null,"",0]
[{"$f":"O1270*100+P1270","v":914101},{"$f":"IF(C1270=\"\",\"\",IF(C1270=C1269,B1269,MAX(AL1269,AL1268)+1))","v":6464},"完成和NPC的对话",{"$f":"IF(E1270=\"\",\"\",IF(E1270=E1269,D1269,MAX(AL1269,AL1268,B1270)+1))","v":""},{"$nulls":5},144,{"$f":"IF(J1270=\"\",\"\",VLOOKUP(J1270,EventNPC!A:F,6,FALSE))","v":"玄水真人"},{"$f":"IF(M1270=\"\",\"\",MAX(AL1269,AL1268,B1270,D1270)+1)","v":6465},"年轻的修仙者，你来得正是时候。",null,9141,{"$f":"IF(O1270=\"\",\"\",IF(O1270=O1269,P1269+1,1))","v":1},{"$f":"_xlfn.TEXTJOIN(\";\",1,R1270:S1270)","v":""},null,null,{"$f":"IF(R1270=\"\",\"\",\"-\"&VLOOKUP(R1270,EventConditionConfig!A:C,3,FALSE)&IF(S1270=\"\",\"\",CHAR(10)&\"-\"&VLOOKUP(S1270,EventConditionConfig!A:C,3,FALSE)))","v":""},{"$f":"IF(Y1270=\"\",\"\",IF(ISTEXT(Y1270),1,2))","v":""},"","",{"$f":"IF(OR(ISNUMBER(Y1270),Y1270=\"\"),\"\",MAX(AL1269,AL1267,B1270,D1270,L1270)+1)","v":""},null,null,{"$f":"IF(OR(ISNUMBER(AB1270),AB1270=\"\"),\"\",X1270+1)","v":""},null,null,{"$f":"IF(OR(ISNUMBER(AE1270),AE1270=\"\"),\"\",AA1270+1)","v":""},{"$nulls":4},{"$f":"IF(A1270=\"\",\"\",IF(ISNUMBER(Y1270),2,IF(A1271=\"\",IF(OR(AK1270>0,VLOOKUP(O1270,EventConfig!A:C,3,FALSE)=4),3,\"\"),1)))","v":1},{"$f":"IF(AI1270=\"\",\"\",CHOOSE(AI1270,IF(AK1270=\"\",A1270+1,AK1270),CONCATENATE(IF(AK1270=\"\",A1270+1,AK1270),\";101\"),IF(AK1270=\"\",O1270+1,AK1270)))","v":914102},null,6465,9141]
[914102,6464,"完成和NPC的对话","",{"$nulls":5},100,{"$f":"IF(J1271=\"\",\"\",VLOOKUP(J1271,EventNPC!A:F,6,FALSE))","v":"玩家"},6466,"不知如何称呼前辈？前辈这是有什么事？",null,9141,2,"",null,null,{"$f":"IF(R1271=\"\",\"\",\"-\"&VLOOKUP(R1271,EventConditionConfig!A:C,3,FALSE)&IF(S1271=\"\",\"\",CHAR(10)&\"-\"&VLOOKUP(S1271,EventConditionConfig!A:C,3,FALSE)))","v":""},"","","","",null,null,"",null,null,"",{"$nulls":4},{"$f":"IF(A1271=\"\",\"\",IF(ISNUMBER(Y1271),2,IF(A1272=\"\",IF(OR(AK1271>0,VLOOKUP(O1271,EventConfig!A:C,3,FALSE)=4),3,\"\"),1)))","v":1},914103,null,6466,9141]
[914103,6464,"完成和NPC的对话","",{"$nulls":5},144,{"$f":"IF(J1272=\"\",\"\",VLOOKUP(J1272,EventNPC!A:F,6,FALSE))","v":"玄水真人"},6467,"我乃灵泉守护者玄水真人，守护者灵泉千百余年，此灵泉，乃是仙山灵脉之源，千年来滋养无数灵植仙草，助各道宗弟子修行。",null,9141,3,"",null,null,{"$f":"IF(R1272=\"\",\"\",\"-\"&VLOOKUP(R1272,EventConditionConfig!A:C,3,FALSE)&IF(S1272=\"\",\"\",CHAR(10)&\"-\"&VLOOKUP(S1272,EventConditionConfig!A:C,3,FALSE)))","v":""},"","","","",null,null,"",null,null,"",{"$nulls":4},{"$f":"IF(A1272=\"\",\"\",IF(ISNUMBER(Y1272),2,IF(A1273=\"\",IF(OR(AK1272>0,VLOOKUP(O1272,EventConfig!A:C,3,FALSE)=4),3,\"\"),1)))","v":1},914104,null,6467,9141]
[914104,6464,"完成和NPC的对话","",{"$nulls":5},144,{"$f":"IF(J1273=\"\",\"\",VLOOKUP(J1273,EventNPC!A:F,6,FALSE))","v":"玄水真人"},6468,"可近日，灵泉深处泛起紫光，灵气紊乱，怕是有异物潜入，扰乱灵脉。我本欲亲自前往探查，奈何有故，难以脱身。你可愿代我一探灵泉深处，查明异动根源？",null,9141,4,"",null,null,{"$f":"IF(R1273=\"\",\"\",\"-\"&VLOOKUP(R1273,EventConditionConfig!A:C,3,FALSE)&IF(S1273=\"\",\"\",CHAR(10)&\"-\"&VLOOKUP(S1273,EventConditionConfig!A:C,3,FALSE)))","v":""},1,"914105;914107","6469;6470",6469,"前辈，灵泉异动如此严重，为何您不亲自前往？以您的修为，定能轻易解决吧？",{"$f":"A1274","v":914105},6470,"好的，既然前辈信任，我这就前去一探究竟",{"$f":"A1276","v":914107},"",{"$nulls":4},{"$f":"IF(A1273=\"\",\"\",IF(ISNUMBER(Y1273),2,IF(A1274=\"\",IF(OR(AK1273>0,VLOOKUP(O1273,EventConfig!A:C,3,FALSE)=4),3,\"\"),1)))","v":1},914105,null,6470,9141]
[914105,6464,"完成和NPC的对话","",{"$nulls":5},144,{"$f":"IF(J1274=\"\",\"\",VLOOKUP(J1274,EventNPC!A:F,6,FALSE))","v":"玄水真人"},6471,"年轻人，你倒是敏锐。不瞒你说，我修为虽不弱，但千百年前为镇压一头四阶妖蛟，曾以精血立下‘灵泉血誓’，将自身灵力与灵泉阵法相连。",null,9141,5,"",null,null,{"$f":"IF(R1274=\"\",\"\",\"-\"&VLOOKUP(R1274,EventConditionConfig!A:C,3,FALSE)&IF(S1274=\"\",\"\",CHAR(10)&\"-\"&VLOOKUP(S1274,EventConditionConfig!A:C,3,FALSE)))","v":""},"","","","",null,null,"",null,null,"",{"$nulls":4},{"$f":"IF(A1274=\"\",\"\",IF(ISNUMBER(Y1274),2,IF(A1275=\"\",IF(OR(AK1274>0,VLOOKUP(O1274,EventConfig!A:C,3,FALSE)=4),3,\"\"),1)))","v":1},914106,null,6471,9141]
[914106,6464,"完成和NPC的对话","",{"$nulls":5},144,{"$f":"IF(J1275=\"\",\"\",VLOOKUP(J1275,EventNPC!A:F,6,FALSE))","v":"玄水真人"},6472,"如今灵泉异动，阵法反噬，我若强行入泉深处，恐引发更大乱象，甚至毁了灵脉根基。你虽修为尚浅，但未受阵法束缚，正适合前往。",null,9141,6,"",null,null,{"$f":"IF(R1275=\"\",\"\",\"-\"&VLOOKUP(R1275,EventConditionConfig!A:C,3,FALSE)&IF(S1275=\"\",\"\",CHAR(10)&\"-\"&VLOOKUP(S1275,EventConditionConfig!A:C,3,FALSE)))","v":""},"","","","",null,null,"",null,null,"",{"$nulls":4},{"$f":"IF(A1275=\"\",\"\",IF(ISNUMBER(Y1275),2,IF(A1276=\"\",IF(OR(AK1275>0,VLOOKUP(O1275,EventConfig!A:C,3,FALSE)=4),3,\"\"),1)))","v":1},914107,{"$f":"A1276","v":914107},6472,9141]
[914107,6464,"完成和NPC的对话","",{"$nulls":5},144,{"$f":"IF(J1276=\"\",\"\",VLOOKUP(J1276,EventNPC!A:F,6,FALSE))","v":"玄水真人"},6473,"我赐你一枚丹药助力修行，事成后这里的仙草你可以随意来采摘。",null,9141,7,"",null,null,{"$f":"IF(R1276=\"\",\"\",\"-\"&VLOOKUP(R1276,EventConditionConfig!A:C,3,FALSE)&IF(S1276=\"\",\"\",CHAR(10)&\"-\"&VLOOKUP(S1276,EventConditionConfig!A:C,3,FALSE)))","v":""},"","","","",null,null,"",null,null,"",{"$nulls":4},{"$f":"IF(A1276=\"\",\"\",IF(ISNUMBER(Y1276),2,IF(A1277=\"\",IF(OR(AK1276>0,VLOOKUP(O1276,EventConfig!A:C,3,FALSE)=4),3,\"\"),1)))","v":1},914108,null,6473,9141]
[914108,6464,"完成和NPC的对话","",{"$nulls":5},100,{"$f":"IF(J1277=\"\",\"\",VLOOKUP(J1277,EventNPC!A:F,6,FALSE))","v":"玩家"},6474,"我这就去清理周围的妖邪",null,9141,8,"",null,null,{"$f":"IF(R1277=\"\",\"\",\"-\"&VLOOKUP(R1277,EventConditionConfig!A:C,3,FALSE)&IF(S1277=\"\",\"\",CHAR(10)&\"-\"&VLOOKUP(S1277,EventConditionConfig!A:C,3,FALSE)))","v":""},"","","","",null,null,"",null,null,"",{"$nulls":4},{"$f":"IF(A1277=\"\",\"\",IF(ISNUMBER(Y1277),2,IF(A1278=\"\",IF(OR(AK1277>0,VLOOKUP(O1277,EventConfig!A:C,3,FALSE)=4),3,\"\"),1)))","v":""},"",null,6474,9141]
[{"$nulls":10},{"$f":"IF(J1278=\"\",\"\",VLOOKUP(J1278,EventNPC!A:F,6,FALSE))","v":""},{"$nulls":10},"","",{"$nulls":11},{"$f":"IF(A1278=\"\",\"\",IF(ISNUMBER(Y1278),2,IF(A1279=\"\",IF(OR(AK1278>0,VLOOKUP(O1278,EventConfig!A:C,3,FALSE)=4),3,\"\"),1)))","v":""},null,null,"",0]
[{"$f":"O1279*100+P1279","v":3002301},{"$f":"IF(C1279=\"\",\"\",IF(C1279=C1278,B1278,MAX(AL1278,AL1277)+1))","v":6475},"击杀妖邪",{"$f":"IF(E1279=\"\",\"\",IF(E1279=E1278,D1278,MAX(AL1278,AL1277,B1279)+1))","v":""},{"$nulls":5},100,{"$f":"IF(J1279=\"\",\"\",VLOOKUP(J1279,EventNPC!A:F,6,FALSE))","v":"玩家"},{"$f":"IF(M1279=\"\",\"\",MAX(AL1278,AL1277,B1279,D1279)+1)","v":6476},"看来这灵泉周围妖邪甚多，迎战",null,30023,{"$f":"IF(O1279=\"\",\"\",IF(O1279=O1278,P1278+1,1))","v":1},{"$f":"_xlfn.TEXTJOIN(\";\",1,R1279:S1279)","v":""},null,null,{"$f":"IF(R1279=\"\",\"\",\"-\"&VLOOKUP(R1279,EventConditionConfig!A:C,3,FALSE)&IF(S1279=\"\",\"\",CHAR(10)&\"-\"&VLOOKUP(S1279,EventConditionConfig!A:C,3,FALSE)))","v":""},{"$f":"IF(Y1279=\"\",\"\",IF(ISTEXT(Y1279),1,2))","v":2},4023,"",{"$f":"IF(OR(ISNUMBER(Y1279),Y1279=\"\"),\"\",MAX(AL1278,AL1276,B1279,D1279,L1279)+1)","v":""},4023,null,{"$f":"IF(OR(ISNUMBER(AB1279),AB1279=\"\"),\"\",X1279+1)","v":""},null,null,{"$f":"IF(OR(ISNUMBER(AE1279),AE1279=\"\"),\"\",AA1279+1)","v":""},{"$nulls":4},{"$f":"IF(A1279=\"\",\"\",IF(ISNUMBER(Y1279),2,IF(A1280=\"\",IF(OR(AK1279>0,VLOOKUP(O1279,EventConfig!A:C,3,FALSE)=4),3,\"\"),1)))","v":2},{"$f":"IF(AI1279=\"\",\"\",CHOOSE(AI1279,IF(AK1279=\"\",A1279+1,AK1279),CONCATENATE(IF(AK1279=\"\",A1279+1,AK1279),\";101\"),IF(AK1279=\"\",O1279+1,AK1279)))","v":"3002302;101"},null,6476,30023]
[{"$f":"O1280*100+P1280","v":3002302},{"$f":"IF(C1280=\"\",\"\",IF(C1280=C1279,B1279,MAX(AL1279,AL1278)+1))","v":6475},"击杀妖邪",{"$f":"IF(E1280=\"\",\"\",IF(E1280=E1279,D1279,MAX(AL1279,AL1278,B1280)+1))","v":""},{"$nulls":5},100,{"$f":"IF(J1280=\"\",\"\",VLOOKUP(J1280,EventNPC!A:F,6,FALSE))","v":"玩家"},{"$f":"IF(M1280=\"\",\"\",MAX(AL1279,AL1278,B1280,D1280)+1)","v":6477},"这妖邪甚是厉害，多亏玄水真人赠与的丹药才能险胜。",null,30023,{"$f":"IF(O1280=\"\",\"\",IF(O1280=O1279,P1279+1,1))","v":2},{"$f":"_xlfn.TEXTJOIN(\";\",1,R1280:S1280)","v":""},null,null,{"$f":"IF(R1280=\"\",\"\",\"-\"&VLOOKUP(R1280,EventConditionConfig!A:C,3,FALSE)&IF(S1280=\"\",\"\",CHAR(10)&\"-\"&VLOOKUP(S1280,EventConditionConfig!A:C,3,FALSE)))","v":""},{"$f":"IF(Y1280=\"\",\"\",IF(ISTEXT(Y1280),1,2))","v":""},"","",{"$f":"IF(OR(ISNUMBER(Y1280),Y1280=\"\"),\"\",MAX(AL1279,AL1277,B1280,D1280,L1280)+1)","v":""},null,null,{"$f":"IF(OR(ISNUMBER(AB1280),AB1280=\"\"),\"\",X1280+1)","v":""},null,null,{"$f":"IF(OR(ISNUMBER(AE1280),AE1280=\"\"),\"\",AA1280+1)","v":""},{"$nulls":4},{"$f":"IF(A1280=\"\",\"\",IF(ISNUMBER(Y1280),2,IF(A1281=\"\",IF(OR(AK1280>0,VLOOKUP(O1280,EventConfig!A:C,3,FALSE)=4),3,\"\"),1)))","v":""},{"$f":"IF(AI1280=\"\",\"\",CHOOSE(AI1280,IF(AK1280=\"\",A1280+1,AK1280),CONCATENATE(IF(AK1280=\"\",A1280+1,AK1280),\";101\"),IF(AK1280=\"\",O1280+1,AK1280)))","v":""},null,6477,30023]
[{"$nulls":10},{"$f":"IF(J1281=\"\",\"\",VLOOKUP(J1281,EventNPC!A:F,6,FALSE))","v":""},{"$nulls":10},"","",{"$nulls":11},{"$f":"IF(A1281=\"\",\"\",IF(ISNUMBER(Y1281),2,IF(A1282=\"\",IF(OR(AK1281>0,VLOOKUP(O1281,EventConfig!A:C,3,FALSE)=4),3,\"\"),1)))","v":""},null,null,"",0]
[{"$f":"O1282*100+P1282","v":914201},{"$f":"IF(C1282=\"\",\"\",IF(C1282=C1281,B1281,MAX(AL1281,AL1280)+1))","v":6478},"完成和NPC的对话",{"$f":"IF(E1282=\"\",\"\",IF(E1282=E1281,D1281,MAX(AL1281,AL1280,B1282)+1))","v":""},{"$nulls":5},144,{"$f":"IF(J1282=\"\",\"\",VLOOKUP(J1282,EventNPC!A:F,6,FALSE))","v":"玄水真人"},{"$f":"IF(M1282=\"\",\"\",MAX(AL1281,AL1280,B1282,D1282)+1)","v":6479},"年轻的修仙者，你回来了！灵泉紫光已消，灵气复归平稳，看来你已成功平息异动。不愧是后起之秀！",null,9142,{"$f":"IF(O1282=\"\",\"\",IF(O1282=O1281,P1281+1,1))","v":1},{"$f":"_xlfn.TEXTJOIN(\";\",1,R1282:S1282)","v":"47"},47,null,{"$f":"IF(R1282=\"\",\"\",\"-\"&VLOOKUP(R1282,EventConditionConfig!A:C,3,FALSE)&IF(S1282=\"\",\"\",CHAR(10)&\"-\"&VLOOKUP(S1282,EventConditionConfig!A:C,3,FALSE)))","v":"-完成神识探索-消灭妖邪"},{"$f":"IF(Y1282=\"\",\"\",IF(ISTEXT(Y1282),1,2))","v":""},"","",{"$f":"IF(OR(ISNUMBER(Y1282),Y1282=\"\"),\"\",MAX(AL1281,AL1279,B1282,D1282,L1282)+1)","v":""},null,null,{"$f":"IF(OR(ISNUMBER(AB1282),AB1282=\"\"),\"\",X1282+1)","v":""},null,null,{"$f":"IF(OR(ISNUMBER(AE1282),AE1282=\"\"),\"\",AA1282+1)","v":""},{"$nulls":4},{"$f":"IF(A1282=\"\",\"\",IF(ISNUMBER(Y1282),2,IF(A1283=\"\",IF(OR(AK1282>0,VLOOKUP(O1282,EventConfig!A:C,3,FALSE)=4),3,\"\"),1)))","v":1},{"$f":"IF(AI1282=\"\",\"\",CHOOSE(AI1282,IF(AK1282=\"\",A1282+1,AK1282),CONCATENATE(IF(AK1282=\"\",A1282+1,AK1282),\";101\"),IF(AK1282=\"\",O1282+1,AK1282)))","v":914202},null,6479,9142]
[914202,6480,"击杀妖邪","",{"$nulls":5},100,{"$f":"IF(J1283=\"\",\"\",VLOOKUP(J1283,EventNPC!A:F,6,FALSE))","v":"玩家"},6481,"前辈先前许诺我的，以后可随意来采摘药材可否当真。",null,9142,2,"",null,null,{"$f":"IF(R1283=\"\",\"\",\"-\"&VLOOKUP(R1283,EventConditionConfig!A:C,3,FALSE)&IF(S1283=\"\",\"\",CHAR(10)&\"-\"&VLOOKUP(S1283,EventConditionConfig!A:C,3,FALSE)))","v":""},"","","","",null,null,"",null,null,"",{"$nulls":4},{"$f":"IF(A1283=\"\",\"\",IF(ISNUMBER(Y1283),2,IF(A1284=\"\",IF(OR(AK1283>0,VLOOKUP(O1283,EventConfig!A:C,3,FALSE)=4),3,\"\"),1)))","v":1},914203,null,6481,9142]
[914203,6480,"击杀妖邪","",{"$nulls":5},144,{"$f":"IF(J1284=\"\",\"\",VLOOKUP(J1284,EventNPC!A:F,6,FALSE))","v":"玄水真人"},6482,"当然当真，只是灵泉刚修复，药材的药性现在还不是最好，以后你要有药材需求随时前来。(后面开了炼丹再说吧)",null,9142,3,"",null,null,{"$f":"IF(R1284=\"\",\"\",\"-\"&VLOOKUP(R1284,EventConditionConfig!A:C,3,FALSE)&IF(S1284=\"\",\"\",CHAR(10)&\"-\"&VLOOKUP(S1284,EventConditionConfig!A:C,3,FALSE)))","v":""},"","","","",null,null,"",null,null,"",{"$nulls":4},{"$f":"IF(A1284=\"\",\"\",IF(ISNUMBER(Y1284),2,IF(A1285=\"\",IF(OR(AK1284>0,VLOOKUP(O1284,EventConfig!A:C,3,FALSE)=4),3,\"\"),1)))","v":1},914204,null,6482,9142]
[914204,6480,"击杀妖邪","",{"$nulls":5},100,{"$f":"IF(J1285=\"\",\"\",VLOOKUP(J1285,EventNPC!A:F,6,FALSE))","v":"玩家"},6483,"多谢前辈，那晚辈告辞。",null,9142,4,"",null,null,{"$f":"IF(R1285=\"\",\"\",\"-\"&VLOOKUP(R1285,EventConditionConfig!A:C,3,FALSE)&IF(S1285=\"\",\"\",CHAR(10)&\"-\"&VLOOKUP(S1285,EventConditionConfig!A:C,3,FALSE)))","v":""},"","","","",null,null,"",null,null,"",{"$nulls":4},{"$f":"IF(A1285=\"\",\"\",IF(ISNUMBER(Y1285),2,IF(A1286=\"\",IF(OR(AK1285>0,VLOOKUP(O1285,EventConfig!A:C,3,FALSE)=4),3,\"\"),1)))","v":1},914205,null,6483,9142]
[914205,6480,"击杀妖邪","",{"$nulls":5},144,{"$f":"IF(J1286=\"\",\"\",VLOOKUP(J1286,EventNPC!A:F,6,FALSE))","v":"玄水真人"},6484,"我看那山顶好似也有异样，如果要去上山还请多加小心。",null,9142,5,"",null,null,{"$f":"IF(R1286=\"\",\"\",\"-\"&VLOOKUP(R1286,EventConditionConfig!A:C,3,FALSE)&IF(S1286=\"\",\"\",CHAR(10)&\"-\"&VLOOKUP(S1286,EventConditionConfig!A:C,3,FALSE)))","v":""},"","","","",null,null,"",null,null,"",{"$nulls":4},{"$f":"IF(A1286=\"\",\"\",IF(ISNUMBER(Y1286),2,IF(A1287=\"\",IF(OR(AK1286>0,VLOOKUP(O1286,EventConfig!A:C,3,FALSE)=4),3,\"\"),1)))","v":1},914206,null,6484,9142]
[914206,6480,"击杀妖邪","",{"$nulls":5},100,{"$f":"IF(J1287=\"\",\"\",VLOOKUP(J1287,EventNPC!A:F,6,FALSE))","v":"玩家"},6485,"晚辈谨记。",null,9142,6,"",null,null,{"$f":"IF(R1287=\"\",\"\",\"-\"&VLOOKUP(R1287,EventConditionConfig!A:C,3,FALSE)&IF(S1287=\"\",\"\",CHAR(10)&\"-\"&VLOOKUP(S1287,EventConditionConfig!A:C,3,FALSE)))","v":""},"","","","",null,null,"",null,null,"",{"$nulls":4},{"$f":"IF(A1287=\"\",\"\",IF(ISNUMBER(Y1287),2,IF(A1288=\"\",IF(OR(AK1287>0,VLOOKUP(O1287,EventConfig!A:C,3,FALSE)=4),3,\"\"),1)))","v":""},"",null,6485,9142]
[{"$nulls":10},{"$f":"IF(J1288=\"\",\"\",VLOOKUP(J1288,EventNPC!A:F,6,FALSE))","v":""},{"$nulls":10},"","",{"$nulls":11},{"$f":"IF(A1288=\"\",\"\",IF(ISNUMBER(Y1288),2,IF(A1289=\"\",IF(OR(AK1288>0,VLOOKUP(O1288,EventConfig!A:C,3,FALSE)=4),3,\"\"),1)))","v":""},null,null,{"$f":"IF(A1288=\"\",\"\",MAX(B1288,D1288,L1288,X1288,AA1288,AL1287,AL1286,AD1288))","v":""},{"$f":"O1288","v":0}]
[{"$f":"O1289*100+P1289","v":914301},{"$f":"IF(C1289=\"\",\"\",IF(C1289=C1288,B1288,MAX(AL1288,AL1287)+1))","v":6486},"击杀妖邪",{"$f":"IF(E1289=\"\",\"\",IF(E1289=E1288,D1288,MAX(AL1288,AL1287,B1289)+1))","v":""},{"$nulls":5},131,{"$f":"IF(J1289=\"\",\"\",VLOOKUP(J1289,EventNPC!A:F,6,FALSE))","v":"馨儿"},{"$f":"IF(M1289=\"\",\"\",MAX(AL1288,AL1287,B1289,D1289)+1)","v":6487},"（高兴）：{0}道友，咱们又见面了",null,9143,{"$f":"IF(O1289=\"\",\"\",IF(O1289=O1288,P1288+1,1))","v":1},{"$f":"_xlfn.TEXTJOIN(\";\",1,R1289:S1289)","v":""},null,null,{"$f":"IF(R1289=\"\",\"\",\"-\"&VLOOKUP(R1289,EventConditionConfig!A:C,3,FALSE)&IF(S1289=\"\",\"\",CHAR(10)&\"-\"&VLOOKUP(S1289,EventConditionConfig!A:C,3,FALSE)))","v":""},{"$f":"IF(Y1289=\"\",\"\",IF(ISTEXT(Y1289),1,2))","v":""},"","",{"$f":"IF(OR(ISNUMBER(Y1289),Y1289=\"\"),\"\",MAX(AL1288,AL1286,B1289,D1289,L1289)+1)","v":""},null,null,{"$f":"IF(OR(ISNUMBER(AB1289),AB1289=\"\"),\"\",X1289+1)","v":""},null,null,{"$f":"IF(OR(ISNUMBER(AE1289),AE1289=\"\"),\"\",AA1289+1)","v":""},{"$nulls":4},{"$f":"IF(A1289=\"\",\"\",IF(ISNUMBER(Y1289),2,IF(A1290=\"\",IF(OR(AK1289>0,VLOOKUP(O1289,EventConfig!A:C,3,FALSE)=4),3,\"\"),1)))","v":1},{"$f":"IF(AI1289=\"\",\"\",CHOOSE(AI1289,IF(AK1289=\"\",A1289+1,AK1289),CONCATENATE(IF(AK1289=\"\",A1289+1,AK1289),\";101\"),IF(AK1289=\"\",O1289+1,AK1289)))","v":914302},null,6487,9143]
[914302,6486,"击杀妖邪","",{"$nulls":5},156,{"$f":"IF(J1290=\"\",\"\",VLOOKUP(J1290,EventNPC!A:F,6,FALSE))","v":"柳轻烟"},6488,"（惊讶）：你们也认识？",null,9143,2,"",null,null,{"$f":"IF(R1290=\"\",\"\",\"-\"&VLOOKUP(R1290,EventConditionConfig!A:C,3,FALSE)&IF(S1290=\"\",\"\",CHAR(10)&\"-\"&VLOOKUP(S1290,EventConditionConfig!A:C,3,FALSE)))","v":""},"","","","",null,null,"",null,null,"",{"$nulls":4},{"$f":"IF(A1290=\"\",\"\",IF(ISNUMBER(Y1290),2,IF(A1291=\"\",IF(OR(AK1290>0,VLOOKUP(O1290,EventConfig!A:C,3,FALSE)=4),3,\"\"),1)))","v":1},914303,null,6488,9143]
[914303,6486,"击杀妖邪","",{"$nulls":5},131,{"$f":"IF(J1291=\"\",\"\",VLOOKUP(J1291,EventNPC!A:F,6,FALSE))","v":"馨儿"},6489,"对呀！这位道友曾多次帮助与我。师姐也认识？",null,9143,3,"",null,null,{"$f":"IF(R1291=\"\",\"\",\"-\"&VLOOKUP(R1291,EventConditionConfig!A:C,3,FALSE)&IF(S1291=\"\",\"\",CHAR(10)&\"-\"&VLOOKUP(S1291,EventConditionConfig!A:C,3,FALSE)))","v":""},"","","","",null,null,"",null,null,"",{"$nulls":4},{"$f":"IF(A1291=\"\",\"\",IF(ISNUMBER(Y1291),2,IF(A1292=\"\",IF(OR(AK1291>0,VLOOKUP(O1291,EventConfig!A:C,3,FALSE)=4),3,\"\"),1)))","v":1},914304,null,6489,9143]
[914304,6486,"击杀妖邪","",{"$nulls":5},156,{"$f":"IF(J1292=\"\",\"\",VLOOKUP(J1292,EventNPC!A:F,6,FALSE))","v":"柳轻烟"},6490,"（打趣）：没想到{0}道友这么有女人缘呀！",null,9143,4,"",null,null,{"$f":"IF(R1292=\"\",\"\",\"-\"&VLOOKUP(R1292,EventConditionConfig!A:C,3,FALSE)&IF(S1292=\"\",\"\",CHAR(10)&\"-\"&VLOOKUP(S1292,EventConditionConfig!A:C,3,FALSE)))","v":""},"","",{"$f":"_xlfn.TEXTJOIN(\";\",1,X1292,AA1292,AD1292)","v":""},"",null,null,"",null,null,"",{"$nulls":4},{"$f":"IF(A1292=\"\",\"\",IF(ISNUMBER(Y1292),2,IF(A1293=\"\",IF(OR(AK1292>0,VLOOKUP(O1292,EventConfig!A:C,3,FALSE)=4),3,\"\"),1)))","v":1},914305,null,6490,9143]
[914305,6486,"击杀妖邪","",{"$nulls":5},100,{"$f":"IF(J1293=\"\",\"\",VLOOKUP(J1293,EventNPC!A:F,6,FALSE))","v":"玩家"},6491,"你们也在这里真是巧呀！你们来这里做什么？",null,9143,5,"",null,null,{"$f":"IF(R1293=\"\",\"\",\"-\"&VLOOKUP(R1293,EventConditionConfig!A:C,3,FALSE)&IF(S1293=\"\",\"\",CHAR(10)&\"-\"&VLOOKUP(S1293,EventConditionConfig!A:C,3,FALSE)))","v":""},"","","","",null,null,"",null,null,"",{"$nulls":4},{"$f":"IF(A1293=\"\",\"\",IF(ISNUMBER(Y1293),2,IF(A1294=\"\",IF(OR(AK1293>0,VLOOKUP(O1293,EventConfig!A:C,3,FALSE)=4),3,\"\"),1)))","v":1},914306,null,6491,9143]
[914306,6486,"击杀妖邪","",{"$nulls":5},131,{"$f":"IF(J1294=\"\",\"\",VLOOKUP(J1294,EventNPC!A:F,6,FALSE))","v":"馨儿"},6492,"宗门长老说仙山上空有异样，灵气波动异常，我和如烟师姐前来调查一番。",null,9143,6,"",null,null,{"$f":"IF(R1294=\"\",\"\",\"-\"&VLOOKUP(R1294,EventConditionConfig!A:C,3,FALSE)&IF(S1294=\"\",\"\",CHAR(10)&\"-\"&VLOOKUP(S1294,EventConditionConfig!A:C,3,FALSE)))","v":""},"",{"$f":"IF(U1294=1,_xlfn.TEXTJOIN(\";\",1,IF(Z1294=\"\",A1294+1,Z1294),IF(AND(AA1294<>\"\",AC1294=\"\"),A1294+1,AC1294),IF(AND(AD1294<>\"\",AF1294=\"\"),A1294+1,AF1294)),IF(U1294=2,Y1294,\"\"))","v":""},"","",null,null,"",null,null,"",{"$nulls":4},{"$f":"IF(A1294=\"\",\"\",IF(ISNUMBER(Y1294),2,IF(A1295=\"\",IF(OR(AK1294>0,VLOOKUP(O1294,EventConfig!A:C,3,FALSE)=4),3,\"\"),1)))","v":1},914307,null,6492,9143]
[914307,6486,"击杀妖邪","",{"$nulls":5},156,{"$f":"IF(J1295=\"\",\"\",VLOOKUP(J1295,EventNPC!A:F,6,FALSE))","v":"柳轻烟"},6493,"仙山异样非同小可，可能藏着大秘密。灵气波动中有股奇特气息吸引了不少妖物前来，道友可否帮助我们清理掉眼前的妖物？",null,9143,7,"",null,null,{"$f":"IF(R1295=\"\",\"\",\"-\"&VLOOKUP(R1295,EventConditionConfig!A:C,3,FALSE)&IF(S1295=\"\",\"\",CHAR(10)&\"-\"&VLOOKUP(S1295,EventConditionConfig!A:C,3,FALSE)))","v":""},"","","","",null,null,"",null,null,"",{"$nulls":4},{"$f":"IF(A1295=\"\",\"\",IF(ISNUMBER(Y1295),2,IF(A1296=\"\",IF(OR(AK1295>0,VLOOKUP(O1295,EventConfig!A:C,3,FALSE)=4),3,\"\"),1)))","v":1},914308,null,6493,9143]
[914308,6486,"击杀妖邪","",{"$nulls":5},100,{"$f":"IF(J1296=\"\",\"\",VLOOKUP(J1296,EventNPC!A:F,6,FALSE))","v":"玩家"},6494,"没问题！",null,9143,8,"",null,null,{"$f":"IF(R1296=\"\",\"\",\"-\"&VLOOKUP(R1296,EventConditionConfig!A:C,3,FALSE)&IF(S1296=\"\",\"\",CHAR(10)&\"-\"&VLOOKUP(S1296,EventConditionConfig!A:C,3,FALSE)))","v":""},"","","","",null,null,"",null,null,"",{"$nulls":4},{"$f":"IF(A1296=\"\",\"\",IF(ISNUMBER(Y1296),2,IF(A1297=\"\",IF(OR(AK1296>0,VLOOKUP(O1296,EventConfig!A:C,3,FALSE)=4),3,\"\"),1)))","v":1},914309,null,6494,9143]
[914309,6486,"击杀妖邪","",{"$nulls":5},156,{"$f":"IF(J1297=\"\",\"\",VLOOKUP(J1297,EventNPC!A:F,6,FALSE))","v":"柳轻烟"},6495,"多谢道友。",null,9143,9,"",null,null,{"$f":"IF(R1297=\"\",\"\",\"-\"&VLOOKUP(R1297,EventConditionConfig!A:C,3,FALSE)&IF(S1297=\"\",\"\",CHAR(10)&\"-\"&VLOOKUP(S1297,EventConditionConfig!A:C,3,FALSE)))","v":""},"","","","",null,null,"",null,null,"",{"$nulls":4},{"$f":"IF(A1297=\"\",\"\",IF(ISNUMBER(Y1297),2,IF(A1298=\"\",IF(OR(AK1297>0,VLOOKUP(O1297,EventConfig!A:C,3,FALSE)=4),3,\"\"),1)))","v":1},914310,null,6495,9143]
[914310,6486,"击杀妖邪","",{"$nulls":5},100,{"$f":"IF(J1298=\"\",\"\",VLOOKUP(J1298,EventNPC!A:F,6,FALSE))","v":"玩家"},6496,"事后可不能少了好处哟",null,9143,10,"",null,null,{"$f":"IF(R1298=\"\",\"\",\"-\"&VLOOKUP(R1298,EventConditionConfig!A:C,3,FALSE)&IF(S1298=\"\",\"\",CHAR(10)&\"-\"&VLOOKUP(S1298,EventConditionConfig!A:C,3,FALSE)))","v":""},"","","","",null,null,"",null,null,"",{"$nulls":4},{"$f":"IF(A1298=\"\",\"\",IF(ISNUMBER(Y1298),2,IF(A1299=\"\",IF(OR(AK1298>0,VLOOKUP(O1298,EventConfig!A:C,3,FALSE)=4),3,\"\"),1)))","v":1},914311,null,6496,9143]
[914311,6486,"击杀妖邪","",{"$nulls":5},156,{"$f":"IF(J1299=\"\",\"\",VLOOKUP(J1299,EventNPC!A:F,6,FALSE))","v":"柳轻烟"},6497,"哈哈！自当如此。",null,9143,11,"",null,null,{"$f":"IF(R1299=\"\",\"\",\"-\"&VLOOKUP(R1299,EventConditionConfig!A:C,3,FALSE)&IF(S1299=\"\",\"\",CHAR(10)&\"-\"&VLOOKUP(S1299,EventConditionConfig!A:C,3,FALSE)))","v":""},"","","","",null,null,"",null,null,"",{"$nulls":4},{"$f":"IF(A1299=\"\",\"\",IF(ISNUMBER(Y1299),2,IF(A1300=\"\",IF(OR(AK1299>0,VLOOKUP(O1299,EventConfig!A:C,3,FALSE)=4),3,\"\"),1)))","v":1},914312,null,6497,9143]
[914312,6486,"击杀妖邪","",{"$nulls":5},131,{"$f":"IF(J1300=\"\",\"\",VLOOKUP(J1300,EventNPC!A:F,6,FALSE))","v":"馨儿"},6498,"我和师姐解决东边的。西边的就交给你了。",null,9143,12,"",null,null,{"$f":"IF(R1300=\"\",\"\",\"-\"&VLOOKUP(R1300,EventConditionConfig!A:C,3,FALSE)&IF(S1300=\"\",\"\",CHAR(10)&\"-\"&VLOOKUP(S1300,EventConditionConfig!A:C,3,FALSE)))","v":""},"","","","",null,null,"",null,null,"",{"$nulls":4},{"$f":"IF(A1300=\"\",\"\",IF(ISNUMBER(Y1300),2,IF(A1301=\"\",IF(OR(AK1300>0,VLOOKUP(O1300,EventConfig!A:C,3,FALSE)=4),3,\"\"),1)))","v":""},"",null,6498,9143]
[{"$nulls":10},{"$f":"IF(J1301=\"\",\"\",VLOOKUP(J1301,EventNPC!A:F,6,FALSE))","v":""},{"$nulls":10},"","",{"$nulls":11},{"$f":"IF(A1301=\"\",\"\",IF(ISNUMBER(Y1301),2,IF(A1302=\"\",IF(OR(AK1301>0,VLOOKUP(O1301,EventConfig!A:C,3,FALSE)=4),3,\"\"),1)))","v":""},null,null,"",0]
[{"$f":"O1302*100+P1302","v":3002401},{"$f":"IF(C1302=\"\",\"\",IF(C1302=C1301,B1301,MAX(AL1301,AL1300)+1))","v":6499},"击杀妖邪",{"$f":"IF(E1302=\"\",\"\",IF(E1302=E1301,D1301,MAX(AL1301,AL1300,B1302)+1))","v":""},{"$nulls":5},131,{"$f":"IF(J1302=\"\",\"\",VLOOKUP(J1302,EventNPC!A:F,6,FALSE))","v":"馨儿"},{"$f":"IF(M1302=\"\",\"\",MAX(AL1301,AL1300,B1302,D1302)+1)","v":6500},"看来这里就是馨儿和柳如烟所说的妖物盘踞的地方了，应战",null,30024,{"$f":"IF(O1302=\"\",\"\",IF(O1302=O1301,P1301+1,1))","v":1},{"$f":"_xlfn.TEXTJOIN(\";\",1,R1302:S1302)","v":""},null,null,{"$f":"IF(R1302=\"\",\"\",\"-\"&VLOOKUP(R1302,EventConditionConfig!A:C,3,FALSE)&IF(S1302=\"\",\"\",CHAR(10)&\"-\"&VLOOKUP(S1302,EventConditionConfig!A:C,3,FALSE)))","v":""},{"$f":"IF(Y1302=\"\",\"\",IF(ISTEXT(Y1302),1,2))","v":2},4024,"",{"$f":"IF(OR(ISNUMBER(Y1302),Y1302=\"\"),\"\",MAX(AL1301,AL1299,B1302,D1302,L1302)+1)","v":""},4024,null,{"$f":"IF(OR(ISNUMBER(AB1302),AB1302=\"\"),\"\",X1302+1)","v":""},null,null,{"$f":"IF(OR(ISNUMBER(AE1302),AE1302=\"\"),\"\",AA1302+1)","v":""},{"$nulls":4},{"$f":"IF(A1302=\"\",\"\",IF(ISNUMBER(Y1302),2,IF(A1303=\"\",IF(OR(AK1302>0,VLOOKUP(O1302,EventConfig!A:C,3,FALSE)=4),3,\"\"),1)))","v":2},{"$f":"IF(AI1302=\"\",\"\",CHOOSE(AI1302,IF(AK1302=\"\",A1302+1,AK1302),CONCATENATE(IF(AK1302=\"\",A1302+1,AK1302),\";101\"),IF(AK1302=\"\",O1302+1,AK1302)))","v":"3002402;101"},null,6500,30024]
[{"$f":"O1303*100+P1303","v":3002402},{"$f":"IF(C1303=\"\",\"\",IF(C1303=C1302,B1302,MAX(AL1302,AL1301)+1))","v":6499},"击杀妖邪",{"$f":"IF(E1303=\"\",\"\",IF(E1303=E1302,D1302,MAX(AL1302,AL1301,B1303)+1))","v":""},{"$nulls":5},131,{"$f":"IF(J1303=\"\",\"\",VLOOKUP(J1303,EventNPC!A:F,6,FALSE))","v":"馨儿"},{"$f":"IF(M1303=\"\",\"\",MAX(AL1302,AL1301,B1303,D1303)+1)","v":6501},"呼~终于解决掉了",null,30024,{"$f":"IF(O1303=\"\",\"\",IF(O1303=O1302,P1302+1,1))","v":2},{"$f":"_xlfn.TEXTJOIN(\";\",1,R1303:S1303)","v":""},null,null,{"$f":"IF(R1303=\"\",\"\",\"-\"&VLOOKUP(R1303,EventConditionConfig!A:C,3,FALSE)&IF(S1303=\"\",\"\",CHAR(10)&\"-\"&VLOOKUP(S1303,EventConditionConfig!A:C,3,FALSE)))","v":""},{"$f":"IF(Y1303=\"\",\"\",IF(ISTEXT(Y1303),1,2))","v":""},"","",{"$f":"IF(OR(ISNUMBER(Y1303),Y1303=\"\"),\"\",MAX(AL1302,AL1300,B1303,D1303,L1303)+1)","v":""},null,null,{"$f":"IF(OR(ISNUMBER(AB1303),AB1303=\"\"),\"\",X1303+1)","v":""},null,null,{"$f":"IF(OR(ISNUMBER(AE1303),AE1303=\"\"),\"\",AA1303+1)","v":""},{"$nulls":4},{"$f":"IF(A1303=\"\",\"\",IF(ISNUMBER(Y1303),2,IF(A1304=\"\",IF(OR(AK1303>0,VLOOKUP(O1303,EventConfig!A:C,3,FALSE)=4),3,\"\"),1)))","v":""},{"$f":"IF(AI1303=\"\",\"\",CHOOSE(AI1303,IF(AK1303=\"\",A1303+1,AK1303),CONCATENATE(IF(AK1303=\"\",A1303+1,AK1303),\";101\"),IF(AK1303=\"\",O1303+1,AK1303)))","v":""},null,6501,30024]
[{"$nulls":10},{"$f":"IF(J1304=\"\",\"\",VLOOKUP(J1304,EventNPC!A:F,6,FALSE))","v":""},{"$nulls":10},"","",{"$nulls":11},{"$f":"IF(A1304=\"\",\"\",IF(ISNUMBER(Y1304),2,IF(A1305=\"\",IF(OR(AK1304>0,VLOOKUP(O1304,EventConfig!A:C,3,FALSE)=4),3,\"\"),1)))","v":""},null,null,"",0]
[{"$f":"O1305*100+P1305","v":914401},{"$f":"IF(C1305=\"\",\"\",IF(C1305=C1304,B1304,MAX(AL1304,AL1303)+1))","v":6502},"完成对话",{"$f":"IF(E1305=\"\",\"\",IF(E1305=E1304,D1304,MAX(AL1304,AL1303,B1305)+1))","v":""},{"$nulls":5},131,{"$f":"IF(J1305=\"\",\"\",VLOOKUP(J1305,EventNPC!A:F,6,FALSE))","v":"馨儿"},{"$f":"IF(M1305=\"\",\"\",MAX(AL1304,AL1303,B1305,D1305)+1)","v":6503},"终于清理掉了眼前这些，这些妖物真是烦人。还好有你相助。",null,9144,{"$f":"IF(O1305=\"\",\"\",IF(O1305=O1304,P1304+1,1))","v":1},{"$f":"_xlfn.TEXTJOIN(\";\",1,R1305:S1305)","v":"48"},48,null,{"$f":"IF(R1305=\"\",\"\",\"-\"&VLOOKUP(R1305,EventConditionConfig!A:C,3,FALSE)&IF(S1305=\"\",\"\",CHAR(10)&\"-\"&VLOOKUP(S1305,EventConditionConfig!A:C,3,FALSE)))","v":"-完成神识探索-消灭仙山山径西边的妖物"},{"$f":"IF(Y1305=\"\",\"\",IF(ISTEXT(Y1305),1,2))","v":""},"","",{"$f":"IF(OR(ISNUMBER(Y1305),Y1305=\"\"),\"\",MAX(AL1304,AL1302,B1305,D1305,L1305)+1)","v":""},null,null,{"$f":"IF(OR(ISNUMBER(AB1305),AB1305=\"\"),\"\",X1305+1)","v":""},null,null,{"$f":"IF(OR(ISNUMBER(AE1305),AE1305=\"\"),\"\",AA1305+1)","v":""},{"$nulls":4},{"$f":"IF(A1305=\"\",\"\",IF(ISNUMBER(Y1305),2,IF(A1306=\"\",IF(OR(AK1305>0,VLOOKUP(O1305,EventConfig!A:C,3,FALSE)=4),3,\"\"),1)))","v":1},{"$f":"IF(AI1305=\"\",\"\",CHOOSE(AI1305,IF(AK1305=\"\",A1305+1,AK1305),CONCATENATE(IF(AK1305=\"\",A1305+1,AK1305),\";101\"),IF(AK1305=\"\",O1305+1,AK1305)))","v":914402},null,6503,9144]
[{"$f":"O1306*100+P1306","v":914402},{"$f":"IF(C1306=\"\",\"\",IF(C1306=C1305,B1305,MAX(AL1305,AL1304)+1))","v":6502},"完成对话",{"$f":"IF(E1306=\"\",\"\",IF(E1306=E1305,D1305,MAX(AL1305,AL1304,B1306)+1))","v":""},{"$nulls":5},156,{"$f":"IF(J1306=\"\",\"\",VLOOKUP(J1306,EventNPC!A:F,6,FALSE))","v":"柳轻烟"},{"$f":"IF(M1306=\"\",\"\",MAX(AL1305,AL1304,B1306,D1306)+1)","v":6504},"多谢道友相助！我和师妹准备前往山顶，道友可否一路？",null,9144,{"$f":"IF(O1306=\"\",\"\",IF(O1306=O1305,P1305+1,1))","v":2},{"$f":"_xlfn.TEXTJOIN(\";\",1,R1306:S1306)","v":""},null,null,{"$f":"IF(R1306=\"\",\"\",\"-\"&VLOOKUP(R1306,EventConditionConfig!A:C,3,FALSE)&IF(S1306=\"\",\"\",CHAR(10)&\"-\"&VLOOKUP(S1306,EventConditionConfig!A:C,3,FALSE)))","v":""},{"$f":"IF(Y1306=\"\",\"\",IF(ISTEXT(Y1306),1,2))","v":""},"","",{"$f":"IF(OR(ISNUMBER(Y1306),Y1306=\"\"),\"\",MAX(AL1305,AL1303,B1306,D1306,L1306)+1)","v":""},null,null,{"$f":"IF(OR(ISNUMBER(AB1306),AB1306=\"\"),\"\",X1306+1)","v":""},null,null,{"$f":"IF(OR(ISNUMBER(AE1306),AE1306=\"\"),\"\",AA1306+1)","v":""},{"$nulls":4},{"$f":"IF(A1306=\"\",\"\",IF(ISNUMBER(Y1306),2,IF(A1307=\"\",IF(OR(AK1306>0,VLOOKUP(O1306,EventConfig!A:C,3,FALSE)=4),3,\"\"),1)))","v":1},{"$f":"IF(AI1306=\"\",\"\",CHOOSE(AI1306,IF(AK1306=\"\",A1306+1,AK1306),CONCATENATE(IF(AK1306=\"\",A1306+1,AK1306),\";101\"),IF(AK1306=\"\",O1306+1,AK1306)))","v":914403},null,6504,9144]
[{"$f":"O1307*100+P1307","v":914403},{"$f":"IF(C1307=\"\",\"\",IF(C1307=C1306,B1306,MAX(AL1306,AL1305)+1))","v":6502},"完成对话",{"$f":"IF(E1307=\"\",\"\",IF(E1307=E1306,D1306,MAX(AL1306,AL1305,B1307)+1))","v":""},{"$nulls":5},100,{"$f":"IF(J1307=\"\",\"\",VLOOKUP(J1307,EventNPC!A:F,6,FALSE))","v":"玩家"},{"$f":"IF(M1307=\"\",\"\",MAX(AL1306,AL1305,B1307,D1307)+1)","v":6505},"我还有一点自己的事情需要处理，你们先行。我们山顶相见。",null,9144,{"$f":"IF(O1307=\"\",\"\",IF(O1307=O1306,P1306+1,1))","v":3},{"$f":"_xlfn.TEXTJOIN(\";\",1,R1307:S1307)","v":""},null,null,{"$f":"IF(R1307=\"\",\"\",\"-\"&VLOOKUP(R1307,EventConditionConfig!A:C,3,FALSE)&IF(S1307=\"\",\"\",CHAR(10)&\"-\"&VLOOKUP(S1307,EventConditionConfig!A:C,3,FALSE)))","v":""},{"$f":"IF(Y1307=\"\",\"\",IF(ISTEXT(Y1307),1,2))","v":""},"","",{"$f":"IF(OR(ISNUMBER(Y1307),Y1307=\"\"),\"\",MAX(AL1306,AL1304,B1307,D1307,L1307)+1)","v":""},null,null,{"$f":"IF(OR(ISNUMBER(AB1307),AB1307=\"\"),\"\",X1307+1)","v":""},null,null,{"$f":"IF(OR(ISNUMBER(AE1307),AE1307=\"\"),\"\",AA1307+1)","v":""},{"$nulls":4},{"$f":"IF(A1307=\"\",\"\",IF(ISNUMBER(Y1307),2,IF(A1308=\"\",IF(OR(AK1307>0,VLOOKUP(O1307,EventConfig!A:C,3,FALSE)=4),3,\"\"),1)))","v":1},{"$f":"IF(AI1307=\"\",\"\",CHOOSE(AI1307,IF(AK1307=\"\",A1307+1,AK1307),CONCATENATE(IF(AK1307=\"\",A1307+1,AK1307),\";101\"),IF(AK1307=\"\",O1307+1,AK1307)))","v":914404},null,6505,9144]
[{"$f":"O1308*100+P1308","v":914404},{"$f":"IF(C1308=\"\",\"\",IF(C1308=C1307,B1307,MAX(AL1307,AL1306)+1))","v":6502},"完成对话",{"$f":"IF(E1308=\"\",\"\",IF(E1308=E1307,D1307,MAX(AL1307,AL1306,B1308)+1))","v":""},{"$nulls":5},156,{"$f":"IF(J1308=\"\",\"\",VLOOKUP(J1308,EventNPC!A:F,6,FALSE))","v":"柳轻烟"},{"$f":"IF(M1308=\"\",\"\",MAX(AL1307,AL1306,B1308,D1308)+1)","v":6506},"那道友保重！",null,9144,{"$f":"IF(O1308=\"\",\"\",IF(O1308=O1307,P1307+1,1))","v":4},{"$f":"_xlfn.TEXTJOIN(\";\",1,R1308:S1308)","v":""},null,null,{"$f":"IF(R1308=\"\",\"\",\"-\"&VLOOKUP(R1308,EventConditionConfig!A:C,3,FALSE)&IF(S1308=\"\",\"\",CHAR(10)&\"-\"&VLOOKUP(S1308,EventConditionConfig!A:C,3,FALSE)))","v":""},{"$f":"IF(Y1308=\"\",\"\",IF(ISTEXT(Y1308),1,2))","v":""},"","",{"$f":"IF(OR(ISNUMBER(Y1308),Y1308=\"\"),\"\",MAX(AL1307,AL1305,B1308,D1308,L1308)+1)","v":""},null,null,{"$f":"IF(OR(ISNUMBER(AB1308),AB1308=\"\"),\"\",X1308+1)","v":""},null,null,{"$f":"IF(OR(ISNUMBER(AE1308),AE1308=\"\"),\"\",AA1308+1)","v":""},{"$nulls":4},{"$f":"IF(A1308=\"\",\"\",IF(ISNUMBER(Y1308),2,IF(A1309=\"\",IF(OR(AK1308>0,VLOOKUP(O1308,EventConfig!A:C,3,FALSE)=4),3,\"\"),1)))","v":""},{"$f":"IF(AI1308=\"\",\"\",CHOOSE(AI1308,IF(AK1308=\"\",A1308+1,AK1308),CONCATENATE(IF(AK1308=\"\",A1308+1,AK1308),\";101\"),IF(AK1308=\"\",O1308+1,AK1308)))","v":""},null,6506,9144]
[{"$nulls":10},{"$f":"IF(J1309=\"\",\"\",VLOOKUP(J1309,EventNPC!A:F,6,FALSE))","v":""},{"$nulls":10},"","",{"$nulls":11},{"$f":"IF(A1309=\"\",\"\",IF(ISNUMBER(Y1309),2,IF(A1310=\"\",IF(OR(AK1309>0,VLOOKUP(O1309,EventConfig!A:C,3,FALSE)=4),3,\"\"),1)))","v":""},null,null,"",0]
[{"$f":"O1310*100+P1310","v":914501},{"$f":"IF(C1310=\"\",\"\",IF(C1310=C1309,B1309,MAX(AL1309,AL1308)+1))","v":6507},"完成对话",{"$f":"IF(E1310=\"\",\"\",IF(E1310=E1309,D1309,MAX(AL1309,AL1308,B1310)+1))","v":""},{"$nulls":5},156,{"$f":"IF(J1310=\"\",\"\",VLOOKUP(J1310,EventNPC!A:F,6,FALSE))","v":"柳轻烟"},{"$f":"IF(M1310=\"\",\"\",MAX(AL1309,AL1308,B1310,D1310)+1)","v":6508},"此处好像在举行什么仪式？",null,9145,{"$f":"IF(O1310=\"\",\"\",IF(O1310=O1309,P1309+1,1))","v":1},{"$f":"_xlfn.TEXTJOIN(\";\",1,R1310:S1310)","v":""},null,null,{"$f":"IF(R1310=\"\",\"\",\"-\"&VLOOKUP(R1310,EventConditionConfig!A:C,3,FALSE)&IF(S1310=\"\",\"\",CHAR(10)&\"-\"&VLOOKUP(S1310,EventConditionConfig!A:C,3,FALSE)))","v":""},{"$f":"IF(Y1310=\"\",\"\",IF(ISTEXT(Y1310),1,2))","v":""},"","",{"$f":"IF(OR(ISNUMBER(Y1310),Y1310=\"\"),\"\",MAX(AL1309,AL1307,B1310,D1310,L1310)+1)","v":""},null,null,{"$f":"IF(OR(ISNUMBER(AB1310),AB1310=\"\"),\"\",X1310+1)","v":""},null,null,{"$f":"IF(OR(ISNUMBER(AE1310),AE1310=\"\"),\"\",AA1310+1)","v":""},{"$nulls":4},{"$f":"IF(A1310=\"\",\"\",IF(ISNUMBER(Y1310),2,IF(A1311=\"\",IF(OR(AK1310>0,VLOOKUP(O1310,EventConfig!A:C,3,FALSE)=4),3,\"\"),1)))","v":1},{"$f":"IF(AI1310=\"\",\"\",CHOOSE(AI1310,IF(AK1310=\"\",A1310+1,AK1310),CONCATENATE(IF(AK1310=\"\",A1310+1,AK1310),\";101\"),IF(AK1310=\"\",O1310+1,AK1310)))","v":914502},null,6508,9145]
[914502,6507,"完成对话","",{"$nulls":5},131,{"$f":"IF(J1311=\"\",\"\",VLOOKUP(J1311,EventNPC!A:F,6,FALSE))","v":"馨儿"},6509,"哇！灵气乱得像要炸，难怪上空云雾翻得那么疯！这地方绝对不简单！喂，你看这大妖，守在这儿，八成是护着啥宝贝！",null,9145,2,"",null,null,{"$f":"IF(R1311=\"\",\"\",\"-\"&VLOOKUP(R1311,EventConditionConfig!A:C,3,FALSE)&IF(S1311=\"\",\"\",CHAR(10)&\"-\"&VLOOKUP(S1311,EventConditionConfig!A:C,3,FALSE)))","v":""},"","","","",null,null,"",null,null,"",{"$nulls":4},{"$f":"IF(A1311=\"\",\"\",IF(ISNUMBER(Y1311),2,IF(A1312=\"\",IF(OR(AK1311>0,VLOOKUP(O1311,EventConfig!A:C,3,FALSE)=4),3,\"\"),1)))","v":1},914503,null,6509,9145]
[914503,6507,"完成对话","",{"$nulls":5},156,{"$f":"IF(J1312=\"\",\"\",VLOOKUP(J1312,EventNPC!A:F,6,FALSE))","v":"柳轻烟"},6510,"灵脉气息带着一股古老威压，似是传说中的禁地……我曾听师尊提过，仙山上古时期乃是龙族的地盘，莫非与此有关？",null,9145,3,"",null,null,{"$f":"IF(R1312=\"\",\"\",\"-\"&VLOOKUP(R1312,EventConditionConfig!A:C,3,FALSE)&IF(S1312=\"\",\"\",CHAR(10)&\"-\"&VLOOKUP(S1312,EventConditionConfig!A:C,3,FALSE)))","v":""},"","","","",null,null,"",null,null,"",{"$nulls":4},{"$f":"IF(A1312=\"\",\"\",IF(ISNUMBER(Y1312),2,IF(A1313=\"\",IF(OR(AK1312>0,VLOOKUP(O1312,EventConfig!A:C,3,FALSE)=4),3,\"\"),1)))","v":1},914504,null,6510,9145]
[914504,6507,"完成对话","",{"$nulls":5},100,{"$f":"IF(J1313=\"\",\"\",VLOOKUP(J1313,EventNPC!A:F,6,FALSE))","v":"玩家"},6511,"龙族？我从未听说过。",null,9145,4,"",null,null,{"$f":"IF(R1313=\"\",\"\",\"-\"&VLOOKUP(R1313,EventConditionConfig!A:C,3,FALSE)&IF(S1313=\"\",\"\",CHAR(10)&\"-\"&VLOOKUP(S1313,EventConditionConfig!A:C,3,FALSE)))","v":""},"","","","",null,null,"",null,null,"",{"$nulls":4},{"$f":"IF(A1313=\"\",\"\",IF(ISNUMBER(Y1313),2,IF(A1314=\"\",IF(OR(AK1313>0,VLOOKUP(O1313,EventConfig!A:C,3,FALSE)=4),3,\"\"),1)))","v":1},914505,null,6511,9145]
[914505,6507,"完成对话","",{"$nulls":5},156,{"$f":"IF(J1314=\"\",\"\",VLOOKUP(J1314,EventNPC!A:F,6,FALSE))","v":"柳轻烟"},6512,"龙族是上古时期最强妖族，后因上古之战全数陨落。这世间便再也没有龙族了。你没听说过很正常，我也只是听师尊偶然间提起。",null,9145,5,"",null,null,{"$f":"IF(R1314=\"\",\"\",\"-\"&VLOOKUP(R1314,EventConditionConfig!A:C,3,FALSE)&IF(S1314=\"\",\"\",CHAR(10)&\"-\"&VLOOKUP(S1314,EventConditionConfig!A:C,3,FALSE)))","v":""},"","","","",null,null,"",null,null,"",{"$nulls":4},{"$f":"IF(A1314=\"\",\"\",IF(ISNUMBER(Y1314),2,IF(A1315=\"\",IF(OR(AK1314>0,VLOOKUP(O1314,EventConfig!A:C,3,FALSE)=4),3,\"\"),1)))","v":1},914506,null,6512,9145]
[914506,6507,"完成对话","",{"$nulls":5},145,{"$f":"IF(J1315=\"\",\"\",VLOOKUP(J1315,EventNPC!A:F,6,FALSE))","v":"云霄龙鹰"},6513,"（从远处飞来）：（咆哮）：“无知小辈，此处圣地岂是尔等该来之地，赶快离开饶你们不死！”",null,9145,6,"",null,null,{"$f":"IF(R1315=\"\",\"\",\"-\"&VLOOKUP(R1315,EventConditionConfig!A:C,3,FALSE)&IF(S1315=\"\",\"\",CHAR(10)&\"-\"&VLOOKUP(S1315,EventConditionConfig!A:C,3,FALSE)))","v":""},"","","","",null,null,"",null,null,"",{"$nulls":4},{"$f":"IF(A1315=\"\",\"\",IF(ISNUMBER(Y1315),2,IF(A1316=\"\",IF(OR(AK1315>0,VLOOKUP(O1315,EventConfig!A:C,3,FALSE)=4),3,\"\"),1)))","v":1},914507,null,6513,9145]
[914507,6507,"完成对话","",{"$nulls":5},131,{"$f":"IF(J1316=\"\",\"\",VLOOKUP(J1316,EventNPC!A:F,6,FALSE))","v":"馨儿"},6514,"这大妖口气不小，啥圣地不圣地的，估计是吓唬人！灵脉这么强，八成藏着大宝贝！",null,9145,7,"",null,null,{"$f":"IF(R1316=\"\",\"\",\"-\"&VLOOKUP(R1316,EventConditionConfig!A:C,3,FALSE)&IF(S1316=\"\",\"\",CHAR(10)&\"-\"&VLOOKUP(S1316,EventConditionConfig!A:C,3,FALSE)))","v":""},"","","","",null,null,"",null,null,"",{"$nulls":4},{"$f":"IF(A1316=\"\",\"\",IF(ISNUMBER(Y1316),2,IF(A1317=\"\",IF(OR(AK1316>0,VLOOKUP(O1316,EventConfig!A:C,3,FALSE)=4),3,\"\"),1)))","v":1},914508,null,6514,9145]
[914508,6507,"完成对话","",{"$nulls":5},156,{"$f":"IF(J1317=\"\",\"\",VLOOKUP(J1317,EventNPC!A:F,6,FALSE))","v":"柳轻烟"},6515,"妖兽提及圣地，灵脉气息的确古老威严，似有非凡物。",null,9145,8,"",null,null,{"$f":"IF(R1317=\"\",\"\",\"-\"&VLOOKUP(R1317,EventConditionConfig!A:C,3,FALSE)&IF(S1317=\"\",\"\",CHAR(10)&\"-\"&VLOOKUP(S1317,EventConditionConfig!A:C,3,FALSE)))","v":""},"","","","",null,null,"",null,null,"",{"$nulls":4},{"$f":"IF(A1317=\"\",\"\",IF(ISNUMBER(Y1317),2,IF(A1318=\"\",IF(OR(AK1317>0,VLOOKUP(O1317,EventConfig!A:C,3,FALSE)=4),3,\"\"),1)))","v":1},914509,null,6515,9145]
[914509,6507,"完成对话","",{"$nulls":5},145,{"$f":"IF(J1318=\"\",\"\",VLOOKUP(J1318,EventNPC!A:F,6,FALSE))","v":"云霄龙鹰"},6516,"圣地之秘，尔等无权触碰！受死！",null,9145,9,"",null,null,{"$f":"IF(R1318=\"\",\"\",\"-\"&VLOOKUP(R1318,EventConditionConfig!A:C,3,FALSE)&IF(S1318=\"\",\"\",CHAR(10)&\"-\"&VLOOKUP(S1318,EventConditionConfig!A:C,3,FALSE)))","v":""},"","","","",null,null,"",null,null,"",{"$nulls":4},{"$f":"IF(A1318=\"\",\"\",IF(ISNUMBER(Y1318),2,IF(A1319=\"\",IF(OR(AK1318>0,VLOOKUP(O1318,EventConfig!A:C,3,FALSE)=4),3,\"\"),1)))","v":1},914510,null,6516,9145]
[914510,6517,"击杀妖邪","",{"$nulls":5},131,{"$f":"IF(J1319=\"\",\"\",VLOOKUP(J1319,EventNPC!A:F,6,FALSE))","v":"馨儿"},6518,"{0}道友，你来输出，我和如烟师姐帮你牵制它！",null,9145,10,"",null,null,{"$f":"IF(R1319=\"\",\"\",\"-\"&VLOOKUP(R1319,EventConditionConfig!A:C,3,FALSE)&IF(S1319=\"\",\"\",CHAR(10)&\"-\"&VLOOKUP(S1319,EventConditionConfig!A:C,3,FALSE)))","v":""},2,4025,"","",4025,null,"",null,null,"",{"$nulls":4},{"$f":"IF(A1319=\"\",\"\",IF(ISNUMBER(Y1319),2,IF(A1320=\"\",IF(OR(AK1319>0,VLOOKUP(O1319,EventConfig!A:C,3,FALSE)=4),3,\"\"),1)))","v":2},"914511;101",null,6518,9145]
[914511,6519,"完成对话","",{"$nulls":5},145,{"$f":"IF(J1320=\"\",\"\",VLOOKUP(J1320,EventNPC!A:F,6,FALSE))","v":"云霄龙鹰"},6520,"（奄奄一息，小声低语）：仪式终究没有完成，不过终于一日龙族会再现世间…",null,9145,11,"",null,null,{"$f":"IF(R1320=\"\",\"\",\"-\"&VLOOKUP(R1320,EventConditionConfig!A:C,3,FALSE)&IF(S1320=\"\",\"\",CHAR(10)&\"-\"&VLOOKUP(S1320,EventConditionConfig!A:C,3,FALSE)))","v":""},"","","","",null,null,"",null,null,"",{"$nulls":4},{"$f":"IF(A1320=\"\",\"\",IF(ISNUMBER(Y1320),2,IF(A1321=\"\",IF(OR(AK1320>0,VLOOKUP(O1320,EventConfig!A:C,3,FALSE)=4),3,\"\"),1)))","v":1},914512,null,6520,9145]
[914512,6519,"完成对话","",{"$nulls":5},131,{"$f":"IF(J1321=\"\",\"\",VLOOKUP(J1321,EventNPC!A:F,6,FALSE))","v":"馨儿"},6521,"哈哈！大妖倒了！这云霄龙鹰还真猛，差点让我飞剑断弦！{0}道友，你太强了！",null,9145,12,"",null,null,{"$f":"IF(R1321=\"\",\"\",\"-\"&VLOOKUP(R1321,EventConditionConfig!A:C,3,FALSE)&IF(S1321=\"\",\"\",CHAR(10)&\"-\"&VLOOKUP(S1321,EventConditionConfig!A:C,3,FALSE)))","v":""},"","","","",null,null,"",null,null,"",{"$nulls":4},{"$f":"IF(A1321=\"\",\"\",IF(ISNUMBER(Y1321),2,IF(A1322=\"\",IF(OR(AK1321>0,VLOOKUP(O1321,EventConfig!A:C,3,FALSE)=4),3,\"\"),1)))","v":1},914513,null,6521,9145]
[914513,6519,"完成对话","",{"$nulls":5},131,{"$f":"IF(J1322=\"\",\"\",VLOOKUP(J1322,EventNPC!A:F,6,FALSE))","v":"馨儿"},6522,"灵脉核心就在前面，我们去一探究竟。（天空中的灵气缓缓的归于平静）",null,9145,13,"",null,null,{"$f":"IF(R1322=\"\",\"\",\"-\"&VLOOKUP(R1322,EventConditionConfig!A:C,3,FALSE)&IF(S1322=\"\",\"\",CHAR(10)&\"-\"&VLOOKUP(S1322,EventConditionConfig!A:C,3,FALSE)))","v":""},"","","","",null,null,"",null,null,"",{"$nulls":4},{"$f":"IF(A1322=\"\",\"\",IF(ISNUMBER(Y1322),2,IF(A1323=\"\",IF(OR(AK1322>0,VLOOKUP(O1322,EventConfig!A:C,3,FALSE)=4),3,\"\"),1)))","v":""},"",null,6522,9145]
[{"$nulls":10},{"$f":"IF(J1323=\"\",\"\",VLOOKUP(J1323,EventNPC!A:F,6,FALSE))","v":""},{"$nulls":10},"","",{"$nulls":11},{"$f":"IF(A1323=\"\",\"\",IF(ISNUMBER(Y1323),2,IF(A1324=\"\",IF(OR(AK1323>0,VLOOKUP(O1323,EventConfig!A:C,3,FALSE)=4),3,\"\"),1)))","v":""},null,null,"",0]
[{"$f":"O1324*100+P1324","v":914601},{"$f":"IF(C1324=\"\",\"\",IF(C1324=C1323,B1323,MAX(AL1323,AL1322)+1))","v":6523},"完成对话",{"$f":"IF(E1324=\"\",\"\",IF(E1324=E1323,D1323,MAX(AL1323,AL1322,B1324)+1))","v":""},{"$nulls":5},131,{"$f":"IF(J1324=\"\",\"\",VLOOKUP(J1324,EventNPC!A:F,6,FALSE))","v":"馨儿"},{"$f":"IF(M1324=\"\",\"\",MAX(AL1323,AL1322,B1324,D1324)+1)","v":6524},"这里有一扇门，我们试试能不能打开。（柳如烟一起施法也无法打开）",null,9146,{"$f":"IF(O1324=\"\",\"\",IF(O1324=O1323,P1323+1,1))","v":1},{"$f":"_xlfn.TEXTJOIN(\";\",1,R1324:S1324)","v":""},null,null,{"$f":"IF(R1324=\"\",\"\",\"-\"&VLOOKUP(R1324,EventConditionConfig!A:C,3,FALSE)&IF(S1324=\"\",\"\",CHAR(10)&\"-\"&VLOOKUP(S1324,EventConditionConfig!A:C,3,FALSE)))","v":""},{"$f":"IF(Y1324=\"\",\"\",IF(ISTEXT(Y1324),1,2))","v":""},"","",{"$f":"IF(OR(ISNUMBER(Y1324),Y1324=\"\"),\"\",MAX(AL1323,AL1321,B1324,D1324,L1324)+1)","v":""},null,null,{"$f":"IF(OR(ISNUMBER(AB1324),AB1324=\"\"),\"\",X1324+1)","v":""},null,null,{"$f":"IF(OR(ISNUMBER(AE1324),AE1324=\"\"),\"\",AA1324+1)","v":""},{"$nulls":4},{"$f":"IF(A1324=\"\",\"\",IF(ISNUMBER(Y1324),2,IF(A1325=\"\",IF(OR(AK1324>0,VLOOKUP(O1324,EventConfig!A:C,3,FALSE)=4),3,\"\"),1)))","v":1},{"$f":"IF(AI1324=\"\",\"\",CHOOSE(AI1324,IF(AK1324=\"\",A1324+1,AK1324),CONCATENATE(IF(AK1324=\"\",A1324+1,AK1324),\";101\"),IF(AK1324=\"\",O1324+1,AK1324)))","v":914602},null,6524,9146]
[914602,6523,"完成对话","",{"$nulls":5},131,{"$f":"IF(J1325=\"\",\"\",VLOOKUP(J1325,EventNPC!A:F,6,FALSE))","v":"馨儿"},6525,"打不开怎么办？看着宝贝却不能拿。",null,9146,2,"",null,null,{"$f":"IF(R1325=\"\",\"\",\"-\"&VLOOKUP(R1325,EventConditionConfig!A:C,3,FALSE)&IF(S1325=\"\",\"\",CHAR(10)&\"-\"&VLOOKUP(S1325,EventConditionConfig!A:C,3,FALSE)))","v":""},"","","","",null,null,"",null,null,"",{"$nulls":4},{"$f":"IF(A1325=\"\",\"\",IF(ISNUMBER(Y1325),2,IF(A1326=\"\",IF(OR(AK1325>0,VLOOKUP(O1325,EventConfig!A:C,3,FALSE)=4),3,\"\"),1)))","v":1},914603,null,6525,9146]
[914603,6523,"完成对话","",{"$nulls":5},156,{"$f":"IF(J1326=\"\",\"\",VLOOKUP(J1326,EventNPC!A:F,6,FALSE))","v":"柳轻烟"},6526,"等等。你们看这石门上有几个凹槽，看起来是要什么物品才能开启此门。",null,9146,3,"",null,null,{"$f":"IF(R1326=\"\",\"\",\"-\"&VLOOKUP(R1326,EventConditionConfig!A:C,3,FALSE)&IF(S1326=\"\",\"\",CHAR(10)&\"-\"&VLOOKUP(S1326,EventConditionConfig!A:C,3,FALSE)))","v":""},"","","","",null,null,"",null,null,"",{"$nulls":4},{"$f":"IF(A1326=\"\",\"\",IF(ISNUMBER(Y1326),2,IF(A1327=\"\",IF(OR(AK1326>0,VLOOKUP(O1326,EventConfig!A:C,3,FALSE)=4),3,\"\"),1)))","v":1},914604,null,6526,9146]
[914604,6523,"完成对话","",{"$nulls":5},156,{"$f":"IF(J1327=\"\",\"\",VLOOKUP(J1327,EventNPC!A:F,6,FALSE))","v":"柳轻烟"},6527,"（仔细观摩）：上面的形状像是一片鳞甲。",null,9146,4,"",null,null,{"$f":"IF(R1327=\"\",\"\",\"-\"&VLOOKUP(R1327,EventConditionConfig!A:C,3,FALSE)&IF(S1327=\"\",\"\",CHAR(10)&\"-\"&VLOOKUP(S1327,EventConditionConfig!A:C,3,FALSE)))","v":""},"","","","",null,null,"",null,null,"",{"$nulls":4},{"$f":"IF(A1327=\"\",\"\",IF(ISNUMBER(Y1327),2,IF(A1328=\"\",IF(OR(AK1327>0,VLOOKUP(O1327,EventConfig!A:C,3,FALSE)=4),3,\"\"),1)))","v":1},914605,null,6527,9146]
[914605,6523,"完成对话","",{"$nulls":5},100,{"$f":"IF(J1328=\"\",\"\",VLOOKUP(J1328,EventNPC!A:F,6,FALSE))","v":"玩家"},6528,"难道这是龙族圣地，以前听说过，我这里有几片龙鳞，但好像数量不够。",null,9146,5,"",null,null,{"$f":"IF(R1328=\"\",\"\",\"-\"&VLOOKUP(R1328,EventConditionConfig!A:C,3,FALSE)&IF(S1328=\"\",\"\",CHAR(10)&\"-\"&VLOOKUP(S1328,EventConditionConfig!A:C,3,FALSE)))","v":""},"","","","",null,null,"",null,null,"",{"$nulls":4},{"$f":"IF(A1328=\"\",\"\",IF(ISNUMBER(Y1328),2,IF(A1329=\"\",IF(OR(AK1328>0,VLOOKUP(O1328,EventConfig!A:C,3,FALSE)=4),3,\"\"),1)))","v":1},914606,null,6528,9146]
[914606,6523,"完成对话","",{"$nulls":5},131,{"$f":"IF(J1329=\"\",\"\",VLOOKUP(J1329,EventNPC!A:F,6,FALSE))","v":"馨儿"},6529,"（惊讶）啊，这不是上次我不要的东西吗？居然是个宝！",null,9146,6,"",null,null,{"$f":"IF(R1329=\"\",\"\",\"-\"&VLOOKUP(R1329,EventConditionConfig!A:C,3,FALSE)&IF(S1329=\"\",\"\",CHAR(10)&\"-\"&VLOOKUP(S1329,EventConditionConfig!A:C,3,FALSE)))","v":""},"","","","",null,null,"",null,null,"",{"$nulls":4},{"$f":"IF(A1329=\"\",\"\",IF(ISNUMBER(Y1329),2,IF(A1330=\"\",IF(OR(AK1329>0,VLOOKUP(O1329,EventConfig!A:C,3,FALSE)=4),3,\"\"),1)))","v":1},914607,null,6529,9146]
[914607,6523,"完成对话","",{"$nulls":5},100,{"$f":"IF(J1330=\"\",\"\",VLOOKUP(J1330,EventNPC!A:F,6,FALSE))","v":"玩家"},6530,"这叫什么？有眼什么。。。",null,9146,7,"",null,null,{"$f":"IF(R1330=\"\",\"\",\"-\"&VLOOKUP(R1330,EventConditionConfig!A:C,3,FALSE)&IF(S1330=\"\",\"\",CHAR(10)&\"-\"&VLOOKUP(S1330,EventConditionConfig!A:C,3,FALSE)))","v":""},"","","","",null,null,"",null,null,"",{"$nulls":4},{"$f":"IF(A1330=\"\",\"\",IF(ISNUMBER(Y1330),2,IF(A1331=\"\",IF(OR(AK1330>0,VLOOKUP(O1330,EventConfig!A:C,3,FALSE)=4),3,\"\"),1)))","v":1},914608,null,6530,9146]
[914608,6523,"完成对话","",{"$nulls":5},131,{"$f":"IF(J1331=\"\",\"\",VLOOKUP(J1331,EventNPC!A:F,6,FALSE))","v":"馨儿"},6531,"(生气)找死！",null,9146,8,"",null,null,{"$f":"IF(R1331=\"\",\"\",\"-\"&VLOOKUP(R1331,EventConditionConfig!A:C,3,FALSE)&IF(S1331=\"\",\"\",CHAR(10)&\"-\"&VLOOKUP(S1331,EventConditionConfig!A:C,3,FALSE)))","v":""},"","","","",null,null,"",null,null,"",{"$nulls":4},{"$f":"IF(A1331=\"\",\"\",IF(ISNUMBER(Y1331),2,IF(A1332=\"\",IF(OR(AK1331>0,VLOOKUP(O1331,EventConfig!A:C,3,FALSE)=4),3,\"\"),1)))","v":1},914609,null,6531,9146]
[914609,6523,"完成对话","",{"$nulls":5},156,{"$f":"IF(J1332=\"\",\"\",VLOOKUP(J1332,EventNPC!A:F,6,FALSE))","v":"柳轻烟"},6532,"龙族圣地？此事关系重大我得和师妹赶快回宗门禀报师尊。",null,9146,9,"",null,null,{"$f":"IF(R1332=\"\",\"\",\"-\"&VLOOKUP(R1332,EventConditionConfig!A:C,3,FALSE)&IF(S1332=\"\",\"\",CHAR(10)&\"-\"&VLOOKUP(S1332,EventConditionConfig!A:C,3,FALSE)))","v":""},"","","","",null,null,"",null,null,"",{"$nulls":4},{"$f":"IF(A1332=\"\",\"\",IF(ISNUMBER(Y1332),2,IF(A1333=\"\",IF(OR(AK1332>0,VLOOKUP(O1332,EventConfig!A:C,3,FALSE)=4),3,\"\"),1)))","v":1},914610,null,6532,9146]
[914610,6523,"完成对话","",{"$nulls":5},131,{"$f":"IF(J1333=\"\",\"\",VLOOKUP(J1333,EventNPC!A:F,6,FALSE))","v":"馨儿"},6533,"下次遇见再收拾你。",null,9146,10,"",null,null,{"$f":"IF(R1333=\"\",\"\",\"-\"&VLOOKUP(R1333,EventConditionConfig!A:C,3,FALSE)&IF(S1333=\"\",\"\",CHAR(10)&\"-\"&VLOOKUP(S1333,EventConditionConfig!A:C,3,FALSE)))","v":""},"","","","",null,null,"",null,null,"",{"$nulls":4},{"$f":"IF(A1333=\"\",\"\",IF(ISNUMBER(Y1333),2,IF(A1334=\"\",IF(OR(AK1333>0,VLOOKUP(O1333,EventConfig!A:C,3,FALSE)=4),3,\"\"),1)))","v":1},914611,null,6533,9146]
[914611,6523,"完成对话","",{"$nulls":5},100,{"$f":"IF(J1334=\"\",\"\",VLOOKUP(J1334,EventNPC!A:F,6,FALSE))","v":"玩家"},6534,"那二位路上小心。",null,9146,11,"",null,null,{"$f":"IF(R1334=\"\",\"\",\"-\"&VLOOKUP(R1334,EventConditionConfig!A:C,3,FALSE)&IF(S1334=\"\",\"\",CHAR(10)&\"-\"&VLOOKUP(S1334,EventConditionConfig!A:C,3,FALSE)))","v":""},"","","","",null,null,"",null,null,"",{"$nulls":4},{"$f":"IF(A1334=\"\",\"\",IF(ISNUMBER(Y1334),2,IF(A1335=\"\",IF(OR(AK1334>0,VLOOKUP(O1334,EventConfig!A:C,3,FALSE)=4),3,\"\"),1)))","v":""},"",null,6534,9146]
[{"$nulls":10},{"$f":"IF(J1335=\"\",\"\",VLOOKUP(J1335,EventNPC!A:F,6,FALSE))","v":""},{"$nulls":26},"",0]
[{"$f":"O1336*100+P1336","v":914701},{"$f":"IF(C1336=\"\",\"\",IF(C1336=C1335,B1335,MAX(AL1335,AL1334)+1))","v":6535},"完成对话",{"$f":"IF(E1336=\"\",\"\",IF(E1336=E1335,D1335,MAX(AL1335,AL1334,B1336)+1))","v":""},{"$nulls":6},{"$f":"IF(J1336=\"\",\"\",VLOOKUP(J1336,EventNPC!A:F,6,FALSE))","v":""},{"$f":"IF(M1336=\"\",\"\",MAX(AL1335,AL1334,B1336,D1336)+1)","v":6536},"一条大眼睛的鱼扑腾冒头，居然开口说话：\n “仙长啊！小鱼本是鲤族，误吞污水，灵脉受损，如今奄奄一息……若有灵丹一颗，或许能续命！”\n 鱼还挤了几滴“眼泪”，浮在水面打滚。",null,9147,{"$f":"IF(O1336=\"\",\"\",IF(O1336=O1335,P1335+1,1))","v":1},{"$f":"_xlfn.TEXTJOIN(\";\",1,R1336:S1336)","v":""},null,null,{"$f":"IF(R1336=\"\",\"\",\"-\"&VLOOKUP(R1336,EventConditionConfig!A:C,3,FALSE)&IF(S1336=\"\",\"\",CHAR(10)&\"-\"&VLOOKUP(S1336,EventConditionConfig!A:C,3,FALSE)))","v":""},{"$f":"IF(Y1336=\"\",\"\",IF(ISTEXT(Y1336),1,2))","v":1},{"$f":"IF(U1336=1,_xlfn.TEXTJOIN(\";\",1,IF(Z1336=\"\",A1336+1,Z1336),IF(AND(AA1336<>\"\",AC1336=\"\"),A1336+1,AC1336),IF(AND(AD1336<>\"\",AF1336=\"\"),A1336+1,AF1336)),IF(U1336=2,Y1336,\"\"))","v":"914702;914703;914704"},{"$f":"_xlfn.TEXTJOIN(\";\",1,X1336,AA1336,AD1336)","v":"6537;6538;6539"},{"$f":"IF(OR(ISNUMBER(Y1336),Y1336=\"\"),\"\",MAX(AL1335,AL1333,B1336,D1336,L1336)+1)","v":6537},"给它 1 颗增元丹",914702,{"$f":"IF(OR(ISNUMBER(AB1336),AB1336=\"\"),\"\",X1336+1)","v":6538},"给它 2 颗增元丹",914703,{"$f":"IF(OR(ISNUMBER(AE1336),AE1336=\"\"),\"\",AA1336+1)","v":6539},"冷笑：滚开",914704,null,null,{"$f":"IF(A1336=\"\",\"\",IF(ISNUMBER(Y1336),2,IF(A1337=\"\",IF(OR(AK1336>0,VLOOKUP(O1336,EventConfig!A:C,3,FALSE)=4),3,\"\"),1)))","v":1},{"$f":"IF(AI1336=\"\",\"\",CHOOSE(AI1336,IF(AK1336=\"\",A1336+1,AK1336),CONCATENATE(IF(AK1336=\"\",A1336+1,AK1336),\";101\"),IF(AK1336=\"\",O1336+1,AK1336)))","v":914702},null,6539,9147]
[914702,6535,"完成对话","",{"$nulls":5},146,{"$f":"IF(J1337=\"\",\"\",VLOOKUP(J1337,EventNPC!A:F,6,FALSE))","v":"鱼"},6540,"鱼激动得直翻白肚皮，多谢仙长！小鱼会记下这份恩德！",null,9147,2,"",null,null,{"$f":"IF(R1337=\"\",\"\",\"-\"&VLOOKUP(R1337,EventConditionConfig!A:C,3,FALSE)&IF(S1337=\"\",\"\",CHAR(10)&\"-\"&VLOOKUP(S1337,EventConditionConfig!A:C,3,FALSE)))","v":""},"","","","",null,null,"",null,null,"",{"$nulls":7},6540,9147]
[914703,6535,"完成对话","",{"$nulls":5},146,{"$f":"IF(J1338=\"\",\"\",VLOOKUP(J1338,EventNPC!A:F,6,FALSE))","v":"鱼"},6541,"鱼两眼放光，两颗！仙长大恩大德，小鱼来世当牛做马报答！",null,9147,3,"",null,null,{"$f":"IF(R1338=\"\",\"\",\"-\"&VLOOKUP(R1338,EventConditionConfig!A:C,3,FALSE)&IF(S1338=\"\",\"\",CHAR(10)&\"-\"&VLOOKUP(S1338,EventConditionConfig!A:C,3,FALSE)))","v":""},"","","","",null,null,"",null,null,"",{"$nulls":7},6541,9147]
[914704,6535,"完成对话","",{"$nulls":5},146,{"$f":"IF(J1339=\"\",\"\",VLOOKUP(J1339,EventNPC!A:F,6,FALSE))","v":"鱼"},6542,"愣了下，翻个身装死：“呃……好吧，真是冷漠……”\n 鱼还挤了几滴“眼泪”，浮在水面打滚。",null,9147,4,"",null,null,{"$f":"IF(R1339=\"\",\"\",\"-\"&VLOOKUP(R1339,EventConditionConfig!A:C,3,FALSE)&IF(S1339=\"\",\"\",CHAR(10)&\"-\"&VLOOKUP(S1339,EventConditionConfig!A:C,3,FALSE)))","v":""},"","","","",null,null,"",null,null,"",{"$nulls":4},{"$f":"IF(A1339=\"\",\"\",IF(ISNUMBER(Y1339),2,IF(A1340=\"\",IF(OR(AK1339>0,VLOOKUP(O1339,EventConfig!A:C,3,FALSE)=4),3,\"\"),1)))","v":""},"",null,6542,9147]
[{"$nulls":10},{"$f":"IF(J1340=\"\",\"\",VLOOKUP(J1340,EventNPC!A:F,6,FALSE))","v":""},{"$nulls":26},"",0]
[914801,6543,"完成对话","",{"$nulls":6},{"$f":"IF(J1341=\"\",\"\",VLOOKUP(J1341,EventNPC!A:F,6,FALSE))","v":""},6544,"那条鱼又蹦了出来",null,9148,1,"",null,null,{"$f":"IF(R1341=\"\",\"\",\"-\"&VLOOKUP(R1341,EventConditionConfig!A:C,3,FALSE)&IF(S1341=\"\",\"\",CHAR(10)&\"-\"&VLOOKUP(S1341,EventConditionConfig!A:C,3,FALSE)))","v":""},"","","","",null,null,"",null,null,"",{"$nulls":4},{"$f":"IF(A1341=\"\",\"\",IF(ISNUMBER(Y1341),2,IF(A1342=\"\",IF(OR(AK1341>0,VLOOKUP(O1341,EventConfig!A:C,3,FALSE)=4),3,\"\"),1)))","v":1},914802,null,6544,9148]
[914802,6543,"完成对话","",{"$nulls":5},146,{"$f":"IF(J1342=\"\",\"\",VLOOKUP(J1342,EventNPC!A:F,6,FALSE))","v":"鱼"},6545,"仙长！上回的灵丹果然救了我，可是——咳咳！丹力不够，小鱼差点没挺过来，再给一颗吧？就一颗！",null,9148,2,"",null,null,{"$f":"IF(R1342=\"\",\"\",\"-\"&VLOOKUP(R1342,EventConditionConfig!A:C,3,FALSE)&IF(S1342=\"\",\"\",CHAR(10)&\"-\"&VLOOKUP(S1342,EventConditionConfig!A:C,3,FALSE)))","v":""},1,"914803;914803;914804","6546;6547;6548",6546,"再给1颗",914803,6547,"再给2颗",914803,6548,"怒：你是不是在骗我？",914804,null,null,{"$f":"IF(A1342=\"\",\"\",IF(ISNUMBER(Y1342),2,IF(A1343=\"\",IF(OR(AK1342>0,VLOOKUP(O1342,EventConfig!A:C,3,FALSE)=4),3,\"\"),1)))","v":1},914803,null,6548,9148]
[914803,6543,"完成对话","",{"$nulls":5},146,{"$f":"IF(J1343=\"\",\"\",VLOOKUP(J1343,EventNPC!A:F,6,FALSE))","v":"鱼"},6549,"鱼立刻精神百倍，翻腾打滚：“仙长真是鱼界福星！”",null,9148,3,"",null,null,{"$f":"IF(R1343=\"\",\"\",\"-\"&VLOOKUP(R1343,EventConditionConfig!A:C,3,FALSE)&IF(S1343=\"\",\"\",CHAR(10)&\"-\"&VLOOKUP(S1343,EventConditionConfig!A:C,3,FALSE)))","v":""},"","","","",null,null,"",null,null,"",{"$nulls":7},6549,9148]
[914804,6543,"完成对话","",{"$nulls":5},146,{"$f":"IF(J1344=\"\",\"\",VLOOKUP(J1344,EventNPC!A:F,6,FALSE))","v":"鱼"},6550,"（委屈巴巴）仙长竟不信我！呜呜呜——那小鱼就此别过！”",null,9148,4,"",null,null,{"$f":"IF(R1344=\"\",\"\",\"-\"&VLOOKUP(R1344,EventConditionConfig!A:C,3,FALSE)&IF(S1344=\"\",\"\",CHAR(10)&\"-\"&VLOOKUP(S1344,EventConditionConfig!A:C,3,FALSE)))","v":""},"","","","",null,null,"",null,null,"",{"$nulls":4},{"$f":"IF(A1344=\"\",\"\",IF(ISNUMBER(Y1344),2,IF(A1345=\"\",IF(OR(AK1344>0,VLOOKUP(O1344,EventConfig!A:C,3,FALSE)=4),3,\"\"),1)))","v":""},{"$f":"IF(AI1344=\"\",\"\",CHOOSE(AI1344,IF(AK1344=\"\",A1344+1,AK1344),CONCATENATE(IF(AK1344=\"\",A1344+1,AK1344),\";101\"),IF(AK1344=\"\",O1344+1,AK1344)))","v":""},null,6550,9148]
[{"$nulls":10},{"$f":"IF(J1345=\"\",\"\",VLOOKUP(J1345,EventNPC!A:F,6,FALSE))","v":""},{"$nulls":26},"",0]
[{"$f":"O1346*100+P1346","v":914901},{"$f":"IF(C1346=\"\",\"\",IF(C1346=C1345,B1345,MAX(AL1345,AL1344)+1))","v":6551},"完成对话",{"$f":"IF(E1346=\"\",\"\",IF(E1346=E1345,D1345,MAX(AL1345,AL1344,B1346)+1))","v":""},{"$nulls":6},{"$f":"IF(J1346=\"\",\"\",VLOOKUP(J1346,EventNPC!A:F,6,FALSE))","v":""},{"$f":"IF(M1346=\"\",\"\",MAX(AL1345,AL1344,B1346,D1346)+1)","v":6552},"水面灵光一闪，鱼浑身金鳞微现，竟露出“即将化龙”的气象。",null,9149,{"$f":"IF(O1346=\"\",\"\",IF(O1346=O1345,P1345+1,1))","v":1},{"$f":"_xlfn.TEXTJOIN(\";\",1,R1346:S1346)","v":""},null,null,{"$f":"IF(R1346=\"\",\"\",\"-\"&VLOOKUP(R1346,EventConditionConfig!A:C,3,FALSE)&IF(S1346=\"\",\"\",CHAR(10)&\"-\"&VLOOKUP(S1346,EventConditionConfig!A:C,3,FALSE)))","v":""},{"$f":"IF(Y1346=\"\",\"\",IF(ISTEXT(Y1346),1,2))","v":""},{"$f":"IF(U1346=1,_xlfn.TEXTJOIN(\";\",1,IF(Z1346=\"\",A1346+1,Z1346),IF(AND(AA1346<>\"\",AC1346=\"\"),A1346+1,AC1346),IF(AND(AD1346<>\"\",AF1346=\"\"),A1346+1,AF1346)),IF(U1346=2,Y1346,\"\"))","v":""},{"$f":"_xlfn.TEXTJOIN(\";\",1,X1346,AA1346,AD1346)","v":""},{"$f":"IF(OR(ISNUMBER(Y1346),Y1346=\"\"),\"\",MAX(AL1345,AL1343,B1346,D1346,L1346)+1)","v":""},null,null,{"$f":"IF(OR(ISNUMBER(AB1346),AB1346=\"\"),\"\",X1346+1)","v":""},null,null,{"$f":"IF(OR(ISNUMBER(AE1346),AE1346=\"\"),\"\",AA1346+1)","v":""},{"$nulls":4},{"$f":"IF(OR(AK1346=\"结尾\",A1346=\"\"),\"\",IF(ISNUMBER(Y1346),2,IF(A1347=\"\",IF(OR(AK1346>0,VLOOKUP(O1346,EventConfig!A:C,3,FALSE)=4),3,\"\"),1)))","v":1},{"$f":"IF(OR(AK1346=\"结尾\",AI1346=\"\"),\"\",CHOOSE(AI1346,IF(AK1346=\"\",A1346+1,AK1346),CONCATENATE(IF(AK1346=\"\",A1346+1,AK1346),\";101\"),IF(AK1346=\"\",O1346+1,AK1346)))","v":914902},null,6552,9149]
[{"$f":"O1347*100+P1347","v":914902},{"$f":"IF(C1347=\"\",\"\",IF(C1347=C1346,B1346,MAX(AL1346,AL1345)+1))","v":6551},"完成对话",{"$f":"IF(E1347=\"\",\"\",IF(E1347=E1346,D1346,MAX(AL1346,AL1345,B1347)+1))","v":""},{"$nulls":5},146,{"$f":"IF(J1347=\"\",\"\",VLOOKUP(J1347,EventNPC!A:F,6,FALSE))","v":"鱼"},{"$f":"IF(M1347=\"\",\"\",MAX(AL1346,AL1345,B1347,D1347)+1)","v":6553},"“仙长！这就是最后一步！只需再得一颗灵丹，小鱼必定飞升成龙，到时定感激图报！”",null,9149,{"$f":"IF(O1347=\"\",\"\",IF(O1347=O1346,P1346+1,1))","v":2},{"$f":"_xlfn.TEXTJOIN(\";\",1,R1347:S1347)","v":""},null,null,{"$f":"IF(R1347=\"\",\"\",\"-\"&VLOOKUP(R1347,EventConditionConfig!A:C,3,FALSE)&IF(S1347=\"\",\"\",CHAR(10)&\"-\"&VLOOKUP(S1347,EventConditionConfig!A:C,3,FALSE)))","v":""},{"$f":"IF(Y1347=\"\",\"\",IF(ISTEXT(Y1347),1,2))","v":1},{"$f":"IF(U1347=1,_xlfn.TEXTJOIN(\";\",1,IF(Z1347=\"\",A1347+1,Z1347),IF(AND(AA1347<>\"\",AC1347=\"\"),A1347+1,AC1347),IF(AND(AD1347<>\"\",AF1347=\"\"),A1347+1,AF1347)),IF(U1347=2,Y1347,\"\"))","v":"914903;914903;914904"},{"$f":"_xlfn.TEXTJOIN(\";\",1,X1347,AA1347,AD1347)","v":"6554;6555;6556"},{"$f":"IF(OR(ISNUMBER(Y1347),Y1347=\"\"),\"\",MAX(AL1346,AL1344,B1347,D1347,L1347)+1)","v":6554},"再给1颗",914903,{"$f":"IF(OR(ISNUMBER(AB1347),AB1347=\"\"),\"\",X1347+1)","v":6555},"再给2颗",914903,{"$f":"IF(OR(ISNUMBER(AE1347),AE1347=\"\"),\"\",AA1347+1)","v":6556},"冷冷盯着它，不动",914904,null,null,{"$f":"IF(OR(AK1347=\"结尾\",A1347=\"\"),\"\",IF(ISNUMBER(Y1347),2,IF(A1348=\"\",IF(OR(AK1347>0,VLOOKUP(O1347,EventConfig!A:C,3,FALSE)=4),3,\"\"),1)))","v":1},{"$f":"IF(OR(AK1347=\"结尾\",AI1347=\"\"),\"\",CHOOSE(AI1347,IF(AK1347=\"\",A1347+1,AK1347),CONCATENATE(IF(AK1347=\"\",A1347+1,AK1347),\";101\"),IF(AK1347=\"\",O1347+1,AK1347)))","v":914903},null,6556,9149]
[{"$f":"O1348*100+P1348","v":914903},{"$f":"IF(C1348=\"\",\"\",IF(C1348=C1347,B1347,MAX(AL1347,AL1346)+1))","v":6551},"完成对话",{"$f":"IF(E1348=\"\",\"\",IF(E1348=E1347,D1347,MAX(AL1347,AL1346,B1348)+1))","v":""},{"$nulls":5},146,{"$f":"IF(J1348=\"\",\"\",VLOOKUP(J1348,EventNPC!A:F,6,FALSE))","v":"鱼"},{"$f":"IF(M1348=\"\",\"\",MAX(AL1347,AL1346,B1348,D1348)+1)","v":6557},"鱼猛地吸收灵丹，身上金光大作，随即一个猛子钻入水中，再没露头。只留下回声：“哈哈哈哈！真是个傻子！”",null,9149,{"$f":"IF(O1348=\"\",\"\",IF(O1348=O1347,P1347+1,1))","v":3},{"$f":"_xlfn.TEXTJOIN(\";\",1,R1348:S1348)","v":""},null,null,{"$f":"IF(R1348=\"\",\"\",\"-\"&VLOOKUP(R1348,EventConditionConfig!A:C,3,FALSE)&IF(S1348=\"\",\"\",CHAR(10)&\"-\"&VLOOKUP(S1348,EventConditionConfig!A:C,3,FALSE)))","v":""},{"$f":"IF(Y1348=\"\",\"\",IF(ISTEXT(Y1348),1,2))","v":""},{"$f":"IF(U1348=1,_xlfn.TEXTJOIN(\";\",1,IF(Z1348=\"\",A1348+1,Z1348),IF(AND(AA1348<>\"\",AC1348=\"\"),A1348+1,AC1348),IF(AND(AD1348<>\"\",AF1348=\"\"),A1348+1,AF1348)),IF(U1348=2,Y1348,\"\"))","v":""},{"$f":"_xlfn.TEXTJOIN(\";\",1,X1348,AA1348,AD1348)","v":""},{"$f":"IF(OR(ISNUMBER(Y1348),Y1348=\"\"),\"\",MAX(AL1347,AL1345,B1348,D1348,L1348)+1)","v":""},null,null,{"$f":"IF(OR(ISNUMBER(AB1348),AB1348=\"\"),\"\",X1348+1)","v":""},null,null,{"$f":"IF(OR(ISNUMBER(AE1348),AE1348=\"\"),\"\",AA1348+1)","v":""},{"$nulls":4},{"$f":"IF(OR(AK1348=\"结尾\",A1348=\"\"),\"\",IF(ISNUMBER(Y1348),2,IF(A1349=\"\",IF(OR(AK1348>0,VLOOKUP(O1348,EventConfig!A:C,3,FALSE)=4),3,\"\"),1)))","v":1},914905,914905,6557,9149]
[{"$f":"O1349*100+P1349","v":914904},{"$f":"IF(C1349=\"\",\"\",IF(C1349=C1348,B1348,MAX(AL1348,AL1347)+1))","v":6551},"完成对话",{"$f":"IF(E1349=\"\",\"\",IF(E1349=E1348,D1348,MAX(AL1348,AL1347,B1349)+1))","v":""},{"$nulls":5},146,{"$f":"IF(J1349=\"\",\"\",VLOOKUP(J1349,EventNPC!A:F,6,FALSE))","v":"鱼"},{"$f":"IF(M1349=\"\",\"\",MAX(AL1348,AL1347,B1349,D1349)+1)","v":6558},"鱼僵在水里尴尬：“呃……仙长真冷漠……那小鱼走了……”",null,9149,{"$f":"IF(O1349=\"\",\"\",IF(O1349=O1348,P1348+1,1))","v":4},{"$f":"_xlfn.TEXTJOIN(\";\",1,R1349:S1349)","v":""},null,null,{"$f":"IF(R1349=\"\",\"\",\"-\"&VLOOKUP(R1349,EventConditionConfig!A:C,3,FALSE)&IF(S1349=\"\",\"\",CHAR(10)&\"-\"&VLOOKUP(S1349,EventConditionConfig!A:C,3,FALSE)))","v":""},{"$f":"IF(Y1349=\"\",\"\",IF(ISTEXT(Y1349),1,2))","v":""},{"$f":"IF(U1349=1,_xlfn.TEXTJOIN(\";\",1,IF(Z1349=\"\",A1349+1,Z1349),IF(AND(AA1349<>\"\",AC1349=\"\"),A1349+1,AC1349),IF(AND(AD1349<>\"\",AF1349=\"\"),A1349+1,AF1349)),IF(U1349=2,Y1349,\"\"))","v":""},{"$f":"_xlfn.TEXTJOIN(\";\",1,X1349,AA1349,AD1349)","v":""},{"$f":"IF(OR(ISNUMBER(Y1349),Y1349=\"\"),\"\",MAX(AL1348,AL1346,B1349,D1349,L1349)+1)","v":""},null,null,{"$f":"IF(OR(ISNUMBER(AB1349),AB1349=\"\"),\"\",X1349+1)","v":""},null,null,{"$f":"IF(OR(ISNUMBER(AE1349),AE1349=\"\"),\"\",AA1349+1)","v":""},{"$nulls":4},{"$f":"IF(OR(AK1349=\"结尾\",A1349=\"\"),\"\",IF(ISNUMBER(Y1349),2,IF(A1350=\"\",IF(OR(AK1349>0,VLOOKUP(O1349,EventConfig!A:C,3,FALSE)=4),3,\"\"),1)))","v":""},"","结尾",6558,9149]
[{"$f":"O1350*100+P1350","v":914905},{"$f":"IF(C1350=\"\",\"\",IF(C1350=C1349,B1349,MAX(AL1349,AL1348)+1))","v":6551},"完成对话",{"$f":"IF(E1350=\"\",\"\",IF(E1350=E1349,D1349,MAX(AL1349,AL1348,B1350)+1))","v":""},{"$nulls":6},{"$f":"IF(J1350=\"\",\"\",VLOOKUP(J1350,EventNPC!A:F,6,FALSE))","v":""},{"$f":"IF(M1350=\"\",\"\",MAX(AL1349,AL1348,B1350,D1350)+1)","v":6559},"你似乎被耍了",null,9149,{"$f":"IF(O1350=\"\",\"\",IF(O1350=O1349,P1349+1,1))","v":5},{"$f":"_xlfn.TEXTJOIN(\";\",1,R1350:S1350)","v":""},null,null,{"$f":"IF(R1350=\"\",\"\",\"-\"&VLOOKUP(R1350,EventConditionConfig!A:C,3,FALSE)&IF(S1350=\"\",\"\",CHAR(10)&\"-\"&VLOOKUP(S1350,EventConditionConfig!A:C,3,FALSE)))","v":""},{"$f":"IF(Y1350=\"\",\"\",IF(ISTEXT(Y1350),1,2))","v":""},{"$f":"IF(U1350=1,_xlfn.TEXTJOIN(\";\",1,IF(Z1350=\"\",A1350+1,Z1350),IF(AND(AA1350<>\"\",AC1350=\"\"),A1350+1,AC1350),IF(AND(AD1350<>\"\",AF1350=\"\"),A1350+1,AF1350)),IF(U1350=2,Y1350,\"\"))","v":""},{"$f":"_xlfn.TEXTJOIN(\";\",1,X1350,AA1350,AD1350)","v":""},{"$f":"IF(OR(ISNUMBER(Y1350),Y1350=\"\"),\"\",MAX(AL1349,AL1347,B1350,D1350,L1350)+1)","v":""},null,null,{"$f":"IF(OR(ISNUMBER(AB1350),AB1350=\"\"),\"\",X1350+1)","v":""},null,null,{"$f":"IF(OR(ISNUMBER(AE1350),AE1350=\"\"),\"\",AA1350+1)","v":""},{"$nulls":4},{"$f":"IF(OR(AK1350=\"结尾\",A1350=\"\"),\"\",IF(ISNUMBER(Y1350),2,IF(A1351=\"\",IF(OR(AK1350>0,VLOOKUP(O1350,EventConfig!A:C,3,FALSE)=4),3,\"\"),1)))","v":""},"",null,6559,9149]
[{"$nulls":10},{"$f":"IF(J1351=\"\",\"\",VLOOKUP(J1351,EventNPC!A:F,6,FALSE))","v":""},{"$nulls":23},{"$f":"IF(OR(AK1351=\"结尾\",A1351=\"\"),\"\",IF(ISNUMBER(Y1351),2,IF(A1352=\"\",IF(OR(AK1351>0,VLOOKUP(O1351,EventConfig!A:C,3,FALSE)=4),3,\"\"),1)))","v":""},"",null,"",0]
[{"$f":"O1352*100+P1352","v":915001},{"$f":"IF(C1352=\"\",\"\",IF(C1352=C1351,B1351,MAX(AL1351,AL1350)+1))","v":6560},"完成对话",{"$f":"IF(E1352=\"\",\"\",IF(E1352=E1351,D1351,MAX(AL1351,AL1350,B1352)+1))","v":""},{"$nulls":6},{"$f":"IF(J1352=\"\",\"\",VLOOKUP(J1352,EventNPC!A:F,6,FALSE))","v":""},{"$f":"IF(M1352=\"\",\"\",MAX(AL1351,AL1350,B1352,D1352)+1)","v":6561},"神识探查到一块巨石，忽然传出声音：\n “吾曾为剑仙！因修炼出了差错，如今化作顽石。只要给我些灵气，我必重现昔日锋芒！”",null,9150,{"$f":"IF(O1352=\"\",\"\",IF(O1352=O1351,P1351+1,1))","v":1},{"$f":"_xlfn.TEXTJOIN(\";\",1,R1352:S1352)","v":""},null,null,{"$f":"IF(R1352=\"\",\"\",\"-\"&VLOOKUP(R1352,EventConditionConfig!A:C,3,FALSE)&IF(S1352=\"\",\"\",CHAR(10)&\"-\"&VLOOKUP(S1352,EventConditionConfig!A:C,3,FALSE)))","v":""},{"$f":"IF(Y1352=\"\",\"\",IF(ISTEXT(Y1352),1,2))","v":""},{"$f":"IF(U1352=1,_xlfn.TEXTJOIN(\";\",1,IF(Z1352=\"\",A1352+1,Z1352),IF(AND(AA1352<>\"\",AC1352=\"\"),A1352+1,AC1352),IF(AND(AD1352<>\"\",AF1352=\"\"),A1352+1,AF1352)),IF(U1352=2,Y1352,\"\"))","v":""},{"$f":"_xlfn.TEXTJOIN(\";\",1,X1352,AA1352,AD1352)","v":""},{"$f":"IF(OR(ISNUMBER(Y1352),Y1352=\"\"),\"\",MAX(AL1351,AL1349,B1352,D1352,L1352)+1)","v":""},null,null,{"$f":"IF(OR(ISNUMBER(AB1352),AB1352=\"\"),\"\",X1352+1)","v":""},null,null,{"$f":"IF(OR(ISNUMBER(AE1352),AE1352=\"\"),\"\",AA1352+1)","v":""},{"$nulls":4},{"$f":"IF(OR(AK1352=\"结尾\",A1352=\"\"),\"\",IF(ISNUMBER(Y1352),2,IF(A1353=\"\",IF(OR(AK1352>0,VLOOKUP(O1352,EventConfig!A:C,3,FALSE)=4),3,\"\"),1)))","v":1},915002,null,{"$f":"IF(A1352=\"\",\"\",MAX(B1352,D1352,L1352,X1352,AA1352,AL1351,AL1350,AD1352))","v":6561},{"$f":"O1352","v":9150}]
[{"$f":"O1353*100+P1353","v":915002},{"$f":"IF(C1353=\"\",\"\",IF(C1353=C1352,B1352,MAX(AL1352,AL1351)+1))","v":6560},"完成对话",{"$f":"IF(E1353=\"\",\"\",IF(E1353=E1352,D1352,MAX(AL1352,AL1351,B1353)+1))","v":""},{"$nulls":6},{"$f":"IF(J1353=\"\",\"\",VLOOKUP(J1353,EventNPC!A:F,6,FALSE))","v":""},{"$f":"IF(M1353=\"\",\"\",MAX(AL1352,AL1351,B1353,D1353)+1)","v":6562},"巨石震得嗡嗡作响，看上去倒像在撒娇。",null,9150,{"$f":"IF(O1353=\"\",\"\",IF(O1353=O1352,P1352+1,1))","v":2},{"$f":"_xlfn.TEXTJOIN(\";\",1,R1353:S1353)","v":""},null,null,{"$f":"IF(R1353=\"\",\"\",\"-\"&VLOOKUP(R1353,EventConditionConfig!A:C,3,FALSE)&IF(S1353=\"\",\"\",CHAR(10)&\"-\"&VLOOKUP(S1353,EventConditionConfig!A:C,3,FALSE)))","v":""},{"$f":"IF(Y1353=\"\",\"\",IF(ISTEXT(Y1353),1,2))","v":1},{"$f":"IF(U1353=1,_xlfn.TEXTJOIN(\";\",1,IF(Z1353=\"\",A1353+1,Z1353),IF(AND(AA1353<>\"\",AC1353=\"\"),A1353+1,AC1353),IF(AND(AD1353<>\"\",AF1353=\"\"),A1353+1,AF1353)),IF(U1353=2,Y1353,\"\"))","v":"915003;915004;915005"},{"$f":"_xlfn.TEXTJOIN(\";\",1,X1353,AA1353,AD1353)","v":"6563;6564;6565"},{"$f":"IF(OR(ISNUMBER(Y1353),Y1353=\"\"),\"\",MAX(AL1352,AL1350,B1353,D1353,L1353)+1)","v":6563},"【输入一丝灵气】消耗1颗修为丹",915003,{"$f":"IF(OR(ISNUMBER(AB1353),AB1353=\"\"),\"\",X1353+1)","v":6564},"狠狠一脚踢它",915004,{"$f":"IF(OR(ISNUMBER(AE1353),AE1353=\"\"),\"\",AA1353+1)","v":6565},"不理睬",915005,null,null,{"$f":"IF(OR(AK1353=\"结尾\",A1353=\"\"),\"\",IF(ISNUMBER(Y1353),2,IF(A1354=\"\",IF(OR(AK1353>0,VLOOKUP(O1353,EventConfig!A:C,3,FALSE)=4),3,\"\"),1)))","v":1},915003,null,6565,9150]
[{"$f":"O1354*100+P1354","v":915003},{"$f":"IF(C1354=\"\",\"\",IF(C1354=C1353,B1353,MAX(AL1353,AL1352)+1))","v":6560},"完成对话",{"$f":"IF(E1354=\"\",\"\",IF(E1354=E1353,D1353,MAX(AL1353,AL1352,B1354)+1))","v":""},{"$nulls":6},{"$f":"IF(J1354=\"\",\"\",VLOOKUP(J1354,EventNPC!A:F,6,FALSE))","v":""},{"$f":"IF(M1354=\"\",\"\",MAX(AL1353,AL1352,B1354,D1354)+1)","v":6566},"石头颤抖几下，吐出一句：“嗯…舒服！下次记得再来！”然后一动不动。",null,9150,{"$f":"IF(O1354=\"\",\"\",IF(O1354=O1353,P1353+1,1))","v":3},{"$f":"_xlfn.TEXTJOIN(\";\",1,R1354:S1354)","v":""},null,null,{"$f":"IF(R1354=\"\",\"\",\"-\"&VLOOKUP(R1354,EventConditionConfig!A:C,3,FALSE)&IF(S1354=\"\",\"\",CHAR(10)&\"-\"&VLOOKUP(S1354,EventConditionConfig!A:C,3,FALSE)))","v":""},{"$f":"IF(Y1354=\"\",\"\",IF(ISTEXT(Y1354),1,2))","v":""},{"$f":"IF(U1354=1,_xlfn.TEXTJOIN(\";\",1,IF(Z1354=\"\",A1354+1,Z1354),IF(AND(AA1354<>\"\",AC1354=\"\"),A1354+1,AC1354),IF(AND(AD1354<>\"\",AF1354=\"\"),A1354+1,AF1354)),IF(U1354=2,Y1354,\"\"))","v":""},{"$f":"_xlfn.TEXTJOIN(\";\",1,X1354,AA1354,AD1354)","v":""},{"$f":"IF(OR(ISNUMBER(Y1354),Y1354=\"\"),\"\",MAX(AL1353,AL1351,B1354,D1354,L1354)+1)","v":""},null,null,{"$f":"IF(OR(ISNUMBER(AB1354),AB1354=\"\"),\"\",X1354+1)","v":""},null,null,{"$f":"IF(OR(ISNUMBER(AE1354),AE1354=\"\"),\"\",AA1354+1)","v":""},{"$nulls":4},{"$f":"IF(OR(AK1354=\"结尾\",A1354=\"\"),\"\",IF(ISNUMBER(Y1354),2,IF(A1355=\"\",IF(OR(AK1354>0,VLOOKUP(O1354,EventConfig!A:C,3,FALSE)=4),3,\"\"),1)))","v":1},915004,null,6566,9150]
[{"$f":"O1355*100+P1355","v":915004},{"$f":"IF(C1355=\"\",\"\",IF(C1355=C1354,B1354,MAX(AL1354,AL1353)+1))","v":6560},"完成对话",{"$f":"IF(E1355=\"\",\"\",IF(E1355=E1354,D1354,MAX(AL1354,AL1353,B1355)+1))","v":""},{"$nulls":6},{"$f":"IF(J1355=\"\",\"\",VLOOKUP(J1355,EventNPC!A:F,6,FALSE))","v":""},{"$f":"IF(M1355=\"\",\"\",MAX(AL1354,AL1353,B1355,D1355)+1)","v":6567},"石头怒吼：“欺剑仙太甚！”随即崩裂成碎石，掉出一只石头虫，爬走了。（碎石里有不少灵石）",null,9150,{"$f":"IF(O1355=\"\",\"\",IF(O1355=O1354,P1354+1,1))","v":4},{"$f":"_xlfn.TEXTJOIN(\";\",1,R1355:S1355)","v":""},null,null,{"$f":"IF(R1355=\"\",\"\",\"-\"&VLOOKUP(R1355,EventConditionConfig!A:C,3,FALSE)&IF(S1355=\"\",\"\",CHAR(10)&\"-\"&VLOOKUP(S1355,EventConditionConfig!A:C,3,FALSE)))","v":""},{"$f":"IF(Y1355=\"\",\"\",IF(ISTEXT(Y1355),1,2))","v":""},{"$f":"IF(U1355=1,_xlfn.TEXTJOIN(\";\",1,IF(Z1355=\"\",A1355+1,Z1355),IF(AND(AA1355<>\"\",AC1355=\"\"),A1355+1,AC1355),IF(AND(AD1355<>\"\",AF1355=\"\"),A1355+1,AF1355)),IF(U1355=2,Y1355,\"\"))","v":""},{"$f":"_xlfn.TEXTJOIN(\";\",1,X1355,AA1355,AD1355)","v":""},{"$f":"IF(OR(ISNUMBER(Y1355),Y1355=\"\"),\"\",MAX(AL1354,AL1352,B1355,D1355,L1355)+1)","v":""},null,null,{"$f":"IF(OR(ISNUMBER(AB1355),AB1355=\"\"),\"\",X1355+1)","v":""},null,null,{"$f":"IF(OR(ISNUMBER(AE1355),AE1355=\"\"),\"\",AA1355+1)","v":""},{"$nulls":7},6567,9150]
[{"$f":"O1356*100+P1356","v":915005},{"$f":"IF(C1356=\"\",\"\",IF(C1356=C1355,B1355,MAX(AL1355,AL1354)+1))","v":6560},"完成对话",{"$f":"IF(E1356=\"\",\"\",IF(E1356=E1355,D1355,MAX(AL1355,AL1354,B1356)+1))","v":""},{"$nulls":6},{"$f":"IF(J1356=\"\",\"\",VLOOKUP(J1356,EventNPC!A:F,6,FALSE))","v":""},{"$f":"IF(M1356=\"\",\"\",MAX(AL1355,AL1354,B1356,D1356)+1)","v":6568},"石头小声嘀咕：“没人理我，好寂寞……”",null,9150,{"$f":"IF(O1356=\"\",\"\",IF(O1356=O1355,P1355+1,1))","v":5},{"$f":"_xlfn.TEXTJOIN(\";\",1,R1356:S1356)","v":""},null,null,{"$f":"IF(R1356=\"\",\"\",\"-\"&VLOOKUP(R1356,EventConditionConfig!A:C,3,FALSE)&IF(S1356=\"\",\"\",CHAR(10)&\"-\"&VLOOKUP(S1356,EventConditionConfig!A:C,3,FALSE)))","v":""},{"$f":"IF(Y1356=\"\",\"\",IF(ISTEXT(Y1356),1,2))","v":""},{"$f":"IF(U1356=1,_xlfn.TEXTJOIN(\";\",1,IF(Z1356=\"\",A1356+1,Z1356),IF(AND(AA1356<>\"\",AC1356=\"\"),A1356+1,AC1356),IF(AND(AD1356<>\"\",AF1356=\"\"),A1356+1,AF1356)),IF(U1356=2,Y1356,\"\"))","v":""},{"$f":"_xlfn.TEXTJOIN(\";\",1,X1356,AA1356,AD1356)","v":""},{"$f":"IF(OR(ISNUMBER(Y1356),Y1356=\"\"),\"\",MAX(AL1355,AL1353,B1356,D1356,L1356)+1)","v":""},null,null,{"$f":"IF(OR(ISNUMBER(AB1356),AB1356=\"\"),\"\",X1356+1)","v":""},null,null,{"$f":"IF(OR(ISNUMBER(AE1356),AE1356=\"\"),\"\",AA1356+1)","v":""},{"$nulls":4},{"$f":"IF(A1356=\"\",\"\",IF(ISNUMBER(Y1356),2,IF(A1357=\"\",IF(OR(AK1356>0,VLOOKUP(O1356,EventConfig!A:C,3,FALSE)=4),3,\"\"),1)))","v":""},{"$f":"IF(AI1356=\"\",\"\",CHOOSE(AI1356,IF(AK1356=\"\",A1356+1,AK1356),CONCATENATE(IF(AK1356=\"\",A1356+1,AK1356),\";101\"),IF(AK1356=\"\",O1356+1,AK1356)))","v":""},null,6568,9150]
[{"$nulls":10},{"$f":"IF(J1357=\"\",\"\",VLOOKUP(J1357,EventNPC!A:F,6,FALSE))","v":""},{"$nulls":26},"",0]
[{"$f":"O1358*100+P1358","v":915101},{"$f":"IF(C1358=\"\",\"\",IF(C1358=C1357,B1357,MAX(AL1357,AL1356)+1))","v":6569},"完成对话",{"$f":"IF(E1358=\"\",\"\",IF(E1358=E1357,D1357,MAX(AL1357,AL1356,B1358)+1))","v":""},{"$nulls":6},{"$f":"IF(J1358=\"\",\"\",VLOOKUP(J1358,EventNPC!A:F,6,FALSE))","v":""},{"$f":"IF(M1358=\"\",\"\",MAX(AL1357,AL1356,B1358,D1358)+1)","v":6570},"神识捕捉到一块奇怪的石头。它忽然“咔”地裂开，露出一张憨厚的脸",null,9151,{"$f":"IF(O1358=\"\",\"\",IF(O1358=O1357,P1357+1,1))","v":1},{"$f":"_xlfn.TEXTJOIN(\";\",1,R1358:S1358)","v":""},null,null,{"$f":"IF(R1358=\"\",\"\",\"-\"&VLOOKUP(R1358,EventConditionConfig!A:C,3,FALSE)&IF(S1358=\"\",\"\",CHAR(10)&\"-\"&VLOOKUP(S1358,EventConditionConfig!A:C,3,FALSE)))","v":""},{"$f":"IF(Y1358=\"\",\"\",IF(ISTEXT(Y1358),1,2))","v":""},{"$f":"IF(U1358=1,_xlfn.TEXTJOIN(\";\",1,IF(Z1358=\"\",A1358+1,Z1358),IF(AND(AA1358<>\"\",AC1358=\"\"),A1358+1,AC1358),IF(AND(AD1358<>\"\",AF1358=\"\"),A1358+1,AF1358)),IF(U1358=2,Y1358,\"\"))","v":""},{"$f":"_xlfn.TEXTJOIN(\";\",1,X1358,AA1358,AD1358)","v":""},{"$f":"IF(OR(ISNUMBER(Y1358),Y1358=\"\"),\"\",MAX(AL1357,AL1355,B1358,D1358,L1358)+1)","v":""},null,null,{"$f":"IF(OR(ISNUMBER(AB1358),AB1358=\"\"),\"\",X1358+1)","v":""},null,null,{"$f":"IF(OR(ISNUMBER(AE1358),AE1358=\"\"),\"\",AA1358+1)","v":""},{"$nulls":4},{"$f":"IF(A1358=\"\",\"\",IF(ISNUMBER(Y1358),2,IF(A1359=\"\",IF(OR(AK1358>0,VLOOKUP(O1358,EventConfig!A:C,3,FALSE)=4),3,\"\"),1)))","v":1},915102,null,6570,9151]
[{"$f":"O1359*100+P1359","v":915102},{"$f":"IF(C1359=\"\",\"\",IF(C1359=C1358,B1358,MAX(AL1358,AL1357)+1))","v":6569},"完成对话",{"$f":"IF(E1359=\"\",\"\",IF(E1359=E1358,D1358,MAX(AL1358,AL1357,B1359)+1))","v":""},{"$nulls":5},147,{"$f":"IF(J1359=\"\",\"\",VLOOKUP(J1359,EventNPC!A:F,6,FALSE))","v":"石精"},{"$f":"IF(M1359=\"\",\"\",MAX(AL1358,AL1357,B1359,D1359)+1)","v":6571},"“嘿嘿，仙长，要不要跟我赌一场？猜拳！赢了我给你灵石，输了你给我灵石！”石头精兴奋地挥着自己唯一的拳头。",null,9151,{"$f":"IF(O1359=\"\",\"\",IF(O1359=O1358,P1358+1,1))","v":2},{"$f":"_xlfn.TEXTJOIN(\";\",1,R1359:S1359)","v":""},null,null,{"$f":"IF(R1359=\"\",\"\",\"-\"&VLOOKUP(R1359,EventConditionConfig!A:C,3,FALSE)&IF(S1359=\"\",\"\",CHAR(10)&\"-\"&VLOOKUP(S1359,EventConditionConfig!A:C,3,FALSE)))","v":""},{"$f":"IF(Y1359=\"\",\"\",IF(ISTEXT(Y1359),1,2))","v":1},{"$f":"IF(U1359=1,_xlfn.TEXTJOIN(\";\",1,IF(Z1359=\"\",A1359+1,Z1359),IF(AND(AA1359<>\"\",AC1359=\"\"),A1359+1,AC1359),IF(AND(AD1359<>\"\",AF1359=\"\"),A1359+1,AF1359)),IF(U1359=2,Y1359,\"\"))","v":"915103;915105;915107"},{"$f":"_xlfn.TEXTJOIN(\";\",1,X1359,AA1359,AD1359)","v":"6572;6573;6574"},{"$f":"IF(OR(ISNUMBER(Y1359),Y1359=\"\"),\"\",MAX(AL1358,AL1356,B1359,D1359,L1359)+1)","v":6572},"出石头",915103,{"$f":"IF(OR(ISNUMBER(AB1359),AB1359=\"\"),\"\",X1359+1)","v":6573},"出剪刀",915105,{"$f":"IF(OR(ISNUMBER(AE1359),AE1359=\"\"),\"\",AA1359+1)","v":6574},"出布",915107,null,null,{"$f":"IF(A1359=\"\",\"\",IF(ISNUMBER(Y1359),2,IF(A1360=\"\",IF(OR(AK1359>0,VLOOKUP(O1359,EventConfig!A:C,3,FALSE)=4),3,\"\"),1)))","v":1},{"$f":"IF(AI1359=\"\",\"\",CHOOSE(AI1359,IF(AK1359=\"\",A1359+1,AK1359),CONCATENATE(IF(AK1359=\"\",A1359+1,AK1359),\";101\"),IF(AK1359=\"\",O1359+1,AK1359)))","v":915103},null,6574,9151]
[915103,6569,"完成对话","",{"$nulls":5},100,{"$f":"IF(J1360=\"\",\"\",VLOOKUP(J1360,EventNPC!A:F,6,FALSE))","v":"玩家"},6575,"「我也出石头！」",null,9151,3,"",null,null,{"$f":"IF(R1360=\"\",\"\",\"-\"&VLOOKUP(R1360,EventConditionConfig!A:C,3,FALSE)&IF(S1360=\"\",\"\",CHAR(10)&\"-\"&VLOOKUP(S1360,EventConditionConfig!A:C,3,FALSE)))","v":""},"","","","",null,null,"",null,null,"",{"$nulls":4},{"$f":"IF(A1360=\"\",\"\",IF(ISNUMBER(Y1360),2,IF(A1361=\"\",IF(OR(AK1360>0,VLOOKUP(O1360,EventConfig!A:C,3,FALSE)=4),3,\"\"),1)))","v":1},915104,null,6575,9151]
[915104,6569,"完成对话","",{"$nulls":5},147,{"$f":"IF(J1361=\"\",\"\",VLOOKUP(J1361,EventNPC!A:F,6,FALSE))","v":"石精"},6576,"平手！不算不算，再来一次！",null,9151,4,"",null,null,{"$f":"IF(R1361=\"\",\"\",\"-\"&VLOOKUP(R1361,EventConditionConfig!A:C,3,FALSE)&IF(S1361=\"\",\"\",CHAR(10)&\"-\"&VLOOKUP(S1361,EventConditionConfig!A:C,3,FALSE)))","v":""},"","","","",null,null,"",null,null,"",{"$nulls":6},"结尾",6576,9151]
[915105,6569,"完成对话","",{"$nulls":5},100,{"$f":"IF(J1362=\"\",\"\",VLOOKUP(J1362,EventNPC!A:F,6,FALSE))","v":"玩家"},6577,"剪刀！",null,9151,5,"",null,null,{"$f":"IF(R1362=\"\",\"\",\"-\"&VLOOKUP(R1362,EventConditionConfig!A:C,3,FALSE)&IF(S1362=\"\",\"\",CHAR(10)&\"-\"&VLOOKUP(S1362,EventConditionConfig!A:C,3,FALSE)))","v":""},"","","","",null,null,"",null,null,"",{"$nulls":4},{"$f":"IF(A1362=\"\",\"\",IF(ISNUMBER(Y1362),2,IF(A1363=\"\",IF(OR(AK1362>0,VLOOKUP(O1362,EventConfig!A:C,3,FALSE)=4),3,\"\"),1)))","v":1},915106,null,6577,9151]
[915106,6569,"完成对话","",{"$nulls":5},147,{"$f":"IF(J1363=\"\",\"\",VLOOKUP(J1363,EventNPC!A:F,6,FALSE))","v":"石精"},6578,"拳头！赢啦！灵石，快拿来！",null,9151,6,"",null,null,{"$f":"IF(R1363=\"\",\"\",\"-\"&VLOOKUP(R1363,EventConditionConfig!A:C,3,FALSE)&IF(S1363=\"\",\"\",CHAR(10)&\"-\"&VLOOKUP(S1363,EventConditionConfig!A:C,3,FALSE)))","v":""},"","","","",null,null,"",null,null,"",{"$nulls":6},"结尾",6578,9151]
[915107,6569,"完成对话","",{"$nulls":5},100,{"$f":"IF(J1364=\"\",\"\",VLOOKUP(J1364,EventNPC!A:F,6,FALSE))","v":"玩家"},6579,"哼，你只有拳头，那我出布",null,9151,7,"",null,null,{"$f":"IF(R1364=\"\",\"\",\"-\"&VLOOKUP(R1364,EventConditionConfig!A:C,3,FALSE)&IF(S1364=\"\",\"\",CHAR(10)&\"-\"&VLOOKUP(S1364,EventConditionConfig!A:C,3,FALSE)))","v":""},"","","","",null,null,"",null,null,"",{"$nulls":4},{"$f":"IF(A1364=\"\",\"\",IF(ISNUMBER(Y1364),2,IF(A1365=\"\",IF(OR(AK1364>0,VLOOKUP(O1364,EventConfig!A:C,3,FALSE)=4),3,\"\"),1)))","v":1},915108,null,6579,9151]
[915108,6569,"完成对话","",{"$nulls":5},147,{"$f":"IF(J1365=\"\",\"\",VLOOKUP(J1365,EventNPC!A:F,6,FALSE))","v":"石精"},6580,"啊？这……不公平啊！- 它勉强掏出几颗灵石递上来。",null,9151,8,"",null,null,{"$f":"IF(R1365=\"\",\"\",\"-\"&VLOOKUP(R1365,EventConditionConfig!A:C,3,FALSE)&IF(S1365=\"\",\"\",CHAR(10)&\"-\"&VLOOKUP(S1365,EventConditionConfig!A:C,3,FALSE)))","v":""},"","","","",null,null,"",null,null,"",{"$nulls":4},{"$f":"IF(A1365=\"\",\"\",IF(ISNUMBER(Y1365),2,IF(A1366=\"\",IF(OR(AK1365>0,VLOOKUP(O1365,EventConfig!A:C,3,FALSE)=4),3,\"\"),1)))","v":""},"",null,6580,9151]
[{"$nulls":10},{"$f":"IF(J1366=\"\",\"\",VLOOKUP(J1366,EventNPC!A:F,6,FALSE))","v":""},{"$nulls":26},"",0]
[{"$f":"O1367*100+P1367","v":915201},{"$f":"IF(C1367=\"\",\"\",IF(C1367=C1366,B1366,MAX(AL1366,AL1365)+1))","v":6581},"完成对话",{"$f":"IF(E1367=\"\",\"\",IF(E1367=E1366,D1366,MAX(AL1366,AL1365,B1367)+1))","v":""},{"$nulls":5},147,{"$f":"IF(J1367=\"\",\"\",VLOOKUP(J1367,EventNPC!A:F,6,FALSE))","v":"石精"},{"$f":"IF(M1367=\"\",\"\",MAX(AL1366,AL1365,B1367,D1367)+1)","v":6582},"神识又捕捉到那块石头，它气呼呼地蹦出来。它勉强掏出几颗灵石递上来。",null,9152,{"$f":"IF(O1367=\"\",\"\",IF(O1367=O1366,P1366+1,1))","v":1},{"$f":"_xlfn.TEXTJOIN(\";\",1,R1367:S1367)","v":""},null,null,{"$f":"IF(R1367=\"\",\"\",\"-\"&VLOOKUP(R1367,EventConditionConfig!A:C,3,FALSE)&IF(S1367=\"\",\"\",CHAR(10)&\"-\"&VLOOKUP(S1367,EventConditionConfig!A:C,3,FALSE)))","v":""},{"$f":"IF(Y1367=\"\",\"\",IF(ISTEXT(Y1367),1,2))","v":""},{"$f":"IF(U1367=1,_xlfn.TEXTJOIN(\";\",1,IF(Z1367=\"\",A1367+1,Z1367),IF(AND(AA1367<>\"\",AC1367=\"\"),A1367+1,AC1367),IF(AND(AD1367<>\"\",AF1367=\"\"),A1367+1,AF1367)),IF(U1367=2,Y1367,\"\"))","v":""},{"$f":"_xlfn.TEXTJOIN(\";\",1,X1367,AA1367,AD1367)","v":""},{"$f":"IF(OR(ISNUMBER(Y1367),Y1367=\"\"),\"\",MAX(AL1366,AL1364,B1367,D1367,L1367)+1)","v":""},null,null,{"$f":"IF(OR(ISNUMBER(AB1367),AB1367=\"\"),\"\",X1367+1)","v":""},null,null,{"$f":"IF(OR(ISNUMBER(AE1367),AE1367=\"\"),\"\",AA1367+1)","v":""},{"$nulls":4},{"$f":"IF(A1367=\"\",\"\",IF(ISNUMBER(Y1367),2,IF(A1368=\"\",IF(OR(AK1367>0,VLOOKUP(O1367,EventConfig!A:C,3,FALSE)=4),3,\"\"),1)))","v":1},{"$f":"IF(AI1367=\"\",\"\",CHOOSE(AI1367,IF(AK1367=\"\",A1367+1,AK1367),CONCATENATE(IF(AK1367=\"\",A1367+1,AK1367),\";101\"),IF(AK1367=\"\",O1367+1,AK1367)))","v":915202},null,6582,9152]
[{"$f":"O1368*100+P1368","v":915202},{"$f":"IF(C1368=\"\",\"\",IF(C1368=C1367,B1367,MAX(AL1367,AL1366)+1))","v":6581},"完成对话",{"$f":"IF(E1368=\"\",\"\",IF(E1368=E1367,D1367,MAX(AL1367,AL1366,B1368)+1))","v":""},{"$nulls":5},147,{"$f":"IF(J1368=\"\",\"\",VLOOKUP(J1368,EventNPC!A:F,6,FALSE))","v":"石精"},{"$f":"IF(M1368=\"\",\"\",MAX(AL1367,AL1366,B1368,D1368)+1)","v":6583},"仙长！上次算我大意！这次我一定能赢！” 它还是挥舞着那只拳头……",null,9152,{"$f":"IF(O1368=\"\",\"\",IF(O1368=O1367,P1367+1,1))","v":2},{"$f":"_xlfn.TEXTJOIN(\";\",1,R1368:S1368)","v":""},null,null,{"$f":"IF(R1368=\"\",\"\",\"-\"&VLOOKUP(R1368,EventConditionConfig!A:C,3,FALSE)&IF(S1368=\"\",\"\",CHAR(10)&\"-\"&VLOOKUP(S1368,EventConditionConfig!A:C,3,FALSE)))","v":""},{"$f":"IF(Y1368=\"\",\"\",IF(ISTEXT(Y1368),1,2))","v":1},{"$f":"IF(U1368=1,_xlfn.TEXTJOIN(\";\",1,IF(Z1368=\"\",A1368+1,Z1368),IF(AND(AA1368<>\"\",AC1368=\"\"),A1368+1,AC1368),IF(AND(AD1368<>\"\",AF1368=\"\"),A1368+1,AF1368)),IF(U1368=2,Y1368,\"\"))","v":"915203;915205;915207"},{"$f":"_xlfn.TEXTJOIN(\";\",1,X1368,AA1368,AD1368)","v":"6584;6585;6586"},{"$f":"IF(OR(ISNUMBER(Y1368),Y1368=\"\"),\"\",MAX(AL1367,AL1365,B1368,D1368,L1368)+1)","v":6584},"再出布",915203,{"$f":"IF(OR(ISNUMBER(AB1368),AB1368=\"\"),\"\",X1368+1)","v":6585},"出石头",915205,{"$f":"IF(OR(ISNUMBER(AE1368),AE1368=\"\"),\"\",AA1368+1)","v":6586},"出剪刀",915207,null,null,{"$f":"IF(A1368=\"\",\"\",IF(ISNUMBER(Y1368),2,IF(A1369=\"\",IF(OR(AK1368>0,VLOOKUP(O1368,EventConfig!A:C,3,FALSE)=4),3,\"\"),1)))","v":1},{"$f":"IF(AI1368=\"\",\"\",CHOOSE(AI1368,IF(AK1368=\"\",A1368+1,AK1368),CONCATENATE(IF(AK1368=\"\",A1368+1,AK1368),\";101\"),IF(AK1368=\"\",O1368+1,AK1368)))","v":915203},null,6586,9152]
[915203,6581,"完成对话","",{"$nulls":5},100,{"$f":"IF(J1369=\"\",\"\",VLOOKUP(J1369,EventNPC!A:F,6,FALSE))","v":"玩家"},6587,"老套路，你还是拳头吧？来。",null,9152,3,"",null,null,{"$f":"IF(R1369=\"\",\"\",\"-\"&VLOOKUP(R1369,EventConditionConfig!A:C,3,FALSE)&IF(S1369=\"\",\"\",CHAR(10)&\"-\"&VLOOKUP(S1369,EventConditionConfig!A:C,3,FALSE)))","v":""},"","","","",null,null,"",null,null,"",{"$nulls":4},{"$f":"IF(A1369=\"\",\"\",IF(ISNUMBER(Y1369),2,IF(A1370=\"\",IF(OR(AK1369>0,VLOOKUP(O1369,EventConfig!A:C,3,FALSE)=4),3,\"\"),1)))","v":1},915204,null,6587,9152]
[915204,6581,"完成对话","",{"$nulls":5},147,{"$f":"IF(J1370=\"\",\"\",VLOOKUP(J1370,EventNPC!A:F,6,FALSE))","v":"石精"},6588,"可恶，又输了！石头精羞愤难当",null,9152,4,"",null,null,{"$f":"IF(R1370=\"\",\"\",\"-\"&VLOOKUP(R1370,EventConditionConfig!A:C,3,FALSE)&IF(S1370=\"\",\"\",CHAR(10)&\"-\"&VLOOKUP(S1370,EventConditionConfig!A:C,3,FALSE)))","v":""},"","","","",null,null,"",null,null,"",{"$nulls":7},6588,9152]
[915205,6581,"完成对话","",{"$nulls":5},100,{"$f":"IF(J1371=\"\",\"\",VLOOKUP(J1371,EventNPC!A:F,6,FALSE))","v":"玩家"},6589,"好吧，这次我出石头。",null,9152,5,"",null,null,{"$f":"IF(R1371=\"\",\"\",\"-\"&VLOOKUP(R1371,EventConditionConfig!A:C,3,FALSE)&IF(S1371=\"\",\"\",CHAR(10)&\"-\"&VLOOKUP(S1371,EventConditionConfig!A:C,3,FALSE)))","v":""},"","","","",null,null,"",null,null,"",{"$nulls":4},{"$f":"IF(A1371=\"\",\"\",IF(ISNUMBER(Y1371),2,IF(A1372=\"\",IF(OR(AK1371>0,VLOOKUP(O1371,EventConfig!A:C,3,FALSE)=4),3,\"\"),1)))","v":1},915206,null,6589,9152]
[915206,6581,"完成对话","",{"$nulls":5},147,{"$f":"IF(J1372=\"\",\"\",VLOOKUP(J1372,EventNPC!A:F,6,FALSE))","v":"石精"},6590,"嘿嘿，平局！仙长果然讲义气！",null,9152,6,"",null,null,{"$f":"IF(R1372=\"\",\"\",\"-\"&VLOOKUP(R1372,EventConditionConfig!A:C,3,FALSE)&IF(S1372=\"\",\"\",CHAR(10)&\"-\"&VLOOKUP(S1372,EventConditionConfig!A:C,3,FALSE)))","v":""},"","","","",null,null,"",null,null,"",{"$nulls":7},6590,9152]
[915207,6581,"完成对话","",{"$nulls":5},100,{"$f":"IF(J1373=\"\",\"\",VLOOKUP(J1373,EventNPC!A:F,6,FALSE))","v":"玩家"},6591,"还是剪刀！",null,9152,7,"",null,null,{"$f":"IF(R1373=\"\",\"\",\"-\"&VLOOKUP(R1373,EventConditionConfig!A:C,3,FALSE)&IF(S1373=\"\",\"\",CHAR(10)&\"-\"&VLOOKUP(S1373,EventConditionConfig!A:C,3,FALSE)))","v":""},"","","","",null,null,"",null,null,"",{"$nulls":4},{"$f":"IF(A1373=\"\",\"\",IF(ISNUMBER(Y1373),2,IF(A1374=\"\",IF(OR(AK1373>0,VLOOKUP(O1373,EventConfig!A:C,3,FALSE)=4),3,\"\"),1)))","v":1},915208,null,6591,9152]
[915208,6581,"完成对话","",{"$nulls":5},147,{"$f":"IF(J1374=\"\",\"\",VLOOKUP(J1374,EventNPC!A:F,6,FALSE))","v":"石精"},6592,"拳头赢啦！快快交灵石！",null,9152,8,"",null,null,{"$f":"IF(R1374=\"\",\"\",\"-\"&VLOOKUP(R1374,EventConditionConfig!A:C,3,FALSE)&IF(S1374=\"\",\"\",CHAR(10)&\"-\"&VLOOKUP(S1374,EventConditionConfig!A:C,3,FALSE)))","v":""},"","","","",null,null,"",null,null,"",{"$nulls":4},{"$f":"IF(A1374=\"\",\"\",IF(ISNUMBER(Y1374),2,IF(A1375=\"\",IF(OR(AK1374>0,VLOOKUP(O1374,EventConfig!A:C,3,FALSE)=4),3,\"\"),1)))","v":""},"",null,6592,9152]
[{"$nulls":10},{"$f":"IF(J1375=\"\",\"\",VLOOKUP(J1375,EventNPC!A:F,6,FALSE))","v":""},{"$nulls":26},"",0]
[{"$f":"O1376*100+P1376","v":915301},{"$f":"IF(C1376=\"\",\"\",IF(C1376=C1375,B1375,MAX(AL1375,AL1374)+1))","v":6593},"完成对话",{"$f":"IF(E1376=\"\",\"\",IF(E1376=E1375,D1375,MAX(AL1375,AL1374,B1376)+1))","v":""},{"$nulls":6},{"$f":"IF(J1376=\"\",\"\",VLOOKUP(J1376,EventNPC!A:F,6,FALSE))","v":""},{"$f":"IF(M1376=\"\",\"\",MAX(AL1375,AL1374,B1376,D1376)+1)","v":6594},"神识探到，那块石头正鬼鬼祟祟画着什么。见到你，它立刻站直，神情自信",null,9153,{"$f":"IF(O1376=\"\",\"\",IF(O1376=O1375,P1375+1,1))","v":1},{"$f":"_xlfn.TEXTJOIN(\";\",1,R1376:S1376)","v":""},null,null,{"$f":"IF(R1376=\"\",\"\",\"-\"&VLOOKUP(R1376,EventConditionConfig!A:C,3,FALSE)&IF(S1376=\"\",\"\",CHAR(10)&\"-\"&VLOOKUP(S1376,EventConditionConfig!A:C,3,FALSE)))","v":""},{"$f":"IF(Y1376=\"\",\"\",IF(ISTEXT(Y1376),1,2))","v":""},{"$f":"IF(U1376=1,_xlfn.TEXTJOIN(\";\",1,IF(Z1376=\"\",A1376+1,Z1376),IF(AND(AA1376<>\"\",AC1376=\"\"),A1376+1,AC1376),IF(AND(AD1376<>\"\",AF1376=\"\"),A1376+1,AF1376)),IF(U1376=2,Y1376,\"\"))","v":""},{"$f":"_xlfn.TEXTJOIN(\";\",1,X1376,AA1376,AD1376)","v":""},{"$f":"IF(OR(ISNUMBER(Y1376),Y1376=\"\"),\"\",MAX(AL1375,AL1373,B1376,D1376,L1376)+1)","v":""},null,null,{"$f":"IF(OR(ISNUMBER(AB1376),AB1376=\"\"),\"\",X1376+1)","v":""},null,null,{"$f":"IF(OR(ISNUMBER(AE1376),AE1376=\"\"),\"\",AA1376+1)","v":""},{"$nulls":4},{"$f":"IF(A1376=\"\",\"\",IF(ISNUMBER(Y1376),2,IF(A1377=\"\",IF(OR(AK1376>0,VLOOKUP(O1376,EventConfig!A:C,3,FALSE)=4),3,\"\"),1)))","v":1},{"$f":"IF(AI1376=\"\",\"\",CHOOSE(AI1376,IF(AK1376=\"\",A1376+1,AK1376),CONCATENATE(IF(AK1376=\"\",A1376+1,AK1376),\";101\"),IF(AK1376=\"\",O1376+1,AK1376)))","v":915302},null,6594,9153]
[{"$f":"O1377*100+P1377","v":915302},{"$f":"IF(C1377=\"\",\"\",IF(C1377=C1376,B1376,MAX(AL1376,AL1375)+1))","v":6593},"完成对话",{"$f":"IF(E1377=\"\",\"\",IF(E1377=E1376,D1376,MAX(AL1376,AL1375,B1377)+1))","v":""},{"$nulls":5},147,{"$f":"IF(J1377=\"\",\"\",VLOOKUP(J1377,EventNPC!A:F,6,FALSE))","v":"石精"},{"$f":"IF(M1377=\"\",\"\",MAX(AL1376,AL1375,B1377,D1377)+1)","v":6595},"仙长！这次我学会了新招数！我可不止拳头了",null,9153,{"$f":"IF(O1377=\"\",\"\",IF(O1377=O1376,P1376+1,1))","v":2},{"$f":"_xlfn.TEXTJOIN(\";\",1,R1377:S1377)","v":""},null,null,{"$f":"IF(R1377=\"\",\"\",\"-\"&VLOOKUP(R1377,EventConditionConfig!A:C,3,FALSE)&IF(S1377=\"\",\"\",CHAR(10)&\"-\"&VLOOKUP(S1377,EventConditionConfig!A:C,3,FALSE)))","v":""},{"$f":"IF(Y1377=\"\",\"\",IF(ISTEXT(Y1377),1,2))","v":1},{"$f":"IF(U1377=1,_xlfn.TEXTJOIN(\";\",1,IF(Z1377=\"\",A1377+1,Z1377),IF(AND(AA1377<>\"\",AC1377=\"\"),A1377+1,AC1377),IF(AND(AD1377<>\"\",AF1377=\"\"),A1377+1,AF1377)),IF(U1377=2,Y1377,\"\"))","v":"915303;915305;915307"},{"$f":"_xlfn.TEXTJOIN(\";\",1,X1377,AA1377,AD1377)","v":"6596;6597;6598"},{"$f":"IF(OR(ISNUMBER(Y1377),Y1377=\"\"),\"\",MAX(AL1376,AL1374,B1377,D1377,L1377)+1)","v":6596},"出剪刀",915303,{"$f":"IF(OR(ISNUMBER(AB1377),AB1377=\"\"),\"\",X1377+1)","v":6597},"出石头",915305,{"$f":"IF(OR(ISNUMBER(AE1377),AE1377=\"\"),\"\",AA1377+1)","v":6598},"出布",915307,null,null,{"$f":"IF(A1377=\"\",\"\",IF(ISNUMBER(Y1377),2,IF(A1378=\"\",IF(OR(AK1377>0,VLOOKUP(O1377,EventConfig!A:C,3,FALSE)=4),3,\"\"),1)))","v":1},{"$f":"IF(AI1377=\"\",\"\",CHOOSE(AI1377,IF(AK1377=\"\",A1377+1,AK1377),CONCATENATE(IF(AK1377=\"\",A1377+1,AK1377),\";101\"),IF(AK1377=\"\",O1377+1,AK1377)))","v":915303},null,6598,9153]
[915303,6593,"完成对话","",{"$nulls":5},147,{"$f":"IF(J1378=\"\",\"\",VLOOKUP(J1378,EventNPC!A:F,6,FALSE))","v":"石精"},6599,"剪刀，对付你画的‘布’",null,9153,3,"",null,null,{"$f":"IF(R1378=\"\",\"\",\"-\"&VLOOKUP(R1378,EventConditionConfig!A:C,3,FALSE)&IF(S1378=\"\",\"\",CHAR(10)&\"-\"&VLOOKUP(S1378,EventConditionConfig!A:C,3,FALSE)))","v":""},"","","","",null,null,"",null,null,"",{"$nulls":4},{"$f":"IF(A1378=\"\",\"\",IF(ISNUMBER(Y1378),2,IF(A1379=\"\",IF(OR(AK1378>0,VLOOKUP(O1378,EventConfig!A:C,3,FALSE)=4),3,\"\"),1)))","v":1},915304,null,6599,9153]
[915304,6593,"完成对话","",{"$nulls":5},147,{"$f":"IF(J1379=\"\",\"\",VLOOKUP(J1379,EventNPC!A:F,6,FALSE))","v":"石精"},6600,"（大笑）骗到你了！我还是拳头！",null,9153,4,"",null,null,{"$f":"IF(R1379=\"\",\"\",\"-\"&VLOOKUP(R1379,EventConditionConfig!A:C,3,FALSE)&IF(S1379=\"\",\"\",CHAR(10)&\"-\"&VLOOKUP(S1379,EventConditionConfig!A:C,3,FALSE)))","v":""},"","","","",null,null,"",null,null,"",{"$nulls":7},6600,9153]
[915305,6593,"完成对话","",{"$nulls":5},100,{"$f":"IF(J1380=\"\",\"\",VLOOKUP(J1380,EventNPC!A:F,6,FALSE))","v":"玩家"},6601,"我也出石头。",null,9153,5,"",null,null,{"$f":"IF(R1380=\"\",\"\",\"-\"&VLOOKUP(R1380,EventConditionConfig!A:C,3,FALSE)&IF(S1380=\"\",\"\",CHAR(10)&\"-\"&VLOOKUP(S1380,EventConditionConfig!A:C,3,FALSE)))","v":""},"","","","",null,null,"",null,null,"",{"$nulls":4},{"$f":"IF(A1380=\"\",\"\",IF(ISNUMBER(Y1380),2,IF(A1381=\"\",IF(OR(AK1380>0,VLOOKUP(O1380,EventConfig!A:C,3,FALSE)=4),3,\"\"),1)))","v":1},915306,null,6601,9153]
[915306,6593,"完成对话","",{"$nulls":5},147,{"$f":"IF(J1381=\"\",\"\",VLOOKUP(J1381,EventNPC!A:F,6,FALSE))","v":"石精"},6602,"哈哈！平手，但这次我至少不输！",null,9153,6,"",null,null,{"$f":"IF(R1381=\"\",\"\",\"-\"&VLOOKUP(R1381,EventConditionConfig!A:C,3,FALSE)&IF(S1381=\"\",\"\",CHAR(10)&\"-\"&VLOOKUP(S1381,EventConditionConfig!A:C,3,FALSE)))","v":""},"","","","",null,null,"",null,null,"",{"$nulls":7},6602,9153]
[915307,6593,"完成对话","",{"$nulls":5},100,{"$f":"IF(J1382=\"\",\"\",VLOOKUP(J1382,EventNPC!A:F,6,FALSE))","v":"玩家"},6603,"石头精，你再怎么装，终究还是拳头。",null,9153,7,"",null,null,{"$f":"IF(R1382=\"\",\"\",\"-\"&VLOOKUP(R1382,EventConditionConfig!A:C,3,FALSE)&IF(S1382=\"\",\"\",CHAR(10)&\"-\"&VLOOKUP(S1382,EventConditionConfig!A:C,3,FALSE)))","v":""},"","","","",null,null,"",null,null,"",{"$nulls":4},{"$f":"IF(A1382=\"\",\"\",IF(ISNUMBER(Y1382),2,IF(A1383=\"\",IF(OR(AK1382>0,VLOOKUP(O1382,EventConfig!A:C,3,FALSE)=4),3,\"\"),1)))","v":1},915308,null,6603,9153]
[915308,6593,"完成对话","",{"$nulls":6},{"$f":"IF(J1383=\"\",\"\",VLOOKUP(J1383,EventNPC!A:F,6,FALSE))","v":""},6604,"石头精一愣，咬牙切齿，最后瘫倒在地",null,9153,8,"",null,null,{"$f":"IF(R1383=\"\",\"\",\"-\"&VLOOKUP(R1383,EventConditionConfig!A:C,3,FALSE)&IF(S1383=\"\",\"\",CHAR(10)&\"-\"&VLOOKUP(S1383,EventConditionConfig!A:C,3,FALSE)))","v":""},"","","","",null,null,"",null,null,"",{"$nulls":4},{"$f":"IF(A1383=\"\",\"\",IF(ISNUMBER(Y1383),2,IF(A1384=\"\",IF(OR(AK1383>0,VLOOKUP(O1383,EventConfig!A:C,3,FALSE)=4),3,\"\"),1)))","v":1},915309,null,6604,9153]
[915309,6593,"完成对话","",{"$nulls":5},147,{"$f":"IF(J1384=\"\",\"\",VLOOKUP(J1384,EventNPC!A:F,6,FALSE))","v":"石精"},6605,"仙长太狡猾了……我认输。",null,9153,9,"",null,null,{"$f":"IF(R1384=\"\",\"\",\"-\"&VLOOKUP(R1384,EventConditionConfig!A:C,3,FALSE)&IF(S1384=\"\",\"\",CHAR(10)&\"-\"&VLOOKUP(S1384,EventConditionConfig!A:C,3,FALSE)))","v":""},"","","","",null,null,"",null,null,"",{"$nulls":4},{"$f":"IF(A1384=\"\",\"\",IF(ISNUMBER(Y1384),2,IF(A1385=\"\",IF(OR(AK1384>0,VLOOKUP(O1384,EventConfig!A:C,3,FALSE)=4),3,\"\"),1)))","v":1},915310,null,6605,9153]
[915310,6593,"完成对话","",{"$nulls":5},147,{"$f":"IF(J1385=\"\",\"\",VLOOKUP(J1385,EventNPC!A:F,6,FALSE))","v":"石精"},6606,"它掏出一堆灵石，嘀咕着：我还是去练习别的游戏吧……",null,9153,10,"",null,null,{"$f":"IF(R1385=\"\",\"\",\"-\"&VLOOKUP(R1385,EventConditionConfig!A:C,3,FALSE)&IF(S1385=\"\",\"\",CHAR(10)&\"-\"&VLOOKUP(S1385,EventConditionConfig!A:C,3,FALSE)))","v":""},"","","","",null,null,"",null,null,"",{"$nulls":4},{"$f":"IF(A1385=\"\",\"\",IF(ISNUMBER(Y1385),2,IF(A1386=\"\",IF(OR(AK1385>0,VLOOKUP(O1385,EventConfig!A:C,3,FALSE)=4),3,\"\"),1)))","v":""},"",null,6606,9153]
[{"$nulls":10},{"$f":"IF(J1386=\"\",\"\",VLOOKUP(J1386,EventNPC!A:F,6,FALSE))","v":""},{"$nulls":26},"",0]
[{"$f":"O1387*100+P1387","v":915401},{"$f":"IF(C1387=\"\",\"\",IF(C1387=C1386,B1386,MAX(AL1386,AL1385)+1))","v":6607},"完成对话",{"$f":"IF(E1387=\"\",\"\",IF(E1387=E1386,D1386,MAX(AL1386,AL1385,B1387)+1))","v":""},{"$nulls":5},147,{"$f":"IF(J1387=\"\",\"\",VLOOKUP(J1387,EventNPC!A:F,6,FALSE))","v":"石精"},{"$f":"IF(M1387=\"\",\"\",MAX(AL1386,AL1385,B1387,D1387)+1)","v":6608},"石头精抱着一堆灵石，愣愣地看着你。",null,9154,{"$f":"IF(O1387=\"\",\"\",IF(O1387=O1386,P1386+1,1))","v":1},{"$f":"_xlfn.TEXTJOIN(\";\",1,R1387:S1387)","v":""},null,null,{"$f":"IF(R1387=\"\",\"\",\"-\"&VLOOKUP(R1387,EventConditionConfig!A:C,3,FALSE)&IF(S1387=\"\",\"\",CHAR(10)&\"-\"&VLOOKUP(S1387,EventConditionConfig!A:C,3,FALSE)))","v":""},{"$f":"IF(Y1387=\"\",\"\",IF(ISTEXT(Y1387),1,2))","v":""},{"$f":"IF(U1387=1,_xlfn.TEXTJOIN(\";\",1,IF(Z1387=\"\",A1387+1,Z1387),IF(AND(AA1387<>\"\",AC1387=\"\"),A1387+1,AC1387),IF(AND(AD1387<>\"\",AF1387=\"\"),A1387+1,AF1387)),IF(U1387=2,Y1387,\"\"))","v":""},{"$f":"_xlfn.TEXTJOIN(\";\",1,X1387,AA1387,AD1387)","v":""},{"$f":"IF(OR(ISNUMBER(Y1387),Y1387=\"\"),\"\",MAX(AL1386,AL1384,B1387,D1387,L1387)+1)","v":""},null,null,{"$f":"IF(OR(ISNUMBER(AB1387),AB1387=\"\"),\"\",X1387+1)","v":""},null,null,{"$f":"IF(OR(ISNUMBER(AE1387),AE1387=\"\"),\"\",AA1387+1)","v":""},{"$nulls":4},{"$f":"IF(A1387=\"\",\"\",IF(ISNUMBER(Y1387),2,IF(A1388=\"\",IF(OR(AK1387>0,VLOOKUP(O1387,EventConfig!A:C,3,FALSE)=4),3,\"\"),1)))","v":1},{"$f":"IF(AI1387=\"\",\"\",CHOOSE(AI1387,IF(AK1387=\"\",A1387+1,AK1387),CONCATENATE(IF(AK1387=\"\",A1387+1,AK1387),\";101\"),IF(AK1387=\"\",O1387+1,AK1387)))","v":915402},null,6608,9154]
[{"$f":"O1388*100+P1388","v":915402},{"$f":"IF(C1388=\"\",\"\",IF(C1388=C1387,B1387,MAX(AL1387,AL1386)+1))","v":6607},"完成对话",{"$f":"IF(E1388=\"\",\"\",IF(E1388=E1387,D1387,MAX(AL1387,AL1386,B1388)+1))","v":""},{"$nulls":5},147,{"$f":"IF(J1388=\"\",\"\",VLOOKUP(J1388,EventNPC!A:F,6,FALSE))","v":"石精"},{"$f":"IF(M1388=\"\",\"\",MAX(AL1387,AL1386,B1388,D1388)+1)","v":6609},"仙长……你每次都输。",null,9154,{"$f":"IF(O1388=\"\",\"\",IF(O1388=O1387,P1387+1,1))","v":2},{"$f":"_xlfn.TEXTJOIN(\";\",1,R1388:S1388)","v":""},null,null,{"$f":"IF(R1388=\"\",\"\",\"-\"&VLOOKUP(R1388,EventConditionConfig!A:C,3,FALSE)&IF(S1388=\"\",\"\",CHAR(10)&\"-\"&VLOOKUP(S1388,EventConditionConfig!A:C,3,FALSE)))","v":""},{"$f":"IF(Y1388=\"\",\"\",IF(ISTEXT(Y1388),1,2))","v":""},{"$f":"IF(U1388=1,_xlfn.TEXTJOIN(\";\",1,IF(Z1388=\"\",A1388+1,Z1388),IF(AND(AA1388<>\"\",AC1388=\"\"),A1388+1,AC1388),IF(AND(AD1388<>\"\",AF1388=\"\"),A1388+1,AF1388)),IF(U1388=2,Y1388,\"\"))","v":""},{"$f":"_xlfn.TEXTJOIN(\";\",1,X1388,AA1388,AD1388)","v":""},{"$f":"IF(OR(ISNUMBER(Y1388),Y1388=\"\"),\"\",MAX(AL1387,AL1385,B1388,D1388,L1388)+1)","v":""},null,null,{"$f":"IF(OR(ISNUMBER(AB1388),AB1388=\"\"),\"\",X1388+1)","v":""},null,null,{"$f":"IF(OR(ISNUMBER(AE1388),AE1388=\"\"),\"\",AA1388+1)","v":""},{"$nulls":4},{"$f":"IF(A1388=\"\",\"\",IF(ISNUMBER(Y1388),2,IF(A1389=\"\",IF(OR(AK1388>0,VLOOKUP(O1388,EventConfig!A:C,3,FALSE)=4),3,\"\"),1)))","v":1},{"$f":"IF(AI1388=\"\",\"\",CHOOSE(AI1388,IF(AK1388=\"\",A1388+1,AK1388),CONCATENATE(IF(AK1388=\"\",A1388+1,AK1388),\";101\"),IF(AK1388=\"\",O1388+1,AK1388)))","v":915403},null,6609,9154]
[915403,6607,"完成对话","",{"$nulls":5},147,{"$f":"IF(J1389=\"\",\"\",VLOOKUP(J1389,EventNPC!A:F,6,FALSE))","v":"石精"},6610,"我……我本来是想多赢几次灵石的，可你总是出剪刀，好像是……故意让我赢的？",null,9154,3,"",null,null,{"$f":"IF(R1389=\"\",\"\",\"-\"&VLOOKUP(R1389,EventConditionConfig!A:C,3,FALSE)&IF(S1389=\"\",\"\",CHAR(10)&\"-\"&VLOOKUP(S1389,EventConditionConfig!A:C,3,FALSE)))","v":""},"","","","",null,null,"",null,null,"",{"$nulls":4},{"$f":"IF(A1389=\"\",\"\",IF(ISNUMBER(Y1389),2,IF(A1390=\"\",IF(OR(AK1389>0,VLOOKUP(O1389,EventConfig!A:C,3,FALSE)=4),3,\"\"),1)))","v":1},915404,null,6610,9154]
[915404,6607,"完成对话","",{"$nulls":5},147,{"$f":"IF(J1390=\"\",\"\",VLOOKUP(J1390,EventNPC!A:F,6,FALSE))","v":"石精"},6611,"它小心翼翼地把灵石推到你面前",null,9154,4,"",null,null,{"$f":"IF(R1390=\"\",\"\",\"-\"&VLOOKUP(R1390,EventConditionConfig!A:C,3,FALSE)&IF(S1390=\"\",\"\",CHAR(10)&\"-\"&VLOOKUP(S1390,EventConditionConfig!A:C,3,FALSE)))","v":""},"","","","",null,null,"",null,null,"",{"$nulls":4},{"$f":"IF(A1390=\"\",\"\",IF(ISNUMBER(Y1390),2,IF(A1391=\"\",IF(OR(AK1390>0,VLOOKUP(O1390,EventConfig!A:C,3,FALSE)=4),3,\"\"),1)))","v":1},915405,null,6611,9154]
[915405,6607,"完成对话","",{"$nulls":5},147,{"$f":"IF(J1391=\"\",\"\",VLOOKUP(J1391,EventNPC!A:F,6,FALSE))","v":"石精"},6612,"这些……还是还给你吧。我石头精傻是傻，但也知道，若不是你让我，哪有我连赢三次的道理？仙长你是个好人，我……我不占你便宜。",null,9154,5,"",null,null,{"$f":"IF(R1391=\"\",\"\",\"-\"&VLOOKUP(R1391,EventConditionConfig!A:C,3,FALSE)&IF(S1391=\"\",\"\",CHAR(10)&\"-\"&VLOOKUP(S1391,EventConditionConfig!A:C,3,FALSE)))","v":""},"","","","",null,null,"",null,null,"",{"$nulls":4},{"$f":"IF(A1391=\"\",\"\",IF(ISNUMBER(Y1391),2,IF(A1392=\"\",IF(OR(AK1391>0,VLOOKUP(O1391,EventConfig!A:C,3,FALSE)=4),3,\"\"),1)))","v":1},915406,null,6612,9154]
[915406,6607,"完成对话","",{"$nulls":5},147,{"$f":"IF(J1392=\"\",\"\",VLOOKUP(J1392,EventNPC!A:F,6,FALSE))","v":"石精"},6613,"石头精憨笑着，身体慢慢沉入土中，最后只留下一句声音",null,9154,6,"",null,null,{"$f":"IF(R1392=\"\",\"\",\"-\"&VLOOKUP(R1392,EventConditionConfig!A:C,3,FALSE)&IF(S1392=\"\",\"\",CHAR(10)&\"-\"&VLOOKUP(S1392,EventConditionConfig!A:C,3,FALSE)))","v":""},"","","","",null,null,"",null,null,"",{"$nulls":4},{"$f":"IF(A1392=\"\",\"\",IF(ISNUMBER(Y1392),2,IF(A1393=\"\",IF(OR(AK1392>0,VLOOKUP(O1392,EventConfig!A:C,3,FALSE)=4),3,\"\"),1)))","v":1},915407,null,6613,9154]
[915407,6607,"完成对话","",{"$nulls":5},147,{"$f":"IF(J1393=\"\",\"\",VLOOKUP(J1393,EventNPC!A:F,6,FALSE))","v":"石精"},6614,"以后……我也要学会输一输，才能算是真正的游戏吧",null,9154,7,"",null,null,{"$f":"IF(R1393=\"\",\"\",\"-\"&VLOOKUP(R1393,EventConditionConfig!A:C,3,FALSE)&IF(S1393=\"\",\"\",CHAR(10)&\"-\"&VLOOKUP(S1393,EventConditionConfig!A:C,3,FALSE)))","v":""},"","","","",null,null,"",null,null,"",{"$nulls":4},{"$f":"IF(A1393=\"\",\"\",IF(ISNUMBER(Y1393),2,IF(A1394=\"\",IF(OR(AK1393>0,VLOOKUP(O1393,EventConfig!A:C,3,FALSE)=4),3,\"\"),1)))","v":""},"",null,6614,9154]
[{"$nulls":10},{"$f":"IF(J1394=\"\",\"\",VLOOKUP(J1394,EventNPC!A:F,6,FALSE))","v":""},{"$nulls":26},"",0]
[{"$f":"O1395*100+P1395","v":915501},{"$f":"IF(C1395=\"\",\"\",IF(C1395=C1394,B1394,MAX(AL1394,AL1393)+1))","v":6615},"完成对话",{"$f":"IF(E1395=\"\",\"\",IF(E1395=E1394,D1394,MAX(AL1394,AL1393,B1395)+1))","v":""},{"$nulls":5},148,{"$f":"IF(J1395=\"\",\"\",VLOOKUP(J1395,EventNPC!A:F,6,FALSE))","v":"小雷霆兽"},{"$f":"IF(M1395=\"\",\"\",MAX(AL1394,AL1393,B1395,D1395)+1)","v":6616},"一只浑身带电的小兽蜷缩在树洞，神识扫过，它尖叫：“别过来！我会放电的！”",null,9155,{"$f":"IF(O1395=\"\",\"\",IF(O1395=O1394,P1394+1,1))","v":1},{"$f":"_xlfn.TEXTJOIN(\";\",1,R1395:S1395)","v":""},null,null,{"$f":"IF(R1395=\"\",\"\",\"-\"&VLOOKUP(R1395,EventConditionConfig!A:C,3,FALSE)&IF(S1395=\"\",\"\",CHAR(10)&\"-\"&VLOOKUP(S1395,EventConditionConfig!A:C,3,FALSE)))","v":""},{"$f":"IF(Y1395=\"\",\"\",IF(ISTEXT(Y1395),1,2))","v":""},{"$f":"IF(U1395=1,_xlfn.TEXTJOIN(\";\",1,IF(Z1395=\"\",A1395+1,Z1395),IF(AND(AA1395<>\"\",AC1395=\"\"),A1395+1,AC1395),IF(AND(AD1395<>\"\",AF1395=\"\"),A1395+1,AF1395)),IF(U1395=2,Y1395,\"\"))","v":""},{"$f":"_xlfn.TEXTJOIN(\";\",1,X1395,AA1395,AD1395)","v":""},{"$f":"IF(OR(ISNUMBER(Y1395),Y1395=\"\"),\"\",MAX(AL1394,AL1392,B1395,D1395,L1395)+1)","v":""},null,null,{"$f":"IF(OR(ISNUMBER(AB1395),AB1395=\"\"),\"\",X1395+1)","v":""},null,null,{"$f":"IF(OR(ISNUMBER(AE1395),AE1395=\"\"),\"\",AA1395+1)","v":""},{"$nulls":4},{"$f":"IF(A1395=\"\",\"\",IF(ISNUMBER(Y1395),2,IF(A1396=\"\",IF(OR(AK1395>0,VLOOKUP(O1395,EventConfig!A:C,3,FALSE)=4),3,\"\"),1)))","v":1},{"$f":"IF(AI1395=\"\",\"\",CHOOSE(AI1395,IF(AK1395=\"\",A1395+1,AK1395),CONCATENATE(IF(AK1395=\"\",A1395+1,AK1395),\";101\"),IF(AK1395=\"\",O1395+1,AK1395)))","v":915502},null,6616,9155]
[{"$f":"O1396*100+P1396","v":915502},{"$f":"IF(C1396=\"\",\"\",IF(C1396=C1395,B1395,MAX(AL1395,AL1394)+1))","v":6615},"完成对话",{"$f":"IF(E1396=\"\",\"\",IF(E1396=E1395,D1395,MAX(AL1395,AL1394,B1396)+1))","v":""},{"$nulls":5},148,{"$f":"IF(J1396=\"\",\"\",VLOOKUP(J1396,EventNPC!A:F,6,FALSE))","v":"小雷霆兽"},{"$f":"IF(M1396=\"\",\"\",MAX(AL1395,AL1394,B1396,D1396)+1)","v":6617},"然而它抖得厉害，电花四溅，明显吓坏了。",null,9155,{"$f":"IF(O1396=\"\",\"\",IF(O1396=O1395,P1395+1,1))","v":2},{"$f":"_xlfn.TEXTJOIN(\";\",1,R1396:S1396)","v":""},null,null,{"$f":"IF(R1396=\"\",\"\",\"-\"&VLOOKUP(R1396,EventConditionConfig!A:C,3,FALSE)&IF(S1396=\"\",\"\",CHAR(10)&\"-\"&VLOOKUP(S1396,EventConditionConfig!A:C,3,FALSE)))","v":""},{"$f":"IF(Y1396=\"\",\"\",IF(ISTEXT(Y1396),1,2))","v":1},{"$f":"IF(U1396=1,_xlfn.TEXTJOIN(\";\",1,IF(Z1396=\"\",A1396+1,Z1396),IF(AND(AA1396<>\"\",AC1396=\"\"),A1396+1,AC1396),IF(AND(AD1396<>\"\",AF1396=\"\"),A1396+1,AF1396)),IF(U1396=2,Y1396,\"\"))","v":"915503;915504;915505"},{"$f":"_xlfn.TEXTJOIN(\";\",1,X1396,AA1396,AD1396)","v":"6618;6619;6620"},{"$f":"IF(OR(ISNUMBER(Y1396),Y1396=\"\"),\"\",MAX(AL1395,AL1393,B1396,D1396,L1396)+1)","v":6618},"安抚它：“我不会伤害你”",915503,{"$f":"IF(OR(ISNUMBER(AB1396),AB1396=\"\"),\"\",X1396+1)","v":6619},"伸手过去，试探一下",915504,{"$f":"IF(OR(ISNUMBER(AE1396),AE1396=\"\"),\"\",AA1396+1)","v":6620},"吓唬它：“我就是猎兽人！”",915505,null,null,{"$f":"IF(A1396=\"\",\"\",IF(ISNUMBER(Y1396),2,IF(A1397=\"\",IF(OR(AK1396>0,VLOOKUP(O1396,EventConfig!A:C,3,FALSE)=4),3,\"\"),1)))","v":1},{"$f":"IF(AI1396=\"\",\"\",CHOOSE(AI1396,IF(AK1396=\"\",A1396+1,AK1396),CONCATENATE(IF(AK1396=\"\",A1396+1,AK1396),\";101\"),IF(AK1396=\"\",O1396+1,AK1396)))","v":915503},null,6620,9155]
[915503,6615,"完成对话","",{"$nulls":5},148,{"$f":"IF(J1397=\"\",\"\",VLOOKUP(J1397,EventNPC!A:F,6,FALSE))","v":"小雷霆兽"},6621,"小兽感动得嗡嗡响，掉下一根带电的胡须给你。",null,9155,3,"",null,null,{"$f":"IF(R1397=\"\",\"\",\"-\"&VLOOKUP(R1397,EventConditionConfig!A:C,3,FALSE)&IF(S1397=\"\",\"\",CHAR(10)&\"-\"&VLOOKUP(S1397,EventConditionConfig!A:C,3,FALSE)))","v":""},"","","","",null,null,"",null,null,"",{"$nulls":4},{"$f":"IF(OR(AK1397=\"结尾\",A1397=\"\"),\"\",IF(ISNUMBER(Y1397),2,IF(A1398=\"\",IF(OR(AK1397>0,VLOOKUP(O1397,EventConfig!A:C,3,FALSE)=4),3,\"\"),1)))","v":""},{"$f":"IF(OR(AK1397=\"结尾\",AI1397=\"\"),\"\",CHOOSE(AI1397,IF(AK1397=\"\",A1397+1,AK1397),CONCATENATE(IF(AK1397=\"\",A1397+1,AK1397),\";101\"),IF(AK1397=\"\",O1397+1,AK1397)))","v":""},"结尾",6621,9155]
[915504,6615,"完成对话","",{"$nulls":5},148,{"$f":"IF(J1398=\"\",\"\",VLOOKUP(J1398,EventNPC!A:F,6,FALSE))","v":"小雷霆兽"},6622,"你被电得头发炸开，小兽惊叫：“对不起对不起！”",null,9155,4,"",null,null,{"$f":"IF(R1398=\"\",\"\",\"-\"&VLOOKUP(R1398,EventConditionConfig!A:C,3,FALSE)&IF(S1398=\"\",\"\",CHAR(10)&\"-\"&VLOOKUP(S1398,EventConditionConfig!A:C,3,FALSE)))","v":""},"","","","",null,null,"",null,null,"",{"$nulls":4},{"$f":"IF(OR(AK1398=\"结尾\",A1398=\"\"),\"\",IF(ISNUMBER(Y1398),2,IF(A1399=\"\",IF(OR(AK1398>0,VLOOKUP(O1398,EventConfig!A:C,3,FALSE)=4),3,\"\"),1)))","v":""},{"$f":"IF(OR(AK1398=\"结尾\",AI1398=\"\"),\"\",CHOOSE(AI1398,IF(AK1398=\"\",A1398+1,AK1398),CONCATENATE(IF(AK1398=\"\",A1398+1,AK1398),\";101\"),IF(AK1398=\"\",O1398+1,AK1398)))","v":""},"结尾",6622,9155]
[915505,6615,"完成对话","",{"$nulls":5},148,{"$f":"IF(J1399=\"\",\"\",VLOOKUP(J1399,EventNPC!A:F,6,FALSE))","v":"小雷霆兽"},6623,"小兽吓晕过去，留下一股焦糊味。",null,9155,5,"",null,null,{"$f":"IF(R1399=\"\",\"\",\"-\"&VLOOKUP(R1399,EventConditionConfig!A:C,3,FALSE)&IF(S1399=\"\",\"\",CHAR(10)&\"-\"&VLOOKUP(S1399,EventConditionConfig!A:C,3,FALSE)))","v":""},"","","","",null,null,"",null,null,"",{"$nulls":4},{"$f":"IF(A1399=\"\",\"\",IF(ISNUMBER(Y1399),2,IF(A1400=\"\",IF(OR(AK1399>0,VLOOKUP(O1399,EventConfig!A:C,3,FALSE)=4),3,\"\"),1)))","v":""},"",null,6623,9155]
[{"$nulls":10},{"$f":"IF(J1400=\"\",\"\",VLOOKUP(J1400,EventNPC!A:F,6,FALSE))","v":""},{"$nulls":26},"",0]
[915601,6624,"完成对话","",{"$nulls":5},149,{"$f":"IF(J1401=\"\",\"\",VLOOKUP(J1401,EventNPC!A:F,6,FALSE))","v":"自称神兽的蚊子"},6625,"一只肥大的蚊子在你神识中嗡嗡直叫：\n “大胆修士！吾乃上古神兽转世，赐我些灵丹，我便能恢复真身！”",null,9156,1,"",null,null,{"$f":"IF(R1401=\"\",\"\",\"-\"&VLOOKUP(R1401,EventConditionConfig!A:C,3,FALSE)&IF(S1401=\"\",\"\",CHAR(10)&\"-\"&VLOOKUP(S1401,EventConditionConfig!A:C,3,FALSE)))","v":""},"","","","",null,null,"",null,null,"",{"$nulls":4},{"$f":"IF(A1401=\"\",\"\",IF(ISNUMBER(Y1401),2,IF(A1402=\"\",IF(OR(AK1401>0,VLOOKUP(O1401,EventConfig!A:C,3,FALSE)=4),3,\"\"),1)))","v":1},915602,null,6625,9156]
[{"$f":"O1402*100+P1402","v":915602},{"$f":"IF(C1402=\"\",\"\",IF(C1402=C1401,B1401,MAX(AL1401,AL1400)+1))","v":6624},"完成对话",{"$f":"IF(E1402=\"\",\"\",IF(E1402=E1401,D1401,MAX(AL1401,AL1400,B1402)+1))","v":""},{"$nulls":6},{"$f":"IF(J1402=\"\",\"\",VLOOKUP(J1402,EventNPC!A:F,6,FALSE))","v":""},{"$f":"IF(M1402=\"\",\"\",MAX(AL1401,AL1400,B1402,D1402)+1)","v":6626},"它拍着翅膀，表情却一本正经",null,9156,{"$f":"IF(O1402=\"\",\"\",IF(O1402=O1401,P1401+1,1))","v":2},{"$f":"_xlfn.TEXTJOIN(\";\",1,R1402:S1402)","v":""},null,null,{"$f":"IF(R1402=\"\",\"\",\"-\"&VLOOKUP(R1402,EventConditionConfig!A:C,3,FALSE)&IF(S1402=\"\",\"\",CHAR(10)&\"-\"&VLOOKUP(S1402,EventConditionConfig!A:C,3,FALSE)))","v":""},{"$f":"IF(Y1402=\"\",\"\",IF(ISTEXT(Y1402),1,2))","v":1},{"$f":"IF(U1402=1,_xlfn.TEXTJOIN(\";\",1,IF(Z1402=\"\",A1402+1,Z1402),IF(AND(AA1402<>\"\",AC1402=\"\"),A1402+1,AC1402),IF(AND(AD1402<>\"\",AF1402=\"\"),A1402+1,AF1402)),IF(U1402=2,Y1402,\"\"))","v":"915603;915604;915606"},{"$f":"_xlfn.TEXTJOIN(\";\",1,X1402,AA1402,AD1402)","v":"6627;6628;6629"},{"$f":"IF(OR(ISNUMBER(Y1402),Y1402=\"\"),\"\",MAX(AL1401,AL1399,B1402,D1402,L1402)+1)","v":6627},"给它一颗灵丹",915603,{"$f":"IF(OR(ISNUMBER(AB1402),AB1402=\"\"),\"\",X1402+1)","v":6628},"给它两颗灵丹",915604,{"$f":"IF(OR(ISNUMBER(AE1402),AE1402=\"\"),\"\",AA1402+1)","v":6629},"直接一巴掌拍死",915606,null,null,{"$f":"IF(A1402=\"\",\"\",IF(ISNUMBER(Y1402),2,IF(A1403=\"\",IF(OR(AK1402>0,VLOOKUP(O1402,EventConfig!A:C,3,FALSE)=4),3,\"\"),1)))","v":1},{"$f":"IF(AI1402=\"\",\"\",CHOOSE(AI1402,IF(AK1402=\"\",A1402+1,AK1402),CONCATENATE(IF(AK1402=\"\",A1402+1,AK1402),\";101\"),IF(AK1402=\"\",O1402+1,AK1402)))","v":915603},null,6629,9156]
[915603,6624,"完成对话","",{"$nulls":5},149,{"$f":"IF(J1403=\"\",\"\",VLOOKUP(J1403,EventNPC!A:F,6,FALSE))","v":"自称神兽的蚊子"},6630,"蚊子吸收后体型变大：“再来！再来！我快要恢复了！”",null,9156,3,"",null,null,{"$f":"IF(R1403=\"\",\"\",\"-\"&VLOOKUP(R1403,EventConditionConfig!A:C,3,FALSE)&IF(S1403=\"\",\"\",CHAR(10)&\"-\"&VLOOKUP(S1403,EventConditionConfig!A:C,3,FALSE)))","v":""},1,"915605;915606","6631;6632",6631,"再给它一颗灵丹",915605,6632,"直接一巴掌拍死",915606,"",{"$nulls":4},{"$f":"IF(A1403=\"\",\"\",IF(ISNUMBER(Y1403),2,IF(A1404=\"\",IF(OR(AK1403>0,VLOOKUP(O1403,EventConfig!A:C,3,FALSE)=4),3,\"\"),1)))","v":1},915604,null,6632,9156]
[915604,6624,"完成对话","",{"$nulls":6},{"$f":"IF(J1404=\"\",\"\",VLOOKUP(J1404,EventNPC!A:F,6,FALSE))","v":""},6633,"蚊子吸收后身体开始肿胀起来，不一会儿，爆成一团血雾。",null,9156,4,"",null,null,{"$f":"IF(R1404=\"\",\"\",\"-\"&VLOOKUP(R1404,EventConditionConfig!A:C,3,FALSE)&IF(S1404=\"\",\"\",CHAR(10)&\"-\"&VLOOKUP(S1404,EventConditionConfig!A:C,3,FALSE)))","v":""},"","","","",null,null,"",null,null,"",{"$nulls":4},{"$f":"IF(A1404=\"\",\"\",IF(ISNUMBER(Y1404),2,IF(A1405=\"\",IF(OR(AK1404>0,VLOOKUP(O1404,EventConfig!A:C,3,FALSE)=4),3,\"\"),1)))","v":1},915607,915607,6633,9156]
[915605,6624,"完成对话","",{"$nulls":6},{"$f":"IF(J1405=\"\",\"\",VLOOKUP(J1405,EventNPC!A:F,6,FALSE))","v":""},6634,"蚊子兴奋变得拳头大小，结果被风一吹，直接拍在岩石上，黏住不动。",null,9156,5,"",null,null,{"$f":"IF(R1405=\"\",\"\",\"-\"&VLOOKUP(R1405,EventConditionConfig!A:C,3,FALSE)&IF(S1405=\"\",\"\",CHAR(10)&\"-\"&VLOOKUP(S1405,EventConditionConfig!A:C,3,FALSE)))","v":""},"","","","",null,null,"",null,null,"",{"$nulls":4},{"$f":"IF(A1405=\"\",\"\",IF(ISNUMBER(Y1405),2,IF(A1406=\"\",IF(OR(AK1405>0,VLOOKUP(O1405,EventConfig!A:C,3,FALSE)=4),3,\"\"),1)))","v":1},915606,null,6634,9156]
[915606,6624,"完成对话","",{"$nulls":6},{"$f":"IF(J1406=\"\",\"\",VLOOKUP(J1406,EventNPC!A:F,6,FALSE))","v":""},6635,"你一巴掌拍下去，蚊子爆成一滩血迹",null,9156,6,"",null,null,{"$f":"IF(R1406=\"\",\"\",\"-\"&VLOOKUP(R1406,EventConditionConfig!A:C,3,FALSE)&IF(S1406=\"\",\"\",CHAR(10)&\"-\"&VLOOKUP(S1406,EventConditionConfig!A:C,3,FALSE)))","v":""},"","","","",null,null,"",null,null,"",{"$nulls":4},{"$f":"IF(A1406=\"\",\"\",IF(ISNUMBER(Y1406),2,IF(A1407=\"\",IF(OR(AK1406>0,VLOOKUP(O1406,EventConfig!A:C,3,FALSE)=4),3,\"\"),1)))","v":1},915607,null,6635,9156]
[915607,6624,"完成对话","",{"$nulls":6},{"$f":"IF(J1407=\"\",\"\",VLOOKUP(J1407,EventNPC!A:F,6,FALSE))","v":""},6636,"你拯救了无数凡人。",null,9156,7,"",null,null,{"$f":"IF(R1407=\"\",\"\",\"-\"&VLOOKUP(R1407,EventConditionConfig!A:C,3,FALSE)&IF(S1407=\"\",\"\",CHAR(10)&\"-\"&VLOOKUP(S1407,EventConditionConfig!A:C,3,FALSE)))","v":""},"","","","",null,null,"",null,null,"",{"$nulls":4},{"$f":"IF(A1407=\"\",\"\",IF(ISNUMBER(Y1407),2,IF(A1408=\"\",IF(OR(AK1407>0,VLOOKUP(O1407,EventConfig!A:C,3,FALSE)=4),3,\"\"),1)))","v":""},"",null,6636,9156]
[{"$nulls":10},{"$f":"IF(J1408=\"\",\"\",VLOOKUP(J1408,EventNPC!A:F,6,FALSE))","v":""},{"$nulls":26},"",0]
[{"$f":"O1409*100+P1409","v":915701},{"$f":"IF(C1409=\"\",\"\",IF(C1409=C1408,B1408,MAX(AL1408,AL1407)+1))","v":6637},"完成对话",{"$f":"IF(E1409=\"\",\"\",IF(E1409=E1408,D1408,MAX(AL1408,AL1407,B1409)+1))","v":""},{"$nulls":5},150,{"$f":"IF(J1409=\"\",\"\",VLOOKUP(J1409,EventNPC!A:F,6,FALSE))","v":"灵雀"},{"$f":"IF(M1409=\"\",\"\",MAX(AL1408,AL1407,B1409,D1409)+1)","v":6638},"神识探查到一只小灵雀坠落在林间，翅膀骨折。它虚弱地啾啾叫着，眼中满是祈求。",null,9157,{"$f":"IF(O1409=\"\",\"\",IF(O1409=O1408,P1408+1,1))","v":1},null,null,null,{"$f":"IF(R1409=\"\",\"\",\"-\"&VLOOKUP(R1409,EventConditionConfig!A:C,3,FALSE)&IF(S1409=\"\",\"\",CHAR(10)&\"-\"&VLOOKUP(S1409,EventConditionConfig!A:C,3,FALSE)))","v":""},{"$f":"IF(Y1409=\"\",\"\",IF(ISTEXT(Y1409),1,2))","v":1},{"$f":"IF(U1409=1,_xlfn.TEXTJOIN(\";\",1,IF(Z1409=\"\",A1409+1,Z1409),IF(AND(AA1409<>\"\",AC1409=\"\"),A1409+1,AC1409),IF(AND(AD1409<>\"\",AF1409=\"\"),A1409+1,AF1409)),IF(U1409=2,Y1409,\"\"))","v":"915702;915703;915704"},{"$f":"_xlfn.TEXTJOIN(\";\",1,X1409,AA1409,AD1409)","v":"6639;6640;6641"},{"$f":"IF(OR(ISNUMBER(Y1409),Y1409=\"\"),\"\",MAX(AL1408,AL1406,B1409,D1409,L1409)+1)","v":6639},"为它疗伤",915702,{"$f":"IF(OR(ISNUMBER(AB1409),AB1409=\"\"),\"\",X1409+1)","v":6640},"无视",915703,{"$f":"IF(OR(ISNUMBER(AE1409),AE1409=\"\"),\"\",AA1409+1)","v":6641},"打算烤来吃",915704,null,null,{"$f":"IF(A1409=\"\",\"\",IF(ISNUMBER(Y1409),2,IF(A1410=\"\",IF(OR(AK1409>0,VLOOKUP(O1409,EventConfig!A:C,3,FALSE)=4),3,\"\"),1)))","v":1},{"$f":"IF(AI1409=\"\",\"\",CHOOSE(AI1409,IF(AK1409=\"\",A1409+1,AK1409),CONCATENATE(IF(AK1409=\"\",A1409+1,AK1409),\";101\"),IF(AK1409=\"\",O1409+1,AK1409)))","v":915702},null,6641,9157]
[915702,6637,"完成对话","",{"$nulls":6},{"$f":"IF(J1410=\"\",\"\",VLOOKUP(J1410,EventNPC!A:F,6,FALSE))","v":""},6642,"灵雀恢复后绕你飞翔，化作灵光钻入你识海。",null,9157,2,{"$f":"_xlfn.TEXTJOIN(\";\",1,R1410:S1410)","v":""},null,null,{"$f":"IF(R1410=\"\",\"\",\"-\"&VLOOKUP(R1410,EventConditionConfig!A:C,3,FALSE)&IF(S1410=\"\",\"\",CHAR(10)&\"-\"&VLOOKUP(S1410,EventConditionConfig!A:C,3,FALSE)))","v":""},"",{"$f":"IF(U1410=1,_xlfn.TEXTJOIN(\";\",1,IF(Z1410=\"\",A1410+1,Z1410),IF(AND(AA1410<>\"\",AC1410=\"\"),A1410+1,AC1410),IF(AND(AD1410<>\"\",AF1410=\"\"),A1410+1,AF1410)),IF(U1410=2,Y1410,\"\"))","v":""},"","",null,null,"",null,null,"",{"$nulls":4},{"$f":"IF(OR(AK1410=\"结尾\",A1410=\"\"),\"\",IF(ISNUMBER(Y1410),2,IF(A1411=\"\",IF(OR(AK1410>0,VLOOKUP(O1410,EventConfig!A:C,3,FALSE)=4),3,\"\"),1)))","v":""},{"$f":"IF(OR(AK1410=\"结尾\",AI1410=\"\"),\"\",CHOOSE(AI1410,IF(AK1410=\"\",A1410+1,AK1410),CONCATENATE(IF(AK1410=\"\",A1410+1,AK1410),\";101\"),IF(AK1410=\"\",O1410+1,AK1410)))","v":""},"结尾",6642,9157]
[915703,6637,"完成对话","",{"$nulls":6},{"$f":"IF(J1411=\"\",\"\",VLOOKUP(J1411,EventNPC!A:F,6,FALSE))","v":""},6643,"灵雀痛苦死去，你心神微受压抑。",null,9157,3,{"$f":"_xlfn.TEXTJOIN(\";\",1,R1411:S1411)","v":""},null,null,{"$f":"IF(R1411=\"\",\"\",\"-\"&VLOOKUP(R1411,EventConditionConfig!A:C,3,FALSE)&IF(S1411=\"\",\"\",CHAR(10)&\"-\"&VLOOKUP(S1411,EventConditionConfig!A:C,3,FALSE)))","v":""},"",{"$f":"IF(U1411=1,_xlfn.TEXTJOIN(\";\",1,IF(Z1411=\"\",A1411+1,Z1411),IF(AND(AA1411<>\"\",AC1411=\"\"),A1411+1,AC1411),IF(AND(AD1411<>\"\",AF1411=\"\"),A1411+1,AF1411)),IF(U1411=2,Y1411,\"\"))","v":""},"","",null,null,"",null,null,"",{"$nulls":4},{"$f":"IF(OR(AK1411=\"结尾\",A1411=\"\"),\"\",IF(ISNUMBER(Y1411),2,IF(A1412=\"\",IF(OR(AK1411>0,VLOOKUP(O1411,EventConfig!A:C,3,FALSE)=4),3,\"\"),1)))","v":""},{"$f":"IF(OR(AK1411=\"结尾\",AI1411=\"\"),\"\",CHOOSE(AI1411,IF(AK1411=\"\",A1411+1,AK1411),CONCATENATE(IF(AK1411=\"\",A1411+1,AK1411),\";101\"),IF(AK1411=\"\",O1411+1,AK1411)))","v":""},"结尾",6643,9157]
[915704,6637,"完成对话","",{"$nulls":6},{"$f":"IF(J1412=\"\",\"\",VLOOKUP(J1412,EventNPC!A:F,6,FALSE))","v":""},6644,"你尝试点火，灵雀化作火羽爆散，灼伤神识。",null,9157,4,{"$f":"_xlfn.TEXTJOIN(\";\",1,R1412:S1412)","v":""},null,null,{"$f":"IF(R1412=\"\",\"\",\"-\"&VLOOKUP(R1412,EventConditionConfig!A:C,3,FALSE)&IF(S1412=\"\",\"\",CHAR(10)&\"-\"&VLOOKUP(S1412,EventConditionConfig!A:C,3,FALSE)))","v":""},"",{"$f":"IF(U1412=1,_xlfn.TEXTJOIN(\";\",1,IF(Z1412=\"\",A1412+1,Z1412),IF(AND(AA1412<>\"\",AC1412=\"\"),A1412+1,AC1412),IF(AND(AD1412<>\"\",AF1412=\"\"),A1412+1,AF1412)),IF(U1412=2,Y1412,\"\"))","v":""},"","",null,null,"",null,null,"",{"$nulls":4},{"$f":"IF(A1412=\"\",\"\",IF(ISNUMBER(Y1412),2,IF(A1413=\"\",IF(OR(AK1412>0,VLOOKUP(O1412,EventConfig!A:C,3,FALSE)=4),3,\"\"),1)))","v":""},"",null,6644,9157]
[{"$nulls":10},{"$f":"IF(J1413=\"\",\"\",VLOOKUP(J1413,EventNPC!A:F,6,FALSE))","v":""},{"$nulls":26},"",0]
[915801,6645,"完成对话","",{"$nulls":5},151,{"$f":"IF(J1414=\"\",\"\",VLOOKUP(J1414,EventNPC!A:F,6,FALSE))","v":"老犬"},6646,"一只瘦骨嶙峋的老犬趴在一座坟前，眼神坚毅。神识触及，它发出低吼，但尾巴在轻轻摇动。",null,9158,1,{"$f":"_xlfn.TEXTJOIN(\";\",1,R1414:S1414)","v":""},null,null,{"$f":"IF(R1414=\"\",\"\",\"-\"&VLOOKUP(R1414,EventConditionConfig!A:C,3,FALSE)&IF(S1414=\"\",\"\",CHAR(10)&\"-\"&VLOOKUP(S1414,EventConditionConfig!A:C,3,FALSE)))","v":""},1,{"$f":"IF(U1414=1,_xlfn.TEXTJOIN(\";\",1,IF(Z1414=\"\",A1414+1,Z1414),IF(AND(AA1414<>\"\",AC1414=\"\"),A1414+1,AC1414),IF(AND(AD1414<>\"\",AF1414=\"\"),A1414+1,AF1414)),IF(U1414=2,Y1414,\"\"))","v":"915802;915803;915804"},"6647;6648;6649",6647,"留下些食物",915802,6648,"抚慰它的心灵",915803,6649,"不理它",915804,null,null,{"$f":"IF(A1414=\"\",\"\",IF(ISNUMBER(Y1414),2,IF(A1415=\"\",IF(OR(AK1414>0,VLOOKUP(O1414,EventConfig!A:C,3,FALSE)=4),3,\"\"),1)))","v":1},915802,null,6649,9158]
[915802,6645,"完成对话","",{"$nulls":5},151,{"$f":"IF(J1415=\"\",\"\",VLOOKUP(J1415,EventNPC!A:F,6,FALSE))","v":"老犬"},6650,"老犬舔了舔食物，眼中闪过光彩，墓上灵气流转。",null,9158,2,{"$f":"_xlfn.TEXTJOIN(\";\",1,R1415:S1415)","v":""},null,null,{"$f":"IF(R1415=\"\",\"\",\"-\"&VLOOKUP(R1415,EventConditionConfig!A:C,3,FALSE)&IF(S1415=\"\",\"\",CHAR(10)&\"-\"&VLOOKUP(S1415,EventConditionConfig!A:C,3,FALSE)))","v":""},"","","","",null,null,"",null,null,"",{"$nulls":4},{"$f":"IF(OR(AK1415=\"结尾\",A1415=\"\"),\"\",IF(ISNUMBER(Y1415),2,IF(A1416=\"\",IF(OR(AK1415>0,VLOOKUP(O1415,EventConfig!A:C,3,FALSE)=4),3,\"\"),1)))","v":""},{"$f":"IF(OR(AK1415=\"结尾\",AI1415=\"\"),\"\",CHOOSE(AI1415,IF(AK1415=\"\",A1415+1,AK1415),CONCATENATE(IF(AK1415=\"\",A1415+1,AK1415),\";101\"),IF(AK1415=\"\",O1415+1,AK1415)))","v":""},"结尾",6650,9158]
[915803,6645,"完成对话","",{"$nulls":5},151,{"$f":"IF(J1416=\"\",\"\",VLOOKUP(J1416,EventNPC!A:F,6,FALSE))","v":"老犬"},6651,"老犬安静下来，伏地而眠，化作灵气融入大地。",null,9158,3,{"$f":"_xlfn.TEXTJOIN(\";\",1,R1416:S1416)","v":""},null,null,{"$f":"IF(R1416=\"\",\"\",\"-\"&VLOOKUP(R1416,EventConditionConfig!A:C,3,FALSE)&IF(S1416=\"\",\"\",CHAR(10)&\"-\"&VLOOKUP(S1416,EventConditionConfig!A:C,3,FALSE)))","v":""},"","","","",null,null,"",null,null,"",{"$nulls":4},{"$f":"IF(OR(AK1416=\"结尾\",A1416=\"\"),\"\",IF(ISNUMBER(Y1416),2,IF(A1417=\"\",IF(OR(AK1416>0,VLOOKUP(O1416,EventConfig!A:C,3,FALSE)=4),3,\"\"),1)))","v":""},{"$f":"IF(OR(AK1416=\"结尾\",AI1416=\"\"),\"\",CHOOSE(AI1416,IF(AK1416=\"\",A1416+1,AK1416),CONCATENATE(IF(AK1416=\"\",A1416+1,AK1416),\";101\"),IF(AK1416=\"\",O1416+1,AK1416)))","v":""},"结尾",{"$f":"IF(A1416=\"\",\"\",MAX(B1416,D1416,L1416,X1416,AA1416,AL1415,AL1414,AD1416))","v":6651},{"$f":"O1416","v":9158}]
[915804,6645,"完成对话","",{"$nulls":5},151,{"$f":"IF(J1417=\"\",\"\",VLOOKUP(J1417,EventNPC!A:F,6,FALSE))","v":"老犬"},6652,"老犬孤独死去，你心头一沉。",null,9158,4,{"$f":"_xlfn.TEXTJOIN(\";\",1,R1417:S1417)","v":""},null,null,{"$f":"IF(R1417=\"\",\"\",\"-\"&VLOOKUP(R1417,EventConditionConfig!A:C,3,FALSE)&IF(S1417=\"\",\"\",CHAR(10)&\"-\"&VLOOKUP(S1417,EventConditionConfig!A:C,3,FALSE)))","v":""},"","","","",null,null,"",null,null,"",{"$nulls":4},{"$f":"IF(A1417=\"\",\"\",IF(ISNUMBER(Y1417),2,IF(A1418=\"\",IF(OR(AK1417>0,VLOOKUP(O1417,EventConfig!A:C,3,FALSE)=4),3,\"\"),1)))","v":""},{"$f":"IF(AI1417=\"\",\"\",CHOOSE(AI1417,IF(AK1417=\"\",A1417+1,AK1417),CONCATENATE(IF(AK1417=\"\",A1417+1,AK1417),\";101\"),IF(AK1417=\"\",O1417+1,AK1417)))","v":""},null,6652,9158]
[{"$nulls":10},{"$f":"IF(J1418=\"\",\"\",VLOOKUP(J1418,EventNPC!A:F,6,FALSE))","v":""},{"$nulls":26},"",0]
[{"$f":"O1419*100+P1419","v":915901},{"$f":"IF(C1419=\"\",\"\",IF(C1419=C1418,B1418,MAX(AL1418,AL1417)+1))","v":6653},"完成对话",{"$f":"IF(E1419=\"\",\"\",IF(E1419=E1418,D1418,MAX(AL1418,AL1417,B1419)+1))","v":""},{"$nulls":5},152,{"$f":"IF(J1419=\"\",\"\",VLOOKUP(J1419,EventNPC!A:F,6,FALSE))","v":"萤火虫"},{"$f":"IF(M1419=\"\",\"\",MAX(AL1418,AL1417,B1419,D1419)+1)","v":6654},"一群萤火虫被困在蛛网中，光点微弱，拼命闪烁，仿佛在呼救。",null,9159,{"$f":"IF(O1419=\"\",\"\",IF(O1419=O1418,P1418+1,1))","v":1},{"$f":"_xlfn.TEXTJOIN(\";\",1,R1419:S1419)","v":""},null,null,{"$f":"IF(R1419=\"\",\"\",\"-\"&VLOOKUP(R1419,EventConditionConfig!A:C,3,FALSE)&IF(S1419=\"\",\"\",CHAR(10)&\"-\"&VLOOKUP(S1419,EventConditionConfig!A:C,3,FALSE)))","v":""},{"$f":"IF(Y1419=\"\",\"\",IF(ISTEXT(Y1419),1,2))","v":1},"915902;915903;915904",{"$f":"_xlfn.TEXTJOIN(\";\",1,X1419,AA1419,AD1419)","v":"6655;6656;6657"},{"$f":"IF(OR(ISNUMBER(Y1419),Y1419=\"\"),\"\",MAX(AL1418,AL1416,B1419,D1419,L1419)+1)","v":6655},"用灵力解开蛛丝",915902,{"$f":"IF(OR(ISNUMBER(AB1419),AB1419=\"\"),\"\",X1419+1)","v":6656},"任其消亡",915903,{"$f":"IF(OR(ISNUMBER(AE1419),AE1419=\"\"),\"\",AA1419+1)","v":6657},"捕捉它们收集光芒",915904,null,null,{"$f":"IF(A1419=\"\",\"\",IF(ISNUMBER(Y1419),2,IF(A1420=\"\",IF(OR(AK1419>0,VLOOKUP(O1419,EventConfig!A:C,3,FALSE)=4),3,\"\"),1)))","v":1},{"$f":"IF(AI1419=\"\",\"\",CHOOSE(AI1419,IF(AK1419=\"\",A1419+1,AK1419),CONCATENATE(IF(AK1419=\"\",A1419+1,AK1419),\";101\"),IF(AK1419=\"\",O1419+1,AK1419)))","v":915902},null,6657,9159]
[{"$f":"O1420*100+P1420","v":915902},{"$f":"IF(C1420=\"\",\"\",IF(C1420=C1419,B1419,MAX(AL1419,AL1418)+1))","v":6653},"完成对话",{"$f":"IF(E1420=\"\",\"\",IF(E1420=E1419,D1419,MAX(AL1419,AL1418,B1420)+1))","v":""},{"$nulls":5},152,{"$f":"IF(J1420=\"\",\"\",VLOOKUP(J1420,EventNPC!A:F,6,FALSE))","v":"萤火虫"},{"$f":"IF(M1420=\"\",\"\",MAX(AL1419,AL1418,B1420,D1420)+1)","v":6658},"萤火虫振翅而飞，化作灵光聚拢，温润你。",null,9159,{"$f":"IF(O1420=\"\",\"\",IF(O1420=O1419,P1419+1,1))","v":2},{"$f":"_xlfn.TEXTJOIN(\";\",1,R1420:S1420)","v":""},null,null,{"$f":"IF(R1420=\"\",\"\",\"-\"&VLOOKUP(R1420,EventConditionConfig!A:C,3,FALSE)&IF(S1420=\"\",\"\",CHAR(10)&\"-\"&VLOOKUP(S1420,EventConditionConfig!A:C,3,FALSE)))","v":""},{"$f":"IF(Y1420=\"\",\"\",IF(ISTEXT(Y1420),1,2))","v":""},"",{"$f":"_xlfn.TEXTJOIN(\";\",1,X1420,AA1420,AD1420)","v":""},{"$f":"IF(OR(ISNUMBER(Y1420),Y1420=\"\"),\"\",MAX(AL1419,AL1417,B1420,D1420,L1420)+1)","v":""},null,null,{"$f":"IF(OR(ISNUMBER(AB1420),AB1420=\"\"),\"\",X1420+1)","v":""},null,null,{"$f":"IF(OR(ISNUMBER(AE1420),AE1420=\"\"),\"\",AA1420+1)","v":""},{"$nulls":6},"结尾",6658,9159]
[{"$f":"O1421*100+P1421","v":915903},{"$f":"IF(C1421=\"\",\"\",IF(C1421=C1420,B1420,MAX(AL1420,AL1419)+1))","v":6653},"完成对话",{"$f":"IF(E1421=\"\",\"\",IF(E1421=E1420,D1420,MAX(AL1420,AL1419,B1421)+1))","v":""},{"$nulls":5},152,{"$f":"IF(J1421=\"\",\"\",VLOOKUP(J1421,EventNPC!A:F,6,FALSE))","v":"萤火虫"},{"$f":"IF(M1421=\"\",\"\",MAX(AL1420,AL1419,B1421,D1421)+1)","v":6659},"光点渐渐熄灭，你心中一阵沉重。",null,9159,{"$f":"IF(O1421=\"\",\"\",IF(O1421=O1420,P1420+1,1))","v":3},{"$f":"_xlfn.TEXTJOIN(\";\",1,R1421:S1421)","v":""},null,null,{"$f":"IF(R1421=\"\",\"\",\"-\"&VLOOKUP(R1421,EventConditionConfig!A:C,3,FALSE)&IF(S1421=\"\",\"\",CHAR(10)&\"-\"&VLOOKUP(S1421,EventConditionConfig!A:C,3,FALSE)))","v":""},{"$f":"IF(Y1421=\"\",\"\",IF(ISTEXT(Y1421),1,2))","v":""},"",{"$f":"_xlfn.TEXTJOIN(\";\",1,X1421,AA1421,AD1421)","v":""},{"$f":"IF(OR(ISNUMBER(Y1421),Y1421=\"\"),\"\",MAX(AL1420,AL1418,B1421,D1421,L1421)+1)","v":""},null,null,{"$f":"IF(OR(ISNUMBER(AB1421),AB1421=\"\"),\"\",X1421+1)","v":""},null,null,{"$f":"IF(OR(ISNUMBER(AE1421),AE1421=\"\"),\"\",AA1421+1)","v":""},{"$nulls":6},"结尾",6659,9159]
[{"$f":"O1422*100+P1422","v":915904},{"$f":"IF(C1422=\"\",\"\",IF(C1422=C1421,B1421,MAX(AL1421,AL1420)+1))","v":6653},"完成对话",{"$f":"IF(E1422=\"\",\"\",IF(E1422=E1421,D1421,MAX(AL1421,AL1420,B1422)+1))","v":""},{"$nulls":6},{"$f":"IF(J1422=\"\",\"\",VLOOKUP(J1422,EventNPC!A:F,6,FALSE))","v":""},{"$f":"IF(M1422=\"\",\"\",MAX(AL1421,AL1420,B1422,D1422)+1)","v":6660},"击败蜘蛛",null,9159,{"$f":"IF(O1422=\"\",\"\",IF(O1422=O1421,P1421+1,1))","v":4},{"$f":"_xlfn.TEXTJOIN(\";\",1,R1422:S1422)","v":""},null,null,{"$f":"IF(R1422=\"\",\"\",\"-\"&VLOOKUP(R1422,EventConditionConfig!A:C,3,FALSE)&IF(S1422=\"\",\"\",CHAR(10)&\"-\"&VLOOKUP(S1422,EventConditionConfig!A:C,3,FALSE)))","v":""},{"$f":"IF(Y1422=\"\",\"\",IF(ISTEXT(Y1422),1,2))","v":2},4026,{"$f":"_xlfn.TEXTJOIN(\";\",1,X1422,AA1422,AD1422)","v":""},{"$f":"IF(OR(ISNUMBER(Y1422),Y1422=\"\"),\"\",MAX(AL1421,AL1419,B1422,D1422,L1422)+1)","v":""},4026,null,{"$f":"IF(OR(ISNUMBER(AB1422),AB1422=\"\"),\"\",X1422+1)","v":""},null,null,{"$f":"IF(OR(ISNUMBER(AE1422),AE1422=\"\"),\"\",AA1422+1)","v":""},{"$nulls":4},{"$f":"IF(A1422=\"\",\"\",IF(ISNUMBER(Y1422),2,IF(A1423=\"\",IF(OR(AK1422>0,VLOOKUP(O1422,EventConfig!A:C,3,FALSE)=4),3,\"\"),1)))","v":2},"915905;101",null,6660,9159]
[{"$nulls":10},{"$f":"IF(J1423=\"\",\"\",VLOOKUP(J1423,EventNPC!A:F,6,FALSE))","v":""},{"$nulls":26},"",0]
[{"$f":"O1424*100+P1424","v":916001},{"$f":"IF(C1424=\"\",\"\",IF(C1424=C1423,B1423,MAX(AL1423,AL1422)+1))","v":6661},"完成对话",{"$f":"IF(E1424=\"\",\"\",IF(E1424=E1423,D1423,MAX(AL1423,AL1422,B1424)+1))","v":""},{"$nulls":6},{"$f":"IF(J1424=\"\",\"\",VLOOKUP(J1424,EventNPC!A:F,6,FALSE))","v":""},{"$f":"IF(M1424=\"\",\"\",MAX(AL1423,AL1422,B1424,D1424)+1)","v":6662},"神识探查到一只小妖在地上嚎啕大哭，手里攥着一颗掉落的尖牙。",null,9160,{"$f":"IF(O1424=\"\",\"\",IF(O1424=O1423,P1423+1,1))","v":1},{"$f":"_xlfn.TEXTJOIN(\";\",1,R1424:S1424)","v":""},null,null,{"$f":"IF(R1424=\"\",\"\",\"-\"&VLOOKUP(R1424,EventConditionConfig!A:C,3,FALSE)&IF(S1424=\"\",\"\",CHAR(10)&\"-\"&VLOOKUP(S1424,EventConditionConfig!A:C,3,FALSE)))","v":""},{"$f":"IF(Y1424=\"\",\"\",IF(ISTEXT(Y1424),1,2))","v":""},{"$f":"IF(U1424=1,_xlfn.TEXTJOIN(\";\",1,IF(Z1424=\"\",A1424+1,Z1424),IF(AND(AA1424<>\"\",AC1424=\"\"),A1424+1,AC1424),IF(AND(AD1424<>\"\",AF1424=\"\"),A1424+1,AF1424)),IF(U1424=2,Y1424,\"\"))","v":""},{"$f":"_xlfn.TEXTJOIN(\";\",1,X1424,AA1424,AD1424)","v":""},{"$f":"IF(OR(ISNUMBER(Y1424),Y1424=\"\"),\"\",MAX(AL1423,AL1421,B1424,D1424,L1424)+1)","v":""},null,null,{"$f":"IF(OR(ISNUMBER(AB1424),AB1424=\"\"),\"\",X1424+1)","v":""},null,null,{"$f":"IF(OR(ISNUMBER(AE1424),AE1424=\"\"),\"\",AA1424+1)","v":""},{"$nulls":4},{"$f":"IF(A1424=\"\",\"\",IF(ISNUMBER(Y1424),2,IF(A1425=\"\",IF(OR(AK1424>0,VLOOKUP(O1424,EventConfig!A:C,3,FALSE)=4),3,\"\"),1)))","v":1},916002,null,6662,9160]
[{"$f":"O1425*100+P1425","v":916002},{"$f":"IF(C1425=\"\",\"\",IF(C1425=C1424,B1424,MAX(AL1424,AL1423)+1))","v":6661},"完成对话",{"$f":"IF(E1425=\"\",\"\",IF(E1425=E1424,D1424,MAX(AL1424,AL1423,B1425)+1))","v":""},{"$nulls":5},153,{"$f":"IF(J1425=\"\",\"\",VLOOKUP(J1425,EventNPC!A:F,6,FALSE))","v":"小妖"},{"$f":"IF(M1425=\"\",\"\",MAX(AL1424,AL1423,B1425,D1425)+1)","v":6663},"“呜呜……我以后还怎么吓人啊？仙长，你能帮帮我吗？”",null,9160,{"$f":"IF(O1425=\"\",\"\",IF(O1425=O1424,P1424+1,1))","v":2},{"$f":"_xlfn.TEXTJOIN(\";\",1,R1425:S1425)","v":""},null,null,{"$f":"IF(R1425=\"\",\"\",\"-\"&VLOOKUP(R1425,EventConditionConfig!A:C,3,FALSE)&IF(S1425=\"\",\"\",CHAR(10)&\"-\"&VLOOKUP(S1425,EventConditionConfig!A:C,3,FALSE)))","v":""},{"$f":"IF(Y1425=\"\",\"\",IF(ISTEXT(Y1425),1,2))","v":1},{"$f":"IF(U1425=1,_xlfn.TEXTJOIN(\";\",1,IF(Z1425=\"\",A1425+1,Z1425),IF(AND(AA1425<>\"\",AC1425=\"\"),A1425+1,AC1425),IF(AND(AD1425<>\"\",AF1425=\"\"),A1425+1,AF1425)),IF(U1425=2,Y1425,\"\"))","v":"916003;916004;916005"},{"$f":"_xlfn.TEXTJOIN(\";\",1,X1425,AA1425,AD1425)","v":"6664;6665;6666"},{"$f":"IF(OR(ISNUMBER(Y1425),Y1425=\"\"),\"\",MAX(AL1424,AL1422,B1425,D1425,L1425)+1)","v":6664},"安慰它，并告诉它掉牙还能再长",916003,{"$f":"IF(OR(ISNUMBER(AB1425),AB1425=\"\"),\"\",X1425+1)","v":6665},"送它一颗灵石当“新牙”",916004,{"$f":"IF(OR(ISNUMBER(AE1425),AE1425=\"\"),\"\",AA1425+1)","v":6666},"嘲笑它",916005,null,null,{"$f":"IF(A1425=\"\",\"\",IF(ISNUMBER(Y1425),2,IF(A1426=\"\",IF(OR(AK1425>0,VLOOKUP(O1425,EventConfig!A:C,3,FALSE)=4),3,\"\"),1)))","v":1},{"$f":"IF(AI1425=\"\",\"\",CHOOSE(AI1425,IF(AK1425=\"\",A1425+1,AK1425),CONCATENATE(IF(AK1425=\"\",A1425+1,AK1425),\";101\"),IF(AK1425=\"\",O1425+1,AK1425)))","v":916003},null,6666,9160]
[916003,6661,"完成对话","",{"$nulls":6},{"$f":"IF(J1426=\"\",\"\",VLOOKUP(J1426,EventNPC!A:F,6,FALSE))","v":""},6667,"小妖破涕为笑，拍拍屁股跑了，留下一个闪亮的小袋子。",null,9160,3,"",null,null,{"$f":"IF(R1426=\"\",\"\",\"-\"&VLOOKUP(R1426,EventConditionConfig!A:C,3,FALSE)&IF(S1426=\"\",\"\",CHAR(10)&\"-\"&VLOOKUP(S1426,EventConditionConfig!A:C,3,FALSE)))","v":""},"","","","",null,null,"",null,null,"",{"$nulls":4},{"$f":"IF(OR(AK1426=\"结尾\",A1426=\"\"),\"\",IF(ISNUMBER(Y1426),2,IF(A1427=\"\",IF(OR(AK1426>0,VLOOKUP(O1426,EventConfig!A:C,3,FALSE)=4),3,\"\"),1)))","v":""},{"$f":"IF(OR(AK1426=\"结尾\",AI1426=\"\"),\"\",CHOOSE(AI1426,IF(AK1426=\"\",A1426+1,AK1426),CONCATENATE(IF(AK1426=\"\",A1426+1,AK1426),\";101\"),IF(AK1426=\"\",O1426+1,AK1426)))","v":""},"结尾",6667,9160]
[916004,6661,"完成对话","",{"$nulls":6},{"$f":"IF(J1427=\"\",\"\",VLOOKUP(J1427,EventNPC!A:F,6,FALSE))","v":""},6668,"小妖开心极了，把原本偷偷藏着的灵石全给你。",null,9160,4,"",null,null,{"$f":"IF(R1427=\"\",\"\",\"-\"&VLOOKUP(R1427,EventConditionConfig!A:C,3,FALSE)&IF(S1427=\"\",\"\",CHAR(10)&\"-\"&VLOOKUP(S1427,EventConditionConfig!A:C,3,FALSE)))","v":""},"","","","",null,null,"",null,null,"",{"$nulls":4},{"$f":"IF(OR(AK1427=\"结尾\",A1427=\"\"),\"\",IF(ISNUMBER(Y1427),2,IF(A1428=\"\",IF(OR(AK1427>0,VLOOKUP(O1427,EventConfig!A:C,3,FALSE)=4),3,\"\"),1)))","v":""},{"$f":"IF(OR(AK1427=\"结尾\",AI1427=\"\"),\"\",CHOOSE(AI1427,IF(AK1427=\"\",A1427+1,AK1427),CONCATENATE(IF(AK1427=\"\",A1427+1,AK1427),\";101\"),IF(AK1427=\"\",O1427+1,AK1427)))","v":""},"结尾",6668,9160]
[916005,6661,"完成对话","",{"$nulls":6},{"$f":"IF(J1428=\"\",\"\",VLOOKUP(J1428,EventNPC!A:F,6,FALSE))","v":""},6669,"小妖嚎得更大声，掀翻地面，惊跑灵气，你神识受到轻微干扰。",null,9160,5,"",null,null,{"$f":"IF(R1428=\"\",\"\",\"-\"&VLOOKUP(R1428,EventConditionConfig!A:C,3,FALSE)&IF(S1428=\"\",\"\",CHAR(10)&\"-\"&VLOOKUP(S1428,EventConditionConfig!A:C,3,FALSE)))","v":""},"","","","",null,null,"",null,null,"",{"$nulls":4},{"$f":"IF(A1428=\"\",\"\",IF(ISNUMBER(Y1428),2,IF(A1429=\"\",IF(OR(AK1428>0,VLOOKUP(O1428,EventConfig!A:C,3,FALSE)=4),3,\"\"),1)))","v":""},"",null,6669,9160]
[{"$nulls":10},{"$f":"IF(J1429=\"\",\"\",VLOOKUP(J1429,EventNPC!A:F,6,FALSE))","v":""},{"$nulls":26},"",0]
[916101,6670,"完成对话","",{"$nulls":6},{"$f":"IF(J1430=\"\",\"\",VLOOKUP(J1430,EventNPC!A:F,6,FALSE))","v":""},6671,"一只老龟趴在溪水边，神识触及",null,9161,1,"",null,null,{"$f":"IF(R1430=\"\",\"\",\"-\"&VLOOKUP(R1430,EventConditionConfig!A:C,3,FALSE)&IF(S1430=\"\",\"\",CHAR(10)&\"-\"&VLOOKUP(S1430,EventConditionConfig!A:C,3,FALSE)))","v":""},"","","","",null,null,"",null,null,"",{"$nulls":4},{"$f":"IF(A1430=\"\",\"\",IF(ISNUMBER(Y1430),2,IF(A1431=\"\",IF(OR(AK1430>0,VLOOKUP(O1430,EventConfig!A:C,3,FALSE)=4),3,\"\"),1)))","v":1},916102,null,6671,9161]
[{"$f":"O1431*100+P1431","v":916102},{"$f":"IF(C1431=\"\",\"\",IF(C1431=C1430,B1430,MAX(AL1430,AL1429)+1))","v":6670},"完成对话",{"$f":"IF(E1431=\"\",\"\",IF(E1431=E1430,D1430,MAX(AL1430,AL1429,B1431)+1))","v":""},{"$nulls":5},154,{"$f":"IF(J1431=\"\",\"\",VLOOKUP(J1431,EventNPC!A:F,6,FALSE))","v":"老乌龟"},{"$f":"IF(M1431=\"\",\"\",MAX(AL1430,AL1429,B1431,D1431)+1)","v":6672},"它慢悠悠说：\n “年轻人，帮我挠挠背，我的壳里有宝贝。”",null,9161,{"$f":"IF(O1431=\"\",\"\",IF(O1431=O1430,P1430+1,1))","v":2},{"$f":"_xlfn.TEXTJOIN(\";\",1,R1431:S1431)","v":""},null,null,{"$f":"IF(R1431=\"\",\"\",\"-\"&VLOOKUP(R1431,EventConditionConfig!A:C,3,FALSE)&IF(S1431=\"\",\"\",CHAR(10)&\"-\"&VLOOKUP(S1431,EventConditionConfig!A:C,3,FALSE)))","v":""},{"$f":"IF(Y1431=\"\",\"\",IF(ISTEXT(Y1431),1,2))","v":1},{"$f":"IF(U1431=1,_xlfn.TEXTJOIN(\";\",1,IF(Z1431=\"\",A1431+1,Z1431),IF(AND(AA1431<>\"\",AC1431=\"\"),A1431+1,AC1431),IF(AND(AD1431<>\"\",AF1431=\"\"),A1431+1,AF1431)),IF(U1431=2,Y1431,\"\"))","v":"916103;916104;916105"},{"$f":"_xlfn.TEXTJOIN(\";\",1,X1431,AA1431,AD1431)","v":"6673;6674;6675"},{"$f":"IF(OR(ISNUMBER(Y1431),Y1431=\"\"),\"\",MAX(AL1430,AL1428,B1431,D1431,L1431)+1)","v":6673},"耐心替它挠",916103,{"$f":"IF(OR(ISNUMBER(AB1431),AB1431=\"\"),\"\",X1431+1)","v":6674},"翻翻它的龟壳",916104,{"$f":"IF(OR(ISNUMBER(AE1431),AE1431=\"\"),\"\",AA1431+1)","v":6675},"嫌麻烦走开",916105,null,null,{"$f":"IF(A1431=\"\",\"\",IF(ISNUMBER(Y1431),2,IF(A1432=\"\",IF(OR(AK1431>0,VLOOKUP(O1431,EventConfig!A:C,3,FALSE)=4),3,\"\"),1)))","v":1},{"$f":"IF(AI1431=\"\",\"\",CHOOSE(AI1431,IF(AK1431=\"\",A1431+1,AK1431),CONCATENATE(IF(AK1431=\"\",A1431+1,AK1431),\";101\"),IF(AK1431=\"\",O1431+1,AK1431)))","v":916103},null,6675,9161]
[916103,6670,"完成对话","",{"$nulls":6},{"$f":"IF(J1432=\"\",\"\",VLOOKUP(J1432,EventNPC!A:F,6,FALSE))","v":""},6676,"老龟舒服得打瞌睡，壳中滚出几颗灵石。",null,9161,3,"",null,null,{"$f":"IF(R1432=\"\",\"\",\"-\"&VLOOKUP(R1432,EventConditionConfig!A:C,3,FALSE)&IF(S1432=\"\",\"\",CHAR(10)&\"-\"&VLOOKUP(S1432,EventConditionConfig!A:C,3,FALSE)))","v":""},"","","","",null,null,"",null,null,"",{"$nulls":4},{"$f":"IF(OR(AK1432=\"结尾\",A1432=\"\"),\"\",IF(ISNUMBER(Y1432),2,IF(A1433=\"\",IF(OR(AK1432>0,VLOOKUP(O1432,EventConfig!A:C,3,FALSE)=4),3,\"\"),1)))","v":""},{"$f":"IF(OR(AK1432=\"结尾\",AI1432=\"\"),\"\",CHOOSE(AI1432,IF(AK1432=\"\",A1432+1,AK1432),CONCATENATE(IF(AK1432=\"\",A1432+1,AK1432),\";101\"),IF(AK1432=\"\",O1432+1,AK1432)))","v":""},"结尾",6676,9161]
[916104,6670,"完成对话","",{"$nulls":6},{"$f":"IF(J1433=\"\",\"\",VLOOKUP(J1433,EventNPC!A:F,6,FALSE))","v":""},6677,"老龟大怒，猛一甩头把你掀翻，灵石掉进河里。",null,9161,4,"",null,null,{"$f":"IF(R1433=\"\",\"\",\"-\"&VLOOKUP(R1433,EventConditionConfig!A:C,3,FALSE)&IF(S1433=\"\",\"\",CHAR(10)&\"-\"&VLOOKUP(S1433,EventConditionConfig!A:C,3,FALSE)))","v":""},"","","","",null,null,"",null,null,"",{"$nulls":4},{"$f":"IF(OR(AK1433=\"结尾\",A1433=\"\"),\"\",IF(ISNUMBER(Y1433),2,IF(A1434=\"\",IF(OR(AK1433>0,VLOOKUP(O1433,EventConfig!A:C,3,FALSE)=4),3,\"\"),1)))","v":""},{"$f":"IF(OR(AK1433=\"结尾\",AI1433=\"\"),\"\",CHOOSE(AI1433,IF(AK1433=\"\",A1433+1,AK1433),CONCATENATE(IF(AK1433=\"\",A1433+1,AK1433),\";101\"),IF(AK1433=\"\",O1433+1,AK1433)))","v":""},"结尾",6677,9161]
[916105,6670,"完成对话","",{"$nulls":6},{"$f":"IF(J1434=\"\",\"\",VLOOKUP(J1434,EventNPC!A:F,6,FALSE))","v":""},6678,"老龟“哼”了一声，慢慢游走。",null,9161,5,"",null,null,{"$f":"IF(R1434=\"\",\"\",\"-\"&VLOOKUP(R1434,EventConditionConfig!A:C,3,FALSE)&IF(S1434=\"\",\"\",CHAR(10)&\"-\"&VLOOKUP(S1434,EventConditionConfig!A:C,3,FALSE)))","v":""},"","","","",null,null,"",null,null,"",{"$nulls":4},{"$f":"IF(A1434=\"\",\"\",IF(ISNUMBER(Y1434),2,IF(A1435=\"\",IF(OR(AK1434>0,VLOOKUP(O1434,EventConfig!A:C,3,FALSE)=4),3,\"\"),1)))","v":""},"",null,6678,9161]
[{"$nulls":10},{"$f":"IF(J1435=\"\",\"\",VLOOKUP(J1435,EventNPC!A:F,6,FALSE))","v":""},{"$nulls":26},"",0]
[916201,6679,"完成对话","",{"$nulls":5},147,{"$f":"IF(J1436=\"\",\"\",VLOOKUP(J1436,EventNPC!A:F,6,FALSE))","v":"石精"},6680,"一块灵石长出嘴巴，正跑调唱歌：“啊——修仙路好寂寞呀——”",null,9162,1,"",null,null,{"$f":"IF(R1436=\"\",\"\",\"-\"&VLOOKUP(R1436,EventConditionConfig!A:C,3,FALSE)&IF(S1436=\"\",\"\",CHAR(10)&\"-\"&VLOOKUP(S1436,EventConditionConfig!A:C,3,FALSE)))","v":""},"","","","",null,null,"",null,null,"",{"$nulls":4},{"$f":"IF(A1436=\"\",\"\",IF(ISNUMBER(Y1436),2,IF(A1437=\"\",IF(OR(AK1436>0,VLOOKUP(O1436,EventConfig!A:C,3,FALSE)=4),3,\"\"),1)))","v":1},916202,null,6680,9162]
[916202,6679,"完成对话","",{"$nulls":6},{"$f":"IF(J1437=\"\",\"\",VLOOKUP(J1437,EventNPC!A:F,6,FALSE))","v":""},6681,"它自信满满，却跑调得惨不忍听。",null,9162,2,"",null,null,{"$f":"IF(R1437=\"\",\"\",\"-\"&VLOOKUP(R1437,EventConditionConfig!A:C,3,FALSE)&IF(S1437=\"\",\"\",CHAR(10)&\"-\"&VLOOKUP(S1437,EventConditionConfig!A:C,3,FALSE)))","v":""},1,"916203;916204;916205","6682;6683;6684",6682,"你唱的……还不错……",916203,6683,"真是难听！",916204,6684,"跟着它一起唱",916205,null,null,{"$f":"IF(A1437=\"\",\"\",IF(ISNUMBER(Y1437),2,IF(A1438=\"\",IF(OR(AK1437>0,VLOOKUP(O1437,EventConfig!A:C,3,FALSE)=4),3,\"\"),1)))","v":1},916203,null,6684,9162]
[916203,6679,"完成对话","",{"$nulls":6},{"$f":"IF(J1438=\"\",\"\",VLOOKUP(J1438,EventNPC!A:F,6,FALSE))","v":""},6685,"石精感动得泪流满面，把一块碎石送你。",null,9162,3,"",null,null,{"$f":"IF(R1438=\"\",\"\",\"-\"&VLOOKUP(R1438,EventConditionConfig!A:C,3,FALSE)&IF(S1438=\"\",\"\",CHAR(10)&\"-\"&VLOOKUP(S1438,EventConditionConfig!A:C,3,FALSE)))","v":""},"","","","",null,null,"",null,null,"",{"$nulls":4},{"$f":"IF(OR(AK1438=\"结尾\",A1438=\"\"),\"\",IF(ISNUMBER(Y1438),2,IF(A1439=\"\",IF(OR(AK1438>0,VLOOKUP(O1438,EventConfig!A:C,3,FALSE)=4),3,\"\"),1)))","v":""},{"$f":"IF(OR(AK1438=\"结尾\",AI1438=\"\"),\"\",CHOOSE(AI1438,IF(AK1438=\"\",A1438+1,AK1438),CONCATENATE(IF(AK1438=\"\",A1438+1,AK1438),\";101\"),IF(AK1438=\"\",O1438+1,AK1438)))","v":""},"结尾",6685,9162]
[916204,6679,"完成对话","",{"$nulls":5},147,{"$f":"IF(J1439=\"\",\"\",VLOOKUP(J1439,EventNPC!A:F,6,FALSE))","v":"石精"},6686,"石精哭嚎：“原来大家都嫌弃我！”然后裂成两半。",null,9162,4,"",null,null,{"$f":"IF(R1439=\"\",\"\",\"-\"&VLOOKUP(R1439,EventConditionConfig!A:C,3,FALSE)&IF(S1439=\"\",\"\",CHAR(10)&\"-\"&VLOOKUP(S1439,EventConditionConfig!A:C,3,FALSE)))","v":""},"","","","",null,null,"",null,null,"",{"$nulls":4},{"$f":"IF(OR(AK1439=\"结尾\",A1439=\"\"),\"\",IF(ISNUMBER(Y1439),2,IF(A1440=\"\",IF(OR(AK1439>0,VLOOKUP(O1439,EventConfig!A:C,3,FALSE)=4),3,\"\"),1)))","v":""},{"$f":"IF(OR(AK1439=\"结尾\",AI1439=\"\"),\"\",CHOOSE(AI1439,IF(AK1439=\"\",A1439+1,AK1439),CONCATENATE(IF(AK1439=\"\",A1439+1,AK1439),\";101\"),IF(AK1439=\"\",O1439+1,AK1439)))","v":""},"结尾",6686,9162]
[916205,6679,"完成对话","",{"$nulls":5},147,{"$f":"IF(J1440=\"\",\"\",VLOOKUP(J1440,EventNPC!A:F,6,FALSE))","v":"石精"},6687,"你也唱跑调了，石精大喜：“知音啊！”送了你一大块碎石",null,9162,5,"",null,null,{"$f":"IF(R1440=\"\",\"\",\"-\"&VLOOKUP(R1440,EventConditionConfig!A:C,3,FALSE)&IF(S1440=\"\",\"\",CHAR(10)&\"-\"&VLOOKUP(S1440,EventConditionConfig!A:C,3,FALSE)))","v":""},"","","","",null,null,"",null,null,"",{"$nulls":4},{"$f":"IF(A1440=\"\",\"\",IF(ISNUMBER(Y1440),2,IF(A1441=\"\",IF(OR(AK1440>0,VLOOKUP(O1440,EventConfig!A:C,3,FALSE)=4),3,\"\"),1)))","v":""},"",null,6687,9162]

{"sheet":"EventConditionConfig","index":2,"n_rows":51,"n_cols":16,"rows_kept":51,"cut":false,"hidden":false,"merged":[]}
["ID","message",null,null,"Operation",null,"ConditionType","ConditionPara","finishCount","RelatedEvents",null,"SkiptoIds"]
["int","int",null,null,"int",null,"int","int[]","int","int[]",null,"int[]"]
[]
["ID","描述",null,null,"与0\n或1",null,"条件判断类型","条件判断值","条件完成次数or数量","关联的事件Id","提示","跳转Id"]
[1,9001,"拥有金币",{"$f":"CONCATENATE(\"- \",C5,\"{0}/{1}\")","v":"- 拥有金币{0}/{1}"},null,null,1,1001,10,null,null,"1;2;3;4"]
[2,9002,{"$f":"CONCATENATE(\"达到境界：\",M6,\"-\",N6)","v":"达到境界：练气-中期"},{"$f":"CONCATENATE(\"- \",C6,\"{0}/{1}\")","v":"- 达到境界：练气-中期{0}/{1}"},null,null,3,11,1,null,null,"1;2;3;4","练气","中期",11,{"$f":"CONCATENATE(M6,\"-\",N6)","v":"练气-中期"}]
[3,9003,"击杀魔休","- 击杀魔休{0}/{1}",null,null,5,1001,5,9031,null,"1;2;3;4"]
[4,9004,"获得钻石","- 获得钻石{0}/{1}",null,null,6,1002,10,null,null,"1;2;3;4"]
[5,9005,"使用神识","- 使用神识{0}/{1}",null,null,8,null,1,null,null,5]
[6,9006,"继续飞行一段时间","- 继续飞行一段时间{0}/{1}",null,null,9,null,6,null,null,"1;2;3;4"]
[7,9007,"击败结界兽","- 击败结界兽{0}/{1}",null,null,5,1002,1,null,null,"1;2;3;4"]
[8,9008,{"$f":"CONCATENATE(\"达到境界：\",M12,\"-\",N12)","v":"达到境界：练气-后期"},"- 达到境界：练气-后期{0}/{1}",null,null,3,21,1,null,null,"1;2;3;4","练气","后期",21,{"$f":"CONCATENATE(M12,\"-\",N12)","v":"练气-后期"}]
[9,9009,"妖兽横行","- 妖兽横行{0}/{1}",null,null,5,1004,3,30003,null,"1;2;3;4"]
[10,9010,"击败后山小妖","- 击败后山小妖{0}/{1}",null,null,5,1004,3,30004,null,"1;2;3;4"]
[11,9011,"收集灵草种子","- 收集灵草种子{0}/{1}",null,null,6,20003,3,30011,null,"1;2;3;4"]
[12,9012,"击败夜袭的妖兽","- 击败夜袭的妖兽{0}/{1}",null,null,5,1005,1,30005,null,"1;2;3;4"]
[13,9013,"击败峰顶的妖王","- 击败峰顶的妖王{0}/{1}",null,null,5,1006,1,30006,null,"1;2;3;4"]
[14,9014,{"$f":"CONCATENATE(\"达到境界：\",M18,\"-\",N18)","v":"达到境界：筑基-前期"},"- 达到境界：筑基-前期{0}/{1}",null,null,3,31,1,null,null,"1;2;3;4","筑基","前期",31,{"$f":"CONCATENATE(M18,\"-\",N18)","v":"筑基-前期"}]
[15,9015,"击败仙山的阵眼妖兽","- 击败仙山的阵眼妖兽{0}/{1}",null,null,5,1007,1,30007,null,"1;2;3;4"]
[17,9016,"击杀灵兽获得天肥",{"$f":"CONCATENATE(\"- \",C20,\"{0}/{1}\")","v":"- 击杀灵兽获得天肥{0}/{1}"},null,null,5,1009,1,30008,null,"1;2;3;4"]
[18,9017,"获得一件袈裟","- 获得一件袈裟{0}/{1}",null,null,6,1301,1,30009,null,"1;2;3;4"]
[19,9018,"夺回琉璃盏","- 夺回琉璃盏{0}/{1}",null,null,6,1001,1,30010,null,"1;2;3;4"]
[20,9019,"给予渡劫丹","- 给予渡劫丹{0}/{1}",null,null,1,1001,1,null,null,"1;2;3;4"]
[21,9020,{"$f":"CONCATENATE(\"达到境界：\",M24,\"-\",N24)","v":"达到境界：筑基-中期"},"- 达到境界：筑基-中期{0}/{1}",null,null,3,41,1,null,null,"1;2;3;4","筑基","中期",41,{"$f":"CONCATENATE(M24,\"-\",N24)","v":"筑基-中期"}]
[22,9021,"达到境界：筑基-后期","- 达到境界：筑基-后期{0}/{1}",null,null,3,51,1,null,null,"1;2;3;4","筑基","后期",51,"筑基-后期"]
[23,9022,"达到境界：结丹-前期","- 达到境界：结丹-前期{0}/{1}",null,null,3,61,1,null,null,"1;2;3;4","结丹","前期",61,"结丹-前期"]
[24,9023,"达到境界：结丹-中期","- 达到境界：结丹-中期{0}/{1}",null,null,3,71,1,null,null,"1;2;3;4","结丹","中期",71,"结丹-中期"]
[25,9024,"达到境界：结丹-后期","- 达到境界：结丹-后期{0}/{1}",null,null,3,81,1,null,null,"1;2;3;4","结丹","后期",81,"结丹-后期"]
[26,9025,"达到境界：元婴-前期","- 达到境界：元婴-前期{0}/{1}",null,null,3,91,1,null,null,"1;2;3;4","元婴","前期",91,"元婴-前期"]
[27,9026,"收集并饮用甘露","- 收集并饮用甘露{0}/{1}",null,null,6,20004,3,null,null,"1;2;3;4"]
[28,9027,"击败心魔","- 击败心魔{0}/{1}",null,null,5,1013,1,null,null,"1;2;3;4"]
[29,9028,"击败北海妖兽","- 击败北海妖兽{0}/{1}",null,null,5,1014,5,null,null,"1;2;3;4"]
[30,9029,{"$f":"CONCATENATE(\"达到境界：\",M33,\"-\",N33)","v":"达到境界：元婴-中期"},"- 达到境界：元婴-中期{0}/{1}",null,null,3,101,1,null,null,"1;2;3;4","元婴","中期",101,{"$f":"CONCATENATE(M33,\"-\",N33)","v":"元婴-中期"}]
[31,9030,"达到境界：元婴-后期","- 达到境界：元婴-后期{0}/{1}",null,null,3,111,1,null,null,"1;2;3;4","元婴","后期",111,"元婴-后期"]
[32,9031,"达到境界：化神-前期","- 达到境界：化神-前期{0}/{1}",null,null,3,121,1,null,null,"1;2;3;4","化神","前期",121,"化神-前期"]
[33,9032,"达到境界：化神-中期","- 达到境界：化神-中期{0}/{1}",null,null,3,131,1,null,null,"1;2;3;4","化神","中期",131,"化神-中期"]
[34,9033,"达到境界：化神-后期","- 达到境界：化神-后期{0}/{1}",null,null,3,141,1,null,null,"1;2;3;4","化神","后期",141,"化神-后期"]
[35,9034,"达到境界：炼虚-前期","- 达到境界：炼虚-前期{0}/{1}",null,null,3,151,1,null,null,"1;2;3;4","炼虚","前期",151,"炼虚-前期"]
[36,9035,"击杀北海妖兽精英","- 击杀北海妖兽精英{0}/{1}",null,null,5,1003,1,null,null,"1;2;3;4"]
[37,9036,"帮雀灵儿搜集风铃","- 帮雀灵儿搜集风铃{0}/{1}",null,null,1,20005,3,null,null,"1;2;3;4"]
[{"$f":"A40+1","v":38},{"$f":"B40+1","v":9037},"击败风妖","- 击败风妖{0}/{1}",null,null,5,3003,3,30014,null,"1;2;3;4"]
[39,9038,"收集风灵碎片","- 收集风灵碎片{0}/{1}",null,null,1,20006,3,30015,null,"1;2;3;4"]
[40,9039,"完成神识探索-云隐秘闻","- 完成神识探索-云隐秘闻{0}/{1}",null,null,10,30016,1,30016,null,"1;2;3;4"]
[41,9040,"完成神识探索-误食灵石的妖兽","- 完成神识探索-误食灵石的妖兽{0}/{1}",null,null,10,30017,3,30017,null,"1;2;3;4"]
[42,9041,"完成神识探索-云隐宗长老密信","- 完成神识探索-云隐宗长老密信{0}/{1}",null,null,10,30018,1,30018,null,"1;2;3;4"]
[43,9042,"完成神识探索-抢走玉佩的山林小妖","- 完成神识探索-抢走玉佩的山林小妖{0}/{1}",null,null,10,30019,2,30019,null,"1;2;3;4"]
[44,9043,"完成神识探索-山野采草","- 完成神识探索-山野采草{0}/{1}",null,null,10,30020,3,30020,null,"1;2;3;4"]
[45,9044,"完成神识探索-秘境种子","- 完成神识探索-秘境种子{0}/{1}",null,null,10,30021,2,30021,null,"1;2;3;4"]
[46,9045,"完成神识探索-甜蜜果实","- 完成神识探索-甜蜜果实{0}/{1}",null,null,10,30022,3,30022,null,"1;2;3;4"]
[47,9046,"完成神识探索-消灭妖邪","- 完成神识探索-消灭妖邪{0}/{1}",null,null,10,30023,5,9141,null,"1;2;3;4"]
[48,9047,"完成神识探索-消灭仙山山径西边的妖物","- 完成神识探索-消灭仙山山径西边的妖物{0}/{1}",null,null,10,30024,5,9143,null,"1;2;3;4"]

{"sheet":"条件类型查询","index":3,"n_rows":10,"n_cols":11,"rows_kept":10,"cut":false,"hidden":false,"merged":[]}
["ID","条件判断类型","条件判断值","条件完成次数or数量","额外文本","不可用","是否可用于事件",null,null,null,"事件类型："]
[1,"拥有特定道具","道具ID","数量≥","检测背包道具",null,1,null,null,1,"1.通用事件"]
[2,"灵根判定","哪个灵根","灵根值≥",null,1,null,null,null,2,"2.挂机事件"]
[3,"境界判断","境界id",null,null,null,1,null,null,4,"4.主线任务"]
[5,"战斗胜利","战斗组ID","胜利次数≥",{"$nulls":5},5,"5.仙山探险"]
[6,"获得道具","道具的ID","数量≥","探测出事件才开始检测",{"$nulls":4},6,"6.支线事件"]
[7,"触发概率","概率值 1000=100%",null,null,null,1,null,null,88,"88.特定任务触发的事件"]
[8,"使用神识",null,"数量≥",{"$nulls":5},99,"99.无标记"]
[9,"游戏在线多少时长（秒）",null,"时间≥（秒）",null,null,1,null,null,7,"道友剧情任务"]
[10,"前置事件","事件ID",null,null,null,1]

{"sheet":"产出tag查询","index":4,"n_rows":23,"n_cols":2,"rows_kept":23,"cut":false,"hidden":false,"merged":[]}
["产出TAG","产出类型"]
[1,"金币"]
[2,"修为"]
[3,"功法灵气"]
[4,"法宝灵韵"]
[5,"功法碎片"]
[6,"法宝碎片"]
[7,"修为丹"]
[8,"天材地宝"]
[9,"渡劫丹"]
[10,"好感度礼物"]
[11,"心情礼物"]
[12,"钻石（妖丹）"]
[13,"代金券（仙缘宝劵）"]
[14]
[15]
[16]
[17]
[18]
[19]
[20]
[21]
[22]

{"sheet":"EventNPC","index":5,"n_rows":78,"n_cols":7,"rows_kept":78,"cut":false,"hidden":false,"merged":[]}
["ID","name","isNpc","icon","DaoyouID"]
["int","int","bool","string","int"]
[]
["ID","名字","不是npc直接显示背景","半身像icon","道友ID","名称"]
[1,3000,1,"bg_lh_chidaoren"]
[2,1953,1,"bg_lh_quelinger",1,"雀灵儿"]
[3,1954,1,"bg_lh_chidaoren",2,"云枝"]
[4,1955,1,"bg_lh_fengyao",3,"风瑶"]
[5,1956,1,"bg_lh_wanxi",4,"婉溪"]
[6,1957,1,"bg_lh_xuyou",5,"许由"]
[7,1958,1,"bg_lh_fengdaoren",6,"疯道人"]
[8,1959,1,"bg_lh_chidaoren",7,"道友7"]
[9,1960,1,"bg_lh_chidaoren",8,"道友8"]
[10,1961,1,"bg_lh_chidaoren",9,"道友9"]
[11,1962,1,"bg_lh_chidaoren",10,"道友10"]
[]
[100,3000,1,null,null,"玩家"]
[101,3001,1,"bg_lh_chouniao",null,"蜩鸟"]
[102,3002,1,"bg_lh_xiaomaque",null,"小麻雀"]
[103,3003,1,"bg_lh_fengdaoren",null,"疯道人"]
[104,3004,1,"bg_lh_chidaoren",null,"痴道人"]
[105,3005,1,"bg_lh_yao",null,"尧帝"]
[106,3006,1,"bg_lh_xuyou",null,"许由"]
[107,3007,1,"bg_lh_cunminjia",null,"村名甲"]
[108,3008,1,"bg_lh_cunminjia",null,"村名乙"]
[109,3009,1,"bg_lh_cunminjia",null,"村名丙"]
[110,3010,1,"bg_lh_emuzhiling",null,"樗木之灵"]
[111,2078,1,"bg_lh_huizi",null,"惠子"]
[112,3021,1,"bg_lh_yaoshou",null,null,"风无咎"]
[113,3034,1,"bg_lh_yaoshou",null,"北海剑妖"]
[114,3067,1,"bg_lh_yaoshou",null,"拦路妖兽"]
[115,2091,1,"bg_lh_xmqhuanying",null,"小麻雀幻影"]
[116,2092,1,"bg_lh_chidaorenhuanying",null,"痴道人幻影"]
[117,2093,1,"bg_lh_emuzhilinghy",null,"樗木之灵幻影"]
[118,2094,1,"bg_lh_gushexianzi",null,"神人"]
[119,2095,1,"bg_lh_kunpeng1",null,"鲲鹏","前面剧情出现的鲲鹏"]
[120,2096,1,"bg_lh_yaoshou",null,"妖兽"]
[121,2097,1,"bg_lh_yunzhi",null,"云枝"]
[122,2098,1,"bg_lh_fengyao",null,"风瑶"]
[123,2099,1,"bg_lh_xhzdiziA",null,"散修甲"]
[124,2100,1,"bg_lh_xhzdiziA",null,"散修乙"]
[125,2101,1,"bg_lh_xhzdiziA",null,"散修丙"]
[126,2102,1,"bg_lh_laozhang",null,"老张"]
[127,2103,1,"bg_lh_laoli",null,"老李"]
[128,2104,1,"bg_lh_xhzdiziA",null,"敌人"]
[129,2105,1,"bg_lh_lingji",null,"灵姬"]
[130,2106,1,"bg_lh_yuanhun",null,"冤魂"]
[131,2107,1,"bg_lh_xiner",null,"馨儿"]
[132,2108,1,"bg_lh_xinshi",null,"信使"]
[133,2109,1,"bg_lh_xhzdiziA",null,"血海宗弟子A"]
[134,2110,1,"bg_lh_liuqingyan1",null,"柳轻烟","前面剧情受伤的时候"]
[135,2111,1,"bg_lh_xhzdiziB",null,"血海宗弟子B"]
[136,2112,1,"bg_lh_xhzdiziB",null,"血海宗敌人"]
[137,2113,1,"bg_lh_chongxu",null,"冲虚真人"]
[138,2114,1,"bg_lh_xhzdiziA",null,"散修"]
[139,2115,1,"bg_lh_mengmianjingying",null,"蒙面散修精英"]
[140,2116,1,"bg_lh_chuyunmiao",null,"楚云缪"]
[{"$f":"A57+1","v":141},2117,1,"bg_lh_qinglangsanren",null,"青狼散人"]
[{"$f":"A58+1","v":142},2118,1,"bg_lh_linfeng",null,"林风"]
[{"$f":"A59+1","v":143},2119,1,"bg_lh_liuqingqing",null,"柳清清"]
[{"$f":"A60+1","v":144},2120,1,"bg_lh_xuanshui",null,"玄水真人"]
[{"$f":"A61+1","v":145},2121,1,"bg_lh_yunxiaolongying",null,"云霄龙鹰"]
[146,2122,1,"bg_lh_yuguai",null,"鱼"]
[147,2123,1,"bg_lh_shitoujing",null,"石精"]
[148,2124,1,"bg_lh_xiaoleitingshou",null,"小雷霆兽"]
[149,2125,1,"bg_lh_wenzi",null,"自称神兽的蚊子"]
[150,2126,1,"bg_lh_lingque",null,"灵雀"]
[151,2127,1,"bg_lh_laoquan",null,"老犬"]
[152,2128,1,"bg_lh_yinghuochong",null,"萤火虫"]
[153,2129,1,"bg_lh_diaoyaxiaoyao",null,"小妖"]
[154,2130,1,"bg_lh_laowugui",null,"老乌龟"]
[155,2131,1,"bg_lh_kunpeng2",null,"鲲鹏","剧情后面送鲲鹏走的时候"]
[156,2132,1,"bg_lh_liuqingyan2",null,"柳轻烟","剧情后面没受伤的时候"]
[157,-1,0,"bg_cj_kaichang1"]
[158,-1,0,"bg_cj_kaichang2"]
[159,-1,0,"bg_cj_kaichang3"]
[160,-1,0,"bg_lh_chongxu"]
[161,-1,0,"bg_cj_kaichang4"]

{"sheet":"XianTuLogConfig","index":6,"n_rows":8,"n_cols":7,"rows_kept":8,"cut":false,"hidden":false,"merged":[]}
["ID","EventType","Title","Desc","BigMapID"]
["int","int","int","int","int"]
[]
["ID","1主线\n2事件","名称","描述","属于哪个章节"]
[1,1,2087,2089,1,"第一章.逍遥游","多次渡劫失败的你，误入“无何有之乡”，在这里受到了列子的指引，踏上了寻找七道心境的修仙之路。"]
[2,2,2088,2090,1,"无用的大葫芦","惠子种出了巨大葫芦，他觉得毫无用处，非常生气！"]
[3,2,2088,2090,2,"无用的大葫芦","惠子种出了巨大葫芦，他觉得毫无用处，非常生气！"]
[4,2,2088,2090,3,"无用的大葫芦","惠子种出了巨大葫芦，他觉得毫无用处，非常生气！"]