{"text_format":"2","workbook":"xlsx","n_sheets":1,"sheets":["MonsterPowerUpConfig"],"not_rendered":{"charts":0,"images":0,"macros":0,"external_links":2,"defined_names":1,"comments":0,"pivot_tables":0},"unopened":[],"bounds":{"document_bytes":16777216,"sheet_cells":100000,"run_cost":"one","rows_first":2000,"rows_last":500,"rows_between":2000,"halvings":0,"cell_chars":16384,"cell_head_chars":4096},"cells_cut":0,"cells_raw":0,"read":"whole","date_system":"1900"}

{"sheet":"MonsterPowerUpConfig","index":0,"n_rows":304,"n_cols":24,"rows_kept":304,"cut":false,"hidden":false,"merged":[]}
["ID","HeroLevel","jingjie1","jingjie2","jingjie3",null,null,null,"HPFactor","ATKFactor","DEFFactor","HudunFactor","defK","GongfaLv","GongfaStar","FabaoLv","FabaoStar","LinggenUp","MPFactor"]
["int","int","int","int","int",null,null,null,"float","float","float","float","int","int","int","int","int","float","float"]
[]
["ID","玩家修为境界（等级）","大境界ID","中境界ID","小境界ID","境界名称1","境界名称2","境界名称3","生命倍率","攻击倍率","防御倍率","护盾倍率","防御系数K","功法等级","功法星级","法宝等级","法宝星级","灵根成长率\n100=100%","法力倍率","生命额外调整"]
[1,1,{"$f":"[1]HeroPowerUpConfig!J5","v":225},{"$f":"[1]HeroPowerUpConfig!K5","v":235},{"$f":"[1]HeroPowerUpConfig!L5","v":238},"筑基期","前",1,{"$f":"[2]主表!P3*(1+T5)","v":5.25},{"$f":"[2]主表!Q3","v":1.05},{"$f":"[2]主表!R3","v":1.05},{"$f":"[2]主表!S3","v":0},{"$f":"[2]主表!$G3","v":210},1,1,1,1,100,1,0]
[2,2,{"$f":"[1]HeroPowerUpConfig!J6","v":225},{"$f":"[1]HeroPowerUpConfig!K6","v":235},{"$f":"[1]HeroPowerUpConfig!L6","v":239},"筑基期","前",2,{"$f":"[2]主表!P4*(1+T6)","v":5.7226831103678935},{"$f":"[2]主表!Q4","v":1.0649999999999999},{"$f":"[2]主表!R4","v":1.0649999999999999},{"$f":"[2]主表!S4","v":0},{"$f":"[2]主表!$G4","v":213},2,1,1,1,100,1,0]
[3,3,{"$f":"[1]HeroPowerUpConfig!J7","v":225},{"$f":"[1]HeroPowerUpConfig!K7","v":235},{"$f":"[1]HeroPowerUpConfig!L7","v":240},"筑基期","前",3,{"$f":"[2]主表!P5*(1+T7)","v":6.1778344481605352},{"$f":"[2]主表!Q5","v":1.075},{"$f":"[2]主表!R5","v":1.075},{"$f":"[2]主表!S5","v":0},{"$f":"[2]主表!$G5","v":215},3,1,2,1,100,1,0]
[4,4,{"$f":"[1]HeroPowerUpConfig!J8","v":225},{"$f":"[1]HeroPowerUpConfig!K8","v":235},{"$f":"[1]HeroPowerUpConfig!L8","v":241},"筑基期","前",4,{"$f":"[2]主表!P6*(1+T8)","v":6.6710551839464891},{"$f":"[2]主表!Q6","v":1.0900000000000001},{"$f":"[2]主表!R6","v":1.0900000000000001},{"$f":"[2]主表!S6","v":0},{"$f":"[2]主表!$G6","v":218},4,1,2,1,100,1,0]
[5,5,{"$f":"[1]HeroPowerUpConfig!J9","v":225},{"$f":"[1]HeroPowerUpConfig!K9","v":235},{"$f":"[1]HeroPowerUpConfig!L9","v":242},"筑基期","前",5,{"$f":"[2]主表!P7*(1+T9)","v":7.1754782608695642},{"$f":"[2]主表!Q7","v":1.105},{"$f":"[2]主表!R7","v":1.105},{"$f":"[2]主表!S7","v":0},{"$f":"[2]主表!$G7","v":221},5,1,3,1,100,1,0]
[6,6,{"$f":"[1]HeroPowerUpConfig!J10","v":225},{"$f":"[1]HeroPowerUpConfig!K10","v":235},{"$f":"[1]HeroPowerUpConfig!L10","v":243},"筑基期","前",6,{"$f":"[2]主表!P8*(1+T10)","v":7.6911036789297675},{"$f":"[2]主表!Q8","v":1.1200000000000001},{"$f":"[2]主表!R8","v":1.1200000000000001},{"$f":"[2]主表!S8","v":0},{"$f":"[2]主表!$G8","v":224},6,1,3,1,100,1,0]
[7,7,{"$f":"[1]HeroPowerUpConfig!J11","v":225},{"$f":"[1]HeroPowerUpConfig!K11","v":235},{"$f":"[1]HeroPowerUpConfig!L11","v":244},"筑基期","前",7,{"$f":"[2]主表!P9*(1+T11)","v":8.217931438127092},{"$f":"[2]主表!Q9","v":1.135},{"$f":"[2]主表!R9","v":1.135},{"$f":"[2]主表!S9","v":0},{"$f":"[2]主表!$G9","v":227},7,1,4,1,100,1,0]
[8,8,{"$f":"[1]HeroPowerUpConfig!J12","v":225},{"$f":"[1]HeroPowerUpConfig!K12","v":235},{"$f":"[1]HeroPowerUpConfig!L12","v":245},"筑基期","前",8,{"$f":"[2]主表!P10*(1+T12)","v":8.7559615384615377},{"$f":"[2]主表!Q10","v":1.1499999999999999},{"$f":"[2]主表!R10","v":1.1499999999999999},{"$f":"[2]主表!S10","v":0},{"$f":"[2]主表!$G10","v":230},8,1,4,1,100,1,0]
[9,9,{"$f":"[1]HeroPowerUpConfig!J13","v":225},{"$f":"[1]HeroPowerUpConfig!K13","v":235},{"$f":"[1]HeroPowerUpConfig!L13","v":246},"筑基期","前",9,{"$f":"[2]主表!P11*(1+T13)","v":9.3051939799331116},{"$f":"[2]主表!Q11","v":1.165},{"$f":"[2]主表!R11","v":1.165},{"$f":"[2]主表!S11","v":0},{"$f":"[2]主表!$G11","v":233},9,1,5,1,100,1,0]
[10,10,{"$f":"[1]HeroPowerUpConfig!J14","v":225},{"$f":"[1]HeroPowerUpConfig!K14","v":235},{"$f":"[1]HeroPowerUpConfig!L14","v":247},"筑基期","前",10,{"$f":"[2]主表!P12*(1+T14)","v":9.8656287625418067},{"$f":"[2]主表!Q12","v":1.18},{"$f":"[2]主表!R12","v":1.18},{"$f":"[2]主表!S12","v":0},{"$f":"[2]主表!$G12","v":236},10,1,5,1,100,1,0]
[11,11,{"$f":"[1]HeroPowerUpConfig!J15","v":225},{"$f":"[1]HeroPowerUpConfig!K15","v":236},{"$f":"[1]HeroPowerUpConfig!L15","v":238},"筑基期","中",1,{"$f":"[2]主表!P13*(1+T15)","v":11.441688963210703},{"$f":"[2]主表!Q13","v":1.31},{"$f":"[2]主表!R13","v":1.31},{"$f":"[2]主表!S13","v":0},{"$f":"[2]主表!$G13","v":262},11,1,6,1,100,1,0]
[12,12,{"$f":"[1]HeroPowerUpConfig!J16","v":225},{"$f":"[1]HeroPowerUpConfig!K16","v":236},{"$f":"[1]HeroPowerUpConfig!L16","v":239},"筑基期","中",2,{"$f":"[2]主表!P14*(1+T16)","v":12.067470735785953},{"$f":"[2]主表!Q14","v":1.325},{"$f":"[2]主表!R14","v":1.325},{"$f":"[2]主表!S14","v":0},{"$f":"[2]主表!$G14","v":265},12,1,6,1,100,1,0]
[13,13,{"$f":"[1]HeroPowerUpConfig!J17","v":225},{"$f":"[1]HeroPowerUpConfig!K17","v":236},{"$f":"[1]HeroPowerUpConfig!L17","v":240},"筑基期","中",3,{"$f":"[2]主表!P15*(1+T17)","v":12.751859531772576},{"$f":"[2]主表!Q15","v":1.345},{"$f":"[2]主表!R15","v":1.345},{"$f":"[2]主表!S15","v":0},{"$f":"[2]主表!$G15","v":269},13,1,7,1,100,1,0]
[14,14,{"$f":"[1]HeroPowerUpConfig!J18","v":225},{"$f":"[1]HeroPowerUpConfig!K18","v":236},{"$f":"[1]HeroPowerUpConfig!L18","v":241},"筑基期","中",4,{"$f":"[2]主表!P16*(1+T18)","v":13.451184782608696},{"$f":"[2]主表!Q16","v":1.365},{"$f":"[2]主表!R16","v":1.365},{"$f":"[2]主表!S16","v":0},{"$f":"[2]主表!$G16","v":273},14,1,7,1,100,1,0]
[15,15,{"$f":"[1]HeroPowerUpConfig!J19","v":225},{"$f":"[1]HeroPowerUpConfig!K19","v":236},{"$f":"[1]HeroPowerUpConfig!L19","v":242},"筑基期","中",5,{"$f":"[2]主表!P17*(1+T19)","v":14.165446488294315},{"$f":"[2]主表!Q17","v":1.385},{"$f":"[2]主表!R17","v":1.385},{"$f":"[2]主表!S17","v":0},{"$f":"[2]主表!$G17","v":277},15,1,8,1,100,1,0]
[16,16,{"$f":"[1]HeroPowerUpConfig!J20","v":225},{"$f":"[1]HeroPowerUpConfig!K20","v":236},{"$f":"[1]HeroPowerUpConfig!L20","v":243},"筑基期","中",6,{"$f":"[2]主表!P18*(1+T20)","v":15.19253754180602},{"$f":"[2]主表!Q18","v":1.405},{"$f":"[2]主表!R18","v":1.405},{"$f":"[2]主表!S18","v":0},{"$f":"[2]主表!$G18","v":281},16,1,8,1,100,1,0.02]
[17,17,{"$f":"[1]HeroPowerUpConfig!J21","v":225},{"$f":"[1]HeroPowerUpConfig!K21","v":236},{"$f":"[1]HeroPowerUpConfig!L21","v":244},"筑基期","中",7,{"$f":"[2]主表!P19*(1+T21)","v":16.264330434782611},{"$f":"[2]主表!Q19","v":1.425},{"$f":"[2]主表!R19","v":1.425},{"$f":"[2]主表!S19","v":0},{"$f":"[2]主表!$G19","v":285},17,1,9,1,100,1,0.04]
[18,18,{"$f":"[1]HeroPowerUpConfig!J22","v":225},{"$f":"[1]HeroPowerUpConfig!K22","v":236},{"$f":"[1]HeroPowerUpConfig!L22","v":245},"筑基期","中",8,{"$f":"[2]主表!P20*(1+T22)","v":17.381721354515047},{"$f":"[2]主表!Q20","v":1.4450000000000001},{"$f":"[2]主表!R20","v":1.4450000000000001},{"$f":"[2]主表!S20","v":0},{"$f":"[2]主表!$G20","v":289},18,1,9,1,100,1,0.06]
[19,19,{"$f":"[1]HeroPowerUpConfig!J23","v":225},{"$f":"[1]HeroPowerUpConfig!K23","v":236},{"$f":"[1]HeroPowerUpConfig!L23","v":246},"筑基期","中",9,{"$f":"[2]主表!P21*(1+T23)","v":18.545606488294315},{"$f":"[2]主表!Q21","v":1.4650000000000001},{"$f":"[2]主表!R21","v":1.4650000000000001},{"$f":"[2]主表!S21","v":0},{"$f":"[2]主表!$G21","v":293},19,1,10,1,100,1,0.08]
[20,20,{"$f":"[1]HeroPowerUpConfig!J24","v":225},{"$f":"[1]HeroPowerUpConfig!K24","v":236},{"$f":"[1]HeroPowerUpConfig!L24","v":247},"筑基期","中",10,{"$f":"[2]主表!P22*(1+T24)","v":19.823403511705692},{"$f":"[2]主表!Q22","v":1.49},{"$f":"[2]主表!R22","v":1.49},{"$f":"[2]主表!S22","v":0},{"$f":"[2]主表!$G22","v":298},20,1,10,1,100,1,0.1]
[21,21,{"$f":"[1]HeroPowerUpConfig!J25","v":225},{"$f":"[1]HeroPowerUpConfig!K25","v":237},{"$f":"[1]HeroPowerUpConfig!L25","v":238},"筑基期","后",1,{"$f":"[2]主表!P23*(1+T25)","v":24.158437458193983},{"$f":"[2]主表!Q23","v":1.73},{"$f":"[2]主表!R23","v":1.73},{"$f":"[2]主表!S23","v":0},{"$f":"[2]主表!$G23","v":346},21,1,11,1,100,1,0.12]
[22,22,{"$f":"[1]HeroPowerUpConfig!J26","v":225},{"$f":"[1]HeroPowerUpConfig!K26","v":237},{"$f":"[1]HeroPowerUpConfig!L26","v":239},"筑基期","后",2,{"$f":"[2]主表!P24*(1+T26)","v":25.692266739130435},{"$f":"[2]主表!Q24","v":1.7549999999999999},{"$f":"[2]主表!R24","v":1.7549999999999999},{"$f":"[2]主表!S24","v":0},{"$f":"[2]主表!$G24","v":351},22,1,11,1,100,1,0.14000000000000001]
[23,23,{"$f":"[1]HeroPowerUpConfig!J27","v":225},{"$f":"[1]HeroPowerUpConfig!K27","v":237},{"$f":"[1]HeroPowerUpConfig!L27","v":240},"筑基期","后",3,{"$f":"[2]主表!P25*(1+T27)","v":27.286435585284277},{"$f":"[2]主表!Q25","v":1.78},{"$f":"[2]主表!R25","v":1.78},{"$f":"[2]主表!S25","v":0},{"$f":"[2]主表!$G25","v":356},23,1,12,1,100,1,0.16]
[24,24,{"$f":"[1]HeroPowerUpConfig!J28","v":225},{"$f":"[1]HeroPowerUpConfig!K28","v":237},{"$f":"[1]HeroPowerUpConfig!L28","v":241},"筑基期","后",4,{"$f":"[2]主表!P26*(1+T28)","v":28.942064230769226},{"$f":"[2]主表!Q26","v":1.8049999999999999},{"$f":"[2]主表!R26","v":1.8049999999999999},{"$f":"[2]主表!S26","v":0},{"$f":"[2]主表!$G26","v":361},24,1,12,1,100,1,0.18]
[25,25,{"$f":"[1]HeroPowerUpConfig!J29","v":225},{"$f":"[1]HeroPowerUpConfig!K29","v":237},{"$f":"[1]HeroPowerUpConfig!L29","v":242},"筑基期","后",5,{"$f":"[2]主表!P27*(1+T29)","v":30.74404414715719},{"$f":"[2]主表!Q27","v":1.835},{"$f":"[2]主表!R27","v":1.835},{"$f":"[2]主表!S27","v":0},{"$f":"[2]主表!$G27","v":367},25,1,13,1,100,1,0.2]
[26,26,{"$f":"[1]HeroPowerUpConfig!J30","v":225},{"$f":"[1]HeroPowerUpConfig!K30","v":237},{"$f":"[1]HeroPowerUpConfig!L30","v":243},"筑基期","后",6,{"$f":"[2]主表!P28*(1+T30)","v":32.529627090300998},{"$f":"[2]主表!Q28","v":1.86},{"$f":"[2]主表!R28","v":1.86},{"$f":"[2]主表!S28","v":0},{"$f":"[2]主表!$G28","v":372},26,1,13,1,100,1,0.22]
[27,27,{"$f":"[1]HeroPowerUpConfig!J31","v":225},{"$f":"[1]HeroPowerUpConfig!K31","v":237},{"$f":"[1]HeroPowerUpConfig!L31","v":244},"筑基期","后",7,{"$f":"[2]主表!P29*(1+T31)","v":34.471299130434787},{"$f":"[2]主表!Q29","v":1.89},{"$f":"[2]主表!R29","v":1.89},{"$f":"[2]主表!S29","v":0},{"$f":"[2]主表!$G29","v":378},27,1,14,1,100,1,0.24]
[28,28,{"$f":"[1]HeroPowerUpConfig!J32","v":225},{"$f":"[1]HeroPowerUpConfig!K32","v":237},{"$f":"[1]HeroPowerUpConfig!L32","v":245},"筑基期","后",8,{"$f":"[2]主表!P30*(1+T32)","v":36.48663331103679},{"$f":"[2]主表!Q30","v":1.92},{"$f":"[2]主表!R30","v":1.92},{"$f":"[2]主表!S30","v":0},{"$f":"[2]主表!$G30","v":384},28,1,14,1,100,1,0.26]
[29,29,{"$f":"[1]HeroPowerUpConfig!J33","v":225},{"$f":"[1]HeroPowerUpConfig!K33","v":237},{"$f":"[1]HeroPowerUpConfig!L33","v":246},"筑基期","后",9,{"$f":"[2]主表!P31*(1+T33)","v":38.576973913043481},{"$f":"[2]主表!Q31","v":1.95},{"$f":"[2]主表!R31","v":1.95},{"$f":"[2]主表!S31","v":0},{"$f":"[2]主表!$G31","v":390},29,1,15,1,100,1,0.28000000000000003]
[30,30,{"$f":"[1]HeroPowerUpConfig!J34","v":225},{"$f":"[1]HeroPowerUpConfig!K34","v":237},{"$f":"[1]HeroPowerUpConfig!L34","v":247},"筑基期","后",10,{"$f":"[2]主表!P32*(1+T34)","v":40.74366521739131},{"$f":"[2]主表!Q32","v":1.98},{"$f":"[2]主表!R32","v":1.98},{"$f":"[2]主表!S32","v":0},{"$f":"[2]主表!$G32","v":396},30,1,15,1,100,1,0.3]
[31,31,{"$f":"[1]HeroPowerUpConfig!J35","v":226},{"$f":"[1]HeroPowerUpConfig!K35","v":235},{"$f":"[1]HeroPowerUpConfig!L35","v":238},"金丹期","前",1,{"$f":"[2]主表!P33*(1+T35)","v":54.869228260869576},{"$f":"[2]主表!Q33","v":2.605},{"$f":"[2]主表!R33","v":2.605},{"$f":"[2]主表!S33","v":0},{"$f":"[2]主表!$G33","v":521},31,1,16,1,100,1,0.3]
[32,32,{"$f":"[1]HeroPowerUpConfig!J36","v":226},{"$f":"[1]HeroPowerUpConfig!K36","v":235},{"$f":"[1]HeroPowerUpConfig!L36","v":239},"金丹期","前",2,{"$f":"[2]主表!P34*(1+T36)","v":57.103467391304342},{"$f":"[2]主表!Q34","v":2.65},{"$f":"[2]主表!R34","v":2.65},{"$f":"[2]主表!S34","v":0},{"$f":"[2]主表!$G34","v":530},32,1,16,1,100,1,0.3]
[33,33,{"$f":"[1]HeroPowerUpConfig!J37","v":226},{"$f":"[1]HeroPowerUpConfig!K37","v":235},{"$f":"[1]HeroPowerUpConfig!L37","v":240},"金丹期","前",3,{"$f":"[2]主表!P35*(1+T37)","v":59.271226086956524},{"$f":"[2]主表!Q35","v":2.69},{"$f":"[2]主表!R35","v":2.69},{"$f":"[2]主表!S35","v":0},{"$f":"[2]主表!$G35","v":538},33,1,17,1,100,1,0.3]
[34,34,{"$f":"[1]HeroPowerUpConfig!J38","v":226},{"$f":"[1]HeroPowerUpConfig!K38","v":235},{"$f":"[1]HeroPowerUpConfig!L38","v":241},"金丹期","前",4,{"$f":"[2]主表!P36*(1+T38)","v":61.477819565217409},{"$f":"[2]主表!Q36","v":2.73},{"$f":"[2]主表!R36","v":2.73},{"$f":"[2]主表!S36","v":0},{"$f":"[2]主表!$G36","v":546},34,1,17,1,100,1,0.3]
[35,35,{"$f":"[1]HeroPowerUpConfig!J39","v":226},{"$f":"[1]HeroPowerUpConfig!K39","v":235},{"$f":"[1]HeroPowerUpConfig!L39","v":242},"金丹期","前",5,{"$f":"[2]主表!P37*(1+T39)","v":63.838271739130441},{"$f":"[2]主表!Q37","v":2.7749999999999999},{"$f":"[2]主表!R37","v":2.7749999999999999},{"$f":"[2]主表!S37","v":0},{"$f":"[2]主表!$G37","v":555},35,1,18,1,100,1,0.3]
[36,36,{"$f":"[1]HeroPowerUpConfig!J40","v":226},{"$f":"[1]HeroPowerUpConfig!K40","v":235},{"$f":"[1]HeroPowerUpConfig!L40","v":243},"金丹期","前",6,{"$f":"[2]主表!P38*(1+T40)","v":66.242413043478265},{"$f":"[2]主表!Q38","v":2.82},{"$f":"[2]主表!R38","v":2.82},{"$f":"[2]主表!S38","v":0},{"$f":"[2]主表!$G38","v":564},36,1,18,1,100,1,0.3]
[37,37,{"$f":"[1]HeroPowerUpConfig!J41","v":226},{"$f":"[1]HeroPowerUpConfig!K41","v":235},{"$f":"[1]HeroPowerUpConfig!L41","v":244},"金丹期","前",7,{"$f":"[2]主表!P39*(1+T41)","v":68.690243478260882},{"$f":"[2]主表!Q39","v":2.8650000000000002},{"$f":"[2]主表!R39","v":2.8650000000000002},{"$f":"[2]主表!S39","v":0},{"$f":"[2]主表!$G39","v":573},37,1,19,1,100,1,0.3]
[38,38,{"$f":"[1]HeroPowerUpConfig!J42","v":226},{"$f":"[1]HeroPowerUpConfig!K42","v":235},{"$f":"[1]HeroPowerUpConfig!L42","v":245},"金丹期","前",8,{"$f":"[2]主表!P40*(1+T42)","v":71.304068478260874},{"$f":"[2]主表!Q40","v":2.915},{"$f":"[2]主表!R40","v":2.915},{"$f":"[2]主表!S40","v":0},{"$f":"[2]主表!$G40","v":583},38,1,19,1,100,1,0.3]
[39,39,{"$f":"[1]HeroPowerUpConfig!J43","v":226},{"$f":"[1]HeroPowerUpConfig!K43","v":235},{"$f":"[1]HeroPowerUpConfig!L43","v":246},"金丹期","前",9,{"$f":"[2]主表!P41*(1+T43)","v":73.841704347826109},{"$f":"[2]主表!Q41","v":2.96},{"$f":"[2]主表!R41","v":2.96},{"$f":"[2]主表!S41","v":0},{"$f":"[2]主表!$G41","v":592},39,1,20,1,100,1,0.3]
[40,40,{"$f":"[1]HeroPowerUpConfig!J44","v":226},{"$f":"[1]HeroPowerUpConfig!K44","v":235},{"$f":"[1]HeroPowerUpConfig!L44","v":247},"金丹期","前",10,{"$f":"[2]主表!P42*(1+T44)","v":76.550189130434788},{"$f":"[2]主表!Q42","v":3.01},{"$f":"[2]主表!R42","v":3.01},{"$f":"[2]主表!S42","v":0},{"$f":"[2]主表!$G42","v":602},40,1,20,1,100,1,0.3]
[41,41,{"$f":"[1]HeroPowerUpConfig!J45","v":226},{"$f":"[1]HeroPowerUpConfig!K45","v":236},{"$f":"[1]HeroPowerUpConfig!L45","v":238},"金丹期","中",1,{"$f":"[2]主表!P43*(1+T45)","v":87.082434782608686},{"$f":"[2]主表!Q43","v":3.36},{"$f":"[2]主表!R43","v":3.36},{"$f":"[2]主表!S43","v":0},{"$f":"[2]主表!$G43","v":672},41,1,21,1,100,1,0.3]
[42,42,{"$f":"[1]HeroPowerUpConfig!J46","v":226},{"$f":"[1]HeroPowerUpConfig!K46","v":236},{"$f":"[1]HeroPowerUpConfig!L46","v":239},"金丹期","中",2,{"$f":"[2]主表!P44*(1+T46)","v":90.16565108695653},{"$f":"[2]主表!Q44","v":3.415},{"$f":"[2]主表!R44","v":3.415},{"$f":"[2]主表!S44","v":0},{"$f":"[2]主表!$G44","v":683},42,1,21,1,100,1,0.3]
[43,43,{"$f":"[1]HeroPowerUpConfig!J47","v":226},{"$f":"[1]HeroPowerUpConfig!K47","v":236},{"$f":"[1]HeroPowerUpConfig!L47","v":240},"金丹期","中",3,{"$f":"[2]主表!P45*(1+T47)","v":93.436706521739154},{"$f":"[2]主表!Q45","v":3.4750000000000001},{"$f":"[2]主表!R45","v":3.4750000000000001},{"$f":"[2]主表!S45","v":0},{"$f":"[2]主表!$G45","v":695},43,1,22,1,100,1,0.3]
[44,44,{"$f":"[1]HeroPowerUpConfig!J48","v":226},{"$f":"[1]HeroPowerUpConfig!K48","v":236},{"$f":"[1]HeroPowerUpConfig!L48","v":241},"金丹期","中",4,{"$f":"[2]主表!P46*(1+T48)","v":96.766014130434797},{"$f":"[2]主表!Q46","v":3.5350000000000001},{"$f":"[2]主表!R46","v":3.5350000000000001},{"$f":"[2]主表!S46","v":0},{"$f":"[2]主表!$G46","v":707},44,1,22,1,100,1,0.3]
[45,45,{"$f":"[1]HeroPowerUpConfig!J49","v":226},{"$f":"[1]HeroPowerUpConfig!K49","v":236},{"$f":"[1]HeroPowerUpConfig!L49","v":242},"金丹期","中",5,{"$f":"[2]主表!P47*(1+T49)","v":100.15357391304349},{"$f":"[2]主表!Q47","v":3.5950000000000002},{"$f":"[2]主表!R47","v":3.5950000000000002},{"$f":"[2]主表!S47","v":0},{"$f":"[2]主表!$G47","v":719},45,1,23,1,100,1,0.3]
[46,46,{"$f":"[1]HeroPowerUpConfig!J50","v":226},{"$f":"[1]HeroPowerUpConfig!K50","v":236},{"$f":"[1]HeroPowerUpConfig!L50","v":243},"金丹期","中",6,{"$f":"[2]主表!P48*(1+T50)","v":103.59938586956521},{"$f":"[2]主表!Q48","v":3.6549999999999998},{"$f":"[2]主表!R48","v":3.6549999999999998},{"$f":"[2]主表!S48","v":0},{"$f":"[2]主表!$G48","v":731},46,1,23,1,100,1,0.3]
[47,47,{"$f":"[1]HeroPowerUpConfig!J51","v":226},{"$f":"[1]HeroPowerUpConfig!K51","v":236},{"$f":"[1]HeroPowerUpConfig!L51","v":244},"金丹期","中",7,{"$f":"[2]主表!P49*(1+T51)","v":107.10345000000001},{"$f":"[2]主表!Q49","v":3.7149999999999999},{"$f":"[2]主表!R49","v":3.7149999999999999},{"$f":"[2]主表!S49","v":0},{"$f":"[2]主表!$G49","v":743},47,1,24,1,100,1,0.3]
[48,48,{"$f":"[1]HeroPowerUpConfig!J52","v":226},{"$f":"[1]HeroPowerUpConfig!K52","v":236},{"$f":"[1]HeroPowerUpConfig!L52","v":245},"金丹期","中",8,{"$f":"[2]主表!P50*(1+T52)","v":110.81234347826087},{"$f":"[2]主表!Q50","v":3.78},{"$f":"[2]主表!R50","v":3.78},{"$f":"[2]主表!S50","v":0},{"$f":"[2]主表!$G50","v":756},48,1,24,1,100,1,0.3]
[49,49,{"$f":"[1]HeroPowerUpConfig!J53","v":226},{"$f":"[1]HeroPowerUpConfig!K53","v":236},{"$f":"[1]HeroPowerUpConfig!L53","v":246},"金丹期","中",9,{"$f":"[2]主表!P51*(1+T53)","v":114.58434347826089},{"$f":"[2]主表!Q51","v":3.8450000000000002},{"$f":"[2]主表!R51","v":3.8450000000000002},{"$f":"[2]主表!S51","v":0},{"$f":"[2]主表!$G51","v":769},49,1,25,1,100,1,0.3]
[50,50,{"$f":"[1]HeroPowerUpConfig!J54","v":226},{"$f":"[1]HeroPowerUpConfig!K54","v":236},{"$f":"[1]HeroPowerUpConfig!L54","v":247},"金丹期","中",10,{"$f":"[2]主表!P52*(1+T54)","v":118.57088152173915},{"$f":"[2]主表!Q52","v":3.915},{"$f":"[2]主表!R52","v":3.915},{"$f":"[2]主表!S52","v":0},{"$f":"[2]主表!$G52","v":783},50,1,25,1,100,1,0.3]
[51,51,{"$f":"[1]HeroPowerUpConfig!J55","v":226},{"$f":"[1]HeroPowerUpConfig!K55","v":237},{"$f":"[1]HeroPowerUpConfig!L55","v":238},"金丹期","后",1,{"$f":"[2]主表!P53*(1+T55)","v":140.62684782608696},{"$f":"[2]主表!Q53","v":4.57},{"$f":"[2]主表!R53","v":4.57},{"$f":"[2]主表!S53","v":0},{"$f":"[2]主表!$G53","v":914},51,2,26,2,100,1,0.3]
[52,52,{"$f":"[1]HeroPowerUpConfig!J56","v":226},{"$f":"[1]HeroPowerUpConfig!K56","v":237},{"$f":"[1]HeroPowerUpConfig!L56","v":239},"金丹期","后",2,{"$f":"[2]主表!P54*(1+T56)","v":145.34585869565223},{"$f":"[2]主表!Q54","v":4.6500000000000004},{"$f":"[2]主表!R54","v":4.6500000000000004},{"$f":"[2]主表!S54","v":0},{"$f":"[2]主表!$G54","v":930},52,2,26,2,100,1,0.3]
[53,53,{"$f":"[1]HeroPowerUpConfig!J57","v":226},{"$f":"[1]HeroPowerUpConfig!K57","v":237},{"$f":"[1]HeroPowerUpConfig!L57","v":240},"金丹期","后",3,{"$f":"[2]主表!P55*(1+T57)","v":150.14253913043481},{"$f":"[2]主表!Q55","v":4.7300000000000004},{"$f":"[2]主表!R55","v":4.7300000000000004},{"$f":"[2]主表!S55","v":0},{"$f":"[2]主表!$G55","v":946},53,2,27,2,100,1,0.3]
[54,54,{"$f":"[1]HeroPowerUpConfig!J58","v":226},{"$f":"[1]HeroPowerUpConfig!K58","v":237},{"$f":"[1]HeroPowerUpConfig!L58","v":241},"金丹期","后",4,{"$f":"[2]主表!P56*(1+T58)","v":155.01688913043478},{"$f":"[2]主表!Q56","v":4.8099999999999996},{"$f":"[2]主表!R56","v":4.8099999999999996},{"$f":"[2]主表!S56","v":0},{"$f":"[2]主表!$G56","v":962},54,2,27,2,100,1,0.3]
[55,55,{"$f":"[1]HeroPowerUpConfig!J59","v":226},{"$f":"[1]HeroPowerUpConfig!K59","v":237},{"$f":"[1]HeroPowerUpConfig!L59","v":242},"金丹期","后",5,{"$f":"[2]主表!P57*(1+T59)","v":160.13247608695653},{"$f":"[2]主表!Q57","v":4.8949999999999996},{"$f":"[2]主表!R57","v":4.8949999999999996},{"$f":"[2]主表!S57","v":0},{"$f":"[2]主表!$G57","v":979},55,2,28,2,100,1,0.3]
[56,56,{"$f":"[1]HeroPowerUpConfig!J60","v":226},{"$f":"[1]HeroPowerUpConfig!K60","v":237},{"$f":"[1]HeroPowerUpConfig!L60","v":243},"金丹期","后",6,{"$f":"[2]主表!P58*(1+T60)","v":165.33058695652176},{"$f":"[2]主表!Q58","v":4.9800000000000004},{"$f":"[2]主表!R58","v":4.9800000000000004},{"$f":"[2]主表!S58","v":0},{"$f":"[2]主表!$G58","v":996},56,2,28,2,100,1,0.3]
[57,57,{"$f":"[1]HeroPowerUpConfig!J61","v":226},{"$f":"[1]HeroPowerUpConfig!K61","v":237},{"$f":"[1]HeroPowerUpConfig!L61","v":244},"金丹期","后",7,{"$f":"[2]主表!P59*(1+T61)","v":170.61122173913046},{"$f":"[2]主表!Q59","v":5.0650000000000004},{"$f":"[2]主表!R59","v":5.0650000000000004},{"$f":"[2]主表!S59","v":0},{"$f":"[2]主表!$G59","v":1013},57,2,29,2,100,1,0.3]
[58,58,{"$f":"[1]HeroPowerUpConfig!J62","v":226},{"$f":"[1]HeroPowerUpConfig!K62","v":237},{"$f":"[1]HeroPowerUpConfig!L62","v":245},"金丹期","后",8,{"$f":"[2]主表!P60*(1+T62)","v":176.1452293478261},{"$f":"[2]主表!Q60","v":5.1550000000000002},{"$f":"[2]主表!R60","v":5.1550000000000002},{"$f":"[2]主表!S60","v":0},{"$f":"[2]主表!$G60","v":1031},58,2,29,2,100,1,0.3]
[59,59,{"$f":"[1]HeroPowerUpConfig!J63","v":226},{"$f":"[1]HeroPowerUpConfig!K63","v":237},{"$f":"[1]HeroPowerUpConfig!L63","v":246},"金丹期","后",9,{"$f":"[2]主表!P61*(1+T63)","v":181.76661521739132},{"$f":"[2]主表!Q61","v":5.2450000000000001},{"$f":"[2]主表!R61","v":5.2450000000000001},{"$f":"[2]主表!S61","v":0},{"$f":"[2]主表!$G61","v":1049},59,2,30,2,100,1,0.3]
[60,60,{"$f":"[1]HeroPowerUpConfig!J64","v":226},{"$f":"[1]HeroPowerUpConfig!K64","v":237},{"$f":"[1]HeroPowerUpConfig!L64","v":247},"金丹期","后",10,{"$f":"[2]主表!P62*(1+T64)","v":187.65108260869567},{"$f":"[2]主表!Q62","v":5.34},{"$f":"[2]主表!R62","v":5.34},{"$f":"[2]主表!S62","v":0},{"$f":"[2]主表!$G62","v":1068},60,2,30,2,100,1,0.3]
[61,61,{"$f":"[1]HeroPowerUpConfig!J65","v":227},{"$f":"[1]HeroPowerUpConfig!K65","v":235},{"$f":"[1]HeroPowerUpConfig!L65","v":238},"元婴期","前",1,{"$f":"[2]主表!P63*(1+T65)","v":252.58895652173916},{"$f":"[2]主表!Q63","v":7.09},{"$f":"[2]主表!R63","v":7.09},{"$f":"[2]主表!S63","v":0},{"$f":"[2]主表!$G63","v":1418},61,2,31,2,100,1,0.3]
[62,62,{"$f":"[1]HeroPowerUpConfig!J66","v":227},{"$f":"[1]HeroPowerUpConfig!K66","v":235},{"$f":"[1]HeroPowerUpConfig!L66","v":239},"元婴期","前",2,{"$f":"[2]主表!P64*(1+T66)","v":260.72518695652178},{"$f":"[2]主表!Q64","v":7.22},{"$f":"[2]主表!R64","v":7.22},{"$f":"[2]主表!S64","v":0},{"$f":"[2]主表!$G64","v":1444},62,2,31,2,100,1,0.3]
[63,63,{"$f":"[1]HeroPowerUpConfig!J67","v":227},{"$f":"[1]HeroPowerUpConfig!K67","v":235},{"$f":"[1]HeroPowerUpConfig!L67","v":240},"元婴期","前",3,{"$f":"[2]主表!P65*(1+T67)","v":269.17061521739129},{"$f":"[2]主表!Q65","v":7.3550000000000004},{"$f":"[2]主表!R65","v":7.3550000000000004},{"$f":"[2]主表!S65","v":0},{"$f":"[2]主表!$G65","v":1471},63,2,32,2,100,1,0.3]
[64,64,{"$f":"[1]HeroPowerUpConfig!J68","v":227},{"$f":"[1]HeroPowerUpConfig!K68","v":235},{"$f":"[1]HeroPowerUpConfig!L68","v":241},"元婴期","前",4,{"$f":"[2]主表!P66*(1+T68)","v":277.74711086956523},{"$f":"[2]主表!Q66","v":7.49},{"$f":"[2]主表!R66","v":7.49},{"$f":"[2]主表!S66","v":0},{"$f":"[2]主表!$G66","v":1498},64,2,32,2,100,1,0.3]
[65,65,{"$f":"[1]HeroPowerUpConfig!J69","v":227},{"$f":"[1]HeroPowerUpConfig!K69","v":235},{"$f":"[1]HeroPowerUpConfig!L69","v":242},"元婴期","前",5,{"$f":"[2]主表!P67*(1+T69)","v":286.64251304347829},{"$f":"[2]主表!Q67","v":7.63},{"$f":"[2]主表!R67","v":7.63},{"$f":"[2]主表!S67","v":0},{"$f":"[2]主表!$G67","v":1526},65,2,33,2,100,1,0.3]
[66,66,{"$f":"[1]HeroPowerUpConfig!J70","v":227},{"$f":"[1]HeroPowerUpConfig!K70","v":235},{"$f":"[1]HeroPowerUpConfig!L70","v":243},"元婴期","前",6,{"$f":"[2]主表!P68*(1+T70)","v":296.24463586956523},{"$f":"[2]主表!Q68","v":7.7850000000000001},{"$f":"[2]主表!R68","v":7.7850000000000001},{"$f":"[2]主表!S68","v":0},{"$f":"[2]主表!$G68","v":1557},66,2,33,2,100,1,0.3]
[67,67,{"$f":"[1]HeroPowerUpConfig!J71","v":227},{"$f":"[1]HeroPowerUpConfig!K71","v":235},{"$f":"[1]HeroPowerUpConfig!L71","v":244},"元婴期","前",7,{"$f":"[2]主表!P69*(1+T71)","v":306.18993695652182},{"$f":"[2]主表!Q69","v":7.9450000000000003},{"$f":"[2]主表!R69","v":7.9450000000000003},{"$f":"[2]主表!S69","v":0},{"$f":"[2]主表!$G69","v":1589},67,2,34,2,100,1,0.3]
[68,68,{"$f":"[1]HeroPowerUpConfig!J72","v":227},{"$f":"[1]HeroPowerUpConfig!K72","v":235},{"$f":"[1]HeroPowerUpConfig!L72","v":245},"元婴期","前",8,{"$f":"[2]主表!P70*(1+T72)","v":316.48569782608695},{"$f":"[2]主表!Q70","v":8.11},{"$f":"[2]主表!R70","v":8.11},{"$f":"[2]主表!S70","v":0},{"$f":"[2]主表!$G70","v":1622},68,2,34,2,100,1,0.3]
[69,69,{"$f":"[1]HeroPowerUpConfig!J73","v":227},{"$f":"[1]HeroPowerUpConfig!K73","v":235},{"$f":"[1]HeroPowerUpConfig!L73","v":246},"元婴期","前",9,{"$f":"[2]主表!P71*(1+T73)","v":327.13919999999996},{"$f":"[2]主表!Q71","v":8.2799999999999994},{"$f":"[2]主表!R71","v":8.2799999999999994},{"$f":"[2]主表!S71","v":0},{"$f":"[2]主表!$G71","v":1656},69,2,35,2,100,1,0.3]
[70,70,{"$f":"[1]HeroPowerUpConfig!J74","v":227},{"$f":"[1]HeroPowerUpConfig!K74","v":235},{"$f":"[1]HeroPowerUpConfig!L74","v":247},"元婴期","前",10,{"$f":"[2]主表!P72*(1+T74)","v":338.15772500000003},{"$f":"[2]主表!Q72","v":8.4550000000000001},{"$f":"[2]主表!R72","v":8.4550000000000001},{"$f":"[2]主表!S72","v":0},{"$f":"[2]主表!$G72","v":1691},70,2,35,2,100,1,0.3]
[71,71,{"$f":"[1]HeroPowerUpConfig!J75","v":227},{"$f":"[1]HeroPowerUpConfig!K75","v":236},{"$f":"[1]HeroPowerUpConfig!L75","v":238},"元婴期","中",1,{"$f":"[2]主表!P73*(1+T75)","v":385.57614130434791},{"$f":"[2]主表!Q73","v":9.5250000000000004},{"$f":"[2]主表!R73","v":9.5250000000000004},{"$f":"[2]主表!S73","v":0},{"$f":"[2]主表!$G73","v":1905},71,2,36,2,100,1,0.3]
[72,72,{"$f":"[1]HeroPowerUpConfig!J76","v":227},{"$f":"[1]HeroPowerUpConfig!K76","v":236},{"$f":"[1]HeroPowerUpConfig!L76","v":239},"元婴期","中",2,{"$f":"[2]主表!P74*(1+T76)","v":398.39308152173919},{"$f":"[2]主表!Q74","v":9.7249999999999996},{"$f":"[2]主表!R74","v":9.7249999999999996},{"$f":"[2]主表!S74","v":0},{"$f":"[2]主表!$G74","v":1945},72,2,36,2,100,1,0.3]
[73,73,{"$f":"[1]HeroPowerUpConfig!J77","v":227},{"$f":"[1]HeroPowerUpConfig!K77","v":236},{"$f":"[1]HeroPowerUpConfig!L77","v":240},"元婴期","中",3,{"$f":"[2]主表!P75*(1+T77)","v":411.61145217391305},{"$f":"[2]主表!Q75","v":9.93},{"$f":"[2]主表!R75","v":9.93},{"$f":"[2]主表!S75","v":0},{"$f":"[2]主表!$G75","v":1986},73,2,37,2,100,1,0.3]
[74,74,{"$f":"[1]HeroPowerUpConfig!J78","v":227},{"$f":"[1]HeroPowerUpConfig!K78","v":236},{"$f":"[1]HeroPowerUpConfig!L78","v":241},"元婴期","中",4,{"$f":"[2]主表!P76*(1+T78)","v":425.23853478260872},{"$f":"[2]主表!Q76","v":10.14},{"$f":"[2]主表!R76","v":10.14},{"$f":"[2]主表!S76","v":0},{"$f":"[2]主表!$G76","v":2028},74,2,37,2,100,1,0.3]
[75,75,{"$f":"[1]HeroPowerUpConfig!J79","v":227},{"$f":"[1]HeroPowerUpConfig!K79","v":236},{"$f":"[1]HeroPowerUpConfig!L79","v":242},"元婴期","中",5,{"$f":"[2]主表!P77*(1+T79)","v":439.28161086956521},{"$f":"[2]主表!Q77","v":10.355},{"$f":"[2]主表!R77","v":10.355},{"$f":"[2]主表!S77","v":0},{"$f":"[2]主表!$G77","v":2071},75,2,38,2,100,1,0.3]
[76,76,{"$f":"[1]HeroPowerUpConfig!J80","v":227},{"$f":"[1]HeroPowerUpConfig!K80","v":236},{"$f":"[1]HeroPowerUpConfig!L80","v":243},"元婴期","中",6,{"$f":"[2]主表!P78*(1+T80)","v":453.74796195652181},{"$f":"[2]主表!Q78","v":10.574999999999999},{"$f":"[2]主表!R78","v":10.574999999999999},{"$f":"[2]主表!S78","v":0},{"$f":"[2]主表!$G78","v":2115},76,2,38,2,100,1,0.3]
[77,77,{"$f":"[1]HeroPowerUpConfig!J81","v":227},{"$f":"[1]HeroPowerUpConfig!K81","v":236},{"$f":"[1]HeroPowerUpConfig!L81","v":244},"元婴期","中",7,{"$f":"[2]主表!P79*(1+T81)","v":468.86183478260875},{"$f":"[2]主表!Q79","v":10.805},{"$f":"[2]主表!R79","v":10.805},{"$f":"[2]主表!S79","v":0},{"$f":"[2]主表!$G79","v":2161},77,2,39,2,100,1,0.3]
[78,78,{"$f":"[1]HeroPowerUpConfig!J82","v":227},{"$f":"[1]HeroPowerUpConfig!K82","v":236},{"$f":"[1]HeroPowerUpConfig!L82","v":245},"元婴期","中",8,{"$f":"[2]主表!P80*(1+T82)","v":484.19900760869581},{"$f":"[2]主表!Q80","v":11.035},{"$f":"[2]主表!R80","v":11.035},{"$f":"[2]主表!S80","v":0},{"$f":"[2]主表!$G80","v":2207},78,2,39,2,100,1,0.3]
[79,79,{"$f":"[1]HeroPowerUpConfig!J83","v":227},{"$f":"[1]HeroPowerUpConfig!K83","v":236},{"$f":"[1]HeroPowerUpConfig!L83","v":246},"元婴期","中",9,{"$f":"[2]主表!P81*(1+T83)","v":500.20311956521749},{"$f":"[2]主表!Q81","v":11.275},{"$f":"[2]主表!R81","v":11.275},{"$f":"[2]主表!S81","v":0},{"$f":"[2]主表!$G81","v":2255},79,2,40,2,100,1,0.3]
[80,80,{"$f":"[1]HeroPowerUpConfig!J84","v":227},{"$f":"[1]HeroPowerUpConfig!K84","v":236},{"$f":"[1]HeroPowerUpConfig!L84","v":247},"元婴期","中",10,{"$f":"[2]主表!P82*(1+T84)","v":516.66448695652173},{"$f":"[2]主表!Q82","v":11.52},{"$f":"[2]主表!R82","v":11.52},{"$f":"[2]主表!S82","v":0},{"$f":"[2]主表!$G82","v":2304},80,2,40,2,100,1,0.3]
[81,81,{"$f":"[1]HeroPowerUpConfig!J85","v":227},{"$f":"[1]HeroPowerUpConfig!K85","v":237},{"$f":"[1]HeroPowerUpConfig!L85","v":238},"元婴期","后",1,{"$f":"[2]主表!P83*(1+T85)","v":614.51297826086955},{"$f":"[2]主表!Q83","v":13.555},{"$f":"[2]主表!R83","v":13.555},{"$f":"[2]主表!S83","v":0},{"$f":"[2]主表!$G83","v":2711},81,2,41,2,100,1,0.3]
[82,82,{"$f":"[1]HeroPowerUpConfig!J86","v":227},{"$f":"[1]HeroPowerUpConfig!K86","v":237},{"$f":"[1]HeroPowerUpConfig!L86","v":239},"元婴期","后",2,{"$f":"[2]主表!P84*(1+T86)","v":634.15180869565222},{"$f":"[2]主表!Q84","v":13.84},{"$f":"[2]主表!R84","v":13.84},{"$f":"[2]主表!S84","v":0},{"$f":"[2]主表!$G84","v":2768},82,2,41,2,100,1,0.3]
[83,83,{"$f":"[1]HeroPowerUpConfig!J87","v":227},{"$f":"[1]HeroPowerUpConfig!K87","v":237},{"$f":"[1]HeroPowerUpConfig!L87","v":240},"元婴期","后",3,{"$f":"[2]主表!P85*(1+T87)","v":654.53039347826098},{"$f":"[2]主表!Q85","v":14.135},{"$f":"[2]主表!R85","v":14.135},{"$f":"[2]主表!S85","v":0},{"$f":"[2]主表!$G85","v":2827},83,2,42,2,100,1,0.3]
[84,84,{"$f":"[1]HeroPowerUpConfig!J88","v":227},{"$f":"[1]HeroPowerUpConfig!K88","v":237},{"$f":"[1]HeroPowerUpConfig!L88","v":241},"元婴期","后",4,{"$f":"[2]主表!P86*(1+T88)","v":675.42934021739143},{"$f":"[2]主表!Q86","v":14.435},{"$f":"[2]主表!R86","v":14.435},{"$f":"[2]主表!S86","v":0},{"$f":"[2]主表!$G86","v":2887},84,2,42,2,100,1,0.3]
[85,85,{"$f":"[1]HeroPowerUpConfig!J89","v":227},{"$f":"[1]HeroPowerUpConfig!K89","v":237},{"$f":"[1]HeroPowerUpConfig!L89","v":242},"元婴期","后",5,{"$f":"[2]主表!P87*(1+T89)","v":697.09231304347838},{"$f":"[2]主表!Q87","v":14.744999999999999},{"$f":"[2]主表!R87","v":14.744999999999999},{"$f":"[2]主表!S87","v":0},{"$f":"[2]主表!$G87","v":2949},85,2,43,2,100,1,0.3]
[86,86,{"$f":"[1]HeroPowerUpConfig!J90","v":227},{"$f":"[1]HeroPowerUpConfig!K90","v":237},{"$f":"[1]HeroPowerUpConfig!L90","v":243},"元婴期","后",6,{"$f":"[2]主表!P88*(1+T90)","v":719.29506521739142},{"$f":"[2]主表!Q88","v":15.06},{"$f":"[2]主表!R88","v":15.06},{"$f":"[2]主表!S88","v":0},{"$f":"[2]主表!$G88","v":3012},86,2,43,2,100,1,0.3]
[87,87,{"$f":"[1]HeroPowerUpConfig!J91","v":227},{"$f":"[1]HeroPowerUpConfig!K91","v":237},{"$f":"[1]HeroPowerUpConfig!L91","v":244},"元婴期","后",7,{"$f":"[2]主表!P89*(1+T91)","v":742.28611521739128},{"$f":"[2]主表!Q89","v":15.385},{"$f":"[2]主表!R89","v":15.385},{"$f":"[2]主表!S89","v":0},{"$f":"[2]主表!$G89","v":3077},87,2,44,2,100,1,0.3]
[88,88,{"$f":"[1]HeroPowerUpConfig!J92","v":227},{"$f":"[1]HeroPowerUpConfig!K92","v":237},{"$f":"[1]HeroPowerUpConfig!L92","v":245},"元婴期","后",8,{"$f":"[2]主表!P90*(1+T92)","v":765.83636195652196},{"$f":"[2]主表!Q90","v":15.715},{"$f":"[2]主表!R90","v":15.715},{"$f":"[2]主表!S90","v":0},{"$f":"[2]主表!$G90","v":3143},88,2,44,2,100,1,0.3]
[89,89,{"$f":"[1]HeroPowerUpConfig!J93","v":227},{"$f":"[1]HeroPowerUpConfig!K93","v":237},{"$f":"[1]HeroPowerUpConfig!L93","v":246},"元婴期","后",9,{"$f":"[2]主表!P91*(1+T93)","v":790.19917826086953},{"$f":"[2]主表!Q91","v":16.055},{"$f":"[2]主表!R91","v":16.055},{"$f":"[2]主表!S91","v":0},{"$f":"[2]主表!$G91","v":3211},89,2,45,2,100,1,0.3]
[90,90,{"$f":"[1]HeroPowerUpConfig!J94","v":227},{"$f":"[1]HeroPowerUpConfig!K94","v":237},{"$f":"[1]HeroPowerUpConfig!L94","v":247},"元婴期","后",10,{"$f":"[2]主表!P92*(1+T94)","v":815.38912717391315},{"$f":"[2]主表!Q92","v":16.405000000000001},{"$f":"[2]主表!R92","v":16.405000000000001},{"$f":"[2]主表!S92","v":0},{"$f":"[2]主表!$G92","v":3281},90,2,45,2,100,1,0.3]
[91,91,{"$f":"[1]HeroPowerUpConfig!J95","v":228},{"$f":"[1]HeroPowerUpConfig!K95","v":235},{"$f":"[1]HeroPowerUpConfig!L95","v":238},"化神期","前",1,{"$f":"[2]主表!P93*(1+T95)","v":1102.1533043478264},{"$f":"[2]主表!Q93","v":21.96},{"$f":"[2]主表!R93","v":21.96},{"$f":"[2]主表!S93","v":0},{"$f":"[2]主表!$G93","v":4392},91,2,46,2,100,1,0.3]
[92,92,{"$f":"[1]HeroPowerUpConfig!J96","v":228},{"$f":"[1]HeroPowerUpConfig!K96","v":235},{"$f":"[1]HeroPowerUpConfig!L96","v":239},"化神期","前",2,{"$f":"[2]主表!P94*(1+T96)","v":1136.883870652174},{"$f":"[2]主表!Q94","v":22.434999999999999},{"$f":"[2]主表!R94","v":22.434999999999999},{"$f":"[2]主表!S94","v":0},{"$f":"[2]主表!$G94","v":4487},92,2,46,2,100,1,0.3]
[93,93,{"$f":"[1]HeroPowerUpConfig!J97","v":228},{"$f":"[1]HeroPowerUpConfig!K97","v":235},{"$f":"[1]HeroPowerUpConfig!L97","v":240},"化神期","前",3,{"$f":"[2]主表!P95*(1+T97)","v":1172.5872000000002},{"$f":"[2]主表!Q95","v":22.92},{"$f":"[2]主表!R95","v":22.92},{"$f":"[2]主表!S95","v":0},{"$f":"[2]主表!$G95","v":4584},93,2,47,2,100,1,0.3]
[94,94,{"$f":"[1]HeroPowerUpConfig!J98","v":228},{"$f":"[1]HeroPowerUpConfig!K98","v":235},{"$f":"[1]HeroPowerUpConfig!L98","v":241},"化神期","前",4,{"$f":"[2]主表!P96*(1+T98)","v":1209.2778554347826},{"$f":"[2]主表!Q96","v":23.414999999999999},{"$f":"[2]主表!R96","v":23.414999999999999},{"$f":"[2]主表!S96","v":0},{"$f":"[2]主表!$G96","v":4683},94,2,47,2,100,1,0.3]
[95,95,{"$f":"[1]HeroPowerUpConfig!J99","v":228},{"$f":"[1]HeroPowerUpConfig!K99","v":235},{"$f":"[1]HeroPowerUpConfig!L99","v":242},"化神期","前",5,{"$f":"[2]主表!P97*(1+T99)","v":1247.2310543478261},{"$f":"[2]主表!Q97","v":23.925000000000001},{"$f":"[2]主表!R97","v":23.925000000000001},{"$f":"[2]主表!S97","v":0},{"$f":"[2]主表!$G97","v":4785},95,2,48,2,100,1,0.3]
[96,96,{"$f":"[1]HeroPowerUpConfig!J100","v":228},{"$f":"[1]HeroPowerUpConfig!K100","v":235},{"$f":"[1]HeroPowerUpConfig!L100","v":243},"化神期","前",6,{"$f":"[2]主表!P98*(1+T100)","v":1286.205559782609},{"$f":"[2]主表!Q98","v":24.445},{"$f":"[2]主表!R98","v":24.445},{"$f":"[2]主表!S98","v":0},{"$f":"[2]主表!$G98","v":4889},96,2,48,2,100,1,0.3]
[97,97,{"$f":"[1]HeroPowerUpConfig!J101","v":228},{"$f":"[1]HeroPowerUpConfig!K101","v":235},{"$f":"[1]HeroPowerUpConfig!L101","v":244},"化神期","前",7,{"$f":"[2]主表!P99*(1+T101)","v":1326.4814434782611},{"$f":"[2]主表!Q99","v":24.98},{"$f":"[2]主表!R99","v":24.98},{"$f":"[2]主表!S99","v":0},{"$f":"[2]主表!$G99","v":4996},97,2,49,2,100,1,0.3]
[98,98,{"$f":"[1]HeroPowerUpConfig!J102","v":228},{"$f":"[1]HeroPowerUpConfig!K102","v":235},{"$f":"[1]HeroPowerUpConfig!L102","v":245},"化神期","前",8,{"$f":"[2]主表!P100*(1+T102)","v":1367.8126141304349},{"$f":"[2]主表!Q100","v":25.524999999999999},{"$f":"[2]主表!R100","v":25.524999999999999},{"$f":"[2]主表!S100","v":0},{"$f":"[2]主表!$G100","v":5105},98,2,49,2,100,1,0.3]
[99,99,{"$f":"[1]HeroPowerUpConfig!J103","v":228},{"$f":"[1]HeroPowerUpConfig!K103","v":235},{"$f":"[1]HeroPowerUpConfig!L103","v":246},"化神期","前",9,{"$f":"[2]主表!P101*(1+T103)","v":1410.483997826087},{"$f":"[2]主表!Q101","v":26.085000000000001},{"$f":"[2]主表!R101","v":26.085000000000001},{"$f":"[2]主表!S101","v":0},{"$f":"[2]主表!$G101","v":5217},99,2,50,2,100,1,0.3]
[100,100,{"$f":"[1]HeroPowerUpConfig!J104","v":228},{"$f":"[1]HeroPowerUpConfig!K104","v":235},{"$f":"[1]HeroPowerUpConfig!L104","v":247},"化神期","前",10,{"$f":"[2]主表!P102*(1+T104)","v":1454.5174391304349},{"$f":"[2]主表!Q102","v":26.66},{"$f":"[2]主表!R102","v":26.66},{"$f":"[2]主表!S102","v":0},{"$f":"[2]主表!$G102","v":5332},100,2,50,2,100,1,0.3]
[101,101,{"$f":"[1]HeroPowerUpConfig!J105","v":228},{"$f":"[1]HeroPowerUpConfig!K105","v":236},{"$f":"[1]HeroPowerUpConfig!L105","v":238},"化神期","中",1,{"$f":"[2]主表!P103*(1+T105)","v":1655.1573913043478},{"$f":"[2]主表!Q103","v":30.07},{"$f":"[2]主表!R103","v":30.07},{"$f":"[2]主表!S103","v":0},{"$f":"[2]主表!$G103","v":6014},101,3,51,3,100.1,1,0.3]
[102,102,{"$f":"[1]HeroPowerUpConfig!J106","v":228},{"$f":"[1]HeroPowerUpConfig!K106","v":236},{"$f":"[1]HeroPowerUpConfig!L106","v":239},"化神期","中",2,{"$f":"[2]主表!P104*(1+T106)","v":1698.9070945652174},{"$f":"[2]主表!Q104","v":30.594999999999999},{"$f":"[2]主表!R104","v":30.594999999999999},{"$f":"[2]主表!S104","v":0},{"$f":"[2]主表!$G104","v":6119},102,3,51,3,100.2,1,0.3]
[103,103,{"$f":"[1]HeroPowerUpConfig!J107","v":228},{"$f":"[1]HeroPowerUpConfig!K107","v":236},{"$f":"[1]HeroPowerUpConfig!L107","v":240},"化神期","中",3,{"$f":"[2]主表!P105*(1+T107)","v":1743.4465760869571},{"$f":"[2]主表!Q105","v":31.125},{"$f":"[2]主表!R105","v":31.125},{"$f":"[2]主表!S105","v":0},{"$f":"[2]主表!$G105","v":6225},103,3,52,3,100.3,1,0.3]
[104,104,{"$f":"[1]HeroPowerUpConfig!J108","v":228},{"$f":"[1]HeroPowerUpConfig!K108","v":236},{"$f":"[1]HeroPowerUpConfig!L108","v":241},"化神期","中",4,{"$f":"[2]主表!P106*(1+T108)","v":1789.0656163043479},{"$f":"[2]主表!Q106","v":31.664999999999999},{"$f":"[2]主表!R106","v":31.664999999999999},{"$f":"[2]主表!S106","v":0},{"$f":"[2]主表!$G106","v":6333},104,3,52,3,100.4,1,0.3]
[105,105,{"$f":"[1]HeroPowerUpConfig!J109","v":228},{"$f":"[1]HeroPowerUpConfig!K109","v":236},{"$f":"[1]HeroPowerUpConfig!L109","v":242},"化神期","中",5,{"$f":"[2]主表!P107*(1+T109)","v":1835.7787782608702},{"$f":"[2]主表!Q107","v":32.215000000000003},{"$f":"[2]主表!R107","v":32.215000000000003},{"$f":"[2]主表!S107","v":0},{"$f":"[2]主表!$G107","v":6443},105,3,53,3,100.5,1,0.3]
[106,106,{"$f":"[1]HeroPowerUpConfig!J110","v":228},{"$f":"[1]HeroPowerUpConfig!K110","v":236},{"$f":"[1]HeroPowerUpConfig!L110","v":243},"化神期","中",6,{"$f":"[2]主表!P108*(1+T110)","v":1883.600625},{"$f":"[2]主表!Q108","v":32.774999999999999},{"$f":"[2]主表!R108","v":32.774999999999999},{"$f":"[2]主表!S108","v":0},{"$f":"[2]主表!$G108","v":6555},106,3,53,3,100.6,1,0.3]
[107,107,{"$f":"[1]HeroPowerUpConfig!J111","v":228},{"$f":"[1]HeroPowerUpConfig!K111","v":236},{"$f":"[1]HeroPowerUpConfig!L111","v":244},"化神期","中",7,{"$f":"[2]主表!P109*(1+T111)","v":1932.2559391304349},{"$f":"[2]主表!Q109","v":33.340000000000003},{"$f":"[2]主表!R109","v":33.340000000000003},{"$f":"[2]主表!S109","v":0},{"$f":"[2]主表!$G109","v":6668},107,3,54,3,100.7,1,0.3]
[108,108,{"$f":"[1]HeroPowerUpConfig!J112","v":228},{"$f":"[1]HeroPowerUpConfig!K112","v":236},{"$f":"[1]HeroPowerUpConfig!L112","v":245},"化神期","中",8,{"$f":"[2]主表!P110*(1+T112)","v":1982.044209782609},{"$f":"[2]主表!Q110","v":33.914999999999999},{"$f":"[2]主表!R110","v":33.914999999999999},{"$f":"[2]主表!S110","v":0},{"$f":"[2]主表!$G110","v":6783},108,3,54,3,100.8,1,0.3]
[109,109,{"$f":"[1]HeroPowerUpConfig!J113","v":228},{"$f":"[1]HeroPowerUpConfig!K113","v":236},{"$f":"[1]HeroPowerUpConfig!L113","v":246},"化神期","中",9,{"$f":"[2]主表!P111*(1+T113)","v":2033.2746347826092},{"$f":"[2]主表!Q111","v":34.505000000000003},{"$f":"[2]主表!R111","v":34.505000000000003},{"$f":"[2]主表!S111","v":0},{"$f":"[2]主表!$G111","v":6901},109,3,55,3,100.9,1,0.3]
[110,110,{"$f":"[1]HeroPowerUpConfig!J114","v":228},{"$f":"[1]HeroPowerUpConfig!K114","v":236},{"$f":"[1]HeroPowerUpConfig!L114","v":247},"化神期","中",10,{"$f":"[2]主表!P112*(1+T114)","v":2085.3749347826092},{"$f":"[2]主表!Q112","v":35.1},{"$f":"[2]主表!R112","v":35.1},{"$f":"[2]主表!S112","v":0},{"$f":"[2]主表!$G112","v":7020},110,3,55,3,101,1,0.3]
[111,111,{"$f":"[1]HeroPowerUpConfig!J115","v":228},{"$f":"[1]HeroPowerUpConfig!K115","v":237},{"$f":"[1]HeroPowerUpConfig!L115","v":238},"化神期","后",1,{"$f":"[2]主表!P113*(1+T115)","v":2370.7559565217389},{"$f":"[2]主表!Q113","v":39.58},{"$f":"[2]主表!R113","v":39.58},{"$f":"[2]主表!S113","v":0},{"$f":"[2]主表!$G113","v":7916},111,3,56,3,101.1,1,0.3]
[112,112,{"$f":"[1]HeroPowerUpConfig!J116","v":228},{"$f":"[1]HeroPowerUpConfig!K116","v":237},{"$f":"[1]HeroPowerUpConfig!L116","v":239},"化神期","后",2,{"$f":"[2]主表!P114*(1+T116)","v":2430.7281663043482},{"$f":"[2]主表!Q114","v":40.255000000000003},{"$f":"[2]主表!R114","v":40.255000000000003},{"$f":"[2]主表!S114","v":0},{"$f":"[2]主表!$G114","v":8051},112,3,56,3,101.2,1,0.3]
[113,113,{"$f":"[1]HeroPowerUpConfig!J117","v":228},{"$f":"[1]HeroPowerUpConfig!K117","v":237},{"$f":"[1]HeroPowerUpConfig!L117","v":240},"化神期","后",3,{"$f":"[2]主表!P115*(1+T117)","v":2491.9644000000003},{"$f":"[2]主表!Q115","v":40.94},{"$f":"[2]主表!R115","v":40.94},{"$f":"[2]主表!S115","v":0},{"$f":"[2]主表!$G115","v":8188},113,3,57,3,101.3,1,0.3]
[114,114,{"$f":"[1]HeroPowerUpConfig!J118","v":228},{"$f":"[1]HeroPowerUpConfig!K118","v":237},{"$f":"[1]HeroPowerUpConfig!L118","v":241},"化神期","后",4,{"$f":"[2]主表!P116*(1+T118)","v":2554.4792206521743},{"$f":"[2]主表!Q116","v":41.634999999999998},{"$f":"[2]主表!R116","v":41.634999999999998},{"$f":"[2]主表!S116","v":0},{"$f":"[2]主表!$G116","v":8327},114,3,57,3,101.4,1,0.3]
[115,115,{"$f":"[1]HeroPowerUpConfig!J119","v":228},{"$f":"[1]HeroPowerUpConfig!K119","v":237},{"$f":"[1]HeroPowerUpConfig!L119","v":242},"化神期","后",5,{"$f":"[2]主表!P117*(1+T119)","v":2618.596389130435},{"$f":"[2]主表!Q117","v":42.344999999999999},{"$f":"[2]主表!R117","v":42.344999999999999},{"$f":"[2]主表!S117","v":0},{"$f":"[2]主表!$G117","v":8469},115,3,58,3,101.5,1,0.3]
[116,116,{"$f":"[1]HeroPowerUpConfig!J120","v":228},{"$f":"[1]HeroPowerUpConfig!K120","v":237},{"$f":"[1]HeroPowerUpConfig!L120","v":243},"化神期","后",6,{"$f":"[2]主表!P118*(1+T120)","v":2684.0261249999999},{"$f":"[2]主表!Q118","v":43.064999999999998},{"$f":"[2]主表!R118","v":43.064999999999998},{"$f":"[2]主表!S118","v":0},{"$f":"[2]主表!$G118","v":8613},116,3,58,3,101.6,1,0.3]
[117,117,{"$f":"[1]HeroPowerUpConfig!J121","v":228},{"$f":"[1]HeroPowerUpConfig!K121","v":237},{"$f":"[1]HeroPowerUpConfig!L121","v":244},"化神期","后",7,{"$f":"[2]主表!P119*(1+T121)","v":2750.7829913043479},{"$f":"[2]主表!Q119","v":43.795000000000002},{"$f":"[2]主表!R119","v":43.795000000000002},{"$f":"[2]主表!S119","v":0},{"$f":"[2]主表!$G119","v":8759},117,3,59,3,101.7,1,0.3]
[118,118,{"$f":"[1]HeroPowerUpConfig!J122","v":228},{"$f":"[1]HeroPowerUpConfig!K122","v":237},{"$f":"[1]HeroPowerUpConfig!L122","v":245},"化神期","后",8,{"$f":"[2]主表!P120*(1+T122)","v":2819.198030434783},{"$f":"[2]主表!Q120","v":44.54},{"$f":"[2]主表!R120","v":44.54},{"$f":"[2]主表!S120","v":0},{"$f":"[2]主表!$G120","v":8908},118,3,59,3,101.8,1,0.3]
[119,119,{"$f":"[1]HeroPowerUpConfig!J123","v":228},{"$f":"[1]HeroPowerUpConfig!K123","v":237},{"$f":"[1]HeroPowerUpConfig!L123","v":246},"化神期","后",9,{"$f":"[2]主表!P121*(1+T123)","v":2888.9741804347832},{"$f":"[2]主表!Q121","v":45.295000000000002},{"$f":"[2]主表!R121","v":45.295000000000002},{"$f":"[2]主表!S121","v":0},{"$f":"[2]主表!$G121","v":9059},119,3,60,3,101.9,1,0.3]
[120,120,{"$f":"[1]HeroPowerUpConfig!J124","v":228},{"$f":"[1]HeroPowerUpConfig!K124","v":237},{"$f":"[1]HeroPowerUpConfig!L124","v":247},"化神期","后",10,{"$f":"[2]主表!P122*(1+T124)","v":2960.4473380434783},{"$f":"[2]主表!Q122","v":46.064999999999998},{"$f":"[2]主表!R122","v":46.064999999999998},{"$f":"[2]主表!S122","v":0},{"$f":"[2]主表!$G122","v":9213},120,3,60,3,102,1,0.3]
[121,121,{"$f":"[1]HeroPowerUpConfig!J125","v":229},{"$f":"[1]HeroPowerUpConfig!K125","v":235},{"$f":"[1]HeroPowerUpConfig!L125","v":238},"炼虚期","前",1,{"$f":"[2]主表!P123*(1+T125)","v":3970.2795434782615},{"$f":"[2]主表!Q123","v":61.314999999999998},{"$f":"[2]主表!R123","v":61.314999999999998},{"$f":"[2]主表!S123","v":0},{"$f":"[2]主表!$G123","v":12263},121,3,61,3,102.1,1,0.3]
[122,122,{"$f":"[1]HeroPowerUpConfig!J126","v":229},{"$f":"[1]HeroPowerUpConfig!K126","v":235},{"$f":"[1]HeroPowerUpConfig!L126","v":239},"炼虚期","前",2,{"$f":"[2]主表!P124*(1+T126)","v":4063.3244576086963},{"$f":"[2]主表!Q124","v":62.284999999999997},{"$f":"[2]主表!R124","v":62.284999999999997},{"$f":"[2]主表!S124","v":0},{"$f":"[2]主表!$G124","v":12457},122,3,61,3,102.2,1,0.3]
[123,123,{"$f":"[1]HeroPowerUpConfig!J127","v":229},{"$f":"[1]HeroPowerUpConfig!K127","v":235},{"$f":"[1]HeroPowerUpConfig!L127","v":240},"炼虚期","前",3,{"$f":"[2]主表!P125*(1+T127)","v":4158.6255760869572},{"$f":"[2]主表!Q125","v":63.274999999999999},{"$f":"[2]主表!R125","v":63.274999999999999},{"$f":"[2]主表!S125","v":0},{"$f":"[2]主表!$G125","v":12655},123,3,62,3,102.3,1,0.3]
[124,124,{"$f":"[1]HeroPowerUpConfig!J128","v":229},{"$f":"[1]HeroPowerUpConfig!K128","v":235},{"$f":"[1]HeroPowerUpConfig!L128","v":241},"炼虚期","前",4,{"$f":"[2]主表!P126*(1+T128)","v":4255.5499402173918},{"$f":"[2]主表!Q126","v":64.275000000000006},{"$f":"[2]主表!R126","v":64.275000000000006},{"$f":"[2]主表!S126","v":0},{"$f":"[2]主表!$G126","v":12855},124,3,62,3,102.4,1,0.3]
[125,125,{"$f":"[1]HeroPowerUpConfig!J129","v":229},{"$f":"[1]HeroPowerUpConfig!K129","v":235},{"$f":"[1]HeroPowerUpConfig!L129","v":242},"炼虚期","前",5,{"$f":"[2]主表!P127*(1+T129)","v":4354.7790521739134},{"$f":"[2]主表!Q127","v":65.295000000000002},{"$f":"[2]主表!R127","v":65.295000000000002},{"$f":"[2]主表!S127","v":0},{"$f":"[2]主表!$G127","v":13059},125,3,63,3,102.5,1,0.3]
[126,126,{"$f":"[1]HeroPowerUpConfig!J130","v":229},{"$f":"[1]HeroPowerUpConfig!K130","v":235},{"$f":"[1]HeroPowerUpConfig!L130","v":243},"炼虚期","前",6,{"$f":"[2]主表!P128*(1+T130)","v":4451.6394836956533},{"$f":"[2]主表!Q128","v":66.265000000000001},{"$f":"[2]主表!R128","v":66.265000000000001},{"$f":"[2]主表!S128","v":0},{"$f":"[2]主表!$G128","v":13253},126,3,63,3,102.6,1,0.3]
[127,127,{"$f":"[1]HeroPowerUpConfig!J131","v":229},{"$f":"[1]HeroPowerUpConfig!K131","v":235},{"$f":"[1]HeroPowerUpConfig!L131","v":244},"炼虚期","前",7,{"$f":"[2]主表!P129*(1+T131)","v":4550.4566304347836},{"$f":"[2]主表!Q129","v":67.25},{"$f":"[2]主表!R129","v":67.25},{"$f":"[2]主表!S129","v":0},{"$f":"[2]主表!$G129","v":13450},127,3,64,3,102.7,1,0.3]
[128,128,{"$f":"[1]HeroPowerUpConfig!J132","v":229},{"$f":"[1]HeroPowerUpConfig!K132","v":235},{"$f":"[1]HeroPowerUpConfig!L132","v":245},"炼虚期","前",8,{"$f":"[2]主表!P130*(1+T132)","v":4651.2523369565224},{"$f":"[2]主表!Q130","v":68.25},{"$f":"[2]主表!R130","v":68.25},{"$f":"[2]主表!S130","v":0},{"$f":"[2]主表!$G130","v":13650},128,3,64,3,102.8,1,0.3]
[129,129,{"$f":"[1]HeroPowerUpConfig!J133","v":229},{"$f":"[1]HeroPowerUpConfig!K133","v":235},{"$f":"[1]HeroPowerUpConfig!L133","v":246},"炼虚期","前",9,{"$f":"[2]主表!P131*(1+T133)","v":4754.0484478260878},{"$f":"[2]主表!Q131","v":69.265000000000001},{"$f":"[2]主表!R131","v":69.265000000000001},{"$f":"[2]主表!S131","v":0},{"$f":"[2]主表!$G131","v":13853},129,3,65,3,102.9,1,0.3]
[130,130,{"$f":"[1]HeroPowerUpConfig!J134","v":229},{"$f":"[1]HeroPowerUpConfig!K134","v":235},{"$f":"[1]HeroPowerUpConfig!L134","v":247},"炼虚期","前",10,{"$f":"[2]主表!P132*(1+T134)","v":4858.866807608696},{"$f":"[2]主表!Q132","v":70.295000000000002},{"$f":"[2]主表!R132","v":70.295000000000002},{"$f":"[2]主表!S132","v":0},{"$f":"[2]主表!$G132","v":14059},130,3,65,3,103,1,0.3]
[131,131,{"$f":"[1]HeroPowerUpConfig!J135","v":229},{"$f":"[1]HeroPowerUpConfig!K135","v":236},{"$f":"[1]HeroPowerUpConfig!L135","v":238},"炼虚期","中",1,{"$f":"[2]主表!P133*(1+T135)","v":5505.1798043478266},{"$f":"[2]主表!Q133","v":79.09},{"$f":"[2]主表!R133","v":79.09},{"$f":"[2]主表!S133","v":0},{"$f":"[2]主表!$G133","v":15818},131,3,66,3,103.1,1,0.3]
[132,132,{"$f":"[1]HeroPowerUpConfig!J136","v":229},{"$f":"[1]HeroPowerUpConfig!K136","v":236},{"$f":"[1]HeroPowerUpConfig!L136","v":239},"炼虚期","中",2,{"$f":"[2]主表!P134*(1+T136)","v":5624.8795108695658},{"$f":"[2]主表!Q134","v":80.25},{"$f":"[2]主表!R134","v":80.25},{"$f":"[2]主表!S134","v":0},{"$f":"[2]主表!$G134","v":16050},132,3,66,3,103.2,1,0.3]
[133,133,{"$f":"[1]HeroPowerUpConfig!J137","v":229},{"$f":"[1]HeroPowerUpConfig!K137","v":236},{"$f":"[1]HeroPowerUpConfig!L137","v":240},"炼虚期","中",3,{"$f":"[2]主表!P135*(1+T137)","v":5747.1169739130455},{"$f":"[2]主表!Q135","v":81.430000000000007},{"$f":"[2]主表!R135","v":81.430000000000007},{"$f":"[2]主表!S135","v":0},{"$f":"[2]主表!$G135","v":16286},133,3,67,3,103.3,1,0.3]
[134,134,{"$f":"[1]HeroPowerUpConfig!J138","v":229},{"$f":"[1]HeroPowerUpConfig!K138","v":236},{"$f":"[1]HeroPowerUpConfig!L138","v":241},"炼虚期","中",4,{"$f":"[2]主表!P136*(1+T138)","v":5871.5660054347827},{"$f":"[2]主表!Q136","v":82.625},{"$f":"[2]主表!R136","v":82.625},{"$f":"[2]主表!S136","v":0},{"$f":"[2]主表!$G136","v":16525},134,3,67,3,103.4,1,0.3]
[135,135,{"$f":"[1]HeroPowerUpConfig!J139","v":229},{"$f":"[1]HeroPowerUpConfig!K139","v":236},{"$f":"[1]HeroPowerUpConfig!L139","v":242},"炼虚期","中",5,{"$f":"[2]主表!P137*(1+T139)","v":5998.9639326086963},{"$f":"[2]主表!Q137","v":83.844999999999999},{"$f":"[2]主表!R137","v":83.844999999999999},{"$f":"[2]主表!S137","v":0},{"$f":"[2]主表!$G137","v":16769},135,3,68,3,103.5,1,0.3]
[136,136,{"$f":"[1]HeroPowerUpConfig!J140","v":229},{"$f":"[1]HeroPowerUpConfig!K140","v":236},{"$f":"[1]HeroPowerUpConfig!L140","v":243},"炼虚期","中",6,{"$f":"[2]主表!P138*(1+T140)","v":6128.6268260869565},{"$f":"[2]主表!Q138","v":85.08},{"$f":"[2]主表!R138","v":85.08},{"$f":"[2]主表!S138","v":0},{"$f":"[2]主表!$G138","v":17016},136,3,68,3,103.6,1,0.3]
[137,137,{"$f":"[1]HeroPowerUpConfig!J141","v":229},{"$f":"[1]HeroPowerUpConfig!K141","v":236},{"$f":"[1]HeroPowerUpConfig!L141","v":244},"炼虚期","中",7,{"$f":"[2]主表!P139*(1+T141)","v":6260.9391260869561},{"$f":"[2]主表!Q139","v":86.334999999999994},{"$f":"[2]主表!R139","v":86.334999999999994},{"$f":"[2]主表!S139","v":0},{"$f":"[2]主表!$G139","v":17267},137,3,69,3,103.7,1,0.3]
[138,138,{"$f":"[1]HeroPowerUpConfig!J142","v":229},{"$f":"[1]HeroPowerUpConfig!K142","v":236},{"$f":"[1]HeroPowerUpConfig!L142","v":245},"炼虚期","中",8,{"$f":"[2]主表!P140*(1+T142)","v":6395.5649358695664},{"$f":"[2]主表!Q140","v":87.605000000000004},{"$f":"[2]主表!R140","v":87.605000000000004},{"$f":"[2]主表!S140","v":0},{"$f":"[2]主表!$G140","v":17521},138,3,69,3,103.8,1,0.3]
[139,139,{"$f":"[1]HeroPowerUpConfig!J143","v":229},{"$f":"[1]HeroPowerUpConfig!K143","v":236},{"$f":"[1]HeroPowerUpConfig!L143","v":246},"炼虚期","中",9,{"$f":"[2]主表!P141*(1+T143)","v":6533.2610000000022},{"$f":"[2]主表!Q141","v":88.9},{"$f":"[2]主表!R141","v":88.9},{"$f":"[2]主表!S141","v":0},{"$f":"[2]主表!$G141","v":17780},139,3,70,3,103.9,1,0.3]
[140,140,{"$f":"[1]HeroPowerUpConfig!J144","v":229},{"$f":"[1]HeroPowerUpConfig!K144","v":236},{"$f":"[1]HeroPowerUpConfig!L144","v":247},"炼虚期","中",10,{"$f":"[2]主表!P142*(1+T144)","v":6673.6938489130462},{"$f":"[2]主表!Q142","v":90.215000000000003},{"$f":"[2]主表!R142","v":90.215000000000003},{"$f":"[2]主表!S142","v":0},{"$f":"[2]主表!$G142","v":18043},140,3,70,3,104,1,0.3]
[141,141,{"$f":"[1]HeroPowerUpConfig!J145","v":229},{"$f":"[1]HeroPowerUpConfig!K145","v":237},{"$f":"[1]HeroPowerUpConfig!L145","v":238},"炼虚期","后",1,{"$f":"[2]主表!P143*(1+T145)","v":7557.0336521739137},{"$f":"[2]主表!Q143","v":101.49},{"$f":"[2]主表!R143","v":101.49},{"$f":"[2]主表!S143","v":0},{"$f":"[2]主表!$G143","v":20298},141,3,71,3,104.1,1,0.3]
[142,142,{"$f":"[1]HeroPowerUpConfig!J146","v":229},{"$f":"[1]HeroPowerUpConfig!K146","v":237},{"$f":"[1]HeroPowerUpConfig!L146","v":239},"炼虚期","后",2,{"$f":"[2]主表!P144*(1+T146)","v":7716.8462271739136},{"$f":"[2]主表!Q144","v":102.965},{"$f":"[2]主表!R144","v":102.965},{"$f":"[2]主表!S144","v":0},{"$f":"[2]主表!$G144","v":20593},142,3,71,3,104.2,1,0.3]
[143,143,{"$f":"[1]HeroPowerUpConfig!J147","v":229},{"$f":"[1]HeroPowerUpConfig!K147","v":237},{"$f":"[1]HeroPowerUpConfig!L147","v":240},"炼虚期","后",3,{"$f":"[2]主表!P145*(1+T147)","v":7880.3537869565225},{"$f":"[2]主表!Q145","v":104.47},{"$f":"[2]主表!R145","v":104.47},{"$f":"[2]主表!S145","v":0},{"$f":"[2]主表!$G145","v":20894},143,3,72,3,104.3,1,0.3]
[144,144,{"$f":"[1]HeroPowerUpConfig!J148","v":229},{"$f":"[1]HeroPowerUpConfig!K148","v":237},{"$f":"[1]HeroPowerUpConfig!L148","v":241},"炼虚期","后",4,{"$f":"[2]主表!P146*(1+T148)","v":8046.8408489130443},{"$f":"[2]主表!Q146","v":105.995},{"$f":"[2]主表!R146","v":105.995},{"$f":"[2]主表!S146","v":0},{"$f":"[2]主表!$G146","v":21199},144,3,72,3,104.4,1,0.3]
[145,145,{"$f":"[1]HeroPowerUpConfig!J149","v":229},{"$f":"[1]HeroPowerUpConfig!K149","v":237},{"$f":"[1]HeroPowerUpConfig!L149","v":242},"炼虚期","后",5,{"$f":"[2]主表!P147*(1+T149)","v":8216.336539130436},{"$f":"[2]主表!Q147","v":107.54},{"$f":"[2]主表!R147","v":107.54},{"$f":"[2]主表!S147","v":0},{"$f":"[2]主表!$G147","v":21508},145,3,73,3,104.5,1,0.3]
[146,146,{"$f":"[1]HeroPowerUpConfig!J150","v":229},{"$f":"[1]HeroPowerUpConfig!K150","v":237},{"$f":"[1]HeroPowerUpConfig!L150","v":243},"炼虚期","后",6,{"$f":"[2]主表!P148*(1+T150)","v":8389.6388641304366},{"$f":"[2]主表!Q148","v":109.11499999999999},{"$f":"[2]主表!R148","v":109.11499999999999},{"$f":"[2]主表!S148","v":0},{"$f":"[2]主表!$G148","v":21823},146,3,73,3,104.6,1,0.3]
[147,147,{"$f":"[1]HeroPowerUpConfig!J151","v":229},{"$f":"[1]HeroPowerUpConfig!K151","v":237},{"$f":"[1]HeroPowerUpConfig!L151","v":244},"炼虚期","后",7,{"$f":"[2]主表!P149*(1+T151)","v":8566.0177782608698},{"$f":"[2]主表!Q149","v":110.71},{"$f":"[2]主表!R149","v":110.71},{"$f":"[2]主表!S149","v":0},{"$f":"[2]主表!$G149","v":22142},147,3,74,3,104.7,1,0.3]
[148,148,{"$f":"[1]HeroPowerUpConfig!J152","v":229},{"$f":"[1]HeroPowerUpConfig!K152","v":237},{"$f":"[1]HeroPowerUpConfig!L152","v":245},"炼虚期","后",8,{"$f":"[2]主表!P150*(1+T152)","v":8746.2809967391295},{"$f":"[2]主表!Q150","v":112.33499999999999},{"$f":"[2]主表!R150","v":112.33499999999999},{"$f":"[2]主表!S150","v":0},{"$f":"[2]主表!$G150","v":22467},148,3,74,3,104.8,1,0.3]
[149,149,{"$f":"[1]HeroPowerUpConfig!J153","v":229},{"$f":"[1]HeroPowerUpConfig!K153","v":237},{"$f":"[1]HeroPowerUpConfig!L153","v":246},"炼虚期","后",9,{"$f":"[2]主表!P151*(1+T153)","v":8929.6887652173918},{"$f":"[2]主表!Q151","v":113.98},{"$f":"[2]主表!R151","v":113.98},{"$f":"[2]主表!S151","v":0},{"$f":"[2]主表!$G151","v":22796},149,3,75,3,104.9,1,0.3]
[150,150,{"$f":"[1]HeroPowerUpConfig!J154","v":229},{"$f":"[1]HeroPowerUpConfig!K154","v":237},{"$f":"[1]HeroPowerUpConfig!L154","v":247},"炼虚期","后",10,{"$f":"[2]主表!P152*(1+T154)","v":9117.0585076086954},{"$f":"[2]主表!Q152","v":115.655},{"$f":"[2]主表!R152","v":115.655},{"$f":"[2]主表!S152","v":0},{"$f":"[2]主表!$G152","v":23131},150,3,75,3,105,1,0.3,null,null,null,{"$f":"I154*219","v":1996635.8131663043}]
[151,151,{"$f":"[1]HeroPowerUpConfig!J155","v":230},{"$f":"[1]HeroPowerUpConfig!K155","v":235},{"$f":"[1]HeroPowerUpConfig!L155","v":238},"合体期","前",1,{"$f":"[2]主表!P153*(1+T155)","v":12194.318097826088},{"$f":"[2]主表!Q153","v":153.745},{"$f":"[2]主表!R153","v":153.745},{"$f":"[2]主表!S153","v":0},{"$f":"[2]主表!$G153","v":30749},151,4,76,4,105.1,1,0.3]
[152,152,{"$f":"[1]HeroPowerUpConfig!J156","v":230},{"$f":"[1]HeroPowerUpConfig!K156","v":235},{"$f":"[1]HeroPowerUpConfig!L156","v":239},"合体期","前",2,{"$f":"[2]主表!P154*(1+T156)","v":12446.507719565219},{"$f":"[2]主表!Q154","v":155.97},{"$f":"[2]主表!R154","v":155.97},{"$f":"[2]主表!S154","v":0},{"$f":"[2]主表!$G154","v":31194},152,4,76,4,105.2,1,0.3]
[153,153,{"$f":"[1]HeroPowerUpConfig!J157","v":230},{"$f":"[1]HeroPowerUpConfig!K157","v":235},{"$f":"[1]HeroPowerUpConfig!L157","v":240},"合体期","前",3,{"$f":"[2]主表!P155*(1+T157)","v":12703.266108695654},{"$f":"[2]主表!Q155","v":158.22499999999999},{"$f":"[2]主表!R155","v":158.22499999999999},{"$f":"[2]主表!S155","v":0},{"$f":"[2]主表!$G155","v":31645},153,4,77,4,105.3,1,0.3]
[154,154,{"$f":"[1]HeroPowerUpConfig!J158","v":230},{"$f":"[1]HeroPowerUpConfig!K158","v":235},{"$f":"[1]HeroPowerUpConfig!L158","v":241},"合体期","前",4,{"$f":"[2]主表!P156*(1+T158)","v":12965.44466956522},{"$f":"[2]主表!Q156","v":160.52000000000001},{"$f":"[2]主表!R156","v":160.52000000000001},{"$f":"[2]主表!S156","v":0},{"$f":"[2]主表!$G156","v":32104},154,4,77,4,105.4,1,0.3]
[155,155,{"$f":"[1]HeroPowerUpConfig!J159","v":230},{"$f":"[1]HeroPowerUpConfig!K159","v":235},{"$f":"[1]HeroPowerUpConfig!L159","v":242},"合体期","前",5,{"$f":"[2]主表!P157*(1+T159)","v":13232.695369565219},{"$f":"[2]主表!Q157","v":162.85},{"$f":"[2]主表!R157","v":162.85},{"$f":"[2]主表!S157","v":0},{"$f":"[2]主表!$G157","v":32570},155,4,78,4,105.5,1,0.3]
[156,156,{"$f":"[1]HeroPowerUpConfig!J160","v":230},{"$f":"[1]HeroPowerUpConfig!K160","v":235},{"$f":"[1]HeroPowerUpConfig!L160","v":243},"合体期","前",6,{"$f":"[2]主表!P158*(1+T160)","v":13505.069179347827},{"$f":"[2]主表!Q158","v":165.215},{"$f":"[2]主表!R158","v":165.215},{"$f":"[2]主表!S158","v":0},{"$f":"[2]主表!$G158","v":33043},156,4,78,4,105.6,1,0.3]
[157,157,{"$f":"[1]HeroPowerUpConfig!J161","v":230},{"$f":"[1]HeroPowerUpConfig!K161","v":235},{"$f":"[1]HeroPowerUpConfig!L161","v":244},"合体期","前",7,{"$f":"[2]主表!P159*(1+T161)","v":13782.617069565222},{"$f":"[2]主表!Q159","v":167.61500000000001},{"$f":"[2]主表!R159","v":167.61500000000001},{"$f":"[2]主表!S159","v":0},{"$f":"[2]主表!$G159","v":33523},157,4,79,4,105.7,1,0.3]
[158,158,{"$f":"[1]HeroPowerUpConfig!J162","v":230},{"$f":"[1]HeroPowerUpConfig!K162","v":235},{"$f":"[1]HeroPowerUpConfig!L162","v":245},"合体期","前",8,{"$f":"[2]主表!P160*(1+T162)","v":14065.803577173914},{"$f":"[2]主表!Q160","v":170.05500000000001},{"$f":"[2]主表!R160","v":170.05500000000001},{"$f":"[2]主表!S160","v":0},{"$f":"[2]主表!$G160","v":34011},158,4,79,4,105.8,1,0.3]
[159,159,{"$f":"[1]HeroPowerUpConfig!J163","v":230},{"$f":"[1]HeroPowerUpConfig!K163","v":235},{"$f":"[1]HeroPowerUpConfig!L163","v":246},"合体期","前",9,{"$f":"[2]主表!P161*(1+T163)","v":14354.270960869566},{"$f":"[2]主表!Q161","v":172.53},{"$f":"[2]主表!R161","v":172.53},{"$f":"[2]主表!S161","v":0},{"$f":"[2]主表!$G161","v":34506},159,4,80,4,105.9,1,0.3]
[160,160,{"$f":"[1]HeroPowerUpConfig!J164","v":230},{"$f":"[1]HeroPowerUpConfig!K164","v":235},{"$f":"[1]HeroPowerUpConfig!L164","v":247},"合体期","前",10,{"$f":"[2]主表!P162*(1+T164)","v":14648.488611956524},{"$f":"[2]主表!Q162","v":175.04499999999999},{"$f":"[2]主表!R162","v":175.04499999999999},{"$f":"[2]主表!S162","v":175.05},{"$f":"[2]主表!$G162","v":35009},160,4,80,4,106,1,0.3]
[161,161,{"$f":"[1]HeroPowerUpConfig!J165","v":230},{"$f":"[1]HeroPowerUpConfig!K165","v":236},{"$f":"[1]HeroPowerUpConfig!L165","v":238},"合体期","中",1,{"$f":"[2]主表!P163*(1+T165)","v":16570.883152173912},{"$f":"[2]主表!Q163","v":196.875},{"$f":"[2]主表!R163","v":196.875},{"$f":"[2]主表!S163","v":196.88},{"$f":"[2]主表!$G163","v":39375},161,4,81,4,106.1,1,0.3]
[162,162,{"$f":"[1]HeroPowerUpConfig!J166","v":230},{"$f":"[1]HeroPowerUpConfig!K166","v":236},{"$f":"[1]HeroPowerUpConfig!L166","v":239},"合体期","中",2,{"$f":"[2]主表!P164*(1+T166)","v":16906.026775000006},{"$f":"[2]主表!Q164","v":199.70500000000001},{"$f":"[2]主表!R164","v":199.70500000000001},{"$f":"[2]主表!S164","v":199.71},{"$f":"[2]主表!$G164","v":39941},162,4,81,4,106.2,1,0.3]
[163,163,{"$f":"[1]HeroPowerUpConfig!J167","v":230},{"$f":"[1]HeroPowerUpConfig!K167","v":236},{"$f":"[1]HeroPowerUpConfig!L167","v":240},"合体期","中",3,{"$f":"[2]主表!P165*(1+T167)","v":17247.323576086957},{"$f":"[2]主表!Q165","v":202.57499999999999},{"$f":"[2]主表!R165","v":202.57499999999999},{"$f":"[2]主表!S165","v":202.58},{"$f":"[2]主表!$G165","v":40515},163,4,82,4,106.3,1,0.3]
[164,164,{"$f":"[1]HeroPowerUpConfig!J168","v":230},{"$f":"[1]HeroPowerUpConfig!K168","v":236},{"$f":"[1]HeroPowerUpConfig!L168","v":241},"合体期","中",4,{"$f":"[2]主表!P166*(1+T168)","v":17595.688066304352},{"$f":"[2]主表!Q166","v":205.495},{"$f":"[2]主表!R166","v":205.495},{"$f":"[2]主表!S166","v":205.5},{"$f":"[2]主表!$G166","v":41099},164,4,82,4,106.4,1,0.3]
[165,165,{"$f":"[1]HeroPowerUpConfig!J169","v":230},{"$f":"[1]HeroPowerUpConfig!K169","v":236},{"$f":"[1]HeroPowerUpConfig!L169","v":242},"合体期","中",5,{"$f":"[2]主表!P167*(1+T169)","v":17950.331947826093},{"$f":"[2]主表!Q167","v":208.45500000000001},{"$f":"[2]主表!R167","v":208.45500000000001},{"$f":"[2]主表!S167","v":208.46},{"$f":"[2]主表!$G167","v":41691},165,4,83,4,106.5,1,0.3]
[166,166,{"$f":"[1]HeroPowerUpConfig!J170","v":230},{"$f":"[1]HeroPowerUpConfig!K170","v":236},{"$f":"[1]HeroPowerUpConfig!L170","v":243},"合体期","中",6,{"$f":"[2]主表!P168*(1+T170)","v":18312.179440217391},{"$f":"[2]主表!Q168","v":211.465},{"$f":"[2]主表!R168","v":211.465},{"$f":"[2]主表!S168","v":211.47},{"$f":"[2]主表!$G168","v":42293},166,4,83,4,106.6,1,0.3]
[167,167,{"$f":"[1]HeroPowerUpConfig!J171","v":230},{"$f":"[1]HeroPowerUpConfig!K171","v":236},{"$f":"[1]HeroPowerUpConfig!L171","v":244},"合体期","中",7,{"$f":"[2]主表!P169*(1+T171)","v":18680.432536956519},{"$f":"[2]主表!Q169","v":214.51499999999999},{"$f":"[2]主表!R169","v":214.51499999999999},{"$f":"[2]主表!S169","v":214.52},{"$f":"[2]主表!$G169","v":42903},167,4,84,4,106.7,1,0.3]
[168,168,{"$f":"[1]HeroPowerUpConfig!J172","v":230},{"$f":"[1]HeroPowerUpConfig!K172","v":236},{"$f":"[1]HeroPowerUpConfig!L172","v":245},"合体期","中",8,{"$f":"[2]主表!P170*(1+T172)","v":19056.463004347828},{"$f":"[2]主表!Q170","v":217.62},{"$f":"[2]主表!R170","v":217.62},{"$f":"[2]主表!S170","v":217.62},{"$f":"[2]主表!$G170","v":43524},168,4,84,4,106.8,1,0.3]
[169,169,{"$f":"[1]HeroPowerUpConfig!J173","v":230},{"$f":"[1]HeroPowerUpConfig!K173","v":236},{"$f":"[1]HeroPowerUpConfig!L173","v":246},"合体期","中",9,{"$f":"[2]主表!P171*(1+T173)","v":19439.030143478263},{"$f":"[2]主表!Q171","v":220.76499999999999},{"$f":"[2]主表!R171","v":220.76499999999999},{"$f":"[2]主表!S171","v":220.77},{"$f":"[2]主表!$G171","v":44153},169,4,85,4,106.9,1,0.3]
[170,170,{"$f":"[1]HeroPowerUpConfig!J174","v":230},{"$f":"[1]HeroPowerUpConfig!K174","v":236},{"$f":"[1]HeroPowerUpConfig!L174","v":247},"合体期","中",10,{"$f":"[2]主表!P172*(1+T174)","v":19829.520283695656},{"$f":"[2]主表!Q172","v":223.965},{"$f":"[2]主表!R172","v":223.965},{"$f":"[2]主表!S172","v":246.36},{"$f":"[2]主表!$G172","v":44793},170,4,85,4,107,1,0.3]
[171,171,{"$f":"[1]HeroPowerUpConfig!J175","v":230},{"$f":"[1]HeroPowerUpConfig!K175","v":237},{"$f":"[1]HeroPowerUpConfig!L175","v":238},"合体期","后",1,{"$f":"[2]主表!P173*(1+T175)","v":22422.452978260873},{"$f":"[2]主表!Q173","v":251.87},{"$f":"[2]主表!R173","v":251.87},{"$f":"[2]主表!S173","v":277.06},{"$f":"[2]主表!$G173","v":50374},171,4,86,4,107.1,1,0.3]
[172,172,{"$f":"[1]HeroPowerUpConfig!J176","v":230},{"$f":"[1]HeroPowerUpConfig!K176","v":237},{"$f":"[1]HeroPowerUpConfig!L176","v":239},"合体期","后",2,{"$f":"[2]主表!P174*(1+T176)","v":22866.505542391307},{"$f":"[2]主表!Q174","v":255.465},{"$f":"[2]主表!R174","v":255.465},{"$f":"[2]主表!S174","v":281.01},{"$f":"[2]主表!$G174","v":51093},172,4,86,4,107.2,1,0.3]
[173,173,{"$f":"[1]HeroPowerUpConfig!J177","v":230},{"$f":"[1]HeroPowerUpConfig!K177","v":237},{"$f":"[1]HeroPowerUpConfig!L177","v":240},"合体期","后",3,{"$f":"[2]主表!P175*(1+T177)","v":23318.998095652176},{"$f":"[2]主表!Q175","v":259.11500000000001},{"$f":"[2]主表!R175","v":259.11500000000001},{"$f":"[2]主表!S175","v":285.02999999999997},{"$f":"[2]主表!$G175","v":51823},173,4,87,4,107.3,1,0.3]
[174,174,{"$f":"[1]HeroPowerUpConfig!J178","v":230},{"$f":"[1]HeroPowerUpConfig!K178","v":237},{"$f":"[1]HeroPowerUpConfig!L178","v":241},"合体期","后",4,{"$f":"[2]主表!P176*(1+T178)","v":23780.463135869566},{"$f":"[2]主表!Q176","v":262.82499999999999},{"$f":"[2]主表!R176","v":262.82499999999999},{"$f":"[2]主表!S176","v":289.11},{"$f":"[2]主表!$G176","v":52565},174,4,87,4,107.4,1,0.3]
[175,175,{"$f":"[1]HeroPowerUpConfig!J179","v":230},{"$f":"[1]HeroPowerUpConfig!K179","v":237},{"$f":"[1]HeroPowerUpConfig!L179","v":242},"合体期","后",5,{"$f":"[2]主表!P177*(1+T179)","v":24250.078384782613},{"$f":"[2]主表!Q177","v":266.58499999999998},{"$f":"[2]主表!R177","v":266.58499999999998},{"$f":"[2]主表!S177","v":293.24},{"$f":"[2]主表!$G177","v":53317},175,4,88,4,107.5,1,0.3]
[176,176,{"$f":"[1]HeroPowerUpConfig!J180","v":230},{"$f":"[1]HeroPowerUpConfig!K180","v":237},{"$f":"[1]HeroPowerUpConfig!L180","v":243},"合体期","后",6,{"$f":"[2]主表!P178*(1+T180)","v":24729.288423913051},{"$f":"[2]主表!Q178","v":270.41000000000003},{"$f":"[2]主表!R178","v":270.41000000000003},{"$f":"[2]主表!S178","v":297.45},{"$f":"[2]主表!$G178","v":54082},176,4,88,4,107.6,1,0.3]
[177,177,{"$f":"[1]HeroPowerUpConfig!J181","v":230},{"$f":"[1]HeroPowerUpConfig!K181","v":237},{"$f":"[1]HeroPowerUpConfig!L181","v":244},"合体期","后",7,{"$f":"[2]主表!P179*(1+T181)","v":25217.268547826094},{"$f":"[2]主表!Q179","v":274.29000000000002},{"$f":"[2]主表!R179","v":274.29000000000002},{"$f":"[2]主表!S179","v":301.72000000000003},{"$f":"[2]主表!$G179","v":54858},177,4,89,4,107.7,1,0.3]
[178,178,{"$f":"[1]HeroPowerUpConfig!J182","v":230},{"$f":"[1]HeroPowerUpConfig!K182","v":237},{"$f":"[1]HeroPowerUpConfig!L182","v":245},"合体期","后",8,{"$f":"[2]主表!P180*(1+T182)","v":25714.560963043481},{"$f":"[2]主表!Q180","v":278.23},{"$f":"[2]主表!R180","v":278.23},{"$f":"[2]主表!S180","v":306.05},{"$f":"[2]主表!$G180","v":55646},178,4,89,4,107.8,1,0.3]
[179,179,{"$f":"[1]HeroPowerUpConfig!J183","v":230},{"$f":"[1]HeroPowerUpConfig!K183","v":237},{"$f":"[1]HeroPowerUpConfig!L183","v":246},"合体期","后",9,{"$f":"[2]主表!P181*(1+T183)","v":26221.253047826092},{"$f":"[2]主表!Q181","v":282.23},{"$f":"[2]主表!R181","v":282.23},{"$f":"[2]主表!S181","v":310.45},{"$f":"[2]主表!$G181","v":56446},179,4,90,4,107.9,1,0.3]
[180,180,{"$f":"[1]HeroPowerUpConfig!J184","v":230},{"$f":"[1]HeroPowerUpConfig!K184","v":237},{"$f":"[1]HeroPowerUpConfig!L184","v":247},"合体期","后",10,{"$f":"[2]主表!P182*(1+T184)","v":26737.899144565221},{"$f":"[2]主表!Q182","v":286.29500000000002},{"$f":"[2]主表!R182","v":286.29500000000002},{"$f":"[2]主表!S182","v":343.55},{"$f":"[2]主表!$G182","v":57259},180,4,90,4,108,1,0.3]
[181,181,{"$f":"[1]HeroPowerUpConfig!J185","v":231},{"$f":"[1]HeroPowerUpConfig!K185","v":235},{"$f":"[1]HeroPowerUpConfig!L185","v":238},"大乘期","前",1,{"$f":"[2]主表!P183*(1+T185)","v":35754.474434782613},{"$f":"[2]主表!Q183","v":380.86},{"$f":"[2]主表!R183","v":380.86},{"$f":"[2]主表!S183","v":457.03},{"$f":"[2]主表!$G183","v":76172},181,4,91,4,108.1,1,0.3]
[182,182,{"$f":"[1]HeroPowerUpConfig!J186","v":231},{"$f":"[1]HeroPowerUpConfig!K186","v":235},{"$f":"[1]HeroPowerUpConfig!L186","v":239},"大乘期","前",2,{"$f":"[2]主表!P184*(1+T186)","v":36485.722923913047},{"$f":"[2]主表!Q184","v":386.65},{"$f":"[2]主表!R184","v":386.65},{"$f":"[2]主表!S184","v":463.98},{"$f":"[2]主表!$G184","v":77330},182,4,91,4,108.2,1,0.3]
[183,183,{"$f":"[1]HeroPowerUpConfig!J187","v":231},{"$f":"[1]HeroPowerUpConfig!K187","v":235},{"$f":"[1]HeroPowerUpConfig!L187","v":240},"大乘期","前",3,{"$f":"[2]主表!P185*(1+T187)","v":37231.129169565218},{"$f":"[2]主表!Q185","v":392.53},{"$f":"[2]主表!R185","v":392.53},{"$f":"[2]主表!S185","v":471.04},{"$f":"[2]主表!$G185","v":78506},183,4,92,4,108.3,1,0.3]
[184,184,{"$f":"[1]HeroPowerUpConfig!J188","v":231},{"$f":"[1]HeroPowerUpConfig!K188","v":235},{"$f":"[1]HeroPowerUpConfig!L188","v":241},"大乘期","前",4,{"$f":"[2]主表!P186*(1+T188)","v":37991.300911956525},{"$f":"[2]主表!Q186","v":398.505},{"$f":"[2]主表!R186","v":398.505},{"$f":"[2]主表!S186","v":478.21},{"$f":"[2]主表!$G186","v":79701},184,4,92,4,108.4,1,0.3]
[185,185,{"$f":"[1]HeroPowerUpConfig!J189","v":231},{"$f":"[1]HeroPowerUpConfig!K189","v":235},{"$f":"[1]HeroPowerUpConfig!L189","v":242},"大乘期","前",5,{"$f":"[2]主表!P187*(1+T189)","v":38765.897400000002},{"$f":"[2]主表!Q187","v":404.57},{"$f":"[2]主表!R187","v":404.57},{"$f":"[2]主表!S187","v":485.48},{"$f":"[2]主表!$G187","v":80914},185,4,93,4,108.5,1,0.3]
[186,186,{"$f":"[1]HeroPowerUpConfig!J190","v":231},{"$f":"[1]HeroPowerUpConfig!K190","v":235},{"$f":"[1]HeroPowerUpConfig!L190","v":243},"大乘期","前",6,{"$f":"[2]主表!P188*(1+T190)","v":39572.384679347822},{"$f":"[2]主表!Q188","v":410.90499999999997},{"$f":"[2]主表!R188","v":410.90499999999997},{"$f":"[2]主表!S188","v":493.09},{"$f":"[2]主表!$G188","v":82181},186,4,93,4,108.6,1,0.3]
[187,187,{"$f":"[1]HeroPowerUpConfig!J191","v":231},{"$f":"[1]HeroPowerUpConfig!K191","v":235},{"$f":"[1]HeroPowerUpConfig!L191","v":244},"大乘期","前",7,{"$f":"[2]主表!P189*(1+T191)","v":40394.701504347824},{"$f":"[2]主表!Q189","v":417.34},{"$f":"[2]主表!R189","v":417.34},{"$f":"[2]主表!S189","v":500.81},{"$f":"[2]主表!$G189","v":83468},187,4,94,4,108.7,1,0.3]
[188,188,{"$f":"[1]HeroPowerUpConfig!J192","v":231},{"$f":"[1]HeroPowerUpConfig!K192","v":235},{"$f":"[1]HeroPowerUpConfig!L192","v":245},"大乘期","前",8,{"$f":"[2]主表!P190*(1+T192)","v":41233.479886956527},{"$f":"[2]主表!Q190","v":423.88},{"$f":"[2]主表!R190","v":423.88},{"$f":"[2]主表!S190","v":508.66},{"$f":"[2]主表!$G190","v":84776},188,4,94,4,108.799999999999,1,0.3]
[189,189,{"$f":"[1]HeroPowerUpConfig!J193","v":231},{"$f":"[1]HeroPowerUpConfig!K193","v":235},{"$f":"[1]HeroPowerUpConfig!L193","v":246},"大乘期","前",9,{"$f":"[2]主表!P191*(1+T193)","v":42088.383930434778},{"$f":"[2]主表!Q191","v":430.52},{"$f":"[2]主表!R191","v":430.52},{"$f":"[2]主表!S191","v":516.62},{"$f":"[2]主表!$G191","v":86104},189,4,95,4,108.899999999999,1,0.3]
[190,190,{"$f":"[1]HeroPowerUpConfig!J194","v":231},{"$f":"[1]HeroPowerUpConfig!K194","v":235},{"$f":"[1]HeroPowerUpConfig!L194","v":247},"大乘期","前",10,{"$f":"[2]主表!P192*(1+T194)","v":42960.541736956526},{"$f":"[2]主表!Q192","v":437.27},{"$f":"[2]主表!R192","v":437.27},{"$f":"[2]主表!S192","v":568.45000000000005},{"$f":"[2]主表!$G192","v":87454},190,4,95,4,108.99999999999901,1,0.3]
[191,191,{"$f":"[1]HeroPowerUpConfig!J195","v":231},{"$f":"[1]HeroPowerUpConfig!K195","v":236},{"$f":"[1]HeroPowerUpConfig!L195","v":238},"大乘期","中",1,{"$f":"[2]主表!P193*(1+T195)","v":48609.518902173913},{"$f":"[2]主表!Q193","v":492.33499999999998},{"$f":"[2]主表!R193","v":492.33499999999998},{"$f":"[2]主表!S193","v":640.04},{"$f":"[2]主表!$G193","v":98467},191,4,96,4,109.099999999999,1,0.3]
[192,192,{"$f":"[1]HeroPowerUpConfig!J196","v":231},{"$f":"[1]HeroPowerUpConfig!K196","v":236},{"$f":"[1]HeroPowerUpConfig!L196","v":239},"大乘期","中",2,{"$f":"[2]主表!P194*(1+T196)","v":49603.068656521747},{"$f":"[2]主表!Q194","v":499.94},{"$f":"[2]主表!R194","v":499.94},{"$f":"[2]主表!S194","v":649.91999999999996},{"$f":"[2]主表!$G194","v":99988},192,4,96,4,109.19999999999899,1,0.3]
[193,193,{"$f":"[1]HeroPowerUpConfig!J197","v":231},{"$f":"[1]HeroPowerUpConfig!K197","v":236},{"$f":"[1]HeroPowerUpConfig!L197","v":240},"大乘期","中",3,{"$f":"[2]主表!P195*(1+T197)","v":50615.96629130435},{"$f":"[2]主表!Q195","v":507.66500000000002},{"$f":"[2]主表!R195","v":507.66500000000002},{"$f":"[2]主表!S195","v":659.96},{"$f":"[2]主表!$G195","v":101533},193,4,97,4,109.299999999999,1,0.3]
[194,194,{"$f":"[1]HeroPowerUpConfig!J198","v":231},{"$f":"[1]HeroPowerUpConfig!K198","v":236},{"$f":"[1]HeroPowerUpConfig!L198","v":241},"大乘期","中",4,{"$f":"[2]主表!P196*(1+T198)","v":51648.887507608699},{"$f":"[2]主表!Q196","v":515.51499999999999},{"$f":"[2]主表!R196","v":515.51499999999999},{"$f":"[2]主表!S196","v":670.17},{"$f":"[2]主表!$G196","v":103103},194,4,97,4,109.399999999999,1,0.3]
[195,195,{"$f":"[1]HeroPowerUpConfig!J199","v":231},{"$f":"[1]HeroPowerUpConfig!K199","v":236},{"$f":"[1]HeroPowerUpConfig!L199","v":242},"大乘期","中",5,{"$f":"[2]主表!P197*(1+T199)","v":52702.5177152174},{"$f":"[2]主表!Q197","v":523.495},{"$f":"[2]主表!R197","v":523.495},{"$f":"[2]主表!S197","v":680.54},{"$f":"[2]主表!$G197","v":104699},195,4,98,4,109.49999999999901,1,0.3]
[196,196,{"$f":"[1]HeroPowerUpConfig!J200","v":231},{"$f":"[1]HeroPowerUpConfig!K200","v":236},{"$f":"[1]HeroPowerUpConfig!L200","v":243},"大乘期","中",6,{"$f":"[2]主表!P198*(1+T200)","v":53776.034635869568},{"$f":"[2]主表!Q198","v":531.59500000000003},{"$f":"[2]主表!R198","v":531.59500000000003},{"$f":"[2]主表!S198","v":691.07},{"$f":"[2]主表!$G198","v":106319},196,4,98,4,109.599999999999,1,0.3]
[197,197,{"$f":"[1]HeroPowerUpConfig!J201","v":231},{"$f":"[1]HeroPowerUpConfig!K201","v":236},{"$f":"[1]HeroPowerUpConfig!L201","v":244},"大乘期","中",7,{"$f":"[2]主表!P199*(1+T201)","v":54871.137704347842},{"$f":"[2]主表!Q199","v":539.83000000000004},{"$f":"[2]主表!R199","v":539.83000000000004},{"$f":"[2]主表!S199","v":701.78},{"$f":"[2]主表!$G199","v":107966},197,4,99,4,109.69999999999899,1,0.3]
[198,198,{"$f":"[1]HeroPowerUpConfig!J202","v":231},{"$f":"[1]HeroPowerUpConfig!K202","v":236},{"$f":"[1]HeroPowerUpConfig!L202","v":245},"大乘期","中",8,{"$f":"[2]主表!P200*(1+T202)","v":55987.512868478276},{"$f":"[2]主表!Q200","v":548.19500000000005},{"$f":"[2]主表!R200","v":548.19500000000005},{"$f":"[2]主表!S200","v":712.65},{"$f":"[2]主表!$G200","v":109639},198,4,99,4,109.799999999999,1,0.3]
[199,199,{"$f":"[1]HeroPowerUpConfig!J203","v":231},{"$f":"[1]HeroPowerUpConfig!K203","v":236},{"$f":"[1]HeroPowerUpConfig!L203","v":246},"大乘期","中",9,{"$f":"[2]主表!P201*(1+T203)","v":57125.349447826091},{"$f":"[2]主表!Q201","v":556.69000000000005},{"$f":"[2]主表!R201","v":556.69000000000005},{"$f":"[2]主表!S201","v":723.7},{"$f":"[2]主表!$G201","v":111338},199,4,100,4,109.899999999999,1,0.3]
[200,200,{"$f":"[1]HeroPowerUpConfig!J204","v":231},{"$f":"[1]HeroPowerUpConfig!K204","v":236},{"$f":"[1]HeroPowerUpConfig!L204","v":247},"大乘期","中",10,{"$f":"[2]主表!P202*(1+T204)","v":58285.867777173917},{"$f":"[2]主表!Q202","v":565.32500000000005},{"$f":"[2]主表!R202","v":565.32500000000005},{"$f":"[2]主表!S202","v":791.45},{"$f":"[2]主表!$G202","v":113065},200,4,100,4,109.99999999999901,1,0.3]
[201,201,{"$f":"[1]HeroPowerUpConfig!J205","v":231},{"$f":"[1]HeroPowerUpConfig!K205","v":237},{"$f":"[1]HeroPowerUpConfig!L205","v":238},"大乘期","后",1,{"$f":"[2]主表!P203*(1+T205)","v":65923.257065217389},{"$f":"[2]主表!Q203","v":636.40499999999997},{"$f":"[2]主表!R203","v":636.40499999999997},{"$f":"[2]主表!S203","v":890.97},{"$f":"[2]主表!$G203","v":127281},201,5,101,5,110.099999999999,1,0.3]
[202,202,{"$f":"[1]HeroPowerUpConfig!J206","v":231},{"$f":"[1]HeroPowerUpConfig!K206","v":237},{"$f":"[1]HeroPowerUpConfig!L206","v":239},"大乘期","后",2,{"$f":"[2]主表!P204*(1+T206)","v":67244.294193478258},{"$f":"[2]主表!Q204","v":646.13},{"$f":"[2]主表!R204","v":646.13},{"$f":"[2]主表!S204","v":904.58},{"$f":"[2]主表!$G204","v":129226},202,5,101,5,110.19999999999899,1,0.3]
[203,203,{"$f":"[1]HeroPowerUpConfig!J207","v":231},{"$f":"[1]HeroPowerUpConfig!K207","v":237},{"$f":"[1]HeroPowerUpConfig!L207","v":240},"大乘期","后",3,{"$f":"[2]主表!P205*(1+T207)","v":68590.979491304344},{"$f":"[2]主表!Q205","v":656.01},{"$f":"[2]主表!R205","v":656.01},{"$f":"[2]主表!S205","v":918.41},{"$f":"[2]主表!$G205","v":131202},203,5,102,5,110.299999999999,1,0.3]
[204,204,{"$f":"[1]HeroPowerUpConfig!J208","v":231},{"$f":"[1]HeroPowerUpConfig!K208","v":237},{"$f":"[1]HeroPowerUpConfig!L208","v":241},"大乘期","后",4,{"$f":"[2]主表!P206*(1+T208)","v":69963.538685869571},{"$f":"[2]主表!Q206","v":666.04499999999996},{"$f":"[2]主表!R206","v":666.04499999999996},{"$f":"[2]主表!S206","v":932.46},{"$f":"[2]主表!$G206","v":133209},204,5,102,5,110.399999999999,1,0.3]
[205,205,{"$f":"[1]HeroPowerUpConfig!J209","v":231},{"$f":"[1]HeroPowerUpConfig!K209","v":237},{"$f":"[1]HeroPowerUpConfig!L209","v":242},"大乘期","后",5,{"$f":"[2]主表!P207*(1+T209)","v":71362.725147826117},{"$f":"[2]主表!Q207","v":676.24},{"$f":"[2]主表!R207","v":676.24},{"$f":"[2]主表!S207","v":946.74},{"$f":"[2]主表!$G207","v":135248},205,5,103,5,110.49999999999901,1,0.3]
[206,206,{"$f":"[1]HeroPowerUpConfig!J210","v":231},{"$f":"[1]HeroPowerUpConfig!K210","v":237},{"$f":"[1]HeroPowerUpConfig!L210","v":243},"大乘期","后",6,{"$f":"[2]主表!P208*(1+T210)","v":72789.301956521769},{"$f":"[2]主表!Q208","v":686.6},{"$f":"[2]主表!R208","v":686.6},{"$f":"[2]主表!S208","v":961.24},{"$f":"[2]主表!$G208","v":137320},206,5,103,5,110.599999999999,1,0.3]
[207,207,{"$f":"[1]HeroPowerUpConfig!J211","v":231},{"$f":"[1]HeroPowerUpConfig!K211","v":237},{"$f":"[1]HeroPowerUpConfig!L211","v":244},"大乘期","后",7,{"$f":"[2]主表!P209*(1+T211)","v":74243.509402173921},{"$f":"[2]主表!Q209","v":697.125},{"$f":"[2]主表!R209","v":697.125},{"$f":"[2]主表!S209","v":975.97},{"$f":"[2]主表!$G209","v":139425},207,5,104,5,110.69999999999899,1,0.3]
[208,208,{"$f":"[1]HeroPowerUpConfig!J212","v":231},{"$f":"[1]HeroPowerUpConfig!K212","v":237},{"$f":"[1]HeroPowerUpConfig!L212","v":245},"大乘期","后",8,{"$f":"[2]主表!P210*(1+T212)","v":75725.587775000022},{"$f":"[2]主表!Q210","v":707.81500000000005},{"$f":"[2]主表!R210","v":707.81500000000005},{"$f":"[2]主表!S210","v":990.94},{"$f":"[2]主表!$G210","v":141563},208,5,104,5,110.799999999999,1,0.3]
[209,209,{"$f":"[1]HeroPowerUpConfig!J213","v":231},{"$f":"[1]HeroPowerUpConfig!K213","v":237},{"$f":"[1]HeroPowerUpConfig!L213","v":246},"大乘期","后",9,{"$f":"[2]主表!P211*(1+T213)","v":77236.314717391317},{"$f":"[2]主表!Q211","v":718.67499999999995},{"$f":"[2]主表!R211","v":718.67499999999995},{"$f":"[2]主表!S211","v":1006.15},{"$f":"[2]主表!$G211","v":143735},209,5,105,5,110.899999999999,1,0.3]
[210,210,{"$f":"[1]HeroPowerUpConfig!J214","v":231},{"$f":"[1]HeroPowerUpConfig!K214","v":237},{"$f":"[1]HeroPowerUpConfig!L214","v":247},"大乘期","后",10,{"$f":"[2]主表!P212*(1+T214)","v":78775.937801086955},{"$f":"[2]主表!Q212","v":729.70500000000004},{"$f":"[2]主表!R212","v":729.70500000000004},{"$f":"[2]主表!S212","v":1094.56},{"$f":"[2]主表!$G212","v":145941},210,5,105,5,110.99999999999901,1,0.3]
[211,211,{"$f":"[1]HeroPowerUpConfig!J215","v":232},{"$f":"[1]HeroPowerUpConfig!K215","v":235},{"$f":"[1]HeroPowerUpConfig!L215","v":238},"飞升期","前",1,{"$f":"[2]主表!P213*(1+T215)","v":105259.63647826087},{"$f":"[2]主表!Q213","v":970.66},{"$f":"[2]主表!R213","v":970.66},{"$f":"[2]主表!S213","v":1455.99},{"$f":"[2]主表!$G213","v":194132},211,5,106,5,111.099999999999,1,0.3]
[212,212,{"$f":"[1]HeroPowerUpConfig!J216","v":232},{"$f":"[1]HeroPowerUpConfig!K216","v":235},{"$f":"[1]HeroPowerUpConfig!L216","v":239},"飞升期","前",2,{"$f":"[2]主表!P214*(1+T216)","v":107330.41776847829},{"$f":"[2]主表!Q214","v":985.34500000000003},{"$f":"[2]主表!R214","v":985.34500000000003},{"$f":"[2]主表!S214","v":1478.02},{"$f":"[2]主表!$G214","v":197069},212,5,106,5,111.19999999999899,1,0.3]
[213,213,{"$f":"[1]HeroPowerUpConfig!J217","v":232},{"$f":"[1]HeroPowerUpConfig!K217","v":235},{"$f":"[1]HeroPowerUpConfig!L217","v":240},"飞升期","前",3,{"$f":"[2]主表!P215*(1+T217)","v":109440.62107826088},{"$f":"[2]主表!Q215","v":1000.26},{"$f":"[2]主表!R215","v":1000.26},{"$f":"[2]主表!S215","v":1500.39},{"$f":"[2]主表!$G215","v":200052},213,5,107,5,111.299999999999,1,0.3]
[214,214,{"$f":"[1]HeroPowerUpConfig!J218","v":232},{"$f":"[1]HeroPowerUpConfig!K218","v":235},{"$f":"[1]HeroPowerUpConfig!L218","v":241},"飞升期","前",4,{"$f":"[2]主表!P216*(1+T218)","v":111591.13084565215},{"$f":"[2]主表!Q216","v":1015.41},{"$f":"[2]主表!R216","v":1015.41},{"$f":"[2]主表!S216","v":1523.12},{"$f":"[2]主表!$G216","v":203082},214,5,107,5,111.399999999999,1,0.3]
[215,215,{"$f":"[1]HeroPowerUpConfig!J219","v":232},{"$f":"[1]HeroPowerUpConfig!K219","v":235},{"$f":"[1]HeroPowerUpConfig!L219","v":242},"飞升期","前",5,{"$f":"[2]主表!P217*(1+T219)","v":113783.39313260872},{"$f":"[2]主表!Q217","v":1030.8050000000001},{"$f":"[2]主表!R217","v":1030.8050000000001},{"$f":"[2]主表!S217","v":1546.21},{"$f":"[2]主表!$G217","v":206161},215,5,108,5,111.49999999999901,1,0.3]
[216,216,{"$f":"[1]HeroPowerUpConfig!J220","v":232},{"$f":"[1]HeroPowerUpConfig!K220","v":235},{"$f":"[1]HeroPowerUpConfig!L220","v":243},"飞升期","前",6,{"$f":"[2]主表!P218*(1+T220)","v":116016.65604891305},{"$f":"[2]主表!Q218","v":1046.4349999999999},{"$f":"[2]主表!R218","v":1046.4349999999999},{"$f":"[2]主表!S218","v":1569.65},{"$f":"[2]主表!$G218","v":209287},216,5,108,5,111.599999999999,1,0.3]
[217,217,{"$f":"[1]HeroPowerUpConfig!J221","v":232},{"$f":"[1]HeroPowerUpConfig!K221","v":235},{"$f":"[1]HeroPowerUpConfig!L221","v":244},"飞升期","前",7,{"$f":"[2]主表!P219*(1+T221)","v":118293.48890434783},{"$f":"[2]主表!Q219","v":1062.32},{"$f":"[2]主表!R219","v":1062.32},{"$f":"[2]主表!S219","v":1593.48},{"$f":"[2]主表!$G219","v":212464},217,5,109,5,111.69999999999899,1,0.3]
[218,218,{"$f":"[1]HeroPowerUpConfig!J222","v":232},{"$f":"[1]HeroPowerUpConfig!K222","v":235},{"$f":"[1]HeroPowerUpConfig!L222","v":245},"飞升期","前",8,{"$f":"[2]主表!P220*(1+T222)","v":120613.70385978262},{"$f":"[2]主表!Q220","v":1078.4549999999999},{"$f":"[2]主表!R220","v":1078.4549999999999},{"$f":"[2]主表!S220","v":1617.68},{"$f":"[2]主表!$G220","v":215691},218,5,109,5,111.799999999999,1,0.3]
[219,219,{"$f":"[1]HeroPowerUpConfig!J223","v":232},{"$f":"[1]HeroPowerUpConfig!K223","v":235},{"$f":"[1]HeroPowerUpConfig!L223","v":246},"飞升期","前",9,{"$f":"[2]主表!P221*(1+T223)","v":122977.66499130437},{"$f":"[2]主表!Q221","v":1094.8399999999999},{"$f":"[2]主表!R221","v":1094.8399999999999},{"$f":"[2]主表!S221","v":1642.26},{"$f":"[2]主表!$G221","v":218968},219,5,110,5,111.899999999999,1,0.3]
[220,220,{"$f":"[1]HeroPowerUpConfig!J224","v":232},{"$f":"[1]HeroPowerUpConfig!K224","v":235},{"$f":"[1]HeroPowerUpConfig!L224","v":247},"飞升期","前",10,{"$f":"[2]主表!P222*(1+T224)","v":125387.42852826089},{"$f":"[2]主表!Q222","v":1111.49},{"$f":"[2]主表!R222","v":1111.49},{"$f":"[2]主表!S222","v":1778.38},{"$f":"[2]主表!$G222","v":222298},220,5,110,5,111.99999999999901,1,0.3]
[221,221,{"$f":"[1]HeroPowerUpConfig!J225","v":232},{"$f":"[1]HeroPowerUpConfig!K225","v":236},{"$f":"[1]HeroPowerUpConfig!L225","v":238},"飞升期","中",1,{"$f":"[2]主表!P223*(1+T225)","v":141718.69891304351},{"$f":"[2]主表!Q223","v":1250.875},{"$f":"[2]主表!R223","v":1250.875},{"$f":"[2]主表!S223","v":2001.4},{"$f":"[2]主表!$G223","v":250175},221,5,111,5,112.099999999999,1,0.3]
[222,222,{"$f":"[1]HeroPowerUpConfig!J226","v":232},{"$f":"[1]HeroPowerUpConfig!K226","v":236},{"$f":"[1]HeroPowerUpConfig!L226","v":239},"飞升期","中",2,{"$f":"[2]主表!P224*(1+T226)","v":144458.17471630438},{"$f":"[2]主表!Q224","v":1269.615},{"$f":"[2]主表!R224","v":1269.615},{"$f":"[2]主表!S224","v":2031.38},{"$f":"[2]主表!$G224","v":253923},222,5,111,5,112.19999999999899,1,0.3]
[223,223,{"$f":"[1]HeroPowerUpConfig!J227","v":232},{"$f":"[1]HeroPowerUpConfig!K227","v":236},{"$f":"[1]HeroPowerUpConfig!L227","v":240},"飞升期","中",3,{"$f":"[2]主表!P225*(1+T227)","v":147250.12457173914},{"$f":"[2]主表!Q225","v":1288.655},{"$f":"[2]主表!R225","v":1288.655},{"$f":"[2]主表!S225","v":2061.85},{"$f":"[2]主表!$G225","v":257731},223,5,112,5,112.299999999999,1,0.3]
[224,224,{"$f":"[1]HeroPowerUpConfig!J228","v":232},{"$f":"[1]HeroPowerUpConfig!K228","v":236},{"$f":"[1]HeroPowerUpConfig!L228","v":241},"飞升期","中",4,{"$f":"[2]主表!P226*(1+T228)","v":150094.98537065214},{"$f":"[2]主表!Q226","v":1307.9949999999999},{"$f":"[2]主表!R226","v":1307.9949999999999},{"$f":"[2]主表!S226","v":2092.79},{"$f":"[2]主表!$G226","v":261599},224,5,112,5,112.399999999999,1,0.3]
[225,225,{"$f":"[1]HeroPowerUpConfig!J229","v":232},{"$f":"[1]HeroPowerUpConfig!K229","v":236},{"$f":"[1]HeroPowerUpConfig!L229","v":242},"飞升期","中",5,{"$f":"[2]主表!P227*(1+T229)","v":152993.19400434787},{"$f":"[2]主表!Q227","v":1327.635},{"$f":"[2]主表!R227","v":1327.635},{"$f":"[2]主表!S227","v":2124.2199999999998},{"$f":"[2]主表!$G227","v":265527},225,5,113,5,112.49999999999901,1,0.3]
[226,226,{"$f":"[1]HeroPowerUpConfig!J230","v":232},{"$f":"[1]HeroPowerUpConfig!K230","v":236},{"$f":"[1]HeroPowerUpConfig!L230","v":243},"飞升期","中",6,{"$f":"[2]主表!P228*(1+T230)","v":155946.92320652172},{"$f":"[2]主表!Q228","v":1347.59},{"$f":"[2]主表!R228","v":1347.59},{"$f":"[2]主表!S228","v":2156.14},{"$f":"[2]主表!$G228","v":269518},226,5,113,5,112.599999999999,1,0.3]
[227,227,{"$f":"[1]HeroPowerUpConfig!J231","v":232},{"$f":"[1]HeroPowerUpConfig!K231","v":236},{"$f":"[1]HeroPowerUpConfig!L231","v":244},"飞升期","中",7,{"$f":"[2]主表!P229*(1+T231)","v":158956.05067173915},{"$f":"[2]主表!Q229","v":1367.855},{"$f":"[2]主表!R229","v":1367.855},{"$f":"[2]主表!S229","v":2188.5700000000002},{"$f":"[2]主表!$G229","v":273571},227,5,114,5,112.69999999999899,1,0.3]
[228,228,{"$f":"[1]HeroPowerUpConfig!J232","v":232},{"$f":"[1]HeroPowerUpConfig!K232","v":236},{"$f":"[1]HeroPowerUpConfig!L232","v":245},"飞升期","中",8,{"$f":"[2]主表!P230*(1+T232)","v":162022.77825978264},{"$f":"[2]主表!Q230","v":1388.4449999999999},{"$f":"[2]主表!R230","v":1388.4449999999999},{"$f":"[2]主表!S230","v":2221.5100000000002},{"$f":"[2]主表!$G230","v":277689},228,5,114,5,112.799999999999,1,0.3]
[229,229,{"$f":"[1]HeroPowerUpConfig!J233","v":232},{"$f":"[1]HeroPowerUpConfig!K233","v":236},{"$f":"[1]HeroPowerUpConfig!L233","v":246},"飞升期","中",9,{"$f":"[2]主表!P231*(1+T233)","v":165146.99337391308},{"$f":"[2]主表!Q231","v":1409.355},{"$f":"[2]主表!R231","v":1409.355},{"$f":"[2]主表!S231","v":2254.9699999999998},{"$f":"[2]主表!$G231","v":281871},229,5,115,5,112.899999999999,1,0.3]
[230,230,{"$f":"[1]HeroPowerUpConfig!J234","v":232},{"$f":"[1]HeroPowerUpConfig!K234","v":236},{"$f":"[1]HeroPowerUpConfig!L234","v":247},"飞升期","中",10,{"$f":"[2]主表!P232*(1+T234)","v":168330.33867717395},{"$f":"[2]主表!Q232","v":1430.595},{"$f":"[2]主表!R232","v":1430.595},{"$f":"[2]主表!S232","v":2432.0100000000002},{"$f":"[2]主表!$G232","v":286119},230,5,115,5,112.99999999999901,1,0.3]
[231,231,{"$f":"[1]HeroPowerUpConfig!J235","v":232},{"$f":"[1]HeroPowerUpConfig!K235","v":237},{"$f":"[1]HeroPowerUpConfig!L235","v":238},"飞升期","后",1,{"$f":"[2]主表!P233*(1+T235)","v":190195.50700000004},{"$f":"[2]主表!Q233","v":1609.78},{"$f":"[2]主表!R233","v":1609.78},{"$f":"[2]主表!S233","v":2736.63},{"$f":"[2]主表!$G233","v":321956},231,5,116,5,113.099999999999,1,0.3]
[232,232,{"$f":"[1]HeroPowerUpConfig!J236","v":232},{"$f":"[1]HeroPowerUpConfig!K236","v":237},{"$f":"[1]HeroPowerUpConfig!L236","v":239},"飞升期","后",2,{"$f":"[2]主表!P234*(1+T236)","v":193813.52345000004},{"$f":"[2]主表!Q234","v":1633.69},{"$f":"[2]主表!R234","v":1633.69},{"$f":"[2]主表!S234","v":2777.27},{"$f":"[2]主表!$G234","v":326738},232,5,116,5,113.19999999999899,1,0.3]
[233,233,{"$f":"[1]HeroPowerUpConfig!J237","v":232},{"$f":"[1]HeroPowerUpConfig!K237","v":237},{"$f":"[1]HeroPowerUpConfig!L237","v":240},"飞升期","后",3,{"$f":"[2]主表!P235*(1+T237)","v":197498.82811304351},{"$f":"[2]主表!Q235","v":1657.97},{"$f":"[2]主表!R235","v":1657.97},{"$f":"[2]主表!S235","v":2818.55},{"$f":"[2]主表!$G235","v":331594},233,5,117,5,113.299999999999,1,0.3]
[234,234,{"$f":"[1]HeroPowerUpConfig!J238","v":232},{"$f":"[1]HeroPowerUpConfig!K238","v":237},{"$f":"[1]HeroPowerUpConfig!L238","v":241},"飞升期","后",4,{"$f":"[2]主表!P236*(1+T238)","v":201253.75391630441},{"$f":"[2]主表!Q236","v":1682.635},{"$f":"[2]主表!R236","v":1682.635},{"$f":"[2]主表!S236","v":2860.48},{"$f":"[2]主表!$G236","v":336527},234,5,117,5,113.399999999999,1,0.3]
[235,235,{"$f":"[1]HeroPowerUpConfig!J239","v":232},{"$f":"[1]HeroPowerUpConfig!K239","v":237},{"$f":"[1]HeroPowerUpConfig!L239","v":242},"飞升期","后",5,{"$f":"[2]主表!P237*(1+T239)","v":205078.86153695654},{"$f":"[2]主表!Q237","v":1707.6849999999999},{"$f":"[2]主表!R237","v":1707.6849999999999},{"$f":"[2]主表!S237","v":2903.06},{"$f":"[2]主表!$G237","v":341537},235,5,118,5,113.49999999999901,1,0.3]
[236,236,{"$f":"[1]HeroPowerUpConfig!J240","v":232},{"$f":"[1]HeroPowerUpConfig!K240","v":237},{"$f":"[1]HeroPowerUpConfig!L240","v":243},"飞升期","后",6,{"$f":"[2]主表!P238*(1+T240)","v":208975.91742391308},{"$f":"[2]主表!Q238","v":1733.13},{"$f":"[2]主表!R238","v":1733.13},{"$f":"[2]主表!S238","v":2946.32},{"$f":"[2]主表!$G238","v":346626},236,5,118,5,113.599999999999,1,0.3]
[237,237,{"$f":"[1]HeroPowerUpConfig!J241","v":232},{"$f":"[1]HeroPowerUpConfig!K241","v":237},{"$f":"[1]HeroPowerUpConfig!L241","v":244},"飞升期","后",7,{"$f":"[2]主表!P239*(1+T241)","v":212945.49681739131},{"$f":"[2]主表!Q239","v":1758.97},{"$f":"[2]主表!R239","v":1758.97},{"$f":"[2]主表!S239","v":2990.25},{"$f":"[2]主表!$G239","v":351794},237,5,119,5,113.69999999999899,1,0.3]
[238,238,{"$f":"[1]HeroPowerUpConfig!J242","v":232},{"$f":"[1]HeroPowerUpConfig!K242","v":237},{"$f":"[1]HeroPowerUpConfig!L242","v":245},"飞升期","后",8,{"$f":"[2]主表!P240*(1+T242)","v":216989.9981782609},{"$f":"[2]主表!Q240","v":1785.22},{"$f":"[2]主表!R240","v":1785.22},{"$f":"[2]主表!S240","v":3034.87},{"$f":"[2]主表!$G240","v":357044},238,5,119,5,113.799999999999,1,0.3]
[239,239,{"$f":"[1]HeroPowerUpConfig!J243","v":232},{"$f":"[1]HeroPowerUpConfig!K243","v":237},{"$f":"[1]HeroPowerUpConfig!L243","v":246},"飞升期","后",9,{"$f":"[2]主表!P241*(1+T243)","v":221110.6287586957},{"$f":"[2]主表!Q241","v":1811.885},{"$f":"[2]主表!R241","v":1811.885},{"$f":"[2]主表!S241","v":3080.2},{"$f":"[2]主表!$G241","v":362377},239,5,120,5,113.899999999999,1,0.3]
[240,240,{"$f":"[1]HeroPowerUpConfig!J244","v":232},{"$f":"[1]HeroPowerUpConfig!K244","v":237},{"$f":"[1]HeroPowerUpConfig!L244","v":247},"飞升期","后",10,{"$f":"[2]主表!P242*(1+T244)","v":225307.99292500003},{"$f":"[2]主表!Q242","v":1838.9649999999999},{"$f":"[2]主表!R242","v":1838.9649999999999},{"$f":"[2]主表!S242","v":3310.14},{"$f":"[2]主表!$G242","v":367793},240,5,120,5,113.99999999999901,1,0.3]
[241,241,{"$f":"[1]HeroPowerUpConfig!J245","v":233},{"$f":"[1]HeroPowerUpConfig!K245","v":235},{"$f":"[1]HeroPowerUpConfig!L245","v":238},"逍遥期","前",1,{"$f":"[2]主表!P243*(1+T245)","v":300069.10652173922},{"$f":"[2]主表!Q243","v":2439.5},{"$f":"[2]主表!R243","v":2439.5},{"$f":"[2]主表!S243","v":4391.1000000000004},{"$f":"[2]主表!$G243","v":487900},241,5,121,5,114.099999999999,1,0.3]
[242,242,{"$f":"[1]HeroPowerUpConfig!J246","v":233},{"$f":"[1]HeroPowerUpConfig!K246","v":235},{"$f":"[1]HeroPowerUpConfig!L246","v":239},"逍遥期","前",2,{"$f":"[2]主表!P244*(1+T246)","v":304975.92417065217},{"$f":"[2]主表!Q244","v":2469.645},{"$f":"[2]主表!R244","v":2469.645},{"$f":"[2]主表!S244","v":4445.3599999999997},{"$f":"[2]主表!$G244","v":493929},242,5,121,5,114.19999999999899,1,0.3]
[243,243,{"$f":"[1]HeroPowerUpConfig!J247","v":233},{"$f":"[1]HeroPowerUpConfig!K247","v":235},{"$f":"[1]HeroPowerUpConfig!L247","v":240},"逍遥期","前",3,{"$f":"[2]主表!P245*(1+T247)","v":309965.93790217396},{"$f":"[2]主表!Q245","v":2500.2249999999999},{"$f":"[2]主表!R245","v":2500.2249999999999},{"$f":"[2]主表!S245","v":4500.41},{"$f":"[2]主表!$G245","v":500045},243,5,122,5,114.299999999999,1,0.3]
[244,244,{"$f":"[1]HeroPowerUpConfig!J248","v":233},{"$f":"[1]HeroPowerUpConfig!K248","v":235},{"$f":"[1]HeroPowerUpConfig!L248","v":241},"逍遥期","前",4,{"$f":"[2]主表!P246*(1+T248)","v":315039.15890543483},{"$f":"[2]主表!Q246","v":2531.2350000000001},{"$f":"[2]主表!R246","v":2531.2350000000001},{"$f":"[2]主表!S246","v":4556.22},{"$f":"[2]主表!$G246","v":506247},244,5,122,5,114.399999999999,1,0.3]
[245,245,{"$f":"[1]HeroPowerUpConfig!J249","v":233},{"$f":"[1]HeroPowerUpConfig!K249","v":235},{"$f":"[1]HeroPowerUpConfig!L249","v":242},"逍遥期","前",5,{"$f":"[2]主表!P247*(1+T249)","v":320198.71231304354},{"$f":"[2]主表!Q247","v":2562.6950000000002},{"$f":"[2]主表!R247","v":2562.6950000000002},{"$f":"[2]主表!S247","v":4612.8500000000004},{"$f":"[2]主表!$G247","v":512539},245,5,123,5,114.49999999999901,1,0.3]
[246,246,{"$f":"[1]HeroPowerUpConfig!J250","v":233},{"$f":"[1]HeroPowerUpConfig!K250","v":235},{"$f":"[1]HeroPowerUpConfig!L250","v":243},"逍遥期","前",6,{"$f":"[2]主表!P248*(1+T250)","v":325397.58948369569},{"$f":"[2]主表!Q248","v":2594.2249999999999},{"$f":"[2]主表!R248","v":2594.2249999999999},{"$f":"[2]主表!S248","v":4669.6099999999997},{"$f":"[2]主表!$G248","v":518845},246,5,123,5,114.599999999999,1,0.3]
[247,247,{"$f":"[1]HeroPowerUpConfig!J251","v":233},{"$f":"[1]HeroPowerUpConfig!K251","v":235},{"$f":"[1]HeroPowerUpConfig!L251","v":244},"逍遥期","前",7,{"$f":"[2]主表!P249*(1+T251)","v":330683.74080217391},{"$f":"[2]主表!Q249","v":2626.2049999999999},{"$f":"[2]主表!R249","v":2626.2049999999999},{"$f":"[2]主表!S249","v":4727.17},{"$f":"[2]主表!$G249","v":525241},247,5,124,5,114.69999999999899,1,0.3]
[248,248,{"$f":"[1]HeroPowerUpConfig!J252","v":233},{"$f":"[1]HeroPowerUpConfig!K252","v":235},{"$f":"[1]HeroPowerUpConfig!L252","v":245},"逍遥期","前",8,{"$f":"[2]主表!P250*(1+T252)","v":336057.82160543482},{"$f":"[2]主表!Q250","v":2658.6350000000002},{"$f":"[2]主表!R250","v":2658.6350000000002},{"$f":"[2]主表!S250","v":4785.54},{"$f":"[2]主表!$G250","v":531727},248,5,124,5,114.799999999999,1,0.3]
[249,249,{"$f":"[1]HeroPowerUpConfig!J253","v":233},{"$f":"[1]HeroPowerUpConfig!K253","v":235},{"$f":"[1]HeroPowerUpConfig!L253","v":246},"逍遥期","前",9,{"$f":"[2]主表!P251*(1+T253)","v":341522.39054782613},{"$f":"[2]主表!Q251","v":2691.53},{"$f":"[2]主表!R251","v":2691.53},{"$f":"[2]主表!S251","v":4844.75},{"$f":"[2]主表!$G251","v":538306},249,5,125,5,114.899999999999,1,0.3]
[250,250,{"$f":"[1]HeroPowerUpConfig!J254","v":233},{"$f":"[1]HeroPowerUpConfig!K254","v":235},{"$f":"[1]HeroPowerUpConfig!L254","v":247},"逍遥期","前",10,{"$f":"[2]主表!P252*(1+T254)","v":347078.76167717396},{"$f":"[2]主表!Q252","v":2724.895},{"$f":"[2]主表!R252","v":2724.895},{"$f":"[2]主表!S252","v":5177.3},{"$f":"[2]主表!$G252","v":544979},250,5,125,5,114.99999999999901,1,0.3]
[251,251,{"$f":"[1]HeroPowerUpConfig!J255","v":233},{"$f":"[1]HeroPowerUpConfig!K255","v":236},{"$f":"[1]HeroPowerUpConfig!L255","v":238},"逍遥期","中",1,{"$f":"[2]主表!P253*(1+T255)","v":391010.43081521743},{"$f":"[2]主表!Q253","v":3058.145},{"$f":"[2]主表!R253","v":3058.145},{"$f":"[2]主表!S253","v":5810.48},{"$f":"[2]主表!$G253","v":611629},251,6,126,6,115.099999999999,1,0.3]
[252,252,{"$f":"[1]HeroPowerUpConfig!J256","v":233},{"$f":"[1]HeroPowerUpConfig!K256","v":236},{"$f":"[1]HeroPowerUpConfig!L256","v":239},"逍遥期","中",2,{"$f":"[2]主表!P254*(1+T256)","v":397283.4802750001},{"$f":"[2]主表!Q254","v":3095.4549999999999},{"$f":"[2]主表!R254","v":3095.4549999999999},{"$f":"[2]主表!S254","v":5881.36},{"$f":"[2]主表!$G254","v":619091},252,6,126,6,115.19999999999899,1,0.3]
[253,253,{"$f":"[1]HeroPowerUpConfig!J257","v":233},{"$f":"[1]HeroPowerUpConfig!K257","v":236},{"$f":"[1]HeroPowerUpConfig!L257","v":240},"逍遥期","中",3,{"$f":"[2]主表!P255*(1+T257)","v":403660.38840000005},{"$f":"[2]主表!Q255","v":3133.29},{"$f":"[2]主表!R255","v":3133.29},{"$f":"[2]主表!S255","v":5953.25},{"$f":"[2]主表!$G255","v":626658},253,6,127,6,115.299999999999,1,0.3]
[254,254,{"$f":"[1]HeroPowerUpConfig!J258","v":233},{"$f":"[1]HeroPowerUpConfig!K258","v":236},{"$f":"[1]HeroPowerUpConfig!L258","v":241},"逍遥期","中",4,{"$f":"[2]主表!P256*(1+T258)","v":410143.85947500006},{"$f":"[2]主表!Q256","v":3171.665},{"$f":"[2]主表!R256","v":3171.665},{"$f":"[2]主表!S256","v":6026.16},{"$f":"[2]主表!$G256","v":634333},254,6,127,6,115.399999999999,1,0.3]
[255,255,{"$f":"[1]HeroPowerUpConfig!J259","v":233},{"$f":"[1]HeroPowerUpConfig!K259","v":236},{"$f":"[1]HeroPowerUpConfig!L259","v":242},"逍遥期","中",5,{"$f":"[2]主表!P257*(1+T259)","v":416735.32890652173},{"$f":"[2]主表!Q257","v":3210.585},{"$f":"[2]主表!R257","v":3210.585},{"$f":"[2]主表!S257","v":6100.11},{"$f":"[2]主表!$G257","v":642117},255,6,128,6,115.49999999999901,1,0.3]
[256,256,{"$f":"[1]HeroPowerUpConfig!J260","v":233},{"$f":"[1]HeroPowerUpConfig!K260","v":236},{"$f":"[1]HeroPowerUpConfig!L260","v":243},"逍遥期","中",6,{"$f":"[2]主表!P258*(1+T260)","v":423436.24180978269},{"$f":"[2]主表!Q258","v":3250.0549999999998},{"$f":"[2]主表!R258","v":3250.0549999999998},{"$f":"[2]主表!S258","v":6175.1},{"$f":"[2]主表!$G258","v":650011},256,6,128,6,115.599999999999,1,0.3]
[257,257,{"$f":"[1]HeroPowerUpConfig!J261","v":233},{"$f":"[1]HeroPowerUpConfig!K261","v":236},{"$f":"[1]HeroPowerUpConfig!L261","v":244},"逍遥期","中",7,{"$f":"[2]主表!P259*(1+T261)","v":430249.36072173918},{"$f":"[2]主表!Q259","v":3290.09},{"$f":"[2]主表!R259","v":3290.09},{"$f":"[2]主表!S259","v":6251.17},{"$f":"[2]主表!$G259","v":658018},257,6,129,6,115.69999999999899,1,0.3]
[258,258,{"$f":"[1]HeroPowerUpConfig!J262","v":233},{"$f":"[1]HeroPowerUpConfig!K262","v":236},{"$f":"[1]HeroPowerUpConfig!L262","v":245},"逍遥期","中",8,{"$f":"[2]主表!P260*(1+T262)","v":437175.50845434784},{"$f":"[2]主表!Q260","v":3330.69},{"$f":"[2]主表!R260","v":3330.69},{"$f":"[2]主表!S260","v":6328.31},{"$f":"[2]主表!$G260","v":666138},258,6,129,6,115.799999999999,1,0.3]
[259,259,{"$f":"[1]HeroPowerUpConfig!J263","v":233},{"$f":"[1]HeroPowerUpConfig!K263","v":236},{"$f":"[1]HeroPowerUpConfig!L263","v":246},"逍遥期","中",9,{"$f":"[2]主表!P261*(1+T263)","v":444217.48395217396},{"$f":"[2]主表!Q261","v":3371.87},{"$f":"[2]主表!R261","v":3371.87},{"$f":"[2]主表!S261","v":6406.55},{"$f":"[2]主表!$G261","v":674374},259,6,130,6,115.899999999999,1,0.3]
[260,260,{"$f":"[1]HeroPowerUpConfig!J264","v":233},{"$f":"[1]HeroPowerUpConfig!K264","v":236},{"$f":"[1]HeroPowerUpConfig!L264","v":247},"逍遥期","中",10,{"$f":"[2]主表!P262*(1+T264)","v":451376.79300978262},{"$f":"[2]主表!Q262","v":3413.6350000000002},{"$f":"[2]主表!R262","v":3413.6350000000002},{"$f":"[2]主表!S262","v":6827.27},{"$f":"[2]主表!$G262","v":682727},260,6,130,6,115.99999999999901,1,0.3]
[261,261,{"$f":"[1]HeroPowerUpConfig!J265","v":233},{"$f":"[1]HeroPowerUpConfig!K265","v":237},{"$f":"[1]HeroPowerUpConfig!L265","v":238},"逍遥期","后",1,{"$f":"[2]主表!P263*(1+T265)","v":508435.61373913049},{"$f":"[2]主表!Q263","v":3831.09},{"$f":"[2]主表!R263","v":3831.09},{"$f":"[2]主表!S263","v":7662.18},{"$f":"[2]主表!$G263","v":766218},261,6,131,6,116.099999999999,1,0.3]
[262,262,{"$f":"[1]HeroPowerUpConfig!J266","v":233},{"$f":"[1]HeroPowerUpConfig!K266","v":237},{"$f":"[1]HeroPowerUpConfig!L266","v":239},"逍遥期","后",2,{"$f":"[2]主表!P264*(1+T266)","v":516516.39300760871},{"$f":"[2]主表!Q264","v":3877.7950000000001},{"$f":"[2]主表!R264","v":3877.7950000000001},{"$f":"[2]主表!S264","v":7755.59},{"$f":"[2]主表!$G264","v":775559},262,6,131,6,116.19999999999899,1,0.3]
[263,263,{"$f":"[1]HeroPowerUpConfig!J267","v":233},{"$f":"[1]HeroPowerUpConfig!K267","v":237},{"$f":"[1]HeroPowerUpConfig!L267","v":240},"逍遥期","后",3,{"$f":"[2]主表!P265*(1+T267)","v":524730.74812173913},{"$f":"[2]主表!Q265","v":3925.16},{"$f":"[2]主表!R265","v":3925.16},{"$f":"[2]主表!S265","v":7850.32},{"$f":"[2]主表!$G265","v":785032},263,6,132,6,116.299999999999,1,0.3]
[264,264,{"$f":"[1]HeroPowerUpConfig!J268","v":233},{"$f":"[1]HeroPowerUpConfig!K268","v":237},{"$f":"[1]HeroPowerUpConfig!L268","v":241},"逍遥期","后",4,{"$f":"[2]主表!P266*(1+T268)","v":533080.98193586967},{"$f":"[2]主表!Q266","v":3973.1950000000002},{"$f":"[2]主表!R266","v":3973.1950000000002},{"$f":"[2]主表!S266","v":7946.39},{"$f":"[2]主表!$G266","v":794639},264,6,132,6,116.399999999999,1,0.3]
[265,265,{"$f":"[1]HeroPowerUpConfig!J269","v":233},{"$f":"[1]HeroPowerUpConfig!K269","v":237},{"$f":"[1]HeroPowerUpConfig!L269","v":242},"逍遥期","后",5,{"$f":"[2]主表!P267*(1+T269)","v":541570.0899956522},{"$f":"[2]主表!Q267","v":4021.915},{"$f":"[2]主表!R267","v":4021.915},{"$f":"[2]主表!S267","v":8043.83},{"$f":"[2]主表!$G267","v":804383},265,6,133,6,116.49999999999901,1,0.3]
[266,266,{"$f":"[1]HeroPowerUpConfig!J270","v":233},{"$f":"[1]HeroPowerUpConfig!K270","v":237},{"$f":"[1]HeroPowerUpConfig!L270","v":243},"逍遥期","后",6,{"$f":"[2]主表!P268*(1+T270)","v":550200.42127173929},{"$f":"[2]主表!Q268","v":4071.33},{"$f":"[2]主表!R268","v":4071.33},{"$f":"[2]主表!S268","v":8142.66},{"$f":"[2]主表!$G268","v":814266},266,6,133,6,116.599999999999,1,0.3]
[267,267,{"$f":"[1]HeroPowerUpConfig!J271","v":233},{"$f":"[1]HeroPowerUpConfig!K271","v":237},{"$f":"[1]HeroPowerUpConfig!L271","v":244},"逍遥期","后",7,{"$f":"[2]主表!P269*(1+T271)","v":558973.66602391296},{"$f":"[2]主表!Q269","v":4121.4449999999997},{"$f":"[2]主表!R269","v":4121.4449999999997},{"$f":"[2]主表!S269","v":8242.89},{"$f":"[2]主表!$G269","v":824289},267,6,134,6,116.69999999999899,1,0.3]
[268,268,{"$f":"[1]HeroPowerUpConfig!J272","v":233},{"$f":"[1]HeroPowerUpConfig!K272","v":237},{"$f":"[1]HeroPowerUpConfig!L272","v":245},"逍遥期","后",8,{"$f":"[2]主表!P270*(1+T272)","v":567892.20477608708},{"$f":"[2]主表!Q270","v":4172.2700000000004},{"$f":"[2]主表!R270","v":4172.2700000000004},{"$f":"[2]主表!S270","v":8344.5400000000009},{"$f":"[2]主表!$G270","v":834454},268,6,134,6,116.799999999999,1,0.3]
[269,269,{"$f":"[1]HeroPowerUpConfig!J273","v":233},{"$f":"[1]HeroPowerUpConfig!K273","v":237},{"$f":"[1]HeroPowerUpConfig!L273","v":246},"逍遥期","后",9,{"$f":"[2]主表!P271*(1+T273)","v":576959.12045217387},{"$f":"[2]主表!Q271","v":4223.82},{"$f":"[2]主表!R271","v":4223.82},{"$f":"[2]主表!S271","v":8447.64},{"$f":"[2]主表!$G271","v":844764},269,6,135,6,116.899999999999,1,0.3]
[270,270,{"$f":"[1]HeroPowerUpConfig!J274","v":233},{"$f":"[1]HeroPowerUpConfig!K274","v":237},{"$f":"[1]HeroPowerUpConfig!L274","v":247},"逍遥期","后",10,{"$f":"[2]主表!P272*(1+T274)","v":586176.15428260888},{"$f":"[2]主表!Q272","v":4276.1000000000004},{"$f":"[2]主表!R272","v":4276.1000000000004},{"$f":"[2]主表!S272","v":8979.81},{"$f":"[2]主表!$G272","v":855220},270,6,135,6,116.99999999999901,1,0.3]
[271,271,{"$f":"[1]HeroPowerUpConfig!J275","v":234},{"$f":"[1]HeroPowerUpConfig!K275","v":235},{"$f":"[1]HeroPowerUpConfig!L275","v":238},"真神期","前",1,{"$f":"[2]主表!P273*(1+T275)","v":780216.89896739123},{"$f":"[2]主表!Q273","v":5671.5249999999996},{"$f":"[2]主表!R273","v":5671.5249999999996},{"$f":"[2]主表!S273","v":11910.2},{"$f":"[2]主表!$G273","v":1134305},271,6,136,6,117.099999999999,1,0.3]
[272,272,{"$f":"[1]HeroPowerUpConfig!J276","v":234},{"$f":"[1]HeroPowerUpConfig!K276","v":235},{"$f":"[1]HeroPowerUpConfig!L276","v":239},"真神期","前",2,{"$f":"[2]主表!P274*(1+T276)","v":792508.12422717398},{"$f":"[2]主表!Q274","v":5740.6149999999998},{"$f":"[2]主表!R274","v":5740.6149999999998},{"$f":"[2]主表!S274","v":12055.29},{"$f":"[2]主表!$G274","v":1148123},272,6,136,6,117.19999999999899,1,0.3]
[273,273,{"$f":"[1]HeroPowerUpConfig!J277","v":234},{"$f":"[1]HeroPowerUpConfig!K277","v":235},{"$f":"[1]HeroPowerUpConfig!L277","v":240},"真神期","前",3,{"$f":"[2]主表!P275*(1+T277)","v":805002.1943608697},{"$f":"[2]主表!Q275","v":5810.6850000000004},{"$f":"[2]主表!R275","v":5810.6850000000004},{"$f":"[2]主表!S275","v":12202.44},{"$f":"[2]主表!$G275","v":1162137},273,6,137,6,117.299999999999,1,0.3]
[274,274,{"$f":"[1]HeroPowerUpConfig!J278","v":234},{"$f":"[1]HeroPowerUpConfig!K278","v":235},{"$f":"[1]HeroPowerUpConfig!L278","v":241},"真神期","前",4,{"$f":"[2]主表!P276*(1+T278)","v":817701.92678369582},{"$f":"[2]主表!Q276","v":5881.7449999999999},{"$f":"[2]主表!R276","v":5881.7449999999999},{"$f":"[2]主表!S276","v":12351.66},{"$f":"[2]主表!$G276","v":1176349},274,6,137,6,117.399999999999,1,0.3]
[275,275,{"$f":"[1]HeroPowerUpConfig!J279","v":234},{"$f":"[1]HeroPowerUpConfig!K279","v":235},{"$f":"[1]HeroPowerUpConfig!L279","v":242},"真神期","前",5,{"$f":"[2]主表!P277*(1+T279)","v":830612.25096521748},{"$f":"[2]主表!Q277","v":5953.82},{"$f":"[2]主表!R277","v":5953.82},{"$f":"[2]主表!S277","v":12503.02},{"$f":"[2]主表!$G277","v":1190764},275,6,138,6,117.49999999999901,1,0.3]
[276,276,{"$f":"[1]HeroPowerUpConfig!J280","v":234},{"$f":"[1]HeroPowerUpConfig!K280","v":235},{"$f":"[1]HeroPowerUpConfig!L280","v":243},"真神期","前",6,{"$f":"[2]主表!P278*(1+T280)","v":843735.3450271741},{"$f":"[2]主表!Q278","v":6026.915},{"$f":"[2]主表!R278","v":6026.915},{"$f":"[2]主表!S278","v":12656.52},{"$f":"[2]主表!$G278","v":1205383},276,6,138,6,117.599999999999,1,0.3]
[277,277,{"$f":"[1]HeroPowerUpConfig!J281","v":234},{"$f":"[1]HeroPowerUpConfig!K281","v":235},{"$f":"[1]HeroPowerUpConfig!L281","v":244},"真神期","前",7,{"$f":"[2]主表!P279*(1+T281)","v":857075.50400000019},{"$f":"[2]主表!Q279","v":6101.05},{"$f":"[2]主表!R279","v":6101.05},{"$f":"[2]主表!S279","v":12812.21},{"$f":"[2]主表!$G279","v":1220210},277,6,139,6,117.69999999999899,1,0.3]
[278,278,{"$f":"[1]HeroPowerUpConfig!J282","v":234},{"$f":"[1]HeroPowerUpConfig!K282","v":235},{"$f":"[1]HeroPowerUpConfig!L282","v":245},"真神期","前",8,{"$f":"[2]主表!P280*(1+T282)","v":870635.65209456522},{"$f":"[2]主表!Q280","v":6176.2349999999997},{"$f":"[2]主表!R280","v":6176.2349999999997},{"$f":"[2]主表!S280","v":12970.09},{"$f":"[2]主表!$G280","v":1235247},278,6,139,6,117.799999999999,1,0.3]
[279,279,{"$f":"[1]HeroPowerUpConfig!J283","v":234},{"$f":"[1]HeroPowerUpConfig!K283","v":235},{"$f":"[1]HeroPowerUpConfig!L283","v":246},"真神期","前",9,{"$f":"[2]主表!P281*(1+T283)","v":884420.14744782622},{"$f":"[2]主表!Q281","v":6252.49},{"$f":"[2]主表!R281","v":6252.49},{"$f":"[2]主表!S281","v":13130.23},{"$f":"[2]主表!$G281","v":1250498},279,6,140,6,117.899999999999,1,0.3]
[280,280,{"$f":"[1]HeroPowerUpConfig!J284","v":234},{"$f":"[1]HeroPowerUpConfig!K284","v":235},{"$f":"[1]HeroPowerUpConfig!L284","v":247},"真神期","前",10,{"$f":"[2]主表!P282*(1+T284)","v":898432.67735000001},{"$f":"[2]主表!Q282","v":6329.83},{"$f":"[2]主表!R282","v":6329.83},{"$f":"[2]主表!S282","v":13925.63},{"$f":"[2]主表!$G282","v":1265966},280,6,140,6,117.99999999999901,1,0.3]
[281,281,{"$f":"[1]HeroPowerUpConfig!J285","v":234},{"$f":"[1]HeroPowerUpConfig!K285","v":236},{"$f":"[1]HeroPowerUpConfig!L285","v":238},"真神期","中",1,{"$f":"[2]主表!P283*(1+T285)","v":1011733.4141086958},{"$f":"[2]主表!Q283","v":7103.7849999999999},{"$f":"[2]主表!R283","v":7103.7849999999999},{"$f":"[2]主表!S283","v":15628.33},{"$f":"[2]主表!$G283","v":1420757},281,6,141,6,118.099999999999,1,0.3]
[282,282,{"$f":"[1]HeroPowerUpConfig!J286","v":234},{"$f":"[1]HeroPowerUpConfig!K286","v":236},{"$f":"[1]HeroPowerUpConfig!L286","v":239},"真神期","中",2,{"$f":"[2]主表!P284*(1+T286)","v":1027539.7363000002},{"$f":"[2]主表!Q284","v":7190.26},{"$f":"[2]主表!R284","v":7190.26},{"$f":"[2]主表!S284","v":15818.57},{"$f":"[2]主表!$G284","v":1438052},282,6,141,6,118.19999999999899,1,0.3]
[283,283,{"$f":"[1]HeroPowerUpConfig!J287","v":234},{"$f":"[1]HeroPowerUpConfig!K287","v":236},{"$f":"[1]HeroPowerUpConfig!L287","v":240},"真神期","中",3,{"$f":"[2]主表!P285*(1+T287)","v":1043606.3873456524},{"$f":"[2]主表!Q285","v":7277.9650000000001},{"$f":"[2]主表!R285","v":7277.9650000000001},{"$f":"[2]主表!S285","v":16011.52},{"$f":"[2]主表!$G285","v":1455593},283,6,142,6,118.299999999999,1,0.3]
[284,284,{"$f":"[1]HeroPowerUpConfig!J288","v":234},{"$f":"[1]HeroPowerUpConfig!K288","v":236},{"$f":"[1]HeroPowerUpConfig!L288","v":241},"真神期","中",4,{"$f":"[2]主表!P286*(1+T288)","v":1059936.5972804348},{"$f":"[2]主表!Q286","v":7366.91},{"$f":"[2]主表!R286","v":7366.91},{"$f":"[2]主表!S286","v":16207.2},{"$f":"[2]主表!$G286","v":1473382},284,6,142,6,118.399999999999,1,0.3]
[285,285,{"$f":"[1]HeroPowerUpConfig!J289","v":234},{"$f":"[1]HeroPowerUpConfig!K289","v":236},{"$f":"[1]HeroPowerUpConfig!L289","v":242},"真神期","中",5,{"$f":"[2]主表!P287*(1+T289)","v":1076535.7810086957},{"$f":"[2]主表!Q287","v":7457.12},{"$f":"[2]主表!R287","v":7457.12},{"$f":"[2]主表!S287","v":16405.66},{"$f":"[2]主表!$G287","v":1491424},285,6,143,6,118.49999999999901,1,0.3]
[286,286,{"$f":"[1]HeroPowerUpConfig!J290","v":234},{"$f":"[1]HeroPowerUpConfig!K290","v":236},{"$f":"[1]HeroPowerUpConfig!L290","v":243},"真神期","中",6,{"$f":"[2]主表!P288*(1+T290)","v":1093407.9534891304},{"$f":"[2]主表!Q288","v":7548.61},{"$f":"[2]主表!R288","v":7548.61},{"$f":"[2]主表!S288","v":16606.939999999999},{"$f":"[2]主表!$G288","v":1509722},286,6,143,6,118.599999999999,1,0.3]
[287,287,{"$f":"[1]HeroPowerUpConfig!J291","v":234},{"$f":"[1]HeroPowerUpConfig!K291","v":236},{"$f":"[1]HeroPowerUpConfig!L291","v":244},"真神期","中",7,{"$f":"[2]主表!P289*(1+T291)","v":1110557.8854782609},{"$f":"[2]主表!Q289","v":7641.4},{"$f":"[2]主表!R289","v":7641.4},{"$f":"[2]主表!S289","v":16811.080000000002},{"$f":"[2]主表!$G289","v":1528280},287,6,144,6,118.69999999999899,1,0.3]
[288,288,{"$f":"[1]HeroPowerUpConfig!J292","v":234},{"$f":"[1]HeroPowerUpConfig!K292","v":236},{"$f":"[1]HeroPowerUpConfig!L292","v":245},"真神期","中",8,{"$f":"[2]主表!P290*(1+T292)","v":1127989.6574684787},{"$f":"[2]主表!Q290","v":7735.5050000000001},{"$f":"[2]主表!R290","v":7735.5050000000001},{"$f":"[2]主表!S290","v":17018.11},{"$f":"[2]主表!$G290","v":1547101},288,6,144,6,118.799999999999,1,0.3]
[289,289,{"$f":"[1]HeroPowerUpConfig!J293","v":234},{"$f":"[1]HeroPowerUpConfig!K293","v":236},{"$f":"[1]HeroPowerUpConfig!L293","v":246},"真神期","中",9,{"$f":"[2]主表!P291*(1+T293)","v":1145708.1106043477},{"$f":"[2]主表!Q291","v":7830.9449999999997},{"$f":"[2]主表!R291","v":7830.9449999999997},{"$f":"[2]主表!S291","v":17228.080000000002},{"$f":"[2]主表!$G291","v":1566189},289,6,145,6,118.899999999999,1,0.3]
[290,290,{"$f":"[1]HeroPowerUpConfig!J294","v":234},{"$f":"[1]HeroPowerUpConfig!K294","v":236},{"$f":"[1]HeroPowerUpConfig!L294","v":247},"真神期","中",10,{"$f":"[2]主表!P292*(1+T294)","v":1163718.1248652176},{"$f":"[2]主表!Q292","v":7927.74},{"$f":"[2]主表!R292","v":7927.74},{"$f":"[2]主表!S292","v":18233.8},{"$f":"[2]主表!$G292","v":1585548},290,6,145,6,118.99999999999901,1,0.3]
[291,291,{"$f":"[1]HeroPowerUpConfig!J295","v":234},{"$f":"[1]HeroPowerUpConfig!K295","v":237},{"$f":"[1]HeroPowerUpConfig!L295","v":238},"真神期","后",1,{"$f":"[2]主表!P293*(1+T295)","v":1310315.3456521737},{"$f":"[2]主表!Q293","v":8897},{"$f":"[2]主表!R293","v":8897},{"$f":"[2]主表!S293","v":20463.099999999999},{"$f":"[2]主表!$G293","v":1779400},291,6,146,6,119.099999999999,1,0.3]
[292,292,{"$f":"[1]HeroPowerUpConfig!J296","v":234},{"$f":"[1]HeroPowerUpConfig!K296","v":237},{"$f":"[1]HeroPowerUpConfig!L296","v":239},"真神期","后",2,{"$f":"[2]主表!P294*(1+T296)","v":1330627.2272184785},{"$f":"[2]主表!Q294","v":9005.2350000000006},{"$f":"[2]主表!R294","v":9005.2350000000006},{"$f":"[2]主表!S294","v":20712.04},{"$f":"[2]主表!$G294","v":1801047},292,6,146,6,119.19999999999899,1,0.3]
[293,293,{"$f":"[1]HeroPowerUpConfig!J297","v":234},{"$f":"[1]HeroPowerUpConfig!K297","v":237},{"$f":"[1]HeroPowerUpConfig!L297","v":240},"真神期","后",3,{"$f":"[2]主表!P295*(1+T297)","v":1351271.008695652},{"$f":"[2]主表!Q295","v":9115},{"$f":"[2]主表!R295","v":9115},{"$f":"[2]主表!S295","v":20964.5},{"$f":"[2]主表!$G295","v":1823000},293,6,147,6,119.299999999999,1,0.3]
[294,294,{"$f":"[1]HeroPowerUpConfig!J298","v":234},{"$f":"[1]HeroPowerUpConfig!K298","v":237},{"$f":"[1]HeroPowerUpConfig!L298","v":241},"真神期","后",4,{"$f":"[2]主表!P296*(1+T298)","v":1372252.6365391307},{"$f":"[2]主表!Q296","v":9226.32},{"$f":"[2]主表!R296","v":9226.32},{"$f":"[2]主表!S296","v":21220.54},{"$f":"[2]主表!$G296","v":1845264},294,6,147,6,119.399999999999,1,0.3]
[295,295,{"$f":"[1]HeroPowerUpConfig!J299","v":234},{"$f":"[1]HeroPowerUpConfig!K299","v":237},{"$f":"[1]HeroPowerUpConfig!L299","v":242},"真神期","后",5,{"$f":"[2]主表!P297*(1+T299)","v":1393578.8518369568},{"$f":"[2]主表!Q297","v":9339.2250000000004},{"$f":"[2]主表!R297","v":9339.2250000000004},{"$f":"[2]主表!S297","v":21480.22},{"$f":"[2]主表!$G297","v":1867845},295,6,148,6,119.49999999999901,1,0.3]
[296,296,{"$f":"[1]HeroPowerUpConfig!J300","v":234},{"$f":"[1]HeroPowerUpConfig!K300","v":237},{"$f":"[1]HeroPowerUpConfig!L300","v":243},"真神期","后",6,{"$f":"[2]主表!P298*(1+T300)","v":1415028.9049728264},{"$f":"[2]主表!Q298","v":9452.2250000000004},{"$f":"[2]主表!R298","v":9452.2250000000004},{"$f":"[2]主表!S298","v":21740.12},{"$f":"[2]主表!$G298","v":1890445},296,6,148,6,119.599999999999,1,0.3]
[297,297,{"$f":"[1]HeroPowerUpConfig!J301","v":234},{"$f":"[1]HeroPowerUpConfig!K301","v":237},{"$f":"[1]HeroPowerUpConfig!L301","v":244},"真神期","后",7,{"$f":"[2]主表!P299*(1+T301)","v":1436828.2173391304},{"$f":"[2]主表!Q299","v":9566.82},{"$f":"[2]主表!R299","v":9566.82},{"$f":"[2]主表!S299","v":22003.69},{"$f":"[2]主表!$G299","v":1913364},297,6,149,6,119.69999999999899,1,0.3]
[298,298,{"$f":"[1]HeroPowerUpConfig!J302","v":234},{"$f":"[1]HeroPowerUpConfig!K302","v":237},{"$f":"[1]HeroPowerUpConfig!L302","v":245},"真神期","后",8,{"$f":"[2]主表!P300*(1+T302)","v":1458981.371853261},{"$f":"[2]主表!Q300","v":9683.0249999999996},{"$f":"[2]主表!R300","v":9683.0249999999996},{"$f":"[2]主表!S300","v":22270.959999999999},{"$f":"[2]主表!$G300","v":1936605},298,6,149,6,119.799999999999,1,0.3]
[299,299,{"$f":"[1]HeroPowerUpConfig!J303","v":234},{"$f":"[1]HeroPowerUpConfig!K303","v":237},{"$f":"[1]HeroPowerUpConfig!L303","v":246},"真神期","后",9,{"$f":"[2]主表!P301*(1+T303)","v":1481495.2479521739},{"$f":"[2]主表!Q301","v":9800.8700000000008},{"$f":"[2]主表!R301","v":9800.8700000000008},{"$f":"[2]主表!S301","v":22542},{"$f":"[2]主表!$G301","v":1960174},299,6,150,6,119.899999999999,1,0.3]
[300,300,{"$f":"[1]HeroPowerUpConfig!J304","v":234},{"$f":"[1]HeroPowerUpConfig!K304","v":237},{"$f":"[1]HeroPowerUpConfig!L304","v":247},"真神期","后",10,{"$f":"[2]主表!P302*(1+T304)","v":1533434.2400000002},{"$f":"[2]主表!Q302","v":10112},{"$f":"[2]主表!R302","v":10112},{"$f":"[2]主表!S302","v":24268.799999999999},{"$f":"[2]主表!$G302","v":2022400},300,6,150,6,119.99999999999901,1,0.3]