{"text_format":"2","workbook":"xlsx","n_sheets":3,"sheets":["LevelbattleConfig","GroupConfig","强度验算"],"not_rendered":{"charts":0,"images":0,"macros":0,"external_links":2,"defined_names":2,"comments":0,"pivot_tables":0},"unopened":[],"bounds":{"document_bytes":16777216,"sheet_cells":100000,"run_cost":"one","rows_first":2000,"rows_last":500,"rows_between":2000,"halvings":0,"cell_chars":16384,"cell_head_chars":4096},"cells_cut":0,"cells_raw":0,"read":"whole","date_system":"1900"}

{"sheet":"LevelbattleConfig","index":0,"n_rows":202,"n_cols":18,"rows_kept":202,"cut":false,"hidden":false,"merged":[]}
["ID",null,"Group","awardDrop","awardNum","combatTime","combatType","MonsterGroupTruePower","MonsterGroupPower"]
["int",null,"int[]","int[]","int[]","float","int","int","int"]
[]
["战斗组ID","使用位置","包含的组ID\n（就是第二页的ID)","奖励随机掉落组","奖励道具数量","用时(秒）","玩法类型\n1.正常\n2.追逐\n3.站桩\n4.保卫水晶\n5.至少完成x波 （406260）\n6.至少坚持x秒 （406261）","怪物战斗组修为（实际）","怪物战斗组修为（表现）","评分修正\n例如3人参战填75%",null,"怪物等级上浮",{"$nulls":4},"事件ID","怪物等级"]
[100001,"主线1-1",{"$f":"A5","v":100001},-1,-1,120,1,100,100,null,"1-1"]
[100002,"主线1-1",{"$f":"A6","v":100002},-1,-1,120,1,100,100,null,"1-1"]
[100003,"主线1-1",{"$f":"A7","v":100003},-1,-1,120,1,100,100,null,"1-1",1]
[100004,"boss",{"$f":"A8","v":100004},-1,-1,120,1,100,100,null,"1-1",1]
[]
[]
[1002,{"$f":"_xlfn.TEXTJOIN(\"-\",1,M11:N11)","v":"主线-击败结界兽"},1002,-1,-1,120,1,100,100,null,null,null,"主线","击败结界兽",10004,5,{"$f":"VLOOKUP(A11,[1]EventLinkConfig!$Y:$AM,15,FALSE)","v":10004},{"$f":"VLOOKUP(Q11,[1]EventConfig!$A:$P,16,FALSE)","v":6}]
[{"$f":"A11+1","v":1003},"主线-击败痴道人",1003,-1,-1,120,1,100,100,null,null,null,"主线","击败痴道人",10007,15,{"$f":"VLOOKUP(A12,[1]EventLinkConfig!$Y:$AM,15,FALSE)","v":10007},{"$f":"VLOOKUP(Q12,[1]EventConfig!$A:$P,16,FALSE)","v":16}]
[1004,"主线-妖兽横行",1004,-1,-1,120,1,100,100,null,null,null,"主线","妖兽横行",10010,25,10010,{"$f":"VLOOKUP(Q13,[1]EventConfig!$A:$P,16,FALSE)","v":25}]
[1005,"主线-击败后山小妖",1005,-1,-1,120,1,100,100,null,null,null,"主线","击败后山小妖",10015,45,10015,{"$f":"VLOOKUP(Q14,[1]EventConfig!$A:$P,16,FALSE)","v":46}]
[1006,"主线-击败夜袭的妖兽",1006,-1,-1,120,1,100,100,null,null,null,"主线","击败夜袭的妖兽",10016,50,10016,{"$f":"VLOOKUP(Q15,[1]EventConfig!$A:$P,16,FALSE)","v":51}]
[1007,"主线-击败峰顶的妖王",1007,-1,-1,120,1,100,100,null,null,null,"主线","击败峰顶的妖王",10017,55,10017,{"$f":"VLOOKUP(Q16,[1]EventConfig!$A:$P,16,FALSE)","v":56}]
[1008,"主线-击败仙山的阵眼妖兽",1008,-1,-1,120,1,100,100,null,null,null,"主线","击败仙山的阵眼妖兽",10023,85,10023,{"$f":"VLOOKUP(Q17,[1]EventConfig!$A:$P,16,FALSE)","v":86}]
[1009,"主线-击杀灵兽获得天肥",1009,-1,-1,120,1,100,100,null,null,null,"主线","击杀灵兽获得天肥",10025,95,10025,{"$f":"VLOOKUP(Q18,[1]EventConfig!$A:$P,16,FALSE)","v":101}]
[1010,{"$f":"_xlfn.TEXTJOIN(\"-\",1,M19:N19)","v":"主线-击败小麻雀的幻影"},{"$f":"A19","v":1010},-1,-1,120,1,100,100,null,null,null,"主线","击败小麻雀的幻影",10027,100,{"$f":"VLOOKUP(A19,[1]EventLinkConfig!$Y:$AM,15,FALSE)","v":10027},{"$f":"VLOOKUP(Q19,[1]EventConfig!$A:$P,16,FALSE)","v":121}]
[1011,{"$f":"_xlfn.TEXTJOIN(\"-\",1,M20:N20)","v":"主线-击败痴道人的幻影"},{"$f":"A20","v":1011},-1,-1,120,1,100,100,null,null,null,"主线","击败痴道人的幻影",10027,110,{"$f":"VLOOKUP(A20,[1]EventLinkConfig!$Y:$AM,15,FALSE)","v":10027},{"$f":"VLOOKUP(Q20,[1]EventConfig!$A:$P,16,FALSE)","v":121}]
[1012,{"$f":"_xlfn.TEXTJOIN(\"-\",1,M21:N21)","v":"主线-樗木之灵的幻影"},{"$f":"A21","v":1012},-1,-1,120,1,100,100,null,null,null,"主线","樗木之灵的幻影",10027,120,{"$f":"VLOOKUP(A21,[1]EventLinkConfig!$Y:$AM,15,FALSE)","v":10027},{"$f":"VLOOKUP(Q21,[1]EventConfig!$A:$P,16,FALSE)","v":121}]
[1013,{"$f":"_xlfn.TEXTJOIN(\"-\",1,M22:N22)","v":"主线-击败心魔"},{"$f":"A22","v":1013},-1,-1,120,1,100,100,null,null,null,"主线","击败心魔",10030,140,{"$f":"VLOOKUP(A22,[1]EventLinkConfig!$Y:$AM,15,FALSE)","v":10030},{"$f":"VLOOKUP(Q22,[1]EventConfig!$A:$P,16,FALSE)","v":141}]
[1014,"主线-击败北海妖兽2",1014,-1,-1,120,1,100,100,null,null,null,"主线","击败北海妖兽2",10031,150,{"$f":"VLOOKUP(A23,[1]EventLinkConfig!$Y:$AM,15,FALSE)","v":10031},{"$f":"VLOOKUP(Q23,[1]EventConfig!$A:$P,16,FALSE)","v":151}]
[1015,{"$f":"_xlfn.TEXTJOIN(\"-\",1,M24:N24)","v":"主线-击败北海妖兽1"},{"$f":"A24","v":1015},-1,-1,120,1,100,100,null,null,null,"主线","击败北海妖兽1",10010,25,10010,{"$f":"VLOOKUP(Q24,[1]EventConfig!$A:$P,16,FALSE)","v":25}]
[1016,{"$f":"_xlfn.TEXTJOIN(\"-\",1,M25:N25)","v":"主线-与樗木之灵切磋"},{"$f":"A25","v":1016},-1,-1,120,1,100,100,null,null,null,"主线","与樗木之灵切磋",10020,65,{"$f":"VLOOKUP(A25,[1]EventLinkConfig!$Y:$AM,15,FALSE)","v":10020},{"$f":"VLOOKUP(Q25,[1]EventConfig!$A:$P,16,FALSE)","v":69}]
{"$rows_empty":22}
[3001,{"$f":"_xlfn.TEXTJOIN(\"-\",1,M48:N48)","v":"道侣雀灵儿-击败风妖"},{"$f":"A48","v":3001},-1,-1,120,1,100,100,null,null,null,"道侣雀灵儿","击败风妖",6003,{"$f":"VLOOKUP(O48,[1]EventConfig!$A:$P,16,FALSE)","v":15},{"$f":"VLOOKUP(A48,[1]EventLinkConfig!$Y:$AM,15,FALSE)","v":6003},{"$f":"VLOOKUP(Q48,[1]EventConfig!$A:$P,16,FALSE)","v":15}]
[3002,{"$f":"_xlfn.TEXTJOIN(\"-\",1,M49:N49)","v":"道侣雀灵儿-击败大风妖兽"},{"$f":"A49","v":3002},-1,-1,120,1,100,100,null,null,null,"道侣雀灵儿","击败大风妖兽",6003,{"$f":"VLOOKUP(O49,[1]EventConfig!$A:$P,16,FALSE)","v":15},{"$f":"VLOOKUP(A49,[1]EventLinkConfig!$Y:$AM,15,FALSE)","v":6005},{"$f":"VLOOKUP(Q49,[1]EventConfig!$A:$P,16,FALSE)","v":25}]
[{"$f":"A49+1","v":3003},{"$f":"_xlfn.TEXTJOIN(\"-\",1,M50:N50)","v":"道侣云枝-击败风妖"},{"$f":"A50","v":3003},-1,-1,120,1,100,100,null,null,null,"道侣云枝","击败风妖",6011,{"$f":"VLOOKUP(O50,[1]EventConfig!$A:$P,16,FALSE)","v":20},6011,{"$f":"VLOOKUP(Q50,[1]EventConfig!$A:$P,16,FALSE)","v":20}]
[3004,{"$f":"_xlfn.TEXTJOIN(\"-\",1,M51:N51)","v":"道侣云枝-击败风妖2"},{"$f":"A51","v":3004},-1,-1,120,1,100,100,null,null,null,"道侣云枝","击败风妖2",6012,{"$f":"VLOOKUP(O51,[1]EventConfig!$A:$P,16,FALSE)","v":30},{"$f":"VLOOKUP(A51,[1]EventLinkConfig!$Y:$AM,15,FALSE)","v":6012},{"$f":"VLOOKUP(Q51,[1]EventConfig!$A:$P,16,FALSE)","v":30}]
[3005,{"$f":"_xlfn.TEXTJOIN(\"-\",1,M52:N52)","v":"道侣云枝-击败风妖3"},{"$f":"A52","v":3005},-1,-1,120,1,100,100,null,null,null,"道侣云枝","击败风妖3",6013,{"$f":"VLOOKUP(O52,[1]EventConfig!$A:$P,16,FALSE)","v":40},{"$f":"VLOOKUP(A52,[1]EventLinkConfig!$Y:$AM,15,FALSE)","v":6012},{"$f":"VLOOKUP(Q52,[1]EventConfig!$A:$P,16,FALSE)","v":30}]
[3006,{"$f":"_xlfn.TEXTJOIN(\"-\",1,M53:N53)","v":"道侣云枝-击败风妖4"},{"$f":"A53","v":3006},-1,-1,120,1,100,100,null,null,null,"道侣云枝","击败风妖4",6013,{"$f":"VLOOKUP(O53,[1]EventConfig!$A:$P,16,FALSE)","v":40},{"$f":"VLOOKUP(A53,[1]EventLinkConfig!$Y:$AM,15,FALSE)","v":6013},{"$f":"VLOOKUP(Q53,[1]EventConfig!$A:$P,16,FALSE)","v":40}]
[3007,{"$f":"_xlfn.TEXTJOIN(\"-\",1,M54:N54)","v":"道侣云枝-击败风妖4"},{"$f":"A54","v":3007},-1,-1,120,1,100,100,null,null,null,"道侣云枝","击败风妖4",6015,{"$f":"VLOOKUP(O54,[1]EventConfig!$A:$P,16,FALSE)","v":60},{"$f":"VLOOKUP(A54,[1]EventLinkConfig!$Y:$AM,15,FALSE)","v":6015},{"$f":"VLOOKUP(Q54,[1]EventConfig!$A:$P,16,FALSE)","v":60}]
[3008,{"$f":"_xlfn.TEXTJOIN(\"-\",1,M55:N55)","v":"道侣云枝-击败风妖5"},{"$f":"A55","v":3008},-1,-1,120,1,100,100,null,null,null,"道侣云枝","击败风妖5",6015,{"$f":"VLOOKUP(O55,[1]EventConfig!$A:$P,16,FALSE)","v":60},{"$f":"VLOOKUP(A55,[1]EventLinkConfig!$Y:$AM,15,FALSE)","v":6015},{"$f":"VLOOKUP(Q55,[1]EventConfig!$A:$P,16,FALSE)","v":60}]
[3009,{"$f":"_xlfn.TEXTJOIN(\"-\",1,M56:N56)","v":"道侣婉溪-击败抢走玉佩的小妖"},{"$f":"A56","v":3009},-1,-1,120,1,100,100,null,null,null,"道侣婉溪","击败抢走玉佩的小妖",6034,{"$f":"VLOOKUP(O56,[1]EventConfig!$A:$P,16,FALSE)","v":120},6034,{"$f":"VLOOKUP(Q56,[1]EventConfig!$A:$P,16,FALSE)","v":120}]
[3010,{"$f":"_xlfn.TEXTJOIN(\"-\",1,M57:N57)","v":"道侣婉溪-击败溪边水灵"},{"$f":"A57","v":3010},-1,-1,120,1,100,100,null,null,null,"道侣婉溪","击败溪边水灵",null,{"$f":"VLOOKUP(O57,[1]EventConfig!$A:$P,16,FALSE)","v":{"$error":"#N/A"}},{"$f":"VLOOKUP(A57,[1]EventLinkConfig!$Y:$AM,15,FALSE)","v":6035},{"$f":"VLOOKUP(Q57,[1]EventConfig!$A:$P,16,FALSE)","v":130}]
[3011,{"$f":"_xlfn.TEXTJOIN(\"-\",1,M58:N58)","v":"道侣许由-击败守护灵草的小妖"},{"$f":"A58","v":3011},-1,-1,120,1,100,100,null,null,null,"道侣许由","击败守护灵草的小妖",null,{"$f":"VLOOKUP(O58,[1]EventConfig!$A:$P,16,FALSE)","v":{"$error":"#N/A"}},6042,{"$f":"VLOOKUP(Q58,[1]EventConfig!$A:$P,16,FALSE)","v":130}]
[3012,{"$f":"_xlfn.TEXTJOIN(\"-\",1,M59:N59)","v":"道侣许由-击败秘境灵草守卫"},{"$f":"A59","v":3012},-1,-1,120,1,100,100,null,null,null,"道侣许由","击败秘境灵草守卫",null,{"$f":"VLOOKUP(O59,[1]EventConfig!$A:$P,16,FALSE)","v":{"$error":"#N/A"}},6044,{"$f":"VLOOKUP(Q59,[1]EventConfig!$A:$P,16,FALSE)","v":150}]
[3013,{"$f":"_xlfn.TEXTJOIN(\"-\",1,M60:N60)","v":"道侣疯道人-击败果园守卫"},{"$f":"A60","v":3013},-1,-1,120,1,100,100,null,null,null,"道侣疯道人","击败果园守卫",null,{"$f":"VLOOKUP(O60,[1]EventConfig!$A:$P,16,FALSE)","v":{"$error":"#N/A"}},6052,{"$f":"VLOOKUP(Q60,[1]EventConfig!$A:$P,16,FALSE)","v":160}]
[3014,{"$f":"_xlfn.TEXTJOIN(\"-\",1,M61:N61)","v":"道侣疯道人-帮助疯道人驱妖"},{"$f":"A61","v":3014},-1,-1,120,1,100,100,null,null,null,"道侣疯道人","帮助疯道人驱妖",null,{"$f":"VLOOKUP(O61,[1]EventConfig!$A:$P,16,FALSE)","v":{"$error":"#N/A"}},{"$f":"VLOOKUP(A61,[1]EventLinkConfig!$Y:$AM,15,FALSE)","v":6053},{"$f":"VLOOKUP(Q61,[1]EventConfig!$A:$P,16,FALSE)","v":170}]
[3015,{"$f":"_xlfn.TEXTJOIN(\"-\",1,M62:N62)","v":"道侣疯道人-击败疯道人"},{"$f":"A62","v":3015},-1,-1,120,1,100,100,null,null,null,"道侣疯道人","击败疯道人",null,{"$f":"VLOOKUP(O62,[1]EventConfig!$A:$P,16,FALSE)","v":{"$error":"#N/A"}},{"$f":"VLOOKUP(A62,[1]EventLinkConfig!$Y:$AM,15,FALSE)","v":6055},{"$f":"VLOOKUP(Q62,[1]EventConfig!$A:$P,16,FALSE)","v":190}]
[]
[10001,{"$f":"_xlfn.TEXTJOIN(\"-\",1,M64:N64)","v":"引导 -开局第一场战斗"},10001,-1,-1,120,1,100,100,null,null,null,"引导 ","开局第一场战斗",10004,5]
[]
[4001,{"$f":"_xlfn.TEXTJOIN(\"-\",1,M66:N66)","v":"支线-海岸异象-妖物调查"},{"$f":"A66","v":4001},-1,-1,120,1,100,100,null,null,null,"支线-海岸异象","妖物调查",null,30,{"$f":"VLOOKUP(A66,[1]EventLinkConfig!$Y:$AM,15,FALSE)","v":9112},{"$f":"VLOOKUP(Q66,[1]EventConfig!$A:$P,16,FALSE)","v":1}]
[4002,"支线-幽魂-幽魂石守护兽",4002,-1,-1,120,1,100,100,null,null,null,"支线-幽魂","幽魂石守护兽",null,60,{"$f":"VLOOKUP(A67,[1]EventLinkConfig!$Y:$AM,15,FALSE)","v":9115},{"$f":"VLOOKUP(Q67,[1]EventConfig!$A:$P,16,FALSE)","v":1}]
[4003,"支线-馨儿-迷雾妖怪",4003,-1,-1,120,1,100,100,null,null,null,"支线-馨儿","迷雾妖怪",null,90,{"$f":"VLOOKUP(A68,[1]EventLinkConfig!$Y:$AM,15,FALSE)","v":9118},{"$f":"VLOOKUP(Q68,[1]EventConfig!$A:$P,16,FALSE)","v":5}]
[4004,"支线-馨儿-发现信使",4004,-1,-1,120,1,100,100,null,null,null,"支线-馨儿","发现信使",null,110,{"$f":"VLOOKUP(A69,[1]EventLinkConfig!$Y:$AM,15,FALSE)","v":9119},{"$f":"VLOOKUP(Q69,[1]EventConfig!$A:$P,16,FALSE)","v":5}]
[4005,"支线-馨儿-发现信使",4005,-1,-1,120,1,100,100,null,null,null,"支线-馨儿","发现信使",null,120,{"$f":"VLOOKUP(A70,[1]EventLinkConfig!$Y:$AM,15,FALSE)","v":9119},{"$f":"VLOOKUP(Q70,[1]EventConfig!$A:$P,16,FALSE)","v":5}]
[4006,"支线-馨儿-风灵鸟的宝藏",4006,-1,-1,120,1,100,100,null,null,null,"支线-馨儿","风灵鸟的宝藏",null,130,{"$f":"VLOOKUP(A71,[1]EventLinkConfig!$Y:$AM,15,FALSE)","v":9120},{"$f":"VLOOKUP(Q71,[1]EventConfig!$A:$P,16,FALSE)","v":11}]
[4007,"支线-馨儿-浮岛灵泉的净化",4007,-1,-1,120,1,100,100,null,null,null,"支线-馨儿","浮岛灵泉的净化",null,140,{"$f":"VLOOKUP(A72,[1]EventLinkConfig!$Y:$AM,15,FALSE)","v":9121},{"$f":"VLOOKUP(Q72,[1]EventConfig!$A:$P,16,FALSE)","v":11}]
[4008,"支线-馨儿-浮岛盗修的阴谋",4008,-1,-1,120,1,100,100,null,null,null,"支线-馨儿","浮岛盗修的阴谋",null,150,{"$f":"VLOOKUP(A73,[1]EventLinkConfig!$Y:$AM,15,FALSE)","v":9122},{"$f":"VLOOKUP(Q73,[1]EventConfig!$A:$P,16,FALSE)","v":11}]
[4009,"支线-柳轻烟-找到血海宗的人",4009,-1,-1,120,1,100,100,null,null,null,"支线-柳轻烟","找到血海宗的人",null,160,{"$f":"VLOOKUP(A74,[1]EventLinkConfig!$Y:$AM,15,FALSE)","v":9124},{"$f":"VLOOKUP(Q74,[1]EventConfig!$A:$P,16,FALSE)","v":21}]
[4010,{"$f":"_xlfn.TEXTJOIN(\"-\",1,M75:N75)","v":"支线-柳轻烟-找到血海宗的人2"},{"$f":"A75","v":4010},-1,-1,120,1,100,100,null,null,null,"支线-柳轻烟","找到血海宗的人2",null,170,{"$f":"VLOOKUP(A75,[1]EventLinkConfig!$Y:$AM,15,FALSE)","v":9125},{"$f":"VLOOKUP(Q75,[1]EventConfig!$A:$P,16,FALSE)","v":21}]
[4011,"支线-馨儿-灵花",4011,-1,-1,120,1,100,100,null,null,null,"支线-馨儿","灵花",null,180,{"$f":"VLOOKUP(A76,[1]EventLinkConfig!$Y:$AM,15,FALSE)","v":9127},{"$f":"VLOOKUP(Q76,[1]EventConfig!$A:$P,16,FALSE)","v":31}]
[4012,"支线-馨儿-散修劫掠",4012,-1,-1,120,1,100,100,null,null,null,"支线-馨儿","散修劫掠",null,190,{"$f":"VLOOKUP(A77,[1]EventLinkConfig!$Y:$AM,15,FALSE)","v":9128},{"$f":"VLOOKUP(Q77,[1]EventConfig!$A:$P,16,FALSE)","v":31}]
[4013,"支线-馨儿-散修劫掠2",4013,-1,-1,120,1,100,100,null,null,null,"支线-馨儿","散修劫掠2",null,200,{"$f":"VLOOKUP(A78,[1]EventLinkConfig!$Y:$AM,15,FALSE)","v":9129},{"$f":"VLOOKUP(Q78,[1]EventConfig!$A:$P,16,FALSE)","v":31}]
[4014,"支线-楚云缪-青狼散人",4014,-1,-1,120,1,100,100,null,null,null,"支线-楚云缪","青狼散人",null,210,{"$f":"VLOOKUP(A79,[1]EventLinkConfig!$Y:$AM,15,FALSE)","v":9132},{"$f":"VLOOKUP(Q79,[1]EventConfig!$A:$P,16,FALSE)","v":31}]
[4015,"支线-血海宗的掠夺-血海宗的掠夺",4015,-1,-1,120,1,100,100,null,null,null,"支线-血海宗的掠夺","血海宗的掠夺",null,220,{"$f":"VLOOKUP(A80,[1]EventLinkConfig!$Y:$AM,15,FALSE)","v":9133},{"$f":"VLOOKUP(Q80,[1]EventConfig!$A:$P,16,FALSE)","v":41}]
[4016,"支线-林风-逃离追杀",4016,-1,-1,120,1,100,100,null,null,null,"支线-林风","逃离追杀",null,230,{"$f":"VLOOKUP(A81,[1]EventLinkConfig!$Y:$AM,15,FALSE)","v":9134},{"$f":"VLOOKUP(Q81,[1]EventConfig!$A:$P,16,FALSE)","v":41}]
[4017,"支线-林风-血海宗弟子",4017,-1,-1,120,1,100,100,null,null,null,"支线-林风","血海宗弟子",null,240,{"$f":"VLOOKUP(A82,[1]EventLinkConfig!$Y:$AM,15,FALSE)","v":9135},{"$f":"VLOOKUP(Q82,[1]EventConfig!$A:$P,16,FALSE)","v":41}]
[4018,"支线-林风-血海宗弟子",4018,-1,-1,120,1,100,100,null,null,null,"支线-林风","血海宗弟子",null,250,{"$f":"VLOOKUP(A83,[1]EventLinkConfig!$Y:$AM,15,FALSE)","v":9135},{"$f":"VLOOKUP(Q83,[1]EventConfig!$A:$P,16,FALSE)","v":41}]
[4019,"支线-林风-血海宗弟子",4019,-1,-1,120,1,100,100,null,null,null,"支线-林风","血海宗弟子",null,260,{"$f":"VLOOKUP(A84,[1]EventLinkConfig!$Y:$AM,15,FALSE)","v":9135},{"$f":"VLOOKUP(Q84,[1]EventConfig!$A:$P,16,FALSE)","v":41}]
[4020,"支线-林风后续-夺晶之战",4020,-1,-1,120,1,100,100,null,null,null,"支线-林风后续","夺晶之战",null,270,{"$f":"VLOOKUP(A85,[1]EventLinkConfig!$Y:$AM,15,FALSE)","v":9139},{"$f":"VLOOKUP(Q85,[1]EventConfig!$A:$P,16,FALSE)","v":61}]
[4021,"支线-林风后续-夺晶之战",4021,-1,-1,120,1,100,100,null,null,null,"支线-林风后续","夺晶之战",null,280,{"$f":"VLOOKUP(A86,[1]EventLinkConfig!$Y:$AM,15,FALSE)","v":9139},{"$f":"VLOOKUP(Q86,[1]EventConfig!$A:$P,16,FALSE)","v":61}]
[4022,"支线-林风后续-夺晶之战2-援军",4022,-1,-1,120,1,100,100,null,null,null,"支线-林风后续","夺晶之战2-援军",null,290,{"$f":"VLOOKUP(A87,[1]EventLinkConfig!$Y:$AM,15,FALSE)","v":9140},{"$f":"VLOOKUP(Q87,[1]EventConfig!$A:$P,16,FALSE)","v":61}]
[4023,"支线-林风-消灭妖邪",4023,-1,-1,120,1,100,100,null,null,null,"支线-林风","消灭妖邪",null,300,9142,{"$f":"VLOOKUP(Q88,[1]EventConfig!$A:$P,16,FALSE)","v":81}]
[4024,"支线-仙山异样-消灭仙山西边的妖物",4024,-1,-1,120,1,100,100,null,null,null,"支线-仙山异样","消灭仙山西边的妖物",null,300,9144,{"$f":"VLOOKUP(Q89,[1]EventConfig!$A:$P,16,FALSE)","v":111}]
[4025,{"$f":"_xlfn.TEXTJOIN(\"-\",1,M90:N90)","v":"支线-仙山异样-仙山异样的秘密"},{"$f":"A90","v":4025},-1,-1,120,1,100,100,null,null,null,"支线-仙山异样","仙山异样的秘密",null,300,{"$f":"VLOOKUP(A90,[1]EventLinkConfig!$Y:$AM,15,FALSE)","v":9145},{"$f":"VLOOKUP(Q90,[1]EventConfig!$A:$P,16,FALSE)","v":131}]
[]
[5001,{"$f":"_xlfn.TEXTJOIN(\"-\",1,M92:N92)","v":"通用-法宝掉落-品质1"},{"$f":"A92","v":5001},-1,-1,120,1,100,100,null,null,null,"通用-法宝掉落","品质1",null,-1,101]
[{"$f":"A92+1","v":5002},{"$f":"_xlfn.TEXTJOIN(\"-\",1,M93:N93)","v":"通用-法宝掉落-品质2"},{"$f":"A93","v":5002},-1,-1,120,1,100,100,null,null,null,"通用-法宝掉落","品质2",null,-1,110]
[{"$f":"A93+1","v":5003},"通用-法宝掉落-品质3",5003,-1,-1,120,1,100,100,null,null,null,"通用-法宝掉落","品质3",null,-1,119]
[{"$f":"A94+1","v":5004},{"$f":"_xlfn.TEXTJOIN(\"-\",1,M95:N95)","v":"通用-法宝掉落-品质4"},{"$f":"A95","v":5004},-1,-1,120,1,100,100,null,null,null,"通用-法宝掉落","品质4",null,-1,128]
[{"$f":"A95+1","v":5005},{"$f":"_xlfn.TEXTJOIN(\"-\",1,M96:N96)","v":"通用-法宝掉落-品质5"},{"$f":"A96","v":5005},-1,-1,120,1,100,100,null,null,null,"通用-法宝掉落","品质5",null,-1,137]
[{"$f":"A96+1","v":5006},"通用-功法掉落-品质1",5006,-1,-1,120,1,100,100,null,null,null,"通用-功法掉落","品质1",null,-1,102]
[5007,"通用-功法掉落-品质2",5007,-1,-1,120,1,100,100,null,null,null,"通用-功法掉落","品质2",null,-1,111]
[5008,"通用-功法掉落-品质3",5008,-1,-1,120,1,100,100,null,null,null,"通用-功法掉落","品质3",null,-1,120]
[5009,"通用-功法掉落-品质4",5009,-1,-1,120,1,100,100,null,null,null,"通用-功法掉落","品质4",null,-1,129]
[5010,{"$f":"_xlfn.TEXTJOIN(\"-\",1,M101:N101)","v":"通用-功法掉落-品质5"},{"$f":"A101","v":5010},-1,-1,120,1,100,100,null,null,null,"通用-功法掉落","品质5",null,-1,138]
[]
[2001,"命运峰-第1层",{"$f":"A103","v":2001},{"$f":"VLOOKUP(A103,[2]TowerInfoConfig!$H:$R,10,FALSE)","v":"1001;1402"},{"$f":"VLOOKUP(A103,[2]TowerInfoConfig!$H:$R,11,FALSE)","v":"36300;1"},120,1,100,100]
[2002,"命运峰-第2层",{"$f":"A104","v":2002},{"$f":"VLOOKUP(A104,[2]TowerInfoConfig!$H:$R,10,FALSE)","v":"1001;1702"},{"$f":"VLOOKUP(A104,[2]TowerInfoConfig!$H:$R,11,FALSE)","v":"37500;1"},120,1,100,100]
[2003,"命运峰-第3层",2003,{"$f":"VLOOKUP(A105,[2]TowerInfoConfig!$H:$R,10,FALSE)","v":"1001;21012"},{"$f":"VLOOKUP(A105,[2]TowerInfoConfig!$H:$R,11,FALSE)","v":"38400;1"},120,1,100,100]
[2004,"命运峰-第4层",{"$f":"A106","v":2004},{"$f":"VLOOKUP(A106,[2]TowerInfoConfig!$H:$R,10,FALSE)","v":"1001;1402"},{"$f":"VLOOKUP(A106,[2]TowerInfoConfig!$H:$R,11,FALSE)","v":"39600;1"},120,1,100,100]
[2005,"命运峰-第5层",2005,{"$f":"VLOOKUP(A107,[2]TowerInfoConfig!$H:$R,10,FALSE)","v":"1001;1702"},{"$f":"VLOOKUP(A107,[2]TowerInfoConfig!$H:$R,11,FALSE)","v":"40800;1"},120,1,100,100]
[2006,"命运峰-第6层",2006,{"$f":"VLOOKUP(A108,[2]TowerInfoConfig!$H:$R,10,FALSE)","v":"1001;21012"},{"$f":"VLOOKUP(A108,[2]TowerInfoConfig!$H:$R,11,FALSE)","v":"42300;1"},120,1,100,100]
[2007,"命运峰-第7层",2007,{"$f":"VLOOKUP(A109,[2]TowerInfoConfig!$H:$R,10,FALSE)","v":"1001;1402"},{"$f":"VLOOKUP(A109,[2]TowerInfoConfig!$H:$R,11,FALSE)","v":"43500;1"},120,1,100,100]
[2008,"命运峰-第8层",2008,{"$f":"VLOOKUP(A110,[2]TowerInfoConfig!$H:$R,10,FALSE)","v":"1001;1702"},{"$f":"VLOOKUP(A110,[2]TowerInfoConfig!$H:$R,11,FALSE)","v":"44700;1"},120,1,100,100]
[2009,"命运峰-第9层",2009,{"$f":"VLOOKUP(A111,[2]TowerInfoConfig!$H:$R,10,FALSE)","v":"1001;21012"},{"$f":"VLOOKUP(A111,[2]TowerInfoConfig!$H:$R,11,FALSE)","v":"46200;1"},120,1,100,100]
[2010,"命运峰-第10层",2010,{"$f":"VLOOKUP(A112,[2]TowerInfoConfig!$H:$R,10,FALSE)","v":"1001;1402"},{"$f":"VLOOKUP(A112,[2]TowerInfoConfig!$H:$R,11,FALSE)","v":"47700;1"},120,1,100,100]
[2011,"命运峰-第11层",2011,{"$f":"VLOOKUP(A113,[2]TowerInfoConfig!$H:$R,10,FALSE)","v":"1001;1702"},{"$f":"VLOOKUP(A113,[2]TowerInfoConfig!$H:$R,11,FALSE)","v":"48900;1"},120,1,100,100]
[2012,"命运峰-第12层",2012,{"$f":"VLOOKUP(A114,[2]TowerInfoConfig!$H:$R,10,FALSE)","v":"1001;21012"},{"$f":"VLOOKUP(A114,[2]TowerInfoConfig!$H:$R,11,FALSE)","v":"50400;1"},120,1,100,100]
[2013,"命运峰-第13层",2013,{"$f":"VLOOKUP(A115,[2]TowerInfoConfig!$H:$R,10,FALSE)","v":"1001;1402"},{"$f":"VLOOKUP(A115,[2]TowerInfoConfig!$H:$R,11,FALSE)","v":"52200;1"},120,1,100,100]
[2014,"命运峰-第14层",2014,{"$f":"VLOOKUP(A116,[2]TowerInfoConfig!$H:$R,10,FALSE)","v":"1001;1702"},{"$f":"VLOOKUP(A116,[2]TowerInfoConfig!$H:$R,11,FALSE)","v":"53700;1"},120,1,100,100]
[2015,"命运峰-第15层",2015,{"$f":"VLOOKUP(A117,[2]TowerInfoConfig!$H:$R,10,FALSE)","v":"1001;21012"},{"$f":"VLOOKUP(A117,[2]TowerInfoConfig!$H:$R,11,FALSE)","v":"55200;1"},120,1,100,100]
[2016,"命运峰-第16层",2016,{"$f":"VLOOKUP(A118,[2]TowerInfoConfig!$H:$R,10,FALSE)","v":"1001;1402"},{"$f":"VLOOKUP(A118,[2]TowerInfoConfig!$H:$R,11,FALSE)","v":"57000;1"},120,1,100,100]
[2017,"命运峰-第17层",2017,{"$f":"VLOOKUP(A119,[2]TowerInfoConfig!$H:$R,10,FALSE)","v":"1001;1702"},{"$f":"VLOOKUP(A119,[2]TowerInfoConfig!$H:$R,11,FALSE)","v":"58800;1"},120,1,100,100]
[2018,"命运峰-第18层",2018,{"$f":"VLOOKUP(A120,[2]TowerInfoConfig!$H:$R,10,FALSE)","v":"1001;21012"},{"$f":"VLOOKUP(A120,[2]TowerInfoConfig!$H:$R,11,FALSE)","v":"60600;1"},120,1,100,100]
[2019,"命运峰-第19层",2019,{"$f":"VLOOKUP(A121,[2]TowerInfoConfig!$H:$R,10,FALSE)","v":"1001;1402"},{"$f":"VLOOKUP(A121,[2]TowerInfoConfig!$H:$R,11,FALSE)","v":"62400;1"},120,1,100,100]
[2020,"命运峰-第20层",2020,{"$f":"VLOOKUP(A122,[2]TowerInfoConfig!$H:$R,10,FALSE)","v":"1001;1702"},{"$f":"VLOOKUP(A122,[2]TowerInfoConfig!$H:$R,11,FALSE)","v":"64200;1"},120,1,100,100]
[2021,"命运峰-第21层",2021,{"$f":"VLOOKUP(A123,[2]TowerInfoConfig!$H:$R,10,FALSE)","v":"1001;21012"},{"$f":"VLOOKUP(A123,[2]TowerInfoConfig!$H:$R,11,FALSE)","v":"66300;1"},120,1,100,100]
[2022,"命运峰-第22层",2022,{"$f":"VLOOKUP(A124,[2]TowerInfoConfig!$H:$R,10,FALSE)","v":"1001;1402"},{"$f":"VLOOKUP(A124,[2]TowerInfoConfig!$H:$R,11,FALSE)","v":"68100;1"},120,1,100,100]
[2023,"命运峰-第23层",2023,{"$f":"VLOOKUP(A125,[2]TowerInfoConfig!$H:$R,10,FALSE)","v":"1001;1702"},{"$f":"VLOOKUP(A125,[2]TowerInfoConfig!$H:$R,11,FALSE)","v":"70200;1"},120,1,100,100]
[2024,"命运峰-第24层",2024,{"$f":"VLOOKUP(A126,[2]TowerInfoConfig!$H:$R,10,FALSE)","v":"1001;21012"},{"$f":"VLOOKUP(A126,[2]TowerInfoConfig!$H:$R,11,FALSE)","v":"72600;1"},120,1,100,100]
[2025,"命运峰-第25层",2025,{"$f":"VLOOKUP(A127,[2]TowerInfoConfig!$H:$R,10,FALSE)","v":"1001;1402"},{"$f":"VLOOKUP(A127,[2]TowerInfoConfig!$H:$R,11,FALSE)","v":"74700;1"},120,1,100,100]
[2026,"命运峰-第26层",2026,{"$f":"VLOOKUP(A128,[2]TowerInfoConfig!$H:$R,10,FALSE)","v":"1001;1702"},{"$f":"VLOOKUP(A128,[2]TowerInfoConfig!$H:$R,11,FALSE)","v":"76800;1"},120,1,100,100]
[2027,"命运峰-第27层",2027,{"$f":"VLOOKUP(A129,[2]TowerInfoConfig!$H:$R,10,FALSE)","v":"1001;21012"},{"$f":"VLOOKUP(A129,[2]TowerInfoConfig!$H:$R,11,FALSE)","v":"79200;1"},120,1,100,100]
[2028,"命运峰-第28层",2028,{"$f":"VLOOKUP(A130,[2]TowerInfoConfig!$H:$R,10,FALSE)","v":"1001;1402"},{"$f":"VLOOKUP(A130,[2]TowerInfoConfig!$H:$R,11,FALSE)","v":"81600;1"},120,1,100,100]
[2029,"命运峰-第29层",2029,{"$f":"VLOOKUP(A131,[2]TowerInfoConfig!$H:$R,10,FALSE)","v":"1001;1702"},{"$f":"VLOOKUP(A131,[2]TowerInfoConfig!$H:$R,11,FALSE)","v":"84300;1"},120,1,100,100]
[2030,"命运峰-第30层",2030,{"$f":"VLOOKUP(A132,[2]TowerInfoConfig!$H:$R,10,FALSE)","v":"1001;21012"},{"$f":"VLOOKUP(A132,[2]TowerInfoConfig!$H:$R,11,FALSE)","v":"86700;1"},120,1,100,100]
[2031,"命运峰-第31层",2031,{"$f":"VLOOKUP(A133,[2]TowerInfoConfig!$H:$R,10,FALSE)","v":"1001;1403"},{"$f":"VLOOKUP(A133,[2]TowerInfoConfig!$H:$R,11,FALSE)","v":"89400;1"},120,1,100,100]
[2032,"命运峰-第32层",2032,{"$f":"VLOOKUP(A134,[2]TowerInfoConfig!$H:$R,10,FALSE)","v":"1001;1702"},{"$f":"VLOOKUP(A134,[2]TowerInfoConfig!$H:$R,11,FALSE)","v":"92100;1"},120,1,100,100]
[2033,"命运峰-第33层",2033,{"$f":"VLOOKUP(A135,[2]TowerInfoConfig!$H:$R,10,FALSE)","v":"1001;21012"},{"$f":"VLOOKUP(A135,[2]TowerInfoConfig!$H:$R,11,FALSE)","v":"95100;1"},120,1,100,100]
[2034,"命运峰-第34层",2034,{"$f":"VLOOKUP(A136,[2]TowerInfoConfig!$H:$R,10,FALSE)","v":"1001;1403"},{"$f":"VLOOKUP(A136,[2]TowerInfoConfig!$H:$R,11,FALSE)","v":"97800;1"},120,1,100,100]
[2035,"命运峰-第35层",2035,{"$f":"VLOOKUP(A137,[2]TowerInfoConfig!$H:$R,10,FALSE)","v":"1001;1702"},{"$f":"VLOOKUP(A137,[2]TowerInfoConfig!$H:$R,11,FALSE)","v":"100800;1"},120,1,100,100]
[2036,"命运峰-第36层",2036,{"$f":"VLOOKUP(A138,[2]TowerInfoConfig!$H:$R,10,FALSE)","v":"1001;21012"},{"$f":"VLOOKUP(A138,[2]TowerInfoConfig!$H:$R,11,FALSE)","v":"103800;1"},120,1,100,100]
[2037,"命运峰-第37层",2037,{"$f":"VLOOKUP(A139,[2]TowerInfoConfig!$H:$R,10,FALSE)","v":"1001;1403"},{"$f":"VLOOKUP(A139,[2]TowerInfoConfig!$H:$R,11,FALSE)","v":"107100;1"},120,1,100,100]
[2038,"命运峰-第38层",2038,{"$f":"VLOOKUP(A140,[2]TowerInfoConfig!$H:$R,10,FALSE)","v":"1001;1702"},{"$f":"VLOOKUP(A140,[2]TowerInfoConfig!$H:$R,11,FALSE)","v":"110400;1"},120,1,100,100]
[2039,"命运峰-第39层",2039,{"$f":"VLOOKUP(A141,[2]TowerInfoConfig!$H:$R,10,FALSE)","v":"1001;21012"},{"$f":"VLOOKUP(A141,[2]TowerInfoConfig!$H:$R,11,FALSE)","v":"113700;1"},120,1,100,100]
[2040,"命运峰-第40层",2040,{"$f":"VLOOKUP(A142,[2]TowerInfoConfig!$H:$R,10,FALSE)","v":"1001;1403"},{"$f":"VLOOKUP(A142,[2]TowerInfoConfig!$H:$R,11,FALSE)","v":"117300;1"},120,1,100,100]
[2041,"命运峰-第41层",2041,{"$f":"VLOOKUP(A143,[2]TowerInfoConfig!$H:$R,10,FALSE)","v":"1001;1702"},{"$f":"VLOOKUP(A143,[2]TowerInfoConfig!$H:$R,11,FALSE)","v":"120900;1"},120,1,100,100]
[2042,"命运峰-第42层",2042,{"$f":"VLOOKUP(A144,[2]TowerInfoConfig!$H:$R,10,FALSE)","v":"1001;21012"},{"$f":"VLOOKUP(A144,[2]TowerInfoConfig!$H:$R,11,FALSE)","v":"124500;1"},120,1,100,100]
[2043,"命运峰-第43层",2043,{"$f":"VLOOKUP(A145,[2]TowerInfoConfig!$H:$R,10,FALSE)","v":"1001;1403"},{"$f":"VLOOKUP(A145,[2]TowerInfoConfig!$H:$R,11,FALSE)","v":"128400;1"},120,1,100,100]
[2044,"命运峰-第44层",2044,{"$f":"VLOOKUP(A146,[2]TowerInfoConfig!$H:$R,10,FALSE)","v":"1001;1702"},{"$f":"VLOOKUP(A146,[2]TowerInfoConfig!$H:$R,11,FALSE)","v":"132300;1"},120,1,100,100]
[2045,"命运峰-第45层",2045,{"$f":"VLOOKUP(A147,[2]TowerInfoConfig!$H:$R,10,FALSE)","v":"1001;21012"},{"$f":"VLOOKUP(A147,[2]TowerInfoConfig!$H:$R,11,FALSE)","v":"136200;1"},120,1,100,100]
[2046,"命运峰-第46层",2046,{"$f":"VLOOKUP(A148,[2]TowerInfoConfig!$H:$R,10,FALSE)","v":"1001;1403"},{"$f":"VLOOKUP(A148,[2]TowerInfoConfig!$H:$R,11,FALSE)","v":"140400;1"},120,1,100,100]
[2047,"命运峰-第47层",2047,{"$f":"VLOOKUP(A149,[2]TowerInfoConfig!$H:$R,10,FALSE)","v":"1001;1702"},{"$f":"VLOOKUP(A149,[2]TowerInfoConfig!$H:$R,11,FALSE)","v":"144600;1"},120,1,100,100]
[2048,"命运峰-第48层",2048,{"$f":"VLOOKUP(A150,[2]TowerInfoConfig!$H:$R,10,FALSE)","v":"1001;21012"},{"$f":"VLOOKUP(A150,[2]TowerInfoConfig!$H:$R,11,FALSE)","v":"149100;1"},120,1,100,100]
[2049,"命运峰-第49层",2049,{"$f":"VLOOKUP(A151,[2]TowerInfoConfig!$H:$R,10,FALSE)","v":"1001;1403"},{"$f":"VLOOKUP(A151,[2]TowerInfoConfig!$H:$R,11,FALSE)","v":"153600;1"},120,1,100,100]
[2050,"命运峰-第50层",2050,{"$f":"VLOOKUP(A152,[2]TowerInfoConfig!$H:$R,10,FALSE)","v":"1001;1702"},{"$f":"VLOOKUP(A152,[2]TowerInfoConfig!$H:$R,11,FALSE)","v":"158400;1"},120,1,100,100]
[2051,"命运峰-第51层",2051,{"$f":"VLOOKUP(A153,[2]TowerInfoConfig!$H:$R,10,FALSE)","v":"1001;21012"},{"$f":"VLOOKUP(A153,[2]TowerInfoConfig!$H:$R,11,FALSE)","v":"163200;1"},120,1,100,100]
[2052,"命运峰-第52层",2052,{"$f":"VLOOKUP(A154,[2]TowerInfoConfig!$H:$R,10,FALSE)","v":"1001;1403"},{"$f":"VLOOKUP(A154,[2]TowerInfoConfig!$H:$R,11,FALSE)","v":"168000;1"},120,1,100,100]
[2053,"命运峰-第53层",2053,{"$f":"VLOOKUP(A155,[2]TowerInfoConfig!$H:$R,10,FALSE)","v":"1001;1702"},{"$f":"VLOOKUP(A155,[2]TowerInfoConfig!$H:$R,11,FALSE)","v":"173100;1"},120,1,100,100]
[2054,"命运峰-第54层",2054,{"$f":"VLOOKUP(A156,[2]TowerInfoConfig!$H:$R,10,FALSE)","v":"1001;21012"},{"$f":"VLOOKUP(A156,[2]TowerInfoConfig!$H:$R,11,FALSE)","v":"178500;1"},120,1,100,100]
[2055,"命运峰-第55层",2055,{"$f":"VLOOKUP(A157,[2]TowerInfoConfig!$H:$R,10,FALSE)","v":"1001;1403"},{"$f":"VLOOKUP(A157,[2]TowerInfoConfig!$H:$R,11,FALSE)","v":"183900;1"},120,1,100,100]
[2056,"命运峰-第56层",2056,{"$f":"VLOOKUP(A158,[2]TowerInfoConfig!$H:$R,10,FALSE)","v":"1001;1702"},{"$f":"VLOOKUP(A158,[2]TowerInfoConfig!$H:$R,11,FALSE)","v":"189600;1"},120,1,100,100]
[2057,"命运峰-第57层",2057,{"$f":"VLOOKUP(A159,[2]TowerInfoConfig!$H:$R,10,FALSE)","v":"1001;21012"},{"$f":"VLOOKUP(A159,[2]TowerInfoConfig!$H:$R,11,FALSE)","v":"195300;1"},120,1,100,100]
[2058,"命运峰-第58层",2058,{"$f":"VLOOKUP(A160,[2]TowerInfoConfig!$H:$R,10,FALSE)","v":"1001;1403"},{"$f":"VLOOKUP(A160,[2]TowerInfoConfig!$H:$R,11,FALSE)","v":"201300;1"},120,1,100,100]
[2059,"命运峰-第59层",2059,{"$f":"VLOOKUP(A161,[2]TowerInfoConfig!$H:$R,10,FALSE)","v":"1001;1702"},{"$f":"VLOOKUP(A161,[2]TowerInfoConfig!$H:$R,11,FALSE)","v":"207600;1"},120,1,100,100]
[2060,"命运峰-第60层",2060,{"$f":"VLOOKUP(A162,[2]TowerInfoConfig!$H:$R,10,FALSE)","v":"1001;21012"},{"$f":"VLOOKUP(A162,[2]TowerInfoConfig!$H:$R,11,FALSE)","v":"213900;1"},120,1,100,100]
[2061,"命运峰-第61层",2061,{"$f":"VLOOKUP(A163,[2]TowerInfoConfig!$H:$R,10,FALSE)","v":"1001;1404"},{"$f":"VLOOKUP(A163,[2]TowerInfoConfig!$H:$R,11,FALSE)","v":"220200;1"},120,1,100,100]
[2062,"命运峰-第62层",2062,{"$f":"VLOOKUP(A164,[2]TowerInfoConfig!$H:$R,10,FALSE)","v":"1001;1702"},{"$f":"VLOOKUP(A164,[2]TowerInfoConfig!$H:$R,11,FALSE)","v":"227100;1"},120,1,100,100]
[2063,"命运峰-第63层",2063,{"$f":"VLOOKUP(A165,[2]TowerInfoConfig!$H:$R,10,FALSE)","v":"1001;21012"},{"$f":"VLOOKUP(A165,[2]TowerInfoConfig!$H:$R,11,FALSE)","v":"234000;1"},120,1,100,100]
[2064,"命运峰-第64层",2064,{"$f":"VLOOKUP(A166,[2]TowerInfoConfig!$H:$R,10,FALSE)","v":"1001;1404"},{"$f":"VLOOKUP(A166,[2]TowerInfoConfig!$H:$R,11,FALSE)","v":"241200;1"},120,1,100,100]
[2065,"命运峰-第65层",2065,{"$f":"VLOOKUP(A167,[2]TowerInfoConfig!$H:$R,10,FALSE)","v":"1001;1702"},{"$f":"VLOOKUP(A167,[2]TowerInfoConfig!$H:$R,11,FALSE)","v":"248400;1"},120,1,100,100]
[2066,"命运峰-第66层",2066,{"$f":"VLOOKUP(A168,[2]TowerInfoConfig!$H:$R,10,FALSE)","v":"1001;21012"},{"$f":"VLOOKUP(A168,[2]TowerInfoConfig!$H:$R,11,FALSE)","v":"255900;1"},120,1,100,100]
[2067,"命运峰-第67层",2067,{"$f":"VLOOKUP(A169,[2]TowerInfoConfig!$H:$R,10,FALSE)","v":"1001;1404"},{"$f":"VLOOKUP(A169,[2]TowerInfoConfig!$H:$R,11,FALSE)","v":"263700;1"},120,1,100,100]
[2068,"命运峰-第68层",{"$f":"A170","v":2068},{"$f":"VLOOKUP(A170,[2]TowerInfoConfig!$H:$R,10,FALSE)","v":"1001;1702"},{"$f":"VLOOKUP(A170,[2]TowerInfoConfig!$H:$R,11,FALSE)","v":"271800;1"},120,1,100,100]
[2069,"命运峰-第69层",2069,{"$f":"VLOOKUP(A171,[2]TowerInfoConfig!$H:$R,10,FALSE)","v":"1001;21012"},{"$f":"VLOOKUP(A171,[2]TowerInfoConfig!$H:$R,11,FALSE)","v":"280200;1"},120,1,100,100]
[2070,"命运峰-第70层",2070,{"$f":"VLOOKUP(A172,[2]TowerInfoConfig!$H:$R,10,FALSE)","v":"1001;1404"},{"$f":"VLOOKUP(A172,[2]TowerInfoConfig!$H:$R,11,FALSE)","v":"288600;1"},120,1,100,100]
[2071,"命运峰-第71层",2071,{"$f":"VLOOKUP(A173,[2]TowerInfoConfig!$H:$R,10,FALSE)","v":"1001;1702"},{"$f":"VLOOKUP(A173,[2]TowerInfoConfig!$H:$R,11,FALSE)","v":"297600;1"},120,1,100,100]
[2072,"命运峰-第72层",2072,{"$f":"VLOOKUP(A174,[2]TowerInfoConfig!$H:$R,10,FALSE)","v":"1001;21012"},{"$f":"VLOOKUP(A174,[2]TowerInfoConfig!$H:$R,11,FALSE)","v":"306600;1"},120,1,100,100]
[2073,"命运峰-第73层",2073,{"$f":"VLOOKUP(A175,[2]TowerInfoConfig!$H:$R,10,FALSE)","v":"1001;1404"},{"$f":"VLOOKUP(A175,[2]TowerInfoConfig!$H:$R,11,FALSE)","v":"315900;1"},120,1,100,100]
[2074,"命运峰-第74层",2074,{"$f":"VLOOKUP(A176,[2]TowerInfoConfig!$H:$R,10,FALSE)","v":"1001;1702"},{"$f":"VLOOKUP(A176,[2]TowerInfoConfig!$H:$R,11,FALSE)","v":"325500;1"},120,1,100,100]
[2075,"命运峰-第75层",2075,{"$f":"VLOOKUP(A177,[2]TowerInfoConfig!$H:$R,10,FALSE)","v":"1001;21012"},{"$f":"VLOOKUP(A177,[2]TowerInfoConfig!$H:$R,11,FALSE)","v":"335700;1"},120,1,100,100]
[2076,"命运峰-第76层",2076,{"$f":"VLOOKUP(A178,[2]TowerInfoConfig!$H:$R,10,FALSE)","v":"1001;1404"},{"$f":"VLOOKUP(A178,[2]TowerInfoConfig!$H:$R,11,FALSE)","v":"345900;1"},120,1,100,100]
[2077,"命运峰-第77层",2077,{"$f":"VLOOKUP(A179,[2]TowerInfoConfig!$H:$R,10,FALSE)","v":"1001;1702"},{"$f":"VLOOKUP(A179,[2]TowerInfoConfig!$H:$R,11,FALSE)","v":"356400;1"},120,1,100,100]
[2078,"命运峰-第78层",2078,{"$f":"VLOOKUP(A180,[2]TowerInfoConfig!$H:$R,10,FALSE)","v":"1001;21012"},{"$f":"VLOOKUP(A180,[2]TowerInfoConfig!$H:$R,11,FALSE)","v":"367200;1"},120,1,100,100]
[2079,"命运峰-第79层",2079,{"$f":"VLOOKUP(A181,[2]TowerInfoConfig!$H:$R,10,FALSE)","v":"1001;1404"},{"$f":"VLOOKUP(A181,[2]TowerInfoConfig!$H:$R,11,FALSE)","v":"378300;1"},120,1,100,100]
[2080,"命运峰-第80层",2080,{"$f":"VLOOKUP(A182,[2]TowerInfoConfig!$H:$R,10,FALSE)","v":"1001;1702"},{"$f":"VLOOKUP(A182,[2]TowerInfoConfig!$H:$R,11,FALSE)","v":"390000;1"},120,1,100,100]
[2081,"命运峰-第81层",2081,{"$f":"VLOOKUP(A183,[2]TowerInfoConfig!$H:$R,10,FALSE)","v":"1001;21012"},{"$f":"VLOOKUP(A183,[2]TowerInfoConfig!$H:$R,11,FALSE)","v":"402000;1"},120,1,100,100]
[2082,"命运峰-第82层",2082,{"$f":"VLOOKUP(A184,[2]TowerInfoConfig!$H:$R,10,FALSE)","v":"1001;1404"},{"$f":"VLOOKUP(A184,[2]TowerInfoConfig!$H:$R,11,FALSE)","v":"414000;1"},120,1,100,100]
[2083,"命运峰-第83层",2083,{"$f":"VLOOKUP(A185,[2]TowerInfoConfig!$H:$R,10,FALSE)","v":"1001;1702"},{"$f":"VLOOKUP(A185,[2]TowerInfoConfig!$H:$R,11,FALSE)","v":"426900;1"},120,1,100,100]
[2084,"命运峰-第84层",2084,{"$f":"VLOOKUP(A186,[2]TowerInfoConfig!$H:$R,10,FALSE)","v":"1001;21012"},{"$f":"VLOOKUP(A186,[2]TowerInfoConfig!$H:$R,11,FALSE)","v":"435300;1"},120,1,100,100]
[2085,"命运峰-第85层",2085,{"$f":"VLOOKUP(A187,[2]TowerInfoConfig!$H:$R,10,FALSE)","v":"1001;1404"},{"$f":"VLOOKUP(A187,[2]TowerInfoConfig!$H:$R,11,FALSE)","v":"444300;1"},120,1,100,100]
[2086,"命运峰-第86层",{"$f":"A188","v":2086},{"$f":"VLOOKUP(A188,[2]TowerInfoConfig!$H:$R,10,FALSE)","v":"1001;1702"},{"$f":"VLOOKUP(A188,[2]TowerInfoConfig!$H:$R,11,FALSE)","v":"453300;1"},120,1,100,100]
[2087,"命运峰-第87层",2087,{"$f":"VLOOKUP(A189,[2]TowerInfoConfig!$H:$R,10,FALSE)","v":"1001;21012"},{"$f":"VLOOKUP(A189,[2]TowerInfoConfig!$H:$R,11,FALSE)","v":"462300;1"},120,1,100,100]
[2088,"命运峰-第88层",2088,{"$f":"VLOOKUP(A190,[2]TowerInfoConfig!$H:$R,10,FALSE)","v":"1001;1404"},{"$f":"VLOOKUP(A190,[2]TowerInfoConfig!$H:$R,11,FALSE)","v":"471900;1"},120,1,100,100]
[2089,"命运峰-第89层",2089,{"$f":"VLOOKUP(A191,[2]TowerInfoConfig!$H:$R,10,FALSE)","v":"1001;1702"},{"$f":"VLOOKUP(A191,[2]TowerInfoConfig!$H:$R,11,FALSE)","v":"481200;1"},120,1,100,100]
[2090,"命运峰-第90层",2090,{"$f":"VLOOKUP(A192,[2]TowerInfoConfig!$H:$R,10,FALSE)","v":"1001;21012"},{"$f":"VLOOKUP(A192,[2]TowerInfoConfig!$H:$R,11,FALSE)","v":"491100;1"},120,1,100,100]
[2091,"命运峰-第91层",2091,{"$f":"VLOOKUP(A193,[2]TowerInfoConfig!$H:$R,10,FALSE)","v":"1001;1404"},{"$f":"VLOOKUP(A193,[2]TowerInfoConfig!$H:$R,11,FALSE)","v":"501000;1"},120,1,100,100]
[2092,"命运峰-第92层",2092,{"$f":"VLOOKUP(A194,[2]TowerInfoConfig!$H:$R,10,FALSE)","v":"1001;1702"},{"$f":"VLOOKUP(A194,[2]TowerInfoConfig!$H:$R,11,FALSE)","v":"511200;1"},120,1,100,100]
[2093,"命运峰-第93层",2093,{"$f":"VLOOKUP(A195,[2]TowerInfoConfig!$H:$R,10,FALSE)","v":"1001;21012"},{"$f":"VLOOKUP(A195,[2]TowerInfoConfig!$H:$R,11,FALSE)","v":"521400;1"},120,1,100,100]
[2094,"命运峰-第94层",2094,{"$f":"VLOOKUP(A196,[2]TowerInfoConfig!$H:$R,10,FALSE)","v":"1001;1404"},{"$f":"VLOOKUP(A196,[2]TowerInfoConfig!$H:$R,11,FALSE)","v":"531900;1"},120,1,100,100]
[2095,"命运峰-第95层",2095,{"$f":"VLOOKUP(A197,[2]TowerInfoConfig!$H:$R,10,FALSE)","v":"1001;1702"},{"$f":"VLOOKUP(A197,[2]TowerInfoConfig!$H:$R,11,FALSE)","v":"542700;1"},120,1,100,100]
[2096,"命运峰-第96层",2096,{"$f":"VLOOKUP(A198,[2]TowerInfoConfig!$H:$R,10,FALSE)","v":"1001;21012"},{"$f":"VLOOKUP(A198,[2]TowerInfoConfig!$H:$R,11,FALSE)","v":"553800;1"},120,1,100,100]
[2097,"命运峰-第97层",2097,{"$f":"VLOOKUP(A199,[2]TowerInfoConfig!$H:$R,10,FALSE)","v":"1001;1404"},{"$f":"VLOOKUP(A199,[2]TowerInfoConfig!$H:$R,11,FALSE)","v":"564900;1"},120,1,100,100]
[2098,"命运峰-第98层",2098,{"$f":"VLOOKUP(A200,[2]TowerInfoConfig!$H:$R,10,FALSE)","v":"1001;1702"},{"$f":"VLOOKUP(A200,[2]TowerInfoConfig!$H:$R,11,FALSE)","v":"576300;1"},120,1,100,100]
[2099,"命运峰-第99层",2099,{"$f":"VLOOKUP(A201,[2]TowerInfoConfig!$H:$R,10,FALSE)","v":"1001;21012"},{"$f":"VLOOKUP(A201,[2]TowerInfoConfig!$H:$R,11,FALSE)","v":"588000;1"},120,1,100,100]
[2100,"命运峰-第100层",2100,{"$f":"VLOOKUP(A202,[2]TowerInfoConfig!$H:$R,10,FALSE)","v":"1001;1404"},{"$f":"VLOOKUP(A202,[2]TowerInfoConfig!$H:$R,11,FALSE)","v":"600000;1"},120,1,100,100]

{"sheet":"GroupConfig","index":1,"n_rows":206,"n_cols":28,"rows_kept":206,"cut":false,"hidden":false,"merged":[]}
["ID",null,"GroupMonsterLevel","GroupMonster","hpQiangDu","attQiangDu","duipingQiangDu","levelAdd"]
["int",null,"int[]","int[]","int[]","int[]","int[]","int[]"]
[]
["组ID","常用阵容ID","具体怪物等级\n-1代表跟随玩家等级\n-1后面可填动态修正等级","每组具体怪","每个怪的比例强度\n一个都不填就是默认强度","攻击强度","对拼强度","等级额外添加值","怪物1","怪物2","怪物3","怪物1生存强度","怪物2生存强度","怪物3生存强度","怪物1攻击强度","怪物2攻击强度","怪物3攻击强度","怪物1对拼强度","怪物2对拼强度","怪物3对拼强度","怪物1等级降低","怪物2等级降低","怪物3等级降低"]
[100001,100001,-1,{"$f":"_xlfn.TEXTJOIN(\";\",1,I5:K5)","v":"1002"},{"$f":"_xlfn.TEXTJOIN(\";\",1,L5:N5)","v":""},{"$f":"_xlfn.TEXTJOIN(\";\",1,O5:Q5)","v":""},{"$f":"_xlfn.TEXTJOIN(\";\",1,R5:T5)","v":""},{"$f":"_xlfn.TEXTJOIN(\";\",1,U5:W5)","v":""},1002]
[100002,100002,-1,{"$f":"_xlfn.TEXTJOIN(\";\",1,I6:K6)","v":"1006"},{"$f":"_xlfn.TEXTJOIN(\";\",1,L6:N6)","v":""},{"$f":"_xlfn.TEXTJOIN(\";\",1,O6:Q6)","v":""},{"$f":"_xlfn.TEXTJOIN(\";\",1,R6:T6)","v":""},{"$f":"_xlfn.TEXTJOIN(\";\",1,U6:W6)","v":""},1006]
[100003,100003,-1,"1003","","","","",1003]
[100004,100004,-1,"9005","","","","",9005,{"$nulls":17},"等模型来了再配置"]
[100005,100005,-1,"1005","","","","",1005,{"$nulls":17},9002]
[100006,100006,-1,"1002","","","","",1002,{"$nulls":17},9001]
[100007,100007,-1,"1003;1002","90;30","77;26","75;25","0;0",1003,1002,null,90,30,null,77,26,null,75,25,null,0,0,{"$nulls":4},9003]
[100008,100008,-1,"1004;1006","90;30","77;26","75;25","0;0",1004,1006,null,90,30,null,77,26,null,75,25,null,0,0,{"$nulls":4},1001,1002]
[100009,100009,-1,"1005","","","","",1005,{"$nulls":17},5006]
[null,null,null,"","","","","",{"$nulls":18},5007]
[1002,{"$f":"LevelbattleConfig!B11","v":"主线-击败结界兽"},{"$f":"VLOOKUP(A15,LevelbattleConfig!A:R,18,FALSE)","v":6},"7001","","","","",7001,{"$nulls":17},9006]
[{"$f":"A15+1","v":1003},{"$f":"LevelbattleConfig!B12","v":"主线-击败痴道人"},{"$f":"VLOOKUP(A16,LevelbattleConfig!A:R,18,FALSE)","v":16},"9001","","","","",9001,{"$nulls":17},9004]
[{"$f":"A16+1","v":1004},{"$f":"LevelbattleConfig!B13","v":"主线-妖兽横行"},{"$f":"VLOOKUP(A17,LevelbattleConfig!A:R,18,FALSE)","v":25},"1008","","","","",1008]
[1005,{"$f":"LevelbattleConfig!B14","v":"主线-击败后山小妖"},{"$f":"VLOOKUP(A18,LevelbattleConfig!A:R,18,FALSE)","v":46},"1008","","","","",1008]
[1006,{"$f":"LevelbattleConfig!B15","v":"主线-击败夜袭的妖兽"},{"$f":"VLOOKUP(A19,LevelbattleConfig!A:R,18,FALSE)","v":51},"5006","","","","",5006]
[1007,{"$f":"LevelbattleConfig!B16","v":"主线-击败峰顶的妖王"},{"$f":"VLOOKUP(A20,LevelbattleConfig!A:R,18,FALSE)","v":56},"5007","","","","",5007]
[1008,{"$f":"LevelbattleConfig!B17","v":"主线-击败仙山的阵眼妖兽"},{"$f":"VLOOKUP(A21,LevelbattleConfig!A:R,18,FALSE)","v":86},"9001","","","","",9001]
[1009,{"$f":"LevelbattleConfig!B18","v":"主线-击杀灵兽获得天肥"},{"$f":"VLOOKUP(A22,LevelbattleConfig!A:R,18,FALSE)","v":101},"9002","","","","",9002]
[1010,{"$f":"LevelbattleConfig!B19","v":"主线-击败小麻雀的幻影"},{"$f":"VLOOKUP(A23,LevelbattleConfig!A:R,18,FALSE)","v":121},"9002","","","","",9002]
[{"$f":"A23+1","v":1011},{"$f":"LevelbattleConfig!B20","v":"主线-击败痴道人的幻影"},{"$f":"VLOOKUP(A24,LevelbattleConfig!A:R,18,FALSE)","v":121},"9001","","","","",9001]
[1012,{"$f":"LevelbattleConfig!B21","v":"主线-樗木之灵的幻影"},{"$f":"VLOOKUP(A25,LevelbattleConfig!A:R,18,FALSE)","v":121},"9004","","","","",9004]
[1013,{"$f":"LevelbattleConfig!B22","v":"主线-击败心魔"},{"$f":"VLOOKUP(A26,LevelbattleConfig!A:R,18,FALSE)","v":141},"5007","","","","",5007]
[1014,{"$f":"LevelbattleConfig!B23","v":"主线-击败北海妖兽2"},{"$f":"VLOOKUP(A27,LevelbattleConfig!A:R,18,FALSE)","v":151},"1008;1006","80;40","72;36","67;33","0;0",1008,1006,null,80,40,null,72,36,null,67,33,null,0,0]
[1015,{"$f":"LevelbattleConfig!B24","v":"主线-击败北海妖兽1"},{"$f":"VLOOKUP(A28,LevelbattleConfig!A:R,18,FALSE)","v":25},{"$f":"_xlfn.TEXTJOIN(\";\",1,I28:K28)","v":"1008;1006"},{"$f":"_xlfn.TEXTJOIN(\";\",1,L28:N28)","v":"80;40"},{"$f":"_xlfn.TEXTJOIN(\";\",1,O28:Q28)","v":"72;36"},{"$f":"_xlfn.TEXTJOIN(\";\",1,R28:T28)","v":"67;33"},{"$f":"_xlfn.TEXTJOIN(\";\",1,U28:W28)","v":"0;0"},1008,1006,null,80,40,null,72,36,null,67,33,null,0,0]
[1016,{"$f":"LevelbattleConfig!B25","v":"主线-与樗木之灵切磋"},{"$f":"VLOOKUP(A29,LevelbattleConfig!A:R,18,FALSE)","v":69},{"$f":"_xlfn.TEXTJOIN(\";\",1,I29:K29)","v":"9004"},{"$f":"_xlfn.TEXTJOIN(\";\",1,L29:N29)","v":""},{"$f":"_xlfn.TEXTJOIN(\";\",1,O29:Q29)","v":""},{"$f":"_xlfn.TEXTJOIN(\";\",1,R29:T29)","v":""},{"$f":"_xlfn.TEXTJOIN(\";\",1,U29:W29)","v":""},9004]
[null,null,null,"","","","",""]
{"$rows_empty":21}
[3001,{"$f":"LevelbattleConfig!B48","v":"道侣雀灵儿-击败风妖"},{"$f":"VLOOKUP(A52,LevelbattleConfig!A:R,18,FALSE)","v":15},{"$f":"_xlfn.TEXTJOIN(\";\",1,I52:K52)","v":"1005"},{"$f":"_xlfn.TEXTJOIN(\";\",1,L52:N52)","v":""},{"$f":"_xlfn.TEXTJOIN(\";\",1,O52:Q52)","v":""},{"$f":"_xlfn.TEXTJOIN(\";\",1,R52:T52)","v":""},{"$f":"_xlfn.TEXTJOIN(\";\",1,U52:W52)","v":""},1005]
[3002,{"$f":"LevelbattleConfig!B49","v":"道侣雀灵儿-击败大风妖兽"},{"$f":"VLOOKUP(A53,LevelbattleConfig!A:R,18,FALSE)","v":25},{"$f":"_xlfn.TEXTJOIN(\";\",1,I53:K53)","v":"9006"},{"$f":"_xlfn.TEXTJOIN(\";\",1,L53:N53)","v":""},{"$f":"_xlfn.TEXTJOIN(\";\",1,O53:Q53)","v":""},{"$f":"_xlfn.TEXTJOIN(\";\",1,R53:T53)","v":""},{"$f":"_xlfn.TEXTJOIN(\";\",1,U53:W53)","v":""},9006]
[{"$f":"A53+1","v":3003},{"$f":"LevelbattleConfig!B50","v":"道侣云枝-击败风妖"},{"$f":"VLOOKUP(A54,LevelbattleConfig!A:R,18,FALSE)","v":20},{"$f":"_xlfn.TEXTJOIN(\";\",1,I54:K54)","v":"1005"},{"$f":"_xlfn.TEXTJOIN(\";\",1,L54:N54)","v":""},{"$f":"_xlfn.TEXTJOIN(\";\",1,O54:Q54)","v":""},{"$f":"_xlfn.TEXTJOIN(\";\",1,R54:T54)","v":""},{"$f":"_xlfn.TEXTJOIN(\";\",1,U54:W54)","v":""},1005]
[3004,{"$f":"LevelbattleConfig!B51","v":"道侣云枝-击败风妖2"},{"$f":"VLOOKUP(A55,LevelbattleConfig!A:R,18,FALSE)","v":30},{"$f":"_xlfn.TEXTJOIN(\";\",1,I55:K55)","v":"1005"},{"$f":"_xlfn.TEXTJOIN(\";\",1,L55:N55)","v":""},{"$f":"_xlfn.TEXTJOIN(\";\",1,O55:Q55)","v":""},{"$f":"_xlfn.TEXTJOIN(\";\",1,R55:T55)","v":""},{"$f":"_xlfn.TEXTJOIN(\";\",1,U55:W55)","v":""},1005]
[3005,{"$f":"LevelbattleConfig!B52","v":"道侣云枝-击败风妖3"},{"$f":"VLOOKUP(A56,LevelbattleConfig!A:R,18,FALSE)","v":30},"5003","","","","",5003]
[3006,{"$f":"LevelbattleConfig!B53","v":"道侣云枝-击败风妖4"},{"$f":"VLOOKUP(A57,LevelbattleConfig!A:R,18,FALSE)","v":40},{"$f":"_xlfn.TEXTJOIN(\";\",1,I57:K57)","v":"5003"},{"$f":"_xlfn.TEXTJOIN(\";\",1,L57:N57)","v":""},{"$f":"_xlfn.TEXTJOIN(\";\",1,O57:Q57)","v":""},{"$f":"_xlfn.TEXTJOIN(\";\",1,R57:T57)","v":""},{"$f":"_xlfn.TEXTJOIN(\";\",1,U57:W57)","v":""},5003]
[3007,{"$f":"LevelbattleConfig!B54","v":"道侣云枝-击败风妖4"},{"$f":"VLOOKUP(A58,LevelbattleConfig!A:R,18,FALSE)","v":60},{"$f":"_xlfn.TEXTJOIN(\";\",1,I58:K58)","v":"5003"},{"$f":"_xlfn.TEXTJOIN(\";\",1,L58:N58)","v":""},{"$f":"_xlfn.TEXTJOIN(\";\",1,O58:Q58)","v":""},{"$f":"_xlfn.TEXTJOIN(\";\",1,R58:T58)","v":""},{"$f":"_xlfn.TEXTJOIN(\";\",1,U58:W58)","v":""},5003]
[3008,{"$f":"LevelbattleConfig!B55","v":"道侣云枝-击败风妖5"},{"$f":"VLOOKUP(A59,LevelbattleConfig!A:R,18,FALSE)","v":60},{"$f":"_xlfn.TEXTJOIN(\";\",1,I59:K59)","v":"9002"},{"$f":"_xlfn.TEXTJOIN(\";\",1,L59:N59)","v":""},{"$f":"_xlfn.TEXTJOIN(\";\",1,O59:Q59)","v":""},{"$f":"_xlfn.TEXTJOIN(\";\",1,R59:T59)","v":""},{"$f":"_xlfn.TEXTJOIN(\";\",1,U59:W59)","v":""},9002]
[3009,{"$f":"LevelbattleConfig!B56","v":"道侣婉溪-击败抢走玉佩的小妖"},{"$f":"VLOOKUP(A60,LevelbattleConfig!A:R,18,FALSE)","v":120},{"$f":"_xlfn.TEXTJOIN(\";\",1,I60:K60)","v":"5003"},{"$f":"_xlfn.TEXTJOIN(\";\",1,L60:N60)","v":""},{"$f":"_xlfn.TEXTJOIN(\";\",1,O60:Q60)","v":""},{"$f":"_xlfn.TEXTJOIN(\";\",1,R60:T60)","v":""},{"$f":"_xlfn.TEXTJOIN(\";\",1,U60:W60)","v":""},5003]
[3010,{"$f":"LevelbattleConfig!B57","v":"道侣婉溪-击败溪边水灵"},{"$f":"VLOOKUP(A61,LevelbattleConfig!A:R,18,FALSE)","v":130},{"$f":"_xlfn.TEXTJOIN(\";\",1,I61:K61)","v":"5002"},{"$f":"_xlfn.TEXTJOIN(\";\",1,L61:N61)","v":""},{"$f":"_xlfn.TEXTJOIN(\";\",1,O61:Q61)","v":""},{"$f":"_xlfn.TEXTJOIN(\";\",1,R61:T61)","v":""},{"$f":"_xlfn.TEXTJOIN(\";\",1,U61:W61)","v":""},5002]
[3011,{"$f":"LevelbattleConfig!B58","v":"道侣许由-击败守护灵草的小妖"},{"$f":"VLOOKUP(A62,LevelbattleConfig!A:R,18,FALSE)","v":130},{"$f":"_xlfn.TEXTJOIN(\";\",1,I62:K62)","v":"1006"},{"$f":"_xlfn.TEXTJOIN(\";\",1,L62:N62)","v":""},{"$f":"_xlfn.TEXTJOIN(\";\",1,O62:Q62)","v":""},{"$f":"_xlfn.TEXTJOIN(\";\",1,R62:T62)","v":""},{"$f":"_xlfn.TEXTJOIN(\";\",1,U62:W62)","v":""},1006]
[3012,{"$f":"LevelbattleConfig!B59","v":"道侣许由-击败秘境灵草守卫"},{"$f":"VLOOKUP(A63,LevelbattleConfig!A:R,18,FALSE)","v":150},"5005","","","","",5005]
[3013,{"$f":"LevelbattleConfig!B60","v":"道侣疯道人-击败果园守卫"},{"$f":"VLOOKUP(A64,LevelbattleConfig!A:R,18,FALSE)","v":160},{"$f":"_xlfn.TEXTJOIN(\";\",1,I64:K64)","v":"5001"},{"$f":"_xlfn.TEXTJOIN(\";\",1,L64:N64)","v":""},{"$f":"_xlfn.TEXTJOIN(\";\",1,O64:Q64)","v":""},{"$f":"_xlfn.TEXTJOIN(\";\",1,R64:T64)","v":""},{"$f":"_xlfn.TEXTJOIN(\";\",1,U64:W64)","v":""},5001]
[3014,{"$f":"LevelbattleConfig!B61","v":"道侣疯道人-帮助疯道人驱妖"},{"$f":"VLOOKUP(A65,LevelbattleConfig!A:R,18,FALSE)","v":170},{"$f":"_xlfn.TEXTJOIN(\";\",1,I65:K65)","v":"5004"},{"$f":"_xlfn.TEXTJOIN(\";\",1,L65:N65)","v":""},{"$f":"_xlfn.TEXTJOIN(\";\",1,O65:Q65)","v":""},{"$f":"_xlfn.TEXTJOIN(\";\",1,R65:T65)","v":""},{"$f":"_xlfn.TEXTJOIN(\";\",1,U65:W65)","v":""},5004]
[3015,{"$f":"LevelbattleConfig!B62","v":"道侣疯道人-击败疯道人"},{"$f":"VLOOKUP(A66,LevelbattleConfig!A:R,18,FALSE)","v":190},{"$f":"_xlfn.TEXTJOIN(\";\",1,I66:K66)","v":"9001"},{"$f":"_xlfn.TEXTJOIN(\";\",1,L66:N66)","v":""},{"$f":"_xlfn.TEXTJOIN(\";\",1,O66:Q66)","v":""},{"$f":"_xlfn.TEXTJOIN(\";\",1,R66:T66)","v":""},{"$f":"_xlfn.TEXTJOIN(\";\",1,U66:W66)","v":""},9001]
[]
[10001,{"$f":"LevelbattleConfig!B64","v":"引导 -开局第一场战斗"},202,{"$f":"_xlfn.TEXTJOIN(\";\",1,I68:K68)","v":"9005"},{"$f":"_xlfn.TEXTJOIN(\";\",1,L68:N68)","v":""},{"$f":"_xlfn.TEXTJOIN(\";\",1,O68:Q68)","v":""},{"$f":"_xlfn.TEXTJOIN(\";\",1,R68:T68)","v":""},{"$f":"_xlfn.TEXTJOIN(\";\",1,U68:W68)","v":""},9005,{"$nulls":17},9006]
[]
[4001,{"$f":"VLOOKUP(A70,LevelbattleConfig!A:B,2,FALSE)","v":"支线-海岸异象-妖物调查"},{"$f":"VLOOKUP(A70,LevelbattleConfig!A:R,18,FALSE)","v":1},{"$f":"_xlfn.TEXTJOIN(\";\",1,I70:K70)","v":"1005"},{"$f":"_xlfn.TEXTJOIN(\";\",1,L70:N70)","v":""},{"$f":"_xlfn.TEXTJOIN(\";\",1,O70:Q70)","v":""},{"$f":"_xlfn.TEXTJOIN(\";\",1,R70:T70)","v":""},{"$f":"_xlfn.TEXTJOIN(\";\",1,U70:W70)","v":""},1005]
[4002,{"$f":"VLOOKUP(A71,LevelbattleConfig!A:B,2,FALSE)","v":"支线-幽魂-幽魂石守护兽"},{"$f":"VLOOKUP(A71,LevelbattleConfig!A:R,18,FALSE)","v":1},{"$f":"_xlfn.TEXTJOIN(\";\",1,I71:K71)","v":"1006"},{"$f":"_xlfn.TEXTJOIN(\";\",1,L71:N71)","v":""},{"$f":"_xlfn.TEXTJOIN(\";\",1,O71:Q71)","v":""},{"$f":"_xlfn.TEXTJOIN(\";\",1,R71:T71)","v":""},{"$f":"_xlfn.TEXTJOIN(\";\",1,U71:W71)","v":""},1006]
[4003,{"$f":"VLOOKUP(A72,LevelbattleConfig!A:B,2,FALSE)","v":"支线-馨儿-迷雾妖怪"},{"$f":"VLOOKUP(A72,LevelbattleConfig!A:R,18,FALSE)","v":5},"1007","","","","",1007]
[4004,{"$f":"VLOOKUP(A73,LevelbattleConfig!A:B,2,FALSE)","v":"支线-馨儿-发现信使"},{"$f":"VLOOKUP(A73,LevelbattleConfig!A:R,18,FALSE)","v":5},{"$f":"_xlfn.TEXTJOIN(\";\",1,I73:K73)","v":"1008"},{"$f":"_xlfn.TEXTJOIN(\";\",1,L73:N73)","v":""},{"$f":"_xlfn.TEXTJOIN(\";\",1,O73:Q73)","v":""},{"$f":"_xlfn.TEXTJOIN(\";\",1,R73:T73)","v":""},{"$f":"_xlfn.TEXTJOIN(\";\",1,U73:W73)","v":""},1008]
[4005,{"$f":"VLOOKUP(A74,LevelbattleConfig!A:B,2,FALSE)","v":"支线-馨儿-发现信使"},{"$f":"VLOOKUP(A74,LevelbattleConfig!A:R,18,FALSE)","v":5},"1001","","","","",1001]
[4006,{"$f":"VLOOKUP(A75,LevelbattleConfig!A:B,2,FALSE)","v":"支线-馨儿-风灵鸟的宝藏"},{"$f":"VLOOKUP(A75,LevelbattleConfig!A:R,18,FALSE)","v":11},"1005","","","","",1005]
[4007,{"$f":"VLOOKUP(A76,LevelbattleConfig!A:B,2,FALSE)","v":"支线-馨儿-浮岛灵泉的净化"},{"$f":"VLOOKUP(A76,LevelbattleConfig!A:R,18,FALSE)","v":11},"1006","","","","",1006]
[4008,{"$f":"VLOOKUP(A77,LevelbattleConfig!A:B,2,FALSE)","v":"支线-馨儿-浮岛盗修的阴谋"},{"$f":"VLOOKUP(A77,LevelbattleConfig!A:R,18,FALSE)","v":11},"1007","","","","",1007]
[4009,{"$f":"VLOOKUP(A78,LevelbattleConfig!A:B,2,FALSE)","v":"支线-柳轻烟-找到血海宗的人"},{"$f":"VLOOKUP(A78,LevelbattleConfig!A:R,18,FALSE)","v":21},"1008","","","","",1008]
[4010,{"$f":"VLOOKUP(A79,LevelbattleConfig!A:B,2,FALSE)","v":"支线-柳轻烟-找到血海宗的人2"},{"$f":"VLOOKUP(A79,LevelbattleConfig!A:R,18,FALSE)","v":21},{"$f":"_xlfn.TEXTJOIN(\";\",1,I79:K79)","v":"1001"},{"$f":"_xlfn.TEXTJOIN(\";\",1,L79:N79)","v":""},{"$f":"_xlfn.TEXTJOIN(\";\",1,O79:Q79)","v":""},{"$f":"_xlfn.TEXTJOIN(\";\",1,R79:T79)","v":""},{"$f":"_xlfn.TEXTJOIN(\";\",1,U79:W79)","v":""},1001]
[4011,{"$f":"VLOOKUP(A80,LevelbattleConfig!A:B,2,FALSE)","v":"支线-馨儿-灵花"},{"$f":"VLOOKUP(A80,LevelbattleConfig!A:R,18,FALSE)","v":31},"1005","","","","",1005]
[4012,{"$f":"VLOOKUP(A81,LevelbattleConfig!A:B,2,FALSE)","v":"支线-馨儿-散修劫掠"},{"$f":"VLOOKUP(A81,LevelbattleConfig!A:R,18,FALSE)","v":31},"1006","","","","",1006]
[4013,{"$f":"VLOOKUP(A82,LevelbattleConfig!A:B,2,FALSE)","v":"支线-馨儿-散修劫掠2"},{"$f":"VLOOKUP(A82,LevelbattleConfig!A:R,18,FALSE)","v":31},"1007","","","","",1007]
[4014,{"$f":"VLOOKUP(A83,LevelbattleConfig!A:B,2,FALSE)","v":"支线-楚云缪-青狼散人"},{"$f":"VLOOKUP(A83,LevelbattleConfig!A:R,18,FALSE)","v":31},"1008","","","","",1008]
[4015,{"$f":"VLOOKUP(A84,LevelbattleConfig!A:B,2,FALSE)","v":"支线-血海宗的掠夺-血海宗的掠夺"},{"$f":"VLOOKUP(A84,LevelbattleConfig!A:R,18,FALSE)","v":41},"1001","","","","",1001]
[4016,{"$f":"VLOOKUP(A85,LevelbattleConfig!A:B,2,FALSE)","v":"支线-林风-逃离追杀"},{"$f":"VLOOKUP(A85,LevelbattleConfig!A:R,18,FALSE)","v":41},"1005","","","","",1005]
[4017,{"$f":"VLOOKUP(A86,LevelbattleConfig!A:B,2,FALSE)","v":"支线-林风-血海宗弟子"},{"$f":"VLOOKUP(A86,LevelbattleConfig!A:R,18,FALSE)","v":41},"1006","","","","",1006]
[4018,{"$f":"VLOOKUP(A87,LevelbattleConfig!A:B,2,FALSE)","v":"支线-林风-血海宗弟子"},{"$f":"VLOOKUP(A87,LevelbattleConfig!A:R,18,FALSE)","v":41},{"$f":"_xlfn.TEXTJOIN(\";\",1,I87:K87)","v":"1007"},{"$f":"_xlfn.TEXTJOIN(\";\",1,L87:N87)","v":""},{"$f":"_xlfn.TEXTJOIN(\";\",1,O87:Q87)","v":""},{"$f":"_xlfn.TEXTJOIN(\";\",1,R87:T87)","v":""},{"$f":"_xlfn.TEXTJOIN(\";\",1,U87:W87)","v":""},1007]
[4019,{"$f":"VLOOKUP(A88,LevelbattleConfig!A:B,2,FALSE)","v":"支线-林风-血海宗弟子"},{"$f":"VLOOKUP(A88,LevelbattleConfig!A:R,18,FALSE)","v":41},"1008","","","","",1008]
[4020,{"$f":"VLOOKUP(A89,LevelbattleConfig!A:B,2,FALSE)","v":"支线-林风后续-夺晶之战"},{"$f":"VLOOKUP(A89,LevelbattleConfig!A:R,18,FALSE)","v":61},"1001","","","","",1001]
[4021,{"$f":"VLOOKUP(A90,LevelbattleConfig!A:B,2,FALSE)","v":"支线-林风后续-夺晶之战"},{"$f":"VLOOKUP(A90,LevelbattleConfig!A:R,18,FALSE)","v":61},"1005","","","","",1005]
[4022,{"$f":"VLOOKUP(A91,LevelbattleConfig!A:B,2,FALSE)","v":"支线-林风后续-夺晶之战2-援军"},{"$f":"VLOOKUP(A91,LevelbattleConfig!A:R,18,FALSE)","v":61},"1006","","","","",1006]
[4023,{"$f":"VLOOKUP(A92,LevelbattleConfig!A:B,2,FALSE)","v":"支线-林风-消灭妖邪"},{"$f":"VLOOKUP(A92,LevelbattleConfig!A:R,18,FALSE)","v":81},"1007","","","","",1007]
[4024,{"$f":"VLOOKUP(A93,LevelbattleConfig!A:B,2,FALSE)","v":"支线-仙山异样-消灭仙山西边的妖物"},{"$f":"VLOOKUP(A93,LevelbattleConfig!A:R,18,FALSE)","v":111},"1008","","","","",1008]
[4025,{"$f":"VLOOKUP(A94,LevelbattleConfig!A:B,2,FALSE)","v":"支线-仙山异样-仙山异样的秘密"},{"$f":"VLOOKUP(A94,LevelbattleConfig!A:R,18,FALSE)","v":131},"1001","","","","",1001]
[]
[5001,{"$f":"VLOOKUP(A96,LevelbattleConfig!A:B,2,FALSE)","v":"通用-法宝掉落-品质1"},{"$f":"VLOOKUP(A96,LevelbattleConfig!A:P,16,FALSE)","v":-1},{"$f":"_xlfn.TEXTJOIN(\";\",1,I96:K96)","v":"1005"},{"$f":"_xlfn.TEXTJOIN(\";\",1,L96:N96)","v":"60"},{"$f":"_xlfn.TEXTJOIN(\";\",1,O96:Q96)","v":"60"},{"$f":"_xlfn.TEXTJOIN(\";\",1,R96:T96)","v":"60"},{"$f":"_xlfn.TEXTJOIN(\";\",1,U96:W96)","v":""},1005,null,null,60,null,null,60,null,null,60]
[5002,{"$f":"VLOOKUP(A97,LevelbattleConfig!A:B,2,FALSE)","v":"通用-法宝掉落-品质2"},{"$f":"VLOOKUP(A97,LevelbattleConfig!A:P,16,FALSE)","v":-1},"1006",{"$f":"_xlfn.TEXTJOIN(\";\",1,L97:N97)","v":"70"},{"$f":"_xlfn.TEXTJOIN(\";\",1,O97:Q97)","v":"70"},{"$f":"_xlfn.TEXTJOIN(\";\",1,R97:T97)","v":"70"},{"$f":"_xlfn.TEXTJOIN(\";\",1,U97:W97)","v":""},1006,null,null,70,null,null,70,null,null,70]
[5003,{"$f":"VLOOKUP(A98,LevelbattleConfig!A:B,2,FALSE)","v":"通用-法宝掉落-品质3"},{"$f":"VLOOKUP(A98,LevelbattleConfig!A:P,16,FALSE)","v":-1},"1007","80","80","80","",1007,null,null,80,null,null,80,null,null,80]
[5004,{"$f":"VLOOKUP(A99,LevelbattleConfig!A:B,2,FALSE)","v":"通用-法宝掉落-品质4"},{"$f":"VLOOKUP(A99,LevelbattleConfig!A:P,16,FALSE)","v":-1},"1008","90","90","90","",1008,null,null,90,null,null,90,null,null,90]
[5005,{"$f":"VLOOKUP(A100,LevelbattleConfig!A:B,2,FALSE)","v":"通用-法宝掉落-品质5"},{"$f":"VLOOKUP(A100,LevelbattleConfig!A:P,16,FALSE)","v":-1},"1001","100","100","100","",1001,null,null,100,null,null,100,null,null,100]
[5006,{"$f":"VLOOKUP(A101,LevelbattleConfig!A:B,2,FALSE)","v":"通用-功法掉落-品质1"},{"$f":"VLOOKUP(A101,LevelbattleConfig!A:P,16,FALSE)","v":-1},"1005","60","60","60","",1005,null,null,60,null,null,60,null,null,60]
[5007,{"$f":"VLOOKUP(A102,LevelbattleConfig!A:B,2,FALSE)","v":"通用-功法掉落-品质2"},{"$f":"VLOOKUP(A102,LevelbattleConfig!A:P,16,FALSE)","v":-1},"1006","70","70","70","",1006,null,null,70,null,null,70,null,null,70]
[5008,{"$f":"VLOOKUP(A103,LevelbattleConfig!A:B,2,FALSE)","v":"通用-功法掉落-品质3"},{"$f":"VLOOKUP(A103,LevelbattleConfig!A:P,16,FALSE)","v":-1},"1007","80","80","80","",1007,null,null,80,null,null,80,null,null,80]
[5009,{"$f":"VLOOKUP(A104,LevelbattleConfig!A:B,2,FALSE)","v":"通用-功法掉落-品质4"},{"$f":"VLOOKUP(A104,LevelbattleConfig!A:P,16,FALSE)","v":-1},"1008","90","90","90","",1008,null,null,90,null,null,90,null,null,90]
[5010,{"$f":"VLOOKUP(A105,LevelbattleConfig!A:B,2,FALSE)","v":"通用-功法掉落-品质5"},{"$f":"VLOOKUP(A105,LevelbattleConfig!A:P,16,FALSE)","v":-1},"1001","100","100","100","",1001,null,null,100,null,null,100,null,null,100]
[]
[2001,"命运峰-第1层",{"$f":"VLOOKUP(A107,[2]TowerInfoConfig!$H:$O,8,FALSE)","v":20},{"$f":"_xlfn.TEXTJOIN(\";\",1,I107:K107)","v":"5001"},{"$f":"_xlfn.TEXTJOIN(\";\",1,L107:N107)","v":""},{"$f":"_xlfn.TEXTJOIN(\";\",1,O107:Q107)","v":""},{"$f":"_xlfn.TEXTJOIN(\";\",1,R107:T107)","v":""},{"$f":"_xlfn.TEXTJOIN(\";\",1,U107:W107)","v":""},5001]
[2002,"命运峰-第2层",{"$f":"VLOOKUP(A108,[2]TowerInfoConfig!$H:$O,8,FALSE)","v":23},"5002","","","","",5002]
[2003,"命运峰-第3层",{"$f":"VLOOKUP(A109,[2]TowerInfoConfig!$H:$O,8,FALSE)","v":26},"5003","","","","",5003]
[2004,"命运峰-第4层",{"$f":"VLOOKUP(A110,[2]TowerInfoConfig!$H:$O,8,FALSE)","v":29},"5004","","","","",5004]
[2005,"命运峰-第5层",{"$f":"VLOOKUP(A111,[2]TowerInfoConfig!$H:$O,8,FALSE)","v":32},"9001","","","","",9001]
[2006,"命运峰-第6层",{"$f":"VLOOKUP(A112,[2]TowerInfoConfig!$H:$O,8,FALSE)","v":35},"5004","","","","",5004]
[2007,"命运峰-第7层",{"$f":"VLOOKUP(A113,[2]TowerInfoConfig!$H:$O,8,FALSE)","v":38},"5005","","","","",5005]
[2008,"命运峰-第8层",{"$f":"VLOOKUP(A114,[2]TowerInfoConfig!$H:$O,8,FALSE)","v":41},"5006","","","","",5006]
[2009,"命运峰-第9层",{"$f":"VLOOKUP(A115,[2]TowerInfoConfig!$H:$O,8,FALSE)","v":44},"5007","","","","",5007]
[2010,"命运峰-第10层",{"$f":"VLOOKUP(A116,[2]TowerInfoConfig!$H:$O,8,FALSE)","v":47},"9002","","","","",9002]
[2011,"命运峰-第11层",{"$f":"VLOOKUP(A117,[2]TowerInfoConfig!$H:$O,8,FALSE)","v":50},"5001","","","","",5001]
[2012,"命运峰-第12层",{"$f":"VLOOKUP(A118,[2]TowerInfoConfig!$H:$O,8,FALSE)","v":53},"5002","","","","",5002]
[2013,"命运峰-第13层",{"$f":"VLOOKUP(A119,[2]TowerInfoConfig!$H:$O,8,FALSE)","v":56},"5003","","","","",5003]
[2014,"命运峰-第14层",{"$f":"VLOOKUP(A120,[2]TowerInfoConfig!$H:$O,8,FALSE)","v":59},"5004","","","","",5004]
[2015,"命运峰-第15层",{"$f":"VLOOKUP(A121,[2]TowerInfoConfig!$H:$O,8,FALSE)","v":62},"9003","","","","",9003]
[2016,"命运峰-第16层",{"$f":"VLOOKUP(A122,[2]TowerInfoConfig!$H:$O,8,FALSE)","v":65},"5004","","","","",5004]
[2017,"命运峰-第17层",{"$f":"VLOOKUP(A123,[2]TowerInfoConfig!$H:$O,8,FALSE)","v":68},"5005","","","","",5005]
[2018,"命运峰-第18层",{"$f":"VLOOKUP(A124,[2]TowerInfoConfig!$H:$O,8,FALSE)","v":71},"5006","","","","",5006]
[2019,"命运峰-第19层",{"$f":"VLOOKUP(A125,[2]TowerInfoConfig!$H:$O,8,FALSE)","v":74},"5007","","","","",5007]
[2020,"命运峰-第20层",{"$f":"VLOOKUP(A126,[2]TowerInfoConfig!$H:$O,8,FALSE)","v":77},"9004","","","","",9004]
[2021,"命运峰-第21层",{"$f":"VLOOKUP(A127,[2]TowerInfoConfig!$H:$O,8,FALSE)","v":80},{"$f":"_xlfn.TEXTJOIN(\";\",1,I127:K127)","v":"5001"},{"$f":"_xlfn.TEXTJOIN(\";\",1,L127:N127)","v":""},{"$f":"_xlfn.TEXTJOIN(\";\",1,O127:Q127)","v":""},{"$f":"_xlfn.TEXTJOIN(\";\",1,R127:T127)","v":""},{"$f":"_xlfn.TEXTJOIN(\";\",1,U127:W127)","v":""},5001]
[2022,"命运峰-第22层",{"$f":"VLOOKUP(A128,[2]TowerInfoConfig!$H:$O,8,FALSE)","v":83},"5002","","","","",5002]
[2023,"命运峰-第23层",{"$f":"VLOOKUP(A129,[2]TowerInfoConfig!$H:$O,8,FALSE)","v":86},"5003","","","","",5003]
[2024,"命运峰-第24层",{"$f":"VLOOKUP(A130,[2]TowerInfoConfig!$H:$O,8,FALSE)","v":89},"5004","","","","",5004]
[2025,"命运峰-第25层",{"$f":"VLOOKUP(A131,[2]TowerInfoConfig!$H:$O,8,FALSE)","v":92},"9005","","","","",9005]
[2026,"命运峰-第26层",{"$f":"VLOOKUP(A132,[2]TowerInfoConfig!$H:$O,8,FALSE)","v":95},"5004","","","","",5004]
[2027,"命运峰-第27层",{"$f":"VLOOKUP(A133,[2]TowerInfoConfig!$H:$O,8,FALSE)","v":98},"5005","","","","",5005]
[2028,"命运峰-第28层",{"$f":"VLOOKUP(A134,[2]TowerInfoConfig!$H:$O,8,FALSE)","v":101},"5006","","","","",5006]
[2029,"命运峰-第29层",{"$f":"VLOOKUP(A135,[2]TowerInfoConfig!$H:$O,8,FALSE)","v":104},"5007","","","","",5007]
[2030,"命运峰-第30层",{"$f":"VLOOKUP(A136,[2]TowerInfoConfig!$H:$O,8,FALSE)","v":107},"9006","","","","",9006]
[2031,"命运峰-第31层",{"$f":"VLOOKUP(A137,[2]TowerInfoConfig!$H:$O,8,FALSE)","v":110},"5001","","","","",5001]
[2032,"命运峰-第32层",{"$f":"VLOOKUP(A138,[2]TowerInfoConfig!$H:$O,8,FALSE)","v":113},"5002","","","","",5002]
[2033,"命运峰-第33层",{"$f":"VLOOKUP(A139,[2]TowerInfoConfig!$H:$O,8,FALSE)","v":116},"5003","","","","",5003]
[2034,"命运峰-第34层",{"$f":"VLOOKUP(A140,[2]TowerInfoConfig!$H:$O,8,FALSE)","v":119},"5004","","","","",5004]
[2035,"命运峰-第35层",{"$f":"VLOOKUP(A141,[2]TowerInfoConfig!$H:$O,8,FALSE)","v":122},"9001","","","","",9001]
[2036,"命运峰-第36层",{"$f":"VLOOKUP(A142,[2]TowerInfoConfig!$H:$O,8,FALSE)","v":125},"5004","","","","",5004]
[2037,"命运峰-第37层",{"$f":"VLOOKUP(A143,[2]TowerInfoConfig!$H:$O,8,FALSE)","v":128},"5005","","","","",5005]
[2038,"命运峰-第38层",{"$f":"VLOOKUP(A144,[2]TowerInfoConfig!$H:$O,8,FALSE)","v":131},"5006","","","","",5006]
[2039,"命运峰-第39层",{"$f":"VLOOKUP(A145,[2]TowerInfoConfig!$H:$O,8,FALSE)","v":134},"5007","","","","",5007]
[2040,"命运峰-第40层",{"$f":"VLOOKUP(A146,[2]TowerInfoConfig!$H:$O,8,FALSE)","v":137},"9002","","","","",9002]
[2041,"命运峰-第41层",{"$f":"VLOOKUP(A147,[2]TowerInfoConfig!$H:$O,8,FALSE)","v":140},"5001","","","","",5001]
[2042,"命运峰-第42层",{"$f":"VLOOKUP(A148,[2]TowerInfoConfig!$H:$O,8,FALSE)","v":143},"5002","","","","",5002]
[2043,"命运峰-第43层",{"$f":"VLOOKUP(A149,[2]TowerInfoConfig!$H:$O,8,FALSE)","v":146},"5003","","","","",5003]
[2044,"命运峰-第44层",{"$f":"VLOOKUP(A150,[2]TowerInfoConfig!$H:$O,8,FALSE)","v":149},"5004","","","","",5004]
[2045,"命运峰-第45层",{"$f":"VLOOKUP(A151,[2]TowerInfoConfig!$H:$O,8,FALSE)","v":152},"9003","","","","",9003]
[2046,"命运峰-第46层",{"$f":"VLOOKUP(A152,[2]TowerInfoConfig!$H:$O,8,FALSE)","v":155},"5004","","","","",5004]
[2047,"命运峰-第47层",{"$f":"VLOOKUP(A153,[2]TowerInfoConfig!$H:$O,8,FALSE)","v":158},"5005","","","","",5005]
[2048,"命运峰-第48层",{"$f":"VLOOKUP(A154,[2]TowerInfoConfig!$H:$O,8,FALSE)","v":161},"5006","","","","",5006]
[2049,"命运峰-第49层",{"$f":"VLOOKUP(A155,[2]TowerInfoConfig!$H:$O,8,FALSE)","v":164},"5007","","","","",5007]
[2050,"命运峰-第50层",{"$f":"VLOOKUP(A156,[2]TowerInfoConfig!$H:$O,8,FALSE)","v":167},"9004","","","","",9004]
[2051,"命运峰-第51层",{"$f":"VLOOKUP(A157,[2]TowerInfoConfig!$H:$O,8,FALSE)","v":170},"5001","","","","",5001]
[2052,"命运峰-第52层",{"$f":"VLOOKUP(A158,[2]TowerInfoConfig!$H:$O,8,FALSE)","v":173},"5002","","","","",5002]
[2053,"命运峰-第53层",{"$f":"VLOOKUP(A159,[2]TowerInfoConfig!$H:$O,8,FALSE)","v":176},"5003","","","","",5003]
[2054,"命运峰-第54层",{"$f":"VLOOKUP(A160,[2]TowerInfoConfig!$H:$O,8,FALSE)","v":179},"5004","","","","",5004]
[2055,"命运峰-第55层",{"$f":"VLOOKUP(A161,[2]TowerInfoConfig!$H:$O,8,FALSE)","v":182},"9005","","","","",9005]
[2056,"命运峰-第56层",{"$f":"VLOOKUP(A162,[2]TowerInfoConfig!$H:$O,8,FALSE)","v":185},"5004","","","","",5004]
[2057,"命运峰-第57层",{"$f":"VLOOKUP(A163,[2]TowerInfoConfig!$H:$O,8,FALSE)","v":188},"5005","","","","",5005]
[2058,"命运峰-第58层",{"$f":"VLOOKUP(A164,[2]TowerInfoConfig!$H:$O,8,FALSE)","v":191},"5006","","","","",5006]
[2059,"命运峰-第59层",{"$f":"VLOOKUP(A165,[2]TowerInfoConfig!$H:$O,8,FALSE)","v":194},"5007","","","","",5007]
[2060,"命运峰-第60层",{"$f":"VLOOKUP(A166,[2]TowerInfoConfig!$H:$O,8,FALSE)","v":197},"9006","","","","",9006]
[2061,"命运峰-第61层",{"$f":"VLOOKUP(A167,[2]TowerInfoConfig!$H:$O,8,FALSE)","v":200},"5001","","","","",5001]
[2062,"命运峰-第62层",{"$f":"VLOOKUP(A168,[2]TowerInfoConfig!$H:$O,8,FALSE)","v":203},"5002","","","","",5002]
[2063,"命运峰-第63层",{"$f":"VLOOKUP(A169,[2]TowerInfoConfig!$H:$O,8,FALSE)","v":206},"5003","","","","",5003]
[2064,"命运峰-第64层",{"$f":"VLOOKUP(A170,[2]TowerInfoConfig!$H:$O,8,FALSE)","v":209},"5004","","","","",5004]
[2065,"命运峰-第65层",{"$f":"VLOOKUP(A171,[2]TowerInfoConfig!$H:$O,8,FALSE)","v":212},"9001","","","","",9001]
[2066,"命运峰-第66层",{"$f":"VLOOKUP(A172,[2]TowerInfoConfig!$H:$O,8,FALSE)","v":215},"5004","","","","",5004]
[2067,"命运峰-第67层",{"$f":"VLOOKUP(A173,[2]TowerInfoConfig!$H:$O,8,FALSE)","v":218},"5005","","","","",5005]
[2068,"命运峰-第68层",{"$f":"VLOOKUP(A174,[2]TowerInfoConfig!$H:$O,8,FALSE)","v":221},"5006","","","","",5006]
[2069,"命运峰-第69层",{"$f":"VLOOKUP(A175,[2]TowerInfoConfig!$H:$O,8,FALSE)","v":224},"5007","","","","",5007]
[2070,"命运峰-第70层",{"$f":"VLOOKUP(A176,[2]TowerInfoConfig!$H:$O,8,FALSE)","v":227},"9002","","","","",9002]
[2071,"命运峰-第71层",{"$f":"VLOOKUP(A177,[2]TowerInfoConfig!$H:$O,8,FALSE)","v":230},"5001","","","","",5001]
[2072,"命运峰-第72层",{"$f":"VLOOKUP(A178,[2]TowerInfoConfig!$H:$O,8,FALSE)","v":233},"5002","","","","",5002]
[2073,"命运峰-第73层",{"$f":"VLOOKUP(A179,[2]TowerInfoConfig!$H:$O,8,FALSE)","v":236},"5003","","","","",5003]
[2074,"命运峰-第74层",{"$f":"VLOOKUP(A180,[2]TowerInfoConfig!$H:$O,8,FALSE)","v":239},"5004","","","","",5004]
[2075,"命运峰-第75层",{"$f":"VLOOKUP(A181,[2]TowerInfoConfig!$H:$O,8,FALSE)","v":242},"9003","","","","",9003]
[2076,"命运峰-第76层",{"$f":"VLOOKUP(A182,[2]TowerInfoConfig!$H:$O,8,FALSE)","v":245},"5004","","","","",5004]
[2077,"命运峰-第77层",{"$f":"VLOOKUP(A183,[2]TowerInfoConfig!$H:$O,8,FALSE)","v":248},"5005","","","","",5005]
[2078,"命运峰-第78层",{"$f":"VLOOKUP(A184,[2]TowerInfoConfig!$H:$O,8,FALSE)","v":251},"5006","","","","",5006]
[2079,"命运峰-第79层",{"$f":"VLOOKUP(A185,[2]TowerInfoConfig!$H:$O,8,FALSE)","v":254},"5007","","","","",5007]
[2080,"命运峰-第80层",{"$f":"VLOOKUP(A186,[2]TowerInfoConfig!$H:$O,8,FALSE)","v":257},"9004","","","","",9004]
[2081,"命运峰-第81层",{"$f":"VLOOKUP(A187,[2]TowerInfoConfig!$H:$O,8,FALSE)","v":260},"5001","","","","",5001]
[2082,"命运峰-第82层",{"$f":"VLOOKUP(A188,[2]TowerInfoConfig!$H:$O,8,FALSE)","v":263},"5002","","","","",5002]
[2083,"命运峰-第83层",{"$f":"VLOOKUP(A189,[2]TowerInfoConfig!$H:$O,8,FALSE)","v":266},"5003","","","","",5003]
[2084,"命运峰-第84层",{"$f":"VLOOKUP(A190,[2]TowerInfoConfig!$H:$O,8,FALSE)","v":268},"5004","","","","",5004]
[2085,"命运峰-第85层",{"$f":"VLOOKUP(A191,[2]TowerInfoConfig!$H:$O,8,FALSE)","v":270},{"$f":"_xlfn.TEXTJOIN(\";\",1,I191:K191)","v":"9005"},{"$f":"_xlfn.TEXTJOIN(\";\",1,L191:N191)","v":""},{"$f":"_xlfn.TEXTJOIN(\";\",1,O191:Q191)","v":""},{"$f":"_xlfn.TEXTJOIN(\";\",1,R191:T191)","v":""},{"$f":"_xlfn.TEXTJOIN(\";\",1,U191:W191)","v":""},9005]
[2086,"命运峰-第86层",{"$f":"VLOOKUP(A192,[2]TowerInfoConfig!$H:$O,8,FALSE)","v":272},"5004","","","","",5004]
[2087,"命运峰-第87层",{"$f":"VLOOKUP(A193,[2]TowerInfoConfig!$H:$O,8,FALSE)","v":274},"5005","","","","",5005]
[2088,"命运峰-第88层",{"$f":"VLOOKUP(A194,[2]TowerInfoConfig!$H:$O,8,FALSE)","v":276},"5006","","","","",5006]
[2089,"命运峰-第89层",{"$f":"VLOOKUP(A195,[2]TowerInfoConfig!$H:$O,8,FALSE)","v":278},"5007","","","","",5007]
[2090,"命运峰-第90层",{"$f":"VLOOKUP(A196,[2]TowerInfoConfig!$H:$O,8,FALSE)","v":280},"9006","","","","",9006]
[2091,"命运峰-第91层",{"$f":"VLOOKUP(A197,[2]TowerInfoConfig!$H:$O,8,FALSE)","v":282},"5001","","","","",5001]
[2092,"命运峰-第92层",{"$f":"VLOOKUP(A198,[2]TowerInfoConfig!$H:$O,8,FALSE)","v":284},"5002","","","","",5002]
[2093,"命运峰-第93层",{"$f":"VLOOKUP(A199,[2]TowerInfoConfig!$H:$O,8,FALSE)","v":286},"5003","","","","",5003]
[2094,"命运峰-第94层",{"$f":"VLOOKUP(A200,[2]TowerInfoConfig!$H:$O,8,FALSE)","v":288},"5004","","","","",5004]
[2095,"命运峰-第95层",{"$f":"VLOOKUP(A201,[2]TowerInfoConfig!$H:$O,8,FALSE)","v":290},"9005","","","","",9005]
[2096,"命运峰-第96层",{"$f":"VLOOKUP(A202,[2]TowerInfoConfig!$H:$O,8,FALSE)","v":292},"5004","","","","",5004]
[2097,"命运峰-第97层",{"$f":"VLOOKUP(A203,[2]TowerInfoConfig!$H:$O,8,FALSE)","v":294},"5005","","","","",5005]
[2098,"命运峰-第98层",{"$f":"VLOOKUP(A204,[2]TowerInfoConfig!$H:$O,8,FALSE)","v":296},"5006","","","","",5006]
[2099,"命运峰-第99层",{"$f":"VLOOKUP(A205,[2]TowerInfoConfig!$H:$O,8,FALSE)","v":298},"5007","","","","",5007]
[2100,"命运峰-第100层",{"$f":"VLOOKUP(A206,[2]TowerInfoConfig!$H:$O,8,FALSE)","v":300},"9006","","","","",9006]

{"sheet":"强度验算","index":2,"n_rows":38,"n_cols":14,"rows_kept":38,"cut":false,"hidden":false,"merged":[]}
[null,"生存修正","生命","攻击修正","对拼修正","秒伤","怪物存活时间",null,"玩家打怪物",null,null,"怪物打玩家"]
[{"$nulls":8},"阶段1","阶段2",null,"阶段1","阶段2"]
["怪物1",null,2000,null,null,100,{"$f":"C3/100","v":20},null,{"$f":"G3*F3","v":2000}]
[]
[{"$nulls":6},1.2,null,{"$f":"SUM(I6:I7)","v":1800},{"$f":"SUM(J6:J7)","v":600},null,{"$f":"SUM(L6:L7)","v":1846.05},{"$f":"SUM(M6:M7)","v":153.94999999999999},{"$f":"SUM(L5:M5)","v":2000}]
["主怪",0.9,{"$f":"C$3*$B6","v":1800},0.76900000000000002,{"$f":"B6/SUM(B$6:B$7)","v":0.75},{"$f":"F$3*$D6","v":76.900000000000006},{"$f":"C6/F$3","v":18},{"$f":"B6/D6","v":1.1703511053316},{"$f":"G6*F$3","v":1800},null,null,{"$f":"F6*G6","v":1384.2}]
["辅怪1",{"$f":"C7/C$3","v":0.3},{"$f":"J7","v":600},{"$f":"F7/F$3","v":0.256583333333333},{"$f":"B7/SUM(B$6:B$7)","v":0.25},{"$f":"(C$3-L6)/G7","v":25.658333333333299},{"$f":"G$3*G5","v":24},{"$f":"B7/D7","v":1.16921078272166},null,{"$f":"F$3*(G7-G6)","v":600},null,{"$f":"F7*G6","v":461.85},{"$f":"C$3-L5","v":153.94999999999999}]
[]
[{"$nulls":6},{"$f":"G5","v":1.2},null,{"$f":"SUM(I10:I11)","v":1600},{"$f":"SUM(J10:J11)","v":800},null,{"$f":"SUM(L10:L11)","v":1714.13333333333},{"$f":"SUM(M10:M11)","v":285.86666666666702},{"$f":"SUM(L9:M9)","v":2000}]
["主怪",0.8,{"$f":"C$3*$B10","v":1600},0.71399999999999997,{"$f":"B10/SUM(B$10:B$11)","v":0.66666666666666696},{"$f":"F$3*$D10","v":71.400000000000006},{"$f":"C10/F$3","v":16},{"$f":"B10/D10","v":1.12044817927171},{"$f":"G10*F$3","v":1600},null,null,{"$f":"F10*G10","v":1142.4000000000001}]
["辅怪1",{"$f":"C11/C$3","v":0.4},{"$f":"J11","v":800},{"$f":"F11/F$3","v":0.357333333333333},{"$f":"B11/SUM(B$10:B$11)","v":0.33333333333333298},{"$f":"(C$3-L10)/G11","v":35.733333333333299},{"$f":"G$3*G9","v":24},{"$f":"B11/D11","v":1.1194029850746301},null,{"$f":"F$3*(G11-G10)","v":800},null,{"$f":"F11*G10","v":571.73333333333301},{"$f":"C$3-L9","v":285.86666666666702}]
[]
[{"$nulls":6},{"$f":"G5","v":1.2},null,{"$f":"SUM(I14:I15)","v":1400},{"$f":"SUM(J14:J15)","v":1000},null,{"$f":"SUM(L14:L15)","v":1541.1666666666699},{"$f":"SUM(M14:M15)","v":458.83333333333297},{"$f":"SUM(L13:M13)","v":2000}]
["主怪",0.7,{"$f":"C$3*$B14","v":1400},0.64200000000000002,{"$f":"B14/SUM(B$14:B$15)","v":0.58333333333333304},{"$f":"F$3*$D14","v":64.2},{"$f":"C14/F$3","v":14},{"$f":"B14/D14","v":1.09034267912773},{"$f":"G14*F$3","v":1400},null,null,{"$f":"F14*G14","v":898.8}]
["辅怪1",{"$f":"C15/C$3","v":0.5},{"$f":"J15","v":1000},{"$f":"F15/F$3","v":0.45883333333333298},{"$f":"B15/SUM(B$14:B$15)","v":0.41666666666666702},{"$f":"(C$3-L14)/G15","v":45.883333333333297},{"$f":"G$3*G13","v":24},{"$f":"B15/D15","v":1.0897203051216899},null,{"$f":"F$3*(G15-G14)","v":1000},null,{"$f":"F15*G14","v":642.36666666666702},{"$f":"C$3-L13","v":458.83333333333297}]
[]
[{"$nulls":6},{"$f":"G5","v":1.2},null,{"$f":"SUM(I18:I19)","v":1200},{"$f":"SUM(J18:J19)","v":1200},null,{"$f":"SUM(L18:L19)","v":1333.6},{"$f":"SUM(M18:M19)","v":666.4},{"$f":"SUM(L17:M17)","v":2000}]
["主怪",0.6,{"$f":"C$3*$B18","v":1200},0.55600000000000005,{"$f":"B18/SUM(B$18:B$19)","v":0.5},{"$f":"F$3*$D18","v":55.6},{"$f":"C18/F$3","v":12},{"$f":"B18/D18","v":1.07913669064748},{"$f":"G18*F$3","v":1200},null,null,{"$f":"F18*G18","v":667.2}]
["辅怪1",{"$f":"C19/C$3","v":0.6},{"$f":"J19","v":1200},{"$f":"F19/F$3","v":0.55533333333333301},{"$f":"B19/SUM(B$18:B$19)","v":0.5},{"$f":"(C$3-L18)/G19","v":55.533333333333303},{"$f":"G$3*G17","v":24},{"$f":"B19/D19","v":1.0804321728691499},null,{"$f":"F$3*(G19-G18)","v":1200},null,{"$f":"F19*G18","v":666.4},{"$f":"C$3-L17","v":666.4}]
[]
[]
[]
[]
[{"$nulls":6},1.3,null,{"$f":"SUM(I25:I26)","v":1800},{"$f":"SUM(J25:J26)","v":800},null,{"$f":"SUM(L25:L26)","v":1810.52307692308},{"$f":"SUM(M25:M26)","v":189.47692307692299},{"$f":"SUM(L24:M24)","v":2000}]
["主怪",0.9,{"$f":"C$3*$B25","v":1800},0.76900000000000002,null,{"$f":"F$3*$D25","v":76.900000000000006},{"$f":"C25/F$3","v":18},{"$f":"B25/D25","v":1.1703511053316},{"$f":"G25*F$3","v":1800},null,null,{"$f":"F25*G25","v":1384.2}]
["辅怪1",{"$f":"C26/C$3","v":0.4},{"$f":"J26","v":800},{"$f":"F26/F$3","v":0.23684615384615401},null,{"$f":"(C$3-L25)/G26","v":23.684615384615402},{"$f":"G$3*G24","v":26},{"$f":"B26/D26","v":1.6888600194868499},null,{"$f":"F$3*(G26-G25)","v":800},null,{"$f":"F26*G25","v":426.323076923077},{"$f":"C$3-L24","v":189.47692307692299}]
[]
[{"$nulls":6},{"$f":"G24","v":1.3},null,{"$f":"SUM(I29:I30)","v":1600},{"$f":"SUM(J29:J30)","v":1000},null,{"$f":"SUM(L29:L30)","v":1670.1538461538501},{"$f":"SUM(M29:M30)","v":329.84615384615398},{"$f":"SUM(L28:M28)","v":2000}]
["主怪",0.8,{"$f":"C$3*$B29","v":1600},0.71399999999999997,null,{"$f":"F$3*$D29","v":71.400000000000006},{"$f":"C29/F$3","v":16},{"$f":"B29/D29","v":1.12044817927171},{"$f":"G29*F$3","v":1600},null,null,{"$f":"F29*G29","v":1142.4000000000001}]
["辅怪1",{"$f":"C30/C$3","v":0.5},{"$f":"J30","v":1000},{"$f":"F30/F$3","v":0.32984615384615401},null,{"$f":"(C$3-L29)/G30","v":32.984615384615402},{"$f":"G$3*G28","v":26},{"$f":"B30/D30","v":1.5158582089552199},null,{"$f":"F$3*(G30-G29)","v":1000},null,{"$f":"F30*G29","v":527.75384615384598},{"$f":"C$3-L28","v":329.84615384615398}]
[]
[{"$nulls":6},{"$f":"G24","v":1.3},null,{"$f":"SUM(I33:I34)","v":1400},{"$f":"SUM(J33:J34)","v":1200},null,{"$f":"SUM(L33:L34)","v":1491.75384615385},{"$f":"SUM(M33:M34)","v":508.24615384615402},{"$f":"SUM(L32:M32)","v":2000}]
["主怪",0.7,{"$f":"C$3*$B33","v":1400},0.64200000000000002,null,{"$f":"F$3*$D33","v":64.2},{"$f":"C33/F$3","v":14},{"$f":"B33/D33","v":1.09034267912773},{"$f":"G33*F$3","v":1400},null,null,{"$f":"F33*G33","v":898.8}]
["辅怪1",{"$f":"C34/C$3","v":0.6},{"$f":"J34","v":1200},{"$f":"F34/F$3","v":0.42353846153846098},null,{"$f":"(C$3-L33)/G34","v":42.353846153846099},{"$f":"G$3*G32","v":26},{"$f":"B34/D34","v":1.4166363966581901},null,{"$f":"F$3*(G34-G33)","v":1200},null,{"$f":"F34*G33","v":592.95384615384603},{"$f":"C$3-L32","v":508.24615384615402}]
[]
[{"$nulls":6},{"$f":"G24","v":1.3},null,{"$f":"SUM(I37:I38)","v":1200},{"$f":"SUM(J37:J38)","v":1400},null,{"$f":"SUM(L37:L38)","v":1282.33846153846},{"$f":"SUM(M37:M38)","v":717.66153846153804},{"$f":"SUM(L36:M36)","v":2000}]
["主怪",0.6,{"$f":"C$3*$B37","v":1200},0.55600000000000005,null,{"$f":"F$3*$D37","v":55.6},{"$f":"C37/F$3","v":12},{"$f":"B37/D37","v":1.07913669064748},{"$f":"G37*F$3","v":1200},null,null,{"$f":"F37*G37","v":667.2}]
["辅怪1",{"$f":"C38/C$3","v":0.7},{"$f":"J38","v":1400},{"$f":"F38/F$3","v":0.51261538461538503},null,{"$f":"(C$3-L37)/G38","v":51.2615384615385},{"$f":"G$3*G36","v":26},{"$f":"B38/D38","v":1.3655462184873901},null,{"$f":"F$3*(G38-G37)","v":1400},null,{"$f":"F38*G37","v":615.138461538461},{"$f":"C$3-L36","v":717.66153846153804}]