{"text_format":"2","workbook":"xlsx","n_sheets":6,"sheets":["EventConfig","EventLinkConfig","EventConditionConfig","条件类型查询","EventNPC","XianTuLogConfig"],"not_rendered":{"charts":0,"images":0,"macros":0,"external_links":0,"defined_names":3,"comments":0,"pivot_tables":0},"unopened":[],"bounds":{"document_bytes":16777216,"sheet_cells":100000,"run_cost":"one","rows_first":2000,"rows_last":500,"rows_between":2000,"halvings":0,"cell_chars":16384,"cell_head_chars":4096},"cells_cut":0,"cells_raw":0,"read":"whole","date_system":"1900"}

{"sheet":"EventConfig","index":0,"n_rows":42,"n_cols":40,"rows_kept":42,"cut":false,"hidden":false,"merged":[]}
["ID","EventLinksId","EventTriggerType","EventTag","EventType","Score","EventQuality",null,"PrizeIDs","PrizeNums","RelatedEvents","RefreshProbability","RefreshCount","placeID","XiantuID",null,"EventConditionId","EventValue","EventCount","EventName","Description"]
["int","int[]","int","int","int","int","int",null,"int[]","int[]","int[]","int","int","int","int",null,"int","int[]","int","int","int"]
[{"$nulls":24},1,2,3,4,5,6,7,8,9,10,11,12,13,14,15,16]
["ID","事件包含的ID","事件类型：\n1.通用事件\n2.挂机事件\n4.主线任务\n5.仙山探险\n99.无标记\n","tag\n1主线2支线\n3通用\n4地图通用\n5道友","1.正常触发\n2.直接结算","增加进度值","事件品质",null,"事件结局奖励","事件结局奖励数量","关联的事件Id","刷新的概率\n（100=100%）","最大刷新数量","属于哪张地图","仙途日志ID","触发条件","触发条件类型\n只能配处于什么状态和数值，不能配变化的数值","触发效果值","触发判定数量or次数","任务标题","任务详情界面的总描述","标题","整体描述","总步数","步骤1","步骤2","步骤3","步骤4","步骤5","步骤6","步骤7","步骤8","步骤9","步骤10","步骤11","步骤12","步骤13","步骤14","步骤15","步骤16"]
[1,{"$f":"_xlfn.TEXTJOIN(\";\",1,Y5:AN5)","v":"1001;1002;1003;1004;1005"},1,3,1,0,1,null,1001,10,null,null,null,8,4,{"$f":"IF(Q5=\"\",\"\",VLOOKUP(Q5,条件类型查询!A:B,2,FALSE))","v":"境界判断"},3,5,null,174,1936,"受伤的狼","你发现一只奄奄一息的狼，决定上前一探究竟。",null,1001,1002,1003,1004,1005]
[2,{"$f":"_xlfn.TEXTJOIN(\";\",1,Y6:AN6)","v":"1010;1011;1012;1013;1014;1015;1016"},1,3,1,0,1,null,1001,10,null,null,null,9,4,{"$f":"IF(Q6=\"\",\"\",VLOOKUP(Q6,条件类型查询!A:B,2,FALSE))","v":""},null,null,null,175,1937,"鹬蚌相争","附近的小树林闹的不可开交，你决定去看看怎么回事。",null,1010,1011,1012,1013,1014,1015,1016]
[3,"1020;1021;1022;1023;1024;1025;1026",99,2,1,10,1,null,1001,10,null,null,null,10,4,{"$f":"IF(Q7=\"\",\"\",VLOOKUP(Q7,条件类型查询!A:B,2,FALSE))","v":"拥有特定道具"},1,1004,1,176,1938,"鹬蚌相争2","附近的小树林闹的不可开交，你决定去看看怎么回事。",null,1020,1021,1022,1023,1024,1025,1026]
[null,"",{"$nulls":13},{"$f":"IF(Q8=\"\",\"\",VLOOKUP(Q8,条件类型查询!A:B,2,FALSE))","v":""}]
[4,"1030",1,1,2,0,1,null,1001,10,null,null,null,5,3,{"$f":"IF(Q9=\"\",\"\",VLOOKUP(Q9,条件类型查询!A:B,2,FALSE))","v":"触发概率"},7,500,null,217,1939,"溅血背包","不远处有一个小红点，走近一看你发现是一个带血的背包。",null,1030]
[5,"1040",1,1,2,0,1,null,1001,10,null,null,null,5,3,{"$f":"IF(Q10=\"\",\"\",VLOOKUP(Q10,条件类型查询!A:B,2,FALSE))","v":""},null,null,null,218,1940,"废弃矿山","底下一座矿山甚是磅礴雄伟，走，去看一看。",null,1040]
[6,"1050",1,1,2,0,1,null,1001,10,null,null,null,6,3,{"$f":"IF(Q11=\"\",\"\",VLOOKUP(Q11,条件类型查询!A:B,2,FALSE))","v":""},null,null,null,219,1941,"吵架声","你被一男一女的吵架声吸引。",null,1050]
[7,"1060",1,1,2,0,1,null,1001,10,null,null,null,7,3,{"$f":"IF(Q12=\"\",\"\",VLOOKUP(Q12,条件类型查询!A:B,2,FALSE))","v":""},null,null,null,220,1942,"一座道观","远处一座道观仙气缭绕，似有仙人在此。",null,1060]
[null,"",{"$nulls":13},{"$f":"IF(Q13=\"\",\"\",VLOOKUP(Q13,条件类型查询!A:B,2,FALSE))","v":""}]
[11,"1101;1102",2,null,1,0,1,null,1001,10,{"$nulls":5},{"$f":"IF(Q14=\"\",\"\",VLOOKUP(Q14,条件类型查询!A:B,2,FALSE))","v":""},{"$nulls":5},"遇到怪物1-修为",null,{"$f":"COUNTIF(EventLinkConfig!K:K,EventConfig!A14)","v":2},{"$f":"IF($X14>=Y$3,$A14*100+Y$3,\"\")","v":1101},{"$f":"IF($X14>=Z$3,$A14*100+Z$3,\"\")","v":1102},"","","","","","","","","",""]
[12,"1201;1202;1203",2,null,1,0,1,null,1001,10,{"$nulls":5},{"$f":"IF(Q15=\"\",\"\",VLOOKUP(Q15,条件类型查询!A:B,2,FALSE))","v":""},{"$nulls":5},"对话-功法灵气",null,{"$f":"COUNTIF(EventLinkConfig!K:K,EventConfig!A15)","v":3},{"$f":"IF($X15>=Y$3,$A15*100+Y$3,\"\")","v":1201},1202,1203,"","","","","","","","",""]
[13,"1301;1302;1303;1304",2,null,1,0,1,null,1001,10,{"$nulls":5},{"$f":"IF(Q16=\"\",\"\",VLOOKUP(Q16,条件类型查询!A:B,2,FALSE))","v":""},{"$nulls":5},"对话-法宝灵韵",null,{"$f":"COUNTIF(EventLinkConfig!K:K,EventConfig!A16)","v":4},{"$f":"IF($X16>=Y$3,$A16*100+Y$3,\"\")","v":1301},1302,1303,1304,"","","","","","","",""]
[14,"1401;1402",2,null,1,0,1,null,1001,10,{"$nulls":5},{"$f":"IF(Q17=\"\",\"\",VLOOKUP(Q17,条件类型查询!A:B,2,FALSE))","v":""},{"$nulls":5},"遇到怪物2-修为",null,{"$f":"COUNTIF(EventLinkConfig!K:K,EventConfig!A17)","v":2},{"$f":"IF($X17>=Y$3,$A17*100+Y$3,\"\")","v":1401},1402,"","","","","","","","","",""]
[15,"1501;1502",2,null,1,0,1,null,1001,10,{"$nulls":5},{"$f":"IF(Q18=\"\",\"\",VLOOKUP(Q18,条件类型查询!A:B,2,FALSE))","v":""},{"$nulls":5},"遇到怪物3-修为",null,{"$f":"COUNTIF(EventLinkConfig!K:K,EventConfig!A18)","v":2},{"$f":"IF($X18>=Y$3,$A18*100+Y$3,\"\")","v":1501},1502,"","","","","","","","","",""]
[null,"",{"$nulls":13},{"$f":"IF(Q19=\"\",\"\",VLOOKUP(Q19,条件类型查询!A:B,2,FALSE))","v":""}]
[null,"",{"$nulls":13},{"$f":"IF(Q20=\"\",\"\",VLOOKUP(Q20,条件类型查询!A:B,2,FALSE))","v":""}]
[10001,"1000101;1000102;1000103;1000104",4,1,1,10,1,null,1001,10,null,null,null,1,1,{"$f":"IF(Q21=\"\",\"\",VLOOKUP(Q21,条件类型查询!A:B,2,FALSE))","v":""},null,null,null,1906,1914,"鲲鹏何在","神识未灭",{"$f":"COUNTIF(EventLinkConfig!K:K,EventConfig!A21)","v":4},{"$f":"IF($X21>=Y$3,$A21*100+Y$3,\"\")","v":1000101},{"$f":"IF($X21>=Z$3,$A21*100+Z$3,\"\")","v":1000102},1000103,1000104,"","","","","","","","","","","",""]
[10002,"1000201;1000202;1000203",4,1,1,10,1,null,1001,10,null,null,null,1,1,{"$f":"IF(Q22=\"\",\"\",VLOOKUP(Q22,条件类型查询!A:B,2,FALSE))","v":""},null,null,null,1907,1915,"北海迷径1","御剑而行",{"$f":"COUNTIF(EventLinkConfig!K:K,EventConfig!A22)","v":3},{"$f":"IF($X22>=Y$3,$A22*100+Y$3,\"\")","v":1000201},1000202,1000203,"","","","","","","","","","","","",""]
[10003,"1000301;1000302;1000303;1000304;1000305;1000306;1000307;1000308;1000309",4,1,1,10,1,null,1001,10,null,null,null,1,1,{"$f":"IF(Q23=\"\",\"\",VLOOKUP(Q23,条件类型查询!A:B,2,FALSE))","v":""},null,null,null,1908,1916,"北海迷径2","雀笑大鹏",{"$f":"COUNTIF(EventLinkConfig!K:K,EventConfig!A23)","v":9},1000301,1000302,1000303,1000304,1000305,1000306,1000307,1000308,1000309,"","","","","","",""]
[10004,"1000401;1000402;1000403;1000404",4,1,1,10,1,null,1001,10,null,null,null,1,1,{"$f":"IF(Q24=\"\",\"\",VLOOKUP(Q24,条件类型查询!A:B,2,FALSE))","v":""},null,null,null,1909,1917,"古径阵法","击败结界兽",{"$f":"COUNTIF(EventLinkConfig!K:K,EventConfig!A24)","v":4},1000401,1000402,1000403,1000404,"","","","","","","","","","","",""]
[10005,"1000501;1000502;1000503;1000504;1000505;1000506;1000507;1000508;1000509;1000510;1000511;1000512;1000513;1000514",4,1,1,10,1,null,1001,10,null,null,null,1,1,{"$f":"IF(Q25=\"\",\"\",VLOOKUP(Q25,条件类型查询!A:B,2,FALSE))","v":""},null,null,null,2135,2137,"浮空之岛1","初见疯道人",{"$f":"COUNTIF(EventLinkConfig!K:K,EventConfig!A25)","v":14},1000501,1000502,1000503,1000504,1000505,1000506,1000507,1000508,1000509,1000510,1000511,1000512,1000513,1000514,"",""]
[10006,"1000601;1000602;1000603;1000604;1000605;1000606",4,1,1,10,1,null,1001,10,null,null,null,1,1,{"$f":"IF(Q26=\"\",\"\",VLOOKUP(Q26,条件类型查询!A:B,2,FALSE))","v":""},null,null,null,2136,2138,"浮空之岛2","筑基中期",{"$f":"COUNTIF(EventLinkConfig!K:K,EventConfig!A26)","v":6},1000601,1000602,1000603,1000604,1000605,1000606,"","","","","","","","","",""]
[null,""]
[1001,"1001;1002;1003;1004;1005",99,4,1,10,1,null,1001,10,{"$nulls":9},1943,1944,"受伤的鸟","你发现一只奄奄一息的鸟，决定上前一探究竟。",null,1001,1002,1003,1004,1005]
[null,""]
[20001,"1001;1002;1003;1004;1005",5,null,1,0,1,null,1001,10,{"$nulls":9},174,1936,"受伤的狼","你发现一只奄奄一息的狼，决定上前一探究竟。",null,1001,1002,1003,1004,1005]
[20002,"1010;1011;1012;1013;1014;1015;1016",5,null,1,0,1,null,1001,10,{"$nulls":5},{"$f":"IF(Q31=\"\",\"\",VLOOKUP(Q31,条件类型查询!A:B,2,FALSE))","v":""},null,null,null,175,1937,"鹬蚌相争","附近的小树林闹的不可开交，你决定去看看怎么回事。",null,1010,1011,1012,1013,1014,1015,1016]
[20003,"1001;1002;1003;1004;1005",5,null,1,0,1,null,1001,10,{"$nulls":9},1943,1944,"受伤的鸟","你发现一只奄奄一息的鸟，决定上前一探究竟。",null,1001,1002,1003,1004,1005]
[null,""]
[9001,"1001;1002;1003;1004;1005",99,3,1,0,1,null,1001,10,{"$nulls":9},174,1936,"受伤的狼","你发现一只奄奄一息的狼，决定上前一探究竟。",null,1001,1002,1003,1004,1005]
[9002,"1010;1011;1012;1013;1014;1015;1016",99,3,1,0,1,null,1001,10,{"$nulls":5},{"$f":"IF(Q35=\"\",\"\",VLOOKUP(Q35,条件类型查询!A:B,2,FALSE))","v":""},null,null,null,175,1937,"鹬蚌相争","附近的小树林闹的不可开交，你决定去看看怎么回事。",null,1010,1011,1012,1013,1014,1015,1016]
[9003,"9003;9004;9005;9006;9007;9008",99,5,1,0,1,null,1001,10,{"$nulls":9},2035,2036,"幽谷剑鸣","你在闭关修炼时，感受到一股凌厉的剑意波动。深入探查，发现一名白衣剑修“清霜”盘坐于谷中，周围剑气环绕，正与一柄散发不祥气息的灵剑对峙。她似在参悟剑诀，却灵气不足，剑灵桀骜。",null,9003,9004,9005,9006,9007,9008]
[]
[9025,"9025;9026",1,3,1,0,1,null,1001,10,null,null,null,1,2,{"$nulls":4},2067,2068,"惠子.没用的大葫芦","惠子种的葫芦没用，他非常生气"]
[]
[9014,9014,99,3,1,0,1,null,1001,10,9031,null,null,2,2,{"$nulls":4},2069,2070,"发现魔修","发现一群魔修，正在夺人钱财"]
[]
[9031,9031,99,3,1,0,1,null,1001,10,null,30,2,3,2,{"$nulls":4},2071,2072,"魔修","打败魔休"]

{"sheet":"EventLinkConfig","index":1,"n_rows":180,"n_cols":31,"rows_kept":180,"cut":false,"hidden":false,"merged":[]}
["ID","conciseEventMessage",null,"EventConditionMessage",null,"NPCID",null,"LanID",null,"DialogueType","EventID",null,"ConditionId",null,null,null,"optionType","optionPara1","optionPara2",{"$nulls":5},"PrizeIDs","PrizeNums","ResultType","ResultOptions"]
["int","int",null,"int",null,"int",null,"int[]",null,"int","int",null,"int[]",null,null,null,"int","int[]","int[]",{"$nulls":5},"int[]","int[]","int","int[]"]
[]
["条件ID","任务列表中的简洁描述","任务列表中的简洁描述","无任务目标时的补充文本","无任务目标时的补充文本","对话NPCID","NPC","对话","对话1","对话框类型","属于哪个事件","步骤","条件判断类型","任务目标1","任务目标2","条件判断内容","步骤类型\n1=提供选项\n2=进入战斗\n3=获得奖励\n4=扣除道具","事件常量1\n1=步骤IDs\n2=战斗ID","事件常量2\n1=事件文本","选择1","选择1","选择2","选择2",null,"事件结局奖励","事件结局奖励数量","事件结束类型\n1：跳转步骤\n2：根据战斗结果跳转\n3.触发新事件","事件结局后提供的选项\n1.EventLinkId\n2.胜利id;失败id\n3.EventConfigId"]
[100,{"$nulls":6},216,"你被怪物击败，神识也随之消散了。",null,null,null,{"$f":"_xlfn.TEXTJOIN(\";\",1,N5:O5)","v":""},null,null,{"$f":"IF(N5=\"\",\"\",\"-\"&VLOOKUP(N5,EventConditionConfig!A:C,3,FALSE)&IF(O5=\"\",\"\",CHAR(10)&\"-\"&VLOOKUP(O5,EventConditionConfig!A:C,3,FALSE)))","v":""}]
[101,{"$nulls":6},216,"你败下阵来，感到头晕目眩，试图努力回忆起刚才发生的事情。(回到主界面重新触发剧情）",null,null,null,{"$f":"_xlfn.TEXTJOIN(\";\",1,N6:O6)","v":""},null,null,{"$f":"IF(N6=\"\",\"\",\"-\"&VLOOKUP(N6,EventConditionConfig!A:C,3,FALSE)&IF(O6=\"\",\"\",CHAR(10)&\"-\"&VLOOKUP(O6,EventConditionConfig!A:C,3,FALSE)))","v":""}]
[{"$nulls":12},"",null,null,{"$f":"IF(N7=\"\",\"\",\"-\"&VLOOKUP(N7,EventConditionConfig!A:C,3,FALSE)&IF(O7=\"\",\"\",CHAR(10)&\"-\"&VLOOKUP(O7,EventConditionConfig!A:C,3,FALSE)))","v":""}]
[1001,177,null,null,null,2,null,177,"你遇到一只奄奄一息的野狼，从周围四散的血迹来看，想必它刚才经历了一场恶战。",null,null,null,"",null,null,{"$f":"IF(N8=\"\",\"\",\"-\"&VLOOKUP(N8,EventConditionConfig!A:C,3,FALSE)&IF(O8=\"\",\"\",CHAR(10)&\"-\"&VLOOKUP(O8,EventConditionConfig!A:C,3,FALSE)))","v":""},1,"1002;1003","198;199",null,"趁它虚弱赶紧除掉它！",null,"你不忍见它受苦，选择帮它减轻痛苦。"]
[1002,178,{"$nulls":5},178,"野狼用它最后一口气，朝你扑了过来！",null,null,null,"",null,null,{"$f":"IF(N9=\"\",\"\",\"-\"&VLOOKUP(N9,EventConditionConfig!A:C,3,FALSE)&IF(O9=\"\",\"\",CHAR(10)&\"-\"&VLOOKUP(O9,EventConditionConfig!A:C,3,FALSE)))","v":""},2,100001,{"$nulls":8},2,"1004;100"]
[1003,179,{"$nulls":5},179,"你抽出匕首准备了结它的生命，却发现怀中还躺着一只刚出生的狼崽。",null,null,null,"",null,null,{"$f":"IF(N10=\"\",\"\",\"-\"&VLOOKUP(N10,EventConditionConfig!A:C,3,FALSE)&IF(O10=\"\",\"\",CHAR(10)&\"-\"&VLOOKUP(O10,EventConditionConfig!A:C,3,FALSE)))","v":""},1,1005,200]
[1004,180,{"$nulls":5},180,"随着你的最后一击，野狼应声倒下，你罔顾它幽怨的眼神，从它怀中拿走了一些财物。",null,null,null,"",null,null,{"$f":"IF(N11=\"\",\"\",\"-\"&VLOOKUP(N11,EventConditionConfig!A:C,3,FALSE)&IF(O11=\"\",\"\",CHAR(10)&\"-\"&VLOOKUP(O11,EventConditionConfig!A:C,3,FALSE)))","v":""},3,{"$nulls":7},1002,100]
[1005,181,{"$nulls":5},181,"母狼似乎懂你要做什么，眼神归于平静。你终结了她，决定收养这只小狼仔。",null,null,null,"",null,null,{"$f":"IF(N12=\"\",\"\",\"-\"&VLOOKUP(N12,EventConditionConfig!A:C,3,FALSE)&IF(O12=\"\",\"\",CHAR(10)&\"-\"&VLOOKUP(O12,EventConditionConfig!A:C,3,FALSE)))","v":""},3,{"$nulls":7},1001,50]
[{"$nulls":12},"",null,null,{"$f":"IF(N13=\"\",\"\",\"-\"&VLOOKUP(N13,EventConditionConfig!A:C,3,FALSE)&IF(O13=\"\",\"\",CHAR(10)&\"-\"&VLOOKUP(O13,EventConditionConfig!A:C,3,FALSE)))","v":""}]
[1010,182,{"$nulls":5},182,"从不远处传来刀剑声，听起来双方已经精疲力尽了。",null,null,null,"",null,null,{"$f":"IF(N14=\"\",\"\",\"-\"&VLOOKUP(N14,EventConditionConfig!A:C,3,FALSE)&IF(O14=\"\",\"\",CHAR(10)&\"-\"&VLOOKUP(O14,EventConditionConfig!A:C,3,FALSE)))","v":""},1,"1011;1012","201;202",null,"去看看",null,"(需拥有法宝凝神珠）听起来都是鸡毛蒜皮的小摩擦，你选择祭出凝神珠化解他们的怨气。"]
[1011,183,{"$nulls":5},183,"你走进一看，原来是一伙山贼分赃不均内讧了起来。你看着旁边被砍的七零八落的轿子和这群山贼，选择怎么做呢：",null,null,null,"",null,null,{"$f":"IF(N15=\"\",\"\",\"-\"&VLOOKUP(N15,EventConditionConfig!A:C,3,FALSE)&IF(O15=\"\",\"\",CHAR(10)&\"-\"&VLOOKUP(O15,EventConditionConfig!A:C,3,FALSE)))","v":""},1,"1014;1015","203;204",null,"你顿时杀心四起，决定杀了贼寇，救出轿中之人",null,"盗贼们个个双眼杀的通红，你决定来个渔翁得利。"]
[1012,184,{"$nulls":5},"184;187","法宝现身，效果立竿见影，刀剑声逐渐消失，这个世界安静了。",null,null,null,"",null,null,{"$f":"IF(N16=\"\",\"\",\"-\"&VLOOKUP(N16,EventConditionConfig!A:C,3,FALSE)&IF(O16=\"\",\"\",CHAR(10)&\"-\"&VLOOKUP(O16,EventConditionConfig!A:C,3,FALSE)))","v":""},3,{"$nulls":7},1001,10,null,null,null,1,"1001;1"]
[1014,185,{"$nulls":5},185,"你怒斥贼寇的恶行，贼寇们被你激怒了，准备迎战！",null,null,null,"",null,null,{"$f":"IF(N17=\"\",\"\",\"-\"&VLOOKUP(N17,EventConditionConfig!A:C,3,FALSE)&IF(O17=\"\",\"\",CHAR(10)&\"-\"&VLOOKUP(O17,EventConditionConfig!A:C,3,FALSE)))","v":""},2,100002,{"$nulls":8},2,"1016;100",null,2,"4;150"]
[1015,186,{"$nulls":5},"186;189","你趁人不备顺走了轿内主人的包裹，任留轿内人痛苦的挣扎。",null,null,null,"",null,null,{"$f":"IF(N18=\"\",\"\",\"-\"&VLOOKUP(N18,EventConditionConfig!A:C,3,FALSE)&IF(O18=\"\",\"\",CHAR(10)&\"-\"&VLOOKUP(O18,EventConditionConfig!A:C,3,FALSE)))","v":""},3,{"$nulls":7},1003,1000]
[1016,188,{"$nulls":5},188,"杀退贼寇，你上演了一出英雄救美的桥段。姑娘为了答谢你的救命之恩，将藏在贴身处的珍贵首饰赠与你作为定情信物。",null,null,null,"",null,null,{"$f":"IF(N19=\"\",\"\",\"-\"&VLOOKUP(N19,EventConditionConfig!A:C,3,FALSE)&IF(O19=\"\",\"\",CHAR(10)&\"-\"&VLOOKUP(O19,EventConditionConfig!A:C,3,FALSE)))","v":""},{"$nulls":8},1001,200]
[{"$nulls":12},"",null,null,{"$f":"IF(N20=\"\",\"\",\"-\"&VLOOKUP(N20,EventConditionConfig!A:C,3,FALSE)&IF(O20=\"\",\"\",CHAR(10)&\"-\"&VLOOKUP(O20,EventConditionConfig!A:C,3,FALSE)))","v":""}]
[1020,190,{"$nulls":5},190,"从不远处传来刀剑声，听起来双方已经精疲力尽了。",null,null,null,"",null,null,{"$f":"IF(N21=\"\",\"\",\"-\"&VLOOKUP(N21,EventConditionConfig!A:C,3,FALSE)&IF(O21=\"\",\"\",CHAR(10)&\"-\"&VLOOKUP(O21,EventConditionConfig!A:C,3,FALSE)))","v":""},1,"1021;1022","201;202",null,"去看看",null,"使用法宝息事宁人"]
[1021,191,{"$nulls":5},191,"你走进一看，原来是一伙山贼抢了一名坐在官轿内的女子，因分赃不均内讧了起来。山贼二话不说就朝你冲了过来！",null,null,null,"",null,null,{"$f":"IF(N22=\"\",\"\",\"-\"&VLOOKUP(N22,EventConditionConfig!A:C,3,FALSE)&IF(O22=\"\",\"\",CHAR(10)&\"-\"&VLOOKUP(O22,EventConditionConfig!A:C,3,FALSE)))","v":""},2,100003,{"$nulls":6},1002,100,2,"1026;100"]
[1022,192,{"$nulls":5},192,"法宝现身，效果立竿见影，刀剑声逐渐消失，这个世界安静了。",null,null,null,"",null,null,{"$f":"IF(N23=\"\",\"\",\"-\"&VLOOKUP(N23,EventConditionConfig!A:C,3,FALSE)&IF(O23=\"\",\"\",CHAR(10)&\"-\"&VLOOKUP(O23,EventConditionConfig!A:C,3,FALSE)))","v":""},4,{"$nulls":7},1002,10,null,null,null,1,"1001;1"]
[1024,193,{"$nulls":5},"193;196","你大声怒斥贼寇的恶行，贼首发现你了，准备迎战！",null,null,null,"",null,null,{"$f":"IF(N24=\"\",\"\",\"-\"&VLOOKUP(N24,EventConditionConfig!A:C,3,FALSE)&IF(O24=\"\",\"\",CHAR(10)&\"-\"&VLOOKUP(O24,EventConditionConfig!A:C,3,FALSE)))","v":""},2,100004,{"$nulls":6},1004,100,2,"1016;100",null,2,"4;150"]
[1025,194,{"$nulls":5},"194;197","你趁人不备顺走了轿内主人的包裹，任留轿内人痛苦的挣扎。",null,null,null,"",null,null,{"$f":"IF(N25=\"\",\"\",\"-\"&VLOOKUP(N25,EventConditionConfig!A:C,3,FALSE)&IF(O25=\"\",\"\",CHAR(10)&\"-\"&VLOOKUP(O25,EventConditionConfig!A:C,3,FALSE)))","v":""},3,{"$nulls":7},1002,1000]
[1026,207,{"$nulls":5},207,"你将山贼们打的落花流水，成功吸引了山贼头子的注意。",null,null,null,"",null,null,{"$f":"IF(N26=\"\",\"\",\"-\"&VLOOKUP(N26,EventConditionConfig!A:C,3,FALSE)&IF(O26=\"\",\"\",CHAR(10)&\"-\"&VLOOKUP(O26,EventConditionConfig!A:C,3,FALSE)))","v":""},1,"1024;1025","205;206",null,"选择正面迎战山贼头领（困难）",null,"你决定避开山贼头领的视线，来个渔翁得利。"]
[{"$nulls":12},"",null,null,{"$f":"IF(N27=\"\",\"\",\"-\"&VLOOKUP(N27,EventConditionConfig!A:C,3,FALSE)&IF(O27=\"\",\"\",CHAR(10)&\"-\"&VLOOKUP(O27,EventConditionConfig!A:C,3,FALSE)))","v":""}]
[1030,221,{"$nulls":5},221,"发现一个血迹斑斑的背包，好像刚刚发生了战斗，我翻翻背包...",null,null,null,"",null,null,{"$f":"IF(N28=\"\",\"\",\"-\"&VLOOKUP(N28,EventConditionConfig!A:C,3,FALSE)&IF(O28=\"\",\"\",CHAR(10)&\"-\"&VLOOKUP(O28,EventConditionConfig!A:C,3,FALSE)))","v":""},3,{"$nulls":7},1002,10]
[{"$nulls":12},"",null,null,{"$f":"IF(N29=\"\",\"\",\"-\"&VLOOKUP(N29,EventConditionConfig!A:C,3,FALSE)&IF(O29=\"\",\"\",CHAR(10)&\"-\"&VLOOKUP(O29,EventConditionConfig!A:C,3,FALSE)))","v":""}]
[1040,222,{"$nulls":5},222,"啥也没有....除了钱",null,null,null,"",null,null,{"$f":"IF(N30=\"\",\"\",\"-\"&VLOOKUP(N30,EventConditionConfig!A:C,3,FALSE)&IF(O30=\"\",\"\",CHAR(10)&\"-\"&VLOOKUP(O30,EventConditionConfig!A:C,3,FALSE)))","v":""},3,{"$nulls":7},1002,10]
[{"$nulls":12},"",null,null,{"$f":"IF(N31=\"\",\"\",\"-\"&VLOOKUP(N31,EventConditionConfig!A:C,3,FALSE)&IF(O31=\"\",\"\",CHAR(10)&\"-\"&VLOOKUP(O31,EventConditionConfig!A:C,3,FALSE)))","v":""}]
[1050,223,{"$nulls":5},223,"两夫妻在吵架，似乎为了一件大事..",null,null,null,"",null,null,{"$f":"IF(N32=\"\",\"\",\"-\"&VLOOKUP(N32,EventConditionConfig!A:C,3,FALSE)&IF(O32=\"\",\"\",CHAR(10)&\"-\"&VLOOKUP(O32,EventConditionConfig!A:C,3,FALSE)))","v":""},3,{"$nulls":7},"1002;1001","10;20"]
[{"$nulls":12},"",null,null,{"$f":"IF(N33=\"\",\"\",\"-\"&VLOOKUP(N33,EventConditionConfig!A:C,3,FALSE)&IF(O33=\"\",\"\",CHAR(10)&\"-\"&VLOOKUP(O33,EventConditionConfig!A:C,3,FALSE)))","v":""}]
[1060,224,{"$nulls":5},224,"没有任何发现，但感觉空气很好....下次有空再来看看",null,null,null,"",null,null,{"$f":"IF(N34=\"\",\"\",\"-\"&VLOOKUP(N34,EventConditionConfig!A:C,3,FALSE)&IF(O34=\"\",\"\",CHAR(10)&\"-\"&VLOOKUP(O34,EventConditionConfig!A:C,3,FALSE)))","v":""}]
[{"$nulls":12},"",null,null,{"$f":"IF(N35=\"\",\"\",\"-\"&VLOOKUP(N35,EventConditionConfig!A:C,3,FALSE)&IF(O35=\"\",\"\",CHAR(10)&\"-\"&VLOOKUP(O35,EventConditionConfig!A:C,3,FALSE)))","v":""}]
[{"$nulls":12},"",null,null,{"$f":"IF(N36=\"\",\"\",\"-\"&VLOOKUP(N36,EventConditionConfig!A:C,3,FALSE)&IF(O36=\"\",\"\",CHAR(10)&\"-\"&VLOOKUP(O36,EventConditionConfig!A:C,3,FALSE)))","v":""}]
[{"$nulls":12},"",null,null,{"$f":"IF(N37=\"\",\"\",\"-\"&VLOOKUP(N37,EventConditionConfig!A:C,3,FALSE)&IF(O37=\"\",\"\",CHAR(10)&\"-\"&VLOOKUP(O37,EventConditionConfig!A:C,3,FALSE)))","v":""}]
[{"$f":"K38*100+L38","v":1101},{"$nulls":6},208,"事件10001：一只[怪物1]袭击了你，准备迎战",null,11,{"$f":"IF(K38=K37,L37+1,1)","v":1},"",null,null,{"$f":"IF(N38=\"\",\"\",\"-\"&VLOOKUP(N38,EventConditionConfig!A:C,3,FALSE)&IF(O38=\"\",\"\",CHAR(10)&\"-\"&VLOOKUP(O38,EventConditionConfig!A:C,3,FALSE)))","v":""},2,100001,{"$nulls":8},2,"1102;100"]
[{"$f":"K39*100+L39","v":1102},{"$nulls":6},209,"你击败了怪物，并从它身上吸取了一些修为",null,11,{"$f":"IF(K39=K38,L38+1,1)","v":2},"",null,null,{"$f":"IF(N39=\"\",\"\",\"-\"&VLOOKUP(N39,EventConditionConfig!A:C,3,FALSE)&IF(O39=\"\",\"\",CHAR(10)&\"-\"&VLOOKUP(O39,EventConditionConfig!A:C,3,FALSE)))","v":""},3,{"$nulls":7},1003,3000]
[{"$nulls":12},"",null,null,{"$f":"IF(N40=\"\",\"\",\"-\"&VLOOKUP(N40,EventConditionConfig!A:C,3,FALSE)&IF(O40=\"\",\"\",CHAR(10)&\"-\"&VLOOKUP(O40,EventConditionConfig!A:C,3,FALSE)))","v":""}]
[{"$f":"K41*100+L41","v":1201},{"$nulls":6},210,"你偶遇一处仙气四溢无人生活的洞穴",null,12,{"$f":"IF(K41=K40,L40+1,1)","v":1},"",null,null,{"$f":"IF(N41=\"\",\"\",\"-\"&VLOOKUP(N41,EventConditionConfig!A:C,3,FALSE)&IF(O41=\"\",\"\",CHAR(10)&\"-\"&VLOOKUP(O41,EventConditionConfig!A:C,3,FALSE)))","v":""},{"$nulls":10},1,{"$f":"A42","v":1202}]
[{"$f":"K42*100+L42","v":1202},{"$nulls":6},211,"不知哪位高人在洞穴内壁留下绝世秘籍",null,12,{"$f":"IF(K42=K41,L41+1,1)","v":2},"",null,null,{"$f":"IF(N42=\"\",\"\",\"-\"&VLOOKUP(N42,EventConditionConfig!A:C,3,FALSE)&IF(O42=\"\",\"\",CHAR(10)&\"-\"&VLOOKUP(O42,EventConditionConfig!A:C,3,FALSE)))","v":""},{"$nulls":10},1,{"$f":"A43","v":1203}]
[{"$f":"K43*100+L43","v":1203},{"$nulls":6},1903,"你仔细研读后，功法得到精进",null,12,{"$f":"IF(K43=K42,L42+1,1)","v":3},"",null,null,{"$f":"IF(N43=\"\",\"\",\"-\"&VLOOKUP(N43,EventConditionConfig!A:C,3,FALSE)&IF(O43=\"\",\"\",CHAR(10)&\"-\"&VLOOKUP(O43,EventConditionConfig!A:C,3,FALSE)))","v":""},3,{"$nulls":7},1005,500]
[{"$nulls":12},"",null,null,{"$f":"IF(N44=\"\",\"\",\"-\"&VLOOKUP(N44,EventConditionConfig!A:C,3,FALSE)&IF(O44=\"\",\"\",CHAR(10)&\"-\"&VLOOKUP(O44,EventConditionConfig!A:C,3,FALSE)))","v":""}]
[{"$f":"K45*100+L45","v":1301},{"$nulls":6},212,"你在飞行途中不慎滑倒",null,13,{"$f":"IF(K45=K44,L44+1,1)","v":1},"",null,null,{"$f":"IF(N45=\"\",\"\",\"-\"&VLOOKUP(N45,EventConditionConfig!A:C,3,FALSE)&IF(O45=\"\",\"\",CHAR(10)&\"-\"&VLOOKUP(O45,EventConditionConfig!A:C,3,FALSE)))","v":""},{"$nulls":10},1,{"$f":"A46","v":1302}]
[{"$f":"K46*100+L46","v":1302},{"$nulls":6},213,"原来是脚下有一块圆润的微微发光的石头",null,13,{"$f":"IF(K46=K45,L45+1,1)","v":2},"",null,null,{"$f":"IF(N46=\"\",\"\",\"-\"&VLOOKUP(N46,EventConditionConfig!A:C,3,FALSE)&IF(O46=\"\",\"\",CHAR(10)&\"-\"&VLOOKUP(O46,EventConditionConfig!A:C,3,FALSE)))","v":""},{"$nulls":10},1,{"$f":"A47","v":1303}]
[1303,{"$nulls":6},214,"你拾起来一看，原来它蕴含了丰富的法宝灵韵",null,13,3,"",null,null,{"$f":"IF(N47=\"\",\"\",\"-\"&VLOOKUP(N47,EventConditionConfig!A:C,3,FALSE)&IF(O47=\"\",\"\",CHAR(10)&\"-\"&VLOOKUP(O47,EventConditionConfig!A:C,3,FALSE)))","v":""},{"$nulls":10},1,{"$f":"A48","v":1304}]
[1304,{"$nulls":6},215,"原本郁闷的心情，突然变的好了起来，哈哈~",null,13,4,"",null,null,{"$f":"IF(N48=\"\",\"\",\"-\"&VLOOKUP(N48,EventConditionConfig!A:C,3,FALSE)&IF(O48=\"\",\"\",CHAR(10)&\"-\"&VLOOKUP(O48,EventConditionConfig!A:C,3,FALSE)))","v":""},3,{"$nulls":7},1006,500]
[{"$nulls":12},"",null,null,{"$f":"IF(N49=\"\",\"\",\"-\"&VLOOKUP(N49,EventConditionConfig!A:C,3,FALSE)&IF(O49=\"\",\"\",CHAR(10)&\"-\"&VLOOKUP(O49,EventConditionConfig!A:C,3,FALSE)))","v":""}]
[1401,{"$nulls":6},1901,"事件10005：一只[怪物2]袭击了你，准备迎战",null,14,{"$f":"IF(K50=K49,L49+1,1)","v":1},"",null,null,{"$f":"IF(N50=\"\",\"\",\"-\"&VLOOKUP(N50,EventConditionConfig!A:C,3,FALSE)&IF(O50=\"\",\"\",CHAR(10)&\"-\"&VLOOKUP(O50,EventConditionConfig!A:C,3,FALSE)))","v":""},2,100002,{"$nulls":8},2,"1402;100"]
[1402,{"$nulls":6},209,"你击败了怪物，并从它身上吸取了一些修为",null,14,{"$f":"IF(K51=K50,L50+1,1)","v":2},"",null,null,{"$f":"IF(N51=\"\",\"\",\"-\"&VLOOKUP(N51,EventConditionConfig!A:C,3,FALSE)&IF(O51=\"\",\"\",CHAR(10)&\"-\"&VLOOKUP(O51,EventConditionConfig!A:C,3,FALSE)))","v":""},3,{"$nulls":7},1003,3000]
[{"$nulls":12},"",null,null,{"$f":"IF(N52=\"\",\"\",\"-\"&VLOOKUP(N52,EventConditionConfig!A:C,3,FALSE)&IF(O52=\"\",\"\",CHAR(10)&\"-\"&VLOOKUP(O52,EventConditionConfig!A:C,3,FALSE)))","v":""}]
[1501,{"$nulls":6},1902,"事件10006：一只[怪物3]袭击了你，准备迎战",null,15,{"$f":"IF(K53=K52,L52+1,1)","v":1},"",null,null,{"$f":"IF(N53=\"\",\"\",\"-\"&VLOOKUP(N53,EventConditionConfig!A:C,3,FALSE)&IF(O53=\"\",\"\",CHAR(10)&\"-\"&VLOOKUP(O53,EventConditionConfig!A:C,3,FALSE)))","v":""},2,100003,{"$nulls":8},2,"1502;100"]
[1502,{"$nulls":6},209,"你击败了怪物，并从它身上吸取了一些修为",null,15,{"$f":"IF(K54=K53,L53+1,1)","v":2},"",null,null,{"$f":"IF(N54=\"\",\"\",\"-\"&VLOOKUP(N54,EventConditionConfig!A:C,3,FALSE)&IF(O54=\"\",\"\",CHAR(10)&\"-\"&VLOOKUP(O54,EventConditionConfig!A:C,3,FALSE)))","v":""},3,{"$nulls":7},1003,3000]
[{"$nulls":12},"",null,null,{"$f":"IF(N55=\"\",\"\",\"-\"&VLOOKUP(N55,EventConditionConfig!A:C,3,FALSE)&IF(O55=\"\",\"\",CHAR(10)&\"-\"&VLOOKUP(O55,EventConditionConfig!A:C,3,FALSE)))","v":""}]
[9003,2036,{"$nulls":5},2036,"你在闭关修炼时，感受到一股凌厉的剑意波动。深入探查，发现一名白衣剑修“清霜”盘坐于谷中，周围剑气环绕，正与一柄散发不祥气息的灵剑对峙。她似在参悟剑诀，却灵气不足，剑灵桀骜。",null,null,null,"",null,null,{"$f":"IF(N56=\"\",\"\",\"-\"&VLOOKUP(N56,EventConditionConfig!A:C,3,FALSE)&IF(O56=\"\",\"\",CHAR(10)&\"-\"&VLOOKUP(O56,EventConditionConfig!A:C,3,FALSE)))","v":""},1,"9004;9006","2041;2042"]
[9004,2037,{"$nulls":5},2037,"你上前以剑意对抗剑灵",null,null,null,"",null,null,{"$f":"IF(N57=\"\",\"\",\"-\"&VLOOKUP(N57,EventConditionConfig!A:C,3,FALSE)&IF(O57=\"\",\"\",CHAR(10)&\"-\"&VLOOKUP(O57,EventConditionConfig!A:C,3,FALSE)))","v":""},2,100001,{"$nulls":8},2,"9005;100"]
[9005,2038,{"$nulls":5},2038,"成功压制剑灵，清霜赠你“霜华剑符”并结下道友之谊",null,null,null,"",null,null,{"$f":"IF(N58=\"\",\"\",\"-\"&VLOOKUP(N58,EventConditionConfig!A:C,3,FALSE)&IF(O58=\"\",\"\",CHAR(10)&\"-\"&VLOOKUP(O58,EventConditionConfig!A:C,3,FALSE)))","v":""}]
[9006,2039,{"$nulls":5},2039,"你察觉谷中灵气匮乏，清霜剑意凝滞。神识探查得知，附近秘境可采集“玄冰花”",null,null,null,"",null,null,{"$f":"IF(N59=\"\",\"\",\"-\"&VLOOKUP(N59,EventConditionConfig!A:C,3,FALSE)&IF(O59=\"\",\"\",CHAR(10)&\"-\"&VLOOKUP(O59,EventConditionConfig!A:C,3,FALSE)))","v":""}]
[9007,2040,{"$nulls":5},2040,"献上玄冰花，清霜炼化灵气突破瓶颈，赠你“玄霜剑意”",null,null,null,"",null,null,{"$f":"IF(N60=\"\",\"\",\"-\"&VLOOKUP(N60,EventConditionConfig!A:C,3,FALSE)&IF(O60=\"\",\"\",CHAR(10)&\"-\"&VLOOKUP(O60,EventConditionConfig!A:C,3,FALSE)))","v":""},4,{"$nulls":9},1,9007]
[9008,{"$nulls":11},"",null,null,{"$f":"IF(N61=\"\",\"\",\"-\"&VLOOKUP(N61,EventConditionConfig!A:C,3,FALSE)&IF(O61=\"\",\"\",CHAR(10)&\"-\"&VLOOKUP(O61,EventConditionConfig!A:C,3,FALSE)))","v":""},3,{"$nulls":7},1001,999]
[{"$nulls":12},"",null,null,{"$f":"IF(N62=\"\",\"\",\"-\"&VLOOKUP(N62,EventConditionConfig!A:C,3,FALSE)&IF(O62=\"\",\"\",CHAR(10)&\"-\"&VLOOKUP(O62,EventConditionConfig!A:C,3,FALSE)))","v":""}]
[{"$nulls":12},"",null,null,{"$f":"IF(N63=\"\",\"\",\"-\"&VLOOKUP(N63,EventConditionConfig!A:C,3,FALSE)&IF(O63=\"\",\"\",CHAR(10)&\"-\"&VLOOKUP(O63,EventConditionConfig!A:C,3,FALSE)))","v":""}]
[{"$nulls":12},"",null,null,{"$f":"IF(N64=\"\",\"\",\"-\"&VLOOKUP(N64,EventConditionConfig!A:C,3,FALSE)&IF(O64=\"\",\"\",CHAR(10)&\"-\"&VLOOKUP(O64,EventConditionConfig!A:C,3,FALSE)))","v":""}]
[9025,2074,null,2073,"和惠子交谈",null,null,2074,"惠子种的葫芦没用，他非常生气，需要打败魔休",null,null,null,"",null,null,{"$f":"IF(N65=\"\",\"\",\"-\"&VLOOKUP(N65,EventConditionConfig!A:C,3,FALSE)&IF(O65=\"\",\"\",CHAR(10)&\"-\"&VLOOKUP(O65,EventConditionConfig!A:C,3,FALSE)))","v":""},1,9026,2075]
[9026,{"$nulls":7},"选择后接新的事件",null,null,null,"",null,null,{"$f":"IF(N66=\"\",\"\",\"-\"&VLOOKUP(N66,EventConditionConfig!A:C,3,FALSE)&IF(O66=\"\",\"\",CHAR(10)&\"-\"&VLOOKUP(O66,EventConditionConfig!A:C,3,FALSE)))","v":""},{"$nulls":4},"接受任务",{"$nulls":5},3,9014]
[{"$nulls":12},"",null,null,{"$f":"IF(N67=\"\",\"\",\"-\"&VLOOKUP(N67,EventConditionConfig!A:C,3,FALSE)&IF(O67=\"\",\"\",CHAR(10)&\"-\"&VLOOKUP(O67,EventConditionConfig!A:C,3,FALSE)))","v":""}]
[{"$nulls":12},"",null,null,{"$f":"IF(N68=\"\",\"\",\"-\"&VLOOKUP(N68,EventConditionConfig!A:C,3,FALSE)&IF(O68=\"\",\"\",CHAR(10)&\"-\"&VLOOKUP(O68,EventConditionConfig!A:C,3,FALSE)))","v":""}]
[9014,2070,null,null,"击杀魔休",{"$nulls":7},"3",3,null,{"$f":"IF(N69=\"\",\"\",\"-\"&VLOOKUP(N69,EventConditionConfig!A:C,3,FALSE)&IF(O69=\"\",\"\",CHAR(10)&\"-\"&VLOOKUP(O69,EventConditionConfig!A:C,3,FALSE)))","v":"-击杀魔休"}]
[{"$nulls":12},{"$f":"_xlfn.TEXTJOIN(\";\",1,N70:O70)","v":""},null,null,{"$f":"IF(N70=\"\",\"\",\"-\"&VLOOKUP(N70,EventConditionConfig!A:C,3,FALSE)&IF(O70=\"\",\"\",CHAR(10)&\"-\"&VLOOKUP(O70,EventConditionConfig!A:C,3,FALSE)))","v":""}]
[{"$nulls":12},"",null,null,{"$f":"IF(N71=\"\",\"\",\"-\"&VLOOKUP(N71,EventConditionConfig!A:C,3,FALSE)&IF(O71=\"\",\"\",CHAR(10)&\"-\"&VLOOKUP(O71,EventConditionConfig!A:C,3,FALSE)))","v":""}]
[9031,2076,"出现Boss魔修",2077,"打败魔修",{"$nulls":7},"",null,null,{"$f":"IF(N72=\"\",\"\",\"-\"&VLOOKUP(N72,EventConditionConfig!A:C,3,FALSE)&IF(O72=\"\",\"\",CHAR(10)&\"-\"&VLOOKUP(O72,EventConditionConfig!A:C,3,FALSE)))","v":""},2,100001]
[{"$nulls":12},"",null,null,{"$f":"IF(N73=\"\",\"\",\"-\"&VLOOKUP(N73,EventConditionConfig!A:C,3,FALSE)&IF(O73=\"\",\"\",CHAR(10)&\"-\"&VLOOKUP(O73,EventConditionConfig!A:C,3,FALSE)))","v":""}]
[{"$f":"K74*100+L74","v":1000101},2086,"使用风铃唤醒还未泯灭的神识",{"$nulls":4},2083,"北冥有鱼，其名为鲲……",2,10001,{"$f":"IF(K74=K73,L73+1,1)","v":1},"",null,null,{"$f":"IF(N74=\"\",\"\",\"-\"&VLOOKUP(N74,EventConditionConfig!A:C,3,FALSE)&IF(O74=\"\",\"\",CHAR(10)&\"-\"&VLOOKUP(O74,EventConditionConfig!A:C,3,FALSE)))","v":""},{"$nulls":10},{"$f":"IF(A74=\"\",\"\",IF(Q74=1,\"\",IF(A75=\"\",3,1)))","v":1},{"$f":"IF(AA74=1,A75,IF(AA74=3,LEFT(A74,5)+1,\"\"))","v":1000102}]
[{"$f":"K75*100+L75","v":1000102},2086,"使用风铃唤醒还未泯灭的神识",{"$nulls":4},2084,"不过北海遥远，何时能寻得鲲鹏的踪迹。",2,10001,{"$f":"IF(K75=K74,L74+1,1)","v":2},"",null,null,{"$f":"IF(N75=\"\",\"\",\"-\"&VLOOKUP(N75,EventConditionConfig!A:C,3,FALSE)&IF(O75=\"\",\"\",CHAR(10)&\"-\"&VLOOKUP(O75,EventConditionConfig!A:C,3,FALSE)))","v":""},{"$nulls":10},{"$f":"IF(A75=\"\",\"\",IF(Q75=1,\"\",IF(A76=\"\",3,1)))","v":1},{"$f":"IF(AA75=1,A76,IF(AA75=3,LEFT(A75,5)+1,\"\"))","v":1000103}]
[{"$f":"K76*100+L76","v":1000103},2086,"使用风铃唤醒还未泯灭的神识",{"$nulls":4},2085,"好在我的神识尚在，可探天地，再加上刚刚的风铃，或许能寻得前路线索。",2,10001,3,"",null,null,{"$f":"IF(N76=\"\",\"\",\"-\"&VLOOKUP(N76,EventConditionConfig!A:C,3,FALSE)&IF(O76=\"\",\"\",CHAR(10)&\"-\"&VLOOKUP(O76,EventConditionConfig!A:C,3,FALSE)))","v":""},{"$nulls":10},1,1000104]
[{"$f":"K77*100+L77","v":1000104},2086,"使用风铃唤醒还未泯灭的神识",{"$nulls":7},10001,4,"5",5,null,{"$f":"IF(N77=\"\",\"\",\"-\"&VLOOKUP(N77,EventConditionConfig!A:C,3,FALSE)&IF(O77=\"\",\"\",CHAR(10)&\"-\"&VLOOKUP(O77,EventConditionConfig!A:C,3,FALSE)))","v":"-使用神识"},{"$nulls":10},3,10002]
[{"$nulls":12},"",null,null,{"$f":"IF(N78=\"\",\"\",\"-\"&VLOOKUP(N78,EventConditionConfig!A:C,3,FALSE)&IF(O78=\"\",\"\",CHAR(10)&\"-\"&VLOOKUP(O78,EventConditionConfig!A:C,3,FALSE)))","v":""},{"$nulls":10},"",""]
[{"$f":"K79*100+L79","v":1000201},2091,"前往妖兽盘踞的地方",{"$nulls":4},2092,"神识发现有一条古径，隐于云山之间，不过似乎有妖兽盘踞。",3,10002,1,"",null,null,{"$f":"IF(N79=\"\",\"\",\"-\"&VLOOKUP(N79,EventConditionConfig!A:C,3,FALSE)&IF(O79=\"\",\"\",CHAR(10)&\"-\"&VLOOKUP(O79,EventConditionConfig!A:C,3,FALSE)))","v":""},{"$nulls":10},1,{"$f":"IF(AA79=1,A80,IF(AA79=3,LEFT(A79,5)+1,\"\"))","v":1000202}]
[{"$f":"K80*100+L80","v":1000202},2091,"前往妖兽盘踞的地方",{"$nulls":4},2093,"没其他办法了，过去看看吧。",3,10002,2,"",null,null,{"$f":"IF(N80=\"\",\"\",\"-\"&VLOOKUP(N80,EventConditionConfig!A:C,3,FALSE)&IF(O80=\"\",\"\",CHAR(10)&\"-\"&VLOOKUP(O80,EventConditionConfig!A:C,3,FALSE)))","v":""},{"$nulls":10},1,1000203]
[{"$f":"K81*100+L81","v":1000203},2091,"前往妖兽盘踞的地方",2094,"继续飞行一段时间",{"$nulls":5},10002,3,"",null,null,{"$f":"IF(N81=\"\",\"\",\"-\"&VLOOKUP(N81,EventConditionConfig!A:C,3,FALSE)&IF(O81=\"\",\"\",CHAR(10)&\"-\"&VLOOKUP(O81,EventConditionConfig!A:C,3,FALSE)))","v":""},{"$nulls":10},3,10003]
[{"$nulls":12},"",null,null,{"$f":"IF(N82=\"\",\"\",\"-\"&VLOOKUP(N82,EventConditionConfig!A:C,3,FALSE)&IF(O82=\"\",\"\",CHAR(10)&\"-\"&VLOOKUP(O82,EventConditionConfig!A:C,3,FALSE)))","v":""},{"$nulls":10},"",""]
[1000301,2095,"蜩鸟和小麻雀对你的到来很好奇",null,null,null,{"$f":"IF(F83=\"\",\"\",VLOOKUP(F83,EventNPC!A:E,5,FALSE))","v":""},2096,"应该就是这里了，似乎有古老的阵法挡住了去路",null,10003,1,"",null,null,{"$f":"IF(N83=\"\",\"\",\"-\"&VLOOKUP(N83,EventConditionConfig!A:C,3,FALSE)&IF(O83=\"\",\"\",CHAR(10)&\"-\"&VLOOKUP(O83,EventConditionConfig!A:C,3,FALSE)))","v":""},{"$nulls":10},1,1000302]
[{"$f":"K84*100+L84","v":1000302},2095,"蜩鸟和小麻雀对你的到来很好奇",null,null,null,{"$f":"IF(F84=\"\",\"\",VLOOKUP(F84,EventNPC!A:E,5,FALSE))","v":""},2097,"（结界门前，三只小鸟飞来，落在一旁古松上）",null,10003,2,"",null,null,{"$f":"IF(N84=\"\",\"\",\"-\"&VLOOKUP(N84,EventConditionConfig!A:C,3,FALSE)&IF(O84=\"\",\"\",CHAR(10)&\"-\"&VLOOKUP(O84,EventConditionConfig!A:C,3,FALSE)))","v":""},{"$nulls":10},1,1000303]
[{"$f":"K85*100+L85","v":1000303},2095,"蜩鸟和小麻雀对你的到来很好奇",null,null,101,{"$f":"IF(F85=\"\",\"\",VLOOKUP(F85,EventNPC!A:E,5,FALSE))","v":"蜩鸟"},2098,"（拍翅）：“咦？又是妄图穿行北海之人？”",null,10003,{"$f":"IF(K85=K84,L84+1,1)","v":3},"",null,null,{"$f":"IF(N85=\"\",\"\",\"-\"&VLOOKUP(N85,EventConditionConfig!A:C,3,FALSE)&IF(O85=\"\",\"\",CHAR(10)&\"-\"&VLOOKUP(O85,EventConditionConfig!A:C,3,FALSE)))","v":""},1,{"$f":"A86","v":1000304},{"$f":"_xlfn.TEXTJOIN(\";\",1,T85,V85)","v":"2099"},2099,"我在寻找鲲鹏，你们知道它在哪里吗？",{"$nulls":5},"",""]
[{"$f":"K86*100+L86","v":1000304},2095,"蜩鸟和小麻雀对你的到来很好奇",null,null,102,{"$f":"IF(F86=\"\",\"\",VLOOKUP(F86,EventNPC!A:E,5,FALSE))","v":"小麻雀"},2100,"（扑棱翅膀）是想要从北海飞往南海的超级大鸟吧？",null,10003,{"$f":"IF(K86=K85,L85+1,1)","v":4},"",null,null,{"$f":"IF(N86=\"\",\"\",\"-\"&VLOOKUP(N86,EventConditionConfig!A:C,3,FALSE)&IF(O86=\"\",\"\",CHAR(10)&\"-\"&VLOOKUP(O86,EventConditionConfig!A:C,3,FALSE)))","v":""},null,null,"",{"$nulls":7},1,1000305]
[{"$f":"K87*100+L87","v":1000305},2095,"蜩鸟和小麻雀对你的到来很好奇",null,null,102,{"$f":"IF(F87=\"\",\"\",VLOOKUP(F87,EventNPC!A:E,5,FALSE))","v":"小麻雀"},2101,"我就想不明白，她为何要飞如此之远，太奇怪啦！",null,10003,{"$f":"IF(K87=K86,L86+1,1)","v":5},"",null,null,{"$f":"IF(N87=\"\",\"\",\"-\"&VLOOKUP(N87,EventConditionConfig!A:C,3,FALSE)&IF(O87=\"\",\"\",CHAR(10)&\"-\"&VLOOKUP(O87,EventConditionConfig!A:C,3,FALSE)))","v":""},1,{"$f":"A88","v":1000306},"2102",2102,"鲲鹏是在追求心中的目标吧。",{"$nulls":5},"",""]
[{"$f":"K88*100+L88","v":1000306},2095,"蜩鸟和小麻雀对你的到来很好奇",null,null,102,{"$f":"IF(F88=\"\",\"\",VLOOKUP(F88,EventNPC!A:E,5,FALSE))","v":"小麻雀"},2103,"（偏头想了想）目标？我天天在这里上蹿下跳，在附近树林飞来飞去，就已经很幸福啦。",null,10003,{"$f":"IF(K88=K87,L87+1,1)","v":6},"",null,null,{"$f":"IF(N88=\"\",\"\",\"-\"&VLOOKUP(N88,EventConditionConfig!A:C,3,FALSE)&IF(O88=\"\",\"\",CHAR(10)&\"-\"&VLOOKUP(O88,EventConditionConfig!A:C,3,FALSE)))","v":""},null,null,"",{"$nulls":7},1,1000307]
[{"$f":"K89*100+L89","v":1000307},2095,"蜩鸟和小麻雀对你的到来很好奇",null,null,102,{"$f":"IF(F89=\"\",\"\",VLOOKUP(F89,EventNPC!A:E,5,FALSE))","v":"小麻雀"},2104,"就那大傻鸟，非要飞那么远，又笨又蠢...真没意思。",null,10003,{"$f":"IF(K89=K88,L88+1,1)","v":7},"",null,null,{"$f":"IF(N89=\"\",\"\",\"-\"&VLOOKUP(N89,EventConditionConfig!A:C,3,FALSE)&IF(O89=\"\",\"\",CHAR(10)&\"-\"&VLOOKUP(O89,EventConditionConfig!A:C,3,FALSE)))","v":""},1,{"$f":"A90","v":1000308},"2105;2106",2105,"你说得也有一定道理…",2106,"你懂什么..这大鹏鸟可比你更有志向多了。",null,null,null,"",""]
[{"$f":"K90*100+L90","v":1000308},2095,"蜩鸟和小麻雀对你的到来很好奇",null,null,101,{"$f":"IF(F90=\"\",\"\",VLOOKUP(F90,EventNPC!A:E,5,FALSE))","v":"蜩鸟"},2107,"（翻飞一圈）志向有什么用？到头来还不是风停了就落地。",null,10003,{"$f":"IF(K90=K89,L89+1,1)","v":8},"",null,null,{"$f":"IF(N90=\"\",\"\",\"-\"&VLOOKUP(N90,EventConditionConfig!A:C,3,FALSE)&IF(O90=\"\",\"\",CHAR(10)&\"-\"&VLOOKUP(O90,EventConditionConfig!A:C,3,FALSE)))","v":""},1,{"$f":"A91","v":1000309},"2108",2108,"......",{"$nulls":5},"",""]
[{"$f":"K91*100+L91","v":1000309},2095,"蜩鸟和小麻雀对你的到来很好奇",null,null,null,{"$f":"IF(F91=\"\",\"\",VLOOKUP(F91,EventNPC!A:E,5,FALSE))","v":""},2109,"（此时，结界微动，一缕风穿林而过，古径阵法竟有一丝松动）",null,10003,{"$f":"IF(K91=K90,L90+1,1)","v":9},"",null,null,{"$f":"IF(N91=\"\",\"\",\"-\"&VLOOKUP(N91,EventConditionConfig!A:C,3,FALSE)&IF(O91=\"\",\"\",CHAR(10)&\"-\"&VLOOKUP(O91,EventConditionConfig!A:C,3,FALSE)))","v":""},null,null,"",{"$nulls":7},3,10004]
[{"$nulls":12},"",null,null,{"$f":"IF(N92=\"\",\"\",\"-\"&VLOOKUP(N92,EventConditionConfig!A:C,3,FALSE)&IF(O92=\"\",\"\",CHAR(10)&\"-\"&VLOOKUP(O92,EventConditionConfig!A:C,3,FALSE)))","v":""},{"$nulls":10},"",""]
[{"$f":"K93*100+L93","v":1000401},2110,"原来它们就是镇守阵法的结界兽",2115,"击败结界兽",101,{"$f":"IF(F93=\"\",\"\",VLOOKUP(F93,EventNPC!A:E,5,FALSE))","v":"蜩鸟"},2111,"这结界似乎有所反应…",null,10004,{"$f":"IF(K93=K92,L92+1,1)","v":1},"",null,null,{"$f":"IF(N93=\"\",\"\",\"-\"&VLOOKUP(N93,EventConditionConfig!A:C,3,FALSE)&IF(O93=\"\",\"\",CHAR(10)&\"-\"&VLOOKUP(O93,EventConditionConfig!A:C,3,FALSE)))","v":""},1,{"$f":"A94","v":1000402},{"$f":"_xlfn.TEXTJOIN(\";\",1,T93,V93)","v":"2112"},2112,"与你们聊天很有意思，不过今天我是非过去不可，没人能阻止我重返仙途！",{"$nulls":5},"",""]
[{"$f":"K94*100+L94","v":1000402},2110,"原来它们就是镇守阵法的结界兽",2115,"击败结界兽",102,{"$f":"IF(F94=\"\",\"\",VLOOKUP(F94,EventNPC!A:E,5,FALSE))","v":"小麻雀"},2113,"\"小鸟..\"现身吧！",null,10004,{"$f":"IF(K94=K93,L93+1,1)","v":2},"",null,null,{"$f":"IF(N94=\"\",\"\",\"-\"&VLOOKUP(N94,EventConditionConfig!A:C,3,FALSE)&IF(O94=\"\",\"\",CHAR(10)&\"-\"&VLOOKUP(O94,EventConditionConfig!A:C,3,FALSE)))","v":""},null,null,{"$f":"_xlfn.TEXTJOIN(\";\",1,T94,V94)","v":""},{"$nulls":7},{"$f":"IF(A94=\"\",\"\",IF(Q94=1,\"\",IF(A95=\"\",3,1)))","v":1},{"$f":"IF(AA94=1,A95,IF(AA94=3,LEFT(A94,5)+1,\"\"))","v":1000403}]
[{"$f":"K95*100+L95","v":1000403},2110,"原来它们就是镇守阵法的结界兽",2115,"击败结界兽",101,{"$f":"IF(F95=\"\",\"\",VLOOKUP(F95,EventNPC!A:E,5,FALSE))","v":"蜩鸟"},2114,"（轻轻飞下来..）又来...来吧来吧..",null,10004,{"$f":"IF(K95=K94,L94+1,1)","v":3},"",null,null,{"$f":"IF(N95=\"\",\"\",\"-\"&VLOOKUP(N95,EventConditionConfig!A:C,3,FALSE)&IF(O95=\"\",\"\",CHAR(10)&\"-\"&VLOOKUP(O95,EventConditionConfig!A:C,3,FALSE)))","v":""},2,100001,{"$f":"_xlfn.TEXTJOIN(\";\",1,T95,V95)","v":""},{"$nulls":7},2,"1000404;101"]
[{"$f":"K96*100+L96","v":1000404},2110,"原来它们就是镇守阵法的结界兽",null,null,102,{"$f":"IF(F96=\"\",\"\",VLOOKUP(F96,EventNPC!A:E,5,FALSE))","v":"小麻雀"},2115,"怎么想过去，就去吧..",null,10004,{"$f":"IF(K96=K95,L95+1,1)","v":4},"",null,null,{"$f":"IF(N96=\"\",\"\",\"-\"&VLOOKUP(N96,EventConditionConfig!A:C,3,FALSE)&IF(O96=\"\",\"\",CHAR(10)&\"-\"&VLOOKUP(O96,EventConditionConfig!A:C,3,FALSE)))","v":""},null,null,{"$f":"_xlfn.TEXTJOIN(\";\",1,T96,V96)","v":""},{"$nulls":7},{"$f":"IF(A96=\"\",\"\",IF(Q96=1,\"\",IF(A97=\"\",3,1)))","v":3},{"$f":"IF(AA96=1,A97,IF(AA96=3,LEFT(A96,5)+1,\"\"))","v":10005}]
[{"$nulls":12},"",null,null,{"$f":"IF(N97=\"\",\"\",\"-\"&VLOOKUP(N97,EventConditionConfig!A:C,3,FALSE)&IF(O97=\"\",\"\",CHAR(10)&\"-\"&VLOOKUP(O97,EventConditionConfig!A:C,3,FALSE)))","v":""}]
[{"$f":"K98*100+L98","v":1000501},2151,"初见疯道人",null,null,null,{"$f":"IF(F98=\"\",\"\",VLOOKUP(F98,EventNPC!A:E,5,FALSE))","v":""},2116,"你穿过古径结界，来到一片被风托起的浮空灵岛群。",null,10005,{"$f":"IF(K98=K97,L97+1,1)","v":1},"",null,null,{"$f":"IF(N98=\"\",\"\",\"-\"&VLOOKUP(N98,EventConditionConfig!A:C,3,FALSE)&IF(O98=\"\",\"\",CHAR(10)&\"-\"&VLOOKUP(O98,EventConditionConfig!A:C,3,FALSE)))","v":""},null,null,{"$f":"_xlfn.TEXTJOIN(\";\",1,T98,V98)","v":""},{"$nulls":7},{"$f":"IF(A98=\"\",\"\",IF(Q98=1,\"\",IF(A99=\"\",3,1)))","v":1},{"$f":"IF(AA98=1,A99,IF(AA98=3,LEFT(A98,5)+1,\"\"))","v":1000502}]
[{"$f":"K99*100+L99","v":1000502},2151,"初见疯道人",null,null,null,{"$f":"IF(F99=\"\",\"\",VLOOKUP(F99,EventNPC!A:E,5,FALSE))","v":""},2117,"风势强劲，岛与岛之间缝隙深不见底，无桥无梯。",null,10005,{"$f":"IF(K99=K98,L98+1,1)","v":2},"",null,null,{"$f":"IF(N99=\"\",\"\",\"-\"&VLOOKUP(N99,EventConditionConfig!A:C,3,FALSE)&IF(O99=\"\",\"\",CHAR(10)&\"-\"&VLOOKUP(O99,EventConditionConfig!A:C,3,FALSE)))","v":""},null,null,{"$f":"_xlfn.TEXTJOIN(\";\",1,T99,V99)","v":""},{"$nulls":7},{"$f":"IF(A99=\"\",\"\",IF(Q99=1,\"\",IF(A100=\"\",3,1)))","v":1},{"$f":"IF(AA99=1,A100,IF(AA99=3,LEFT(A99,5)+1,\"\"))","v":1000503}]
[{"$f":"K100*100+L100","v":1000503},2151,"初见疯道人",null,null,null,{"$f":"IF(F100=\"\",\"\",VLOOKUP(F100,EventNPC!A:E,5,FALSE))","v":""},2118,"此处盘踞一位神秘道人，常独自站在岛边望风，仿佛等待什么。",null,10005,{"$f":"IF(K100=K99,L99+1,1)","v":3},"",null,null,{"$f":"IF(N100=\"\",\"\",\"-\"&VLOOKUP(N100,EventConditionConfig!A:C,3,FALSE)&IF(O100=\"\",\"\",CHAR(10)&\"-\"&VLOOKUP(O100,EventConditionConfig!A:C,3,FALSE)))","v":""},null,null,{"$f":"_xlfn.TEXTJOIN(\";\",1,T100,V100)","v":""},{"$nulls":7},{"$f":"IF(A100=\"\",\"\",IF(Q100=1,\"\",IF(A101=\"\",3,1)))","v":1},{"$f":"IF(AA100=1,A101,IF(AA100=3,LEFT(A100,5)+1,\"\"))","v":1000504}]
[{"$f":"K101*100+L101","v":1000504},2151,"初见疯道人",null,null,null,{"$f":"IF(F101=\"\",\"\",VLOOKUP(F101,EventNPC!A:E,5,FALSE))","v":""},2119,"（你尝试御剑，却在风中打转，被吹回原地）",null,10005,{"$f":"IF(K101=K100,L100+1,1)","v":4},"",null,null,{"$f":"IF(N101=\"\",\"\",\"-\"&VLOOKUP(N101,EventConditionConfig!A:C,3,FALSE)&IF(O101=\"\",\"\",CHAR(10)&\"-\"&VLOOKUP(O101,EventConditionConfig!A:C,3,FALSE)))","v":""},1,{"$f":"A102","v":1000505},{"$f":"_xlfn.TEXTJOIN(\";\",1,T101,V101)","v":"2120"},2120,"前辈，这里的风太大，我无法飞行，请教如何才能通过？",{"$nulls":5},{"$f":"IF(A101=\"\",\"\",IF(Q101=1,\"\",IF(A102=\"\",3,1)))","v":""},{"$f":"IF(AA101=1,A102,IF(AA101=3,LEFT(A101,5)+1,\"\"))","v":""}]
[1000505,2151,"初见疯道人",null,null,103,{"$f":"IF(F102=\"\",\"\",VLOOKUP(F102,EventNPC!A:E,5,FALSE))","v":"疯道人"},2121,"......",null,10005,5,"",null,null,{"$f":"IF(N102=\"\",\"\",\"-\"&VLOOKUP(N102,EventConditionConfig!A:C,3,FALSE)&IF(O102=\"\",\"\",CHAR(10)&\"-\"&VLOOKUP(O102,EventConditionConfig!A:C,3,FALSE)))","v":""},1,{"$f":"A103","v":1000506},{"$f":"_xlfn.TEXTJOIN(\";\",1,T102,V102)","v":"2122"},2122,"前辈，我准备前往北海深处，寻鲲鹏。",{"$nulls":5},"",""]
[1000506,2151,"初见疯道人",null,null,103,{"$f":"IF(F103=\"\",\"\",VLOOKUP(F103,EventNPC!A:E,5,FALSE))","v":"疯道人"},2123,"鲲鹏？……世间竟还有人记得它。",null,10005,6,"",null,null,{"$f":"IF(N103=\"\",\"\",\"-\"&VLOOKUP(N103,EventConditionConfig!A:C,3,FALSE)&IF(O103=\"\",\"\",CHAR(10)&\"-\"&VLOOKUP(O103,EventConditionConfig!A:C,3,FALSE)))","v":""},null,null,{"$f":"_xlfn.TEXTJOIN(\";\",1,T103,V103)","v":""},{"$nulls":7},1,1000507]
[{"$f":"K104*100+L104","v":1000507},2151,"初见疯道人",null,null,103,{"$f":"IF(F104=\"\",\"\",VLOOKUP(F104,EventNPC!A:E,5,FALSE))","v":"疯道人"},2124,"（说着从手中掏出一个碎片，往空中一震，瞬间风停）过来吧。",null,10005,{"$f":"IF(K104=K103,L103+1,1)","v":7},"",null,null,{"$f":"IF(N104=\"\",\"\",\"-\"&VLOOKUP(N104,EventConditionConfig!A:C,3,FALSE)&IF(O104=\"\",\"\",CHAR(10)&\"-\"&VLOOKUP(O104,EventConditionConfig!A:C,3,FALSE)))","v":""},null,null,{"$f":"_xlfn.TEXTJOIN(\";\",1,T104,V104)","v":""},{"$nulls":7},{"$f":"IF(A104=\"\",\"\",IF(Q104=1,\"\",IF(A105=\"\",3,1)))","v":1},{"$f":"IF(AA104=1,A105,IF(AA104=3,LEFT(A104,5)+1,\"\"))","v":1000508}]
[{"$f":"K105*100+L105","v":1000508},2151,"初见疯道人",null,null,103,{"$f":"IF(F105=\"\",\"\",VLOOKUP(F105,EventNPC!A:E,5,FALSE))","v":"疯道人"},2125,"说吧，为何寻那鲲鹏？",null,10005,{"$f":"IF(K105=K104,L104+1,1)","v":8},"",null,null,{"$f":"IF(N105=\"\",\"\",\"-\"&VLOOKUP(N105,EventConditionConfig!A:C,3,FALSE)&IF(O105=\"\",\"\",CHAR(10)&\"-\"&VLOOKUP(O105,EventConditionConfig!A:C,3,FALSE)))","v":""},1,{"$f":"A106","v":1000509},{"$f":"_xlfn.TEXTJOIN(\";\",1,T105,V105)","v":"2126;2127"},2126,"冲虚真人让我去的",2127,"我只是好奇..",null,null,null,{"$f":"IF(A105=\"\",\"\",IF(Q105=1,\"\",IF(A106=\"\",3,1)))","v":""},{"$f":"IF(AA105=1,A106,IF(AA105=3,LEFT(A105,5)+1,\"\"))","v":""}]
[1000509,2151,"初见疯道人",null,null,103,{"$f":"IF(F106=\"\",\"\",VLOOKUP(F106,EventNPC!A:E,5,FALSE))","v":"疯道人"},2128,"你可知鹏飞九万里，需凭借龙卷风，才可达成？",null,10005,9,"",null,null,{"$f":"IF(N106=\"\",\"\",\"-\"&VLOOKUP(N106,EventConditionConfig!A:C,3,FALSE)&IF(O106=\"\",\"\",CHAR(10)&\"-\"&VLOOKUP(O106,EventConditionConfig!A:C,3,FALSE)))","v":""},1,{"$f":"A107","v":1000510},{"$f":"_xlfn.TEXTJOIN(\";\",1,T106,V106)","v":"2129"},2129,"请前辈赐教......",{"$nulls":5},"",""]
[1000510,2151,"初见疯道人",null,null,103,{"$f":"IF(F107=\"\",\"\",VLOOKUP(F107,EventNPC!A:E,5,FALSE))","v":"疯道人"},2130,"看你修为尚浅，跟你说多了也无用。",null,10005,10,"",null,null,{"$f":"IF(N107=\"\",\"\",\"-\"&VLOOKUP(N107,EventConditionConfig!A:C,3,FALSE)&IF(O107=\"\",\"\",CHAR(10)&\"-\"&VLOOKUP(O107,EventConditionConfig!A:C,3,FALSE)))","v":""},null,null,{"$f":"_xlfn.TEXTJOIN(\";\",1,T107,V107)","v":""},{"$nulls":7},1,1000511]
[{"$f":"K108*100+L108","v":1000511},2151,"初见疯道人",null,null,103,{"$f":"IF(F108=\"\",\"\",VLOOKUP(F108,EventNPC!A:E,5,FALSE))","v":"疯道人"},2131,"再往前是我师弟的洞府了，他可不好说话。",null,10005,{"$f":"IF(K108=K107,L107+1,1)","v":11},"",null,null,{"$f":"IF(N108=\"\",\"\",\"-\"&VLOOKUP(N108,EventConditionConfig!A:C,3,FALSE)&IF(O108=\"\",\"\",CHAR(10)&\"-\"&VLOOKUP(O108,EventConditionConfig!A:C,3,FALSE)))","v":""},null,null,{"$f":"_xlfn.TEXTJOIN(\";\",1,T108,V108)","v":""},{"$nulls":7},{"$f":"IF(A108=\"\",\"\",IF(Q108=1,\"\",IF(A109=\"\",3,1)))","v":1},{"$f":"IF(AA108=1,A109,IF(AA108=3,LEFT(A108,5)+1,\"\"))","v":1000512}]
[{"$f":"K109*100+L109","v":1000512},2151,"初见疯道人",null,null,103,{"$f":"IF(F109=\"\",\"\",VLOOKUP(F109,EventNPC!A:E,5,FALSE))","v":"疯道人"},2132,"就在我这附近好好修炼吧，至少提升至筑基修为。",null,10005,{"$f":"IF(K109=K108,L108+1,1)","v":12},"",null,null,{"$f":"IF(N109=\"\",\"\",\"-\"&VLOOKUP(N109,EventConditionConfig!A:C,3,FALSE)&IF(O109=\"\",\"\",CHAR(10)&\"-\"&VLOOKUP(O109,EventConditionConfig!A:C,3,FALSE)))","v":""},1,{"$f":"A110","v":1000513},{"$f":"_xlfn.TEXTJOIN(\";\",1,T109,V109)","v":"2133"},2133,"前辈为何如此助我？",{"$nulls":5},{"$f":"IF(A109=\"\",\"\",IF(Q109=1,\"\",IF(A110=\"\",3,1)))","v":""},{"$f":"IF(AA109=1,A110,IF(AA109=3,LEFT(A109,5)+1,\"\"))","v":""}]
[1000513,2151,"初见疯道人",null,null,103,{"$f":"IF(F110=\"\",\"\",VLOOKUP(F110,EventNPC!A:E,5,FALSE))","v":"疯道人"},2134,"（疯道人望你一眼，没有回答，但丢过来一本功法）修到[筑基-中期]再来找我。",null,10005,13,"",null,null,{"$f":"IF(N110=\"\",\"\",\"-\"&VLOOKUP(N110,EventConditionConfig!A:C,3,FALSE)&IF(O110=\"\",\"\",CHAR(10)&\"-\"&VLOOKUP(O110,EventConditionConfig!A:C,3,FALSE)))","v":""},null,null,{"$f":"_xlfn.TEXTJOIN(\";\",1,T110,V110)","v":""},{"$nulls":7},1,1000514]
[{"$f":"K111*100+L111","v":1000514},2151,"初见疯道人",null,null,null,{"$f":"IF(F111=\"\",\"\",VLOOKUP(F111,EventNPC!A:E,5,FALSE))","v":""},null,null,null,10005,{"$f":"IF(K111=K110,L110+1,1)","v":14},"2",2,null,{"$f":"IF(N111=\"\",\"\",\"-\"&VLOOKUP(N111,EventConditionConfig!A:C,3,FALSE)&IF(O111=\"\",\"\",CHAR(10)&\"-\"&VLOOKUP(O111,EventConditionConfig!A:C,3,FALSE)))","v":"-达到境界：筑基-中期"},null,null,{"$f":"_xlfn.TEXTJOIN(\";\",1,T111,V111)","v":""},{"$nulls":7},{"$f":"IF(A111=\"\",\"\",IF(Q111=1,\"\",IF(A112=\"\",3,1)))","v":3},{"$f":"IF(AA111=1,A112,IF(AA111=3,LEFT(A111,5)+1,\"\"))","v":10006}]
[{"$nulls":12},"",null,null,{"$f":"IF(N112=\"\",\"\",\"-\"&VLOOKUP(N112,EventConditionConfig!A:C,3,FALSE)&IF(O112=\"\",\"\",CHAR(10)&\"-\"&VLOOKUP(O112,EventConditionConfig!A:C,3,FALSE)))","v":""}]
[{"$f":"K113*100+L113","v":1000601},2152,"疯道人赠与一半风灵珠",null,null,103,{"$f":"IF(F113=\"\",\"\",VLOOKUP(F113,EventNPC!A:E,5,FALSE))","v":"疯道人"},2139,"你已突破筑基前期达到中期，灵力通畅，是时候去会一会我的师弟了。",null,10006,{"$f":"IF(K113=K112,L112+1,1)","v":1},"",null,null,{"$f":"IF(N113=\"\",\"\",\"-\"&VLOOKUP(N113,EventConditionConfig!A:C,3,FALSE)&IF(O113=\"\",\"\",CHAR(10)&\"-\"&VLOOKUP(O113,EventConditionConfig!A:C,3,FALSE)))","v":""},1,"100603;100602",{"$f":"_xlfn.TEXTJOIN(\";\",1,T113,V113)","v":"2140;2141"},2140,"是的。鲲鹏之行，志在必达。",2141,"看看风的尽头到底有什么。",null,null,null,{"$f":"IF(A113=\"\",\"\",IF(Q113=1,\"\",IF(A114=\"\",3,1)))","v":""},{"$f":"IF(AA113=1,A114,IF(AA113=3,LEFT(A113,5)+1,\"\"))","v":""}]
[{"$f":"K114*100+L114","v":1000602},2152,"疯道人赠与一半风灵珠",null,null,103,{"$f":"IF(F114=\"\",\"\",VLOOKUP(F114,EventNPC!A:E,5,FALSE))","v":"疯道人"},2142,"（轻轻一笑）你说风的尽头……我也曾想看。\n（他望向远处翻涌的云海）",null,10006,{"$f":"IF(K114=K113,L113+1,1)","v":2},"",null,null,{"$f":"IF(N114=\"\",\"\",\"-\"&VLOOKUP(N114,EventConditionConfig!A:C,3,FALSE)&IF(O114=\"\",\"\",CHAR(10)&\"-\"&VLOOKUP(O114,EventConditionConfig!A:C,3,FALSE)))","v":""},1,{"$f":"A115","v":1000603},{"$f":"_xlfn.TEXTJOIN(\";\",1,T114,V114)","v":""},{"$nulls":7},{"$f":"IF(A114=\"\",\"\",IF(Q114=1,\"\",IF(A115=\"\",3,1)))","v":""},{"$f":"IF(AA114=1,A115,IF(AA114=3,LEFT(A114,5)+1,\"\"))","v":""}]
[{"$f":"K115*100+L115","v":1000603},2152,"疯道人赠与一半风灵珠",null,null,103,{"$f":"IF(F115=\"\",\"\",VLOOKUP(F115,EventNPC!A:E,5,FALSE))","v":"疯道人"},2143,"我和师弟，共守这处风眼多年。我想出去，他却偏要留。",null,10006,{"$f":"IF(K115=K114,L114+1,1)","v":3},"",null,null,{"$f":"IF(N115=\"\",\"\",\"-\"&VLOOKUP(N115,EventConditionConfig!A:C,3,FALSE)&IF(O115=\"\",\"\",CHAR(10)&\"-\"&VLOOKUP(O115,EventConditionConfig!A:C,3,FALSE)))","v":""},null,null,{"$f":"_xlfn.TEXTJOIN(\";\",1,T115,V115)","v":""},{"$nulls":7},{"$f":"IF(A115=\"\",\"\",IF(Q115=1,\"\",IF(A116=\"\",3,1)))","v":1},{"$f":"IF(AA115=1,A116,IF(AA115=3,LEFT(A115,5)+1,\"\"))","v":1000604}]
[{"$f":"K116*100+L116","v":1000604},2152,"疯道人赠与一半风灵珠",null,null,103,{"$f":"IF(F116=\"\",\"\",VLOOKUP(F116,EventNPC!A:E,5,FALSE))","v":"疯道人"},2144,"风灵珠碎成两半，一半在我这里，另一半……在他洞府中。",null,10006,{"$f":"IF(K116=K115,L115+1,1)","v":4},"",null,null,{"$f":"IF(N116=\"\",\"\",\"-\"&VLOOKUP(N116,EventConditionConfig!A:C,3,FALSE)&IF(O116=\"\",\"\",CHAR(10)&\"-\"&VLOOKUP(O116,EventConditionConfig!A:C,3,FALSE)))","v":""},null,null,{"$f":"_xlfn.TEXTJOIN(\";\",1,T116,V116)","v":""},{"$nulls":7},{"$f":"IF(A116=\"\",\"\",IF(Q116=1,\"\",IF(A117=\"\",3,1)))","v":1},{"$f":"IF(AA116=1,A117,IF(AA116=3,LEFT(A116,5)+1,\"\"))","v":1000605}]
[{"$f":"K117*100+L117","v":1000605},2152,"疯道人赠与一半风灵珠",null,null,103,{"$f":"IF(F117=\"\",\"\",VLOOKUP(F117,EventNPC!A:E,5,FALSE))","v":"疯道人"},2145,"你若想见鲲鹏，必须要集齐整个风灵珠。",null,10006,{"$f":"IF(K117=K116,L116+1,1)","v":5},"",null,null,{"$f":"IF(N117=\"\",\"\",\"-\"&VLOOKUP(N117,EventConditionConfig!A:C,3,FALSE)&IF(O117=\"\",\"\",CHAR(10)&\"-\"&VLOOKUP(O117,EventConditionConfig!A:C,3,FALSE)))","v":""},null,null,{"$f":"_xlfn.TEXTJOIN(\";\",1,T117,V117)","v":""},{"$nulls":7},{"$f":"IF(A117=\"\",\"\",IF(Q117=1,\"\",IF(A118=\"\",3,1)))","v":1},{"$f":"IF(AA117=1,A118,IF(AA117=3,LEFT(A117,5)+1,\"\"))","v":1000606}]
[{"$f":"K118*100+L118","v":1000606},2152,"疯道人赠与一半风灵珠",null,null,103,{"$f":"IF(F118=\"\",\"\",VLOOKUP(F118,EventNPC!A:E,5,FALSE))","v":"疯道人"},2146,"我这一半给你，可助你在大风中，来去自如。",null,10006,{"$f":"IF(K118=K117,L117+1,1)","v":6},"",null,null,{"$f":"IF(N118=\"\",\"\",\"-\"&VLOOKUP(N118,EventConditionConfig!A:C,3,FALSE)&IF(O118=\"\",\"\",CHAR(10)&\"-\"&VLOOKUP(O118,EventConditionConfig!A:C,3,FALSE)))","v":""},null,null,{"$f":"_xlfn.TEXTJOIN(\";\",1,T118,V118)","v":""},{"$nulls":7},{"$f":"IF(A118=\"\",\"\",IF(Q118=1,\"\",IF(A119=\"\",3,1)))","v":3},{"$f":"IF(AA118=1,A119,IF(AA118=3,LEFT(A118,5)+1,\"\"))","v":10007}]
[{"$nulls":12},"",null,null,{"$f":"IF(N119=\"\",\"\",\"-\"&VLOOKUP(N119,EventConditionConfig!A:C,3,FALSE)&IF(O119=\"\",\"\",CHAR(10)&\"-\"&VLOOKUP(O119,EventConditionConfig!A:C,3,FALSE)))","v":""}]
[{"$f":"K120*100+L120","v":1000701},2153,"没想到痴道人一来就要与你交手",null,null,null,{"$f":"IF(F120=\"\",\"\",VLOOKUP(F120,EventNPC!A:E,5,FALSE))","v":""},2147,"你获得了疯道人的半颗风灵珠，在狂风中自由飞行，好不自在。",null,10007,{"$f":"IF(K120=K119,L119+1,1)","v":1},"",null,null,{"$f":"IF(N120=\"\",\"\",\"-\"&VLOOKUP(N120,EventConditionConfig!A:C,3,FALSE)&IF(O120=\"\",\"\",CHAR(10)&\"-\"&VLOOKUP(O120,EventConditionConfig!A:C,3,FALSE)))","v":""},null,null,{"$f":"_xlfn.TEXTJOIN(\";\",1,T120,V120)","v":""},{"$nulls":7},{"$f":"IF(A120=\"\",\"\",IF(Q120=1,\"\",IF(A121=\"\",3,1)))","v":1},{"$f":"IF(AA120=1,A121,IF(AA120=3,LEFT(A120,5)+1,\"\"))","v":1000702}]
[{"$f":"K121*100+L121","v":1000702},2153,"没想到痴道人一来就要与你交手",null,null,null,{"$f":"IF(F121=\"\",\"\",VLOOKUP(F121,EventNPC!A:E,5,FALSE))","v":""},2148,"这......就是逍遥游吗？",null,10007,{"$f":"IF(K121=K120,L120+1,1)","v":2},"",null,null,{"$f":"IF(N121=\"\",\"\",\"-\"&VLOOKUP(N121,EventConditionConfig!A:C,3,FALSE)&IF(O121=\"\",\"\",CHAR(10)&\"-\"&VLOOKUP(O121,EventConditionConfig!A:C,3,FALSE)))","v":""},null,null,{"$f":"_xlfn.TEXTJOIN(\";\",1,T121,V121)","v":""},{"$nulls":7},{"$f":"IF(A121=\"\",\"\",IF(Q121=1,\"\",IF(A122=\"\",3,1)))","v":1},{"$f":"IF(AA121=1,A122,IF(AA121=3,LEFT(A121,5)+1,\"\"))","v":1000703}]
[{"$f":"K122*100+L122","v":1000703},2153,"没想到痴道人一来就要与你交手",null,null,104,{"$f":"IF(F122=\"\",\"\",VLOOKUP(F122,EventNPC!A:E,5,FALSE))","v":"痴道人"},2149,"你终于来了......",null,10007,{"$f":"IF(K122=K121,L121+1,1)","v":3},"",null,null,{"$f":"IF(N122=\"\",\"\",\"-\"&VLOOKUP(N122,EventConditionConfig!A:C,3,FALSE)&IF(O122=\"\",\"\",CHAR(10)&\"-\"&VLOOKUP(O122,EventConditionConfig!A:C,3,FALSE)))","v":""},1,{"$f":"A123","v":1000704},{"$f":"_xlfn.TEXTJOIN(\";\",1,T122,V122)","v":"2150"},2150,"你知道我要来？",{"$nulls":5},{"$f":"IF(A122=\"\",\"\",IF(Q122=1,\"\",IF(A123=\"\",3,1)))","v":""},{"$f":"IF(AA122=1,A123,IF(AA122=3,LEFT(A122,5)+1,\"\"))","v":""}]
[{"$f":"K123*100+L123","v":1000704},2153,"没想到痴道人一来就要与你交手",null,null,104,{"$f":"IF(F123=\"\",\"\",VLOOKUP(F123,EventNPC!A:E,5,FALSE))","v":"痴道人"},2154,"多说无益，我早已感应到你身上的半颗风灵珠。必是那疯老头让来的。出手吧！",null,10007,{"$f":"IF(K123=K122,L122+1,1)","v":4},"",null,null,{"$f":"IF(N123=\"\",\"\",\"-\"&VLOOKUP(N123,EventConditionConfig!A:C,3,FALSE)&IF(O123=\"\",\"\",CHAR(10)&\"-\"&VLOOKUP(O123,EventConditionConfig!A:C,3,FALSE)))","v":""},2,100004,{"$f":"_xlfn.TEXTJOIN(\";\",1,T123,V123)","v":""},{"$nulls":7},2,"1000705;101"]
[1000705,2153,"没想到痴道人一来就要与你交手",null,null,104,{"$f":"IF(F124=\"\",\"\",VLOOKUP(F124,EventNPC!A:E,5,FALSE))","v":"痴道人"},2155,"（被击倒在一边）够了！",null,10007,5,"",null,null,{"$f":"IF(N124=\"\",\"\",\"-\"&VLOOKUP(N124,EventConditionConfig!A:C,3,FALSE)&IF(O124=\"\",\"\",CHAR(10)&\"-\"&VLOOKUP(O124,EventConditionConfig!A:C,3,FALSE)))","v":""},null,null,{"$f":"_xlfn.TEXTJOIN(\";\",1,T124,V124)","v":""},{"$nulls":7},{"$f":"IF(A124=\"\",\"\",IF(Q124=1,\"\",IF(A125=\"\",3,1)))","v":3},{"$f":"IF(AA124=1,A125,IF(AA124=3,LEFT(A124,5)+1,\"\"))","v":10008}]
[{"$nulls":12},"",null,null,{"$f":"IF(N125=\"\",\"\",\"-\"&VLOOKUP(N125,EventConditionConfig!A:C,3,FALSE)&IF(O125=\"\",\"\",CHAR(10)&\"-\"&VLOOKUP(O125,EventConditionConfig!A:C,3,FALSE)))","v":""}]
[{"$f":"K126*100+L126","v":1000801},2156,"疯痴相聚",null,null,104,{"$f":"IF(F126=\"\",\"\",VLOOKUP(F126,EventNPC!A:E,5,FALSE))","v":"痴道人"},2157,"......",null,10008,{"$f":"IF(K126=K125,L125+1,1)","v":1},"",null,null,{"$f":"IF(N126=\"\",\"\",\"-\"&VLOOKUP(N126,EventConditionConfig!A:C,3,FALSE)&IF(O126=\"\",\"\",CHAR(10)&\"-\"&VLOOKUP(O126,EventConditionConfig!A:C,3,FALSE)))","v":""},1,{"$f":"A127","v":1000802},{"$f":"_xlfn.TEXTJOIN(\";\",1,T126,V126)","v":"2158"},2158,"（你靠近痴道人）你真的想一直留在这里？你师兄说你不肯走。",{"$nulls":5},{"$f":"IF(A126=\"\",\"\",IF(Q126=1,\"\",IF(A127=\"\",3,1)))","v":""},{"$f":"IF(AA126=1,A127,IF(AA126=3,LEFT(A126,5)+1,\"\"))","v":""}]
[1000802,2156,"疯痴相聚",null,null,104,{"$f":"IF(F127=\"\",\"\",VLOOKUP(F127,EventNPC!A:E,5,FALSE))","v":"痴道人"},2159,"你修炼的时候，有没有过那种感觉——身边的人都在往前走，只有你还在原地。",null,10008,2,"",null,null,{"$f":"IF(N127=\"\",\"\",\"-\"&VLOOKUP(N127,EventConditionConfig!A:C,3,FALSE)&IF(O127=\"\",\"\",CHAR(10)&\"-\"&VLOOKUP(O127,EventConditionConfig!A:C,3,FALSE)))","v":""},null,null,{"$f":"_xlfn.TEXTJOIN(\";\",1,T127,V127)","v":""},{"$nulls":7},1,1000803]
[{"$f":"K128*100+L128","v":1000803},2156,"疯痴相聚",null,null,104,{"$f":"IF(F128=\"\",\"\",VLOOKUP(F128,EventNPC!A:E,5,FALSE))","v":"痴道人"},2160,"我师兄，他悟性极高，一年就能走我三年的路。我不服气，想努力赶上他。",null,10008,{"$f":"IF(K128=K127,L127+1,1)","v":3},"",null,null,{"$f":"IF(N128=\"\",\"\",\"-\"&VLOOKUP(N128,EventConditionConfig!A:C,3,FALSE)&IF(O128=\"\",\"\",CHAR(10)&\"-\"&VLOOKUP(O128,EventConditionConfig!A:C,3,FALSE)))","v":""},1,{"$f":"A129","v":1000804},{"$f":"_xlfn.TEXTJOIN(\";\",1,T128,V128)","v":"2161"},2161,"然后呢？",{"$nulls":5},{"$f":"IF(A128=\"\",\"\",IF(Q128=1,\"\",IF(A129=\"\",3,1)))","v":""},{"$f":"IF(AA128=1,A129,IF(AA128=3,LEFT(A128,5)+1,\"\"))","v":""}]
[{"$f":"K129*100+L129","v":1000804},2156,"疯痴相聚",null,null,104,{"$f":"IF(F129=\"\",\"\",VLOOKUP(F129,EventNPC!A:E,5,FALSE))","v":"痴道人"},2162,"我一直苦心修炼，可人也困在这儿了……越修炼，越困难，修不动了。",null,10008,{"$f":"IF(K129=K128,L128+1,1)","v":4},"",null,null,{"$f":"IF(N129=\"\",\"\",\"-\"&VLOOKUP(N129,EventConditionConfig!A:C,3,FALSE)&IF(O129=\"\",\"\",CHAR(10)&\"-\"&VLOOKUP(O129,EventConditionConfig!A:C,3,FALSE)))","v":""},null,null,{"$f":"_xlfn.TEXTJOIN(\";\",1,T129,V129)","v":""},{"$nulls":7},{"$f":"IF(A129=\"\",\"\",IF(Q129=1,\"\",IF(A130=\"\",3,1)))","v":1},{"$f":"IF(AA129=1,A130,IF(AA129=3,LEFT(A129,5)+1,\"\"))","v":1000805}]
[{"$f":"K130*100+L130","v":1000805},2156,"疯痴相聚",null,null,null,{"$f":"IF(F130=\"\",\"\",VLOOKUP(F130,EventNPC!A:E,5,FALSE))","v":""},2163,"[此时，疯道人踏风而至，就在几步之外]",null,10008,{"$f":"IF(K130=K129,L129+1,1)","v":5},"",null,null,{"$f":"IF(N130=\"\",\"\",\"-\"&VLOOKUP(N130,EventConditionConfig!A:C,3,FALSE)&IF(O130=\"\",\"\",CHAR(10)&\"-\"&VLOOKUP(O130,EventConditionConfig!A:C,3,FALSE)))","v":""},null,null,{"$f":"_xlfn.TEXTJOIN(\";\",1,T130,V130)","v":""},{"$nulls":7},{"$f":"IF(A130=\"\",\"\",IF(Q130=1,\"\",IF(A131=\"\",3,1)))","v":1},{"$f":"IF(AA130=1,A131,IF(AA130=3,LEFT(A130,5)+1,\"\"))","v":1000806}]
[{"$f":"K131*100+L131","v":1000806},2156,"疯痴相聚",null,null,103,{"$f":"IF(F131=\"\",\"\",VLOOKUP(F131,EventNPC!A:E,5,FALSE))","v":"疯道人"},2164,"师弟，你修着修着，就不记得一开始，是为了什么而修行。",null,10008,{"$f":"IF(K131=K130,L130+1,1)","v":6},"",null,null,{"$f":"IF(N131=\"\",\"\",\"-\"&VLOOKUP(N131,EventConditionConfig!A:C,3,FALSE)&IF(O131=\"\",\"\",CHAR(10)&\"-\"&VLOOKUP(O131,EventConditionConfig!A:C,3,FALSE)))","v":""},null,null,{"$f":"_xlfn.TEXTJOIN(\";\",1,T131,V131)","v":""},{"$nulls":7},{"$f":"IF(A131=\"\",\"\",IF(Q131=1,\"\",IF(A132=\"\",3,1)))","v":1},{"$f":"IF(AA131=1,A132,IF(AA131=3,LEFT(A131,5)+1,\"\"))","v":1000807}]
[{"$f":"K132*100+L132","v":1000807},2156,"疯痴相聚",null,null,104,{"$f":"IF(F132=\"\",\"\",VLOOKUP(F132,EventNPC!A:E,5,FALSE))","v":"痴道人"},2165,"（抬头）......我，我真的不记得了。",null,10008,{"$f":"IF(K132=K131,L131+1,1)","v":7},"",null,null,{"$f":"IF(N132=\"\",\"\",\"-\"&VLOOKUP(N132,EventConditionConfig!A:C,3,FALSE)&IF(O132=\"\",\"\",CHAR(10)&\"-\"&VLOOKUP(O132,EventConditionConfig!A:C,3,FALSE)))","v":""},null,null,{"$f":"_xlfn.TEXTJOIN(\";\",1,T132,V132)","v":""},{"$nulls":7},{"$f":"IF(A132=\"\",\"\",IF(Q132=1,\"\",IF(A133=\"\",3,1)))","v":1},{"$f":"IF(AA132=1,A133,IF(AA132=3,LEFT(A132,5)+1,\"\"))","v":1000808}]
[{"$f":"K133*100+L133","v":1000808},2156,"疯痴相聚",null,null,103,{"$f":"IF(F133=\"\",\"\",VLOOKUP(F133,EventNPC!A:E,5,FALSE))","v":"疯道人"},2166,"那就放下风灵珠，和我出去走走。",null,10008,{"$f":"IF(K133=K132,L132+1,1)","v":8},"",null,null,{"$f":"IF(N133=\"\",\"\",\"-\"&VLOOKUP(N133,EventConditionConfig!A:C,3,FALSE)&IF(O133=\"\",\"\",CHAR(10)&\"-\"&VLOOKUP(O133,EventConditionConfig!A:C,3,FALSE)))","v":""},null,null,{"$f":"_xlfn.TEXTJOIN(\";\",1,T133,V133)","v":""},{"$nulls":7},{"$f":"IF(A133=\"\",\"\",IF(Q133=1,\"\",IF(A134=\"\",3,1)))","v":1},{"$f":"IF(AA133=1,A134,IF(AA133=3,LEFT(A133,5)+1,\"\"))","v":1000809}]
[{"$f":"K134*100+L134","v":1000809},2156,"疯痴相聚",null,null,103,{"$f":"IF(F134=\"\",\"\",VLOOKUP(F134,EventNPC!A:E,5,FALSE))","v":"疯道人"},2167,"[痴道人楞了一下，片刻后轻轻点头]",null,10008,{"$f":"IF(K134=K133,L133+1,1)","v":9},{"$f":"_xlfn.TEXTJOIN(\";\",1,N134:O134)","v":""},null,null,{"$f":"IF(N134=\"\",\"\",\"-\"&VLOOKUP(N134,EventConditionConfig!A:C,3,FALSE)&IF(O134=\"\",\"\",CHAR(10)&\"-\"&VLOOKUP(O134,EventConditionConfig!A:C,3,FALSE)))","v":""},null,null,{"$f":"_xlfn.TEXTJOIN(\";\",1,T134,V134)","v":""},{"$nulls":7},{"$f":"IF(A134=\"\",\"\",IF(Q134=1,\"\",IF(A135=\"\",3,1)))","v":1},{"$f":"IF(AA134=1,A135,IF(AA134=3,LEFT(A134,5)+1,\"\"))","v":1000810}]
[{"$f":"K135*100+L135","v":1000810},2156,"疯痴相聚",null,null,null,{"$f":"IF(F135=\"\",\"\",VLOOKUP(F135,EventNPC!A:E,5,FALSE))","v":""},2168,"[突然..洞府周围灵气汇聚，快速涌入痴道人的身体.]",null,10008,{"$f":"IF(K135=K134,L134+1,1)","v":10},"",null,null,{"$f":"IF(N135=\"\",\"\",\"-\"&VLOOKUP(N135,EventConditionConfig!A:C,3,FALSE)&IF(O135=\"\",\"\",CHAR(10)&\"-\"&VLOOKUP(O135,EventConditionConfig!A:C,3,FALSE)))","v":""},1,{"$f":"A136","v":1000811},{"$f":"_xlfn.TEXTJOIN(\";\",1,T135,V135)","v":"2169"},2169,"前辈，为何灵气会动！",{"$nulls":5},{"$f":"IF(A135=\"\",\"\",IF(Q135=1,\"\",IF(A136=\"\",3,1)))","v":""},{"$f":"IF(AA135=1,A136,IF(AA135=3,LEFT(A135,5)+1,\"\"))","v":""}]
[{"$f":"K136*100+L136","v":1000811},2156,"疯痴相聚",null,null,103,{"$f":"IF(F136=\"\",\"\",VLOOKUP(F136,EventNPC!A:E,5,FALSE))","v":"疯道人"},2170,"恭喜师弟，突破心魔。",null,10008,{"$f":"IF(K136=K135,L135+1,1)","v":11},"",null,null,{"$f":"IF(N136=\"\",\"\",\"-\"&VLOOKUP(N136,EventConditionConfig!A:C,3,FALSE)&IF(O136=\"\",\"\",CHAR(10)&\"-\"&VLOOKUP(O136,EventConditionConfig!A:C,3,FALSE)))","v":""},null,null,{"$f":"_xlfn.TEXTJOIN(\";\",1,T136,V136)","v":""},{"$nulls":7},{"$f":"IF(A136=\"\",\"\",IF(Q136=1,\"\",IF(A137=\"\",3,1)))","v":1},{"$f":"IF(AA136=1,A137,IF(AA136=3,LEFT(A136,5)+1,\"\"))","v":1000812}]
[{"$f":"K137*100+L137","v":1000812},2156,"疯痴相聚",null,null,104,{"$f":"IF(F137=\"\",\"\",VLOOKUP(F137,EventNPC!A:E,5,FALSE))","v":"痴道人"},{"$f":"MAX(B136,H136,D136,T136,V136)+1","v":2171},"多谢师兄！",null,10008,{"$f":"IF(K137=K136,L136+1,1)","v":12},"",null,null,{"$f":"IF(N137=\"\",\"\",\"-\"&VLOOKUP(N137,EventConditionConfig!A:C,3,FALSE)&IF(O137=\"\",\"\",CHAR(10)&\"-\"&VLOOKUP(O137,EventConditionConfig!A:C,3,FALSE)))","v":""},1,{"$f":"A138","v":1000813},{"$f":"_xlfn.TEXTJOIN(\";\",1,T137,V137)","v":"2172;2173"},{"$f":"H137+1","v":2172},"原来如此…",{"$f":"T137+1","v":2173},"请前辈赐我风灵珠。",null,null,null,{"$f":"IF(A137=\"\",\"\",IF(Q137=1,\"\",IF(A138=\"\",3,1)))","v":""},{"$f":"IF(AA137=1,A138,IF(AA137=3,LEFT(A137,5)+1,\"\"))","v":""}]
[{"$f":"K138*100+L138","v":1000813},2156,"疯痴相聚",null,null,104,{"$f":"IF(F138=\"\",\"\",VLOOKUP(F138,EventNPC!A:E,5,FALSE))","v":"痴道人"},{"$f":"MAX(B137,H137,D137,T137,V137)+1","v":2174},"小友莫急… (说罢，痴道人将风灵珠的碎片合成了一颗完整的风灵珠)",null,10008,{"$f":"IF(K138=K137,L137+1,1)","v":13},"",null,null,{"$f":"IF(N138=\"\",\"\",\"-\"&VLOOKUP(N138,EventConditionConfig!A:C,3,FALSE)&IF(O138=\"\",\"\",CHAR(10)&\"-\"&VLOOKUP(O138,EventConditionConfig!A:C,3,FALSE)))","v":""},null,null,{"$f":"_xlfn.TEXTJOIN(\";\",1,T138,V138)","v":""},{"$nulls":7},{"$f":"IF(A138=\"\",\"\",IF(Q138=1,\"\",IF(A139=\"\",3,1)))","v":1},{"$f":"IF(AA138=1,A139,IF(AA138=3,LEFT(A138,5)+1,\"\"))","v":1000814}]
[{"$f":"K139*100+L139","v":1000814},2156,"疯痴相聚",null,null,104,{"$f":"IF(F139=\"\",\"\",VLOOKUP(F139,EventNPC!A:E,5,FALSE))","v":"痴道人"},{"$f":"MAX(B138,H138,D138,T138,V138)+1","v":2175},"拿好了，这风啊……来一回，不容易。",null,10008,{"$f":"IF(K139=K138,L138+1,1)","v":14},"",null,null,{"$f":"IF(N139=\"\",\"\",\"-\"&VLOOKUP(N139,EventConditionConfig!A:C,3,FALSE)&IF(O139=\"\",\"\",CHAR(10)&\"-\"&VLOOKUP(O139,EventConditionConfig!A:C,3,FALSE)))","v":""},null,null,{"$f":"_xlfn.TEXTJOIN(\";\",1,T139,V139)","v":""},{"$nulls":7},{"$f":"IF(A139=\"\",\"\",IF(Q139=1,\"\",IF(A140=\"\",3,1)))","v":3},{"$f":"IF(AA139=1,A140,IF(AA139=3,LEFT(A139,5)+1,\"\"))","v":10009}]
[{"$nulls":12},"",null,null,{"$f":"IF(N140=\"\",\"\",\"-\"&VLOOKUP(N140,EventConditionConfig!A:C,3,FALSE)&IF(O140=\"\",\"\",CHAR(10)&\"-\"&VLOOKUP(O140,EventConditionConfig!A:C,3,FALSE)))","v":""}]
[{"$f":"K141*100+L141","v":1000901},{"$f":"IF(B140=\"\",MAX(V139,T139,H139)+1,B140)","v":2176},"达到筑基后期",null,null,100,{"$f":"IF(F141=\"\",\"\",VLOOKUP(F141,EventNPC!A:E,5,FALSE))","v":"玩家"},{"$f":"IF(L141=1,B141+1,MAX(B140,H140,D140,T140,V140)+1)","v":2177},"完整的风灵珠果然不同凡响，我可以更大的狂风中穿行了。",null,10009,{"$f":"IF(K141=K140,L140+1,1)","v":1},"",null,null,{"$f":"IF(N141=\"\",\"\",\"-\"&VLOOKUP(N141,EventConditionConfig!A:C,3,FALSE)&IF(O141=\"\",\"\",CHAR(10)&\"-\"&VLOOKUP(O141,EventConditionConfig!A:C,3,FALSE)))","v":""},null,null,{"$f":"_xlfn.TEXTJOIN(\";\",1,T141,V141)","v":""},{"$nulls":7},{"$f":"IF(A141=\"\",\"\",IF(Q141=1,\"\",IF(A142=\"\",3,1)))","v":1},{"$f":"IF(AA141=1,A142,IF(AA141=3,LEFT(A141,5)+1,\"\"))","v":1000902}]
[{"$f":"K142*100+L142","v":1000902},{"$f":"IF(B141=\"\",MAX(V140,T140,H140)+1,B141)","v":2176},"达到筑基后期",null,null,100,{"$f":"IF(F142=\"\",\"\",VLOOKUP(F142,EventNPC!A:E,5,FALSE))","v":"玩家"},{"$f":"IF(L142=1,B142+1,MAX(B141,H141,D141,T141,V141)+1)","v":2178},"前方似乎有不少高阶妖兽，我先在此地提升一些修为吧。",null,10009,{"$f":"IF(K142=K141,L141+1,1)","v":2},"",null,null,{"$f":"IF(N142=\"\",\"\",\"-\"&VLOOKUP(N142,EventConditionConfig!A:C,3,FALSE)&IF(O142=\"\",\"\",CHAR(10)&\"-\"&VLOOKUP(O142,EventConditionConfig!A:C,3,FALSE)))","v":""},null,null,{"$f":"_xlfn.TEXTJOIN(\";\",1,T142,V142)","v":""},{"$nulls":7},{"$f":"IF(A142=\"\",\"\",IF(Q142=1,\"\",IF(A143=\"\",3,1)))","v":1},{"$f":"IF(AA142=1,A143,IF(AA142=3,LEFT(A142,5)+1,\"\"))","v":1000903}]
[{"$f":"K143*100+L143","v":1000903},{"$f":"IF(B142=\"\",MAX(V141,T141,H141)+1,B142)","v":2176},"达到筑基后期",null,null,100,{"$f":"IF(F143=\"\",\"\",VLOOKUP(F143,EventNPC!A:E,5,FALSE))","v":"玩家"},{"$f":"IF(L143=1,B143+1,MAX(B142,H142,D142,T142,V142)+1)","v":2179},"终于筑基中期了，继续寻找冲虚提到的“七道心境”吧，不知鲲鹏是否会给我答案。",null,10009,{"$f":"IF(K143=K142,L142+1,1)","v":3},"8",8,null,{"$f":"IF(N143=\"\",\"\",\"-\"&VLOOKUP(N143,EventConditionConfig!A:C,3,FALSE)&IF(O143=\"\",\"\",CHAR(10)&\"-\"&VLOOKUP(O143,EventConditionConfig!A:C,3,FALSE)))","v":"-达到境界：筑基-后期"},null,null,{"$f":"_xlfn.TEXTJOIN(\";\",1,T143,V143)","v":""},{"$nulls":7},{"$f":"IF(A143=\"\",\"\",IF(Q143=1,\"\",IF(A144=\"\",3,1)))","v":3},{"$f":"IF(AA143=1,A144,IF(AA143=3,LEFT(A143,5)+1,\"\"))","v":10010}]
[{"$nulls":12},"",null,null,{"$f":"IF(N144=\"\",\"\",\"-\"&VLOOKUP(N144,EventConditionConfig!A:C,3,FALSE)&IF(O144=\"\",\"\",CHAR(10)&\"-\"&VLOOKUP(O144,EventConditionConfig!A:C,3,FALSE)))","v":""}]
[{"$f":"K145*100+L145","v":1001001},{"$f":"IF(B144=\"\",MAX(V143,T143,H143)+1,B144)","v":2180},"妖兽横行",null,null,null,{"$f":"IF(F145=\"\",\"\",VLOOKUP(F145,EventNPC!A:E,5,FALSE))","v":""},null,null,null,{"$f":"IF(K144=\"\",K143+1,K144)","v":10010},{"$f":"IF(K145=K144,L144+1,1)","v":1},"9",9,null,{"$f":"IF(N145=\"\",\"\",\"-\"&VLOOKUP(N145,EventConditionConfig!A:C,3,FALSE)&IF(O145=\"\",\"\",CHAR(10)&\"-\"&VLOOKUP(O145,EventConditionConfig!A:C,3,FALSE)))","v":"-击杀妖兽"},null,null,{"$f":"_xlfn.TEXTJOIN(\";\",1,T145,V145)","v":""},{"$nulls":7},{"$f":"IF(A145=\"\",\"\",IF(Q145=1,\"\",IF(A146=\"\",3,1)))","v":3},{"$f":"IF(AA145=1,A146,IF(AA145=3,LEFT(A145,5)+1,\"\"))","v":10011}]
[{"$nulls":12},"",null,null,{"$f":"IF(N146=\"\",\"\",\"-\"&VLOOKUP(N146,EventConditionConfig!A:C,3,FALSE)&IF(O146=\"\",\"\",CHAR(10)&\"-\"&VLOOKUP(O146,EventConditionConfig!A:C,3,FALSE)))","v":""}]
[{"$f":"K147*100+L147","v":1001101},{"$f":"IF(B146=\"\",MAX(V145,T145,H145,B145,D145)+1,B146)","v":2181},"遇见鲲鹏",null,null,null,{"$f":"IF(F147=\"\",\"\",VLOOKUP(F147,EventNPC!A:E,5,FALSE))","v":""},{"$f":"IF(L147=1,B147+1,MAX(B146,H146,D146,T146,V146)+1)","v":2182},"鲲鹏需要去南海最深处的天池，可缺少龙卷风，没有大风，大鹏无法飞起来",null,{"$f":"IF(K146=\"\",K145+1,K146)","v":10011},{"$f":"IF(K147=K146,L146+1,1)","v":1},"",null,null,{"$f":"IF(N147=\"\",\"\",\"-\"&VLOOKUP(N147,EventConditionConfig!A:C,3,FALSE)&IF(O147=\"\",\"\",CHAR(10)&\"-\"&VLOOKUP(O147,EventConditionConfig!A:C,3,FALSE)))","v":""},null,null,{"$f":"_xlfn.TEXTJOIN(\";\",1,T147,V147)","v":""},{"$nulls":7},{"$f":"IF(A147=\"\",\"\",IF(Q147=1,\"\",IF(A148=\"\",3,1)))","v":3},{"$f":"IF(AA147=1,A148,IF(AA147=3,LEFT(A147,5)+1,\"\"))","v":10012}]
[{"$nulls":12},"",null,null,{"$f":"IF(N148=\"\",\"\",\"-\"&VLOOKUP(N148,EventConditionConfig!A:C,3,FALSE)&IF(O148=\"\",\"\",CHAR(10)&\"-\"&VLOOKUP(O148,EventConditionConfig!A:C,3,FALSE)))","v":""}]
[{"$f":"K149*100+L149","v":1001201},{"$f":"IF(B148=\"\",MAX(V147,T147,H147,B147,D147)+1,B148)","v":2183},"尧让天下",{"$f":"IF(E149=\"\",\"\",B149+1)","v":2184},"倾听尧帝的烦恼",null,{"$f":"IF(F149=\"\",\"\",VLOOKUP(F149,EventNPC!A:E,5,FALSE))","v":""},{"$f":"IF(I149=\"\",\"\",IF(L149=1,MAX(D149,B149)+1,MAX(B148,H148,D148,T148,V148)+1))","v":2185},"你踏入帝尧治下的仙域——一片祥和之地，灵气充沛，民众安居，仿佛世外桃源。",null,{"$f":"IF(K148=\"\",K147+1,K148)","v":10012},{"$f":"IF(K149=K148,L148+1,1)","v":1},"",null,null,{"$f":"IF(N149=\"\",\"\",\"-\"&VLOOKUP(N149,EventConditionConfig!A:C,3,FALSE)&IF(O149=\"\",\"\",CHAR(10)&\"-\"&VLOOKUP(O149,EventConditionConfig!A:C,3,FALSE)))","v":""},null,null,{"$f":"_xlfn.TEXTJOIN(\";\",1,T149,V149)","v":""},{"$nulls":7},{"$f":"IF(A149=\"\",\"\",IF(Q149=1,\"\",IF(A150=\"\",3,1)))","v":1},{"$f":"IF(AA149=1,A150,IF(AA149=3,LEFT(A149,5)+1,\"\"))","v":1001202}]
[{"$f":"K150*100+L150","v":1001202},{"$f":"IF(B149=\"\",MAX(V148,T148,H148,B148,D148)+1,B149)","v":2183},"尧让天下",{"$f":"IF(E150=\"\",\"\",B150+1)","v":2184},"倾听尧帝的烦恼",null,{"$f":"IF(F150=\"\",\"\",VLOOKUP(F150,EventNPC!A:E,5,FALSE))","v":""},{"$f":"IF(I150=\"\",\"\",IF(L150=1,MAX(D150,B150)+1,MAX(B149,H149,D149,T149,V149)+1))","v":2186},"然而，这位千年帝君，却眉宇间有难掩的忧色。",null,{"$f":"IF(K149=\"\",K148+1,K149)","v":10012},{"$f":"IF(K150=K149,L149+1,1)","v":2},"",null,null,{"$f":"IF(N150=\"\",\"\",\"-\"&VLOOKUP(N150,EventConditionConfig!A:C,3,FALSE)&IF(O150=\"\",\"\",CHAR(10)&\"-\"&VLOOKUP(O150,EventConditionConfig!A:C,3,FALSE)))","v":""},null,null,{"$f":"_xlfn.TEXTJOIN(\";\",1,T150,V150)","v":""},{"$nulls":7},{"$f":"IF(A150=\"\",\"\",IF(Q150=1,\"\",IF(A151=\"\",3,1)))","v":1},{"$f":"IF(AA150=1,A151,IF(AA150=3,LEFT(A150,5)+1,\"\"))","v":1001203}]
[{"$f":"K151*100+L151","v":1001203},{"$f":"IF(B150=\"\",MAX(V149,T149,H149,B149,D149)+1,B150)","v":2183},"尧让天下",2184,"倾听尧帝的烦恼",null,{"$f":"IF(F151=\"\",\"\",VLOOKUP(F151,EventNPC!A:E,5,FALSE))","v":""},2187,"（你根据逍遥铃的指引，找到了尧）",null,{"$f":"IF(K150=\"\",K149+1,K150)","v":10012},{"$f":"IF(K151=K150,L150+1,1)","v":3},"",null,null,{"$f":"IF(N151=\"\",\"\",\"-\"&VLOOKUP(N151,EventConditionConfig!A:C,3,FALSE)&IF(O151=\"\",\"\",CHAR(10)&\"-\"&VLOOKUP(O151,EventConditionConfig!A:C,3,FALSE)))","v":""},1,{"$f":"A152","v":1001204},{"$f":"_xlfn.TEXTJOIN(\";\",1,T151,V151)","v":"2188"},{"$f":"IF(U151=\"\",\"\",H151+1)","v":2188},"拜见帝尧，晚辈受冲虚真人的指引，游历到此处。",{"$nulls":5},{"$f":"IF(A151=\"\",\"\",IF(Q151=1,\"\",IF(A152=\"\",3,1)))","v":""},{"$f":"IF(AA151=1,A152,IF(AA151=3,LEFT(A151,5)+1,\"\"))","v":""}]
[{"$f":"K152*100+L152","v":1001204},{"$f":"IF(B151=\"\",MAX(V150,T150,H150,B150,D150)+1,B151)","v":2183},"尧让天下",2184,"倾听尧帝的烦恼",105,{"$f":"IF(F152=\"\",\"\",VLOOKUP(F152,EventNPC!A:E,5,FALSE))","v":"尧帝"},2189,"（缓缓回头，脸上带着淡淡忧虑）冲虚真人吗？我也许久没见了..",null,{"$f":"IF(K151=\"\",K150+1,K151)","v":10012},{"$f":"IF(K152=K151,L151+1,1)","v":4},"",null,null,{"$f":"IF(N152=\"\",\"\",\"-\"&VLOOKUP(N152,EventConditionConfig!A:C,3,FALSE)&IF(O152=\"\",\"\",CHAR(10)&\"-\"&VLOOKUP(O152,EventConditionConfig!A:C,3,FALSE)))","v":""},null,null,{"$f":"_xlfn.TEXTJOIN(\";\",1,T152,V152)","v":""},{"$f":"IF(U152=\"\",\"\",H152+1)","v":""},{"$nulls":6},{"$f":"IF(A152=\"\",\"\",IF(Q152=1,\"\",IF(A153=\"\",3,1)))","v":1},{"$f":"IF(AA152=1,A153,IF(AA152=3,LEFT(A152,5)+1,\"\"))","v":1001205}]
[{"$f":"K153*100+L153","v":1001205},{"$f":"IF(B152=\"\",MAX(V151,T151,H151,B151,D151)+1,B152)","v":2183},"尧让天下",2184,"倾听尧帝的烦恼",105,{"$f":"IF(F153=\"\",\"\",VLOOKUP(F153,EventNPC!A:E,5,FALSE))","v":"尧帝"},2190,"(尧帝邀你来到一高处)\n小友，你看此处景致如何？",null,{"$f":"IF(K152=\"\",K151+1,K152)","v":10012},{"$f":"IF(K153=K152,L152+1,1)","v":5},"",null,null,{"$f":"IF(N153=\"\",\"\",\"-\"&VLOOKUP(N153,EventConditionConfig!A:C,3,FALSE)&IF(O153=\"\",\"\",CHAR(10)&\"-\"&VLOOKUP(O153,EventConditionConfig!A:C,3,FALSE)))","v":""},1,{"$f":"A154","v":1001206},{"$f":"_xlfn.TEXTJOIN(\";\",1,T153,V153)","v":"2191;2192"},{"$f":"IF(U153=\"\",\"\",H153+1)","v":2191},"万象更新，灵气环绕，是修行的福地。",{"$f":"IF(W153=\"\",\"\",T153+1)","v":2192},"国泰民安，仙人治理，世间罕见。",null,null,null,{"$f":"IF(A153=\"\",\"\",IF(Q153=1,\"\",IF(A154=\"\",3,1)))","v":""},{"$f":"IF(AA153=1,A154,IF(AA153=3,LEFT(A153,5)+1,\"\"))","v":""}]
[{"$f":"K154*100+L154","v":1001206},{"$f":"IF(B153=\"\",MAX(V152,T152,H152,B152,D152)+1,B153)","v":2183},"尧让天下",2184,"倾听尧帝的烦恼",105,{"$f":"IF(F154=\"\",\"\",VLOOKUP(F154,EventNPC!A:E,5,FALSE))","v":"尧帝"},2193,"（叹息）是啊，人人自在，唯我不自在。这些年来，我境界难以寸进，已有百年。",null,{"$f":"IF(K153=\"\",K152+1,K153)","v":10012},{"$f":"IF(K154=K153,L153+1,1)","v":6},"",null,null,{"$f":"IF(N154=\"\",\"\",\"-\"&VLOOKUP(N154,EventConditionConfig!A:C,3,FALSE)&IF(O154=\"\",\"\",CHAR(10)&\"-\"&VLOOKUP(O154,EventConditionConfig!A:C,3,FALSE)))","v":""},1,{"$f":"A155","v":1001207},{"$f":"_xlfn.TEXTJOIN(\";\",1,T154,V154)","v":"2194"},{"$f":"IF(U154=\"\",\"\",H154+1)","v":2194},"帝尧何出此言？",{"$f":"IF(W154=\"\",\"\",T154+1)","v":""},{"$nulls":4},{"$f":"IF(A154=\"\",\"\",IF(Q154=1,\"\",IF(A155=\"\",3,1)))","v":""},{"$f":"IF(AA154=1,A155,IF(AA154=3,LEFT(A154,5)+1,\"\"))","v":""}]
[{"$f":"K155*100+L155","v":1001207},{"$f":"IF(B154=\"\",MAX(V153,T153,H153,B153,D153)+1,B154)","v":2183},"尧让天下",2184,"倾听尧帝的烦恼",105,{"$f":"IF(F155=\"\",\"\",VLOOKUP(F155,EventNPC!A:E,5,FALSE))","v":"尧帝"},2195,"你等散修，自由自在，来去如风，可曾体会过身负重任的滋味？",null,{"$f":"IF(K154=\"\",K153+1,K154)","v":10012},{"$f":"IF(K155=K154,L154+1,1)","v":7},"",null,null,{"$f":"IF(N155=\"\",\"\",\"-\"&VLOOKUP(N155,EventConditionConfig!A:C,3,FALSE)&IF(O155=\"\",\"\",CHAR(10)&\"-\"&VLOOKUP(O155,EventConditionConfig!A:C,3,FALSE)))","v":""},1,{"$f":"A156","v":1001208},{"$f":"_xlfn.TEXTJOIN(\";\",1,T155,V155)","v":"2196"},{"$f":"IF(U155=\"\",\"\",H155+1)","v":2196},"也有重担，却未必如帝尧这样复杂。",{"$f":"IF(W155=\"\",\"\",T155+1)","v":""},{"$nulls":4},{"$f":"IF(A155=\"\",\"\",IF(Q155=1,\"\",IF(A156=\"\",3,1)))","v":""},{"$f":"IF(AA155=1,A156,IF(AA155=3,LEFT(A155,5)+1,\"\"))","v":""}]
[{"$f":"K156*100+L156","v":1001208},{"$f":"IF(B155=\"\",MAX(V154,T154,H154,B154,D154)+1,B155)","v":2183},"尧让天下",2184,"倾听尧帝的烦恼",105,{"$f":"IF(F156=\"\",\"\",VLOOKUP(F156,EventNPC!A:E,5,FALSE))","v":"尧帝"},2197,"（微微一笑，摇头）天下如画卷，画卷再美，日夜背负，也终是负担。",null,{"$f":"IF(K155=\"\",K154+1,K155)","v":10012},{"$f":"IF(K156=K155,L155+1,1)","v":8},"",null,null,{"$f":"IF(N156=\"\",\"\",\"-\"&VLOOKUP(N156,EventConditionConfig!A:C,3,FALSE)&IF(O156=\"\",\"\",CHAR(10)&\"-\"&VLOOKUP(O156,EventConditionConfig!A:C,3,FALSE)))","v":""},1,{"$f":"A157","v":1001209},{"$f":"_xlfn.TEXTJOIN(\";\",1,T156,V156)","v":"2198"},{"$f":"IF(U156=\"\",\"\",H156+1)","v":2198},"......",{"$f":"IF(W156=\"\",\"\",T156+1)","v":""},{"$nulls":4},{"$f":"IF(A156=\"\",\"\",IF(Q156=1,\"\",IF(A157=\"\",3,1)))","v":""},{"$f":"IF(AA156=1,A157,IF(AA156=3,LEFT(A156,5)+1,\"\"))","v":""}]
[{"$f":"K157*100+L157","v":1001209},{"$f":"IF(B156=\"\",MAX(V155,T155,H155,B155,D155)+1,B156)","v":2183},"尧让天下",2184,"倾听尧帝的烦恼",105,{"$f":"IF(F157=\"\",\"\",VLOOKUP(F157,EventNPC!A:E,5,FALSE))","v":"尧帝"},2199,"（凝望远方云海）深山之中有位贤士，名为许由，素有盛名，我曾多次请他出山，但未成如愿。",null,{"$f":"IF(K156=\"\",K155+1,K156)","v":10012},{"$f":"IF(K157=K156,L156+1,1)","v":9},"",null,null,{"$f":"IF(N157=\"\",\"\",\"-\"&VLOOKUP(N157,EventConditionConfig!A:C,3,FALSE)&IF(O157=\"\",\"\",CHAR(10)&\"-\"&VLOOKUP(O157,EventConditionConfig!A:C,3,FALSE)))","v":""},null,null,{"$f":"_xlfn.TEXTJOIN(\";\",1,T157,V157)","v":""},{"$f":"IF(U157=\"\",\"\",H157+1)","v":""},null,{"$f":"IF(W157=\"\",\"\",T157+1)","v":""},{"$nulls":4},{"$f":"IF(A157=\"\",\"\",IF(Q157=1,\"\",IF(A158=\"\",3,1)))","v":1},{"$f":"IF(AA157=1,A158,IF(AA157=3,LEFT(A157,5)+1,\"\"))","v":1001210}]
[{"$f":"K158*100+L158","v":1001210},{"$f":"IF(B157=\"\",MAX(V156,T156,H156,B156,D156)+1,B157)","v":2183},"尧让天下",2184,"倾听尧帝的烦恼",105,{"$f":"IF(F158=\"\",\"\",VLOOKUP(F158,EventNPC!A:E,5,FALSE))","v":"尧帝"},2200,"我甚至提出让天下于他，他也不为所动。",null,{"$f":"IF(K157=\"\",K156+1,K157)","v":10012},{"$f":"IF(K158=K157,L157+1,1)","v":10},"",null,null,{"$f":"IF(N158=\"\",\"\",\"-\"&VLOOKUP(N158,EventConditionConfig!A:C,3,FALSE)&IF(O158=\"\",\"\",CHAR(10)&\"-\"&VLOOKUP(O158,EventConditionConfig!A:C,3,FALSE)))","v":""},1,{"$f":"A159","v":1001211},{"$f":"_xlfn.TEXTJOIN(\";\",1,T158,V158)","v":"2201"},{"$f":"IF(U158=\"\",\"\",H158+1)","v":2201},"世间竟然有此奇人？",{"$f":"IF(W158=\"\",\"\",T158+1)","v":""},{"$nulls":4},{"$f":"IF(A158=\"\",\"\",IF(Q158=1,\"\",IF(A159=\"\",3,1)))","v":""},{"$f":"IF(AA158=1,A159,IF(AA158=3,LEFT(A158,5)+1,\"\"))","v":""}]
[{"$f":"K159*100+L159","v":1001211},{"$f":"IF(B158=\"\",MAX(V157,T157,H157,B157,D157)+1,B158)","v":2183},"尧让天下",2184,"倾听尧帝的烦恼",105,{"$f":"IF(F159=\"\",\"\",VLOOKUP(F159,EventNPC!A:E,5,FALSE))","v":"尧帝"},2202,"（凝望远方云海）若小友有空，帮我再请许由出山，我定当感谢。",null,{"$f":"IF(K158=\"\",K157+1,K158)","v":10012},{"$f":"IF(K159=K158,L158+1,1)","v":11},"",null,null,{"$f":"IF(N159=\"\",\"\",\"-\"&VLOOKUP(N159,EventConditionConfig!A:C,3,FALSE)&IF(O159=\"\",\"\",CHAR(10)&\"-\"&VLOOKUP(O159,EventConditionConfig!A:C,3,FALSE)))","v":""},1,{"$f":"A160","v":1001212},{"$f":"_xlfn.TEXTJOIN(\";\",1,T159,V159)","v":"2203"},{"$f":"IF(U159=\"\",\"\",H159+1)","v":2203},"好的，既然来了，我就走一趟。",{"$f":"IF(W159=\"\",\"\",T159+1)","v":""},{"$nulls":4},{"$f":"IF(A159=\"\",\"\",IF(Q159=1,\"\",IF(A160=\"\",3,1)))","v":""},{"$f":"IF(AA159=1,A160,IF(AA159=3,LEFT(A159,5)+1,\"\"))","v":""}]
[{"$f":"K160*100+L160","v":1001212},{"$f":"IF(B159=\"\",MAX(V158,T158,H158,B158,D158)+1,B159)","v":2183},"尧让天下",2184,"倾听尧帝的烦恼",null,{"$f":"IF(F160=\"\",\"\",VLOOKUP(F160,EventNPC!A:E,5,FALSE))","v":""},"",null,null,{"$f":"IF(K159=\"\",K158+1,K159)","v":10012},{"$f":"IF(K160=K159,L159+1,1)","v":12},"",null,null,{"$f":"IF(N160=\"\",\"\",\"-\"&VLOOKUP(N160,EventConditionConfig!A:C,3,FALSE)&IF(O160=\"\",\"\",CHAR(10)&\"-\"&VLOOKUP(O160,EventConditionConfig!A:C,3,FALSE)))","v":""},null,null,{"$f":"_xlfn.TEXTJOIN(\";\",1,T160,V160)","v":""},{"$f":"IF(U160=\"\",\"\",H160+1)","v":""},null,{"$f":"IF(W160=\"\",\"\",T160+1)","v":""},{"$nulls":4},{"$f":"IF(A160=\"\",\"\",IF(Q160=1,\"\",IF(A161=\"\",3,1)))","v":3},{"$f":"IF(AA160=1,A161,IF(AA160=3,LEFT(A160,5)+1,\"\"))","v":10013}]
[{"$nulls":12},"",null,null,{"$f":"IF(N161=\"\",\"\",\"-\"&VLOOKUP(N161,EventConditionConfig!A:C,3,FALSE)&IF(O161=\"\",\"\",CHAR(10)&\"-\"&VLOOKUP(O161,EventConditionConfig!A:C,3,FALSE)))","v":""}]
[{"$f":"K162*100+L162","v":1001301},{"$f":"IF(B161=\"\",MAX(V160,T160,H160,B160,D160,V159,T159,H159)+1,B161)","v":2204},"访贤许由",{"$f":"IF(E162=\"\",\"\",B162+1)","v":2205},"听一听这位尧帝口中的贤士有何说法",null,{"$f":"IF(F162=\"\",\"\",VLOOKUP(F162,EventNPC!A:E,5,FALSE))","v":""},{"$f":"IF(I162=\"\",\"\",IF(L162=1,MAX(D162,B162)+1,MAX(B161,H161,D161,T161,V161)+1))","v":2206},"你循帝尧所言，御剑前往幽山秘境。此处灵气绵长，古木参天，溪水潺潺。",null,{"$f":"IF(K161=\"\",K160+1,K161)","v":10013},{"$f":"IF(K162=K161,L161+1,1)","v":1},"",null,null,{"$f":"IF(N162=\"\",\"\",\"-\"&VLOOKUP(N162,EventConditionConfig!A:C,3,FALSE)&IF(O162=\"\",\"\",CHAR(10)&\"-\"&VLOOKUP(O162,EventConditionConfig!A:C,3,FALSE)))","v":""},null,null,{"$f":"_xlfn.TEXTJOIN(\";\",1,T162,V162)","v":""},{"$f":"IF(U162=\"\",\"\",H162+1)","v":""},null,{"$f":"IF(W162=\"\",\"\",T162+1)","v":""},{"$nulls":4},{"$f":"IF(A162=\"\",\"\",IF(Q162=1,\"\",IF(A163=\"\",3,1)))","v":1},{"$f":"IF(AA162=1,A163,IF(AA162=3,LEFT(A162,5)+1,\"\"))","v":1001302}]
[{"$f":"K163*100+L163","v":1001302},{"$f":"IF(B162=\"\",MAX(V161,T161,H161,B161,D161,V160,T160,H160)+1,B162)","v":2204},"访贤许由",{"$f":"IF(E163=\"\",\"\",B163+1)","v":2205},"听一听这位尧帝口中的贤士有何说法",null,{"$f":"IF(F163=\"\",\"\",VLOOKUP(F163,EventNPC!A:E,5,FALSE))","v":""},{"$f":"IF(I163=\"\",\"\",IF(L163=1,MAX(D163,B163)+1,MAX(B162,H162,D162,T162,V162)+1))","v":2207},"据说，许由栖身于此，绝迹尘世，已有数百年。",null,{"$f":"IF(K162=\"\",K161+1,K162)","v":10013},{"$f":"IF(K163=K162,L162+1,1)","v":2},"",null,null,{"$f":"IF(N163=\"\",\"\",\"-\"&VLOOKUP(N163,EventConditionConfig!A:C,3,FALSE)&IF(O163=\"\",\"\",CHAR(10)&\"-\"&VLOOKUP(O163,EventConditionConfig!A:C,3,FALSE)))","v":""},null,null,{"$f":"_xlfn.TEXTJOIN(\";\",1,T163,V163)","v":""},{"$f":"IF(U163=\"\",\"\",H163+1)","v":""},null,{"$f":"IF(W163=\"\",\"\",T163+1)","v":""},{"$nulls":4},{"$f":"IF(A163=\"\",\"\",IF(Q163=1,\"\",IF(A164=\"\",3,1)))","v":1},{"$f":"IF(AA163=1,A164,IF(AA163=3,LEFT(A163,5)+1,\"\"))","v":1001303}]
[{"$f":"K164*100+L164","v":1001303},{"$f":"IF(B163=\"\",MAX(V162,T162,H162,B162,D162,V161,T161,H161)+1,B163)","v":2204},"访贤许由",{"$f":"IF(E164=\"\",\"\",B164+1)","v":2205},"听一听这位尧帝口中的贤士有何说法",null,{"$f":"IF(F164=\"\",\"\",VLOOKUP(F164,EventNPC!A:E,5,FALSE))","v":""},{"$f":"IF(I164=\"\",\"\",IF(L164=1,MAX(D164,B164)+1,MAX(B163,H163,D163,T163,V163)+1))","v":2208},"山风徐徐，水声如琴，你踏过青石小径，看见一位白衣道人正倚石观水。",null,{"$f":"IF(K163=\"\",K162+1,K163)","v":10013},{"$f":"IF(K164=K163,L163+1,1)","v":3},"",null,null,{"$f":"IF(N164=\"\",\"\",\"-\"&VLOOKUP(N164,EventConditionConfig!A:C,3,FALSE)&IF(O164=\"\",\"\",CHAR(10)&\"-\"&VLOOKUP(O164,EventConditionConfig!A:C,3,FALSE)))","v":""},1,{"$f":"A165","v":1001304},{"$f":"_xlfn.TEXTJOIN(\";\",1,T164,V164)","v":"2209"},{"$f":"IF(U164=\"\",\"\",H164+1)","v":2209},"前辈可是许由？",{"$f":"IF(W164=\"\",\"\",T164+1)","v":""},{"$nulls":4},{"$f":"IF(A164=\"\",\"\",IF(Q164=1,\"\",IF(A165=\"\",3,1)))","v":""},{"$f":"IF(AA164=1,A165,IF(AA164=3,LEFT(A164,5)+1,\"\"))","v":""}]
[{"$f":"K165*100+L165","v":1001304},{"$f":"IF(B164=\"\",MAX(V163,T163,H163,B163,D163,V162,T162,H162)+1,B164)","v":2204},"访贤许由",{"$f":"IF(E165=\"\",\"\",B165+1)","v":2205},"听一听这位尧帝口中的贤士有何说法",106,{"$f":"IF(F165=\"\",\"\",VLOOKUP(F165,EventNPC!A:E,5,FALSE))","v":"许由"},{"$f":"IF(I165=\"\",\"\",IF(L165=1,MAX(D165,B165)+1,MAX(B164,H164,D164,T164,V164)+1))","v":2210},"正是，小友何事？",null,{"$f":"IF(K164=\"\",K163+1,K164)","v":10013},{"$f":"IF(K165=K164,L164+1,1)","v":4},"",null,null,{"$f":"IF(N165=\"\",\"\",\"-\"&VLOOKUP(N165,EventConditionConfig!A:C,3,FALSE)&IF(O165=\"\",\"\",CHAR(10)&\"-\"&VLOOKUP(O165,EventConditionConfig!A:C,3,FALSE)))","v":""},null,null,{"$f":"_xlfn.TEXTJOIN(\";\",1,T165,V165)","v":""},{"$f":"IF(U165=\"\",\"\",H165+1)","v":""},null,{"$f":"IF(W165=\"\",\"\",T165+1)","v":""},{"$nulls":4},{"$f":"IF(A165=\"\",\"\",IF(Q165=1,\"\",IF(A166=\"\",3,1)))","v":1},{"$f":"IF(AA165=1,A166,IF(AA165=3,LEFT(A165,5)+1,\"\"))","v":1001305}]
[{"$f":"K166*100+L166","v":1001305},{"$f":"IF(B165=\"\",MAX(V164,T164,H164,B164,D164,V163,T163,H163)+1,B165)","v":2204},"访贤许由",{"$f":"IF(E166=\"\",\"\",B166+1)","v":2205},"听一听这位尧帝口中的贤士有何说法",100,{"$f":"IF(F166=\"\",\"\",VLOOKUP(F166,EventNPC!A:E,5,FALSE))","v":"玩家"},{"$f":"IF(I166=\"\",\"\",IF(L166=1,MAX(D166,B166)+1,MAX(B165,H165,D165,T165,V165)+1))","v":2211},"帝尧欲专心修行，求道问玄，又怕耽误世事，特托我前来相请，欲让天下于你。",null,{"$f":"IF(K165=\"\",K164+1,K165)","v":10013},{"$f":"IF(K166=K165,L165+1,1)","v":5},"",null,null,{"$f":"IF(N166=\"\",\"\",\"-\"&VLOOKUP(N166,EventConditionConfig!A:C,3,FALSE)&IF(O166=\"\",\"\",CHAR(10)&\"-\"&VLOOKUP(O166,EventConditionConfig!A:C,3,FALSE)))","v":""},null,null,{"$f":"_xlfn.TEXTJOIN(\";\",1,T166,V166)","v":""},{"$f":"IF(U166=\"\",\"\",H166+1)","v":""},null,{"$f":"IF(W166=\"\",\"\",T166+1)","v":""},{"$nulls":4},{"$f":"IF(A166=\"\",\"\",IF(Q166=1,\"\",IF(A167=\"\",3,1)))","v":1},{"$f":"IF(AA166=1,A167,IF(AA166=3,LEFT(A166,5)+1,\"\"))","v":1001306}]
[{"$f":"K167*100+L167","v":1001306},{"$f":"IF(B166=\"\",MAX(V165,T165,H165,B165,D165,V164,T164,H164)+1,B166)","v":2204},"访贤许由",{"$f":"IF(E167=\"\",\"\",B167+1)","v":2205},"听一听这位尧帝口中的贤士有何说法",106,{"$f":"IF(F167=\"\",\"\",VLOOKUP(F167,EventNPC!A:E,5,FALSE))","v":"许由"},{"$f":"IF(I167=\"\",\"\",IF(L167=1,MAX(D167,B167)+1,MAX(B166,H166,D166,T166,V166)+1))","v":2212},"（静默片刻）昔日帝尧就提过此事，我已辞之。",null,{"$f":"IF(K166=\"\",K165+1,K166)","v":10013},{"$f":"IF(K167=K166,L166+1,1)","v":6},"",null,null,{"$f":"IF(N167=\"\",\"\",\"-\"&VLOOKUP(N167,EventConditionConfig!A:C,3,FALSE)&IF(O167=\"\",\"\",CHAR(10)&\"-\"&VLOOKUP(O167,EventConditionConfig!A:C,3,FALSE)))","v":""},null,null,{"$f":"_xlfn.TEXTJOIN(\";\",1,T167,V167)","v":""},{"$f":"IF(U167=\"\",\"\",H167+1)","v":""},null,{"$f":"IF(W167=\"\",\"\",T167+1)","v":""},{"$nulls":4},{"$f":"IF(A167=\"\",\"\",IF(Q167=1,\"\",IF(A168=\"\",3,1)))","v":1},{"$f":"IF(AA167=1,A168,IF(AA167=3,LEFT(A167,5)+1,\"\"))","v":1001307}]
[{"$f":"K168*100+L168","v":1001307},{"$f":"IF(B167=\"\",MAX(V166,T166,H166,B166,D166,V165,T165,H165)+1,B167)","v":2204},"访贤许由",{"$f":"IF(E168=\"\",\"\",B168+1)","v":2205},"听一听这位尧帝口中的贤士有何说法",106,{"$f":"IF(F168=\"\",\"\",VLOOKUP(F168,EventNPC!A:E,5,FALSE))","v":"许由"},{"$f":"IF(I168=\"\",\"\",IF(L168=1,MAX(D168,B168)+1,MAX(B167,H167,D167,T167,V167)+1))","v":2213},"今日又来，想是道心不定，执念未除。",null,{"$f":"IF(K167=\"\",K166+1,K167)","v":10013},{"$f":"IF(K168=K167,L167+1,1)","v":7},"",null,null,{"$f":"IF(N168=\"\",\"\",\"-\"&VLOOKUP(N168,EventConditionConfig!A:C,3,FALSE)&IF(O168=\"\",\"\",CHAR(10)&\"-\"&VLOOKUP(O168,EventConditionConfig!A:C,3,FALSE)))","v":""},1,{"$f":"A169","v":1001308},{"$f":"_xlfn.TEXTJOIN(\";\",1,T168,V168)","v":"2214"},{"$f":"IF(U168=\"\",\"\",H168+1)","v":2214},"请前辈出山。",{"$f":"IF(W168=\"\",\"\",T168+1)","v":""},{"$nulls":4},{"$f":"IF(A168=\"\",\"\",IF(Q168=1,\"\",IF(A169=\"\",3,1)))","v":""},{"$f":"IF(AA168=1,A169,IF(AA168=3,LEFT(A168,5)+1,\"\"))","v":""}]
[1001308,{"$f":"IF(B168=\"\",MAX(V167,T167,H167,B167,D167,V166,T166,H166)+1,B168)","v":2204},"访贤许由",2205,"听一听这位尧帝口中的贤士有何说法",106,{"$f":"IF(F169=\"\",\"\",VLOOKUP(F169,EventNPC!A:E,5,FALSE))","v":"许由"},2215,"哼，让我去？",null,{"$f":"IF(K168=\"\",K167+1,K168)","v":10013},8,"",null,null,{"$f":"IF(N169=\"\",\"\",\"-\"&VLOOKUP(N169,EventConditionConfig!A:C,3,FALSE)&IF(O169=\"\",\"\",CHAR(10)&\"-\"&VLOOKUP(O169,EventConditionConfig!A:C,3,FALSE)))","v":""},null,null,{"$f":"_xlfn.TEXTJOIN(\";\",1,T169,V169)","v":""},{"$f":"IF(U169=\"\",\"\",H169+1)","v":""},null,{"$f":"IF(W169=\"\",\"\",T169+1)","v":""},{"$nulls":4},1,1001309]
[{"$f":"K170*100+L170","v":1001309},{"$f":"IF(B169=\"\",MAX(V168,T168,H168,B168,D168,V167,T167,H167)+1,B169)","v":2204},"访贤许由",{"$f":"IF(E170=\"\",\"\",B170+1)","v":2205},"听一听这位尧帝口中的贤士有何说法",106,{"$f":"IF(F170=\"\",\"\",VLOOKUP(F170,EventNPC!A:E,5,FALSE))","v":"许由"},{"$f":"IF(I170=\"\",\"\",IF(L170=1,MAX(D170,B170)+1,MAX(B169,H169,D169,T169,V169)+1))","v":2216},"那我问你，日月升天，照耀四方。若这时有人手举火把照路，岂不徒劳？",null,{"$f":"IF(K169=\"\",K168+1,K169)","v":10013},{"$f":"IF(K170=K169,L169+1,1)","v":9},"",null,null,{"$f":"IF(N170=\"\",\"\",\"-\"&VLOOKUP(N170,EventConditionConfig!A:C,3,FALSE)&IF(O170=\"\",\"\",CHAR(10)&\"-\"&VLOOKUP(O170,EventConditionConfig!A:C,3,FALSE)))","v":""},null,null,{"$f":"_xlfn.TEXTJOIN(\";\",1,T170,V170)","v":""},{"$f":"IF(U170=\"\",\"\",H170+1)","v":""},null,{"$f":"IF(W170=\"\",\"\",T170+1)","v":""},{"$nulls":4},{"$f":"IF(A170=\"\",\"\",IF(Q170=1,\"\",IF(A171=\"\",3,1)))","v":1},{"$f":"IF(AA170=1,A171,IF(AA170=3,LEFT(A170,5)+1,\"\"))","v":1001310}]
[{"$f":"K171*100+L171","v":1001310},{"$f":"IF(B170=\"\",MAX(V169,T169,H169,B169,D169,V168,T168,H168)+1,B170)","v":2204},"访贤许由",{"$f":"IF(E171=\"\",\"\",B171+1)","v":2205},"听一听这位尧帝口中的贤士有何说法",106,{"$f":"IF(F171=\"\",\"\",VLOOKUP(F171,EventNPC!A:E,5,FALSE))","v":"许由"},{"$f":"IF(I171=\"\",\"\",IF(L171=1,MAX(D171,B171)+1,MAX(B170,H170,D170,T170,V170)+1))","v":2217},"那我再问你，斜风细雨，滋养万物。若这时有人用水桶来灌溉，岂不可笑？",null,{"$f":"IF(K170=\"\",K169+1,K170)","v":10013},{"$f":"IF(K171=K170,L170+1,1)","v":10},"",null,null,{"$f":"IF(N171=\"\",\"\",\"-\"&VLOOKUP(N171,EventConditionConfig!A:C,3,FALSE)&IF(O171=\"\",\"\",CHAR(10)&\"-\"&VLOOKUP(O171,EventConditionConfig!A:C,3,FALSE)))","v":""},null,null,{"$f":"_xlfn.TEXTJOIN(\";\",1,T171,V171)","v":""},{"$f":"IF(U171=\"\",\"\",H171+1)","v":""},null,{"$f":"IF(W171=\"\",\"\",T171+1)","v":""},{"$nulls":4},{"$f":"IF(A171=\"\",\"\",IF(Q171=1,\"\",IF(A172=\"\",3,1)))","v":1},{"$f":"IF(AA171=1,A172,IF(AA171=3,LEFT(A171,5)+1,\"\"))","v":1001311}]
[{"$f":"K172*100+L172","v":1001311},{"$f":"IF(B171=\"\",MAX(V170,T170,H170,B170,D170,V169,T169,H169)+1,B171)","v":2204},"访贤许由",{"$f":"IF(E172=\"\",\"\",B172+1)","v":2205},"听一听这位尧帝口中的贤士有何说法",106,{"$f":"IF(F172=\"\",\"\",VLOOKUP(F172,EventNPC!A:E,5,FALSE))","v":"许由"},{"$f":"IF(I172=\"\",\"\",IF(L172=1,MAX(D172,B172)+1,MAX(B171,H171,D171,T171,V171)+1))","v":2218},"天下在尧的带领下，已经治理得很好了，又何必要我，我是要去混个功成名就吗？",null,{"$f":"IF(K171=\"\",K170+1,K171)","v":10013},{"$f":"IF(K172=K171,L171+1,1)","v":11},"",null,null,{"$f":"IF(N172=\"\",\"\",\"-\"&VLOOKUP(N172,EventConditionConfig!A:C,3,FALSE)&IF(O172=\"\",\"\",CHAR(10)&\"-\"&VLOOKUP(O172,EventConditionConfig!A:C,3,FALSE)))","v":""},null,null,{"$f":"_xlfn.TEXTJOIN(\";\",1,T172,V172)","v":""},{"$f":"IF(U172=\"\",\"\",H172+1)","v":""},null,{"$f":"IF(W172=\"\",\"\",T172+1)","v":""},{"$nulls":4},{"$f":"IF(A172=\"\",\"\",IF(Q172=1,\"\",IF(A173=\"\",3,1)))","v":1},{"$f":"IF(AA172=1,A173,IF(AA172=3,LEFT(A172,5)+1,\"\"))","v":1001312}]
[{"$f":"K173*100+L173","v":1001312},{"$f":"IF(B172=\"\",MAX(V171,T171,H171,B171,D171,V170,T170,H170)+1,B172)","v":2204},"访贤许由",{"$f":"IF(E173=\"\",\"\",B173+1)","v":2205},"听一听这位尧帝口中的贤士有何说法",106,{"$f":"IF(F173=\"\",\"\",VLOOKUP(F173,EventNPC!A:E,5,FALSE))","v":"许由"},{"$f":"IF(I173=\"\",\"\",IF(L173=1,MAX(D173,B173)+1,MAX(B172,H172,D172,T172,V172)+1))","v":2219},"回答我？",null,{"$f":"IF(K172=\"\",K171+1,K172)","v":10013},{"$f":"IF(K173=K172,L172+1,1)","v":12},"",null,null,{"$f":"IF(N173=\"\",\"\",\"-\"&VLOOKUP(N173,EventConditionConfig!A:C,3,FALSE)&IF(O173=\"\",\"\",CHAR(10)&\"-\"&VLOOKUP(O173,EventConditionConfig!A:C,3,FALSE)))","v":""},1,{"$f":"A174","v":1001313},{"$f":"_xlfn.TEXTJOIN(\";\",1,T173,V173)","v":"2220"},{"$f":"IF(U173=\"\",\"\",H173+1)","v":2220},"就算只得功成名就也不错。",{"$f":"IF(W173=\"\",\"\",T173+1)","v":""},{"$nulls":4},{"$f":"IF(A173=\"\",\"\",IF(Q173=1,\"\",IF(A174=\"\",3,1)))","v":""},{"$f":"IF(AA173=1,A174,IF(AA173=3,LEFT(A173,5)+1,\"\"))","v":""}]
[1001313,{"$f":"IF(B173=\"\",MAX(V172,T172,H172,B172,D172,V171,T171,H171)+1,B173)","v":2204},"访贤许由",2205,"听一听这位尧帝口中的贤士有何说法",106,{"$f":"IF(F174=\"\",\"\",VLOOKUP(F174,EventNPC!A:E,5,FALSE))","v":"许由"},2221,"小友，名就像宾客一样，难道我们的一生是为了宾客吗？",null,{"$f":"IF(K173=\"\",K172+1,K173)","v":10013},13,"",null,null,{"$f":"IF(N174=\"\",\"\",\"-\"&VLOOKUP(N174,EventConditionConfig!A:C,3,FALSE)&IF(O174=\"\",\"\",CHAR(10)&\"-\"&VLOOKUP(O174,EventConditionConfig!A:C,3,FALSE)))","v":""},1,{"$f":"A175","v":1001314},{"$f":"_xlfn.TEXTJOIN(\";\",1,T174,V174)","v":"2222"},{"$f":"IF(U174=\"\",\"\",H174+1)","v":2222},"（愣住）......",{"$f":"IF(W174=\"\",\"\",T174+1)","v":""},{"$nulls":4},"",""]
[{"$f":"K175*100+L175","v":1001314},{"$f":"IF(B174=\"\",MAX(V173,T173,H173,B173,D173,V172,T172,H172)+1,B174)","v":2204},"访贤许由",{"$f":"IF(E175=\"\",\"\",B175+1)","v":2205},"听一听这位尧帝口中的贤士有何说法",106,{"$f":"IF(F175=\"\",\"\",VLOOKUP(F175,EventNPC!A:E,5,FALSE))","v":"许由"},{"$f":"IF(I175=\"\",\"\",IF(L175=1,MAX(D175,B175)+1,MAX(B174,H174,D174,T174,V174)+1))","v":2223},"他若真想修道，便该知“道不碍政，心自碍道”。",null,{"$f":"IF(K174=\"\",K173+1,K174)","v":10013},{"$f":"IF(K175=K174,L174+1,1)","v":14},"",null,null,{"$f":"IF(N175=\"\",\"\",\"-\"&VLOOKUP(N175,EventConditionConfig!A:C,3,FALSE)&IF(O175=\"\",\"\",CHAR(10)&\"-\"&VLOOKUP(O175,EventConditionConfig!A:C,3,FALSE)))","v":""},{"$nulls":5},{"$f":"IF(W175=\"\",\"\",T175+1)","v":""},{"$nulls":4},{"$f":"IF(A175=\"\",\"\",IF(Q175=1,\"\",IF(A176=\"\",3,1)))","v":1},{"$f":"IF(AA175=1,A176,IF(AA175=3,LEFT(A175,5)+1,\"\"))","v":1001315}]
[1001315,{"$f":"IF(B175=\"\",MAX(V174,T174,H174,B174,D174,V173,T173,H173)+1,B175)","v":2204},"访贤许由",2205,"听一听这位尧帝口中的贤士有何说法",106,{"$f":"IF(F176=\"\",\"\",VLOOKUP(F176,EventNPC!A:E,5,FALSE))","v":"许由"},2224,"若心不净，纵避千山万水，又有何用。",null,{"$f":"IF(K175=\"\",K174+1,K175)","v":10013},15,"",null,null,{"$f":"IF(N176=\"\",\"\",\"-\"&VLOOKUP(N176,EventConditionConfig!A:C,3,FALSE)&IF(O176=\"\",\"\",CHAR(10)&\"-\"&VLOOKUP(O176,EventConditionConfig!A:C,3,FALSE)))","v":""},1,{"$f":"A177","v":1001316},{"$f":"_xlfn.TEXTJOIN(\";\",1,T176,V176)","v":"2225"},{"$f":"IF(U176=\"\",\"\",H176+1)","v":2225},"（愣住）......",{"$f":"IF(W176=\"\",\"\",T176+1)","v":""},{"$nulls":4},"",""]
[1001316,{"$f":"IF(B176=\"\",MAX(V175,T175,H175,B175,D175,V174,T174,H174)+1,B176)","v":2204},"访贤许由",2205,"听一听这位尧帝口中的贤士有何说法",null,{"$f":"IF(F177=\"\",\"\",VLOOKUP(F177,EventNPC!A:E,5,FALSE))","v":""},"",null,null,{"$f":"IF(K176=\"\",K175+1,K176)","v":10013},16,"",null,null,{"$f":"IF(N177=\"\",\"\",\"-\"&VLOOKUP(N177,EventConditionConfig!A:C,3,FALSE)&IF(O177=\"\",\"\",CHAR(10)&\"-\"&VLOOKUP(O177,EventConditionConfig!A:C,3,FALSE)))","v":""},null,null,{"$f":"_xlfn.TEXTJOIN(\";\",1,T177,V177)","v":""},{"$f":"IF(U177=\"\",\"\",H177+1)","v":""},null,{"$f":"IF(W177=\"\",\"\",T177+1)","v":""},{"$nulls":4},3,10014]
[{"$nulls":12},"",null,null,{"$f":"IF(N178=\"\",\"\",\"-\"&VLOOKUP(N178,EventConditionConfig!A:C,3,FALSE)&IF(O178=\"\",\"\",CHAR(10)&\"-\"&VLOOKUP(O178,EventConditionConfig!A:C,3,FALSE)))","v":""}]
[{"$f":"K179*100+L179","v":1001401},{"$f":"IF(B178=\"\",MAX(V177,T177,H177,B177,D177,V176,T176,H176)+1,B178)","v":2226},"割草喝茶",{"$f":"IF(E179=\"\",\"\",B179+1)","v":""},null,106,{"$f":"IF(F179=\"\",\"\",VLOOKUP(F179,EventNPC!A:E,5,FALSE))","v":"许由"},{"$f":"IF(I179=\"\",\"\",IF(L179=1,MAX(D179,B179)+1,MAX(B178,H178,D178,T178,V178)+1))","v":2227},"（转身望向屋后的山坡）你来得也巧，我正想在开辟一块新药田。",null,{"$f":"IF(K178=\"\",K177+1,K178)","v":10014},{"$f":"IF(K179=K178,L178+1,1)","v":1},"",null,null,{"$f":"IF(N179=\"\",\"\",\"-\"&VLOOKUP(N179,EventConditionConfig!A:C,3,FALSE)&IF(O179=\"\",\"\",CHAR(10)&\"-\"&VLOOKUP(O179,EventConditionConfig!A:C,3,FALSE)))","v":""},null,null,{"$f":"_xlfn.TEXTJOIN(\";\",1,T179,V179)","v":""},{"$f":"IF(U179=\"\",\"\",H179+1)","v":""},null,{"$f":"IF(W179=\"\",\"\",T179+1)","v":""},{"$nulls":4},{"$f":"IF(A179=\"\",\"\",IF(Q179=1,\"\",IF(A180=\"\",3,1)))","v":1},{"$f":"IF(AA179=1,A180,IF(AA179=3,LEFT(A179,5)+1,\"\"))","v":1001402}]
[{"$f":"K180*100+L180","v":1001402},{"$f":"IF(B179=\"\",MAX(V178,T178,H178,B178,D178,V177,T177,H177)+1,B179)","v":2226},"割草喝茶",{"$f":"IF(E180=\"\",\"\",B180+1)","v":""},null,106,{"$f":"IF(F180=\"\",\"\",VLOOKUP(F180,EventNPC!A:E,5,FALSE))","v":"许由"},{"$f":"IF(I180=\"\",\"\",IF(L180=1,MAX(D180,B180)+1,MAX(B179,H179,D179,T179,V179)+1))","v":2228},"后山有一块不错的地，离家有一点远平时我也懒得去打理，正好你来了帮我开辟出来吧。",null,{"$f":"IF(K179=\"\",K178+1,K179)","v":10014},{"$f":"IF(K180=K179,L179+1,1)","v":2},"",null,null,{"$f":"IF(N180=\"\",\"\",\"-\"&VLOOKUP(N180,EventConditionConfig!A:C,3,FALSE)&IF(O180=\"\",\"\",CHAR(10)&\"-\"&VLOOKUP(O180,EventConditionConfig!A:C,3,FALSE)))","v":""},1,{"$f":"A181","v":0},{"$f":"_xlfn.TEXTJOIN(\";\",1,T180,V180)","v":"2229"},{"$f":"IF(U180=\"\",\"\",H180+1)","v":2229},"……前辈是让我干农活吗",{"$f":"IF(W180=\"\",\"\",T180+1)","v":""},{"$nulls":4},{"$f":"IF(A180=\"\",\"\",IF(Q180=1,\"\",IF(A181=\"\",3,1)))","v":""},{"$f":"IF(AA180=1,A181,IF(AA180=3,LEFT(A180,5)+1,\"\"))","v":""}]

{"sheet":"EventConditionConfig","index":2,"n_rows":15,"n_cols":11,"rows_kept":15,"cut":false,"hidden":false,"merged":[]}
["ID","message",null,null,"Operation",null,"ConditionType","ConditionPara","finishCount"]
["int","int",null,null,"int",null,"int","int[]","int"]
[]
["ID","描述",null,null,"与0\n或1",null,"条件判断类型","条件判断值","条件完成次数or数量","提示","跳转"]
[1,2078,"拥有金币",{"$f":"CONCATENATE(\"- \",C5,\"{0}/{1}\")","v":"- 拥有金币{0}/{1}"},null,null,1,1001,10]
[2,2079,"达到境界：筑基-中期",{"$f":"CONCATENATE(\"- \",C6,\"{0}/{1}\")","v":"- 达到境界：筑基-中期{0}/{1}"},null,null,3,11,1]
[3,2080,"击杀魔休","- 击杀魔休{0}/{1}",null,null,5,100001,5]
[4,2081,"获得钻石","- 获得钻石{0}/{1}",null,null,6,1002,10]
[5,2082,"使用神识","- 使用神识{0}/{1}",null,null,8,null,1]
[6,2094,"继续飞行一段时间","- 继续飞行一段时间{0}/{1}",null,null,9,null,6]
[7,null,"击败结界兽","- 击败结界兽{0}/{1}",null,null,5,100001,1]
[8,null,"达到境界：筑基-后期","- 达到境界：筑基-后期{0}/{1}",null,null,3,21,1]
[9,null,"击杀妖兽","- 击杀妖兽{0}/{1}",null,null,5,100004,1]
[10,null,"击败后山小妖","- 击败后山小妖{0}/{1}",null,null,5,100001,3]
[11,null,"收集灵草种子","- 收集灵草种子{0}/{1}",null,null,6,1002,3]

{"sheet":"条件类型查询","index":3,"n_rows":9,"n_cols":7,"rows_kept":9,"cut":false,"hidden":false,"merged":[]}
["ID","条件判断类型","条件判断值","条件完成次数or数量","额外文本","不可用","是否可用于事件"]
[1,"拥有特定道具","道具ID","数量≥","检测背包道具",null,1]
[2,"灵根判定","哪个灵根","灵根值≥",null,1]
[3,"境界判断","境界id",null,null,null,1]
[5,"战斗胜利","战斗组ID","胜利次数≥"]
[6,"获得道具","道具的ID","数量≥","探测出事件才开始检测"]
[7,"触发概率","概率值 1000=100%",null,null,null,1]
[8,"使用神识",null,"数量≥"]
[9,"游戏在线多少时长（秒）",null,"时间≥（秒）",null,null,1]

{"sheet":"EventNPC","index":4,"n_rows":23,"n_cols":5,"rows_kept":23,"cut":false,"hidden":false,"merged":[]}
["ID","name","ID","DaoyouID"]
["int","int","int","int"]
[]
["ID","名字","半身像icon","道友ID","名称"]
[1,null,null,null,"玩家"]
[2,null,null,1,"道友1"]
[3,null,null,2,"道友2"]
[4,null,null,3,"道友3"]
[5,null,null,4,"道友4"]
[6,null,null,5,"道友5"]
[7,null,null,6,"道友6"]
[8,null,null,7,"道友7"]
[9,null,null,8,"道友8"]
[10,null,null,9,"道友9"]
[11,null,null,10,"道友10"]
[]
[100,null,null,null,"玩家"]
[101,null,null,null,"蜩鸟"]
[102,null,null,null,"小麻雀"]
[103,null,null,null,"疯道人"]
[104,null,null,null,"痴道人"]
[105,null,null,null,"尧帝"]
[106,null,null,null,"许由"]

{"sheet":"XianTuLogConfig","index":5,"n_rows":8,"n_cols":7,"rows_kept":8,"cut":false,"hidden":false,"merged":[]}
["ID","EventType","Title","Desc","BigMapID"]
["int","int","int","int","int"]
[]
["ID","1主线\n2事件","名称","描述","属于哪个章节"]
[1,1,2087,2089,1,"第一章.逍遥游","多次渡劫失败的你，误入“无何有之乡”，在这里受到了列子的指引，踏上了寻找七道心境的修仙之路。"]
[2,2,2088,2090,1,"无用的大葫芦","惠子种出了巨大葫芦，他觉得毫无用处，非常生气！"]
[3,2,2088,2090,2,"无用的大葫芦","惠子种出了巨大葫芦，他觉得毫无用处，非常生气！"]
[4,2,2088,2090,3,"无用的大葫芦","惠子种出了巨大葫芦，他觉得毫无用处，非常生气！"]