{"text_format":"2","workbook":"xlsx","n_sheets":3,"sheets":["ItemConfig","ID分段","道具用途说明"],"not_rendered":{"charts":0,"images":0,"macros":0,"external_links":1,"defined_names":1,"comments":0,"pivot_tables":0},"unopened":[],"bounds":{"document_bytes":16777216,"sheet_cells":100000,"run_cost":"one","rows_first":2000,"rows_last":500,"rows_between":2000,"halvings":0,"cell_chars":16384,"cell_head_chars":4096},"cells_cut":0,"cells_raw":0,"read":"whole","date_system":"1900"}

{"sheet":"ItemConfig","index":0,"n_rows":181,"n_cols":31,"rows_kept":181,"cut":false,"hidden":false,"merged":[]}
["ID","itemName",null,"itemDesc",null,"icon","itemTag",null,"quality","stack","isSell","itemParam","rewardsNum","isVisible","isUse","useLimit","useLimtValue","costItemNum","rewardsItems","rewardsItemNums","stack","associateID","associateVlaue","sort","itemDesc2"]
["int","int",null,"int",null,"string","int",null,"int","int","bool","int[]","int","int","bool","int",null,"int","int[]","int[]","int","int","int[]","int","int"]
[]
["ID1","道具名称\n","道具名\n(查看)","功能说明","功能说明","道具图标","道具分类\n见ID分段",null,"品质\n1.[物品]白\n2.[物品]绿\n3.[物品]蓝\n4.[物品]紫\n5.[物品]橙\n6.[物品]红","堆叠数量\n0.无限","是否出售","按需配置\n装备(职业;位置)","出售金额","进入背包时，是否可见","是否可用","使用限制\n0. 无\n1. 共鸣等级","限制的值","消耗道具数量","获得道具ID","获得道具的数量","堆叠数量\n0.无限","特殊功能ID\n详情见说明页","特殊功能参数\n详情见说明页","背包内排序","包装文本","包装文本","参数1","参数2","参数3","参数4","参数5"]
[1001,169,"灵石",162,null,"icon_Coin",1,{"$f":"CONCATENATE(VLOOKUP(G5,ID分段!A:B,2,FALSE),\"-\",VLOOKUP(G5,ID分段!A:C,3,FALSE))","v":"资源-货币"},2,0,0,null,0,1,0,null,null,0,0,0,0]
[1002,170,"妖丹",163,null,"icon_Coins_s",1,{"$f":"CONCATENATE(VLOOKUP(G6,ID分段!A:B,2,FALSE),\"-\",VLOOKUP(G6,ID分段!A:C,3,FALSE))","v":"资源-货币"},4,0,0,null,0,1,0,null,null,0,0,0,0]
[1003,171,"修为",164,null,"icon_Gem_Star_Blue",2,{"$f":"CONCATENATE(VLOOKUP(G7,ID分段!A:B,2,FALSE),\"-\",VLOOKUP(G7,ID分段!A:C,3,FALSE))","v":"资源-材料"},2,0,0,null,0,1,0,null,null,0,0,0,0]
[1004,248,"妖王丹",249,null,"icon_Demo_Gem04",1,{"$f":"CONCATENATE(VLOOKUP(G8,ID分段!A:B,2,FALSE),\"-\",VLOOKUP(G8,ID分段!A:C,3,FALSE))","v":"资源-货币"},5,0,0,null,0,1,0,null,null,0,0,0,0]
[1005,725,"灵气",726,null,"icon_GradeBadge_Master",2,{"$f":"CONCATENATE(VLOOKUP(G9,ID分段!A:B,2,FALSE),\"-\",VLOOKUP(G9,ID分段!A:C,3,FALSE))","v":"资源-材料"},3,0,0,null,0,1,0,null,null,0,0,0,0]
[1006,1400,"玄晶",1401,null,"icon_GradeBadge_Challenger",2,{"$f":"CONCATENATE(VLOOKUP(G10,ID分段!A:B,2,FALSE),\"-\",VLOOKUP(G10,ID分段!A:C,3,FALSE))","v":"资源-材料"},3,0,0,null,0,1,0,null,null,0,0,0,0]
[]
[1201,250,"渡劫丹-A1",259,null,{"$f":"\"icon_item_\"&A12","v":"icon_item_1201"},3,{"$f":"CONCATENATE(VLOOKUP(G12,ID分段!A:B,2,FALSE),\"-\",VLOOKUP(G12,ID分段!A:C,3,FALSE))","v":"资源-渡劫丹"},3,0,0,null,0,1,0,null,null,0,0,0,0,1,"1;100;10;20"]
[1202,251,"渡劫丹-A2",260,null,{"$f":"\"icon_item_\"&A13","v":"icon_item_1202"},3,{"$f":"CONCATENATE(VLOOKUP(G13,ID分段!A:B,2,FALSE),\"-\",VLOOKUP(G13,ID分段!A:C,3,FALSE))","v":"资源-渡劫丹"},4,0,0,null,0,1,0,null,null,0,0,0,0,1,"1;100;20;35"]
[1203,252,"渡劫丹-A3",261,null,"icon_item_1203",3,{"$f":"CONCATENATE(VLOOKUP(G14,ID分段!A:B,2,FALSE),\"-\",VLOOKUP(G14,ID分段!A:C,3,FALSE))","v":"资源-渡劫丹"},5,0,0,null,0,1,0,null,null,0,0,0,0,1,"1;100;30;50"]
[1204,253,"渡劫丹-B1",262,null,{"$f":"\"icon_item_\"&A15","v":"icon_item_1204"},3,{"$f":"CONCATENATE(VLOOKUP(G15,ID分段!A:B,2,FALSE),\"-\",VLOOKUP(G15,ID分段!A:C,3,FALSE))","v":"资源-渡劫丹"},3,0,0,null,0,1,0,null,null,0,0,0,0,1,"101;200;10;20"]
[1205,254,"渡劫丹-B2",263,null,"icon_item_1205",3,{"$f":"CONCATENATE(VLOOKUP(G16,ID分段!A:B,2,FALSE),\"-\",VLOOKUP(G16,ID分段!A:C,3,FALSE))","v":"资源-渡劫丹"},4,0,0,null,0,1,0,null,null,0,0,0,0,1,"101;200;20;35"]
[1206,255,"渡劫丹-B3",264,null,"icon_item_1206",3,{"$f":"CONCATENATE(VLOOKUP(G17,ID分段!A:B,2,FALSE),\"-\",VLOOKUP(G17,ID分段!A:C,3,FALSE))","v":"资源-渡劫丹"},5,0,0,null,0,1,0,null,null,0,0,0,0,1,"101;200;30;50"]
[1207,256,"渡劫丹-C1",265,null,"icon_item_1207",3,{"$f":"CONCATENATE(VLOOKUP(G18,ID分段!A:B,2,FALSE),\"-\",VLOOKUP(G18,ID分段!A:C,3,FALSE))","v":"资源-渡劫丹"},3,0,0,null,0,1,0,null,null,0,0,0,0,1,"201;300;10;20"]
[1208,257,"渡劫丹-C2",266,null,{"$f":"\"icon_item_\"&A19","v":"icon_item_1208"},3,{"$f":"CONCATENATE(VLOOKUP(G19,ID分段!A:B,2,FALSE),\"-\",VLOOKUP(G19,ID分段!A:C,3,FALSE))","v":"资源-渡劫丹"},4,0,0,null,0,1,0,null,null,0,0,0,0,1,"201;300;20;35"]
[1209,258,"渡劫丹-C3",267,null,{"$f":"\"icon_item_\"&A20","v":"icon_item_1209"},3,{"$f":"CONCATENATE(VLOOKUP(G20,ID分段!A:B,2,FALSE),\"-\",VLOOKUP(G20,ID分段!A:C,3,FALSE))","v":"资源-渡劫丹"},5,0,0,null,0,1,0,null,null,0,0,0,0,1,"201;300;30;50"]
[]
[1301,268,"天材地宝1",272,null,{"$f":"\"icon_item_\"&A22","v":"icon_item_1301"},4,{"$f":"CONCATENATE(VLOOKUP(G22,ID分段!A:B,2,FALSE),\"-\",VLOOKUP(G22,ID分段!A:C,3,FALSE))","v":"资源-天材地宝"},4,0,0,null,0,1,0,null,null,0,0,0,0,1,"1;300;10"]
[1302,269,"天材地宝2",273,null,{"$f":"\"icon_item_\"&A23","v":"icon_item_1302"},4,{"$f":"CONCATENATE(VLOOKUP(G23,ID分段!A:B,2,FALSE),\"-\",VLOOKUP(G23,ID分段!A:C,3,FALSE))","v":"资源-天材地宝"},4,0,0,null,0,1,0,null,null,0,0,0,0,1,"1;300;10"]
[1303,270,"天材地宝3",274,null,{"$f":"\"icon_item_\"&A24","v":"icon_item_1303"},4,{"$f":"CONCATENATE(VLOOKUP(G24,ID分段!A:B,2,FALSE),\"-\",VLOOKUP(G24,ID分段!A:C,3,FALSE))","v":"资源-天材地宝"},5,0,0,null,0,1,0,null,null,0,0,0,0,1,"1;300;20"]
[1304,271,"天材地宝4",275,null,{"$f":"\"icon_item_\"&A25","v":"icon_item_1304"},4,{"$f":"CONCATENATE(VLOOKUP(G25,ID分段!A:B,2,FALSE),\"-\",VLOOKUP(G25,ID分段!A:C,3,FALSE))","v":"资源-天材地宝"},6,0,0,null,0,1,0,null,null,0,0,0,0,1,"1;300;30"]
[]
[1401,276,"修为丹·下",280,30,{"$f":"\"icon_item_\"&A27","v":"icon_item_1401"},5,{"$f":"CONCATENATE(VLOOKUP(G27,ID分段!A:B,2,FALSE),\"-\",VLOOKUP(G27,ID分段!A:C,3,FALSE))","v":"资源-经验丹"},2,0,0,null,0,1,0,null,null,0,0,0,0,2,3000,null,null,{"$f":"VLOOKUP(E27,[1]ResourceLevelConfig!$A:$E,5,FALSE)*10","v":3900}]
[1402,277,"修为丹·中",281,60,"icon_item_1402",5,{"$f":"CONCATENATE(VLOOKUP(G28,ID分段!A:B,2,FALSE),\"-\",VLOOKUP(G28,ID分段!A:C,3,FALSE))","v":"资源-经验丹"},3,0,0,null,0,1,0,null,null,0,0,0,0,2,7000,null,null,{"$f":"VLOOKUP(E28,[1]ResourceLevelConfig!$A:$E,5,FALSE)*10","v":7270}]
[1403,278,"修为丹·上",282,90,"icon_item_1403",5,{"$f":"CONCATENATE(VLOOKUP(G29,ID分段!A:B,2,FALSE),\"-\",VLOOKUP(G29,ID分段!A:C,3,FALSE))","v":"资源-经验丹"},4,0,0,null,0,1,0,null,null,0,0,0,0,2,13000,null,null,{"$f":"VLOOKUP(E29,[1]ResourceLevelConfig!$A:$E,5,FALSE)*10","v":13160}]
[1404,279,"修为丹·极",283,120,"icon_item_1404",5,{"$f":"CONCATENATE(VLOOKUP(G30,ID分段!A:B,2,FALSE),\"-\",VLOOKUP(G30,ID分段!A:C,3,FALSE))","v":"资源-经验丹"},5,0,0,null,0,1,0,null,null,0,0,0,0,2,25000,null,null,{"$f":"VLOOKUP(E30,[1]ResourceLevelConfig!$A:$E,5,FALSE)*10","v":23820}]
[]
[1501,1947,"好感度礼物1",1949,{"$f":"CONCATENATE(\"道具描述_\",C32)","v":"道具描述_好感度礼物1"},{"$f":"\"icon_item_\"&A32","v":"icon_item_1501"},6,{"$f":"CONCATENATE(VLOOKUP(G32,ID分段!A:B,2,FALSE),\"-\",VLOOKUP(G32,ID分段!A:C,3,FALSE))","v":"资源-好感度礼物"},3,0,0,null,0,1,0,null,null,0,0,0,0,0,0]
[1502,1948,"好感度礼物2",1950,{"$f":"CONCATENATE(\"道具描述_\",C33)","v":"道具描述_好感度礼物2"},{"$f":"\"icon_item_\"&A33","v":"icon_item_1502"},6,{"$f":"CONCATENATE(VLOOKUP(G33,ID分段!A:B,2,FALSE),\"-\",VLOOKUP(G33,ID分段!A:C,3,FALSE))","v":"资源-好感度礼物"},4,0,0,null,0,1,0,null,null,0,0,0,0,0,0]
[]
[1601,1951,"心情礼物1",1952,{"$f":"CONCATENATE(\"道具描述_\",C35)","v":"道具描述_心情礼物1"},{"$f":"\"icon_item_\"&A35","v":"icon_item_1601"},7,{"$f":"CONCATENATE(VLOOKUP(G35,ID分段!A:B,2,FALSE),\"-\",VLOOKUP(G35,ID分段!A:C,3,FALSE))","v":"资源-心情礼物"},2,0,0,null,0,1,0,null,null,0,0,0,0,5,10]
[]
[1701,3237,"神识丹-小",3240,{"$f":"CONCATENATE(\"道具描述_\",C37)","v":"道具描述_神识丹-小"},{"$f":"\"icon_item_\"&A37","v":"icon_item_1701"},8,{"$f":"CONCATENATE(VLOOKUP(G37,ID分段!A:B,2,FALSE),\"-\",VLOOKUP(G37,ID分段!A:C,3,FALSE))","v":"资源-神识丹"},3,0,0,null,0,1,0,null,null,0,0,0,0,8,100]
[1702,3238,"神识丹-中",3241,{"$f":"CONCATENATE(\"道具描述_\",C38)","v":"道具描述_神识丹-中"},{"$f":"\"icon_item_\"&A38","v":"icon_item_1702"},8,{"$f":"CONCATENATE(VLOOKUP(G38,ID分段!A:B,2,FALSE),\"-\",VLOOKUP(G38,ID分段!A:C,3,FALSE))","v":"资源-神识丹"},4,0,0,null,0,1,0,null,null,0,0,0,0,8,300]
[1703,3239,"神识丹-大",3242,{"$f":"CONCATENATE(\"道具描述_\",C39)","v":"道具描述_神识丹-大"},{"$f":"\"icon_item_\"&A39","v":"icon_item_1703"},8,{"$f":"CONCATENATE(VLOOKUP(G39,ID分段!A:B,2,FALSE),\"-\",VLOOKUP(G39,ID分段!A:C,3,FALSE))","v":"资源-神识丹"},5,0,0,null,0,1,0,null,null,0,0,0,0,8,1000]
[]
[10001,284,"神龙鼎",292,null,"icon_item_10001",11,{"$f":"CONCATENATE(VLOOKUP(G41,ID分段!A:B,2,FALSE),\"-\",VLOOKUP(G41,ID分段!A:C,3,FALSE))","v":"法宝-本体"},3,0,0,null,0,1,0,null,null,0,0,0,0,4,{"$f":"_xlfn.TEXTJOIN(\";\",1,AA41:AE41)","v":"11001;10001"},null,null,null,11001,10001]
[10002,285,"破天斧",293,null,"icon_item_10002",11,{"$f":"CONCATENATE(VLOOKUP(G42,ID分段!A:B,2,FALSE),\"-\",VLOOKUP(G42,ID分段!A:C,3,FALSE))","v":"法宝-本体"},4,0,0,null,0,1,0,null,null,0,0,0,0,4,{"$f":"_xlfn.TEXTJOIN(\";\",1,AA42:AE42)","v":"11002;10002"},null,null,null,11002,10002]
[10003,286,"翡翠葫芦",294,null,"icon_item_10003",11,{"$f":"CONCATENATE(VLOOKUP(G43,ID分段!A:B,2,FALSE),\"-\",VLOOKUP(G43,ID分段!A:C,3,FALSE))","v":"法宝-本体"},3,0,0,null,0,1,0,null,null,0,0,0,0,4,"11003;10003",null,null,null,11003,10003]
[10004,287,"混沌珠",295,null,"icon_item_10004",11,{"$f":"CONCATENATE(VLOOKUP(G44,ID分段!A:B,2,FALSE),\"-\",VLOOKUP(G44,ID分段!A:C,3,FALSE))","v":"法宝-本体"},4,0,0,null,0,1,0,null,null,0,0,0,0,4,"11004;10004",null,null,null,11004,10004]
[10005,288,"琉璃宝塔",296,null,"icon_item_10005",11,{"$f":"CONCATENATE(VLOOKUP(G45,ID分段!A:B,2,FALSE),\"-\",VLOOKUP(G45,ID分段!A:C,3,FALSE))","v":"法宝-本体"},5,0,0,null,0,1,0,null,null,0,0,0,0,4,"11005;10005",null,null,null,11005,10005]
[10006,289,"九幽镇魂瓶",297,null,"icon_item_10006",11,{"$f":"CONCATENATE(VLOOKUP(G46,ID分段!A:B,2,FALSE),\"-\",VLOOKUP(G46,ID分段!A:C,3,FALSE))","v":"法宝-本体"},3,0,0,null,0,1,0,null,null,0,0,0,0,4,"11006;10006",null,null,null,11006,10006]
[10007,290,"玉莲守心灯",298,null,"icon_item_10007",11,{"$f":"CONCATENATE(VLOOKUP(G47,ID分段!A:B,2,FALSE),\"-\",VLOOKUP(G47,ID分段!A:C,3,FALSE))","v":"法宝-本体"},4,0,0,null,0,1,0,null,null,0,0,0,0,4,"11007;10007",null,null,null,11007,10007]
[10008,291,"融灵塔",299,null,"icon_item_10008",11,{"$f":"CONCATENATE(VLOOKUP(G48,ID分段!A:B,2,FALSE),\"-\",VLOOKUP(G48,ID分段!A:C,3,FALSE))","v":"法宝-本体"},3,0,0,null,0,1,0,null,null,0,0,0,0,4,"11008;10008",null,null,null,11008,10008]
[10009,1402,"禁元珠",1405,null,"icon_item_10009",11,{"$f":"CONCATENATE(VLOOKUP(G49,ID分段!A:B,2,FALSE),\"-\",VLOOKUP(G49,ID分段!A:C,3,FALSE))","v":"法宝-本体"},4,0,0,null,0,1,0,null,null,0,0,0,0,4,{"$f":"_xlfn.TEXTJOIN(\";\",1,AA49:AE49)","v":"11009;10009"},null,null,null,11009,10009]
[10010,1403,"玄龟盾",1406,null,"icon_item_10010",11,{"$f":"CONCATENATE(VLOOKUP(G50,ID分段!A:B,2,FALSE),\"-\",VLOOKUP(G50,ID分段!A:C,3,FALSE))","v":"法宝-本体"},3,0,0,null,0,1,0,null,null,0,0,0,0,4,"11010;10010",null,null,null,11010,10010]
[10011,1404,"天殇血刃剑",1407,null,{"$f":"\"icon_item_\"&A51","v":"icon_item_10011"},11,{"$f":"CONCATENATE(VLOOKUP(G51,ID分段!A:B,2,FALSE),\"-\",VLOOKUP(G51,ID分段!A:C,3,FALSE))","v":"法宝-本体"},4,0,0,null,0,1,0,null,null,0,0,0,0,4,{"$f":"_xlfn.TEXTJOIN(\";\",1,AA51:AE51)","v":"11011;10011"},null,null,null,11011,10011]
[]
[11001,300,"神龙鼎碎片",308,null,"icon_item_11001",12,{"$f":"CONCATENATE(VLOOKUP(G53,ID分段!A:B,2,FALSE),\"-\",VLOOKUP(G53,ID分段!A:C,3,FALSE))","v":"法宝-碎片"},3,0,0,null,0,1,0,null,null,0,0,0,0]
[11002,301,"破天斧碎片",309,null,"icon_item_11002",12,{"$f":"CONCATENATE(VLOOKUP(G54,ID分段!A:B,2,FALSE),\"-\",VLOOKUP(G54,ID分段!A:C,3,FALSE))","v":"法宝-碎片"},4,0,0,null,0,1,0,null,null,0,0,0,0]
[11003,302,"翡翠葫芦碎片",310,null,"icon_item_11003",12,{"$f":"CONCATENATE(VLOOKUP(G55,ID分段!A:B,2,FALSE),\"-\",VLOOKUP(G55,ID分段!A:C,3,FALSE))","v":"法宝-碎片"},3,0,0,null,0,1,0,null,null,0,0,0,0]
[11004,303,"混沌珠碎片",311,null,"icon_item_11004",12,{"$f":"CONCATENATE(VLOOKUP(G56,ID分段!A:B,2,FALSE),\"-\",VLOOKUP(G56,ID分段!A:C,3,FALSE))","v":"法宝-碎片"},4,0,0,null,0,1,0,null,null,0,0,0,0]
[11005,304,"琉璃宝塔碎片",312,null,"icon_item_11005",12,{"$f":"CONCATENATE(VLOOKUP(G57,ID分段!A:B,2,FALSE),\"-\",VLOOKUP(G57,ID分段!A:C,3,FALSE))","v":"法宝-碎片"},5,0,0,null,0,1,0,null,null,0,0,0,0]
[11006,305,"九幽镇魂瓶碎片",313,null,"icon_item_11006",12,{"$f":"CONCATENATE(VLOOKUP(G58,ID分段!A:B,2,FALSE),\"-\",VLOOKUP(G58,ID分段!A:C,3,FALSE))","v":"法宝-碎片"},3,0,0,null,0,1,0,null,null,0,0,0,0]
[11007,306,"玉莲守心灯碎片",314,null,"icon_item_11007",12,{"$f":"CONCATENATE(VLOOKUP(G59,ID分段!A:B,2,FALSE),\"-\",VLOOKUP(G59,ID分段!A:C,3,FALSE))","v":"法宝-碎片"},4,0,0,null,0,1,0,null,null,0,0,0,0]
[11008,307,"融灵塔碎片",315,null,"icon_item_11008",12,{"$f":"CONCATENATE(VLOOKUP(G60,ID分段!A:B,2,FALSE),\"-\",VLOOKUP(G60,ID分段!A:C,3,FALSE))","v":"法宝-碎片"},3,0,0,null,0,1,0,null,null,0,0,0,0]
[11009,1408,"禁元珠碎片",1411,null,"icon_item_11009",12,{"$f":"CONCATENATE(VLOOKUP(G61,ID分段!A:B,2,FALSE),\"-\",VLOOKUP(G61,ID分段!A:C,3,FALSE))","v":"法宝-碎片"},4,0,0,null,0,1,0,null,null,0,0,0,0]
[11010,1409,"玄龟盾碎片",1412,null,"icon_item_11010",12,{"$f":"CONCATENATE(VLOOKUP(G62,ID分段!A:B,2,FALSE),\"-\",VLOOKUP(G62,ID分段!A:C,3,FALSE))","v":"法宝-碎片"},3,0,0,null,0,1,0,null,null,0,0,0,0]
[11011,1410,"天殇血刃剑碎片",1413,null,{"$f":"\"icon_item_\"&A63","v":"icon_item_11011"},12,{"$f":"CONCATENATE(VLOOKUP(G63,ID分段!A:B,2,FALSE),\"-\",VLOOKUP(G63,ID分段!A:C,3,FALSE))","v":"法宝-碎片"},4,0,0,null,0,1,0,null,null,0,0,0,0]
[]
[12001,1414,"太虚幻剑经",1500,"功法-金1","icon_item_12001",13,{"$f":"CONCATENATE(VLOOKUP(G65,ID分段!A:B,2,FALSE),\"-\",VLOOKUP(G65,ID分段!A:C,3,FALSE))","v":"功法-本体"},5,0,0,null,0,1,0,null,null,0,0,0,0,3,{"$f":"_xlfn.TEXTJOIN(\";\",1,AA65:AE65)","v":"13001;1101"},null,null,null,13001,1101]
[12002,1415,"天罡剑气诀",1501,"功法-金2","icon_item_12002",13,{"$f":"CONCATENATE(VLOOKUP(G66,ID分段!A:B,2,FALSE),\"-\",VLOOKUP(G66,ID分段!A:C,3,FALSE))","v":"功法-本体"},5,0,0,null,0,1,0,null,null,0,0,0,0,3,{"$f":"_xlfn.TEXTJOIN(\";\",1,AA66:AE66)","v":"13002;1102"},null,null,null,13002,1102]
[12003,1416,"血刃金煌功",1502,"功法-金3","icon_item_12003",13,{"$f":"CONCATENATE(VLOOKUP(G67,ID分段!A:B,2,FALSE),\"-\",VLOOKUP(G67,ID分段!A:C,3,FALSE))","v":"功法-本体"},5,0,0,null,0,1,0,null,null,0,0,0,0,3,"13003;1103",null,null,null,13003,1103]
[12004,1417,"飞刃",1503,"功法-金4","icon_item_12004",13,{"$f":"CONCATENATE(VLOOKUP(G68,ID分段!A:B,2,FALSE),\"-\",VLOOKUP(G68,ID分段!A:C,3,FALSE))","v":"功法-本体"},4,0,0,null,0,1,0,null,null,0,0,0,0,3,"13004;1104",null,null,null,13004,1104]
[12005,1418,"金针",1504,"功法-金5","icon_item_12005",13,{"$f":"CONCATENATE(VLOOKUP(G69,ID分段!A:B,2,FALSE),\"-\",VLOOKUP(G69,ID分段!A:C,3,FALSE))","v":"功法-本体"},3,0,0,null,0,1,0,null,null,0,0,0,0,3,"13005;1105",null,null,null,13005,1105]
[12006,1419,"碧落幽冥劲",1505,"功法-水1","icon_item_12006",13,{"$f":"CONCATENATE(VLOOKUP(G70,ID分段!A:B,2,FALSE),\"-\",VLOOKUP(G70,ID分段!A:C,3,FALSE))","v":"功法-本体"},5,0,0,null,0,1,0,null,null,0,0,0,0,3,"13006;1201",null,null,null,13006,1201]
[12007,1420,"雾隐千流法",1506,"功法-水2","icon_item_12007",13,{"$f":"CONCATENATE(VLOOKUP(G71,ID分段!A:B,2,FALSE),\"-\",VLOOKUP(G71,ID分段!A:C,3,FALSE))","v":"功法-本体"},5,0,0,null,0,1,0,null,null,0,0,0,0,3,"13007;1202",null,null,null,13007,1202]
[12008,1421,"功法-水3",1507,"功法-水3","icon_item_12008",13,{"$f":"CONCATENATE(VLOOKUP(G72,ID分段!A:B,2,FALSE),\"-\",VLOOKUP(G72,ID分段!A:C,3,FALSE))","v":"功法-本体"},5,0,0,null,0,1,0,null,null,0,0,0,0,3,"13008;1203",null,null,null,13008,1203]
[12009,1422,"水球",1508,"功法-水4","icon_item_12009",13,{"$f":"CONCATENATE(VLOOKUP(G73,ID分段!A:B,2,FALSE),\"-\",VLOOKUP(G73,ID分段!A:C,3,FALSE))","v":"功法-本体"},4,0,0,null,0,1,0,null,null,0,0,0,0,3,"13009;1204",null,null,null,13009,1204]
[12010,1423,"冰刀",1509,"功法-水5","icon_item_12010",13,{"$f":"CONCATENATE(VLOOKUP(G74,ID分段!A:B,2,FALSE),\"-\",VLOOKUP(G74,ID分段!A:C,3,FALSE))","v":"功法-本体"},3,0,0,null,0,1,0,null,null,0,0,0,0,3,"13010;1205",null,null,null,13010,1205]
[12011,1424,"瘴影千丝术",1510,"功法-木1","icon_item_12011",13,{"$f":"CONCATENATE(VLOOKUP(G75,ID分段!A:B,2,FALSE),\"-\",VLOOKUP(G75,ID分段!A:C,3,FALSE))","v":"功法-本体"},5,0,0,null,0,1,0,null,null,0,0,0,0,3,"13011;1301",null,null,null,13011,1301]
[12012,1425,"蚀骨腐血掌",1511,"功法-木2",{"$f":"\"icon_item_\"&A76","v":"icon_item_12012"},13,{"$f":"CONCATENATE(VLOOKUP(G76,ID分段!A:B,2,FALSE),\"-\",VLOOKUP(G76,ID分段!A:C,3,FALSE))","v":"功法-本体"},5,0,0,null,0,1,0,null,null,0,0,0,0,3,"13012;1302",null,null,null,13012,1302]
[12013,1426,"功法-木3",1512,"功法-木3","icon_item_12013",13,{"$f":"CONCATENATE(VLOOKUP(G77,ID分段!A:B,2,FALSE),\"-\",VLOOKUP(G77,ID分段!A:C,3,FALSE))","v":"功法-本体"},5,0,0,null,0,1,0,null,null,0,0,0,0,3,{"$f":"_xlfn.TEXTJOIN(\";\",1,AA77:AE77)","v":"13013;1303"},null,null,null,13013,1303]
[12014,1427,"竹刺",1513,"功法-木4","icon_item_12014",13,{"$f":"CONCATENATE(VLOOKUP(G78,ID分段!A:B,2,FALSE),\"-\",VLOOKUP(G78,ID分段!A:C,3,FALSE))","v":"功法-本体"},4,0,0,null,0,1,0,null,null,0,0,0,0,3,"13014;1304",null,null,null,13014,1304]
[12015,1428,"飞叶",1514,"功法-木5","icon_item_12015",13,{"$f":"CONCATENATE(VLOOKUP(G79,ID分段!A:B,2,FALSE),\"-\",VLOOKUP(G79,ID分段!A:C,3,FALSE))","v":"功法-本体"},3,0,0,null,0,1,0,null,null,0,0,0,0,3,"13015;1305",null,null,null,13015,1305]
[12016,1429,"烈焰剑",1515,"功法-火1","icon_item_12016",13,{"$f":"CONCATENATE(VLOOKUP(G80,ID分段!A:B,2,FALSE),\"-\",VLOOKUP(G80,ID分段!A:C,3,FALSE))","v":"功法-本体"},5,0,0,null,0,1,0,null,null,0,0,0,0,3,"13016;1401",null,null,null,13016,1401]
[12017,1430,"赤焰龙吟功",1516,"功法-火2","icon_item_12017",13,{"$f":"CONCATENATE(VLOOKUP(G81,ID分段!A:B,2,FALSE),\"-\",VLOOKUP(G81,ID分段!A:C,3,FALSE))","v":"功法-本体"},5,0,0,null,0,1,0,null,null,0,0,0,0,3,"13017;1402",null,null,null,13017,1402]
[12018,1431,"朱雀燎原指",1517,"功法-火3","icon_item_12018",13,{"$f":"CONCATENATE(VLOOKUP(G82,ID分段!A:B,2,FALSE),\"-\",VLOOKUP(G82,ID分段!A:C,3,FALSE))","v":"功法-本体"},5,0,0,null,0,1,0,null,null,0,0,0,0,3,"13018;1403",null,null,null,13018,1403]
[12019,1432,"火球",1518,"功法-火4","icon_item_12019",13,{"$f":"CONCATENATE(VLOOKUP(G83,ID分段!A:B,2,FALSE),\"-\",VLOOKUP(G83,ID分段!A:C,3,FALSE))","v":"功法-本体"},4,0,0,null,0,1,0,null,null,0,0,0,0,3,"13019;1404",null,null,null,13019,1404]
[12020,1433,"火刀",1519,"功法-火5","icon_item_12020",13,{"$f":"CONCATENATE(VLOOKUP(G84,ID分段!A:B,2,FALSE),\"-\",VLOOKUP(G84,ID分段!A:C,3,FALSE))","v":"功法-本体"},3,0,0,null,0,1,0,null,null,0,0,0,0,3,"13020;1405",null,null,null,13020,1405]
[12021,1434,"黄尘灭魂刺",1520,"功法-土1","icon_item_12021",13,{"$f":"CONCATENATE(VLOOKUP(G85,ID分段!A:B,2,FALSE),\"-\",VLOOKUP(G85,ID分段!A:C,3,FALSE))","v":"功法-本体"},5,0,0,null,0,1,0,null,null,0,0,0,0,3,"13021;1501",null,null,null,13021,1501]
[12022,1435,"地裂屠龙斩",1521,"功法-土2","icon_item_12022",13,{"$f":"CONCATENATE(VLOOKUP(G86,ID分段!A:B,2,FALSE),\"-\",VLOOKUP(G86,ID分段!A:C,3,FALSE))","v":"功法-本体"},5,0,0,null,0,1,0,null,null,0,0,0,0,3,"13022;1502",null,null,null,13022,1502]
[12023,1436,"功法-土3",1522,"功法-土3",{"$f":"\"icon_item_\"&A87","v":"icon_item_12023"},13,{"$f":"CONCATENATE(VLOOKUP(G87,ID分段!A:B,2,FALSE),\"-\",VLOOKUP(G87,ID分段!A:C,3,FALSE))","v":"功法-本体"},5,0,0,null,0,1,0,null,null,0,0,0,0,3,{"$f":"_xlfn.TEXTJOIN(\";\",1,AA87:AE87)","v":"13023;1503"},null,null,null,13023,1503]
[12024,1437,"落石",1523,"功法-土4","icon_item_12024",13,{"$f":"CONCATENATE(VLOOKUP(G88,ID分段!A:B,2,FALSE),\"-\",VLOOKUP(G88,ID分段!A:C,3,FALSE))","v":"功法-本体"},4,0,0,null,0,1,0,null,null,0,0,0,0,3,"13024;1504",null,null,null,13024,1504]
[12025,1438,"小石头",1524,"功法-土5","icon_item_12025",13,{"$f":"CONCATENATE(VLOOKUP(G89,ID分段!A:B,2,FALSE),\"-\",VLOOKUP(G89,ID分段!A:C,3,FALSE))","v":"功法-本体"},3,0,0,null,0,1,0,null,null,0,0,0,0,3,"13025;1505",null,null,null,13025,1505]
[]
[12501,1800,"天衍星辰诀",1850,"功法-被动","icon_item_12501",13,{"$f":"CONCATENATE(VLOOKUP(G91,ID分段!A:B,2,FALSE),\"-\",VLOOKUP(G91,ID分段!A:C,3,FALSE))","v":"功法-本体"},4,0,0,null,0,1,0,null,null,0,0,0,0,3,{"$f":"_xlfn.TEXTJOIN(\";\",1,AA91:AE91)","v":"13501;2001"},null,null,null,13501,2001]
[12502,1801,"法宝秘籍",1851,"功法-被动","icon_item_12502",13,{"$f":"CONCATENATE(VLOOKUP(G92,ID分段!A:B,2,FALSE),\"-\",VLOOKUP(G92,ID分段!A:C,3,FALSE))","v":"功法-本体"},4,0,0,null,0,1,0,null,null,0,0,0,0,3,{"$f":"_xlfn.TEXTJOIN(\";\",1,AA92:AE92)","v":"13502;2002"},null,null,null,13502,2002]
[12503,1802,"崩脉决",1852,"功法-被动","icon_item_12503",13,{"$f":"CONCATENATE(VLOOKUP(G93,ID分段!A:B,2,FALSE),\"-\",VLOOKUP(G93,ID分段!A:C,3,FALSE))","v":"功法-本体"},4,0,0,null,0,1,0,null,null,0,0,0,0,3,"13503;2003",null,null,null,13503,2003]
[12504,1803,"两仪决",1853,"功法-被动","icon_item_12504",13,{"$f":"CONCATENATE(VLOOKUP(G94,ID分段!A:B,2,FALSE),\"-\",VLOOKUP(G94,ID分段!A:C,3,FALSE))","v":"功法-本体"},4,0,0,null,0,1,0,null,null,0,0,0,0,3,"13504;2004",null,null,null,13504,2004]
[12505,1804,"火焰决",1854,"功法-被动","icon_item_12505",13,{"$f":"CONCATENATE(VLOOKUP(G95,ID分段!A:B,2,FALSE),\"-\",VLOOKUP(G95,ID分段!A:C,3,FALSE))","v":"功法-本体"},4,0,0,null,0,1,0,null,null,0,0,0,0,3,"13505;2005",null,null,null,13505,2005]
[12506,1805,"乾坤巨灵诀",1855,"功法-被动","icon_item_12506",13,{"$f":"CONCATENATE(VLOOKUP(G96,ID分段!A:B,2,FALSE),\"-\",VLOOKUP(G96,ID分段!A:C,3,FALSE))","v":"功法-本体"},4,0,0,null,0,1,0,null,null,0,0,0,0,3,"13506;2006",null,null,null,13506,2006]
[12507,1806,"极速齿轮",1856,"功法-被动","icon_item_12507",13,{"$f":"CONCATENATE(VLOOKUP(G97,ID分段!A:B,2,FALSE),\"-\",VLOOKUP(G97,ID分段!A:C,3,FALSE))","v":"功法-本体"},4,0,0,null,0,1,0,null,null,0,0,0,0,3,"13507;2007",null,null,null,13507,2007]
[12508,1807,"太虚剑意",1857,"功法-被动","icon_item_12508",13,{"$f":"CONCATENATE(VLOOKUP(G98,ID分段!A:B,2,FALSE),\"-\",VLOOKUP(G98,ID分段!A:C,3,FALSE))","v":"功法-本体"},4,0,0,null,0,1,0,null,null,0,0,0,0,3,"13508;2008",null,null,null,13508,2008]
[12509,1808,"青莲净体诀",1858,"功法-被动",{"$f":"\"icon_item_\"&A99","v":"icon_item_12509"},13,{"$f":"CONCATENATE(VLOOKUP(G99,ID分段!A:B,2,FALSE),\"-\",VLOOKUP(G99,ID分段!A:C,3,FALSE))","v":"功法-本体"},4,0,0,null,0,1,0,null,null,0,0,0,0,3,{"$f":"_xlfn.TEXTJOIN(\";\",1,AA99:AE99)","v":"13509;2009"},null,null,null,13509,2009]
[12510,1809,"碧霄回春术",1859,"功法-被动","icon_item_12510",13,{"$f":"CONCATENATE(VLOOKUP(G100,ID分段!A:B,2,FALSE),\"-\",VLOOKUP(G100,ID分段!A:C,3,FALSE))","v":"功法-本体"},4,0,0,null,0,1,0,null,null,0,0,0,0,3,"13510;2010",null,null,null,13510,2010]
[12511,null,"血祭神通",null,"功法-被动","icon_item_12511",13,{"$f":"CONCATENATE(VLOOKUP(G101,ID分段!A:B,2,FALSE),\"-\",VLOOKUP(G101,ID分段!A:C,3,FALSE))","v":"功法-本体"},5,0,0,null,0,1,0,null,null,0,0,0,0,3,"13511;2011",null,null,null,13511,2011]
[12512,null,"金煞决",null,"功法-被动","icon_item_12512",13,{"$f":"CONCATENATE(VLOOKUP(G102,ID分段!A:B,2,FALSE),\"-\",VLOOKUP(G102,ID分段!A:C,3,FALSE))","v":"功法-本体"},5,0,0,null,0,1,0,null,null,0,0,0,0,3,"13512;2012",null,null,null,13512,2012]
[12513,null,"毒瘴领域",null,"功法-被动","icon_item_12513",13,{"$f":"CONCATENATE(VLOOKUP(G103,ID分段!A:B,2,FALSE),\"-\",VLOOKUP(G103,ID分段!A:C,3,FALSE))","v":"功法-本体"},5,0,0,null,0,1,0,null,null,0,0,0,0,3,"13513;2013",null,null,null,13513,2013]
[12514,null,"毒爆",null,"功法-被动","icon_item_12514",13,{"$f":"CONCATENATE(VLOOKUP(G104,ID分段!A:B,2,FALSE),\"-\",VLOOKUP(G104,ID分段!A:C,3,FALSE))","v":"功法-本体"},5,0,0,null,0,1,0,null,null,0,0,0,0,3,"13514;2014",null,null,null,13514,2014]
[12515,null,"异常转移",null,"功法-被动","icon_item_12515",13,{"$f":"CONCATENATE(VLOOKUP(G105,ID分段!A:B,2,FALSE),\"-\",VLOOKUP(G105,ID分段!A:C,3,FALSE))","v":"功法-本体"},5,0,0,null,0,1,0,null,null,0,0,0,0,3,"13515;2015",null,null,null,13515,2015]
[12516,null,"阴水",null,"功法-被动","icon_item_12516",13,{"$f":"CONCATENATE(VLOOKUP(G106,ID分段!A:B,2,FALSE),\"-\",VLOOKUP(G106,ID分段!A:C,3,FALSE))","v":"功法-本体"},5,0,0,null,0,1,0,null,null,0,0,0,0,3,"13516;2016",null,null,null,13516,2016]
[12517,null,"灵油",null,"功法-被动","icon_item_12517",13,{"$f":"CONCATENATE(VLOOKUP(G107,ID分段!A:B,2,FALSE),\"-\",VLOOKUP(G107,ID分段!A:C,3,FALSE))","v":"功法-本体"},5,0,0,null,0,1,0,null,null,0,0,0,0,3,"13517;2017",null,null,null,13517,2017]
[12518,null,"厚土护体",null,"功法-被动",{"$f":"\"icon_item_\"&A108","v":"icon_item_12518"},13,{"$f":"CONCATENATE(VLOOKUP(G108,ID分段!A:B,2,FALSE),\"-\",VLOOKUP(G108,ID分段!A:C,3,FALSE))","v":"功法-本体"},5,0,0,null,0,1,0,null,null,0,0,0,0,3,{"$f":"_xlfn.TEXTJOIN(\";\",1,AA108:AE108)","v":"13518;2018"},null,null,null,13518,2018]
[12519,null,"金沙",null,"功法-被动","icon_item_12519",13,{"$f":"CONCATENATE(VLOOKUP(G109,ID分段!A:B,2,FALSE),\"-\",VLOOKUP(G109,ID分段!A:C,3,FALSE))","v":"功法-本体"},5,0,0,null,0,1,0,null,null,0,0,0,0,3,"13519;2019",null,null,null,13519,2019]
[]
[13001,1600,{"$f":"CONCATENATE(C65,\"碎片\")","v":"太虚幻剑经碎片"},1700,null,"icon_item_13001",14,{"$f":"CONCATENATE(VLOOKUP(G111,ID分段!A:B,2,FALSE),\"-\",VLOOKUP(G111,ID分段!A:C,3,FALSE))","v":"功法-碎片"},5,0,0,null,0,1,0,null,null,0,0,0,0]
[13002,1601,{"$f":"CONCATENATE(C66,\"碎片\")","v":"天罡剑气诀碎片"},1701,null,"icon_item_13002",14,{"$f":"CONCATENATE(VLOOKUP(G112,ID分段!A:B,2,FALSE),\"-\",VLOOKUP(G112,ID分段!A:C,3,FALSE))","v":"功法-碎片"},5,0,0,null,0,1,0,null,null,0,0,0,0]
[13003,1602,{"$f":"CONCATENATE(C67,\"碎片\")","v":"血刃金煌功碎片"},1702,null,"icon_item_13003",14,{"$f":"CONCATENATE(VLOOKUP(G113,ID分段!A:B,2,FALSE),\"-\",VLOOKUP(G113,ID分段!A:C,3,FALSE))","v":"功法-碎片"},5,0,0,null,0,1,0,null,null,0,0,0,0]
[13004,1603,{"$f":"CONCATENATE(C68,\"碎片\")","v":"飞刃碎片"},1703,null,"icon_item_13004",14,{"$f":"CONCATENATE(VLOOKUP(G114,ID分段!A:B,2,FALSE),\"-\",VLOOKUP(G114,ID分段!A:C,3,FALSE))","v":"功法-碎片"},4,0,0,null,0,1,0,null,null,0,0,0,0]
[13005,1604,{"$f":"CONCATENATE(C69,\"碎片\")","v":"金针碎片"},1704,null,"icon_item_13005",14,{"$f":"CONCATENATE(VLOOKUP(G115,ID分段!A:B,2,FALSE),\"-\",VLOOKUP(G115,ID分段!A:C,3,FALSE))","v":"功法-碎片"},3,0,0,null,0,1,0,null,null,0,0,0,0]
[13006,1605,{"$f":"CONCATENATE(C70,\"碎片\")","v":"碧落幽冥劲碎片"},1705,null,"icon_item_13006",14,{"$f":"CONCATENATE(VLOOKUP(G116,ID分段!A:B,2,FALSE),\"-\",VLOOKUP(G116,ID分段!A:C,3,FALSE))","v":"功法-碎片"},5,0,0,null,0,1,0,null,null,0,0,0,0]
[13007,1606,{"$f":"CONCATENATE(C71,\"碎片\")","v":"雾隐千流法碎片"},1706,null,"icon_item_13007",14,{"$f":"CONCATENATE(VLOOKUP(G117,ID分段!A:B,2,FALSE),\"-\",VLOOKUP(G117,ID分段!A:C,3,FALSE))","v":"功法-碎片"},5,0,0,null,0,1,0,null,null,0,0,0,0]
[13008,1607,{"$f":"CONCATENATE(C72,\"碎片\")","v":"功法-水3碎片"},1707,null,"icon_item_13008",14,{"$f":"CONCATENATE(VLOOKUP(G118,ID分段!A:B,2,FALSE),\"-\",VLOOKUP(G118,ID分段!A:C,3,FALSE))","v":"功法-碎片"},5,0,0,null,0,1,0,null,null,0,0,0,0]
[13009,1608,{"$f":"CONCATENATE(C73,\"碎片\")","v":"水球碎片"},1708,null,"icon_item_13009",14,{"$f":"CONCATENATE(VLOOKUP(G119,ID分段!A:B,2,FALSE),\"-\",VLOOKUP(G119,ID分段!A:C,3,FALSE))","v":"功法-碎片"},4,0,0,null,0,1,0,null,null,0,0,0,0]
[13010,1609,{"$f":"CONCATENATE(C74,\"碎片\")","v":"冰刀碎片"},1709,null,"icon_item_13010",14,{"$f":"CONCATENATE(VLOOKUP(G120,ID分段!A:B,2,FALSE),\"-\",VLOOKUP(G120,ID分段!A:C,3,FALSE))","v":"功法-碎片"},3,0,0,null,0,1,0,null,null,0,0,0,0]
[13011,1610,{"$f":"CONCATENATE(C75,\"碎片\")","v":"瘴影千丝术碎片"},1710,null,"icon_item_13011",14,{"$f":"CONCATENATE(VLOOKUP(G121,ID分段!A:B,2,FALSE),\"-\",VLOOKUP(G121,ID分段!A:C,3,FALSE))","v":"功法-碎片"},5,0,0,null,0,1,0,null,null,0,0,0,0]
[13012,1611,{"$f":"CONCATENATE(C76,\"碎片\")","v":"蚀骨腐血掌碎片"},1711,null,{"$f":"\"icon_item_\"&A122","v":"icon_item_13012"},14,{"$f":"CONCATENATE(VLOOKUP(G122,ID分段!A:B,2,FALSE),\"-\",VLOOKUP(G122,ID分段!A:C,3,FALSE))","v":"功法-碎片"},5,0,0,null,0,1,0,null,null,0,0,0,0]
[13013,1612,{"$f":"CONCATENATE(C77,\"碎片\")","v":"功法-木3碎片"},1712,null,"icon_item_13013",14,{"$f":"CONCATENATE(VLOOKUP(G123,ID分段!A:B,2,FALSE),\"-\",VLOOKUP(G123,ID分段!A:C,3,FALSE))","v":"功法-碎片"},5,0,0,null,0,1,0,null,null,0,0,0,0]
[13014,1613,{"$f":"CONCATENATE(C78,\"碎片\")","v":"竹刺碎片"},1713,null,"icon_item_13014",14,{"$f":"CONCATENATE(VLOOKUP(G124,ID分段!A:B,2,FALSE),\"-\",VLOOKUP(G124,ID分段!A:C,3,FALSE))","v":"功法-碎片"},4,0,0,null,0,1,0,null,null,0,0,0,0]
[13015,1614,{"$f":"CONCATENATE(C79,\"碎片\")","v":"飞叶碎片"},1714,null,"icon_item_13015",14,{"$f":"CONCATENATE(VLOOKUP(G125,ID分段!A:B,2,FALSE),\"-\",VLOOKUP(G125,ID分段!A:C,3,FALSE))","v":"功法-碎片"},3,0,0,null,0,1,0,null,null,0,0,0,0]
[13016,1615,{"$f":"CONCATENATE(C80,\"碎片\")","v":"烈焰剑碎片"},1715,null,"icon_item_13016",14,{"$f":"CONCATENATE(VLOOKUP(G126,ID分段!A:B,2,FALSE),\"-\",VLOOKUP(G126,ID分段!A:C,3,FALSE))","v":"功法-碎片"},5,0,0,null,0,1,0,null,null,0,0,0,0]
[13017,1616,{"$f":"CONCATENATE(C81,\"碎片\")","v":"赤焰龙吟功碎片"},1716,null,"icon_item_13017",14,{"$f":"CONCATENATE(VLOOKUP(G127,ID分段!A:B,2,FALSE),\"-\",VLOOKUP(G127,ID分段!A:C,3,FALSE))","v":"功法-碎片"},5,0,0,null,0,1,0,null,null,0,0,0,0]
[13018,1617,{"$f":"CONCATENATE(C82,\"碎片\")","v":"朱雀燎原指碎片"},1717,null,"icon_item_13018",14,{"$f":"CONCATENATE(VLOOKUP(G128,ID分段!A:B,2,FALSE),\"-\",VLOOKUP(G128,ID分段!A:C,3,FALSE))","v":"功法-碎片"},5,0,0,null,0,1,0,null,null,0,0,0,0]
[13019,1618,{"$f":"CONCATENATE(C83,\"碎片\")","v":"火球碎片"},1718,null,"icon_item_13019",14,{"$f":"CONCATENATE(VLOOKUP(G129,ID分段!A:B,2,FALSE),\"-\",VLOOKUP(G129,ID分段!A:C,3,FALSE))","v":"功法-碎片"},4,0,0,null,0,1,0,null,null,0,0,0,0]
[13020,1619,{"$f":"CONCATENATE(C84,\"碎片\")","v":"火刀碎片"},1719,null,"icon_item_13020",14,{"$f":"CONCATENATE(VLOOKUP(G130,ID分段!A:B,2,FALSE),\"-\",VLOOKUP(G130,ID分段!A:C,3,FALSE))","v":"功法-碎片"},3,0,0,null,0,1,0,null,null,0,0,0,0]
[13021,1620,{"$f":"CONCATENATE(C85,\"碎片\")","v":"黄尘灭魂刺碎片"},1720,null,"icon_item_13021",14,{"$f":"CONCATENATE(VLOOKUP(G131,ID分段!A:B,2,FALSE),\"-\",VLOOKUP(G131,ID分段!A:C,3,FALSE))","v":"功法-碎片"},5,0,0,null,0,1,0,null,null,0,0,0,0]
[13022,1621,{"$f":"CONCATENATE(C86,\"碎片\")","v":"地裂屠龙斩碎片"},1721,null,"icon_item_13022",14,{"$f":"CONCATENATE(VLOOKUP(G132,ID分段!A:B,2,FALSE),\"-\",VLOOKUP(G132,ID分段!A:C,3,FALSE))","v":"功法-碎片"},5,0,0,null,0,1,0,null,null,0,0,0,0]
[13023,1622,{"$f":"CONCATENATE(C87,\"碎片\")","v":"功法-土3碎片"},1722,null,"icon_item_13023",14,{"$f":"CONCATENATE(VLOOKUP(G133,ID分段!A:B,2,FALSE),\"-\",VLOOKUP(G133,ID分段!A:C,3,FALSE))","v":"功法-碎片"},5,0,0,null,0,1,0,null,null,0,0,0,0]
[13024,1623,{"$f":"CONCATENATE(C88,\"碎片\")","v":"落石碎片"},1723,null,"icon_item_13024",14,{"$f":"CONCATENATE(VLOOKUP(G134,ID分段!A:B,2,FALSE),\"-\",VLOOKUP(G134,ID分段!A:C,3,FALSE))","v":"功法-碎片"},4,0,0,null,0,1,0,null,null,0,0,0,0]
[13025,1624,{"$f":"CONCATENATE(C89,\"碎片\")","v":"小石头碎片"},1724,null,"icon_item_13025",14,{"$f":"CONCATENATE(VLOOKUP(G135,ID分段!A:B,2,FALSE),\"-\",VLOOKUP(G135,ID分段!A:C,3,FALSE))","v":"功法-碎片"},3,0,0,null,0,1,0,null,null,0,0,0,0]
[]
[13501,1625,{"$f":"CONCATENATE(C91,\"碎片\")","v":"天衍星辰诀碎片"},1725,null,{"$f":"\"icon_item_\"&A137","v":"icon_item_13501"},14,{"$f":"CONCATENATE(VLOOKUP(G137,ID分段!A:B,2,FALSE),\"-\",VLOOKUP(G137,ID分段!A:C,3,FALSE))","v":"功法-碎片"},4,0,0,null,0,1,0,null,null,0,0,0,0]
[13502,1626,{"$f":"CONCATENATE(C92,\"碎片\")","v":"法宝秘籍碎片"},1726,null,"icon_item_13502",14,{"$f":"CONCATENATE(VLOOKUP(G138,ID分段!A:B,2,FALSE),\"-\",VLOOKUP(G138,ID分段!A:C,3,FALSE))","v":"功法-碎片"},4,0,0,null,0,1,0,null,null,0,0,0,0]
[13503,1627,{"$f":"CONCATENATE(C93,\"碎片\")","v":"崩脉决碎片"},1727,null,"icon_item_13503",14,{"$f":"CONCATENATE(VLOOKUP(G139,ID分段!A:B,2,FALSE),\"-\",VLOOKUP(G139,ID分段!A:C,3,FALSE))","v":"功法-碎片"},4,0,0,null,0,1,0,null,null,0,0,0,0]
[13504,1628,{"$f":"CONCATENATE(C94,\"碎片\")","v":"两仪决碎片"},1728,null,"icon_item_13504",14,{"$f":"CONCATENATE(VLOOKUP(G140,ID分段!A:B,2,FALSE),\"-\",VLOOKUP(G140,ID分段!A:C,3,FALSE))","v":"功法-碎片"},4,0,0,null,0,1,0,null,null,0,0,0,0]
[13505,1629,{"$f":"CONCATENATE(C95,\"碎片\")","v":"火焰决碎片"},1729,null,"icon_item_13505",14,{"$f":"CONCATENATE(VLOOKUP(G141,ID分段!A:B,2,FALSE),\"-\",VLOOKUP(G141,ID分段!A:C,3,FALSE))","v":"功法-碎片"},4,0,0,null,0,1,0,null,null,0,0,0,0]
[13506,1630,{"$f":"CONCATENATE(C96,\"碎片\")","v":"乾坤巨灵诀碎片"},1730,null,"icon_item_13506",14,{"$f":"CONCATENATE(VLOOKUP(G142,ID分段!A:B,2,FALSE),\"-\",VLOOKUP(G142,ID分段!A:C,3,FALSE))","v":"功法-碎片"},4,0,0,null,0,1,0,null,null,0,0,0,0]
[13507,1631,{"$f":"CONCATENATE(C97,\"碎片\")","v":"极速齿轮碎片"},1731,null,"icon_item_13507",14,{"$f":"CONCATENATE(VLOOKUP(G143,ID分段!A:B,2,FALSE),\"-\",VLOOKUP(G143,ID分段!A:C,3,FALSE))","v":"功法-碎片"},4,0,0,null,0,1,0,null,null,0,0,0,0]
[13508,1632,{"$f":"CONCATENATE(C98,\"碎片\")","v":"太虚剑意碎片"},1732,null,"icon_item_13508",14,{"$f":"CONCATENATE(VLOOKUP(G144,ID分段!A:B,2,FALSE),\"-\",VLOOKUP(G144,ID分段!A:C,3,FALSE))","v":"功法-碎片"},4,0,0,null,0,1,0,null,null,0,0,0,0]
[13509,1633,{"$f":"CONCATENATE(C99,\"碎片\")","v":"青莲净体诀碎片"},1733,null,{"$f":"\"icon_item_\"&A145","v":"icon_item_13509"},14,{"$f":"CONCATENATE(VLOOKUP(G145,ID分段!A:B,2,FALSE),\"-\",VLOOKUP(G145,ID分段!A:C,3,FALSE))","v":"功法-碎片"},4,0,0,null,0,1,0,null,null,0,0,0,0]
[13510,1634,{"$f":"CONCATENATE(C100,\"碎片\")","v":"碧霄回春术碎片"},1734,null,"icon_item_13510",14,{"$f":"CONCATENATE(VLOOKUP(G146,ID分段!A:B,2,FALSE),\"-\",VLOOKUP(G146,ID分段!A:C,3,FALSE))","v":"功法-碎片"},4,0,0,null,0,1,0,null,null,0,0,0,0]
[13511,null,{"$f":"CONCATENATE(C101,\"碎片\")","v":"血祭神通碎片"},null,null,"icon_item_13511",14,{"$f":"CONCATENATE(VLOOKUP(G147,ID分段!A:B,2,FALSE),\"-\",VLOOKUP(G147,ID分段!A:C,3,FALSE))","v":"功法-碎片"},5,0,0,null,0,1,0,null,null,0,0,0,0]
[13512,null,"金煞决碎片",null,null,"icon_item_13512",14,{"$f":"CONCATENATE(VLOOKUP(G148,ID分段!A:B,2,FALSE),\"-\",VLOOKUP(G148,ID分段!A:C,3,FALSE))","v":"功法-碎片"},5,0,0,null,0,1,0,null,null,0,0,0,0]
[13513,null,"毒瘴领域碎片",null,null,"icon_item_13513",14,{"$f":"CONCATENATE(VLOOKUP(G149,ID分段!A:B,2,FALSE),\"-\",VLOOKUP(G149,ID分段!A:C,3,FALSE))","v":"功法-碎片"},5,0,0,null,0,1,0,null,null,0,0,0,0]
[13514,null,"毒爆碎片",null,null,"icon_item_13514",14,{"$f":"CONCATENATE(VLOOKUP(G150,ID分段!A:B,2,FALSE),\"-\",VLOOKUP(G150,ID分段!A:C,3,FALSE))","v":"功法-碎片"},5,0,0,null,0,1,0,null,null,0,0,0,0]
[13515,null,"异常转移碎片",null,null,"icon_item_13515",14,{"$f":"CONCATENATE(VLOOKUP(G151,ID分段!A:B,2,FALSE),\"-\",VLOOKUP(G151,ID分段!A:C,3,FALSE))","v":"功法-碎片"},5,0,0,null,0,1,0,null,null,0,0,0,0]
[13516,null,"阴水碎片",null,null,"icon_item_13516",14,{"$f":"CONCATENATE(VLOOKUP(G152,ID分段!A:B,2,FALSE),\"-\",VLOOKUP(G152,ID分段!A:C,3,FALSE))","v":"功法-碎片"},5,0,0,null,0,1,0,null,null,0,0,0,0]
[13517,null,"灵油碎片",null,null,"icon_item_13517",14,{"$f":"CONCATENATE(VLOOKUP(G153,ID分段!A:B,2,FALSE),\"-\",VLOOKUP(G153,ID分段!A:C,3,FALSE))","v":"功法-碎片"},5,0,0,null,0,1,0,null,null,0,0,0,0]
[13518,null,"厚土护体碎片",null,null,{"$f":"\"icon_item_\"&A154","v":"icon_item_13518"},14,{"$f":"CONCATENATE(VLOOKUP(G154,ID分段!A:B,2,FALSE),\"-\",VLOOKUP(G154,ID分段!A:C,3,FALSE))","v":"功法-碎片"},5,0,0,null,0,1,0,null,null,0,0,0,0]
[13519,null,"金沙碎片",null,null,"icon_item_13519",14,{"$f":"CONCATENATE(VLOOKUP(G155,ID分段!A:B,2,FALSE),\"-\",VLOOKUP(G155,ID分段!A:C,3,FALSE))","v":"功法-碎片"},5,0,0,null,0,1,0,null,null,0,0,0,0]
[]
[20001,3013,"樗木之灵的树枝",3015,null,{"$f":"\"icon_item_\"&A157","v":"icon_item_20001"},21,{"$f":"CONCATENATE(VLOOKUP(G157,ID分段!A:B,2,FALSE),\"-\",VLOOKUP(G157,ID分段!A:C,3,FALSE))","v":"道具-任务道具"},3,0,0,null,0,1,0,null,null,0,0,0,0]
[20002,3014,"飞天灵兽的翅膀",3016,null,{"$f":"\"icon_item_\"&A158","v":"icon_item_20002"},21,{"$f":"CONCATENATE(VLOOKUP(G158,ID分段!A:B,2,FALSE),\"-\",VLOOKUP(G158,ID分段!A:C,3,FALSE))","v":"道具-任务道具"},3,0,0,null,0,1,0,null,null,0,0,0,0]
[20003,3183,"灵草种子",3184,null,{"$f":"\"icon_item_\"&A159","v":"icon_item_20003"},21,{"$f":"CONCATENATE(VLOOKUP(G159,ID分段!A:B,2,FALSE),\"-\",VLOOKUP(G159,ID分段!A:C,3,FALSE))","v":"道具-任务道具"},3,0,0,null,0,1,0,null,null,0,0,0,0]
[]
[21001,3194,"神识符-灵石",3207,null,{"$f":"\"icon_item_\"&A161","v":"icon_item_21001"},22,{"$f":"CONCATENATE(VLOOKUP(G161,ID分段!A:B,2,FALSE),\"-\",VLOOKUP(G161,ID分段!A:C,3,FALSE))","v":"道具-神识道符"},3,0,0,null,0,1,0,null,null,0,0,0,0,7,1]
[21002,3195,"神识符-修为",3208,null,{"$f":"\"icon_item_\"&A162","v":"icon_item_21002"},22,{"$f":"CONCATENATE(VLOOKUP(G162,ID分段!A:B,2,FALSE),\"-\",VLOOKUP(G162,ID分段!A:C,3,FALSE))","v":"道具-神识道符"},3,0,0,null,0,1,0,null,null,0,0,0,0,7,2]
[21003,3196,"神识符-灵气",3209,null,"icon_item_21003",22,{"$f":"CONCATENATE(VLOOKUP(G163,ID分段!A:B,2,FALSE),\"-\",VLOOKUP(G163,ID分段!A:C,3,FALSE))","v":"道具-神识道符"},3,0,0,null,0,1,0,null,null,0,0,0,0,7,3]
[21004,3197,"神识符-玄晶",3210,null,"icon_item_21004",22,{"$f":"CONCATENATE(VLOOKUP(G164,ID分段!A:B,2,FALSE),\"-\",VLOOKUP(G164,ID分段!A:C,3,FALSE))","v":"道具-神识道符"},3,0,0,null,0,1,0,null,null,0,0,0,0,7,4]
[21005,3198,"神识符-功法碎片",3211,null,{"$f":"\"icon_item_\"&A165","v":"icon_item_21005"},22,{"$f":"CONCATENATE(VLOOKUP(G165,ID分段!A:B,2,FALSE),\"-\",VLOOKUP(G165,ID分段!A:C,3,FALSE))","v":"道具-神识道符"},3,0,0,null,0,1,0,null,null,0,0,0,0,7,5]
[21006,3199,"神识符-法宝碎片",3212,null,"icon_item_21006",22,{"$f":"CONCATENATE(VLOOKUP(G166,ID分段!A:B,2,FALSE),\"-\",VLOOKUP(G166,ID分段!A:C,3,FALSE))","v":"道具-神识道符"},3,0,0,null,0,1,0,null,null,0,0,0,0,7,6]
[21007,3200,"神识符-修为丹",3213,null,"icon_item_21007",22,{"$f":"CONCATENATE(VLOOKUP(G167,ID分段!A:B,2,FALSE),\"-\",VLOOKUP(G167,ID分段!A:C,3,FALSE))","v":"道具-神识道符"},3,0,0,null,0,1,0,null,null,0,0,0,0,7,7]
[21008,3201,"神识符-天材地宝",3214,null,"icon_item_21008",22,{"$f":"CONCATENATE(VLOOKUP(G168,ID分段!A:B,2,FALSE),\"-\",VLOOKUP(G168,ID分段!A:C,3,FALSE))","v":"道具-神识道符"},3,0,0,null,0,1,0,null,null,0,0,0,0,7,8]
[21009,3202,"神识符-渡劫丹",3215,null,"icon_item_21009",22,{"$f":"CONCATENATE(VLOOKUP(G169,ID分段!A:B,2,FALSE),\"-\",VLOOKUP(G169,ID分段!A:C,3,FALSE))","v":"道具-神识道符"},3,0,0,null,0,1,0,null,null,0,0,0,0,7,9]
[21010,3203,"神识符-好感度礼物",3216,null,"icon_item_21010",22,{"$f":"CONCATENATE(VLOOKUP(G170,ID分段!A:B,2,FALSE),\"-\",VLOOKUP(G170,ID分段!A:C,3,FALSE))","v":"道具-神识道符"},3,0,0,null,0,1,0,null,null,0,0,0,0,7,10]
[21011,3204,"神识符-心情礼物",3217,null,{"$f":"\"icon_item_\"&A171","v":"icon_item_21011"},22,{"$f":"CONCATENATE(VLOOKUP(G171,ID分段!A:B,2,FALSE),\"-\",VLOOKUP(G171,ID分段!A:C,3,FALSE))","v":"道具-神识道符"},3,0,0,null,0,1,0,null,null,0,0,0,0,7,11]
[21012,3205,"紫色神识提升符",3218,null,"icon_item_21012",22,{"$f":"CONCATENATE(VLOOKUP(G172,ID分段!A:B,2,FALSE),\"-\",VLOOKUP(G172,ID分段!A:C,3,FALSE))","v":"道具-神识道符"},4,0,0,null,0,1,0,null,null,0,0,0,0,6,"4;100000"]
[21013,3206,"橙色神识提升符",3219,null,"icon_item_21013",22,{"$f":"CONCATENATE(VLOOKUP(G173,ID分段!A:B,2,FALSE),\"-\",VLOOKUP(G173,ID分段!A:C,3,FALSE))","v":"道具-神识道符"},5,0,0,null,0,1,0,null,null,0,0,0,0,6,"5;1000000"]
[]
[22001,3243,"感悟点1",3250,{"$f":"CONCATENATE(\"道具描述_\",C175)","v":"道具描述_感悟点1"},{"$f":"\"icon_item_\"&A175","v":"icon_item_22001"},23,{"$f":"CONCATENATE(VLOOKUP(G175,ID分段!A:B,2,FALSE),\"-\",VLOOKUP(G175,ID分段!A:C,3,FALSE))","v":"道具-感悟点"},4,0,0,null,0,1,0,null,null,0,0,0,0]
[22002,3244,"感悟点2",3251,{"$f":"CONCATENATE(\"道具描述_\",C176)","v":"道具描述_感悟点2"},"icon_item_22002",23,{"$f":"CONCATENATE(VLOOKUP(G176,ID分段!A:B,2,FALSE),\"-\",VLOOKUP(G176,ID分段!A:C,3,FALSE))","v":"道具-感悟点"},4,0,0,null,0,1,0,null,null,0,0,0,0]
[22003,3245,"感悟点3",3252,"道具描述_感悟点3","icon_item_22003",23,{"$f":"CONCATENATE(VLOOKUP(G177,ID分段!A:B,2,FALSE),\"-\",VLOOKUP(G177,ID分段!A:C,3,FALSE))","v":"道具-感悟点"},4,0,0,null,0,1,0,null,null,0,0,0,0]
[22004,3246,"感悟点4",3253,"道具描述_感悟点4","icon_item_22004",23,{"$f":"CONCATENATE(VLOOKUP(G178,ID分段!A:B,2,FALSE),\"-\",VLOOKUP(G178,ID分段!A:C,3,FALSE))","v":"道具-感悟点"},4,0,0,null,0,1,0,null,null,0,0,0,0]
[22005,3247,"感悟点5",3254,"道具描述_感悟点5","icon_item_22005",23,{"$f":"CONCATENATE(VLOOKUP(G179,ID分段!A:B,2,FALSE),\"-\",VLOOKUP(G179,ID分段!A:C,3,FALSE))","v":"道具-感悟点"},4,0,0,null,0,1,0,null,null,0,0,0,0]
[22006,3248,"感悟点6",3255,"道具描述_感悟点6","icon_item_22006",23,{"$f":"CONCATENATE(VLOOKUP(G180,ID分段!A:B,2,FALSE),\"-\",VLOOKUP(G180,ID分段!A:C,3,FALSE))","v":"道具-感悟点"},4,0,0,null,0,1,0,null,null,0,0,0,0]
[22007,3249,"感悟点7",3256,"道具描述_感悟点7","icon_item_22007",23,{"$f":"CONCATENATE(VLOOKUP(G181,ID分段!A:B,2,FALSE),\"-\",VLOOKUP(G181,ID分段!A:C,3,FALSE))","v":"道具-感悟点"},4,0,0,null,0,1,0,null,null,0,0,0,0]

{"sheet":"ID分段","index":1,"n_rows":18,"n_cols":6,"rows_kept":18,"cut":false,"hidden":false,"merged":[]}
["Tag","大类","小类","起始ID","结束ID","已使用"]
[1,"资源","货币",1000,1099]
[2,"资源","材料",1100,1199]
[3,"资源","渡劫丹",1200,1299]
[4,"资源","天材地宝",1300,1399]
[5,"资源","经验丹",1400,1499]
[6,"资源","好感度礼物",1500,1599]
[7,"资源","心情礼物",1600,1699]
[8,"资源","神识丹",1700,1799]
[]
[11,"法宝","本体",10000,10999]
[12,"法宝","碎片",11000,11999]
[13,"功法","本体",12000,12999]
[14,"功法","碎片",13000,13999]
[]
[21,"道具","任务道具",20000,20999]
[22,"道具","神识道符",21000,21999]
[23,"道具","感悟点",22000,22999]

{"sheet":"道具用途说明","index":2,"n_rows":12,"n_cols":2,"rows_kept":12,"cut":false,"hidden":false,"merged":[]}
["associateID","associateVlaue"]
["int","int[]"]
[]
["特殊功能ID\n","特殊功能参数\n"]
[1,"突破丹可用的下限修为等级（包含）；突破丹可用的上限修为等级（不包含）；突破丹增加的概率；突破失败可以降低的修为损耗%"]
[2,"经验丹增加的修为值"]
[3,"功法对应的碎片ID；功法对应的技能组ID"]
[4,"法宝对应的碎片ID；法宝对应的法宝表ID"]
[5,"心情礼物对应增加的心情值"]
[6,"神识符：提升某个品质的刷新概率;提升的权重百分比（填110意思是将原有权重值×1.1）"]
[7,"神识符：使用后必定出现哪个PrizeType的事件"]
[8,"神识丹：使用后可恢复的神识点数"]