{"text_format":"2","workbook":"xlsx","n_sheets":2,"sheets":["FabaoConfig","FabaoPowerupConfig"],"not_rendered":{"charts":0,"images":0,"macros":0,"external_links":2,"defined_names":2,"comments":0,"pivot_tables":0},"unopened":[],"bounds":{"document_bytes":16777216,"sheet_cells":100000,"run_cost":"one","rows_first":2000,"rows_last":500,"rows_between":2000,"halvings":0,"cell_chars":16384,"cell_head_chars":4096},"cells_cut":0,"cells_raw":0,"read":"whole","date_system":"1900"}

{"sheet":"FabaoConfig","index":0,"n_rows":15,"n_cols":19,"rows_kept":15,"cut":false,"hidden":false,"merged":[]}
["ID","ItemID","name","Type","magicAttribute","model","fragmentID",null,"ShuxingIDs","ShuxingPara","SkillGroupID"]
["int","int","string","int","int","string","int",null,"int[]","int[]","int"]
[{"$nulls":15},"输入等级",10]
[null,"法宝对应道具ID","法宝名称","法宝类型\n1攻击型\n2防御型","法宝类型\n1=金\n2=木\n4=水\n8=火\n16=土","模型名称","法宝对应碎片道具ID","法宝默认星级","法宝基础属性类型","法宝基础属性倍率","法宝技能ID组","生命","防御","攻击",null,"生命","防御","攻击","品质"]
[10001,10001,"神龙鼎",1,1,"fb_3101",11001,1,{"$f":"_xlfn.TEXTJOIN(\";\",1,IF(L5=\"\",\"\",1),IF(M5=\"\",\"\",2),IF(N5=\"\",\"\",3))","v":"2;3"},{"$f":"_xlfn.TEXTJOIN(\";\",1,L5:N5)","v":"50;50"},3101,null,50,50,null,{"$f":"IF(L5=\"\",\"\",ROUND(VLOOKUP($Q$3,FabaoPowerupConfig!$A:$E,3,FALSE)*L5/100,0))","v":""},{"$f":"IF(M5=\"\",\"\",ROUND(VLOOKUP($Q$3,FabaoPowerupConfig!$A:$E,4,FALSE)*M5/100,0))","v":11},{"$f":"IF(N5=\"\",\"\",ROUND(VLOOKUP($Q$3,FabaoPowerupConfig!$A:$E,5,FALSE)*N5/100,0))","v":11},4]
[10002,10002,"噬空齿刃",1,1,"fb_wulonglun",11002,1,{"$f":"_xlfn.TEXTJOIN(\";\",1,IF(L6=\"\",\"\",1),IF(M6=\"\",\"\",2),IF(N6=\"\",\"\",3))","v":"1;3"},{"$f":"_xlfn.TEXTJOIN(\";\",1,L6:N6)","v":"50;50"},3102,50,null,50,null,{"$f":"IF(L6=\"\",\"\",ROUND(VLOOKUP($Q$3,FabaoPowerupConfig!$A:$E,3,FALSE)*L6/100,0))","v":127},{"$f":"IF(M6=\"\",\"\",ROUND(VLOOKUP($Q$3,FabaoPowerupConfig!$A:$E,4,FALSE)*M6/100,0))","v":""},{"$f":"IF(N6=\"\",\"\",ROUND(VLOOKUP($Q$3,FabaoPowerupConfig!$A:$E,5,FALSE)*N6/100,0))","v":11},5]
[10003,10003,"翡翠葫芦",1,2,"fb_feicuihulu",11003,1,"1;2","75;25",3201,75,25,null,null,{"$f":"IF(L7=\"\",\"\",ROUND(VLOOKUP($Q$3,FabaoPowerupConfig!$A:$E,3,FALSE)*L7/100,0))","v":191},{"$f":"IF(M7=\"\",\"\",ROUND(VLOOKUP($Q$3,FabaoPowerupConfig!$A:$E,4,FALSE)*M7/100,0))","v":5},{"$f":"IF(N7=\"\",\"\",ROUND(VLOOKUP($Q$3,FabaoPowerupConfig!$A:$E,5,FALSE)*N7/100,0))","v":""},4]
[10004,10004,"混沌珠",1,2,"fb_3202",11004,1,"1;3","25;75",3202,25,null,75,null,{"$f":"IF(L8=\"\",\"\",ROUND(VLOOKUP($Q$3,FabaoPowerupConfig!$A:$E,3,FALSE)*L8/100,0))","v":64},{"$f":"IF(M8=\"\",\"\",ROUND(VLOOKUP($Q$3,FabaoPowerupConfig!$A:$E,4,FALSE)*M8/100,0))","v":""},{"$f":"IF(N8=\"\",\"\",ROUND(VLOOKUP($Q$3,FabaoPowerupConfig!$A:$E,5,FALSE)*N8/100,0))","v":16},5]
[10005,10005,"绝脉瓶",1,2,"fb_3203",11005,1,"2;3","50;50",3203,null,50,50,null,{"$f":"IF(L9=\"\",\"\",ROUND(VLOOKUP($Q$3,FabaoPowerupConfig!$A:$E,3,FALSE)*L9/100,0))","v":""},{"$f":"IF(M9=\"\",\"\",ROUND(VLOOKUP($Q$3,FabaoPowerupConfig!$A:$E,4,FALSE)*M9/100,0))","v":11},{"$f":"IF(N9=\"\",\"\",ROUND(VLOOKUP($Q$3,FabaoPowerupConfig!$A:$E,5,FALSE)*N9/100,0))","v":11},5]
[10006,10006,"九幽镇魂瓶",1,4,"fb_BossPing",11006,1,"1;3","50;50",3301,50,null,50,null,{"$f":"IF(L10=\"\",\"\",ROUND(VLOOKUP($Q$3,FabaoPowerupConfig!$A:$E,3,FALSE)*L10/100,0))","v":127},{"$f":"IF(M10=\"\",\"\",ROUND(VLOOKUP($Q$3,FabaoPowerupConfig!$A:$E,4,FALSE)*M10/100,0))","v":""},{"$f":"IF(N10=\"\",\"\",ROUND(VLOOKUP($Q$3,FabaoPowerupConfig!$A:$E,5,FALSE)*N10/100,0))","v":11},4]
[10007,10007,"玉莲守心灯",1,4,"fb_3302",11007,1,"1;2","75;25",3302,75,25,null,null,{"$f":"IF(L11=\"\",\"\",ROUND(VLOOKUP($Q$3,FabaoPowerupConfig!$A:$E,3,FALSE)*L11/100,0))","v":191},{"$f":"IF(M11=\"\",\"\",ROUND(VLOOKUP($Q$3,FabaoPowerupConfig!$A:$E,4,FALSE)*M11/100,0))","v":5},{"$f":"IF(N11=\"\",\"\",ROUND(VLOOKUP($Q$3,FabaoPowerupConfig!$A:$E,5,FALSE)*N11/100,0))","v":""},5]
[10008,10008,"融灵塔",1,8,"fb_3401",11008,1,"2;3","75;25",3401,null,75,25,null,{"$f":"IF(L12=\"\",\"\",ROUND(VLOOKUP($Q$3,FabaoPowerupConfig!$A:$E,3,FALSE)*L12/100,0))","v":""},{"$f":"IF(M12=\"\",\"\",ROUND(VLOOKUP($Q$3,FabaoPowerupConfig!$A:$E,4,FALSE)*M12/100,0))","v":16},{"$f":"IF(N12=\"\",\"\",ROUND(VLOOKUP($Q$3,FabaoPowerupConfig!$A:$E,5,FALSE)*N12/100,0))","v":5},4]
[null,10009,"禁元珠",1,8,"fb_BossPing",11009,1,"","",3402,{"$nulls":4},{"$f":"IF(L13=\"\",\"\",ROUND(VLOOKUP($Q$3,FabaoPowerupConfig!$A:$E,3,FALSE)*L13/100,0))","v":""},{"$f":"IF(M13=\"\",\"\",ROUND(VLOOKUP($Q$3,FabaoPowerupConfig!$A:$E,4,FALSE)*M13/100,0))","v":""},{"$f":"IF(N13=\"\",\"\",ROUND(VLOOKUP($Q$3,FabaoPowerupConfig!$A:$E,5,FALSE)*N13/100,0))","v":""},5]
[10010,10010,"玄龟盾",1,16,"fb_xuanguidun",11010,1,"1;2","25;75",3501,25,75,null,null,{"$f":"IF(L14=\"\",\"\",ROUND(VLOOKUP($Q$3,FabaoPowerupConfig!$A:$E,3,FALSE)*L14/100,0))","v":64},{"$f":"IF(M14=\"\",\"\",ROUND(VLOOKUP($Q$3,FabaoPowerupConfig!$A:$E,4,FALSE)*M14/100,0))","v":16},{"$f":"IF(N14=\"\",\"\",ROUND(VLOOKUP($Q$3,FabaoPowerupConfig!$A:$E,5,FALSE)*N14/100,0))","v":""},4]
[null,10011,"天殇血刃剑",1,16,"fb_ding1",11011,1,"","",3502,{"$nulls":4},{"$f":"IF(L15=\"\",\"\",ROUND(VLOOKUP($Q$3,FabaoPowerupConfig!$A:$E,3,FALSE)*L15/100,0))","v":""},{"$f":"IF(M15=\"\",\"\",ROUND(VLOOKUP($Q$3,FabaoPowerupConfig!$A:$E,4,FALSE)*M15/100,0))","v":""},{"$f":"IF(N15=\"\",\"\",ROUND(VLOOKUP($Q$3,FabaoPowerupConfig!$A:$E,5,FALSE)*N15/100,0))","v":""},5]

{"sheet":"FabaoPowerupConfig","index":1,"n_rows":154,"n_cols":25,"rows_kept":154,"cut":false,"hidden":false,"merged":[]}
["ID","Power","HP","DEF","ATK",null,"NeedLv","PowerupItemIDs","PowerupItemCosts",{"$nulls":4},"PromotePieceNum","SkillLevel"]
["int","int","float","float","float",null,"int","int[]","int[]",{"$nulls":4},"int[]","int"]
[]
["ID序列","法宝的基础强度成长","法宝的生命标准成长1","法宝的防御标准成长2","法宝的攻击标准成长3","实力等级","升级所需修为等级","强化所需道具ID","强化所需道具数量","道具1","数量1","道具2","数量2","突破所需对应碎片数量\n索引0=quality1","对应的技能等级",1.08,"白色","绿色","蓝色","紫色","橙色","大约升几级"]
[1,100,{"$f":"ROUND(VLOOKUP(F5,[1]主表!$A:$B,2,FALSE)*[1]主表!$D$1*[1]升级!$AC$4*(1+VLOOKUP(F5,[1]主表!$A:$F,6,FALSE)),2)","v":81.69},{"$f":"ROUND(VLOOKUP(F5,[1]主表!$A:$B,2,FALSE)*[1]主表!$D$1*[1]升级!$Z$4,2)","v":15.2},{"$f":"ROUND(VLOOKUP(F5,[1]主表!$A:$B,2,FALSE)*[1]主表!$D$1*[1]升级!$W$4,2)","v":15.2},2,3,{"$f":"_xlfn.TEXTJOIN(\";\",1,J5,L5)","v":"1001;1006"},{"$f":"_xlfn.TEXTJOIN(\";\",1,K5,M5)","v":"2040;1224"},1001,{"$f":"ROUND(40*VLOOKUP(G5,[2]ResourceLevelConfig!$A:$H,3,FALSE)/20,0)","v":2040},1006,{"$f":"ROUND(VLOOKUP(G5,[2]ResourceLevelConfig!$A:$H,8,FALSE)*12,0)","v":1224},{"$f":"_xlfn.TEXTJOIN(\";\",1,Q5:U5)","v":"-1"},1,null,-1,{"$nulls":4},45]
[2,{"$f":"ROUND(B5*P$4,0)","v":108},{"$f":"ROUND(VLOOKUP(F6,[1]主表!$A:$B,2,FALSE)*[1]主表!$D$1*[1]升级!$AC$4*(1+VLOOKUP(F6,[1]主表!$A:$F,6,FALSE)),2)","v":95.57},{"$f":"ROUND(VLOOKUP(F6,[1]主表!$A:$B,2,FALSE)*[1]主表!$D$1*[1]升级!$Z$4,2)","v":15.62},{"$f":"ROUND(VLOOKUP(F6,[1]主表!$A:$B,2,FALSE)*[1]主表!$D$1*[1]升级!$W$4,2)","v":15.62},4,5,{"$f":"_xlfn.TEXTJOIN(\";\",1,J6,L6)","v":"1001;1006"},{"$f":"_xlfn.TEXTJOIN(\";\",1,K6,M6)","v":"2082;1248"},1001,{"$f":"ROUND(40*VLOOKUP(G6,[2]ResourceLevelConfig!$A:$H,3,FALSE)/20,0)","v":2082},1006,{"$f":"ROUND(VLOOKUP(G6,[2]ResourceLevelConfig!$A:$H,8,FALSE)*12,0)","v":1248},"-1",1,null,-1]
[3,{"$f":"ROUND(B6*P$4,0)","v":117},{"$f":"ROUND(VLOOKUP(F7,[1]主表!$A:$B,2,FALSE)*[1]主表!$D$1*[1]升级!$AC$4*(1+VLOOKUP(F7,[1]主表!$A:$F,6,FALSE)),2)","v":110.15},{"$f":"ROUND(VLOOKUP(F7,[1]主表!$A:$B,2,FALSE)*[1]主表!$D$1*[1]升级!$Z$4,2)","v":16.04},{"$f":"ROUND(VLOOKUP(F7,[1]主表!$A:$B,2,FALSE)*[1]主表!$D$1*[1]升级!$W$4,2)","v":16.04},6,7,"1001;1006","2124;1272",1001,{"$f":"ROUND(40*VLOOKUP(G7,[2]ResourceLevelConfig!$A:$H,3,FALSE)/20,0)","v":2124},1006,{"$f":"ROUND(VLOOKUP(G7,[2]ResourceLevelConfig!$A:$H,8,FALSE)*12,0)","v":1272},"-1",1,null,-1,{"$nulls":6},1,1]
[4,126,{"$f":"ROUND(VLOOKUP(F8,[1]主表!$A:$B,2,FALSE)*[1]主表!$D$1*[1]升级!$AC$4*(1+VLOOKUP(F8,[1]主表!$A:$F,6,FALSE)),2)","v":125.45},{"$f":"ROUND(VLOOKUP(F8,[1]主表!$A:$B,2,FALSE)*[1]主表!$D$1*[1]升级!$Z$4,2)","v":16.48},{"$f":"ROUND(VLOOKUP(F8,[1]主表!$A:$B,2,FALSE)*[1]主表!$D$1*[1]升级!$W$4,2)","v":16.48},8,9,"1001;1006","2166;1296",1001,{"$f":"ROUND(40*VLOOKUP(G8,[2]ResourceLevelConfig!$A:$H,3,FALSE)/20,0)","v":2166},1006,{"$f":"ROUND(VLOOKUP(G8,[2]ResourceLevelConfig!$A:$H,8,FALSE)*12,0)","v":1296},"-1",1,null,-1,{"$nulls":6},2,6]
[5,136,{"$f":"ROUND(VLOOKUP(F9,[1]主表!$A:$B,2,FALSE)*[1]主表!$D$1*[1]升级!$AC$4*(1+VLOOKUP(F9,[1]主表!$A:$F,6,FALSE)),2)","v":141.5},{"$f":"ROUND(VLOOKUP(F9,[1]主表!$A:$B,2,FALSE)*[1]主表!$D$1*[1]升级!$Z$4,2)","v":16.920000000000002},{"$f":"ROUND(VLOOKUP(F9,[1]主表!$A:$B,2,FALSE)*[1]主表!$D$1*[1]升级!$W$4,2)","v":16.920000000000002},10,11,"1001;1006","2210;1332",1001,{"$f":"ROUND(40*VLOOKUP(G9,[2]ResourceLevelConfig!$A:$H,3,FALSE)/20,0)","v":2210},1006,{"$f":"ROUND(VLOOKUP(G9,[2]ResourceLevelConfig!$A:$H,8,FALSE)*12,0)","v":1332},"-1",1,null,-1,{"$nulls":6},3,10]
[6,147,{"$f":"ROUND(VLOOKUP(F10,[1]主表!$A:$B,2,FALSE)*[1]主表!$D$1*[1]升级!$AC$4*(1+VLOOKUP(F10,[1]主表!$A:$F,6,FALSE)),2)","v":171.84},{"$f":"ROUND(VLOOKUP(F10,[1]主表!$A:$B,2,FALSE)*[1]主表!$D$1*[1]升级!$Z$4,2)","v":18.87},{"$f":"ROUND(VLOOKUP(F10,[1]主表!$A:$B,2,FALSE)*[1]主表!$D$1*[1]升级!$W$4,2)","v":18.87},12,13,"1001;1006","2256;1356",1001,{"$f":"ROUND(40*VLOOKUP(G10,[2]ResourceLevelConfig!$A:$H,3,FALSE)/20,0)","v":2256},1006,{"$f":"ROUND(VLOOKUP(G10,[2]ResourceLevelConfig!$A:$H,8,FALSE)*12,0)","v":1356},"-1",1,null,-1,{"$nulls":6},4,15]
[7,159,{"$f":"ROUND(VLOOKUP(F11,[1]主表!$A:$B,2,FALSE)*[1]主表!$D$1*[1]升级!$AC$4*(1+VLOOKUP(F11,[1]主表!$A:$F,6,FALSE)),2)","v":190.99},{"$f":"ROUND(VLOOKUP(F11,[1]主表!$A:$B,2,FALSE)*[1]主表!$D$1*[1]升级!$Z$4,2)","v":19.38},{"$f":"ROUND(VLOOKUP(F11,[1]主表!$A:$B,2,FALSE)*[1]主表!$D$1*[1]升级!$W$4,2)","v":19.38},14,15,"1001;1006","2302;1380",1001,{"$f":"ROUND(40*VLOOKUP(G11,[2]ResourceLevelConfig!$A:$H,3,FALSE)/20,0)","v":2302},1006,{"$f":"ROUND(VLOOKUP(G11,[2]ResourceLevelConfig!$A:$H,8,FALSE)*12,0)","v":1380},"-1",1,null,-1,{"$nulls":6},5,20]
[8,172,{"$f":"ROUND(VLOOKUP(F12,[1]主表!$A:$B,2,FALSE)*[1]主表!$D$1*[1]升级!$AC$4*(1+VLOOKUP(F12,[1]主表!$A:$F,6,FALSE)),2)","v":211.05},{"$f":"ROUND(VLOOKUP(F12,[1]主表!$A:$B,2,FALSE)*[1]主表!$D$1*[1]升级!$Z$4,2)","v":19.91},{"$f":"ROUND(VLOOKUP(F12,[1]主表!$A:$B,2,FALSE)*[1]主表!$D$1*[1]升级!$W$4,2)","v":19.91},16,17,"1001;1006","2348;1404",1001,{"$f":"ROUND(40*VLOOKUP(G12,[2]ResourceLevelConfig!$A:$H,3,FALSE)/20,0)","v":2348},1006,{"$f":"ROUND(VLOOKUP(G12,[2]ResourceLevelConfig!$A:$H,8,FALSE)*12,0)","v":1404},"-1",1,null,-1,{"$nulls":6},6,25]
[9,186,{"$f":"ROUND(VLOOKUP(F13,[1]主表!$A:$B,2,FALSE)*[1]主表!$D$1*[1]升级!$AC$4*(1+VLOOKUP(F13,[1]主表!$A:$F,6,FALSE)),2)","v":232.06},{"$f":"ROUND(VLOOKUP(F13,[1]主表!$A:$B,2,FALSE)*[1]主表!$D$1*[1]升级!$Z$4,2)","v":20.45},{"$f":"ROUND(VLOOKUP(F13,[1]主表!$A:$B,2,FALSE)*[1]主表!$D$1*[1]升级!$W$4,2)","v":20.45},18,19,"1001;1006","2396;1440",1001,{"$f":"ROUND(40*VLOOKUP(G13,[2]ResourceLevelConfig!$A:$H,3,FALSE)/20,0)","v":2396},1006,{"$f":"ROUND(VLOOKUP(G13,[2]ResourceLevelConfig!$A:$H,8,FALSE)*12,0)","v":1440},"-1",1,null,-1]
[10,201,{"$f":"ROUND(VLOOKUP(F14,[1]主表!$A:$B,2,FALSE)*[1]主表!$D$1*[1]升级!$AC$4*(1+VLOOKUP(F14,[1]主表!$A:$F,6,FALSE)),2)","v":254.05},{"$f":"ROUND(VLOOKUP(F14,[1]主表!$A:$B,2,FALSE)*[1]主表!$D$1*[1]升级!$Z$4,2)","v":21.01},{"$f":"ROUND(VLOOKUP(F14,[1]主表!$A:$B,2,FALSE)*[1]主表!$D$1*[1]升级!$W$4,2)","v":21.01},20,21,"1001;1006","2444;1464",1001,{"$f":"ROUND(40*VLOOKUP(G14,[2]ResourceLevelConfig!$A:$H,3,FALSE)/20,0)","v":2444},1006,{"$f":"ROUND(VLOOKUP(G14,[2]ResourceLevelConfig!$A:$H,8,FALSE)*12,0)","v":1464},"-1",1,null,-1,{"$nulls":4},40]
[11,217,{"$f":"ROUND(VLOOKUP(F15,[1]主表!$A:$B,2,FALSE)*[1]主表!$D$1*[1]升级!$AC$4*(1+VLOOKUP(F15,[1]主表!$A:$F,6,FALSE)),2)","v":300.72000000000003},{"$f":"ROUND(VLOOKUP(F15,[1]主表!$A:$B,2,FALSE)*[1]主表!$D$1*[1]升级!$Z$4,2)","v":23.42},{"$f":"ROUND(VLOOKUP(F15,[1]主表!$A:$B,2,FALSE)*[1]主表!$D$1*[1]升级!$W$4,2)","v":23.42},22,23,"1001;1006","2494;1500",1001,{"$f":"ROUND(40*VLOOKUP(G15,[2]ResourceLevelConfig!$A:$H,3,FALSE)/20,0)","v":2494},1006,{"$f":"ROUND(VLOOKUP(G15,[2]ResourceLevelConfig!$A:$H,8,FALSE)*12,0)","v":1500},"-1",1,null,-1]
[12,234,{"$f":"ROUND(VLOOKUP(F16,[1]主表!$A:$B,2,FALSE)*[1]主表!$D$1*[1]升级!$AC$4*(1+VLOOKUP(F16,[1]主表!$A:$F,6,FALSE)),2)","v":326.86},{"$f":"ROUND(VLOOKUP(F16,[1]主表!$A:$B,2,FALSE)*[1]主表!$D$1*[1]升级!$Z$4,2)","v":24.05},{"$f":"ROUND(VLOOKUP(F16,[1]主表!$A:$B,2,FALSE)*[1]主表!$D$1*[1]升级!$W$4,2)","v":24.05},24,25,"1001;1006","2544;1524",1001,{"$f":"ROUND(40*VLOOKUP(G16,[2]ResourceLevelConfig!$A:$H,3,FALSE)/20,0)","v":2544},1006,{"$f":"ROUND(VLOOKUP(G16,[2]ResourceLevelConfig!$A:$H,8,FALSE)*12,0)","v":1524},"-1",1,null,-1]
[13,253,{"$f":"ROUND(VLOOKUP(F17,[1]主表!$A:$B,2,FALSE)*[1]主表!$D$1*[1]升级!$AC$4*(1+VLOOKUP(F17,[1]主表!$A:$F,6,FALSE)),2)","v":354.2},{"$f":"ROUND(VLOOKUP(F17,[1]主表!$A:$B,2,FALSE)*[1]主表!$D$1*[1]升级!$Z$4,2)","v":24.71},{"$f":"ROUND(VLOOKUP(F17,[1]主表!$A:$B,2,FALSE)*[1]主表!$D$1*[1]升级!$W$4,2)","v":24.71},26,27,"1001;1006","2596;1560",1001,{"$f":"ROUND(40*VLOOKUP(G17,[2]ResourceLevelConfig!$A:$H,3,FALSE)/20,0)","v":2596},1006,{"$f":"ROUND(VLOOKUP(G17,[2]ResourceLevelConfig!$A:$H,8,FALSE)*12,0)","v":1560},"-1",1,null,-1]
[14,273,{"$f":"ROUND(VLOOKUP(F18,[1]主表!$A:$B,2,FALSE)*[1]主表!$D$1*[1]升级!$AC$4*(1+VLOOKUP(F18,[1]主表!$A:$F,6,FALSE)),2)","v":382.78},{"$f":"ROUND(VLOOKUP(F18,[1]主表!$A:$B,2,FALSE)*[1]主表!$D$1*[1]升级!$Z$4,2)","v":25.38},{"$f":"ROUND(VLOOKUP(F18,[1]主表!$A:$B,2,FALSE)*[1]主表!$D$1*[1]升级!$W$4,2)","v":25.38},28,29,"1001;1006","2648;1584",1001,{"$f":"ROUND(40*VLOOKUP(G18,[2]ResourceLevelConfig!$A:$H,3,FALSE)/20,0)","v":2648},1006,{"$f":"ROUND(VLOOKUP(G18,[2]ResourceLevelConfig!$A:$H,8,FALSE)*12,0)","v":1584},"-1",1,null,-1]
[15,295,{"$f":"ROUND(VLOOKUP(F19,[1]主表!$A:$B,2,FALSE)*[1]主表!$D$1*[1]升级!$AC$4*(1+VLOOKUP(F19,[1]主表!$A:$F,6,FALSE)),2)","v":412.66},{"$f":"ROUND(VLOOKUP(F19,[1]主表!$A:$B,2,FALSE)*[1]主表!$D$1*[1]升级!$Z$4,2)","v":26.07},{"$f":"ROUND(VLOOKUP(F19,[1]主表!$A:$B,2,FALSE)*[1]主表!$D$1*[1]升级!$W$4,2)","v":26.07},30,31,"1001;1006","2702;1620",1001,{"$f":"ROUND(40*VLOOKUP(G19,[2]ResourceLevelConfig!$A:$H,3,FALSE)/20,0)","v":2702},1006,{"$f":"ROUND(VLOOKUP(G19,[2]ResourceLevelConfig!$A:$H,8,FALSE)*12,0)","v":1620},"-1",1,null,-1]
[16,319,{"$f":"ROUND(VLOOKUP(F20,[1]主表!$A:$B,2,FALSE)*[1]主表!$D$1*[1]升级!$AC$4*(1+VLOOKUP(F20,[1]主表!$A:$F,6,FALSE)),2)","v":569.35},{"$f":"ROUND(VLOOKUP(F20,[1]主表!$A:$B,2,FALSE)*[1]主表!$D$1*[1]升级!$Z$4,2)","v":34.35},{"$f":"ROUND(VLOOKUP(F20,[1]主表!$A:$B,2,FALSE)*[1]主表!$D$1*[1]升级!$W$4,2)","v":34.35},32,33,"1001;1006","2756;1656",1001,{"$f":"ROUND(40*VLOOKUP(G20,[2]ResourceLevelConfig!$A:$H,3,FALSE)/20,0)","v":2756},1006,{"$f":"ROUND(VLOOKUP(G20,[2]ResourceLevelConfig!$A:$H,8,FALSE)*12,0)","v":1656},"-1",1,null,-1]
[17,345,{"$f":"ROUND(VLOOKUP(F21,[1]主表!$A:$B,2,FALSE)*[1]主表!$D$1*[1]升级!$AC$4*(1+VLOOKUP(F21,[1]主表!$A:$F,6,FALSE)),2)","v":611.17999999999995},{"$f":"ROUND(VLOOKUP(F21,[1]主表!$A:$B,2,FALSE)*[1]主表!$D$1*[1]升级!$Z$4,2)","v":35.28},{"$f":"ROUND(VLOOKUP(F21,[1]主表!$A:$B,2,FALSE)*[1]主表!$D$1*[1]升级!$W$4,2)","v":35.28},34,35,"1001;1006","2812;1692",1001,{"$f":"ROUND(40*VLOOKUP(G21,[2]ResourceLevelConfig!$A:$H,3,FALSE)/20,0)","v":2812},1006,{"$f":"ROUND(VLOOKUP(G21,[2]ResourceLevelConfig!$A:$H,8,FALSE)*12,0)","v":1692},"-1",1,null,-1]
[18,373,{"$f":"ROUND(VLOOKUP(F22,[1]主表!$A:$B,2,FALSE)*[1]主表!$D$1*[1]升级!$AC$4*(1+VLOOKUP(F22,[1]主表!$A:$F,6,FALSE)),2)","v":654.86},{"$f":"ROUND(VLOOKUP(F22,[1]主表!$A:$B,2,FALSE)*[1]主表!$D$1*[1]升级!$Z$4,2)","v":36.24},{"$f":"ROUND(VLOOKUP(F22,[1]主表!$A:$B,2,FALSE)*[1]主表!$D$1*[1]升级!$W$4,2)","v":36.24},36,37,"1001;1006","2868;1716",1001,{"$f":"ROUND(40*VLOOKUP(G22,[2]ResourceLevelConfig!$A:$H,3,FALSE)/20,0)","v":2868},1006,{"$f":"ROUND(VLOOKUP(G22,[2]ResourceLevelConfig!$A:$H,8,FALSE)*12,0)","v":1716},"-1",1,null,-1]
[19,403,{"$f":"ROUND(VLOOKUP(F23,[1]主表!$A:$B,2,FALSE)*[1]主表!$D$1*[1]升级!$AC$4*(1+VLOOKUP(F23,[1]主表!$A:$F,6,FALSE)),2)","v":700.47},{"$f":"ROUND(VLOOKUP(F23,[1]主表!$A:$B,2,FALSE)*[1]主表!$D$1*[1]升级!$Z$4,2)","v":37.229999999999997},{"$f":"ROUND(VLOOKUP(F23,[1]主表!$A:$B,2,FALSE)*[1]主表!$D$1*[1]升级!$W$4,2)","v":37.229999999999997},38,39,"1001;1006","2926;1752",1001,{"$f":"ROUND(40*VLOOKUP(G23,[2]ResourceLevelConfig!$A:$H,3,FALSE)/20,0)","v":2926},1006,{"$f":"ROUND(VLOOKUP(G23,[2]ResourceLevelConfig!$A:$H,8,FALSE)*12,0)","v":1752},"-1",1,null,-1]
[20,435,{"$f":"ROUND(VLOOKUP(F24,[1]主表!$A:$B,2,FALSE)*[1]主表!$D$1*[1]升级!$AC$4*(1+VLOOKUP(F24,[1]主表!$A:$F,6,FALSE)),2)","v":748.07},{"$f":"ROUND(VLOOKUP(F24,[1]主表!$A:$B,2,FALSE)*[1]主表!$D$1*[1]升级!$Z$4,2)","v":38.24},{"$f":"ROUND(VLOOKUP(F24,[1]主表!$A:$B,2,FALSE)*[1]主表!$D$1*[1]升级!$W$4,2)","v":38.24},40,41,"1001;1006","2986;1788",1001,{"$f":"ROUND(40*VLOOKUP(G24,[2]ResourceLevelConfig!$A:$H,3,FALSE)/20,0)","v":2986},1006,{"$f":"ROUND(VLOOKUP(G24,[2]ResourceLevelConfig!$A:$H,8,FALSE)*12,0)","v":1788},"-1",1,null,-1,{"$nulls":4},35]
[21,470,{"$f":"ROUND(VLOOKUP(F25,[1]主表!$A:$B,2,FALSE)*[1]主表!$D$1*[1]升级!$AC$4*(1+VLOOKUP(F25,[1]主表!$A:$F,6,FALSE)),2)","v":865.82},{"$f":"ROUND(VLOOKUP(F25,[1]主表!$A:$B,2,FALSE)*[1]主表!$D$1*[1]升级!$Z$4,2)","v":42.63},{"$f":"ROUND(VLOOKUP(F25,[1]主表!$A:$B,2,FALSE)*[1]主表!$D$1*[1]升级!$W$4,2)","v":42.63},42,43,"1001;1006","3046;1824",1001,{"$f":"ROUND(40*VLOOKUP(G25,[2]ResourceLevelConfig!$A:$H,3,FALSE)/20,0)","v":3046},1006,{"$f":"ROUND(VLOOKUP(G25,[2]ResourceLevelConfig!$A:$H,8,FALSE)*12,0)","v":1824},"-1",1,null,-1]
[22,508,{"$f":"ROUND(VLOOKUP(F26,[1]主表!$A:$B,2,FALSE)*[1]主表!$D$1*[1]升级!$AC$4*(1+VLOOKUP(F26,[1]主表!$A:$F,6,FALSE)),2)","v":922.06},{"$f":"ROUND(VLOOKUP(F26,[1]主表!$A:$B,2,FALSE)*[1]主表!$D$1*[1]升级!$Z$4,2)","v":43.79},{"$f":"ROUND(VLOOKUP(F26,[1]主表!$A:$B,2,FALSE)*[1]主表!$D$1*[1]升级!$W$4,2)","v":43.79},44,45,"1001;1006","3108;1860",1001,{"$f":"ROUND(40*VLOOKUP(G26,[2]ResourceLevelConfig!$A:$H,3,FALSE)/20,0)","v":3108},1006,{"$f":"ROUND(VLOOKUP(G26,[2]ResourceLevelConfig!$A:$H,8,FALSE)*12,0)","v":1860},"-1",1,null,-1]
[23,549,{"$f":"ROUND(VLOOKUP(F27,[1]主表!$A:$B,2,FALSE)*[1]主表!$D$1*[1]升级!$AC$4*(1+VLOOKUP(F27,[1]主表!$A:$F,6,FALSE)),2)","v":980.72},{"$f":"ROUND(VLOOKUP(F27,[1]主表!$A:$B,2,FALSE)*[1]主表!$D$1*[1]升级!$Z$4,2)","v":44.98},{"$f":"ROUND(VLOOKUP(F27,[1]主表!$A:$B,2,FALSE)*[1]主表!$D$1*[1]升级!$W$4,2)","v":44.98},46,47,"1001;1006","3170;1908",1001,{"$f":"ROUND(40*VLOOKUP(G27,[2]ResourceLevelConfig!$A:$H,3,FALSE)/20,0)","v":3170},1006,{"$f":"ROUND(VLOOKUP(G27,[2]ResourceLevelConfig!$A:$H,8,FALSE)*12,0)","v":1908},"-1",1,null,-1]
[24,593,{"$f":"ROUND(VLOOKUP(F28,[1]主表!$A:$B,2,FALSE)*[1]主表!$D$1*[1]升级!$AC$4*(1+VLOOKUP(F28,[1]主表!$A:$F,6,FALSE)),2)","v":1041.8900000000001},{"$f":"ROUND(VLOOKUP(F28,[1]主表!$A:$B,2,FALSE)*[1]主表!$D$1*[1]升级!$Z$4,2)","v":46.2},{"$f":"ROUND(VLOOKUP(F28,[1]主表!$A:$B,2,FALSE)*[1]主表!$D$1*[1]升级!$W$4,2)","v":46.2},48,49,"1001;1006","3236;1944",1001,{"$f":"ROUND(40*VLOOKUP(G28,[2]ResourceLevelConfig!$A:$H,3,FALSE)/20,0)","v":3236},1006,{"$f":"ROUND(VLOOKUP(G28,[2]ResourceLevelConfig!$A:$H,8,FALSE)*12,0)","v":1944},"-1",1,null,-1]
[25,640,{"$f":"ROUND(VLOOKUP(F29,[1]主表!$A:$B,2,FALSE)*[1]主表!$D$1*[1]升级!$AC$4*(1+VLOOKUP(F29,[1]主表!$A:$F,6,FALSE)),2)","v":1105.6600000000001},{"$f":"ROUND(VLOOKUP(F29,[1]主表!$A:$B,2,FALSE)*[1]主表!$D$1*[1]升级!$Z$4,2)","v":47.46},{"$f":"ROUND(VLOOKUP(F29,[1]主表!$A:$B,2,FALSE)*[1]主表!$D$1*[1]升级!$W$4,2)","v":47.46},50,51,"1001;1006","3300;1980",1001,{"$f":"ROUND(40*VLOOKUP(G29,[2]ResourceLevelConfig!$A:$H,3,FALSE)/20,0)","v":3300},1006,{"$f":"ROUND(VLOOKUP(G29,[2]ResourceLevelConfig!$A:$H,8,FALSE)*12,0)","v":1980},"-1",1,null,-1]
[26,691,{"$f":"ROUND(VLOOKUP(F30,[1]主表!$A:$B,2,FALSE)*[1]主表!$D$1*[1]升级!$AC$4*(1+VLOOKUP(F30,[1]主表!$A:$F,6,FALSE)),2)","v":1272.1600000000001},{"$f":"ROUND(VLOOKUP(F30,[1]主表!$A:$B,2,FALSE)*[1]主表!$D$1*[1]升级!$Z$4,2)","v":52.91},{"$f":"ROUND(VLOOKUP(F30,[1]主表!$A:$B,2,FALSE)*[1]主表!$D$1*[1]升级!$W$4,2)","v":52.91},52,53,"1001;1006","3368;2016",1001,{"$f":"ROUND(40*VLOOKUP(G30,[2]ResourceLevelConfig!$A:$H,3,FALSE)/20,0)","v":3368},1006,{"$f":"ROUND(VLOOKUP(G30,[2]ResourceLevelConfig!$A:$H,8,FALSE)*12,0)","v":2016},"-1",1,null,-1]
[27,746,{"$f":"ROUND(VLOOKUP(F31,[1]主表!$A:$B,2,FALSE)*[1]主表!$D$1*[1]升级!$AC$4*(1+VLOOKUP(F31,[1]主表!$A:$F,6,FALSE)),2)","v":1347.33},{"$f":"ROUND(VLOOKUP(F31,[1]主表!$A:$B,2,FALSE)*[1]主表!$D$1*[1]升级!$Z$4,2)","v":54.35},{"$f":"ROUND(VLOOKUP(F31,[1]主表!$A:$B,2,FALSE)*[1]主表!$D$1*[1]升级!$W$4,2)","v":54.35},54,55,"1001;1006","3436;2064",1001,{"$f":"ROUND(40*VLOOKUP(G31,[2]ResourceLevelConfig!$A:$H,3,FALSE)/20,0)","v":3436},1006,{"$f":"ROUND(VLOOKUP(G31,[2]ResourceLevelConfig!$A:$H,8,FALSE)*12,0)","v":2064},"-1",1,null,-1]
[28,806,{"$f":"ROUND(VLOOKUP(F32,[1]主表!$A:$B,2,FALSE)*[1]主表!$D$1*[1]升级!$AC$4*(1+VLOOKUP(F32,[1]主表!$A:$F,6,FALSE)),2)","v":1425.65},{"$f":"ROUND(VLOOKUP(F32,[1]主表!$A:$B,2,FALSE)*[1]主表!$D$1*[1]升级!$Z$4,2)","v":55.83},{"$f":"ROUND(VLOOKUP(F32,[1]主表!$A:$B,2,FALSE)*[1]主表!$D$1*[1]升级!$W$4,2)","v":55.83},56,57,"1001;1006","3506;2100",1001,{"$f":"ROUND(40*VLOOKUP(G32,[2]ResourceLevelConfig!$A:$H,3,FALSE)/20,0)","v":3506},1006,{"$f":"ROUND(VLOOKUP(G32,[2]ResourceLevelConfig!$A:$H,8,FALSE)*12,0)","v":2100},"-1",1,null,-1]
[29,870,{"$f":"ROUND(VLOOKUP(F33,[1]主表!$A:$B,2,FALSE)*[1]主表!$D$1*[1]升级!$AC$4*(1+VLOOKUP(F33,[1]主表!$A:$F,6,FALSE)),2)","v":1507.23},{"$f":"ROUND(VLOOKUP(F33,[1]主表!$A:$B,2,FALSE)*[1]主表!$D$1*[1]升级!$Z$4,2)","v":57.34},{"$f":"ROUND(VLOOKUP(F33,[1]主表!$A:$B,2,FALSE)*[1]主表!$D$1*[1]升级!$W$4,2)","v":57.34},58,59,"1001;1006","3576;2148",1001,{"$f":"ROUND(40*VLOOKUP(G33,[2]ResourceLevelConfig!$A:$H,3,FALSE)/20,0)","v":3576},1006,{"$f":"ROUND(VLOOKUP(G33,[2]ResourceLevelConfig!$A:$H,8,FALSE)*12,0)","v":2148},"-1",1,null,-1]
[30,940,{"$f":"ROUND(VLOOKUP(F34,[1]主表!$A:$B,2,FALSE)*[1]主表!$D$1*[1]升级!$AC$4*(1+VLOOKUP(F34,[1]主表!$A:$F,6,FALSE)),2)","v":1592.2},{"$f":"ROUND(VLOOKUP(F34,[1]主表!$A:$B,2,FALSE)*[1]主表!$D$1*[1]升级!$Z$4,2)","v":58.9},{"$f":"ROUND(VLOOKUP(F34,[1]主表!$A:$B,2,FALSE)*[1]主表!$D$1*[1]升级!$W$4,2)","v":58.9},60,61,"1001;1006","3648;2184",1001,{"$f":"ROUND(40*VLOOKUP(G34,[2]ResourceLevelConfig!$A:$H,3,FALSE)/20,0)","v":3648},1006,{"$f":"ROUND(VLOOKUP(G34,[2]ResourceLevelConfig!$A:$H,8,FALSE)*12,0)","v":2184},{"$f":"_xlfn.TEXTJOIN(\";\",1,Q34:U34)","v":"-1;0;30;50;60"},2,null,-1,0,{"$f":"[1]抽卡!$S$10","v":30},{"$f":"[1]抽卡!$S$11","v":50},{"$f":"[1]抽卡!$S$12","v":60},30]
[31,1015,{"$f":"ROUND(VLOOKUP(F35,[1]主表!$A:$B,2,FALSE)*[1]主表!$D$1*[1]升级!$AC$4*(1+VLOOKUP(F35,[1]主表!$A:$F,6,FALSE)),2)","v":2155.7600000000002},{"$f":"ROUND(VLOOKUP(F35,[1]主表!$A:$B,2,FALSE)*[1]主表!$D$1*[1]升级!$Z$4,2)","v":77.61},{"$f":"ROUND(VLOOKUP(F35,[1]主表!$A:$B,2,FALSE)*[1]主表!$D$1*[1]升级!$W$4,2)","v":77.61},62,63,{"$f":"_xlfn.TEXTJOIN(\";\",1,J35,L35)","v":"1001;1006"},{"$f":"_xlfn.TEXTJOIN(\";\",1,K35,M35)","v":"3722;2232"},1001,{"$f":"ROUND(40*VLOOKUP(G35,[2]ResourceLevelConfig!$A:$H,3,FALSE)/20,0)","v":3722},1006,{"$f":"ROUND(VLOOKUP(G35,[2]ResourceLevelConfig!$A:$H,8,FALSE)*12,0)","v":2232},"-1",2,null,-1]
[32,{"$f":"ROUND(B35*P$4,0)","v":1096},{"$f":"ROUND(VLOOKUP(F36,[1]主表!$A:$B,2,FALSE)*[1]主表!$D$1*[1]升级!$AC$4*(1+VLOOKUP(F36,[1]主表!$A:$F,6,FALSE)),2)","v":2273.9},{"$f":"ROUND(VLOOKUP(F36,[1]主表!$A:$B,2,FALSE)*[1]主表!$D$1*[1]升级!$Z$4,2)","v":79.72},{"$f":"ROUND(VLOOKUP(F36,[1]主表!$A:$B,2,FALSE)*[1]主表!$D$1*[1]升级!$W$4,2)","v":79.72},64,65,"1001;1006","3798;2280",1001,{"$f":"ROUND(40*VLOOKUP(G36,[2]ResourceLevelConfig!$A:$H,3,FALSE)/20,0)","v":3798},1006,{"$f":"ROUND(VLOOKUP(G36,[2]ResourceLevelConfig!$A:$H,8,FALSE)*12,0)","v":2280},"-1",2,null,-1]
[33,1184,{"$f":"ROUND(VLOOKUP(F37,[1]主表!$A:$B,2,FALSE)*[1]主表!$D$1*[1]升级!$AC$4*(1+VLOOKUP(F37,[1]主表!$A:$F,6,FALSE)),2)","v":2396.87},{"$f":"ROUND(VLOOKUP(F37,[1]主表!$A:$B,2,FALSE)*[1]主表!$D$1*[1]升级!$Z$4,2)","v":81.88},{"$f":"ROUND(VLOOKUP(F37,[1]主表!$A:$B,2,FALSE)*[1]主表!$D$1*[1]升级!$W$4,2)","v":81.88},66,67,{"$f":"_xlfn.TEXTJOIN(\";\",1,J37,L37)","v":"1001;1006"},{"$f":"_xlfn.TEXTJOIN(\";\",1,K37,M37)","v":"3874;2328"},1001,{"$f":"ROUND(40*VLOOKUP(G37,[2]ResourceLevelConfig!$A:$H,3,FALSE)/20,0)","v":3874},1006,{"$f":"ROUND(VLOOKUP(G37,[2]ResourceLevelConfig!$A:$H,8,FALSE)*12,0)","v":2328},"-1",2,null,-1]
[34,1279,{"$f":"ROUND(VLOOKUP(F38,[1]主表!$A:$B,2,FALSE)*[1]主表!$D$1*[1]升级!$AC$4*(1+VLOOKUP(F38,[1]主表!$A:$F,6,FALSE)),2)","v":2524.85},{"$f":"ROUND(VLOOKUP(F38,[1]主表!$A:$B,2,FALSE)*[1]主表!$D$1*[1]升级!$Z$4,2)","v":84.11},{"$f":"ROUND(VLOOKUP(F38,[1]主表!$A:$B,2,FALSE)*[1]主表!$D$1*[1]升级!$W$4,2)","v":84.11},68,69,"1001;1006","3952;2376",1001,{"$f":"ROUND(40*VLOOKUP(G38,[2]ResourceLevelConfig!$A:$H,3,FALSE)/20,0)","v":3952},1006,{"$f":"ROUND(VLOOKUP(G38,[2]ResourceLevelConfig!$A:$H,8,FALSE)*12,0)","v":2376},"-1",2,null,-1]
[35,1381,{"$f":"ROUND(VLOOKUP(F39,[1]主表!$A:$B,2,FALSE)*[1]主表!$D$1*[1]升级!$AC$4*(1+VLOOKUP(F39,[1]主表!$A:$F,6,FALSE)),2)","v":2658.01},{"$f":"ROUND(VLOOKUP(F39,[1]主表!$A:$B,2,FALSE)*[1]主表!$D$1*[1]升级!$Z$4,2)","v":86.4},{"$f":"ROUND(VLOOKUP(F39,[1]主表!$A:$B,2,FALSE)*[1]主表!$D$1*[1]升级!$W$4,2)","v":86.4},70,71,"1001;1006","4032;2424",1001,{"$f":"ROUND(40*VLOOKUP(G39,[2]ResourceLevelConfig!$A:$H,3,FALSE)/20,0)","v":4032},1006,{"$f":"ROUND(VLOOKUP(G39,[2]ResourceLevelConfig!$A:$H,8,FALSE)*12,0)","v":2424},"-1",2,null,-1]
[36,1491,{"$f":"ROUND(VLOOKUP(F40,[1]主表!$A:$B,2,FALSE)*[1]主表!$D$1*[1]升级!$AC$4*(1+VLOOKUP(F40,[1]主表!$A:$F,6,FALSE)),2)","v":3035.22},{"$f":"ROUND(VLOOKUP(F40,[1]主表!$A:$B,2,FALSE)*[1]主表!$D$1*[1]升级!$Z$4,2)","v":96.32},{"$f":"ROUND(VLOOKUP(F40,[1]主表!$A:$B,2,FALSE)*[1]主表!$D$1*[1]升级!$W$4,2)","v":96.32},72,73,"1001;1006","4114;2472",1001,{"$f":"ROUND(40*VLOOKUP(G40,[2]ResourceLevelConfig!$A:$H,3,FALSE)/20,0)","v":4114},1006,{"$f":"ROUND(VLOOKUP(G40,[2]ResourceLevelConfig!$A:$H,8,FALSE)*12,0)","v":2472},"-1",2,null,-1]
[37,1610,{"$f":"ROUND(VLOOKUP(F41,[1]主表!$A:$B,2,FALSE)*[1]主表!$D$1*[1]升级!$AC$4*(1+VLOOKUP(F41,[1]主表!$A:$F,6,FALSE)),2)","v":3191.63},{"$f":"ROUND(VLOOKUP(F41,[1]主表!$A:$B,2,FALSE)*[1]主表!$D$1*[1]升级!$Z$4,2)","v":98.94},{"$f":"ROUND(VLOOKUP(F41,[1]主表!$A:$B,2,FALSE)*[1]主表!$D$1*[1]升级!$W$4,2)","v":98.94},74,75,"1001;1006","4198;2520",1001,{"$f":"ROUND(40*VLOOKUP(G41,[2]ResourceLevelConfig!$A:$H,3,FALSE)/20,0)","v":4198},1006,{"$f":"ROUND(VLOOKUP(G41,[2]ResourceLevelConfig!$A:$H,8,FALSE)*12,0)","v":2520},"-1",2,null,-1]
[38,1739,{"$f":"ROUND(VLOOKUP(F42,[1]主表!$A:$B,2,FALSE)*[1]主表!$D$1*[1]升级!$AC$4*(1+VLOOKUP(F42,[1]主表!$A:$F,6,FALSE)),2)","v":3354.29},{"$f":"ROUND(VLOOKUP(F42,[1]主表!$A:$B,2,FALSE)*[1]主表!$D$1*[1]升级!$Z$4,2)","v":101.63},{"$f":"ROUND(VLOOKUP(F42,[1]主表!$A:$B,2,FALSE)*[1]主表!$D$1*[1]升级!$W$4,2)","v":101.63},76,77,"1001;1006","4282;2568",1001,{"$f":"ROUND(40*VLOOKUP(G42,[2]ResourceLevelConfig!$A:$H,3,FALSE)/20,0)","v":4282},1006,{"$f":"ROUND(VLOOKUP(G42,[2]ResourceLevelConfig!$A:$H,8,FALSE)*12,0)","v":2568},"-1",2,null,-1]
[39,1878,{"$f":"ROUND(VLOOKUP(F43,[1]主表!$A:$B,2,FALSE)*[1]主表!$D$1*[1]升级!$AC$4*(1+VLOOKUP(F43,[1]主表!$A:$F,6,FALSE)),2)","v":3523.44},{"$f":"ROUND(VLOOKUP(F43,[1]主表!$A:$B,2,FALSE)*[1]主表!$D$1*[1]升级!$Z$4,2)","v":104.39},{"$f":"ROUND(VLOOKUP(F43,[1]主表!$A:$B,2,FALSE)*[1]主表!$D$1*[1]升级!$W$4,2)","v":104.39},78,79,"1001;1006","4370;2616",1001,{"$f":"ROUND(40*VLOOKUP(G43,[2]ResourceLevelConfig!$A:$H,3,FALSE)/20,0)","v":4370},1006,{"$f":"ROUND(VLOOKUP(G43,[2]ResourceLevelConfig!$A:$H,8,FALSE)*12,0)","v":2616},"-1",2,null,-1]
[40,2028,{"$f":"ROUND(VLOOKUP(F44,[1]主表!$A:$B,2,FALSE)*[1]主表!$D$1*[1]升级!$AC$4*(1+VLOOKUP(F44,[1]主表!$A:$F,6,FALSE)),2)","v":3699.31},{"$f":"ROUND(VLOOKUP(F44,[1]主表!$A:$B,2,FALSE)*[1]主表!$D$1*[1]升级!$Z$4,2)","v":107.23},{"$f":"ROUND(VLOOKUP(F44,[1]主表!$A:$B,2,FALSE)*[1]主表!$D$1*[1]升级!$W$4,2)","v":107.23},80,81,"1001;1006","4458;2676",1001,{"$f":"ROUND(40*VLOOKUP(G44,[2]ResourceLevelConfig!$A:$H,3,FALSE)/20,0)","v":4458},1006,{"$f":"ROUND(VLOOKUP(G44,[2]ResourceLevelConfig!$A:$H,8,FALSE)*12,0)","v":2676},"-1",2,null,-1,{"$nulls":4},25]
[41,2190,{"$f":"ROUND(VLOOKUP(F45,[1]主表!$A:$B,2,FALSE)*[1]主表!$D$1*[1]升级!$AC$4*(1+VLOOKUP(F45,[1]主表!$A:$F,6,FALSE)),2)","v":4213.46},{"$f":"ROUND(VLOOKUP(F45,[1]主表!$A:$B,2,FALSE)*[1]主表!$D$1*[1]升级!$Z$4,2)","v":119.54},{"$f":"ROUND(VLOOKUP(F45,[1]主表!$A:$B,2,FALSE)*[1]主表!$D$1*[1]升级!$W$4,2)","v":119.54},82,83,"1001;1006","4548;2724",1001,{"$f":"ROUND(40*VLOOKUP(G45,[2]ResourceLevelConfig!$A:$H,3,FALSE)/20,0)","v":4548},1006,{"$f":"ROUND(VLOOKUP(G45,[2]ResourceLevelConfig!$A:$H,8,FALSE)*12,0)","v":2724},"-1",2,null,-1]
[42,2365,{"$f":"ROUND(VLOOKUP(F46,[1]主表!$A:$B,2,FALSE)*[1]主表!$D$1*[1]升级!$AC$4*(1+VLOOKUP(F46,[1]主表!$A:$F,6,FALSE)),2)","v":4419.71},{"$f":"ROUND(VLOOKUP(F46,[1]主表!$A:$B,2,FALSE)*[1]主表!$D$1*[1]升级!$Z$4,2)","v":122.79},{"$f":"ROUND(VLOOKUP(F46,[1]主表!$A:$B,2,FALSE)*[1]主表!$D$1*[1]升级!$W$4,2)","v":122.79},84,85,"1001;1006","4640;2784",1001,{"$f":"ROUND(40*VLOOKUP(G46,[2]ResourceLevelConfig!$A:$H,3,FALSE)/20,0)","v":4640},1006,{"$f":"ROUND(VLOOKUP(G46,[2]ResourceLevelConfig!$A:$H,8,FALSE)*12,0)","v":2784},"-1",2,null,-1]
[43,2554,{"$f":"ROUND(VLOOKUP(F47,[1]主表!$A:$B,2,FALSE)*[1]主表!$D$1*[1]升级!$AC$4*(1+VLOOKUP(F47,[1]主表!$A:$F,6,FALSE)),2)","v":4634.07},{"$f":"ROUND(VLOOKUP(F47,[1]主表!$A:$B,2,FALSE)*[1]主表!$D$1*[1]升级!$Z$4,2)","v":126.13},{"$f":"ROUND(VLOOKUP(F47,[1]主表!$A:$B,2,FALSE)*[1]主表!$D$1*[1]升级!$W$4,2)","v":126.13},86,87,"1001;1006","4734;2844",1001,{"$f":"ROUND(40*VLOOKUP(G47,[2]ResourceLevelConfig!$A:$H,3,FALSE)/20,0)","v":4734},1006,{"$f":"ROUND(VLOOKUP(G47,[2]ResourceLevelConfig!$A:$H,8,FALSE)*12,0)","v":2844},"-1",2,null,-1]
[44,2758,{"$f":"ROUND(VLOOKUP(F48,[1]主表!$A:$B,2,FALSE)*[1]主表!$D$1*[1]升级!$AC$4*(1+VLOOKUP(F48,[1]主表!$A:$F,6,FALSE)),2)","v":4856.8100000000004},{"$f":"ROUND(VLOOKUP(F48,[1]主表!$A:$B,2,FALSE)*[1]主表!$D$1*[1]升级!$Z$4,2)","v":129.56},{"$f":"ROUND(VLOOKUP(F48,[1]主表!$A:$B,2,FALSE)*[1]主表!$D$1*[1]升级!$W$4,2)","v":129.56},88,89,"1001;1006","4830;2892",1001,{"$f":"ROUND(40*VLOOKUP(G48,[2]ResourceLevelConfig!$A:$H,3,FALSE)/20,0)","v":4830},1006,{"$f":"ROUND(VLOOKUP(G48,[2]ResourceLevelConfig!$A:$H,8,FALSE)*12,0)","v":2892},"-1",2,null,-1]
[45,2979,{"$f":"ROUND(VLOOKUP(F49,[1]主表!$A:$B,2,FALSE)*[1]主表!$D$1*[1]升级!$AC$4*(1+VLOOKUP(F49,[1]主表!$A:$F,6,FALSE)),2)","v":5088.2299999999996},{"$f":"ROUND(VLOOKUP(F49,[1]主表!$A:$B,2,FALSE)*[1]主表!$D$1*[1]升级!$Z$4,2)","v":133.08000000000001},{"$f":"ROUND(VLOOKUP(F49,[1]主表!$A:$B,2,FALSE)*[1]主表!$D$1*[1]升级!$W$4,2)","v":133.08000000000001},90,91,"1001;1006","4928;2952",1001,{"$f":"ROUND(40*VLOOKUP(G49,[2]ResourceLevelConfig!$A:$H,3,FALSE)/20,0)","v":4928},1006,{"$f":"ROUND(VLOOKUP(G49,[2]ResourceLevelConfig!$A:$H,8,FALSE)*12,0)","v":2952},"-1",2,null,-1]
[46,3217,{"$f":"ROUND(VLOOKUP(F50,[1]主表!$A:$B,2,FALSE)*[1]主表!$D$1*[1]升级!$AC$4*(1+VLOOKUP(F50,[1]主表!$A:$F,6,FALSE)),2)","v":6834.96},{"$f":"ROUND(VLOOKUP(F50,[1]主表!$A:$B,2,FALSE)*[1]主表!$D$1*[1]升级!$Z$4,2)","v":175.34},{"$f":"ROUND(VLOOKUP(F50,[1]主表!$A:$B,2,FALSE)*[1]主表!$D$1*[1]升级!$W$4,2)","v":175.34},92,93,"1001;1006","5028;3012",1001,{"$f":"ROUND(40*VLOOKUP(G50,[2]ResourceLevelConfig!$A:$H,3,FALSE)/20,0)","v":5028},1006,{"$f":"ROUND(VLOOKUP(G50,[2]ResourceLevelConfig!$A:$H,8,FALSE)*12,0)","v":3012},"-1",2,null,-1]
[47,3474,{"$f":"ROUND(VLOOKUP(F51,[1]主表!$A:$B,2,FALSE)*[1]主表!$D$1*[1]升级!$AC$4*(1+VLOOKUP(F51,[1]主表!$A:$F,6,FALSE)),2)","v":7155.29},{"$f":"ROUND(VLOOKUP(F51,[1]主表!$A:$B,2,FALSE)*[1]主表!$D$1*[1]升级!$Z$4,2)","v":180.11},{"$f":"ROUND(VLOOKUP(F51,[1]主表!$A:$B,2,FALSE)*[1]主表!$D$1*[1]升级!$W$4,2)","v":180.11},94,95,"1001;1006","5130;3072",1001,{"$f":"ROUND(40*VLOOKUP(G51,[2]ResourceLevelConfig!$A:$H,3,FALSE)/20,0)","v":5130},1006,{"$f":"ROUND(VLOOKUP(G51,[2]ResourceLevelConfig!$A:$H,8,FALSE)*12,0)","v":3072},"-1",2,null,-1]
[48,3752,{"$f":"ROUND(VLOOKUP(F52,[1]主表!$A:$B,2,FALSE)*[1]主表!$D$1*[1]升级!$AC$4*(1+VLOOKUP(F52,[1]主表!$A:$F,6,FALSE)),2)","v":7487.98},{"$f":"ROUND(VLOOKUP(F52,[1]主表!$A:$B,2,FALSE)*[1]主表!$D$1*[1]升级!$Z$4,2)","v":185.01},{"$f":"ROUND(VLOOKUP(F52,[1]主表!$A:$B,2,FALSE)*[1]主表!$D$1*[1]升级!$W$4,2)","v":185.01},96,97,"1001;1006","5234;3144",1001,{"$f":"ROUND(40*VLOOKUP(G52,[2]ResourceLevelConfig!$A:$H,3,FALSE)/20,0)","v":5234},1006,{"$f":"ROUND(VLOOKUP(G52,[2]ResourceLevelConfig!$A:$H,8,FALSE)*12,0)","v":3144},"-1",2,null,-1]
[49,4052,{"$f":"ROUND(VLOOKUP(F53,[1]主表!$A:$B,2,FALSE)*[1]主表!$D$1*[1]升级!$AC$4*(1+VLOOKUP(F53,[1]主表!$A:$F,6,FALSE)),2)","v":7833.47},{"$f":"ROUND(VLOOKUP(F53,[1]主表!$A:$B,2,FALSE)*[1]主表!$D$1*[1]升级!$Z$4,2)","v":190.04},{"$f":"ROUND(VLOOKUP(F53,[1]主表!$A:$B,2,FALSE)*[1]主表!$D$1*[1]升级!$W$4,2)","v":190.04},98,99,"1001;1006","5338;3204",1001,{"$f":"ROUND(40*VLOOKUP(G53,[2]ResourceLevelConfig!$A:$H,3,FALSE)/20,0)","v":5338},1006,{"$f":"ROUND(VLOOKUP(G53,[2]ResourceLevelConfig!$A:$H,8,FALSE)*12,0)","v":3204},"-1",2,null,-1]
[50,4376,{"$f":"ROUND(VLOOKUP(F54,[1]主表!$A:$B,2,FALSE)*[1]主表!$D$1*[1]升级!$AC$4*(1+VLOOKUP(F54,[1]主表!$A:$F,6,FALSE)),2)","v":8192.2099999999991},{"$f":"ROUND(VLOOKUP(F54,[1]主表!$A:$B,2,FALSE)*[1]主表!$D$1*[1]升级!$Z$4,2)","v":195.2},{"$f":"ROUND(VLOOKUP(F54,[1]主表!$A:$B,2,FALSE)*[1]主表!$D$1*[1]升级!$W$4,2)","v":195.2},100,101,"1001;1006","5446;3264",1001,{"$f":"ROUND(40*VLOOKUP(G54,[2]ResourceLevelConfig!$A:$H,3,FALSE)/20,0)","v":5446},1006,{"$f":"ROUND(VLOOKUP(G54,[2]ResourceLevelConfig!$A:$H,8,FALSE)*12,0)","v":3264},"-1",2,null,-1,{"$nulls":4},21]
[51,4726,{"$f":"ROUND(VLOOKUP(F55,[1]主表!$A:$B,2,FALSE)*[1]主表!$D$1*[1]升级!$AC$4*(1+VLOOKUP(F55,[1]主表!$A:$F,6,FALSE)),2)","v":9295.6299999999992},{"$f":"ROUND(VLOOKUP(F55,[1]主表!$A:$B,2,FALSE)*[1]主表!$D$1*[1]升级!$Z$4,2)","v":217.62},{"$f":"ROUND(VLOOKUP(F55,[1]主表!$A:$B,2,FALSE)*[1]主表!$D$1*[1]升级!$W$4,2)","v":217.62},102,103,"1001;1006","5558;3336",1001,{"$f":"ROUND(40*VLOOKUP(G55,[2]ResourceLevelConfig!$A:$H,3,FALSE)/20,0)","v":5558},1006,{"$f":"ROUND(VLOOKUP(G55,[2]ResourceLevelConfig!$A:$H,8,FALSE)*12,0)","v":3336},"-1",2,null,-1]
[52,5104,{"$f":"ROUND(VLOOKUP(F56,[1]主表!$A:$B,2,FALSE)*[1]主表!$D$1*[1]升级!$AC$4*(1+VLOOKUP(F56,[1]主表!$A:$F,6,FALSE)),2)","v":9715.2800000000007},{"$f":"ROUND(VLOOKUP(F56,[1]主表!$A:$B,2,FALSE)*[1]主表!$D$1*[1]升级!$Z$4,2)","v":223.54},{"$f":"ROUND(VLOOKUP(F56,[1]主表!$A:$B,2,FALSE)*[1]主表!$D$1*[1]升级!$W$4,2)","v":223.54},104,105,"1001;1006","5670;3396",1001,{"$f":"ROUND(40*VLOOKUP(G56,[2]ResourceLevelConfig!$A:$H,3,FALSE)/20,0)","v":5670},1006,{"$f":"ROUND(VLOOKUP(G56,[2]ResourceLevelConfig!$A:$H,8,FALSE)*12,0)","v":3396},"-1",2,null,-1]
[53,5512,{"$f":"ROUND(VLOOKUP(F57,[1]主表!$A:$B,2,FALSE)*[1]主表!$D$1*[1]升级!$AC$4*(1+VLOOKUP(F57,[1]主表!$A:$F,6,FALSE)),2)","v":10150.879999999999},{"$f":"ROUND(VLOOKUP(F57,[1]主表!$A:$B,2,FALSE)*[1]主表!$D$1*[1]升级!$Z$4,2)","v":229.62},{"$f":"ROUND(VLOOKUP(F57,[1]主表!$A:$B,2,FALSE)*[1]主表!$D$1*[1]升级!$W$4,2)","v":229.62},106,107,"1001;1006","5784;3468",1001,{"$f":"ROUND(40*VLOOKUP(G57,[2]ResourceLevelConfig!$A:$H,3,FALSE)/20,0)","v":5784},1006,{"$f":"ROUND(VLOOKUP(G57,[2]ResourceLevelConfig!$A:$H,8,FALSE)*12,0)","v":3468},"-1",2,null,-1]
[54,5953,{"$f":"ROUND(VLOOKUP(F58,[1]主表!$A:$B,2,FALSE)*[1]主表!$D$1*[1]升级!$AC$4*(1+VLOOKUP(F58,[1]主表!$A:$F,6,FALSE)),2)","v":10602.99},{"$f":"ROUND(VLOOKUP(F58,[1]主表!$A:$B,2,FALSE)*[1]主表!$D$1*[1]升级!$Z$4,2)","v":235.86},{"$f":"ROUND(VLOOKUP(F58,[1]主表!$A:$B,2,FALSE)*[1]主表!$D$1*[1]升级!$W$4,2)","v":235.86},108,109,"1001;1006","5902;3540",1001,{"$f":"ROUND(40*VLOOKUP(G58,[2]ResourceLevelConfig!$A:$H,3,FALSE)/20,0)","v":5902},1006,{"$f":"ROUND(VLOOKUP(G58,[2]ResourceLevelConfig!$A:$H,8,FALSE)*12,0)","v":3540},"-1",2,null,-1]
[55,6429,{"$f":"ROUND(VLOOKUP(F59,[1]主表!$A:$B,2,FALSE)*[1]主表!$D$1*[1]升级!$AC$4*(1+VLOOKUP(F59,[1]主表!$A:$F,6,FALSE)),2)","v":11072.17},{"$f":"ROUND(VLOOKUP(F59,[1]主表!$A:$B,2,FALSE)*[1]主表!$D$1*[1]升级!$Z$4,2)","v":242.27},{"$f":"ROUND(VLOOKUP(F59,[1]主表!$A:$B,2,FALSE)*[1]主表!$D$1*[1]升级!$W$4,2)","v":242.27},110,111,"1001;1006","6022;3612",1001,{"$f":"ROUND(40*VLOOKUP(G59,[2]ResourceLevelConfig!$A:$H,3,FALSE)/20,0)","v":6022},1006,{"$f":"ROUND(VLOOKUP(G59,[2]ResourceLevelConfig!$A:$H,8,FALSE)*12,0)","v":3612},"-1",2,null,-1]
[56,6943,{"$f":"ROUND(VLOOKUP(F60,[1]主表!$A:$B,2,FALSE)*[1]主表!$D$1*[1]升级!$AC$4*(1+VLOOKUP(F60,[1]主表!$A:$F,6,FALSE)),2)","v":12545.55},{"$f":"ROUND(VLOOKUP(F60,[1]主表!$A:$B,2,FALSE)*[1]主表!$D$1*[1]升级!$Z$4,2)","v":270.08999999999997},{"$f":"ROUND(VLOOKUP(F60,[1]主表!$A:$B,2,FALSE)*[1]主表!$D$1*[1]升级!$W$4,2)","v":270.08999999999997},112,113,"1001;1006","6142;3684",1001,{"$f":"ROUND(40*VLOOKUP(G60,[2]ResourceLevelConfig!$A:$H,3,FALSE)/20,0)","v":6142},1006,{"$f":"ROUND(VLOOKUP(G60,[2]ResourceLevelConfig!$A:$H,8,FALSE)*12,0)","v":3684},"-1",2,null,-1]
[57,7498,{"$f":"ROUND(VLOOKUP(F61,[1]主表!$A:$B,2,FALSE)*[1]主表!$D$1*[1]升级!$AC$4*(1+VLOOKUP(F61,[1]主表!$A:$F,6,FALSE)),2)","v":13093.81},{"$f":"ROUND(VLOOKUP(F61,[1]主表!$A:$B,2,FALSE)*[1]主表!$D$1*[1]升级!$Z$4,2)","v":277.44},{"$f":"ROUND(VLOOKUP(F61,[1]主表!$A:$B,2,FALSE)*[1]主表!$D$1*[1]升级!$W$4,2)","v":277.44},114,115,"1001;1006","6268;3756",1001,{"$f":"ROUND(40*VLOOKUP(G61,[2]ResourceLevelConfig!$A:$H,3,FALSE)/20,0)","v":6268},1006,{"$f":"ROUND(VLOOKUP(G61,[2]ResourceLevelConfig!$A:$H,8,FALSE)*12,0)","v":3756},"-1",2,null,-1]
[58,8098,{"$f":"ROUND(VLOOKUP(F62,[1]主表!$A:$B,2,FALSE)*[1]主表!$D$1*[1]升级!$AC$4*(1+VLOOKUP(F62,[1]主表!$A:$F,6,FALSE)),2)","v":13662.61},{"$f":"ROUND(VLOOKUP(F62,[1]主表!$A:$B,2,FALSE)*[1]主表!$D$1*[1]升级!$Z$4,2)","v":284.98},{"$f":"ROUND(VLOOKUP(F62,[1]主表!$A:$B,2,FALSE)*[1]主表!$D$1*[1]升级!$W$4,2)","v":284.98},116,117,"1001;1006","6394;3840",1001,{"$f":"ROUND(40*VLOOKUP(G62,[2]ResourceLevelConfig!$A:$H,3,FALSE)/20,0)","v":6394},1006,{"$f":"ROUND(VLOOKUP(G62,[2]ResourceLevelConfig!$A:$H,8,FALSE)*12,0)","v":3840},"-1",2,null,-1]
[59,8746,{"$f":"ROUND(VLOOKUP(F63,[1]主表!$A:$B,2,FALSE)*[1]主表!$D$1*[1]升级!$AC$4*(1+VLOOKUP(F63,[1]主表!$A:$F,6,FALSE)),2)","v":14252.65},{"$f":"ROUND(VLOOKUP(F63,[1]主表!$A:$B,2,FALSE)*[1]主表!$D$1*[1]升级!$Z$4,2)","v":292.73},{"$f":"ROUND(VLOOKUP(F63,[1]主表!$A:$B,2,FALSE)*[1]主表!$D$1*[1]升级!$W$4,2)","v":292.73},118,119,"1001;1006","6524;3912",1001,{"$f":"ROUND(40*VLOOKUP(G63,[2]ResourceLevelConfig!$A:$H,3,FALSE)/20,0)","v":6524},1006,{"$f":"ROUND(VLOOKUP(G63,[2]ResourceLevelConfig!$A:$H,8,FALSE)*12,0)","v":3912},"-1",2,null,-1]
[60,9446,{"$f":"ROUND(VLOOKUP(F64,[1]主表!$A:$B,2,FALSE)*[1]主表!$D$1*[1]升级!$AC$4*(1+VLOOKUP(F64,[1]主表!$A:$F,6,FALSE)),2)","v":14864.68},{"$f":"ROUND(VLOOKUP(F64,[1]主表!$A:$B,2,FALSE)*[1]主表!$D$1*[1]升级!$Z$4,2)","v":300.69},{"$f":"ROUND(VLOOKUP(F64,[1]主表!$A:$B,2,FALSE)*[1]主表!$D$1*[1]升级!$W$4,2)","v":300.69},120,121,"1001;1006","6656;3996",1001,{"$f":"ROUND(40*VLOOKUP(G64,[2]ResourceLevelConfig!$A:$H,3,FALSE)/20,0)","v":6656},1006,{"$f":"ROUND(VLOOKUP(G64,[2]ResourceLevelConfig!$A:$H,8,FALSE)*12,0)","v":3996},{"$f":"_xlfn.TEXTJOIN(\";\",1,Q64:U64)","v":"-1;0;60;100;120"},3,null,-1,0,{"$f":"[1]抽卡!$T$10","v":60},{"$f":"[1]抽卡!$T$11","v":100},{"$f":"[1]抽卡!$T$12","v":120},18]
[61,10202,{"$f":"ROUND(VLOOKUP(F65,[1]主表!$A:$B,2,FALSE)*[1]主表!$D$1*[1]升级!$AC$4*(1+VLOOKUP(F65,[1]主表!$A:$F,6,FALSE)),2)","v":19880.87},{"$f":"ROUND(VLOOKUP(F65,[1]主表!$A:$B,2,FALSE)*[1]主表!$D$1*[1]升级!$Z$4,2)","v":396.17},{"$f":"ROUND(VLOOKUP(F65,[1]主表!$A:$B,2,FALSE)*[1]主表!$D$1*[1]升级!$W$4,2)","v":396.17},122,123,"1001;1006","6790;4080",1001,{"$f":"ROUND(40*VLOOKUP(G65,[2]ResourceLevelConfig!$A:$H,3,FALSE)/20,0)","v":6790},1006,{"$f":"ROUND(VLOOKUP(G65,[2]ResourceLevelConfig!$A:$H,8,FALSE)*12,0)","v":4080},"-1",3,null,-1]
[62,11018,{"$f":"ROUND(VLOOKUP(F66,[1]主表!$A:$B,2,FALSE)*[1]主表!$D$1*[1]升级!$AC$4*(1+VLOOKUP(F66,[1]主表!$A:$F,6,FALSE)),2)","v":20725.259999999998},{"$f":"ROUND(VLOOKUP(F66,[1]主表!$A:$B,2,FALSE)*[1]主表!$D$1*[1]升级!$Z$4,2)","v":406.94},{"$f":"ROUND(VLOOKUP(F66,[1]主表!$A:$B,2,FALSE)*[1]主表!$D$1*[1]升级!$W$4,2)","v":406.94},124,125,"1001;1006","6928;4152",1001,{"$f":"ROUND(40*VLOOKUP(G66,[2]ResourceLevelConfig!$A:$H,3,FALSE)/20,0)","v":6928},1006,{"$f":"ROUND(VLOOKUP(G66,[2]ResourceLevelConfig!$A:$H,8,FALSE)*12,0)","v":4152},"-1",3,null,-1]
[63,11899,{"$f":"ROUND(VLOOKUP(F67,[1]主表!$A:$B,2,FALSE)*[1]主表!$D$1*[1]升级!$AC$4*(1+VLOOKUP(F67,[1]主表!$A:$F,6,FALSE)),2)","v":21600.87},{"$f":"ROUND(VLOOKUP(F67,[1]主表!$A:$B,2,FALSE)*[1]主表!$D$1*[1]升级!$Z$4,2)","v":418},{"$f":"ROUND(VLOOKUP(F67,[1]主表!$A:$B,2,FALSE)*[1]主表!$D$1*[1]升级!$W$4,2)","v":418},126,127,"1001;1006","7068;4236",1001,{"$f":"ROUND(40*VLOOKUP(G67,[2]ResourceLevelConfig!$A:$H,3,FALSE)/20,0)","v":7068},1006,{"$f":"ROUND(VLOOKUP(G67,[2]ResourceLevelConfig!$A:$H,8,FALSE)*12,0)","v":4236},"-1",3,null,-1]
[64,12851,{"$f":"ROUND(VLOOKUP(F68,[1]主表!$A:$B,2,FALSE)*[1]主表!$D$1*[1]升级!$AC$4*(1+VLOOKUP(F68,[1]主表!$A:$F,6,FALSE)),2)","v":22508.77},{"$f":"ROUND(VLOOKUP(F68,[1]主表!$A:$B,2,FALSE)*[1]主表!$D$1*[1]升级!$Z$4,2)","v":429.37},{"$f":"ROUND(VLOOKUP(F68,[1]主表!$A:$B,2,FALSE)*[1]主表!$D$1*[1]升级!$W$4,2)","v":429.37},128,129,"1001;1006","7210;4332",1001,{"$f":"ROUND(40*VLOOKUP(G68,[2]ResourceLevelConfig!$A:$H,3,FALSE)/20,0)","v":7210},1006,{"$f":"ROUND(VLOOKUP(G68,[2]ResourceLevelConfig!$A:$H,8,FALSE)*12,0)","v":4332},"-1",3,null,-1]
[65,13879,{"$f":"ROUND(VLOOKUP(F69,[1]主表!$A:$B,2,FALSE)*[1]主表!$D$1*[1]升级!$AC$4*(1+VLOOKUP(F69,[1]主表!$A:$F,6,FALSE)),2)","v":23450.07},{"$f":"ROUND(VLOOKUP(F69,[1]主表!$A:$B,2,FALSE)*[1]主表!$D$1*[1]升级!$Z$4,2)","v":441.04},{"$f":"ROUND(VLOOKUP(F69,[1]主表!$A:$B,2,FALSE)*[1]主表!$D$1*[1]升级!$W$4,2)","v":441.04},130,131,"1001;1006","7356;4416",1001,{"$f":"ROUND(40*VLOOKUP(G69,[2]ResourceLevelConfig!$A:$H,3,FALSE)/20,0)","v":7356},1006,{"$f":"ROUND(VLOOKUP(G69,[2]ResourceLevelConfig!$A:$H,8,FALSE)*12,0)","v":4416},{"$f":"_xlfn.TEXTJOIN(\";\",1,Q69:U69)","v":"-1"},3,null,-1]
[66,14989,{"$f":"ROUND(VLOOKUP(F70,[1]主表!$A:$B,2,FALSE)*[1]主表!$D$1*[1]升级!$AC$4*(1+VLOOKUP(F70,[1]主表!$A:$F,6,FALSE)),2)","v":26510.560000000001},{"$f":"ROUND(VLOOKUP(F70,[1]主表!$A:$B,2,FALSE)*[1]主表!$D$1*[1]升级!$Z$4,2)","v":491.69},{"$f":"ROUND(VLOOKUP(F70,[1]主表!$A:$B,2,FALSE)*[1]主表!$D$1*[1]升级!$W$4,2)","v":491.69},132,133,"1001;1006","7506;4500",1001,{"$f":"ROUND(40*VLOOKUP(G70,[2]ResourceLevelConfig!$A:$H,3,FALSE)/20,0)","v":7506},1006,{"$f":"ROUND(VLOOKUP(G70,[2]ResourceLevelConfig!$A:$H,8,FALSE)*12,0)","v":4500},"-1",3,null,-1]
[67,16188,{"$f":"ROUND(VLOOKUP(F71,[1]主表!$A:$B,2,FALSE)*[1]主表!$D$1*[1]升级!$AC$4*(1+VLOOKUP(F71,[1]主表!$A:$F,6,FALSE)),2)","v":27608.47},{"$f":"ROUND(VLOOKUP(F71,[1]主表!$A:$B,2,FALSE)*[1]主表!$D$1*[1]升级!$Z$4,2)","v":505.06},{"$f":"ROUND(VLOOKUP(F71,[1]主表!$A:$B,2,FALSE)*[1]主表!$D$1*[1]升级!$W$4,2)","v":505.06},134,135,"1001;1006","7658;4596",1001,{"$f":"ROUND(40*VLOOKUP(G71,[2]ResourceLevelConfig!$A:$H,3,FALSE)/20,0)","v":7658},1006,{"$f":"ROUND(VLOOKUP(G71,[2]ResourceLevelConfig!$A:$H,8,FALSE)*12,0)","v":4596},"-1",3,null,-1]
[68,17483,{"$f":"ROUND(VLOOKUP(F72,[1]主表!$A:$B,2,FALSE)*[1]主表!$D$1*[1]升级!$AC$4*(1+VLOOKUP(F72,[1]主表!$A:$F,6,FALSE)),2)","v":28746.48},{"$f":"ROUND(VLOOKUP(F72,[1]主表!$A:$B,2,FALSE)*[1]主表!$D$1*[1]升级!$Z$4,2)","v":518.79},{"$f":"ROUND(VLOOKUP(F72,[1]主表!$A:$B,2,FALSE)*[1]主表!$D$1*[1]升级!$W$4,2)","v":518.79},136,137,"1001;1006","7812;4692",1001,{"$f":"ROUND(40*VLOOKUP(G72,[2]ResourceLevelConfig!$A:$H,3,FALSE)/20,0)","v":7812},1006,{"$f":"ROUND(VLOOKUP(G72,[2]ResourceLevelConfig!$A:$H,8,FALSE)*12,0)","v":4692},"-1",3,null,-1]
[69,18882,{"$f":"ROUND(VLOOKUP(F73,[1]主表!$A:$B,2,FALSE)*[1]主表!$D$1*[1]升级!$AC$4*(1+VLOOKUP(F73,[1]主表!$A:$F,6,FALSE)),2)","v":29925.96},{"$f":"ROUND(VLOOKUP(F73,[1]主表!$A:$B,2,FALSE)*[1]主表!$D$1*[1]升级!$Z$4,2)","v":532.89},{"$f":"ROUND(VLOOKUP(F73,[1]主表!$A:$B,2,FALSE)*[1]主表!$D$1*[1]升级!$W$4,2)","v":532.89},138,139,"1001;1006","7970;4788",1001,{"$f":"ROUND(40*VLOOKUP(G73,[2]ResourceLevelConfig!$A:$H,3,FALSE)/20,0)","v":7970},1006,{"$f":"ROUND(VLOOKUP(G73,[2]ResourceLevelConfig!$A:$H,8,FALSE)*12,0)","v":4788},"-1",3,null,-1]
[70,20393,{"$f":"ROUND(VLOOKUP(F74,[1]主表!$A:$B,2,FALSE)*[1]主表!$D$1*[1]升级!$AC$4*(1+VLOOKUP(F74,[1]主表!$A:$F,6,FALSE)),2)","v":31148.32},{"$f":"ROUND(VLOOKUP(F74,[1]主表!$A:$B,2,FALSE)*[1]主表!$D$1*[1]升级!$Z$4,2)","v":547.38},{"$f":"ROUND(VLOOKUP(F74,[1]主表!$A:$B,2,FALSE)*[1]主表!$D$1*[1]升级!$W$4,2)","v":547.38},140,141,"1001;1006","8132;4884",1001,{"$f":"ROUND(40*VLOOKUP(G74,[2]ResourceLevelConfig!$A:$H,3,FALSE)/20,0)","v":8132},1006,{"$f":"ROUND(VLOOKUP(G74,[2]ResourceLevelConfig!$A:$H,8,FALSE)*12,0)","v":4884},"-1",3,null,-1,{"$nulls":4},15]
[71,22024,{"$f":"ROUND(VLOOKUP(F75,[1]主表!$A:$B,2,FALSE)*[1]主表!$D$1*[1]升级!$AC$4*(1+VLOOKUP(F75,[1]主表!$A:$F,6,FALSE)),2)","v":35181.51},{"$f":"ROUND(VLOOKUP(F75,[1]主表!$A:$B,2,FALSE)*[1]主表!$D$1*[1]升级!$Z$4,2)","v":610.25},{"$f":"ROUND(VLOOKUP(F75,[1]主表!$A:$B,2,FALSE)*[1]主表!$D$1*[1]升级!$W$4,2)","v":610.25},142,143,"1001;1006","8296;4980",1001,{"$f":"ROUND(40*VLOOKUP(G75,[2]ResourceLevelConfig!$A:$H,3,FALSE)/20,0)","v":8296},1006,{"$f":"ROUND(VLOOKUP(G75,[2]ResourceLevelConfig!$A:$H,8,FALSE)*12,0)","v":4980},"-1",3,null,-1]
[72,23786,{"$f":"ROUND(VLOOKUP(F76,[1]主表!$A:$B,2,FALSE)*[1]主表!$D$1*[1]升级!$AC$4*(1+VLOOKUP(F76,[1]主表!$A:$F,6,FALSE)),2)","v":36606.1},{"$f":"ROUND(VLOOKUP(F76,[1]主表!$A:$B,2,FALSE)*[1]主表!$D$1*[1]升级!$Z$4,2)","v":626.84},{"$f":"ROUND(VLOOKUP(F76,[1]主表!$A:$B,2,FALSE)*[1]主表!$D$1*[1]升级!$W$4,2)","v":626.84},144,145,"1001;1006","8464;5076",1001,{"$f":"ROUND(40*VLOOKUP(G76,[2]ResourceLevelConfig!$A:$H,3,FALSE)/20,0)","v":8464},1006,{"$f":"ROUND(VLOOKUP(G76,[2]ResourceLevelConfig!$A:$H,8,FALSE)*12,0)","v":5076},"-1",3,null,-1]
[73,25689,{"$f":"ROUND(VLOOKUP(F77,[1]主表!$A:$B,2,FALSE)*[1]主表!$D$1*[1]升级!$AC$4*(1+VLOOKUP(F77,[1]主表!$A:$F,6,FALSE)),2)","v":38082.129999999997},{"$f":"ROUND(VLOOKUP(F77,[1]主表!$A:$B,2,FALSE)*[1]主表!$D$1*[1]升级!$Z$4,2)","v":643.88},{"$f":"ROUND(VLOOKUP(F77,[1]主表!$A:$B,2,FALSE)*[1]主表!$D$1*[1]升级!$W$4,2)","v":643.88},146,147,"1001;1006","8636;5184",1001,{"$f":"ROUND(40*VLOOKUP(G77,[2]ResourceLevelConfig!$A:$H,3,FALSE)/20,0)","v":8636},1006,{"$f":"ROUND(VLOOKUP(G77,[2]ResourceLevelConfig!$A:$H,8,FALSE)*12,0)","v":5184},"-1",3,null,-1]
[74,27744,{"$f":"ROUND(VLOOKUP(F78,[1]主表!$A:$B,2,FALSE)*[1]主表!$D$1*[1]升级!$AC$4*(1+VLOOKUP(F78,[1]主表!$A:$F,6,FALSE)),2)","v":39611.370000000003},{"$f":"ROUND(VLOOKUP(F78,[1]主表!$A:$B,2,FALSE)*[1]主表!$D$1*[1]升级!$Z$4,2)","v":661.39},{"$f":"ROUND(VLOOKUP(F78,[1]主表!$A:$B,2,FALSE)*[1]主表!$D$1*[1]升级!$W$4,2)","v":661.39},148,149,"1001;1006","8810;5292",1001,{"$f":"ROUND(40*VLOOKUP(G78,[2]ResourceLevelConfig!$A:$H,3,FALSE)/20,0)","v":8810},1006,{"$f":"ROUND(VLOOKUP(G78,[2]ResourceLevelConfig!$A:$H,8,FALSE)*12,0)","v":5292},"-1",3,null,-1]
[75,29964,{"$f":"ROUND(VLOOKUP(F79,[1]主表!$A:$B,2,FALSE)*[1]主表!$D$1*[1]升级!$AC$4*(1+VLOOKUP(F79,[1]主表!$A:$F,6,FALSE)),2)","v":41195.61},{"$f":"ROUND(VLOOKUP(F79,[1]主表!$A:$B,2,FALSE)*[1]主表!$D$1*[1]升级!$Z$4,2)","v":679.37},{"$f":"ROUND(VLOOKUP(F79,[1]主表!$A:$B,2,FALSE)*[1]主表!$D$1*[1]升级!$W$4,2)","v":679.37},150,151,"1001;1006","8990;5388",1001,{"$f":"ROUND(40*VLOOKUP(G79,[2]ResourceLevelConfig!$A:$H,3,FALSE)/20,0)","v":8990},1006,{"$f":"ROUND(VLOOKUP(G79,[2]ResourceLevelConfig!$A:$H,8,FALSE)*12,0)","v":5388},"-1",3,null,-1]
[76,32361,{"$f":"ROUND(VLOOKUP(F80,[1]主表!$A:$B,2,FALSE)*[1]主表!$D$1*[1]升级!$AC$4*(1+VLOOKUP(F80,[1]主表!$A:$F,6,FALSE)),2)","v":54945.85},{"$f":"ROUND(VLOOKUP(F80,[1]主表!$A:$B,2,FALSE)*[1]主表!$D$1*[1]升级!$Z$4,2)","v":895.1},{"$f":"ROUND(VLOOKUP(F80,[1]主表!$A:$B,2,FALSE)*[1]主表!$D$1*[1]升级!$W$4,2)","v":895.1},152,153,"1001;1006","9172;5508",1001,{"$f":"ROUND(40*VLOOKUP(G80,[2]ResourceLevelConfig!$A:$H,3,FALSE)/20,0)","v":9172},1006,{"$f":"ROUND(VLOOKUP(G80,[2]ResourceLevelConfig!$A:$H,8,FALSE)*12,0)","v":5508},"-1",3,null,-1]
[77,34950,{"$f":"ROUND(VLOOKUP(F81,[1]主表!$A:$B,2,FALSE)*[1]主表!$D$1*[1]升级!$AC$4*(1+VLOOKUP(F81,[1]主表!$A:$F,6,FALSE)),2)","v":57126.26},{"$f":"ROUND(VLOOKUP(F81,[1]主表!$A:$B,2,FALSE)*[1]主表!$D$1*[1]升级!$Z$4,2)","v":919.43},{"$f":"ROUND(VLOOKUP(F81,[1]主表!$A:$B,2,FALSE)*[1]主表!$D$1*[1]升级!$W$4,2)","v":919.43},154,155,"1001;1006","9356;5616",1001,{"$f":"ROUND(40*VLOOKUP(G81,[2]ResourceLevelConfig!$A:$H,3,FALSE)/20,0)","v":9356},1006,{"$f":"ROUND(VLOOKUP(G81,[2]ResourceLevelConfig!$A:$H,8,FALSE)*12,0)","v":5616},"-1",3,null,-1]
[78,37746,{"$f":"ROUND(VLOOKUP(F82,[1]主表!$A:$B,2,FALSE)*[1]主表!$D$1*[1]升级!$AC$4*(1+VLOOKUP(F82,[1]主表!$A:$F,6,FALSE)),2)","v":59384.62},{"$f":"ROUND(VLOOKUP(F82,[1]主表!$A:$B,2,FALSE)*[1]主表!$D$1*[1]升级!$Z$4,2)","v":944.43},{"$f":"ROUND(VLOOKUP(F82,[1]主表!$A:$B,2,FALSE)*[1]主表!$D$1*[1]升级!$W$4,2)","v":944.43},156,157,"1001;1006","9546;5724",1001,{"$f":"ROUND(40*VLOOKUP(G82,[2]ResourceLevelConfig!$A:$H,3,FALSE)/20,0)","v":9546},1006,{"$f":"ROUND(VLOOKUP(G82,[2]ResourceLevelConfig!$A:$H,8,FALSE)*12,0)","v":5724},"-1",3,null,-1]
[79,40766,{"$f":"ROUND(VLOOKUP(F83,[1]主表!$A:$B,2,FALSE)*[1]主表!$D$1*[1]升级!$AC$4*(1+VLOOKUP(F83,[1]主表!$A:$F,6,FALSE)),2)","v":61723.54},{"$f":"ROUND(VLOOKUP(F83,[1]主表!$A:$B,2,FALSE)*[1]主表!$D$1*[1]升级!$Z$4,2)","v":970.11},{"$f":"ROUND(VLOOKUP(F83,[1]主表!$A:$B,2,FALSE)*[1]主表!$D$1*[1]升级!$W$4,2)","v":970.11},158,159,"1001;1006","9740;5844",1001,{"$f":"ROUND(40*VLOOKUP(G83,[2]ResourceLevelConfig!$A:$H,3,FALSE)/20,0)","v":9740},1006,{"$f":"ROUND(VLOOKUP(G83,[2]ResourceLevelConfig!$A:$H,8,FALSE)*12,0)","v":5844},"-1",3,null,-1]
[80,44027,{"$f":"ROUND(VLOOKUP(F84,[1]主表!$A:$B,2,FALSE)*[1]主表!$D$1*[1]升级!$AC$4*(1+VLOOKUP(F84,[1]主表!$A:$F,6,FALSE)),2)","v":64145.75},{"$f":"ROUND(VLOOKUP(F84,[1]主表!$A:$B,2,FALSE)*[1]主表!$D$1*[1]升级!$Z$4,2)","v":996.48},{"$f":"ROUND(VLOOKUP(F84,[1]主表!$A:$B,2,FALSE)*[1]主表!$D$1*[1]升级!$W$4,2)","v":996.48},160,161,"1001;1006","9936;5964",1001,{"$f":"ROUND(40*VLOOKUP(G84,[2]ResourceLevelConfig!$A:$H,3,FALSE)/20,0)","v":9936},1006,{"$f":"ROUND(VLOOKUP(G84,[2]ResourceLevelConfig!$A:$H,8,FALSE)*12,0)","v":5964},"-1",3,null,-1,{"$nulls":4},12]
[81,47549,{"$f":"ROUND(VLOOKUP(F85,[1]主表!$A:$B,2,FALSE)*[1]主表!$D$1*[1]升级!$AC$4*(1+VLOOKUP(F85,[1]主表!$A:$F,6,FALSE)),2)","v":72342.679999999993},{"$f":"ROUND(VLOOKUP(F85,[1]主表!$A:$B,2,FALSE)*[1]主表!$D$1*[1]升级!$Z$4,2)","v":1110.93},{"$f":"ROUND(VLOOKUP(F85,[1]主表!$A:$B,2,FALSE)*[1]主表!$D$1*[1]升级!$W$4,2)","v":1110.93},162,163,"1001;1006","10138;6084",1001,{"$f":"ROUND(40*VLOOKUP(G85,[2]ResourceLevelConfig!$A:$H,3,FALSE)/20,0)","v":10138},1006,{"$f":"ROUND(VLOOKUP(G85,[2]ResourceLevelConfig!$A:$H,8,FALSE)*12,0)","v":6084},"-1",3,null,-1]
[82,51353,{"$f":"ROUND(VLOOKUP(F86,[1]主表!$A:$B,2,FALSE)*[1]主表!$D$1*[1]升级!$AC$4*(1+VLOOKUP(F86,[1]主表!$A:$F,6,FALSE)),2)","v":75161.61},{"$f":"ROUND(VLOOKUP(F86,[1]主表!$A:$B,2,FALSE)*[1]主表!$D$1*[1]升级!$Z$4,2)","v":1141.1300000000001},{"$f":"ROUND(VLOOKUP(F86,[1]主表!$A:$B,2,FALSE)*[1]主表!$D$1*[1]升级!$W$4,2)","v":1141.1300000000001},164,165,"1001;1006","10342;6204",1001,{"$f":"ROUND(40*VLOOKUP(G86,[2]ResourceLevelConfig!$A:$H,3,FALSE)/20,0)","v":10342},1006,{"$f":"ROUND(VLOOKUP(G86,[2]ResourceLevelConfig!$A:$H,8,FALSE)*12,0)","v":6204},"-1",3,null,-1]
[83,55461,{"$f":"ROUND(VLOOKUP(F87,[1]主表!$A:$B,2,FALSE)*[1]主表!$D$1*[1]升级!$AC$4*(1+VLOOKUP(F87,[1]主表!$A:$F,6,FALSE)),2)","v":78080.34},{"$f":"ROUND(VLOOKUP(F87,[1]主表!$A:$B,2,FALSE)*[1]主表!$D$1*[1]升级!$Z$4,2)","v":1172.1500000000001},{"$f":"ROUND(VLOOKUP(F87,[1]主表!$A:$B,2,FALSE)*[1]主表!$D$1*[1]升级!$W$4,2)","v":1172.1500000000001},166,167,"1001;1006","10552;6336",1001,{"$f":"ROUND(40*VLOOKUP(G87,[2]ResourceLevelConfig!$A:$H,3,FALSE)/20,0)","v":10552},1006,{"$f":"ROUND(VLOOKUP(G87,[2]ResourceLevelConfig!$A:$H,8,FALSE)*12,0)","v":6336},"-1",3,null,-1]
[84,59898,{"$f":"ROUND(VLOOKUP(F88,[1]主表!$A:$B,2,FALSE)*[1]主表!$D$1*[1]升级!$AC$4*(1+VLOOKUP(F88,[1]主表!$A:$F,6,FALSE)),2)","v":81102.210000000006},{"$f":"ROUND(VLOOKUP(F88,[1]主表!$A:$B,2,FALSE)*[1]主表!$D$1*[1]升级!$Z$4,2)","v":1204.02},{"$f":"ROUND(VLOOKUP(F88,[1]主表!$A:$B,2,FALSE)*[1]主表!$D$1*[1]升级!$W$4,2)","v":1204.02},168,169,"1001;1006","10766;6456",1001,{"$f":"ROUND(40*VLOOKUP(G88,[2]ResourceLevelConfig!$A:$H,3,FALSE)/20,0)","v":10766},1006,{"$f":"ROUND(VLOOKUP(G88,[2]ResourceLevelConfig!$A:$H,8,FALSE)*12,0)","v":6456},"-1",3,null,-1]
[85,64690,{"$f":"ROUND(VLOOKUP(F89,[1]主表!$A:$B,2,FALSE)*[1]主表!$D$1*[1]升级!$AC$4*(1+VLOOKUP(F89,[1]主表!$A:$F,6,FALSE)),2)","v":84230.69},{"$f":"ROUND(VLOOKUP(F89,[1]主表!$A:$B,2,FALSE)*[1]主表!$D$1*[1]升级!$Z$4,2)","v":1236.75},{"$f":"ROUND(VLOOKUP(F89,[1]主表!$A:$B,2,FALSE)*[1]主表!$D$1*[1]升级!$W$4,2)","v":1236.75},170,171,"1001;1006","10984;6588",1001,{"$f":"ROUND(40*VLOOKUP(G89,[2]ResourceLevelConfig!$A:$H,3,FALSE)/20,0)","v":10984},1006,{"$f":"ROUND(VLOOKUP(G89,[2]ResourceLevelConfig!$A:$H,8,FALSE)*12,0)","v":6588},"-1",3,null,-1]
[86,69865,{"$f":"ROUND(VLOOKUP(F90,[1]主表!$A:$B,2,FALSE)*[1]主表!$D$1*[1]升级!$AC$4*(1+VLOOKUP(F90,[1]主表!$A:$F,6,FALSE)),2)","v":94934.46},{"$f":"ROUND(VLOOKUP(F90,[1]主表!$A:$B,2,FALSE)*[1]主表!$D$1*[1]升级!$Z$4,2)","v":1378.79},{"$f":"ROUND(VLOOKUP(F90,[1]主表!$A:$B,2,FALSE)*[1]主表!$D$1*[1]升级!$W$4,2)","v":1378.79},172,173,"1001;1006","11206;6720",1001,{"$f":"ROUND(40*VLOOKUP(G90,[2]ResourceLevelConfig!$A:$H,3,FALSE)/20,0)","v":11206},1006,{"$f":"ROUND(VLOOKUP(G90,[2]ResourceLevelConfig!$A:$H,8,FALSE)*12,0)","v":6720},"-1",3,null,-1]
[87,75454,{"$f":"ROUND(VLOOKUP(F91,[1]主表!$A:$B,2,FALSE)*[1]主表!$D$1*[1]升级!$AC$4*(1+VLOOKUP(F91,[1]主表!$A:$F,6,FALSE)),2)","v":98573.06},{"$f":"ROUND(VLOOKUP(F91,[1]主表!$A:$B,2,FALSE)*[1]主表!$D$1*[1]升级!$Z$4,2)","v":1416.28},{"$f":"ROUND(VLOOKUP(F91,[1]主表!$A:$B,2,FALSE)*[1]主表!$D$1*[1]升级!$W$4,2)","v":1416.28},174,175,"1001;1006","11432;6864",1001,{"$f":"ROUND(40*VLOOKUP(G91,[2]ResourceLevelConfig!$A:$H,3,FALSE)/20,0)","v":11432},1006,{"$f":"ROUND(VLOOKUP(G91,[2]ResourceLevelConfig!$A:$H,8,FALSE)*12,0)","v":6864},"-1",3,null,-1]
[88,81490,{"$f":"ROUND(VLOOKUP(F92,[1]主表!$A:$B,2,FALSE)*[1]主表!$D$1*[1]升级!$AC$4*(1+VLOOKUP(F92,[1]主表!$A:$F,6,FALSE)),2)","v":102339.32},{"$f":"ROUND(VLOOKUP(F92,[1]主表!$A:$B,2,FALSE)*[1]主表!$D$1*[1]升级!$Z$4,2)","v":1454.78},{"$f":"ROUND(VLOOKUP(F92,[1]主表!$A:$B,2,FALSE)*[1]主表!$D$1*[1]升级!$W$4,2)","v":1454.78},176,177,"1001;1006","11664;6996",1001,{"$f":"ROUND(40*VLOOKUP(G92,[2]ResourceLevelConfig!$A:$H,3,FALSE)/20,0)","v":11664},1006,{"$f":"ROUND(VLOOKUP(G92,[2]ResourceLevelConfig!$A:$H,8,FALSE)*12,0)","v":6996},"-1",3,null,-1]
[89,88009,{"$f":"ROUND(VLOOKUP(F93,[1]主表!$A:$B,2,FALSE)*[1]主表!$D$1*[1]升级!$AC$4*(1+VLOOKUP(F93,[1]主表!$A:$F,6,FALSE)),2)","v":106237.51},{"$f":"ROUND(VLOOKUP(F93,[1]主表!$A:$B,2,FALSE)*[1]主表!$D$1*[1]升级!$Z$4,2)","v":1494.33},{"$f":"ROUND(VLOOKUP(F93,[1]主表!$A:$B,2,FALSE)*[1]主表!$D$1*[1]升级!$W$4,2)","v":1494.33},178,179,"1001;1006","11900;7140",1001,{"$f":"ROUND(40*VLOOKUP(G93,[2]ResourceLevelConfig!$A:$H,3,FALSE)/20,0)","v":11900},1006,{"$f":"ROUND(VLOOKUP(G93,[2]ResourceLevelConfig!$A:$H,8,FALSE)*12,0)","v":7140},"-1",3,null,-1]
[90,95050,{"$f":"ROUND(VLOOKUP(F94,[1]主表!$A:$B,2,FALSE)*[1]主表!$D$1*[1]升级!$AC$4*(1+VLOOKUP(F94,[1]主表!$A:$F,6,FALSE)),2)","v":110272.02},{"$f":"ROUND(VLOOKUP(F94,[1]主表!$A:$B,2,FALSE)*[1]主表!$D$1*[1]升级!$Z$4,2)","v":1534.95},{"$f":"ROUND(VLOOKUP(F94,[1]主表!$A:$B,2,FALSE)*[1]主表!$D$1*[1]升级!$W$4,2)","v":1534.95},180,181,"1001;1006","12142;7284",1001,{"$f":"ROUND(40*VLOOKUP(G94,[2]ResourceLevelConfig!$A:$H,3,FALSE)/20,0)","v":12142},1006,{"$f":"ROUND(VLOOKUP(G94,[2]ResourceLevelConfig!$A:$H,8,FALSE)*12,0)","v":7284},{"$f":"_xlfn.TEXTJOIN(\";\",1,Q94:U94)","v":"-1;0;90;150;180"},4,null,-1,0,{"$f":"[1]抽卡!$U$10","v":90},{"$f":"[1]抽卡!$U$11","v":150},{"$f":"[1]抽卡!$U$12","v":180},10]
[91,102654,{"$f":"ROUND(VLOOKUP(F95,[1]主表!$A:$B,2,FALSE)*[1]主表!$D$1*[1]升级!$AC$4*(1+VLOOKUP(F95,[1]主表!$A:$F,6,FALSE)),2)","v":146799.51999999999},{"$f":"ROUND(VLOOKUP(F95,[1]主表!$A:$B,2,FALSE)*[1]主表!$D$1*[1]升级!$Z$4,2)","v":2022.38},{"$f":"ROUND(VLOOKUP(F95,[1]主表!$A:$B,2,FALSE)*[1]主表!$D$1*[1]升级!$W$4,2)","v":2022.38},182,183,"1001;1006","12386;7428",1001,{"$f":"ROUND(40*VLOOKUP(G95,[2]ResourceLevelConfig!$A:$H,3,FALSE)/20,0)","v":12386},1006,{"$f":"ROUND(VLOOKUP(G95,[2]ResourceLevelConfig!$A:$H,8,FALSE)*12,0)","v":7428},"-1",4,null,-1]
[92,110866,{"$f":"ROUND(VLOOKUP(F96,[1]主表!$A:$B,2,FALSE)*[1]主表!$D$1*[1]升级!$AC$4*(1+VLOOKUP(F96,[1]主表!$A:$F,6,FALSE)),2)","v":152341.82999999999},{"$f":"ROUND(VLOOKUP(F96,[1]主表!$A:$B,2,FALSE)*[1]主表!$D$1*[1]升级!$Z$4,2)","v":2077.36},{"$f":"ROUND(VLOOKUP(F96,[1]主表!$A:$B,2,FALSE)*[1]主表!$D$1*[1]升级!$W$4,2)","v":2077.36},184,185,"1001;1006","12638;7584",1001,{"$f":"ROUND(40*VLOOKUP(G96,[2]ResourceLevelConfig!$A:$H,3,FALSE)/20,0)","v":12638},1006,{"$f":"ROUND(VLOOKUP(G96,[2]ResourceLevelConfig!$A:$H,8,FALSE)*12,0)","v":7584},"-1",4,null,-1]
[93,119735,{"$f":"ROUND(VLOOKUP(F97,[1]主表!$A:$B,2,FALSE)*[1]主表!$D$1*[1]升级!$AC$4*(1+VLOOKUP(F97,[1]主表!$A:$F,6,FALSE)),2)","v":158076.98000000001},{"$f":"ROUND(VLOOKUP(F97,[1]主表!$A:$B,2,FALSE)*[1]主表!$D$1*[1]升级!$Z$4,2)","v":2133.84},{"$f":"ROUND(VLOOKUP(F97,[1]主表!$A:$B,2,FALSE)*[1]主表!$D$1*[1]升级!$W$4,2)","v":2133.84},186,187,"1001;1006","12894;7740",1001,{"$f":"ROUND(40*VLOOKUP(G97,[2]ResourceLevelConfig!$A:$H,3,FALSE)/20,0)","v":12894},1006,{"$f":"ROUND(VLOOKUP(G97,[2]ResourceLevelConfig!$A:$H,8,FALSE)*12,0)","v":7740},"-1",4,null,-1]
[94,129314,{"$f":"ROUND(VLOOKUP(F98,[1]主表!$A:$B,2,FALSE)*[1]主表!$D$1*[1]升级!$AC$4*(1+VLOOKUP(F98,[1]主表!$A:$F,6,FALSE)),2)","v":164011.38},{"$f":"ROUND(VLOOKUP(F98,[1]主表!$A:$B,2,FALSE)*[1]主表!$D$1*[1]升级!$Z$4,2)","v":2191.85},{"$f":"ROUND(VLOOKUP(F98,[1]主表!$A:$B,2,FALSE)*[1]主表!$D$1*[1]升级!$W$4,2)","v":2191.85},188,189,"1001;1006","13154;7896",1001,{"$f":"ROUND(40*VLOOKUP(G98,[2]ResourceLevelConfig!$A:$H,3,FALSE)/20,0)","v":13154},1006,{"$f":"ROUND(VLOOKUP(G98,[2]ResourceLevelConfig!$A:$H,8,FALSE)*12,0)","v":7896},"-1",4,null,-1]
[95,139659,{"$f":"ROUND(VLOOKUP(F99,[1]主表!$A:$B,2,FALSE)*[1]主表!$D$1*[1]升级!$AC$4*(1+VLOOKUP(F99,[1]主表!$A:$F,6,FALSE)),2)","v":170151.61},{"$f":"ROUND(VLOOKUP(F99,[1]主表!$A:$B,2,FALSE)*[1]主表!$D$1*[1]升级!$Z$4,2)","v":2251.4299999999998},{"$f":"ROUND(VLOOKUP(F99,[1]主表!$A:$B,2,FALSE)*[1]主表!$D$1*[1]升级!$W$4,2)","v":2251.4299999999998},190,191,"1001;1006","13420;8052",1001,{"$f":"ROUND(40*VLOOKUP(G99,[2]ResourceLevelConfig!$A:$H,3,FALSE)/20,0)","v":13420},1006,{"$f":"ROUND(VLOOKUP(G99,[2]ResourceLevelConfig!$A:$H,8,FALSE)*12,0)","v":8052},"-1",4,null,-1]
[96,{"$f":"ROUND(B99*P$4,0)","v":150832},{"$f":"ROUND(VLOOKUP(F100,[1]主表!$A:$B,2,FALSE)*[1]主表!$D$1*[1]升级!$AC$4*(1+VLOOKUP(F100,[1]主表!$A:$F,6,FALSE)),2)","v":191568.4},{"$f":"ROUND(VLOOKUP(F100,[1]主表!$A:$B,2,FALSE)*[1]主表!$D$1*[1]升级!$Z$4,2)","v":2510.02},{"$f":"ROUND(VLOOKUP(F100,[1]主表!$A:$B,2,FALSE)*[1]主表!$D$1*[1]升级!$W$4,2)","v":2510.02},192,193,"1001;1006","13692;8220",1001,{"$f":"ROUND(40*VLOOKUP(G100,[2]ResourceLevelConfig!$A:$H,3,FALSE)/20,0)","v":13692},1006,{"$f":"ROUND(VLOOKUP(G100,[2]ResourceLevelConfig!$A:$H,8,FALSE)*12,0)","v":8220},"-1",4,null,-1]
[97,162899,{"$f":"ROUND(VLOOKUP(F101,[1]主表!$A:$B,2,FALSE)*[1]主表!$D$1*[1]升级!$AC$4*(1+VLOOKUP(F101,[1]主表!$A:$F,6,FALSE)),2)","v":198701.87},{"$f":"ROUND(VLOOKUP(F101,[1]主表!$A:$B,2,FALSE)*[1]主表!$D$1*[1]升级!$Z$4,2)","v":2578.25},{"$f":"ROUND(VLOOKUP(F101,[1]主表!$A:$B,2,FALSE)*[1]主表!$D$1*[1]升级!$W$4,2)","v":2578.25},194,195,{"$f":"_xlfn.TEXTJOIN(\";\",1,J101,L101)","v":"1001;1006"},{"$f":"_xlfn.TEXTJOIN(\";\",1,K101,M101)","v":"13970;8376"},1001,{"$f":"ROUND(40*VLOOKUP(G101,[2]ResourceLevelConfig!$A:$H,3,FALSE)/20,0)","v":13970},1006,{"$f":"ROUND(VLOOKUP(G101,[2]ResourceLevelConfig!$A:$H,8,FALSE)*12,0)","v":8376},"-1",4,null,-1]
[98,175931,{"$f":"ROUND(VLOOKUP(F102,[1]主表!$A:$B,2,FALSE)*[1]主表!$D$1*[1]升级!$AC$4*(1+VLOOKUP(F102,[1]主表!$A:$F,6,FALSE)),2)","v":206081.61},{"$f":"ROUND(VLOOKUP(F102,[1]主表!$A:$B,2,FALSE)*[1]主表!$D$1*[1]升级!$Z$4,2)","v":2648.35},{"$f":"ROUND(VLOOKUP(F102,[1]主表!$A:$B,2,FALSE)*[1]主表!$D$1*[1]升级!$W$4,2)","v":2648.35},196,197,"1001;1006","14252;8556",1001,{"$f":"ROUND(40*VLOOKUP(G102,[2]ResourceLevelConfig!$A:$H,3,FALSE)/20,0)","v":14252},1006,{"$f":"ROUND(VLOOKUP(G102,[2]ResourceLevelConfig!$A:$H,8,FALSE)*12,0)","v":8556},"-1",4,null,-1]
[99,190005,{"$f":"ROUND(VLOOKUP(F103,[1]主表!$A:$B,2,FALSE)*[1]主表!$D$1*[1]升级!$AC$4*(1+VLOOKUP(F103,[1]主表!$A:$F,6,FALSE)),2)","v":213715.75},{"$f":"ROUND(VLOOKUP(F103,[1]主表!$A:$B,2,FALSE)*[1]主表!$D$1*[1]升级!$Z$4,2)","v":2720.34},{"$f":"ROUND(VLOOKUP(F103,[1]主表!$A:$B,2,FALSE)*[1]主表!$D$1*[1]升级!$W$4,2)","v":2720.34},198,199,"1001;1006","14540;8724",1001,{"$f":"ROUND(40*VLOOKUP(G103,[2]ResourceLevelConfig!$A:$H,3,FALSE)/20,0)","v":14540},1006,{"$f":"ROUND(VLOOKUP(G103,[2]ResourceLevelConfig!$A:$H,8,FALSE)*12,0)","v":8724},"-1",4,null,-1]
[100,205205,{"$f":"ROUND(VLOOKUP(F104,[1]主表!$A:$B,2,FALSE)*[1]主表!$D$1*[1]升级!$AC$4*(1+VLOOKUP(F104,[1]主表!$A:$F,6,FALSE)),2)","v":221612.66},{"$f":"ROUND(VLOOKUP(F104,[1]主表!$A:$B,2,FALSE)*[1]主表!$D$1*[1]升级!$Z$4,2)","v":2794.3},{"$f":"ROUND(VLOOKUP(F104,[1]主表!$A:$B,2,FALSE)*[1]主表!$D$1*[1]升级!$W$4,2)","v":2794.3},200,201,"1001;1006","14834;8904",1001,{"$f":"ROUND(40*VLOOKUP(G104,[2]ResourceLevelConfig!$A:$H,3,FALSE)/20,0)","v":14834},1006,{"$f":"ROUND(VLOOKUP(G104,[2]ResourceLevelConfig!$A:$H,8,FALSE)*12,0)","v":8904},"-1",4,null,-1,{"$nulls":4},9]
[101,221621,{"$f":"ROUND(VLOOKUP(F105,[1]主表!$A:$B,2,FALSE)*[1]主表!$D$1*[1]升级!$AC$4*(1+VLOOKUP(F105,[1]主表!$A:$F,6,FALSE)),2)","v":249391.85},{"$f":"ROUND(VLOOKUP(F105,[1]主表!$A:$B,2,FALSE)*[1]主表!$D$1*[1]升级!$Z$4,2)","v":3115.23},{"$f":"ROUND(VLOOKUP(F105,[1]主表!$A:$B,2,FALSE)*[1]主表!$D$1*[1]升级!$W$4,2)","v":3115.23},202,203,"1001;1006","15136;9084",1001,{"$f":"ROUND(40*VLOOKUP(G105,[2]ResourceLevelConfig!$A:$H,3,FALSE)/20,0)","v":15136},1006,{"$f":"ROUND(VLOOKUP(G105,[2]ResourceLevelConfig!$A:$H,8,FALSE)*12,0)","v":9084},"-1",4,null,-1]
[102,239351,{"$f":"ROUND(VLOOKUP(F106,[1]主表!$A:$B,2,FALSE)*[1]主表!$D$1*[1]升级!$AC$4*(1+VLOOKUP(F106,[1]主表!$A:$F,6,FALSE)),2)","v":258561.58},{"$f":"ROUND(VLOOKUP(F106,[1]主表!$A:$B,2,FALSE)*[1]主表!$D$1*[1]升级!$Z$4,2)","v":3199.92},{"$f":"ROUND(VLOOKUP(F106,[1]主表!$A:$B,2,FALSE)*[1]主表!$D$1*[1]升级!$W$4,2)","v":3199.92},204,205,"1001;1006","15442;9264",1001,{"$f":"ROUND(40*VLOOKUP(G106,[2]ResourceLevelConfig!$A:$H,3,FALSE)/20,0)","v":15442},1006,{"$f":"ROUND(VLOOKUP(G106,[2]ResourceLevelConfig!$A:$H,8,FALSE)*12,0)","v":9264},"-1",4,null,-1]
[103,258499,{"$f":"ROUND(VLOOKUP(F107,[1]主表!$A:$B,2,FALSE)*[1]主表!$D$1*[1]升级!$AC$4*(1+VLOOKUP(F107,[1]主表!$A:$F,6,FALSE)),2)","v":268045.56},{"$f":"ROUND(VLOOKUP(F107,[1]主表!$A:$B,2,FALSE)*[1]主表!$D$1*[1]升级!$Z$4,2)","v":3286.91},{"$f":"ROUND(VLOOKUP(F107,[1]主表!$A:$B,2,FALSE)*[1]主表!$D$1*[1]升级!$W$4,2)","v":3286.91},206,207,"1001;1006","15754;9456",1001,{"$f":"ROUND(40*VLOOKUP(G107,[2]ResourceLevelConfig!$A:$H,3,FALSE)/20,0)","v":15754},1006,{"$f":"ROUND(VLOOKUP(G107,[2]ResourceLevelConfig!$A:$H,8,FALSE)*12,0)","v":9456},"-1",4,null,-1]
[104,279179,{"$f":"ROUND(VLOOKUP(F108,[1]主表!$A:$B,2,FALSE)*[1]主表!$D$1*[1]升级!$AC$4*(1+VLOOKUP(F108,[1]主表!$A:$F,6,FALSE)),2)","v":277854.11},{"$f":"ROUND(VLOOKUP(F108,[1]主表!$A:$B,2,FALSE)*[1]主表!$D$1*[1]升级!$Z$4,2)","v":3376.27},{"$f":"ROUND(VLOOKUP(F108,[1]主表!$A:$B,2,FALSE)*[1]主表!$D$1*[1]升级!$W$4,2)","v":3376.27},208,209,"1001;1006","16072;9648",1001,{"$f":"ROUND(40*VLOOKUP(G108,[2]ResourceLevelConfig!$A:$H,3,FALSE)/20,0)","v":16072},1006,{"$f":"ROUND(VLOOKUP(G108,[2]ResourceLevelConfig!$A:$H,8,FALSE)*12,0)","v":9648},"-1",4,null,-1]
[105,301513,{"$f":"ROUND(VLOOKUP(F109,[1]主表!$A:$B,2,FALSE)*[1]主表!$D$1*[1]升级!$AC$4*(1+VLOOKUP(F109,[1]主表!$A:$F,6,FALSE)),2)","v":287997.87},{"$f":"ROUND(VLOOKUP(F109,[1]主表!$A:$B,2,FALSE)*[1]主表!$D$1*[1]升级!$Z$4,2)","v":3468.06},{"$f":"ROUND(VLOOKUP(F109,[1]主表!$A:$B,2,FALSE)*[1]主表!$D$1*[1]升级!$W$4,2)","v":3468.06},210,211,"1001;1006","16398;9840",1001,{"$f":"ROUND(40*VLOOKUP(G109,[2]ResourceLevelConfig!$A:$H,3,FALSE)/20,0)","v":16398},1006,{"$f":"ROUND(VLOOKUP(G109,[2]ResourceLevelConfig!$A:$H,8,FALSE)*12,0)","v":9840},"-1",4,null,-1]
[106,325634,{"$f":"ROUND(VLOOKUP(F110,[1]主表!$A:$B,2,FALSE)*[1]主表!$D$1*[1]升级!$AC$4*(1+VLOOKUP(F110,[1]主表!$A:$F,6,FALSE)),2)","v":382864.77},{"$f":"ROUND(VLOOKUP(F110,[1]主表!$A:$B,2,FALSE)*[1]主表!$D$1*[1]升级!$Z$4,2)","v":4569.3500000000004},{"$f":"ROUND(VLOOKUP(F110,[1]主表!$A:$B,2,FALSE)*[1]主表!$D$1*[1]升级!$W$4,2)","v":4569.3500000000004},212,213,"1001;1006","16730;10044",1001,{"$f":"ROUND(40*VLOOKUP(G110,[2]ResourceLevelConfig!$A:$H,3,FALSE)/20,0)","v":16730},1006,{"$f":"ROUND(VLOOKUP(G110,[2]ResourceLevelConfig!$A:$H,8,FALSE)*12,0)","v":10044},"-1",4,null,-1]
[107,351685,{"$f":"ROUND(VLOOKUP(F111,[1]主表!$A:$B,2,FALSE)*[1]主表!$D$1*[1]升级!$AC$4*(1+VLOOKUP(F111,[1]主表!$A:$F,6,FALSE)),2)","v":396778.58},{"$f":"ROUND(VLOOKUP(F111,[1]主表!$A:$B,2,FALSE)*[1]主表!$D$1*[1]升级!$Z$4,2)","v":4693.57},{"$f":"ROUND(VLOOKUP(F111,[1]主表!$A:$B,2,FALSE)*[1]主表!$D$1*[1]升级!$W$4,2)","v":4693.57},214,215,"1001;1006","17068;10236",1001,{"$f":"ROUND(40*VLOOKUP(G111,[2]ResourceLevelConfig!$A:$H,3,FALSE)/20,0)","v":17068},1006,{"$f":"ROUND(VLOOKUP(G111,[2]ResourceLevelConfig!$A:$H,8,FALSE)*12,0)","v":10236},"-1",4,null,-1]
[108,379820,{"$f":"ROUND(VLOOKUP(F112,[1]主表!$A:$B,2,FALSE)*[1]主表!$D$1*[1]升级!$AC$4*(1+VLOOKUP(F112,[1]主表!$A:$F,6,FALSE)),2)","v":411165.94},{"$f":"ROUND(VLOOKUP(F112,[1]主表!$A:$B,2,FALSE)*[1]主表!$D$1*[1]升级!$Z$4,2)","v":4821.17},{"$f":"ROUND(VLOOKUP(F112,[1]主表!$A:$B,2,FALSE)*[1]主表!$D$1*[1]升级!$W$4,2)","v":4821.17},216,217,"1001;1006","17414;10452",1001,{"$f":"ROUND(40*VLOOKUP(G112,[2]ResourceLevelConfig!$A:$H,3,FALSE)/20,0)","v":17414},1006,{"$f":"ROUND(VLOOKUP(G112,[2]ResourceLevelConfig!$A:$H,8,FALSE)*12,0)","v":10452},"-1",4,null,-1]
[109,410206,{"$f":"ROUND(VLOOKUP(F113,[1]主表!$A:$B,2,FALSE)*[1]主表!$D$1*[1]升级!$AC$4*(1+VLOOKUP(F113,[1]主表!$A:$F,6,FALSE)),2)","v":426042.33},{"$f":"ROUND(VLOOKUP(F113,[1]主表!$A:$B,2,FALSE)*[1]主表!$D$1*[1]升级!$Z$4,2)","v":4952.24},{"$f":"ROUND(VLOOKUP(F113,[1]主表!$A:$B,2,FALSE)*[1]主表!$D$1*[1]升级!$W$4,2)","v":4952.24},218,219,"1001;1006","17766;10656",1001,{"$f":"ROUND(40*VLOOKUP(G113,[2]ResourceLevelConfig!$A:$H,3,FALSE)/20,0)","v":17766},1006,{"$f":"ROUND(VLOOKUP(G113,[2]ResourceLevelConfig!$A:$H,8,FALSE)*12,0)","v":10656},"-1",4,null,-1]
[110,443022,{"$f":"ROUND(VLOOKUP(F114,[1]主表!$A:$B,2,FALSE)*[1]主表!$D$1*[1]升级!$AC$4*(1+VLOOKUP(F114,[1]主表!$A:$F,6,FALSE)),2)","v":441423.68},{"$f":"ROUND(VLOOKUP(F114,[1]主表!$A:$B,2,FALSE)*[1]主表!$D$1*[1]升级!$Z$4,2)","v":5086.87},{"$f":"ROUND(VLOOKUP(F114,[1]主表!$A:$B,2,FALSE)*[1]主表!$D$1*[1]升级!$W$4,2)","v":5086.87},220,221,"1001;1006","18126;10872",1001,{"$f":"ROUND(40*VLOOKUP(G114,[2]ResourceLevelConfig!$A:$H,3,FALSE)/20,0)","v":18126},1006,{"$f":"ROUND(VLOOKUP(G114,[2]ResourceLevelConfig!$A:$H,8,FALSE)*12,0)","v":10872},"-1",4,null,-1,{"$nulls":4},8]
[111,478464,{"$f":"ROUND(VLOOKUP(F115,[1]主表!$A:$B,2,FALSE)*[1]主表!$D$1*[1]升级!$AC$4*(1+VLOOKUP(F115,[1]主表!$A:$F,6,FALSE)),2)","v":496357.39},{"$f":"ROUND(VLOOKUP(F115,[1]主表!$A:$B,2,FALSE)*[1]主表!$D$1*[1]升级!$Z$4,2)","v":5671.11},{"$f":"ROUND(VLOOKUP(F115,[1]主表!$A:$B,2,FALSE)*[1]主表!$D$1*[1]升级!$W$4,2)","v":5671.11},222,223,"1001;1006","18494;11100",1001,{"$f":"ROUND(40*VLOOKUP(G115,[2]ResourceLevelConfig!$A:$H,3,FALSE)/20,0)","v":18494},1006,{"$f":"ROUND(VLOOKUP(G115,[2]ResourceLevelConfig!$A:$H,8,FALSE)*12,0)","v":11100},"-1",4,null,-1]
[112,516741,{"$f":"ROUND(VLOOKUP(F116,[1]主表!$A:$B,2,FALSE)*[1]主表!$D$1*[1]升级!$AC$4*(1+VLOOKUP(F116,[1]主表!$A:$F,6,FALSE)),2)","v":514201.8},{"$f":"ROUND(VLOOKUP(F116,[1]主表!$A:$B,2,FALSE)*[1]主表!$D$1*[1]升级!$Z$4,2)","v":5825.28},{"$f":"ROUND(VLOOKUP(F116,[1]主表!$A:$B,2,FALSE)*[1]主表!$D$1*[1]升级!$W$4,2)","v":5825.28},224,225,"1001;1006","18868;11316",1001,{"$f":"ROUND(40*VLOOKUP(G116,[2]ResourceLevelConfig!$A:$H,3,FALSE)/20,0)","v":18868},1006,{"$f":"ROUND(VLOOKUP(G116,[2]ResourceLevelConfig!$A:$H,8,FALSE)*12,0)","v":11316},"-1",4,null,-1]
[113,558080,{"$f":"ROUND(VLOOKUP(F117,[1]主表!$A:$B,2,FALSE)*[1]主表!$D$1*[1]升级!$AC$4*(1+VLOOKUP(F117,[1]主表!$A:$F,6,FALSE)),2)","v":532649.59},{"$f":"ROUND(VLOOKUP(F117,[1]主表!$A:$B,2,FALSE)*[1]主表!$D$1*[1]升级!$Z$4,2)","v":5983.65},{"$f":"ROUND(VLOOKUP(F117,[1]主表!$A:$B,2,FALSE)*[1]主表!$D$1*[1]升级!$W$4,2)","v":5983.65},226,227,"1001;1006","19250;11544",1001,{"$f":"ROUND(40*VLOOKUP(G117,[2]ResourceLevelConfig!$A:$H,3,FALSE)/20,0)","v":19250},1006,{"$f":"ROUND(VLOOKUP(G117,[2]ResourceLevelConfig!$A:$H,8,FALSE)*12,0)","v":11544},"-1",4,null,-1]
[114,602726,{"$f":"ROUND(VLOOKUP(F118,[1]主表!$A:$B,2,FALSE)*[1]主表!$D$1*[1]升级!$AC$4*(1+VLOOKUP(F118,[1]主表!$A:$F,6,FALSE)),2)","v":551720.38},{"$f":"ROUND(VLOOKUP(F118,[1]主表!$A:$B,2,FALSE)*[1]主表!$D$1*[1]升级!$Z$4,2)","v":6146.32},{"$f":"ROUND(VLOOKUP(F118,[1]主表!$A:$B,2,FALSE)*[1]主表!$D$1*[1]升级!$W$4,2)","v":6146.32},228,229,"1001;1006","19640;11784",1001,{"$f":"ROUND(40*VLOOKUP(G118,[2]ResourceLevelConfig!$A:$H,3,FALSE)/20,0)","v":19640},1006,{"$f":"ROUND(VLOOKUP(G118,[2]ResourceLevelConfig!$A:$H,8,FALSE)*12,0)","v":11784},"-1",4,null,-1]
[115,650944,{"$f":"ROUND(VLOOKUP(F119,[1]主表!$A:$B,2,FALSE)*[1]主表!$D$1*[1]升级!$AC$4*(1+VLOOKUP(F119,[1]主表!$A:$F,6,FALSE)),2)","v":571434.43000000005},{"$f":"ROUND(VLOOKUP(F119,[1]主表!$A:$B,2,FALSE)*[1]主表!$D$1*[1]升级!$Z$4,2)","v":6313.41},{"$f":"ROUND(VLOOKUP(F119,[1]主表!$A:$B,2,FALSE)*[1]主表!$D$1*[1]升级!$W$4,2)","v":6313.41},230,231,"1001;1006","20036;12024",1001,{"$f":"ROUND(40*VLOOKUP(G119,[2]ResourceLevelConfig!$A:$H,3,FALSE)/20,0)","v":20036},1006,{"$f":"ROUND(VLOOKUP(G119,[2]ResourceLevelConfig!$A:$H,8,FALSE)*12,0)","v":12024},"-1",4,null,-1]
[116,703020,{"$f":"ROUND(VLOOKUP(F120,[1]主表!$A:$B,2,FALSE)*[1]主表!$D$1*[1]升级!$AC$4*(1+VLOOKUP(F120,[1]主表!$A:$F,6,FALSE)),2)","v":642321.35},{"$f":"ROUND(VLOOKUP(F120,[1]主表!$A:$B,2,FALSE)*[1]主表!$D$1*[1]升级!$Z$4,2)","v":7038.52},{"$f":"ROUND(VLOOKUP(F120,[1]主表!$A:$B,2,FALSE)*[1]主表!$D$1*[1]升级!$W$4,2)","v":7038.52},232,233,"1001;1006","20442;12264",1001,{"$f":"ROUND(40*VLOOKUP(G120,[2]ResourceLevelConfig!$A:$H,3,FALSE)/20,0)","v":20442},1006,{"$f":"ROUND(VLOOKUP(G120,[2]ResourceLevelConfig!$A:$H,8,FALSE)*12,0)","v":12264},"-1",4,null,-1]
[117,759262,{"$f":"ROUND(VLOOKUP(F121,[1]主表!$A:$B,2,FALSE)*[1]主表!$D$1*[1]升级!$AC$4*(1+VLOOKUP(F121,[1]主表!$A:$F,6,FALSE)),2)","v":665182.9},{"$f":"ROUND(VLOOKUP(F121,[1]主表!$A:$B,2,FALSE)*[1]主表!$D$1*[1]升级!$Z$4,2)","v":7229.87},{"$f":"ROUND(VLOOKUP(F121,[1]主表!$A:$B,2,FALSE)*[1]主表!$D$1*[1]升级!$W$4,2)","v":7229.87},234,235,"1001;1006","20856;12516",1001,{"$f":"ROUND(40*VLOOKUP(G121,[2]ResourceLevelConfig!$A:$H,3,FALSE)/20,0)","v":20856},1006,{"$f":"ROUND(VLOOKUP(G121,[2]ResourceLevelConfig!$A:$H,8,FALSE)*12,0)","v":12516},"-1",4,null,-1]
[118,820003,{"$f":"ROUND(VLOOKUP(F122,[1]主表!$A:$B,2,FALSE)*[1]主表!$D$1*[1]升级!$AC$4*(1+VLOOKUP(F122,[1]主表!$A:$F,6,FALSE)),2)","v":688812.75},{"$f":"ROUND(VLOOKUP(F122,[1]主表!$A:$B,2,FALSE)*[1]主表!$D$1*[1]升级!$Z$4,2)","v":7426.42},{"$f":"ROUND(VLOOKUP(F122,[1]主表!$A:$B,2,FALSE)*[1]主表!$D$1*[1]升级!$W$4,2)","v":7426.42},236,237,"1001;1006","21278;12768",1001,{"$f":"ROUND(40*VLOOKUP(G122,[2]ResourceLevelConfig!$A:$H,3,FALSE)/20,0)","v":21278},1006,{"$f":"ROUND(VLOOKUP(G122,[2]ResourceLevelConfig!$A:$H,8,FALSE)*12,0)","v":12768},"-1",4,null,-1]
[119,885603,{"$f":"ROUND(VLOOKUP(F123,[1]主表!$A:$B,2,FALSE)*[1]主表!$D$1*[1]升级!$AC$4*(1+VLOOKUP(F123,[1]主表!$A:$F,6,FALSE)),2)","v":713235.78},{"$f":"ROUND(VLOOKUP(F123,[1]主表!$A:$B,2,FALSE)*[1]主表!$D$1*[1]升级!$Z$4,2)","v":7628.31},{"$f":"ROUND(VLOOKUP(F123,[1]主表!$A:$B,2,FALSE)*[1]主表!$D$1*[1]升级!$W$4,2)","v":7628.31},238,239,"1001;1006","21708;13020",1001,{"$f":"ROUND(40*VLOOKUP(G123,[2]ResourceLevelConfig!$A:$H,3,FALSE)/20,0)","v":21708},1006,{"$f":"ROUND(VLOOKUP(G123,[2]ResourceLevelConfig!$A:$H,8,FALSE)*12,0)","v":13020},"-1",4,null,-1]
[120,956451,{"$f":"ROUND(VLOOKUP(F124,[1]主表!$A:$B,2,FALSE)*[1]主表!$D$1*[1]升级!$AC$4*(1+VLOOKUP(F124,[1]主表!$A:$F,6,FALSE)),2)","v":738477.65},{"$f":"ROUND(VLOOKUP(F124,[1]主表!$A:$B,2,FALSE)*[1]主表!$D$1*[1]升级!$Z$4,2)","v":7835.7},{"$f":"ROUND(VLOOKUP(F124,[1]主表!$A:$B,2,FALSE)*[1]主表!$D$1*[1]升级!$W$4,2)","v":7835.7},240,241,"1001;1006","22148;13284",1001,{"$f":"ROUND(40*VLOOKUP(G124,[2]ResourceLevelConfig!$A:$H,3,FALSE)/20,0)","v":22148},1006,{"$f":"ROUND(VLOOKUP(G124,[2]ResourceLevelConfig!$A:$H,8,FALSE)*12,0)","v":13284},{"$f":"_xlfn.TEXTJOIN(\";\",1,Q124:U124)","v":"-1;0;120;200;240"},5,null,-1,0,{"$f":"[1]抽卡!$V$10","v":120},{"$f":"[1]抽卡!$V$11","v":200},{"$f":"[1]抽卡!$V$12","v":240},7]
[121,1032967,{"$f":"ROUND(VLOOKUP(F125,[1]主表!$A:$B,2,FALSE)*[1]主表!$D$1*[1]升级!$AC$4*(1+VLOOKUP(F125,[1]主表!$A:$F,6,FALSE)),2)","v":980693.14},{"$f":"ROUND(VLOOKUP(F125,[1]主表!$A:$B,2,FALSE)*[1]主表!$D$1*[1]升级!$Z$4,2)","v":10323.94},{"$f":"ROUND(VLOOKUP(F125,[1]主表!$A:$B,2,FALSE)*[1]主表!$D$1*[1]升级!$W$4,2)","v":10323.94},242,243,"1001;1006","22596;13560",1001,{"$f":"ROUND(40*VLOOKUP(G125,[2]ResourceLevelConfig!$A:$H,3,FALSE)/20,0)","v":22596},1006,{"$f":"ROUND(VLOOKUP(G125,[2]ResourceLevelConfig!$A:$H,8,FALSE)*12,0)","v":13560},"-1",5,null,-1]
[122,1115604,{"$f":"ROUND(VLOOKUP(F126,[1]主表!$A:$B,2,FALSE)*[1]主表!$D$1*[1]升级!$AC$4*(1+VLOOKUP(F126,[1]主表!$A:$F,6,FALSE)),2)","v":1015273.98},{"$f":"ROUND(VLOOKUP(F126,[1]主表!$A:$B,2,FALSE)*[1]主表!$D$1*[1]升级!$Z$4,2)","v":10604.61},{"$f":"ROUND(VLOOKUP(F126,[1]主表!$A:$B,2,FALSE)*[1]主表!$D$1*[1]升级!$W$4,2)","v":10604.61},244,245,"1001;1006","23054;13836",1001,{"$f":"ROUND(40*VLOOKUP(G126,[2]ResourceLevelConfig!$A:$H,3,FALSE)/20,0)","v":23054},1006,{"$f":"ROUND(VLOOKUP(G126,[2]ResourceLevelConfig!$A:$H,8,FALSE)*12,0)","v":13836},"-1",5,null,-1]
[123,1204852,{"$f":"ROUND(VLOOKUP(F127,[1]主表!$A:$B,2,FALSE)*[1]主表!$D$1*[1]升级!$AC$4*(1+VLOOKUP(F127,[1]主表!$A:$F,6,FALSE)),2)","v":1051010.24},{"$f":"ROUND(VLOOKUP(F127,[1]主表!$A:$B,2,FALSE)*[1]主表!$D$1*[1]升级!$Z$4,2)","v":10892.9},{"$f":"ROUND(VLOOKUP(F127,[1]主表!$A:$B,2,FALSE)*[1]主表!$D$1*[1]升级!$W$4,2)","v":10892.9},246,247,"1001;1006","23520;14112",1001,{"$f":"ROUND(40*VLOOKUP(G127,[2]ResourceLevelConfig!$A:$H,3,FALSE)/20,0)","v":23520},1006,{"$f":"ROUND(VLOOKUP(G127,[2]ResourceLevelConfig!$A:$H,8,FALSE)*12,0)","v":14112},"-1",5,null,-1]
[124,1301240,{"$f":"ROUND(VLOOKUP(F128,[1]主表!$A:$B,2,FALSE)*[1]主表!$D$1*[1]升级!$AC$4*(1+VLOOKUP(F128,[1]主表!$A:$F,6,FALSE)),2)","v":1087939.19},{"$f":"ROUND(VLOOKUP(F128,[1]主表!$A:$B,2,FALSE)*[1]主表!$D$1*[1]升级!$Z$4,2)","v":11189.04},{"$f":"ROUND(VLOOKUP(F128,[1]主表!$A:$B,2,FALSE)*[1]主表!$D$1*[1]升级!$W$4,2)","v":11189.04},248,249,"1001;1006","23996;14400",1001,{"$f":"ROUND(40*VLOOKUP(G128,[2]ResourceLevelConfig!$A:$H,3,FALSE)/20,0)","v":23996},1006,{"$f":"ROUND(VLOOKUP(G128,[2]ResourceLevelConfig!$A:$H,8,FALSE)*12,0)","v":14400},"-1",5,null,-1]
[125,1405339,{"$f":"ROUND(VLOOKUP(F129,[1]主表!$A:$B,2,FALSE)*[1]主表!$D$1*[1]升级!$AC$4*(1+VLOOKUP(F129,[1]主表!$A:$F,6,FALSE)),2)","v":1126099.25},{"$f":"ROUND(VLOOKUP(F129,[1]主表!$A:$B,2,FALSE)*[1]主表!$D$1*[1]升级!$Z$4,2)","v":11493.22},{"$f":"ROUND(VLOOKUP(F129,[1]主表!$A:$B,2,FALSE)*[1]主表!$D$1*[1]升级!$W$4,2)","v":11493.22},250,251,"1001;1006","24482;14688",1001,{"$f":"ROUND(40*VLOOKUP(G129,[2]ResourceLevelConfig!$A:$H,3,FALSE)/20,0)","v":24482},1006,{"$f":"ROUND(VLOOKUP(G129,[2]ResourceLevelConfig!$A:$H,8,FALSE)*12,0)","v":14688},"-1",5,null,-1]
[126,1517766,{"$f":"ROUND(VLOOKUP(F130,[1]主表!$A:$B,2,FALSE)*[1]主表!$D$1*[1]升级!$AC$4*(1+VLOOKUP(F130,[1]主表!$A:$F,6,FALSE)),2)","v":1265003.24},{"$f":"ROUND(VLOOKUP(F130,[1]主表!$A:$B,2,FALSE)*[1]主表!$D$1*[1]升级!$Z$4,2)","v":12813.24},{"$f":"ROUND(VLOOKUP(F130,[1]主表!$A:$B,2,FALSE)*[1]主表!$D$1*[1]升级!$W$4,2)","v":12813.24},252,253,"1001;1006","24978;14988",1001,{"$f":"ROUND(40*VLOOKUP(G130,[2]ResourceLevelConfig!$A:$H,3,FALSE)/20,0)","v":24978},1006,{"$f":"ROUND(VLOOKUP(G130,[2]ResourceLevelConfig!$A:$H,8,FALSE)*12,0)","v":14988},"-1",5,null,-1]
[127,1639187,{"$f":"ROUND(VLOOKUP(F131,[1]主表!$A:$B,2,FALSE)*[1]主表!$D$1*[1]升级!$AC$4*(1+VLOOKUP(F131,[1]主表!$A:$F,6,FALSE)),2)","v":1309222.93},{"$f":"ROUND(VLOOKUP(F131,[1]主表!$A:$B,2,FALSE)*[1]主表!$D$1*[1]升级!$Z$4,2)","v":13161.58},{"$f":"ROUND(VLOOKUP(F131,[1]主表!$A:$B,2,FALSE)*[1]主表!$D$1*[1]升级!$W$4,2)","v":13161.58},254,255,"1001;1006","25484;15288",1001,{"$f":"ROUND(40*VLOOKUP(G131,[2]ResourceLevelConfig!$A:$H,3,FALSE)/20,0)","v":25484},1006,{"$f":"ROUND(VLOOKUP(G131,[2]ResourceLevelConfig!$A:$H,8,FALSE)*12,0)","v":15288},"-1",5,null,-1]
[128,1770322,{"$f":"ROUND(VLOOKUP(F132,[1]主表!$A:$B,2,FALSE)*[1]主表!$D$1*[1]升级!$AC$4*(1+VLOOKUP(F132,[1]主表!$A:$F,6,FALSE)),2)","v":1354911.99},{"$f":"ROUND(VLOOKUP(F132,[1]主表!$A:$B,2,FALSE)*[1]主表!$D$1*[1]升级!$Z$4,2)","v":13519.39},{"$f":"ROUND(VLOOKUP(F132,[1]主表!$A:$B,2,FALSE)*[1]主表!$D$1*[1]升级!$W$4,2)","v":13519.39},256,257,"1001;1006","25998;15600",1001,{"$f":"ROUND(40*VLOOKUP(G132,[2]ResourceLevelConfig!$A:$H,3,FALSE)/20,0)","v":25998},1006,{"$f":"ROUND(VLOOKUP(G132,[2]ResourceLevelConfig!$A:$H,8,FALSE)*12,0)","v":15600},"-1",5,null,-1]
[129,1911948,{"$f":"ROUND(VLOOKUP(F133,[1]主表!$A:$B,2,FALSE)*[1]主表!$D$1*[1]升级!$AC$4*(1+VLOOKUP(F133,[1]主表!$A:$F,6,FALSE)),2)","v":1402117.65},{"$f":"ROUND(VLOOKUP(F133,[1]主表!$A:$B,2,FALSE)*[1]主表!$D$1*[1]升级!$Z$4,2)","v":13886.93},{"$f":"ROUND(VLOOKUP(F133,[1]主表!$A:$B,2,FALSE)*[1]主表!$D$1*[1]升级!$W$4,2)","v":13886.93},258,259,"1001;1006","26526;15912",1001,{"$f":"ROUND(40*VLOOKUP(G133,[2]ResourceLevelConfig!$A:$H,3,FALSE)/20,0)","v":26526},1006,{"$f":"ROUND(VLOOKUP(G133,[2]ResourceLevelConfig!$A:$H,8,FALSE)*12,0)","v":15912},{"$f":"_xlfn.TEXTJOIN(\";\",1,Q133:U133)","v":"-1"},5,null,-1]
[130,2064904,{"$f":"ROUND(VLOOKUP(F134,[1]主表!$A:$B,2,FALSE)*[1]主表!$D$1*[1]升级!$AC$4*(1+VLOOKUP(F134,[1]主表!$A:$F,6,FALSE)),2)","v":1450888.58},{"$f":"ROUND(VLOOKUP(F134,[1]主表!$A:$B,2,FALSE)*[1]主表!$D$1*[1]升级!$Z$4,2)","v":14264.46},{"$f":"ROUND(VLOOKUP(F134,[1]主表!$A:$B,2,FALSE)*[1]主表!$D$1*[1]升级!$W$4,2)","v":14264.46},260,261,"1001;1006","27062;16236",1001,{"$f":"ROUND(40*VLOOKUP(G134,[2]ResourceLevelConfig!$A:$H,3,FALSE)/20,0)","v":27062},1006,{"$f":"ROUND(VLOOKUP(G134,[2]ResourceLevelConfig!$A:$H,8,FALSE)*12,0)","v":16236},"-1",5,null,-1,{"$nulls":4},5]
[131,2230096,{"$f":"ROUND(VLOOKUP(F135,[1]主表!$A:$B,2,FALSE)*[1]主表!$D$1*[1]升级!$AC$4*(1+VLOOKUP(F135,[1]主表!$A:$F,6,FALSE)),2)","v":1629402.59},{"$f":"ROUND(VLOOKUP(F135,[1]主表!$A:$B,2,FALSE)*[1]主表!$D$1*[1]升级!$Z$4,2)","v":15902.76},{"$f":"ROUND(VLOOKUP(F135,[1]主表!$A:$B,2,FALSE)*[1]主表!$D$1*[1]升级!$W$4,2)","v":15902.76},262,263,"1001;1006","27610;16560",1001,{"$f":"ROUND(40*VLOOKUP(G135,[2]ResourceLevelConfig!$A:$H,3,FALSE)/20,0)","v":27610},1006,{"$f":"ROUND(VLOOKUP(G135,[2]ResourceLevelConfig!$A:$H,8,FALSE)*12,0)","v":16560},"-1",5,null,-1]
[132,2408504,{"$f":"ROUND(VLOOKUP(F136,[1]主表!$A:$B,2,FALSE)*[1]主表!$D$1*[1]升级!$AC$4*(1+VLOOKUP(F136,[1]主表!$A:$F,6,FALSE)),2)","v":1685898.88},{"$f":"ROUND(VLOOKUP(F136,[1]主表!$A:$B,2,FALSE)*[1]主表!$D$1*[1]升级!$Z$4,2)","v":16335.09},{"$f":"ROUND(VLOOKUP(F136,[1]主表!$A:$B,2,FALSE)*[1]主表!$D$1*[1]升级!$W$4,2)","v":16335.09},264,265,"1001;1006","28168;16896",1001,{"$f":"ROUND(40*VLOOKUP(G136,[2]ResourceLevelConfig!$A:$H,3,FALSE)/20,0)","v":28168},1006,{"$f":"ROUND(VLOOKUP(G136,[2]ResourceLevelConfig!$A:$H,8,FALSE)*12,0)","v":16896},"-1",5,null,-1]
[133,2601184,{"$f":"ROUND(VLOOKUP(F137,[1]主表!$A:$B,2,FALSE)*[1]主表!$D$1*[1]升级!$AC$4*(1+VLOOKUP(F137,[1]主表!$A:$F,6,FALSE)),2)","v":1744262.72},{"$f":"ROUND(VLOOKUP(F137,[1]主表!$A:$B,2,FALSE)*[1]主表!$D$1*[1]升级!$Z$4,2)","v":16779.18},{"$f":"ROUND(VLOOKUP(F137,[1]主表!$A:$B,2,FALSE)*[1]主表!$D$1*[1]升级!$W$4,2)","v":16779.18},266,267,"1001;1006","28738;17244",1001,{"$f":"ROUND(40*VLOOKUP(G137,[2]ResourceLevelConfig!$A:$H,3,FALSE)/20,0)","v":28738},1006,{"$f":"ROUND(VLOOKUP(G137,[2]ResourceLevelConfig!$A:$H,8,FALSE)*12,0)","v":17244},"-1",5,null,-1]
[134,2809279,{"$f":"ROUND(VLOOKUP(F138,[1]主表!$A:$B,2,FALSE)*[1]主表!$D$1*[1]升级!$AC$4*(1+VLOOKUP(F138,[1]主表!$A:$F,6,FALSE)),2)","v":1804553.91},{"$f":"ROUND(VLOOKUP(F138,[1]主表!$A:$B,2,FALSE)*[1]主表!$D$1*[1]升级!$Z$4,2)","v":17235.330000000002},{"$f":"ROUND(VLOOKUP(F138,[1]主表!$A:$B,2,FALSE)*[1]主表!$D$1*[1]升级!$W$4,2)","v":17235.330000000002},268,269,"1001;1006","29320;17592",1001,{"$f":"ROUND(40*VLOOKUP(G138,[2]ResourceLevelConfig!$A:$H,3,FALSE)/20,0)","v":29320},1006,{"$f":"ROUND(VLOOKUP(G138,[2]ResourceLevelConfig!$A:$H,8,FALSE)*12,0)","v":17592},"-1",5,null,-1]
[135,3034021,{"$f":"ROUND(VLOOKUP(F139,[1]主表!$A:$B,2,FALSE)*[1]主表!$D$1*[1]升级!$AC$4*(1+VLOOKUP(F139,[1]主表!$A:$F,6,FALSE)),2)","v":1866834.1},{"$f":"ROUND(VLOOKUP(F139,[1]主表!$A:$B,2,FALSE)*[1]主表!$D$1*[1]升级!$Z$4,2)","v":17703.89},{"$f":"ROUND(VLOOKUP(F139,[1]主表!$A:$B,2,FALSE)*[1]主表!$D$1*[1]升级!$W$4,2)","v":17703.89},270,271,"1001;1006","29914;17952",1001,{"$f":"ROUND(40*VLOOKUP(G139,[2]ResourceLevelConfig!$A:$H,3,FALSE)/20,0)","v":29914},1006,{"$f":"ROUND(VLOOKUP(G139,[2]ResourceLevelConfig!$A:$H,8,FALSE)*12,0)","v":17952},"-1",5,null,-1]
[136,3276743,{"$f":"ROUND(VLOOKUP(F140,[1]主表!$A:$B,2,FALSE)*[1]主表!$D$1*[1]升级!$AC$4*(1+VLOOKUP(F140,[1]主表!$A:$F,6,FALSE)),2)","v":2477071.9500000002},{"$f":"ROUND(VLOOKUP(F140,[1]主表!$A:$B,2,FALSE)*[1]主表!$D$1*[1]升级!$Z$4,2)","v":23325.81},{"$f":"ROUND(VLOOKUP(F140,[1]主表!$A:$B,2,FALSE)*[1]主表!$D$1*[1]升级!$W$4,2)","v":23325.81},272,273,"1001;1006","30520;18312",1001,{"$f":"ROUND(40*VLOOKUP(G140,[2]ResourceLevelConfig!$A:$H,3,FALSE)/20,0)","v":30520},1006,{"$f":"ROUND(VLOOKUP(G140,[2]ResourceLevelConfig!$A:$H,8,FALSE)*12,0)","v":18312},"-1",5,null,-1]
[137,3538882,{"$f":"ROUND(VLOOKUP(F141,[1]主表!$A:$B,2,FALSE)*[1]主表!$D$1*[1]升级!$AC$4*(1+VLOOKUP(F141,[1]主表!$A:$F,6,FALSE)),2)","v":2562307.35},{"$f":"ROUND(VLOOKUP(F141,[1]主表!$A:$B,2,FALSE)*[1]主表!$D$1*[1]升级!$Z$4,2)","v":23959.94},{"$f":"ROUND(VLOOKUP(F141,[1]主表!$A:$B,2,FALSE)*[1]主表!$D$1*[1]升级!$W$4,2)","v":23959.94},274,275,"1001;1006","31138;18684",1001,{"$f":"ROUND(40*VLOOKUP(G141,[2]ResourceLevelConfig!$A:$H,3,FALSE)/20,0)","v":31138},1006,{"$f":"ROUND(VLOOKUP(G141,[2]ResourceLevelConfig!$A:$H,8,FALSE)*12,0)","v":18684},"-1",5,null,-1]
[138,3821993,{"$f":"ROUND(VLOOKUP(F142,[1]主表!$A:$B,2,FALSE)*[1]主表!$D$1*[1]升级!$AC$4*(1+VLOOKUP(F142,[1]主表!$A:$F,6,FALSE)),2)","v":2650346.41},{"$f":"ROUND(VLOOKUP(F142,[1]主表!$A:$B,2,FALSE)*[1]主表!$D$1*[1]升级!$Z$4,2)","v":24611.31},{"$f":"ROUND(VLOOKUP(F142,[1]主表!$A:$B,2,FALSE)*[1]主表!$D$1*[1]升级!$W$4,2)","v":24611.31},276,277,"1001;1006","31768;19056",1001,{"$f":"ROUND(40*VLOOKUP(G142,[2]ResourceLevelConfig!$A:$H,3,FALSE)/20,0)","v":31768},1006,{"$f":"ROUND(VLOOKUP(G142,[2]ResourceLevelConfig!$A:$H,8,FALSE)*12,0)","v":19056},"-1",5,null,-1]
[139,4127752,{"$f":"ROUND(VLOOKUP(F143,[1]主表!$A:$B,2,FALSE)*[1]主表!$D$1*[1]升级!$AC$4*(1+VLOOKUP(F143,[1]主表!$A:$F,6,FALSE)),2)","v":2741278.59},{"$f":"ROUND(VLOOKUP(F143,[1]主表!$A:$B,2,FALSE)*[1]主表!$D$1*[1]升级!$Z$4,2)","v":25280.400000000001},{"$f":"ROUND(VLOOKUP(F143,[1]主表!$A:$B,2,FALSE)*[1]主表!$D$1*[1]升级!$W$4,2)","v":25280.400000000001},278,279,"1001;1006","32410;19452",1001,{"$f":"ROUND(40*VLOOKUP(G143,[2]ResourceLevelConfig!$A:$H,3,FALSE)/20,0)","v":32410},1006,{"$f":"ROUND(VLOOKUP(G143,[2]ResourceLevelConfig!$A:$H,8,FALSE)*12,0)","v":19452},"-1",5,null,-1]
[140,4457972,{"$f":"ROUND(VLOOKUP(F144,[1]主表!$A:$B,2,FALSE)*[1]主表!$D$1*[1]升级!$AC$4*(1+VLOOKUP(F144,[1]主表!$A:$F,6,FALSE)),2)","v":2835196.12},{"$f":"ROUND(VLOOKUP(F144,[1]主表!$A:$B,2,FALSE)*[1]主表!$D$1*[1]升级!$Z$4,2)","v":25967.67},{"$f":"ROUND(VLOOKUP(F144,[1]主表!$A:$B,2,FALSE)*[1]主表!$D$1*[1]升级!$W$4,2)","v":25967.67},280,281,"1001;1006","33066;19836",1001,{"$f":"ROUND(40*VLOOKUP(G144,[2]ResourceLevelConfig!$A:$H,3,FALSE)/20,0)","v":33066},1006,{"$f":"ROUND(VLOOKUP(G144,[2]ResourceLevelConfig!$A:$H,8,FALSE)*12,0)","v":19836},"-1",5,null,-1,{"$nulls":4},4]
[141,4814610,{"$f":"ROUND(VLOOKUP(F145,[1]主表!$A:$B,2,FALSE)*[1]主表!$D$1*[1]升级!$AC$4*(1+VLOOKUP(F145,[1]主表!$A:$F,6,FALSE)),2)","v":3182444.69},{"$f":"ROUND(VLOOKUP(F145,[1]主表!$A:$B,2,FALSE)*[1]主表!$D$1*[1]升级!$Z$4,2)","v":28950.11},{"$f":"ROUND(VLOOKUP(F145,[1]主表!$A:$B,2,FALSE)*[1]主表!$D$1*[1]升级!$W$4,2)","v":28950.11},282,283,"1001;1006","33736;20244",1001,{"$f":"ROUND(40*VLOOKUP(G145,[2]ResourceLevelConfig!$A:$H,3,FALSE)/20,0)","v":33736},1006,{"$f":"ROUND(VLOOKUP(G145,[2]ResourceLevelConfig!$A:$H,8,FALSE)*12,0)","v":20244},"-1",5,null,-1]
[142,5199779,{"$f":"ROUND(VLOOKUP(F146,[1]主表!$A:$B,2,FALSE)*[1]主表!$D$1*[1]升级!$AC$4*(1+VLOOKUP(F146,[1]主表!$A:$F,6,FALSE)),2)","v":3291170.87},{"$f":"ROUND(VLOOKUP(F146,[1]主表!$A:$B,2,FALSE)*[1]主表!$D$1*[1]升级!$Z$4,2)","v":29737.14},{"$f":"ROUND(VLOOKUP(F146,[1]主表!$A:$B,2,FALSE)*[1]主表!$D$1*[1]升级!$W$4,2)","v":29737.14},284,285,"1001;1006","34418;20652",1001,{"$f":"ROUND(40*VLOOKUP(G146,[2]ResourceLevelConfig!$A:$H,3,FALSE)/20,0)","v":34418},1006,{"$f":"ROUND(VLOOKUP(G146,[2]ResourceLevelConfig!$A:$H,8,FALSE)*12,0)","v":20652},"-1",5,null,-1]
[143,5615761,{"$f":"ROUND(VLOOKUP(F147,[1]主表!$A:$B,2,FALSE)*[1]主表!$D$1*[1]升级!$AC$4*(1+VLOOKUP(F147,[1]主表!$A:$F,6,FALSE)),2)","v":3403456.63},{"$f":"ROUND(VLOOKUP(F147,[1]主表!$A:$B,2,FALSE)*[1]主表!$D$1*[1]升级!$Z$4,2)","v":30545.58},{"$f":"ROUND(VLOOKUP(F147,[1]主表!$A:$B,2,FALSE)*[1]主表!$D$1*[1]升级!$W$4,2)","v":30545.58},286,287,"1001;1006","35116;21072",1001,{"$f":"ROUND(40*VLOOKUP(G147,[2]ResourceLevelConfig!$A:$H,3,FALSE)/20,0)","v":35116},1006,{"$f":"ROUND(VLOOKUP(G147,[2]ResourceLevelConfig!$A:$H,8,FALSE)*12,0)","v":21072},"-1",5,null,-1]
[144,6065022,{"$f":"ROUND(VLOOKUP(F148,[1]主表!$A:$B,2,FALSE)*[1]主表!$D$1*[1]升级!$AC$4*(1+VLOOKUP(F148,[1]主表!$A:$F,6,FALSE)),2)","v":3519415.15},{"$f":"ROUND(VLOOKUP(F148,[1]主表!$A:$B,2,FALSE)*[1]主表!$D$1*[1]升级!$Z$4,2)","v":31375.99},{"$f":"ROUND(VLOOKUP(F148,[1]主表!$A:$B,2,FALSE)*[1]主表!$D$1*[1]升级!$W$4,2)","v":31375.99},288,289,"1001;1006","35826;21492",1001,{"$f":"ROUND(40*VLOOKUP(G148,[2]ResourceLevelConfig!$A:$H,3,FALSE)/20,0)","v":35826},1006,{"$f":"ROUND(VLOOKUP(G148,[2]ResourceLevelConfig!$A:$H,8,FALSE)*12,0)","v":21492},"-1",5,null,-1]
[145,6550224,{"$f":"ROUND(VLOOKUP(F149,[1]主表!$A:$B,2,FALSE)*[1]主表!$D$1*[1]升级!$AC$4*(1+VLOOKUP(F149,[1]主表!$A:$F,6,FALSE)),2)","v":3639163.15},{"$f":"ROUND(VLOOKUP(F149,[1]主表!$A:$B,2,FALSE)*[1]主表!$D$1*[1]升级!$Z$4,2)","v":32228.97},{"$f":"ROUND(VLOOKUP(F149,[1]主表!$A:$B,2,FALSE)*[1]主表!$D$1*[1]升级!$W$4,2)","v":32228.97},290,291,"1001;1006","36550;21936",1001,{"$f":"ROUND(40*VLOOKUP(G149,[2]ResourceLevelConfig!$A:$H,3,FALSE)/20,0)","v":36550},1006,{"$f":"ROUND(VLOOKUP(G149,[2]ResourceLevelConfig!$A:$H,8,FALSE)*12,0)","v":21936},"-1",5,null,-1]
[146,7074242,{"$f":"ROUND(VLOOKUP(F150,[1]主表!$A:$B,2,FALSE)*[1]主表!$D$1*[1]升级!$AC$4*(1+VLOOKUP(F150,[1]主表!$A:$F,6,FALSE)),2)","v":4083962.1},{"$f":"ROUND(VLOOKUP(F150,[1]主表!$A:$B,2,FALSE)*[1]主表!$D$1*[1]升级!$Z$4,2)","v":35930.54},{"$f":"ROUND(VLOOKUP(F150,[1]主表!$A:$B,2,FALSE)*[1]主表!$D$1*[1]升级!$W$4,2)","v":35930.54},292,293,"1001;1006","37290;22380",1001,{"$f":"ROUND(40*VLOOKUP(G150,[2]ResourceLevelConfig!$A:$H,3,FALSE)/20,0)","v":37290},1006,{"$f":"ROUND(VLOOKUP(G150,[2]ResourceLevelConfig!$A:$H,8,FALSE)*12,0)","v":22380},"-1",5,null,-1]
[147,7640181,{"$f":"ROUND(VLOOKUP(F151,[1]主表!$A:$B,2,FALSE)*[1]主表!$D$1*[1]升级!$AC$4*(1+VLOOKUP(F151,[1]主表!$A:$F,6,FALSE)),2)","v":4222551.75},{"$f":"ROUND(VLOOKUP(F151,[1]主表!$A:$B,2,FALSE)*[1]主表!$D$1*[1]升级!$Z$4,2)","v":36907.339999999997},{"$f":"ROUND(VLOOKUP(F151,[1]主表!$A:$B,2,FALSE)*[1]主表!$D$1*[1]升级!$W$4,2)","v":36907.339999999997},294,295,"1001;1006","38046;22824",1001,{"$f":"ROUND(40*VLOOKUP(G151,[2]ResourceLevelConfig!$A:$H,3,FALSE)/20,0)","v":38046},1006,{"$f":"ROUND(VLOOKUP(G151,[2]ResourceLevelConfig!$A:$H,8,FALSE)*12,0)","v":22824},"-1",5,null,-1]
[148,8251395,{"$f":"ROUND(VLOOKUP(F152,[1]主表!$A:$B,2,FALSE)*[1]主表!$D$1*[1]升级!$AC$4*(1+VLOOKUP(F152,[1]主表!$A:$F,6,FALSE)),2)","v":4365658.4400000004},{"$f":"ROUND(VLOOKUP(F152,[1]主表!$A:$B,2,FALSE)*[1]主表!$D$1*[1]升级!$Z$4,2)","v":37910.699999999997},{"$f":"ROUND(VLOOKUP(F152,[1]主表!$A:$B,2,FALSE)*[1]主表!$D$1*[1]升级!$W$4,2)","v":37910.699999999997},296,297,"1001;1006","38816;23292",1001,{"$f":"ROUND(40*VLOOKUP(G152,[2]ResourceLevelConfig!$A:$H,3,FALSE)/20,0)","v":38816},1006,{"$f":"ROUND(VLOOKUP(G152,[2]ResourceLevelConfig!$A:$H,8,FALSE)*12,0)","v":23292},"-1",5,null,-1]
[149,8911507,{"$f":"ROUND(VLOOKUP(F153,[1]主表!$A:$B,2,FALSE)*[1]主表!$D$1*[1]升级!$AC$4*(1+VLOOKUP(F153,[1]主表!$A:$F,6,FALSE)),2)","v":4513425.32},{"$f":"ROUND(VLOOKUP(F153,[1]主表!$A:$B,2,FALSE)*[1]主表!$D$1*[1]升级!$Z$4,2)","v":38941.339999999997},{"$f":"ROUND(VLOOKUP(F153,[1]主表!$A:$B,2,FALSE)*[1]主表!$D$1*[1]升级!$W$4,2)","v":38941.339999999997},298,299,"1001;1006","39602;23760",1001,{"$f":"ROUND(40*VLOOKUP(G153,[2]ResourceLevelConfig!$A:$H,3,FALSE)/20,0)","v":39602},1006,{"$f":"ROUND(VLOOKUP(G153,[2]ResourceLevelConfig!$A:$H,8,FALSE)*12,0)","v":23760},{"$f":"_xlfn.TEXTJOIN(\";\",1,Q153:U153)","v":"-1"},5,null,-1]
[150,9624428,{"$f":"ROUND(VLOOKUP(F154,[1]主表!$A:$B,2,FALSE)*[1]主表!$D$1*[1]升级!$AC$4*(1+VLOOKUP(F154,[1]主表!$A:$F,6,FALSE)),2)","v":4666000.01},{"$f":"ROUND(VLOOKUP(F154,[1]主表!$A:$B,2,FALSE)*[1]主表!$D$1*[1]升级!$Z$4,2)","v":40000},{"$f":"ROUND(VLOOKUP(F154,[1]主表!$A:$B,2,FALSE)*[1]主表!$D$1*[1]升级!$W$4,2)","v":40000},300,999,"1001;1006",{"$error":"#N/A"},1001,999999,1006,{"$f":"ROUND(VLOOKUP(G154,[2]ResourceLevelConfig!$A:$H,8,FALSE)*20,0)","v":{"$error":"#N/A"}},{"$f":"_xlfn.TEXTJOIN(\";\",1,Q154:U154)","v":"-1;0;150;250;300"},6,null,-1,0,{"$f":"[1]抽卡!$W$10","v":150},{"$f":"[1]抽卡!$W$11","v":250},{"$f":"[1]抽卡!$W$12","v":300}]