{"text_format":"2","workbook":"xlsx","n_sheets":1,"sheets":["MonsterPowerUpConfig"],"not_rendered":{"charts":0,"images":0,"macros":0,"external_links":1,"defined_names":1,"comments":0,"pivot_tables":0},"unopened":[],"bounds":{"document_bytes":16777216,"sheet_cells":100000,"run_cost":"one","rows_first":2000,"rows_last":500,"rows_between":2000,"halvings":0,"cell_chars":16384,"cell_head_chars":4096},"cells_cut":0,"cells_raw":0,"read":"whole","date_system":"1900"}

{"sheet":"MonsterPowerUpConfig","index":0,"n_rows":304,"n_cols":19,"rows_kept":304,"cut":false,"hidden":false,"merged":[]}
["ID","HeroLevel","jingjie1","jingjie2","jingjie3",null,null,null,"HPFactor","ATKFactor","DEFFactor","MPFactor","HudunFactor","defK","GongfaLv","GongfaStar","FabaoLv","FabaoStar","LinggenUp"]
["int","int","int","int","int",null,null,null,"float","float","float","float","float","int","int","int","int","int","float"]
[]
["ID","玩家修为境界（等级）","大境界ID","中境界ID","小境界ID","境界名称1","境界名称2","境界名称3","生命倍率","攻击倍率","防御倍率","法力倍率","护盾倍率","防御系数K","功法等级","功法星级","法宝等级","法宝星级","灵根成长率\n100=100%"]
[1,1,1,1,{"$f":"H5","v":1},"筑基期","前",1,{"$f":"[1]主表!$K3*20","v":20.06666666666667},{"$f":"[1]主表!$M3","v":1.01},{"$f":"[1]主表!$L3","v":1.01},1,{"$f":"[1]主表!$N3","v":0},{"$f":"[1]主表!$F3","v":100},1,1,1,1,100]
[2,2,1,1,{"$f":"H6","v":2},"筑基期","前",2,{"$f":"[1]主表!$K4*20","v":20.946719999999999},{"$f":"[1]主表!$M4","v":1.0404},{"$f":"[1]主表!$L4","v":1.0404},1,{"$f":"[1]主表!$N4","v":0},{"$f":"[1]主表!$F4","v":102},1,1,1,1,100.2]
[3,3,1,1,3,"筑基期","前",3,{"$f":"[1]主表!$K5*20","v":21.63824},{"$f":"[1]主表!$M5","v":1.0712000000000002},{"$f":"[1]主表!$L5","v":1.0712000000000002},1,{"$f":"[1]主表!$N5","v":0},{"$f":"[1]主表!$F5","v":104},1,1,1,1,100.4]
[4,4,1,1,4,"筑基期","前",4,{"$f":"[1]主表!$K6*20","v":22.341973333333335},{"$f":"[1]主表!$M6","v":1.1024},{"$f":"[1]主表!$L6","v":1.1024},1,{"$f":"[1]主表!$N6","v":0},{"$f":"[1]主表!$F6","v":106},1,1,1,1,100.6]
[5,5,1,1,5,"筑基期","前",5,{"$f":"[1]主表!$K7*20","v":23.057999999999996},{"$f":"[1]主表!$M7","v":1.1340000000000001},{"$f":"[1]主表!$L7","v":1.1340000000000001},1,{"$f":"[1]主表!$N7","v":0},{"$f":"[1]主表!$F7","v":108},1,1,1,1,100.8]
[6,6,1,1,6,"筑基期","前",6,{"$f":"[1]主表!$K8*20","v":23.931972767999994},{"$f":"[1]主表!$M8","v":1.1731359199999998},{"$f":"[1]主表!$L8","v":1.1731359199999998},1,{"$f":"[1]主表!$N8","v":0},{"$f":"[1]主表!$F8","v":111},2,1,1,1,101]
[7,7,1,1,7,"筑基期","前",7,{"$f":"[1]主表!$K9*20","v":24.827466914133339},{"$f":"[1]主表!$M9","v":1.213068416},{"$f":"[1]主表!$L9","v":1.213068416},1,{"$f":"[1]主表!$N9","v":0},{"$f":"[1]主表!$F9","v":113},2,1,1,1,101.2]
[8,8,1,1,8,"筑基期","前",8,{"$f":"[1]主表!$K10*20","v":25.7447925504},{"$f":"[1]主表!$M10","v":1.2538048319999999},{"$f":"[1]主表!$L10","v":1.2538048319999999},1,{"$f":"[1]主表!$N10","v":0},{"$f":"[1]主表!$F10","v":116},2,1,1,1,101.4]
[9,9,1,1,9,"筑基期","前",9,{"$f":"[1]主表!$K11*20","v":26.684261747200008},{"$f":"[1]主表!$M11","v":1.2953525120000002},{"$f":"[1]主表!$L11","v":1.2953525120000002},1,{"$f":"[1]主表!$N11","v":0},{"$f":"[1]主表!$F11","v":119},2,1,1,1,101.6]
[10,10,1,1,10,"筑基期","前",10,{"$f":"[1]主表!$K12*20","v":28.58334746666667},{"$f":"[1]主表!$M12","v":1.3830652000000001},{"$f":"[1]主表!$L12","v":1.3830652000000001},1,{"$f":"[1]主表!$N12","v":0},{"$f":"[1]主表!$F12","v":126},2,1,1,1,101.8]
[11,11,1,2,1,"筑基期","中",1,{"$f":"[1]主表!$K13*20","v":29.58525185920001},{"$f":"[1]主表!$M13","v":1.4269414080000002},{"$f":"[1]主表!$L13","v":1.4269414080000002},1,{"$f":"[1]主表!$N13","v":0},{"$f":"[1]主表!$F13","v":129},3,1,{"$f":"Q5+1","v":2},1,102]
[12,12,1,2,2,"筑基期","中",2,{"$f":"[1]主表!$K14*20","v":30.610440806400003},{"$f":"[1]主表!$M14","v":1.4716558080000002},{"$f":"[1]主表!$L14","v":1.4716558080000002},1,{"$f":"[1]主表!$N14","v":0},{"$f":"[1]主表!$F14","v":131},3,1,{"$f":"Q6+1","v":2},1,102.2]
[13,13,1,2,3,"筑基期","中",3,{"$f":"[1]主表!$K15*20","v":31.65923519146666},{"$f":"[1]主表!$M15","v":1.5172157439999998},{"$f":"[1]主表!$L15","v":1.5172157439999998},1,{"$f":"[1]主表!$N15","v":0},{"$f":"[1]主表!$F15","v":134},3,1,2,1,102.4]
[14,14,1,2,4,"筑基期","中",4,{"$f":"[1]主表!$K16*20","v":32.731957856000008},{"$f":"[1]主表!$M16","v":1.5636285600000002},{"$f":"[1]主表!$L16","v":1.5636285600000002},1,{"$f":"[1]主表!$N16","v":0},{"$f":"[1]主表!$F16","v":137},3,1,2,1,102.6]
[15,15,1,2,5,"筑基期","中",5,{"$f":"[1]主表!$K17*20","v":33.828933599999999},{"$f":"[1]主表!$M17","v":1.6109015999999996},{"$f":"[1]主表!$L17","v":1.6109015999999996},1,{"$f":"[1]主表!$N17","v":0},{"$f":"[1]主表!$F17","v":140},3,1,2,1,102.8]
[16,16,1,2,6,"筑基期","中",6,{"$f":"[1]主表!$K18*20","v":34.950489181866665},{"$f":"[1]主表!$M18","v":1.6590422079999998},{"$f":"[1]主表!$L18","v":1.6590422079999998},1,{"$f":"[1]主表!$N18","v":0},{"$f":"[1]主表!$F18","v":143},4,1,2,1,103]
[17,17,1,2,7,"筑基期","中",7,{"$f":"[1]主表!$K19*20","v":36.096953318399997},{"$f":"[1]主表!$M19","v":1.7080577279999998},{"$f":"[1]主表!$L19","v":1.7080577279999998},1,{"$f":"[1]主表!$N19","v":0},{"$f":"[1]主表!$F19","v":146},4,1,2,1,103.2]
[18,18,1,2,8,"筑基期","中",8,{"$f":"[1]主表!$K20*20","v":37.2686566848},{"$f":"[1]主表!$M20","v":1.7579555039999997},{"$f":"[1]主表!$L20","v":1.7579555039999997},1,{"$f":"[1]主表!$N20","v":0},{"$f":"[1]主表!$F20","v":149},4,1,2,1,103.4]
[19,19,1,2,9,"筑基期","中",9,{"$f":"[1]主表!$K21*20","v":38.465931914666662},{"$f":"[1]主表!$M21","v":1.8087428800000001},{"$f":"[1]主表!$L21","v":1.8087428800000001},1,{"$f":"[1]主表!$N21","v":0},{"$f":"[1]主表!$F21","v":152},4,1,2,1,103.6]
[20,20,1,2,10,"筑基期","中",10,{"$f":"[1]主表!$K22*20","v":41.925119999999993},{"$f":"[1]主表!$M22","v":1.9652399999999997},{"$f":"[1]主表!$L22","v":1.9652399999999997},1,{"$f":"[1]主表!$N22","v":0},{"$f":"[1]主表!$F22","v":164},4,1,2,1,103.8]
[21,21,1,3,1,"筑基期","后",1,{"$f":"[1]主表!$K23*20","v":43.212901529599996},{"$f":"[1]主表!$M23","v":2.0192944639999997},{"$f":"[1]主表!$L23","v":2.0192944639999997},1,{"$f":"[1]主表!$N23","v":0},{"$f":"[1]主表!$F23","v":167},5,1,3,1,104]
[22,22,1,3,2,"筑基期","后",2,{"$f":"[1]主表!$K24*20","v":44.527670222933331},{"$f":"[1]主表!$M24","v":2.0742703519999997},{"$f":"[1]主表!$L24","v":2.0742703519999997},1,{"$f":"[1]主表!$N24","v":0},{"$f":"[1]主表!$F24","v":170},5,1,3,1,104.2]
[23,23,1,3,3,"筑基期","后",3,{"$f":"[1]主表!$K25*20","v":46.457842460799995},{"$f":"[1]主表!$M25","v":2.1574849440000001},{"$f":"[1]主表!$L25","v":2.1574849440000001},1,{"$f":"[1]主表!$N25","v":0},{"$f":"[1]主表!$F25","v":175},5,1,3,1,104.4]
[24,24,1,3,4,"筑基期","后",4,{"$f":"[1]主表!$K26*20","v":47.837509632},{"$f":"[1]主表!$M26","v":2.2146995199999999},{"$f":"[1]主表!$L26","v":2.2146995199999999},1,{"$f":"[1]主表!$N26","v":0},{"$f":"[1]主表!$F26","v":179},5,1,3,1,104.6]
[25,25,1,3,5,"筑基期","后",5,{"$f":"[1]主表!$K27*20","v":49.2453},{"$f":"[1]主表!$M27","v":2.2728600000000001},{"$f":"[1]主表!$L27","v":2.2728600000000001},1,{"$f":"[1]主表!$N27","v":0},{"$f":"[1]主表!$F27","v":182},5,1,3,1,104.8]
[26,26,1,3,6,"筑基期","后",6,{"$f":"[1]主表!$K28*20","v":51.299630188800009},{"$f":"[1]主表!$M28","v":2.3604124319999999},{"$f":"[1]主表!$L28","v":2.3604124319999999},1,{"$f":"[1]主表!$N28","v":0},{"$f":"[1]主表!$F28","v":187},6,1,3,1,105]
[27,27,1,3,7,"筑基期","后",7,{"$f":"[1]主表!$K29*20","v":52.774920307200013},{"$f":"[1]主表!$M29","v":2.4208679040000001},{"$f":"[1]主表!$L29","v":2.4208679040000001},1,{"$f":"[1]主表!$N29","v":0},{"$f":"[1]主表!$F29","v":191},6,1,3,1,105.2]
[28,28,1,3,8,"筑基期","后",8,{"$f":"[1]主表!$K30*20","v":54.279490218666673},{"$f":"[1]主表!$M30","v":2.4822937600000001},{"$f":"[1]主表!$L30","v":2.4822937600000001},1,{"$f":"[1]主表!$N30","v":0},{"$f":"[1]主表!$F30","v":194},6,1,3,1,105.4]
[29,29,1,3,9,"筑基期","后",9,{"$f":"[1]主表!$K31*20","v":56.462691532799994},{"$f":"[1]主表!$M31","v":2.5742868479999998},{"$f":"[1]主表!$L31","v":2.5742868479999998},1,{"$f":"[1]主表!$N31","v":0},{"$f":"[1]主表!$F31","v":200},6,1,3,1,105.6]
[30,30,1,3,10,"筑基期","后",10,{"$f":"[1]主表!$K32*20","v":64.63256800000002},{"$f":"[1]主表!$M32","v":2.9378440000000001},{"$f":"[1]主表!$L32","v":2.9378440000000001},1,{"$f":"[1]主表!$N32","v":0},{"$f":"[1]主表!$F32","v":226},6,1,3,1,105.8]
[31,31,2,4,1,"金丹期","前",1,{"$f":"[1]主表!$K33*20","v":67.014136426666681},{"$f":"[1]主表!$M33","v":3.0368944},{"$f":"[1]主表!$L33","v":3.0368944},1,{"$f":"[1]主表!$N33","v":0},{"$f":"[1]主表!$F33","v":232},7,1,4,1,106]
[32,32,2,4,2,"金丹期","前",2,{"$f":"[1]主表!$K34*20","v":69.449049753600008},{"$f":"[1]主表!$M34","v":3.1377582720000006},{"$f":"[1]主表!$L34","v":3.1377582720000006},1,{"$f":"[1]主表!$N34","v":0},{"$f":"[1]主表!$F34","v":238},7,1,4,1,106.2]
[33,33,2,4,3,"金丹期","前",3,{"$f":"[1]主表!$K35*20","v":71.246285241600006},{"$f":"[1]主表!$M35","v":3.209292128},{"$f":"[1]主表!$L35","v":3.209292128},1,{"$f":"[1]主表!$N35","v":0},{"$f":"[1]主表!$F35","v":241},7,1,4,1,106.4]
[34,34,2,4,4,"金丹期","前",4,{"$f":"[1]主表!$K36*20","v":73.779012832000006},{"$f":"[1]主表!$M36","v":3.3134287200000005},{"$f":"[1]主表!$L36","v":3.3134287200000005},1,{"$f":"[1]主表!$N36","v":0},{"$f":"[1]主表!$F36","v":247},7,1,4,1,106.6]
[35,35,2,4,5,"金丹期","前",5,{"$f":"[1]主表!$K37*20","v":76.3670556},{"$f":"[1]主表!$M37","v":3.4194204000000004},{"$f":"[1]主表!$L37","v":3.4194204000000004},1,{"$f":"[1]主表!$N37","v":0},{"$f":"[1]主表!$F37","v":253},7,1,4,1,106.8]
[36,36,2,4,6,"金丹期","前",6,{"$f":"[1]主表!$K38*20","v":78.286240972800002},{"$f":"[1]主表!$M38","v":3.4949214719999997},{"$f":"[1]主表!$L38","v":3.4949214719999997},1,{"$f":"[1]主表!$N38","v":0},{"$f":"[1]主表!$F38","v":257},8,1,4,1,107]
[37,37,2,4,7,"金丹期","前",7,{"$f":"[1]主表!$K39*20","v":80.975747541333334},{"$f":"[1]主表!$M39","v":3.60426176},{"$f":"[1]主表!$L39","v":3.60426176},1,{"$f":"[1]主表!$N39","v":0},{"$f":"[1]主表!$F39","v":263},8,1,4,1,107.2]
[38,38,2,4,8,"金丹期","前",8,{"$f":"[1]主表!$K40*20","v":83.722571878399989},{"$f":"[1]主表!$M40","v":3.7154987519999998},{"$f":"[1]主表!$L40","v":3.7154987519999998},1,{"$f":"[1]主表!$N40","v":0},{"$f":"[1]主表!$F40","v":269},8,1,4,1,107.4]
[39,39,2,4,9,"金丹期","前",9,{"$f":"[1]主表!$K41*20","v":86.527425273600016},{"$f":"[1]主表!$M41","v":3.8286471360000007},{"$f":"[1]主表!$L41","v":3.8286471360000007},1,{"$f":"[1]主表!$N41","v":0},{"$f":"[1]主表!$F41","v":275},8,1,4,1,107.6]
[40,40,2,4,10,"金丹期","前",10,{"$f":"[1]主表!$K42*20","v":93.244084266666647},{"$f":"[1]主表!$M42","v":4.1137096},{"$f":"[1]主表!$L42","v":4.1137096},1,{"$f":"[1]主表!$N42","v":0},{"$f":"[1]主表!$F42","v":294},8,1,4,1,107.8]
[41,41,2,5,1,"金丹期","中",1,{"$f":"[1]主表!$K43*20","v":96.225697708799999},{"$f":"[1]主表!$M43","v":4.232801952},{"$f":"[1]主表!$L43","v":4.232801952},1,{"$f":"[1]主表!$N43","v":0},{"$f":"[1]主表!$F43","v":300},9,1,5,1,108]
[42,42,2,5,2,"金丹期","中",2,{"$f":"[1]主表!$K44*20","v":99.268053600000016},{"$f":"[1]主表!$M44","v":4.3538619999999995},{"$f":"[1]主表!$L44","v":4.3538619999999995},1,{"$f":"[1]主表!$N44","v":0},{"$f":"[1]主表!$F44","v":307},9,1,5,1,108.2]
[43,43,2,5,3,"金丹期","中",3,{"$f":"[1]主表!$K45*20","v":102.37188134506665},{"$f":"[1]主表!$M45","v":4.4769044319999995},{"$f":"[1]主表!$L45","v":4.4769044319999995},1,{"$f":"[1]主表!$N45","v":0},{"$f":"[1]主表!$F45","v":313},9,1,5,1,108.4]
[44,44,2,5,4,"金丹期","中",4,{"$f":"[1]主表!$K46*20","v":106.35603763200002},{"$f":"[1]主表!$M46","v":4.6376179200000003},{"$f":"[1]主表!$L46","v":4.6376179200000003},1,{"$f":"[1]主表!$N46","v":0},{"$f":"[1]主表!$F46","v":322},9,1,5,1,108.6]
[45,45,2,5,5,"金丹期","中",5,{"$f":"[1]主表!$K47*20","v":109.59717119999999},{"$f":"[1]主表!$M47","v":4.7650943999999997},{"$f":"[1]主表!$L47","v":4.7650943999999997},1,{"$f":"[1]主表!$N47","v":0},{"$f":"[1]主表!$F47","v":329},9,1,5,1,108.8]
[46,46,2,5,6,"金丹期","中",6,{"$f":"[1]主表!$K48*20","v":112.90210149973332},{"$f":"[1]主表!$M48","v":4.8945997759999997},{"$f":"[1]主表!$L48","v":4.8945997759999997},1,{"$f":"[1]主表!$N48","v":0},{"$f":"[1]主表!$F48","v":335},10,1,5,1,109]
[47,47,2,5,7,"金丹期","中",7,{"$f":"[1]主表!$K49*20","v":116.27157409279999},{"$f":"[1]主表!$M49","v":5.0261487359999997},{"$f":"[1]主表!$L49","v":5.0261487359999997},1,{"$f":"[1]主表!$N49","v":0},{"$f":"[1]主表!$F49","v":342},10,1,5,1,109.2]
[48,48,2,5,8,"金丹期","中",8,{"$f":"[1]主表!$K50*20","v":119.70633845759998},{"$f":"[1]主表!$M50","v":5.1597559680000007},{"$f":"[1]主表!$L50","v":5.1597559680000007},1,{"$f":"[1]主表!$N50","v":0},{"$f":"[1]主表!$F50","v":349},10,1,5,1,109.4]
[49,49,2,5,9,"金丹期","中",9,{"$f":"[1]主表!$K51*20","v":124.0871990464},{"$f":"[1]主表!$M51","v":5.3332607039999997},{"$f":"[1]主表!$L51","v":5.3332607039999997},1,{"$f":"[1]主表!$N51","v":0},{"$f":"[1]主表!$F51","v":358},10,1,5,1,109.6]
[50,50,2,5,10,"金丹期","中",10,{"$f":"[1]主表!$K52*20","v":133.91699999999997},{"$f":"[1]主表!$M52","v":5.7392999999999992},{"$f":"[1]主表!$L52","v":5.7392999999999992},1,{"$f":"[1]主表!$N52","v":0},{"$f":"[1]主表!$F52","v":383},10,1,5,1,109.8]
[51,51,2,6,1,"金丹期","后",1,{"$f":"[1]主表!$K53*20","v":137.65493214719999},{"$f":"[1]主表!$M53","v":5.8826894080000001},{"$f":"[1]主表!$L53","v":5.8826894080000001},1,{"$f":"[1]主表!$N53","v":0},{"$f":"[1]主表!$F53","v":390},11,2,6,2,110]
[52,52,2,6,2,"金丹期","后",2,{"$f":"[1]主表!$K54*20","v":142.38070715733335},{"$f":"[1]主表!$M54","v":6.0673596800000009},{"$f":"[1]主表!$L54","v":6.0673596800000009},1,{"$f":"[1]主表!$N54","v":0},{"$f":"[1]主表!$F54","v":399},11,2,6,2,110.2]
[53,53,2,6,3,"金丹期","后",3,{"$f":"[1]主表!$K55*20","v":146.27100483840002},{"$f":"[1]主表!$M55","v":6.2154817920000003},{"$f":"[1]主表!$L55","v":6.2154817920000003},1,{"$f":"[1]主表!$N55","v":0},{"$f":"[1]主表!$F55","v":406},11,2,6,2,110.4]
[54,54,2,6,4,"金丹期","后",4,{"$f":"[1]主表!$K56*20","v":151.177083904},{"$f":"[1]主表!$M56","v":6.4058086399999992},{"$f":"[1]主表!$L56","v":6.4058086399999992},1,{"$f":"[1]主表!$N56","v":0},{"$f":"[1]主表!$F56","v":416},11,2,6,2,110.6]
[55,55,2,6,5,"金丹期","后",5,{"$f":"[1]主表!$K57*20","v":156.18149266666671},{"$f":"[1]主表!$M57","v":6.5992180000000005},{"$f":"[1]主表!$L57","v":6.5992180000000005},1,{"$f":"[1]主表!$N57","v":0},{"$f":"[1]主表!$F57","v":426},11,2,6,2,110.8]
[56,56,2,6,6,"金丹期","后",6,{"$f":"[1]主表!$K58*20","v":160.31377190400005},{"$f":"[1]主表!$M58","v":6.7547937600000001},{"$f":"[1]主表!$L58","v":6.7547937600000001},1,{"$f":"[1]主表!$N58","v":0},{"$f":"[1]主表!$F58","v":433},12,2,6,2,111]
[57,57,2,6,7,"金丹期","后",7,{"$f":"[1]主表!$K59*20","v":165.5047156224},{"$f":"[1]主表!$M59","v":6.9539796480000007},{"$f":"[1]主表!$L59","v":6.9539796480000007},1,{"$f":"[1]主表!$N59","v":0},{"$f":"[1]主表!$F59","v":443},12,2,6,2,111.2]
[58,58,2,6,8,"金丹期","后",8,{"$f":"[1]主表!$K60*20","v":170.7973058112},{"$f":"[1]主表!$M60","v":7.1563116960000004},{"$f":"[1]主表!$L60","v":7.1563116960000004},1,{"$f":"[1]主表!$N60","v":0},{"$f":"[1]主表!$F60","v":453},12,2,6,2,111.4]
[59,59,2,6,9,"金丹期","后",9,{"$f":"[1]主表!$K61*20","v":176.19269900159998},{"$f":"[1]主表!$M61","v":7.3618119359999987},{"$f":"[1]主表!$L61","v":7.3618119359999987},1,{"$f":"[1]主表!$N61","v":0},{"$f":"[1]主表!$F61","v":463},12,2,6,2,111.6]
[60,60,2,6,10,"金丹期","后",10,{"$f":"[1]主表!$K62*20","v":201.19572480000002},{"$f":"[1]主表!$M62","v":8.3831551999999991},{"$f":"[1]主表!$L62","v":8.3831551999999991},1,{"$f":"[1]主表!$N62","v":0},{"$f":"[1]主表!$F62","v":524},12,2,6,2,111.8]
[61,61,3,7,1,"元婴期","前",1,{"$f":"[1]主表!$K63*20","v":208.25193436444442},{"$f":"[1]主表!$M63","v":8.6531274666666658},{"$f":"[1]主表!$L63","v":8.6531274666666658},1,{"$f":"[1]主表!$N63","v":0},{"$f":"[1]主表!$F63","v":537},13,2,7,2,112]
[62,62,3,7,2,"元婴期","前",2,{"$f":"[1]主表!$K64*20","v":214.3973450304},{"$f":"[1]主表!$M64","v":8.883867888000001},{"$f":"[1]主表!$L64","v":8.883867888000001},1,{"$f":"[1]主表!$N64","v":0},{"$f":"[1]主表!$F64","v":548},13,2,7,2,112.2]
[63,63,3,7,3,"元婴期","前",3,{"$f":"[1]主表!$K65*20","v":220.65978795519999},{"$f":"[1]主表!$M65","v":9.1181730559999998},{"$f":"[1]主表!$L65","v":9.1181730559999998},1,{"$f":"[1]主表!$N65","v":0},{"$f":"[1]主表!$F65","v":559},13,2,7,2,112.4]
[64,64,3,7,4,"元婴期","前",4,{"$f":"[1]主表!$K66*20","v":228.12691089066664},{"$f":"[1]主表!$M66","v":9.40083424},{"$f":"[1]主表!$L66","v":9.40083424},1,{"$f":"[1]主表!$N66","v":0},{"$f":"[1]主表!$F66","v":573},13,2,7,2,112.6]
[65,65,3,7,5,"元婴期","前",5,{"$f":"[1]主表!$K67*20","v":234.6427028},{"$f":"[1]主表!$M67","v":9.6428507999999979},{"$f":"[1]主表!$L67","v":9.6428507999999979},1,{"$f":"[1]主表!$N67","v":0},{"$f":"[1]主表!$F67","v":584},13,2,7,2,112.8]
[66,66,3,7,{"$f":"H70","v":6},"元婴期","前",6,{"$f":"[1]主表!$K68*20","v":242.92992810986664},{"$f":"[1]主表!$M68","v":9.956144594666668},{"$f":"[1]主表!$L68","v":9.956144594666668},1,{"$f":"[1]主表!$N68","v":0},{"$f":"[1]主表!$F68","v":600},14,2,7,2,113]
[67,67,3,7,7,"元婴期","前",7,{"$f":"[1]主表!$K69*20","v":250.26243604266665},{"$f":"[1]主表!$M69","v":10.22870992},{"$f":"[1]主表!$L69","v":10.22870992},1,{"$f":"[1]主表!$N69","v":0},{"$f":"[1]主表!$F69","v":612},14,2,7,2,113.2]
[68,68,3,7,8,"元婴期","前",8,{"$f":"[1]主表!$K70*20","v":258.89943606613338},{"$f":"[1]主表!$M70","v":10.552966144000003},{"$f":"[1]主表!$L70","v":10.552966144000003},1,{"$f":"[1]主表!$N70","v":0},{"$f":"[1]主表!$F70","v":628},14,2,7,2,113.4]
[69,69,3,7,9,"元婴期","前",9,{"$f":"[1]主表!$K71*20","v":267.7237884672},{"$f":"[1]主表!$M71","v":10.883080832000001},{"$f":"[1]主表!$L71","v":10.883080832000001},1,{"$f":"[1]主表!$N71","v":0},{"$f":"[1]主表!$F71","v":644},14,2,7,2,113.6]
[70,70,3,7,10,"元婴期","前",10,{"$f":"[1]主表!$K72*20","v":289.85905079999998},{"$f":"[1]主表!$M72","v":11.751042599999998},{"$f":"[1]主表!$L72","v":11.751042599999998},1,{"$f":"[1]主表!$N72","v":0},{"$f":"[1]主表!$F72","v":691},14,2,7,2,113.8]
[71,71,3,8,1,"元婴期","中",1,{"$f":"[1]主表!$K73*20","v":299.27192669919998},{"$f":"[1]主表!$M73","v":12.099943128},{"$f":"[1]主表!$L73","v":12.099943128},1,{"$f":"[1]主表!$N73","v":0},{"$f":"[1]主表!$F73","v":708},15,2,8,2,114]
[72,72,3,8,2,"元婴期","中",2,{"$f":"[1]主表!$K74*20","v":308.88131538346659},{"$f":"[1]主表!$M74","v":12.454891749333333},{"$f":"[1]主表!$L74","v":12.454891749333333},1,{"$f":"[1]主表!$N74","v":0},{"$f":"[1]主表!$F74","v":724},15,2,8,2,114.2]
[73,73,3,8,3,"元婴期","中",3,{"$f":"[1]主表!$K75*20","v":318.68963041600006},{"$f":"[1]主表!$M75","v":12.815936879999999},{"$f":"[1]主表!$L75","v":12.815936879999999},1,{"$f":"[1]主表!$N75","v":0},{"$f":"[1]主表!$F75","v":741},15,2,8,2,114.4]
[74,74,3,8,4,"元婴期","中",4,{"$f":"[1]主表!$K76*20","v":328.6992982709333},{"$f":"[1]主表!$M76","v":13.183126935999999},{"$f":"[1]主表!$L76","v":13.183126935999999},1,{"$f":"[1]主表!$N76","v":0},{"$f":"[1]主表!$F76","v":758},15,2,8,2,114.6]
[75,75,3,8,5,"元婴期","中",5,{"$f":"[1]主表!$K77*20","v":338.91275833333333},{"$f":"[1]主表!$M77","v":13.55651033333333},{"$f":"[1]主表!$L77","v":13.55651033333333},1,{"$f":"[1]主表!$N77","v":0},{"$f":"[1]主表!$F77","v":775},15,2,8,2,114.8]
[76,76,3,8,6,"元婴期","中",6,{"$f":"[1]主表!$K78*20","v":350.64082418346663},{"$f":"[1]主表!$M78","v":13.988330752},{"$f":"[1]主表!$L78","v":13.988330752},1,{"$f":"[1]主表!$N78","v":0},{"$f":"[1]主表!$F78","v":795},16,2,{"$f":"Q70+1","v":8},2,115]
[77,77,3,8,7,"元婴期","中",7,{"$f":"[1]主表!$K79*20","v":361.2891460949333},{"$f":"[1]主表!$M79","v":14.374899711999999},{"$f":"[1]主表!$L79","v":14.374899711999999},1,{"$f":"[1]主表!$N79","v":0},{"$f":"[1]主表!$F79","v":812},16,2,8,2,115.2]
[78,78,3,8,8,"元婴期","中",8,{"$f":"[1]主表!$K80*20","v":372.14884465919999},{"$f":"[1]主表!$M80","v":14.767811296000001},{"$f":"[1]主表!$L80","v":14.767811296000001},1,{"$f":"[1]主表!$N80","v":0},{"$f":"[1]主表!$F80","v":830},16,2,8,2,115.4]
[79,79,3,8,9,"元婴期","中",9,{"$f":"[1]主表!$K81*20","v":384.59106318239998},{"$f":"[1]主表!$M81","v":15.221282184},{"$f":"[1]主表!$L81","v":15.221282184},1,{"$f":"[1]主表!$N81","v":0},{"$f":"[1]主表!$F81","v":850},16,2,8,2,115.6]
[80,80,3,8,10,"元婴期","中",10,{"$f":"[1]主表!$K82*20","v":416.73839999999996},{"$f":"[1]主表!$M82","v":16.450199999999999},{"$f":"[1]主表!$L82","v":16.450199999999999},1,{"$f":"[1]主表!$N82","v":0},{"$f":"[1]主表!$F82","v":914},16,2,8,2,115.8]
[81,81,3,9,1,"元婴期","后",1,{"$f":"[1]主表!$K83*20","v":428.57791557973337},{"$f":"[1]主表!$M83","v":16.873146282666664},{"$f":"[1]主表!$L83","v":16.873146282666664},1,{"$f":"[1]主表!$N83","v":0},{"$f":"[1]主表!$F83","v":932},17,2,9,2,116]
[82,82,3,9,2,"元婴期","后",2,{"$f":"[1]主表!$K84*20","v":442.07258105919999},{"$f":"[1]主表!$M84","v":17.358870983999999},{"$f":"[1]主表!$L84","v":17.358870983999999},1,{"$f":"[1]主表!$N84","v":0},{"$f":"[1]主表!$F84","v":954},17,2,9,2,116.2]
[83,83,3,9,3,"元婴期","后",3,{"$f":"[1]主表!$K85*20","v":457.28811088799995},{"$f":"[1]主表!$M85","v":17.909456039999998},{"$f":"[1]主表!$L85","v":17.909456039999998},1,{"$f":"[1]主表!$N85","v":0},{"$f":"[1]主表!$F85","v":979},17,2,9,2,116.4]
[84,84,3,9,4,"元婴期","后",4,{"$f":"[1]主表!$K86*20","v":471.34548514133326},{"$f":"[1]主表!$M86","v":18.411933013333329},{"$f":"[1]主表!$L86","v":18.411933013333329},1,{"$f":"[1]主表!$N86","v":0},{"$f":"[1]主表!$F86","v":1001},17,2,9,2,116.6]
[85,85,3,9,5,"元婴期","后",5,{"$f":"[1]主表!$K87*20","v":485.67852666666658},{"$f":"[1]主表!$M87","v":18.922539999999998},{"$f":"[1]主表!$L87","v":18.922539999999998},1,{"$f":"[1]主表!$N87","v":0},{"$f":"[1]主表!$F87","v":1023},17,2,9,2,116.8]
[86,86,3,9,6,"元婴期","后",6,{"$f":"[1]主表!$K88*20","v":500.29041884799983},{"$f":"[1]主表!$M88","v":19.441337519999998},{"$f":"[1]主表!$L88","v":19.441337519999998},1,{"$f":"[1]主表!$N88","v":0},{"$f":"[1]主表!$F88","v":1045},18,2,9,2,117]
[87,87,3,9,7,"元婴期","后",7,{"$f":"[1]主表!$K89*20","v":516.72222497279995},{"$f":"[1]主表!$M89","v":20.027993215999999},{"$f":"[1]主表!$L89","v":20.027993215999999},1,{"$f":"[1]主表!$N89","v":0},{"$f":"[1]主表!$F89","v":1071},18,2,9,2,117.2]
[88,88,3,9,8,"元婴期","后",8,{"$f":"[1]主表!$K90*20","v":531.92346225919994},{"$f":"[1]主表!$M90","v":20.564051375999998},{"$f":"[1]主表!$L90","v":20.564051375999998},1,{"$f":"[1]主表!$N90","v":0},{"$f":"[1]主表!$F90","v":1094},18,2,9,2,117.4]
[89,89,3,9,9,"元婴期","后",9,{"$f":"[1]主表!$K91*20","v":548.9955145248},{"$f":"[1]主表!$M91","v":21.169492848000001},{"$f":"[1]主表!$L91","v":21.169492848000001},1,{"$f":"[1]主表!$N91","v":0},{"$f":"[1]主表!$F91","v":1120},18,2,9,2,117.6]
[90,90,3,9,10,"元婴期","后",10,{"$f":"[1]主表!$K92*20","v":630.58615880000002},{"$f":"[1]主表!$M92","v":24.253313799999997},{"$f":"[1]主表!$L92","v":24.253313799999997},1,{"$f":"[1]主表!$N92","v":0},{"$f":"[1]主表!$F92","v":1276},18,2,9,2,117.8]
[91,91,4,10,1,"化神期","前",1,{"$f":"[1]主表!$K93*20","v":649.24064763039996},{"$f":"[1]主表!$M93","v":24.906930215999996},{"$f":"[1]主表!$L93","v":24.906930215999996},1,{"$f":"[1]主表!$N93","v":0},{"$f":"[1]主表!$F93","v":1304},19,2,10,2,118]
[92,92,4,10,2,"化神期","前",2,{"$f":"[1]主表!$K94*20","v":669.89767529813321},{"$f":"[1]主表!$M94","v":25.633839615999996},{"$f":"[1]主表!$L94","v":25.633839615999996},1,{"$f":"[1]主表!$N94","v":0},{"$f":"[1]主表!$F94","v":1335},19,2,10,2,118.2]
[93,93,4,10,3,"化神期","前",3,{"$f":"[1]主表!$K95*20","v":689.28421275306664},{"$f":"[1]主表!$M95","v":26.308557738666664},{"$f":"[1]主表!$L95","v":26.308557738666664},1,{"$f":"[1]主表!$N95","v":0},{"$f":"[1]主表!$F95","v":1363},19,2,10,2,118.4]
[94,94,4,10,4,"化神期","前",4,{"$f":"[1]主表!$K96*20","v":710.7276308789335},{"$f":"[1]主表!$M96","v":27.058158536000001},{"$f":"[1]主表!$L96","v":27.058158536000001},1,{"$f":"[1]主表!$N96","v":0},{"$f":"[1]主表!$F96","v":1395},19,2,10,2,118.6]
[95,95,4,10,5,"化神期","前",5,{"$f":"[1]主表!$K97*20","v":732.58251560000008},{"$f":"[1]主表!$M97","v":27.819589199999996},{"$f":"[1]主表!$L97","v":27.819589199999996},1,{"$f":"[1]主表!$N97","v":0},{"$f":"[1]主表!$F97","v":1427},19,2,10,2,118.8]
[96,96,4,10,6,"化神期","前",6,{"$f":"[1]主表!$K98*20","v":754.85346970879982},{"$f":"[1]主表!$M98","v":28.592934458666658},{"$f":"[1]主表!$L98","v":28.592934458666658},1,{"$f":"[1]主表!$N98","v":0},{"$f":"[1]主表!$F98","v":1459},20,2,10,2,119]
[97,97,4,10,7,"化神期","前",7,{"$f":"[1]主表!$K99*20","v":777.54511859199977},{"$f":"[1]主表!$M99","v":29.378279039999999},{"$f":"[1]主表!$L99","v":29.378279039999999},1,{"$f":"[1]主表!$N99","v":0},{"$f":"[1]主表!$F99","v":1491},20,2,10,2,119.2]
[98,98,4,10,8,"化神期","前",8,{"$f":"[1]主表!$K100*20","v":800.6621102304},{"$f":"[1]主表!$M100","v":30.175707671999998},{"$f":"[1]主表!$L100","v":30.175707671999998},1,{"$f":"[1]主表!$N100","v":0},{"$f":"[1]主表!$F100","v":1524},20,2,10,2,119.4]
[99,99,4,10,9,"化神期","前",9,{"$f":"[1]主表!$K101*20","v":826.02455377866659},{"$f":"[1]主表!$M101","v":31.053554653333332},{"$f":"[1]主表!$L101","v":31.053554653333332},1,{"$f":"[1]主表!$N101","v":0},{"$f":"[1]主表!$F101","v":1560},20,2,10,2,119.6]
[100,100,4,10,10,"化神期","前",10,{"$f":"[1]主表!$K102*20","v":892.34826666666663},{"$f":"[1]主表!$M102","v":33.463059999999999},{"$f":"[1]主表!$L102","v":33.463059999999999},1,{"$f":"[1]主表!$N102","v":0},{"$f":"[1]主表!$F102","v":1673},20,2,10,2,119.8]
[101,101,4,11,1,"化神期","中",1,{"$f":"[1]主表!$K103*20","v":914.65258424888907},{"$f":"[1]主表!$M103","v":34.213937066666674},{"$f":"[1]主表!$L103","v":34.213937066666674},1,{"$f":"[1]主表!$N103","v":0},{"$f":"[1]主表!$F103","v":1711},21,3,11,3,120]
[102,102,4,11,2,"化神期","中",2,{"$f":"[1]主表!$K104*20","v":937.23002528000006},{"$f":"[1]主表!$M104","v":34.971269600000007},{"$f":"[1]主表!$L104","v":34.971269600000007},1,{"$f":"[1]主表!$N104","v":0},{"$f":"[1]主表!$F104","v":1749},21,3,11,3,120.2]
[103,103,4,11,3,"化神期","中",3,{"$f":"[1]主表!$K105*20","v":960.08188085333336},{"$f":"[1]主表!$M105","v":35.735057599999998},{"$f":"[1]主表!$L105","v":35.735057599999998},1,{"$f":"[1]主表!$N105","v":0},{"$f":"[1]主表!$F105","v":1787},21,3,11,3,120.4]
[104,104,4,11,4,"化神期","中",4,{"$f":"[1]主表!$K106*20","v":985.11120113777781},{"$f":"[1]主表!$M106","v":36.575910933333333},{"$f":"[1]主表!$L106","v":36.575910933333333},1,{"$f":"[1]主表!$N106","v":0},{"$f":"[1]主表!$F106","v":1829},21,3,11,3,120.6]
[105,105,4,11,5,"化神期","中",5,{"$f":"[1]主表!$K107*20","v":1008.5313600000001},{"$f":"[1]主表!$M107","v":37.353013333333337},{"$f":"[1]主表!$L107","v":37.353013333333337},1,{"$f":"[1]主表!$N107","v":0},{"$f":"[1]主表!$F107","v":1868},21,3,11,3,120.8]
[106,106,4,11,6,"化神期","中",6,{"$f":"[1]主表!$K108*20","v":1034.1628752000001},{"$f":"[1]主表!$M108","v":38.207988000000007},{"$f":"[1]主表!$L108","v":38.207988000000007},1,{"$f":"[1]主表!$N108","v":0},{"$f":"[1]主表!$F108","v":1910},22,3,11,3,121]
[107,107,4,11,7,"化神期","中",7,{"$f":"[1]主表!$K109*20","v":1060.1054401422223},{"$f":"[1]主表!$M109","v":39.070225066666673},{"$f":"[1]主表!$L109","v":39.070225066666673},1,{"$f":"[1]主表!$N109","v":0},{"$f":"[1]主表!$F109","v":1954},22,3,11,3,121.2]
[108,108,4,11,8,"化神期","中",8,{"$f":"[1]主表!$K110*20","v":1084.3960217599999},{"$f":"[1]主表!$M110","v":39.867500800000002},{"$f":"[1]主表!$L110","v":39.867500800000002},1,{"$f":"[1]主表!$N110","v":0},{"$f":"[1]主表!$F110","v":1993},22,3,11,3,121.4]
[109,109,4,11,9,"化神期","中",9,{"$f":"[1]主表!$K111*20","v":1112.9295291733331},{"$f":"[1]主表!$M111","v":40.816486400000002},{"$f":"[1]主表!$L111","v":40.816486400000002},1,{"$f":"[1]主表!$N111","v":0},{"$f":"[1]主表!$F111","v":2041},22,3,11,3,121.6]
[110,110,4,11,10,"化神期","中",10,{"$f":"[1]主表!$K112*20","v":1195.706761777778},{"$f":"[1]主表!$M112","v":43.745369333333336},{"$f":"[1]主表!$L112","v":43.745369333333336},1,{"$f":"[1]主表!$N112","v":0},{"$f":"[1]主表!$F112","v":2187},22,3,11,3,121.8]
[111,111,4,12,1,"化神期","后",1,{"$f":"[1]主表!$K113*20","v":1223.3539140266669},{"$f":"[1]主表!$M113","v":44.647953066666666},{"$f":"[1]主表!$L113","v":44.647953066666666},1,{"$f":"[1]主表!$N113","v":0},{"$f":"[1]主表!$F113","v":2232},23,3,12,3,122]
[112,112,4,12,2,"化神期","后",2,{"$f":"[1]主表!$K114*20","v":1253.34895744},{"$f":"[1]主表!$M114","v":45.631636800000003},{"$f":"[1]主表!$L114","v":45.631636800000003},1,{"$f":"[1]主表!$N114","v":0},{"$f":"[1]主表!$F114","v":2282},23,3,12,3,122.2]
[113,113,4,12,3,"化神期","后",3,{"$f":"[1]主表!$K115*20","v":1285.7414383644445},{"$f":"[1]主表!$M115","v":46.697630933333329},{"$f":"[1]主表!$L115","v":46.697630933333329},1,{"$f":"[1]主表!$N115","v":0},{"$f":"[1]主表!$F115","v":2335},23,3,12,3,122.4]
[114,114,4,12,4,"化神期","后",4,{"$f":"[1]主表!$K116*20","v":1316.4608476799999},{"$f":"[1]主表!$M116","v":47.697856799999997},{"$f":"[1]主表!$L116","v":47.697856799999997},1,{"$f":"[1]主表!$N116","v":0},{"$f":"[1]主表!$F116","v":2385},23,3,12,3,122.6]
[115,115,4,12,5,"化神期","后",5,{"$f":"[1]主表!$K117*20","v":1349.6132},{"$f":"[1]主表!$M117","v":48.781199999999998},{"$f":"[1]主表!$L117","v":48.781199999999998},1,{"$f":"[1]主表!$N117","v":0},{"$f":"[1]主表!$F117","v":2439},23,3,12,3,122.8]
[116,116,4,12,6,"化神期","后",6,{"$f":"[1]主表!$K118*20","v":1381.0636458666668},{"$f":"[1]主表!$M118","v":49.797967999999997},{"$f":"[1]主表!$L118","v":49.797967999999997},1,{"$f":"[1]主表!$N118","v":0},{"$f":"[1]主表!$F118","v":2490},24,3,12,3,123]
[117,117,4,12,7,"化神期","后",7,{"$f":"[1]主表!$K119*20","v":1414.9827554133335},{"$f":"[1]主表!$M119","v":50.898660266666667},{"$f":"[1]主表!$L119","v":50.898660266666667},1,{"$f":"[1]主表!$N119","v":0},{"$f":"[1]主表!$F119","v":2545},24,3,12,3,123.2]
[118,118,4,12,8,"化神期","后",8,{"$f":"[1]主表!$K120*20","v":1449.2959758933332},{"$f":"[1]主表!$M120","v":52.008228799999998},{"$f":"[1]主表!$L120","v":52.008228799999998},1,{"$f":"[1]主表!$N120","v":0},{"$f":"[1]主表!$F120","v":2600},24,3,12,3,123.4]
[119,119,4,12,9,"化神期","后",9,{"$f":"[1]主表!$K121*20","v":1484.0050825599999},{"$f":"[1]主表!$M121","v":53.126673599999997},{"$f":"[1]主表!$L121","v":53.126673599999997},1,{"$f":"[1]主表!$N121","v":0},{"$f":"[1]主表!$F121","v":2656},24,3,12,3,123.6]
[120,120,4,12,10,"化神期","后",10,{"$f":"[1]主表!$K122*20","v":1693.8960266666666},{"$f":"[1]主表!$M122","v":60.496286666666663},{"$f":"[1]主表!$L122","v":60.496286666666663},1,{"$f":"[1]主表!$N122","v":0},{"$f":"[1]主表!$F122","v":3025},24,3,12,3,123.8]
[121,121,5,13,1,"炼虚期","前",1,{"$f":"[1]主表!$K123*20","v":1733.770238293333},{"$f":"[1]主表!$M123","v":61.773286399999996},{"$f":"[1]主表!$L123","v":61.773286399999996},1,{"$f":"[1]主表!$N123","v":0},{"$f":"[1]主表!$F123","v":3089},25,3,13,3,124]
[122,122,5,13,2,"炼虚期","前",2,{"$f":"[1]主表!$K124*20","v":1774.0669262577781},{"$f":"[1]主表!$M124","v":63.059250933333331},{"$f":"[1]主表!$L124","v":63.059250933333331},1,{"$f":"[1]主表!$N124","v":0},{"$f":"[1]主表!$F124","v":3153},25,3,13,3,124.2]
[123,123,5,13,3,"炼虚期","前",3,{"$f":"[1]主表!$K125*20","v":1814.7878835200002},{"$f":"[1]主表!$M125","v":64.354180266666674},{"$f":"[1]主表!$L125","v":64.354180266666674},1,{"$f":"[1]主表!$N125","v":0},{"$f":"[1]主表!$F125","v":3218},25,3,13,3,124.4]
[124,124,5,13,4,"炼虚期","前",4,{"$f":"[1]主表!$K126*20","v":1858.1522685155555},{"$f":"[1]主表!$M126","v":65.736518933333343},{"$f":"[1]主表!$L126","v":65.736518933333343},1,{"$f":"[1]主表!$N126","v":0},{"$f":"[1]主表!$F126","v":3287},25,3,13,3,124.6]
[125,125,5,13,5,"炼虚期","前",5,{"$f":"[1]主表!$K127*20","v":1899.7421422222226},{"$f":"[1]主表!$M127","v":67.049722666666668},{"$f":"[1]主表!$L127","v":67.049722666666668},1,{"$f":"[1]主表!$N127","v":0},{"$f":"[1]主表!$F127","v":3352},25,3,13,3,124.8]
[126,126,5,13,6,"炼虚期","前",6,{"$f":"[1]主表!$K128*20","v":1944.6332984533331},{"$f":"[1]主表!$M128","v":68.473003466666668},{"$f":"[1]主表!$L128","v":68.473003466666668},1,{"$f":"[1]主表!$N128","v":0},{"$f":"[1]主表!$F128","v":3424},26,3,13,3,125]
[127,127,5,13,7,"炼虚期","前",7,{"$f":"[1]主表!$K129*20","v":1987.6935779555556},{"$f":"[1]主表!$M129","v":69.825301333333343},{"$f":"[1]主表!$L129","v":69.825301333333343},1,{"$f":"[1]主表!$N129","v":0},{"$f":"[1]主表!$F129","v":3491},26,3,13,3,125.2]
[128,128,5,13,8,"炼虚期","前",8,{"$f":"[1]主表!$K130*20","v":2031.1569064533332},{"$f":"[1]主表!$M130","v":71.18540560000001},{"$f":"[1]主表!$L130","v":71.18540560000001},1,{"$f":"[1]主表!$N130","v":0},{"$f":"[1]主表!$F130","v":3559},26,3,13,3,125.4]
[129,129,5,13,9,"炼虚期","前",9,{"$f":"[1]主表!$K131*20","v":2077.3101148800001},{"$f":"[1]主表!$M131","v":72.633220800000004},{"$f":"[1]主表!$L131","v":72.633220800000004},1,{"$f":"[1]主表!$N131","v":0},{"$f":"[1]主表!$F131","v":3632},26,3,13,3,125.6]
[130,130,5,13,{"$f":"H134","v":10},"炼虚期","前",10,{"$f":"[1]主表!$K132*20","v":2227.3326333333334},{"$f":"[1]主表!$M132","v":77.69765000000001},{"$f":"[1]主表!$L132","v":77.69765000000001},1,{"$f":"[1]主表!$N132","v":0},{"$f":"[1]主表!$F132","v":3885},26,3,13,3,125.8]
[131,131,5,14,1,"炼虚期","中",1,{"$f":"[1]主表!$K133*20","v":2277.2661183111113},{"$f":"[1]主表!$M133","v":79.255201333333346},{"$f":"[1]主表!$L133","v":79.255201333333346},1,{"$f":"[1]主表!$N133","v":0},{"$f":"[1]主表!$F133","v":3963},27,3,14,3,126]
[132,132,5,14,2,"炼虚期","中",2,{"$f":"[1]主表!$K134*20","v":2327.6642188800001},{"$f":"[1]主表!$M134","v":80.821674266666662},{"$f":"[1]主表!$L134","v":80.821674266666662},1,{"$f":"[1]主表!$N134","v":0},{"$f":"[1]主表!$F134","v":4041},27,3,14,3,126.2]
[133,133,5,14,3,"炼虚期","中",3,{"$f":"[1]主表!$K135*20","v":2380.8674889955555},{"$f":"[1]主表!$M135","v":82.478088533333334},{"$f":"[1]主表!$L135","v":82.478088533333334},1,{"$f":"[1]主表!$N135","v":0},{"$f":"[1]主表!$F135","v":4124},27,3,14,3,126.4]
[134,134,5,14,4,"炼虚期","中",4,{"$f":"[1]主表!$K136*20","v":2432.2136416355556},{"$f":"[1]主表!$M136","v":84.062683466666655},{"$f":"[1]主表!$L136","v":84.062683466666655},1,{"$f":"[1]主表!$N136","v":0},{"$f":"[1]主表!$F136","v":4203},27,3,14,3,126.6]
[135,135,5,14,5,"炼虚期","中",5,{"$f":"[1]主表!$K137*20","v":2486.3955426666666},{"$f":"[1]主表!$M137","v":85.737777333333327},{"$f":"[1]主表!$L137","v":85.737777333333327},1,{"$f":"[1]主表!$N137","v":0},{"$f":"[1]主表!$F137","v":4287},27,3,14,3,126.8]
[136,136,5,14,6,"炼虚期","中",6,{"$f":"[1]主表!$K138*20","v":2543.4556032355558},{"$f":"[1]主表!$M138","v":87.504206533333331},{"$f":"[1]主表!$L138","v":87.504206533333331},1,{"$f":"[1]主表!$N138","v":0},{"$f":"[1]主表!$F138","v":4375},28,3,14,3,127]
[137,137,5,14,7,"炼虚期","中",7,{"$f":"[1]主表!$K139*20","v":2598.6507287466661},{"$f":"[1]主表!$M139","v":89.19853759999998},{"$f":"[1]主表!$L139","v":89.19853759999998},1,{"$f":"[1]主表!$N139","v":0},{"$f":"[1]主表!$F139","v":4460},28,3,14,3,127.2]
[138,138,5,14,8,"炼虚期","中",8,{"$f":"[1]主表!$K140*20","v":2656.755038719999},{"$f":"[1]主表!$M140","v":90.984761599999985},{"$f":"[1]主表!$L140","v":90.984761599999985},1,{"$f":"[1]主表!$N140","v":0},{"$f":"[1]主表!$F140","v":4549},28,3,14,3,127.4]
[139,139,5,14,9,"炼虚期","中",9,{"$f":"[1]主表!$K141*20","v":2715.3912555733332},{"$f":"[1]主表!$M141","v":92.781022399999998},{"$f":"[1]主表!$L141","v":92.781022399999998},1,{"$f":"[1]主表!$N141","v":0},{"$f":"[1]主表!$F141","v":4639},28,3,14,3,127.6]
[140,140,5,14,10,"炼虚期","中",10,{"$f":"[1]主表!$K142*20","v":2910.8556302222228},{"$f":"[1]主表!$M142","v":99.233714666666657},{"$f":"[1]主表!$L142","v":99.233714666666657},1,{"$f":"[1]主表!$N142","v":0},{"$f":"[1]主表!$F142","v":4962},28,3,{"$f":"Q134+1","v":14},3,127.8]
[141,141,5,15,1,"炼虚期","后",1,{"$f":"[1]主表!$K143*20","v":2976.2255667199997},{"$f":"[1]主表!$M143","v":101.23216213333333},{"$f":"[1]主表!$L143","v":101.23216213333333},1,{"$f":"[1]主表!$N143","v":0},{"$f":"[1]主表!$F143","v":5062},29,3,15,3,128]
[142,142,5,15,2,"炼虚期","后",2,{"$f":"[1]主表!$K144*20","v":3042.190575146667},{"$f":"[1]主表!$M144","v":103.2417616},{"$f":"[1]主表!$L144","v":103.2417616},1,{"$f":"[1]主表!$N144","v":0},{"$f":"[1]主表!$F144","v":5162},29,3,15,3,128.19999999999999]
[143,143,5,15,3,"炼虚期","后",3,{"$f":"[1]主表!$K145*20","v":3108.7528859022223},{"$f":"[1]主表!$M145","v":105.26251306666667},{"$f":"[1]主表!$L145","v":105.26251306666667},1,{"$f":"[1]主表!$N145","v":0},{"$f":"[1]主表!$F145","v":5263},29,3,15,3,128.4]
[144,144,5,15,4,"炼虚期","后",4,{"$f":"[1]主表!$K146*20","v":3178.4036907733334},{"$f":"[1]主表!$M146","v":107.37850306666667},{"$f":"[1]主表!$L146","v":107.37850306666667},1,{"$f":"[1]主表!$N146","v":0},{"$f":"[1]主表!$F146","v":5369},29,3,15,3,128.6]
[145,145,5,15,5,"炼虚期","后",5,{"$f":"[1]主表!$K147*20","v":3248.6840124444443},{"$f":"[1]主表!$M147","v":109.50620266666667},{"$f":"[1]主表!$L147","v":109.50620266666667},1,{"$f":"[1]主表!$N147","v":0},{"$f":"[1]主表!$F147","v":5475},29,3,15,3,128.80000000000001]
[146,146,5,15,6,"炼虚期","后",6,{"$f":"[1]主表!$K148*20","v":3319.5961928355559},{"$f":"[1]主表!$M148","v":111.64561186666666},{"$f":"[1]主表!$L148","v":111.64561186666666},1,{"$f":"[1]主表!$N148","v":0},{"$f":"[1]主表!$F148","v":5582},30,3,15,3,129]
[147,147,5,15,7,"炼虚期","后",7,{"$f":"[1]主表!$K149*20","v":3393.6732772799996},{"$f":"[1]主表!$M149","v":113.88165359999999},{"$f":"[1]主表!$L149","v":113.88165359999999},1,{"$f":"[1]主表!$N149","v":0},{"$f":"[1]主表!$F149","v":5694},30,3,15,3,129.19999999999999]
[148,148,5,15,8,"炼虚期","后",8,{"$f":"[1]主表!$K150*20","v":3468.4148809955559},{"$f":"[1]主表!$M150","v":116.12996253333331},{"$f":"[1]主表!$L150","v":116.12996253333331},1,{"$f":"[1]主表!$N150","v":0},{"$f":"[1]主表!$F150","v":5806},30,3,15,3,129.4]
[149,149,5,15,9,"炼虚期","后",9,{"$f":"[1]主表!$K151*20","v":3546.3821747199995},{"$f":"[1]主表!$M151","v":118.47601920000001},{"$f":"[1]主表!$L151","v":118.47601920000001},1,{"$f":"[1]主表!$N151","v":0},{"$f":"[1]主表!$F151","v":5924},30,3,15,3,129.6]
[150,150,5,15,10,"炼虚期","后",10,{"$f":"[1]主表!$K152*20","v":4034.1190400000005},{"$f":"[1]主表!$M152","v":134.47063466666665},{"$f":"[1]主表!$L152","v":134.47063466666665},1,{"$f":"[1]主表!$N152","v":0},{"$f":"[1]主表!$F152","v":6724},30,3,15,3,129.80000000000001]
[151,151,6,16,1,"合体期","前",1,{"$f":"[1]主表!$K153*20","v":4123.4865216355556},{"$f":"[1]主表!$M153","v":137.14478453333334},{"$f":"[1]主表!$L153","v":137.14478453333334},1,{"$f":"[1]主表!$N153","v":0},{"$f":"[1]主表!$F153","v":6857},31,4,16,4,130]
[152,152,6,16,2,"合体期","前",2,{"$f":"[1]主表!$K154*20","v":4213.6474176000011},{"$f":"[1]主表!$M154","v":139.83343200000002},{"$f":"[1]主表!$L154","v":139.83343200000002},1,{"$f":"[1]主表!$N154","v":0},{"$f":"[1]主表!$F154","v":6992},31,4,16,4,130.19999999999999]
[153,153,6,16,3,"合体期","前",3,{"$f":"[1]主表!$K155*20","v":4307.2198185600009},{"$f":"[1]主表!$M155","v":142.62317280000002},{"$f":"[1]主表!$L155","v":142.62317280000002},1,{"$f":"[1]主表!$N155","v":0},{"$f":"[1]主表!$F155","v":7131},31,4,16,4,130.4]
[154,154,6,16,4,"合体期","前",4,{"$f":"[1]主表!$K156*20","v":4401.61985568},{"$f":"[1]主表!$M156","v":145.42796880000003},{"$f":"[1]主表!$L156","v":145.42796880000003},1,{"$f":"[1]主表!$N156","v":0},{"$f":"[1]主表!$F156","v":7271},31,4,16,4,130.6]
[155,155,6,16,5,"合体期","前",5,{"$f":"[1]主表!$K157*20","v":4499.4941911111109},{"$f":"[1]主表!$M157","v":148.33497333333335},{"$f":"[1]主表!$L157","v":148.33497333333335},1,{"$f":"[1]主表!$N157","v":0},{"$f":"[1]主表!$F157","v":7417},31,4,16,4,130.80000000000001]
[156,156,6,16,6,"合体期","前",6,{"$f":"[1]主表!$K158*20","v":4598.2307562666674},{"$f":"[1]主表!$M158","v":151.25759066666669},{"$f":"[1]主表!$L158","v":151.25759066666669},1,{"$f":"[1]主表!$N158","v":0},{"$f":"[1]主表!$F158","v":7563},32,4,16,4,131]
[157,157,6,16,7,"合体期","前",7,{"$f":"[1]主表!$K159*20","v":4697.8326737066664},{"$f":"[1]主表!$M159","v":154.19582080000001},{"$f":"[1]主表!$L159","v":154.19582080000001},1,{"$f":"[1]主表!$N159","v":0},{"$f":"[1]主表!$F159","v":7710},32,4,16,4,131.19999999999999]
[158,158,6,16,8,"合体期","前",8,{"$f":"[1]主表!$K160*20","v":4800.9896858488883},{"$f":"[1]主表!$M160","v":157.23765346666664},{"$f":"[1]主表!$L160","v":157.23765346666664},1,{"$f":"[1]主表!$N160","v":0},{"$f":"[1]主表!$F160","v":7862},32,4,16,4,131.4]
[159,159,6,16,9,"合体期","前",9,{"$f":"[1]主表!$K161*20","v":4907.7481070400008},{"$f":"[1]主表!$M161","v":160.38392506666668},{"$f":"[1]主表!$L161","v":160.38392506666668},1,{"$f":"[1]主表!$N161","v":0},{"$f":"[1]主表!$F161","v":8019},32,4,16,4,131.6]
[160,160,6,16,10,"合体期","前",10,{"$f":"[1]主表!$K162*20","v":5257.1142115555558},{"$f":"[1]主表!$M162","v":171.42763733333334},{"$f":"[1]主表!$L162","v":171.42763733333334},1,{"$f":"[1]主表!$N162","v":102.85},{"$f":"[1]主表!$F162","v":8571},32,4,16,4,131.80000000000001]
[161,161,6,17,1,"合体期","中",1,{"$f":"[1]主表!$K163*20","v":5372.4887876266666},{"$f":"[1]主表!$M163","v":174.80983039999998},{"$f":"[1]主表!$L163","v":174.80983039999998},1,{"$f":"[1]主表!$N163","v":104.88},{"$f":"[1]主表!$F163","v":8740},33,4,17,4,132.00000000000099]
[162,162,6,17,2,"合体期","中",2,{"$f":"[1]主表!$K164*20","v":5491.6083252800017},{"$f":"[1]主表!$M164","v":178.29897160000004},{"$f":"[1]主表!$L164","v":178.29897160000004},1,{"$f":"[1]主表!$N164","v":106.98},{"$f":"[1]主表!$F164","v":8915},33,4,17,4,132.20000000000101]
[163,163,6,17,3,"合体期","中",3,{"$f":"[1]主表!$K165*20","v":5611.7610531200007},{"$f":"[1]主表!$M165","v":181.80651360000005},{"$f":"[1]主表!$L165","v":181.80651360000005},1,{"$f":"[1]主表!$N165","v":109.08},{"$f":"[1]主表!$F165","v":9090},33,4,17,4,132.4]
[164,164,6,17,4,"合体期","中",4,{"$f":"[1]主表!$K166*20","v":5732.9506513066663},{"$f":"[1]主表!$M166","v":185.33245640000001},{"$f":"[1]主表!$L166","v":185.33245640000001},1,{"$f":"[1]主表!$N166","v":111.2},{"$f":"[1]主表!$F166","v":9267},33,4,17,4,132.60000000000099]
[165,165,6,17,5,"合体期","中",5,{"$f":"[1]主表!$K167*20","v":5857.9689813333334},{"$f":"[1]主表!$M167","v":188.96674133333335},{"$f":"[1]主表!$L167","v":188.96674133333335},1,{"$f":"[1]主表!$N167","v":113.38},{"$f":"[1]主表!$F167","v":9448},33,4,17,4,132.80000000000001]
[166,166,6,17,6,"合体期","中",6,{"$f":"[1]主表!$K168*20","v":5986.8636957866656},{"$f":"[1]主表!$M168","v":192.71020479999999},{"$f":"[1]主表!$L168","v":192.71020479999999},1,{"$f":"[1]主表!$N168","v":115.63},{"$f":"[1]主表!$F168","v":9636},34,4,17,4,133.00000000000099]
[167,167,6,17,7,"合体期","中",7,{"$f":"[1]主表!$K169*20","v":6116.8651368355568},{"$f":"[1]主表!$M169","v":196.47318426666664},{"$f":"[1]主表!$L169","v":196.47318426666664},1,{"$f":"[1]主表!$N169","v":117.89},{"$f":"[1]主表!$F169","v":9824},34,4,17,4,133.20000000000101]
[168,168,6,17,8,"合体期","中",8,{"$f":"[1]主表!$K170*20","v":6250.8094729599998},{"$f":"[1]主表!$M170","v":200.34645746666666},{"$f":"[1]主表!$L170","v":200.34645746666666},1,{"$f":"[1]主表!$N170","v":120.2},{"$f":"[1]主表!$F170","v":10017},34,4,17,4,133.4]
[169,169,6,17,9,"合体期","中",9,{"$f":"[1]主表!$K171*20","v":6385.897880071112},{"$f":"[1]主表!$M171","v":204.23980426666668},{"$f":"[1]主表!$L171","v":204.23980426666668},1,{"$f":"[1]主表!$N171","v":122.54},{"$f":"[1]主表!$F171","v":10212},34,4,17,4,133.60000000000099]
[170,170,6,17,10,"合体期","中",10,{"$f":"[1]主表!$K172*20","v":6842.6605026666675},{"$f":"[1]主表!$M172","v":218.38278200000002},{"$f":"[1]主表!$L172","v":218.38278200000002},1,{"$f":"[1]主表!$N172","v":152.87},{"$f":"[1]主表!$F172","v":10919},34,4,17,4,133.80000000000001]
[171,171,6,18,1,"合体期","后",1,{"$f":"[1]主表!$K173*20","v":6990.341601600001},{"$f":"[1]主表!$M173","v":222.622344},{"$f":"[1]主表!$L173","v":222.622344},1,{"$f":"[1]主表!$N173","v":155.83000000000001},{"$f":"[1]主表!$F173","v":11131},35,4,18,4,134.00000000000099]
[172,172,6,18,2,"合体期","后",2,{"$f":"[1]主表!$K174*20","v":7142.1638264888898},{"$f":"[1]主表!$M174","v":226.9755453333334},{"$f":"[1]主表!$L174","v":226.9755453333334},1,{"$f":"[1]主表!$N174","v":158.88999999999999},{"$f":"[1]主表!$F174","v":11349},35,4,18,4,134.20000000000101]
[173,173,6,18,3,"合体期","后",3,{"$f":"[1]主表!$K175*20","v":7298.1762796800012},{"$f":"[1]主表!$M175","v":231.44322240000005},{"$f":"[1]主表!$L175","v":231.44322240000005},1,{"$f":"[1]主表!$N175","v":162.01},{"$f":"[1]主表!$F175","v":11572},35,4,18,4,134.4]
[174,174,6,18,4,"合体期","后",4,{"$f":"[1]主表!$K176*20","v":7455.5068497066677},{"$f":"[1]主表!$M176","v":235.9337610666667},{"$f":"[1]主表!$L176","v":235.9337610666667},1,{"$f":"[1]主表!$N176","v":165.16},{"$f":"[1]主表!$F176","v":11797},35,4,18,4,134.60000000000099]
[175,175,6,18,5,"合体期","后",5,{"$f":"[1]主表!$K177*20","v":7617.0965377777784},{"$f":"[1]主表!$M177","v":240.53989066666668},{"$f":"[1]主表!$L177","v":240.53989066666668},1,{"$f":"[1]主表!$N177","v":168.38},{"$f":"[1]主表!$F177","v":12027},35,4,18,4,134.80000000000001]
[176,176,6,18,6,"合体期","后",6,{"$f":"[1]主表!$K178*20","v":7782.9950038400002},{"$f":"[1]主表!$M178","v":245.2624476},{"$f":"[1]主表!$L178","v":245.2624476},1,{"$f":"[1]主表!$N178","v":171.68},{"$f":"[1]主表!$F178","v":12263},36,4,18,4,135.00000000000099]
[177,177,6,18,7,"合体期","后",7,{"$f":"[1]主表!$K179*20","v":7950.2856064000007},{"$f":"[1]主表!$M179","v":250.00898133333337},{"$f":"[1]主表!$L179","v":250.00898133333337},1,{"$f":"[1]主表!$N179","v":175},{"$f":"[1]主表!$F179","v":12500},36,4,18,4,135.20000000000101]
[178,178,6,18,8,"合体期","后",8,{"$f":"[1]主表!$K180*20","v":8121.9547688533339},{"$f":"[1]主表!$M180","v":254.87305759999998},{"$f":"[1]主表!$L180","v":254.87305759999998},1,{"$f":"[1]主表!$N180","v":178.42},{"$f":"[1]主表!$F180","v":12744},36,4,18,4,135.4]
[179,179,6,18,9,"合体期","后",9,{"$f":"[1]主表!$K181*20","v":8298.0527087466689},{"$f":"[1]主表!$M181","v":259.85551280000004},{"$f":"[1]主表!$L181","v":259.85551280000004},1,{"$f":"[1]主表!$N181","v":181.9},{"$f":"[1]主表!$F181","v":12993},36,4,18,4,135.60000000000099]
[180,180,6,18,10,"合体期","后",10,{"$f":"[1]主表!$K182*20","v":9439.4408533333353},{"$f":"[1]主表!$M182","v":294.98252666666673},{"$f":"[1]主表!$L182","v":294.98252666666673},1,{"$f":"[1]主表!$N182","v":294.98},{"$f":"[1]主表!$F182","v":14749},36,4,18,4,135.80000000000001]
[181,181,7,19,1,"大乘期","前",1,{"$f":"[1]主表!$K183*20","v":9652.7104627200042},{"$f":"[1]主表!$M183","v":301.02007680000008},{"$f":"[1]主表!$L183","v":301.02007680000008},1,{"$f":"[1]主表!$N183","v":301.02},{"$f":"[1]主表!$F183","v":15051},37,4,19,4,136.00000000000099]
[182,182,7,19,2,"大乘期","前",2,{"$f":"[1]主表!$K184*20","v":9867.9841405511106},{"$f":"[1]主表!$M184","v":307.09494213333335},{"$f":"[1]主表!$L184","v":307.09494213333335},1,{"$f":"[1]主表!$N184","v":307.10000000000002},{"$f":"[1]主表!$F184","v":15355},37,4,19,4,136.20000000000101]
[183,183,7,19,3,"大乘期","前",3,{"$f":"[1]主表!$K185*20","v":10091.400212693332},{"$f":"[1]主表!$M185","v":313.39752213333327},{"$f":"[1]主表!$L185","v":313.39752213333327},1,{"$f":"[1]主表!$N185","v":313.39999999999998},{"$f":"[1]主表!$F185","v":15670},37,4,19,4,136.4]
[184,184,7,19,4,"大乘期","前",4,{"$f":"[1]主表!$K186*20","v":10316.906975075553},{"$f":"[1]主表!$M186","v":319.73885253333333},{"$f":"[1]主表!$L186","v":319.73885253333333},1,{"$f":"[1]主表!$N186","v":319.74},{"$f":"[1]主表!$F186","v":15987},37,4,19,4,136.60000000000099]
[185,185,7,19,5,"大乘期","前",5,{"$f":"[1]主表!$K187*20","v":10547.61350488889},{"$f":"[1]主表!$M187","v":326.21485066666668},{"$f":"[1]主表!$L187","v":326.21485066666668},1,{"$f":"[1]主表!$N187","v":326.22000000000003},{"$f":"[1]主表!$F187","v":16311},37,4,19,4,136.80000000000001]
[186,186,7,19,6,"大乘期","前",6,{"$f":"[1]主表!$K188*20","v":10787.31517104},{"$f":"[1]主表!$M188","v":332.94182626666668},{"$f":"[1]主表!$L188","v":332.94182626666668},1,{"$f":"[1]主表!$N188","v":332.94},{"$f":"[1]主表!$F188","v":16647},38,4,19,4,137.00000000000099]
[187,187,7,19,7,"大乘期","前",7,{"$f":"[1]主表!$K189*20","v":11032.479247253332},{"$f":"[1]主表!$M189","v":339.80942239999996},{"$f":"[1]主表!$L189","v":339.80942239999996},1,{"$f":"[1]主表!$N189","v":339.8},{"$f":"[1]主表!$F189","v":16990},38,4,19,4,137.20000000000101]
[188,188,7,19,8,"大乘期","前",8,{"$f":"[1]主表!$K190*20","v":11283.172129848888},{"$f":"[1]主表!$M190","v":346.81881546666665},{"$f":"[1]主表!$L190","v":346.81881546666665},1,{"$f":"[1]主表!$N190","v":346.82},{"$f":"[1]主表!$F190","v":17341},38,4,19,4,137.4]
[189,189,7,19,9,"大乘期","前",9,{"$f":"[1]主表!$K191*20","v":11539.460528853333},{"$f":"[1]主表!$M191","v":353.97118186666665},{"$f":"[1]主表!$L191","v":353.97118186666665},1,{"$f":"[1]主表!$N191","v":353.98},{"$f":"[1]主表!$F191","v":17699},38,4,19,4,137.60000000000099]
[190,190,7,19,10,"大乘期","前",10,{"$f":"[1]主表!$K192*20","v":12373.736760000002},{"$f":"[1]主表!$M192","v":378.78786000000002},{"$f":"[1]主表!$L192","v":378.78786000000002},1,{"$f":"[1]主表!$N192","v":416.66},{"$f":"[1]主表!$F192","v":18939},38,4,19,4,137.80000000000001]
[191,191,7,20,1,"大乘期","中",1,{"$f":"[1]主表!$K193*20","v":12654.53332839111},{"$f":"[1]主表!$M193","v":386.59470453333336},{"$f":"[1]主表!$L193","v":386.59470453333336},1,{"$f":"[1]主表!$N193","v":425.26},{"$f":"[1]主表!$F193","v":19330},39,4,20,4,138.00000000000099]
[192,192,7,20,2,"大乘期","中",2,{"$f":"[1]主表!$K194*20","v":12938.017141973332},{"$f":"[1]主表!$M194","v":394.45174213333331},{"$f":"[1]主表!$L194","v":394.45174213333331},1,{"$f":"[1]主表!$N194","v":433.91},{"$f":"[1]主表!$F194","v":19723},39,4,20,4,138.20000000000101]
[193,193,7,20,3,"大乘期","中",3,{"$f":"[1]主表!$K195*20","v":13230.709415253335},{"$f":"[1]主表!$M195","v":402.55708160000012},{"$f":"[1]主表!$L195","v":402.55708160000012},1,{"$f":"[1]主表!$N195","v":442.82},{"$f":"[1]主表!$F195","v":20128},39,4,20,4,138.4]
[194,194,7,20,{"$f":"H198","v":4},"大乘期","中",4,{"$f":"[1]主表!$K196*20","v":13529.462188320002},{"$f":"[1]主表!$M196","v":410.81362920000009},{"$f":"[1]主表!$L196","v":410.81362920000009},1,{"$f":"[1]主表!$N196","v":451.9},{"$f":"[1]主表!$F196","v":20541},39,4,20,4,138.60000000000099]
[195,195,7,20,5,"大乘期","中",5,{"$f":"[1]主表!$K197*20","v":13834.344524000004},{"$f":"[1]主表!$M197","v":419.22256133333337},{"$f":"[1]主表!$L197","v":419.22256133333337},1,{"$f":"[1]主表!$N197","v":461.14},{"$f":"[1]主表!$F197","v":20961},39,4,20,4,138.80000000000101]
[196,196,7,20,6,"大乘期","中",6,{"$f":"[1]主表!$K198*20","v":14145.425798826671},{"$f":"[1]主表!$M198","v":427.78505440000009},{"$f":"[1]主表!$L198","v":427.78505440000009},1,{"$f":"[1]主表!$N198","v":470.56},{"$f":"[1]主表!$F198","v":21389},40,4,20,4,139.00000000000099]
[197,197,7,20,7,"大乘期","中",7,{"$f":"[1]主表!$K199*20","v":14466.109676231114},{"$f":"[1]主表!$M199","v":436.60290773333344},{"$f":"[1]主表!$L199","v":436.60290773333344},1,{"$f":"[1]主表!$N199","v":480.26},{"$f":"[1]主表!$F199","v":21830},40,4,20,4,139.20000000000101]
[198,198,7,20,8,"大乘期","中",8,{"$f":"[1]主表!$K200*20","v":14789.817940800005},{"$f":"[1]主表!$M200","v":445.47644400000013},{"$f":"[1]主表!$L200","v":445.47644400000013},1,{"$f":"[1]主表!$N200","v":490.03},{"$f":"[1]主表!$F200","v":22274},40,4,20,4,139.400000000001]
[199,199,7,20,9,"大乘期","中",9,{"$f":"[1]主表!$K201*20","v":15123.308688160003},{"$f":"[1]主表!$M201","v":454.60847760000001},{"$f":"[1]主表!$L201","v":454.60847760000001},1,{"$f":"[1]主表!$N201","v":500.06},{"$f":"[1]主表!$F201","v":22730},40,4,20,4,139.60000000000099]
[200,200,7,20,10,"大乘期","中",10,{"$f":"[1]主表!$K202*20","v":16213.240488888887},{"$f":"[1]主表!$M202","v":486.39721466666668},{"$f":"[1]主表!$L202","v":486.39721466666668},1,{"$f":"[1]主表!$N202","v":583.67999999999995},{"$f":"[1]主表!$F202","v":24320},40,4,20,4,139.80000000000101]
[201,201,7,21,1,"大乘期","后",1,{"$f":"[1]主表!$K203*20","v":16577.888050239999},{"$f":"[1]主表!$M203","v":496.34395360000002},{"$f":"[1]主表!$L203","v":496.34395360000002},1,{"$f":"[1]主表!$N203","v":595.61},{"$f":"[1]主表!$F203","v":24817},41,5,21,5,140.00000000000099]
[202,202,7,21,2,"大乘期","后",2,{"$f":"[1]主表!$K204*20","v":16949.368471093334},{"$f":"[1]主表!$M204","v":506.45523320000007},{"$f":"[1]主表!$L204","v":506.45523320000007},1,{"$f":"[1]主表!$N204","v":607.75},{"$f":"[1]主表!$F204","v":25323},41,5,21,5,140.20000000000101]
[203,203,7,21,3,"大乘期","后",3,{"$f":"[1]主表!$K205*20","v":17327.754108195557},{"$f":"[1]主表!$M205","v":516.73222986666667},{"$f":"[1]主表!$L205","v":516.73222986666667},1,{"$f":"[1]主表!$N205","v":620.09},{"$f":"[1]主表!$F205","v":25837},41,5,21,5,140.400000000001]
[204,204,7,21,4,"大乘期","后",4,{"$f":"[1]主表!$K206*20","v":17716.590792320007},{"$f":"[1]主表!$M206","v":527.27948786666673},{"$f":"[1]主表!$L206","v":527.27948786666673},1,{"$f":"[1]主表!$N206","v":632.74},{"$f":"[1]主表!$F206","v":26364},41,5,{"$f":"Q198+1","v":21},5,140.60000000000099]
[205,205,7,21,5,"大乘期","后",5,{"$f":"[1]主表!$K207*20","v":18112.518533333336},{"$f":"[1]主表!$M207","v":537.99560000000008},{"$f":"[1]主表!$L207","v":537.99560000000008},1,{"$f":"[1]主表!$N207","v":645.6},{"$f":"[1]主表!$F207","v":26900},41,5,21,5,140.80000000000101]
[206,206,7,21,6,"大乘期","后",6,{"$f":"[1]主表!$K208*20","v":18515.610785955556},{"$f":"[1]主表!$M208","v":548.8817426666667},{"$f":"[1]主表!$L208","v":548.8817426666667},1,{"$f":"[1]主表!$N208","v":658.66},{"$f":"[1]主表!$F208","v":27444},42,5,21,5,141.00000000000099]
[207,207,7,21,7,"大乘期","后",7,{"$f":"[1]主表!$K209*20","v":18929.474914826671},{"$f":"[1]主表!$M209","v":560.04363653333337},{"$f":"[1]主表!$L209","v":560.04363653333337},1,{"$f":"[1]主表!$N209","v":672.05},{"$f":"[1]主表!$F209","v":28002},42,5,21,5,141.20000000000101]
[208,208,7,21,8,"大乘期","后",8,{"$f":"[1]主表!$K210*20","v":19350.691905600001},{"$f":"[1]主表!$M210","v":571.3786980000001},{"$f":"[1]主表!$L210","v":571.3786980000001},1,{"$f":"[1]主表!$N210","v":685.66},{"$f":"[1]主表!$F210","v":28569},42,5,21,5,141.400000000001]
[209,209,7,21,9,"大乘期","后",9,{"$f":"[1]主表!$K211*20","v":19782.910459200004},{"$f":"[1]主表!$M211","v":582.9934320000001},{"$f":"[1]主表!$L211","v":582.9934320000001},1,{"$f":"[1]主表!$N211","v":699.6},{"$f":"[1]主表!$F211","v":29150},42,5,21,5,141.60000000000099]
[210,210,7,21,10,"大乘期","后",10,{"$f":"[1]主表!$K212*20","v":22515.964704000002},{"$f":"[1]主表!$M212","v":662.23425600000007},{"$f":"[1]主表!$L212","v":662.23425600000007},1,{"$f":"[1]主表!$N212","v":993.36},{"$f":"[1]主表!$F212","v":33112},42,5,21,5,141.80000000000101]
[211,211,7,19,1,"飞升期","前",1,{"$f":"[1]主表!$K213*20","v":23016.128064906665},{"$f":"[1]主表!$M213","v":675.6201976000001},{"$f":"[1]主表!$L213","v":675.6201976000001},1,{"$f":"[1]主表!$N213","v":1013.43},{"$f":"[1]主表!$F213","v":33781},43,5,22,5,142.00000000000099]
[212,212,7,19,2,"飞升期","前",2,{"$f":"[1]主表!$K214*20","v":23528.104227271109},{"$f":"[1]主表!$M214","v":689.29992853333329},{"$f":"[1]主表!$L214","v":689.29992853333329},1,{"$f":"[1]主表!$N214","v":1033.95},{"$f":"[1]主表!$F214","v":34465},43,5,22,5,142.20000000000101]
[213,213,7,19,3,"飞升期","前",3,{"$f":"[1]主表!$K215*20","v":24048.376535040003},{"$f":"[1]主表!$M215","v":703.16890453333338},{"$f":"[1]主表!$L215","v":703.16890453333338},1,{"$f":"[1]主表!$N215","v":1054.74},{"$f":"[1]主表!$F215","v":35158},43,5,22,5,142.400000000001]
[214,214,7,19,4,"飞升期","前",4,{"$f":"[1]主表!$K216*20","v":24584.376035040001},{"$f":"[1]主表!$M216","v":717.44288040000004},{"$f":"[1]主表!$L216","v":717.44288040000004},1,{"$f":"[1]主表!$N216","v":1076.1600000000001},{"$f":"[1]主表!$F216","v":35872},43,5,22,5,142.60000000000099]
[215,215,7,19,5,"飞升期","前",5,{"$f":"[1]主表!$K217*20","v":25128.910778222227},{"$f":"[1]主表!$M217","v":731.9100226666668},{"$f":"[1]主表!$L217","v":731.9100226666668},1,{"$f":"[1]主表!$N217","v":1097.8800000000001},{"$f":"[1]主表!$F217","v":36596},43,5,22,5,142.80000000000101]
[216,216,7,19,6,"飞升期","前",6,{"$f":"[1]主表!$K218*20","v":25685.777593280003},{"$f":"[1]主表!$M218","v":746.67958120000014},{"$f":"[1]主表!$L218","v":746.67958120000014},1,{"$f":"[1]主表!$N218","v":1120.02},{"$f":"[1]主表!$F218","v":37334},44,5,22,5,143.00000000000099]
[217,217,7,19,7,"飞升期","前",7,{"$f":"[1]主表!$K219*20","v":26255.11805664},{"$f":"[1]主表!$M219","v":761.75390880000009},{"$f":"[1]主表!$L219","v":761.75390880000009},1,{"$f":"[1]主表!$N219","v":1142.6400000000001},{"$f":"[1]主表!$F219","v":38088},44,5,22,5,143.20000000000101]
[218,218,7,19,8,"飞升期","前",8,{"$f":"[1]主表!$K220*20","v":26833.315151751103},{"$f":"[1]主表!$M220","v":777.02650053333332},{"$f":"[1]主表!$L220","v":777.02650053333332},1,{"$f":"[1]主表!$N220","v":1165.53},{"$f":"[1]主表!$F220","v":38851},44,5,22,5,143.400000000001]
[219,219,7,19,9,"飞升期","前",9,{"$f":"[1]主表!$K221*20","v":27428.009325653336},{"$f":"[1]主表!$M221","v":792.71703253333339},{"$f":"[1]主表!$L221","v":792.71703253333339},1,{"$f":"[1]主表!$N221","v":1189.08},{"$f":"[1]主表!$F221","v":39636},44,5,22,5,143.60000000000099]
[220,220,7,19,10,"飞升期","前",10,{"$f":"[1]主表!$K222*20","v":29396.335904000007},{"$f":"[1]主表!$M222","v":847.97122800000011},{"$f":"[1]主表!$L222","v":847.97122800000011},1,{"$f":"[1]主表!$N222","v":1356.77},{"$f":"[1]主表!$F222","v":42399},44,5,22,5,143.80000000000101]
[221,221,7,20,1,"飞升期","中",1,{"$f":"[1]主表!$K223*20","v":30043.580388764451},{"$f":"[1]主表!$M223","v":864.97832213333345},{"$f":"[1]主表!$L223","v":864.97832213333345},1,{"$f":"[1]主表!$N223","v":1383.97},{"$f":"[1]主表!$F223","v":43249},45,5,23,5,144.00000000000099]
[222,222,7,20,2,"飞升期","中",2,{"$f":"[1]主表!$K224*20","v":30708.087133280002},{"$f":"[1]主表!$M224","v":882.41629693333334},{"$f":"[1]主表!$L224","v":882.41629693333334},1,{"$f":"[1]主表!$N224","v":1411.87},{"$f":"[1]主表!$F224","v":44121},45,5,23,5,144.20000000000101]
[223,223,7,20,3,"飞升期","中",3,{"$f":"[1]主表!$K225*20","v":31382.337628693327},{"$f":"[1]主表!$M225","v":900.06704479999996},{"$f":"[1]主表!$L225","v":900.06704479999996},1,{"$f":"[1]主表!$N225","v":1440.1},{"$f":"[1]主表!$F225","v":45003},45,5,23,5,144.400000000001]
[224,224,7,20,4,"飞升期","中",4,{"$f":"[1]主表!$K226*20","v":32074.185434453328},{"$f":"[1]主表!$M226","v":918.15416319999986},{"$f":"[1]主表!$L226","v":918.15416319999986},1,{"$f":"[1]主表!$N226","v":1469.06},{"$f":"[1]主表!$F226","v":45908},45,5,23,5,144.60000000000099]
[225,225,7,20,5,"飞升期","中",5,{"$f":"[1]主表!$K227*20","v":32779.935253333329},{"$f":"[1]主表!$M227","v":936.56957866666664},{"$f":"[1]主表!$L227","v":936.56957866666664},1,{"$f":"[1]主表!$N227","v":1498.5},{"$f":"[1]主表!$F227","v":46828},45,5,23,5,144.80000000000101]
[226,226,7,20,6,"飞升期","中",6,{"$f":"[1]主表!$K228*20","v":33499.735249599995},{"$f":"[1]主表!$M228","v":955.31564400000013},{"$f":"[1]主表!$L228","v":955.31564400000013},1,{"$f":"[1]主表!$N228","v":1528.51},{"$f":"[1]主表!$F228","v":47766},46,5,23,5,145.00000000000099]
[227,227,7,20,7,"飞升期","中",7,{"$f":"[1]主表!$K229*20","v":34237.682742524448},{"$f":"[1]主表!$M229","v":974.50709893333328},{"$f":"[1]主表!$L229","v":974.50709893333328},1,{"$f":"[1]主表!$N229","v":1559.2},{"$f":"[1]主表!$F229","v":48725},46,5,23,5,145.20000000000101]
[228,228,7,20,8,"飞升期","中",8,{"$f":"[1]主表!$K230*20","v":34990.02121472},{"$f":"[1]主表!$M230","v":994.03469360000008},{"$f":"[1]主表!$L230","v":994.03469360000008},1,{"$f":"[1]主表!$N230","v":1590.46},{"$f":"[1]主表!$F230","v":49702},46,5,23,5,145.400000000001]
[229,229,7,20,9,"飞升期","中",9,{"$f":"[1]主表!$K231*20","v":35756.900869546662},{"$f":"[1]主表!$M231","v":1013.9007807999999},{"$f":"[1]主表!$L231","v":1013.9007807999999},1,{"$f":"[1]主表!$N231","v":1622.24},{"$f":"[1]主表!$F231","v":50695},46,5,23,5,145.60000000000099]
[230,230,7,20,10,"飞升期","中",10,{"$f":"[1]主表!$K232*20","v":38316.041539999998},{"$f":"[1]主表!$M232","v":1084.4162700000002},{"$f":"[1]主表!$L232","v":1084.4162700000002},1,{"$f":"[1]主表!$N232","v":1843.51},{"$f":"[1]主表!$F232","v":54221},46,5,23,5,145.80000000000101]
[231,231,7,21,1,"飞升期","后",1,{"$f":"[1]主表!$K233*20","v":39154.232285120001},{"$f":"[1]主表!$M233","v":1106.0517594666669},{"$f":"[1]主表!$L233","v":1106.0517594666669},1,{"$f":"[1]主表!$N233","v":1880.3},{"$f":"[1]主表!$F233","v":55303},47,5,24,5,146.00000000000099]
[232,232,7,21,2,"飞升期","后",2,{"$f":"[1]主表!$K234*20","v":40011.841352746669},{"$f":"[1]主表!$M234","v":1128.1534216},{"$f":"[1]主表!$L234","v":1128.1534216},1,{"$f":"[1]主表!$N234","v":1917.87},{"$f":"[1]主表!$F234","v":56408},47,5,24,5,146.20000000000101]
[233,233,7,21,3,"飞升期","后",3,{"$f":"[1]主表!$K235*20","v":40885.01029646222},{"$f":"[1]主表!$M235","v":1150.6100458666667},{"$f":"[1]主表!$L235","v":1150.6100458666667},1,{"$f":"[1]主表!$N235","v":1956.05},{"$f":"[1]主表!$F235","v":57531},47,5,24,5,146.400000000001]
[234,234,7,21,4,"飞升期","后",4,{"$f":"[1]主表!$K236*20","v":41782.091257280001},{"$f":"[1]主表!$M236","v":1173.6542488},{"$f":"[1]主表!$L236","v":1173.6542488},1,{"$f":"[1]主表!$N236","v":1995.22},{"$f":"[1]主表!$F236","v":58683},47,5,24,5,146.60000000000099]
[235,235,7,21,5,"飞升期","后",5,{"$f":"[1]主表!$K237*20","v":42691.008515999994},{"$f":"[1]主表!$M237","v":1196.944164},{"$f":"[1]主表!$L237","v":1196.944164},1,{"$f":"[1]主表!$N237","v":2034.8},{"$f":"[1]主表!$F237","v":59847},47,5,24,5,146.80000000000101]
[236,236,7,21,6,"飞升期","后",6,{"$f":"[1]主表!$K238*20","v":43624.279461262231},{"$f":"[1]主表!$M238","v":1220.8287162666668},{"$f":"[1]主表!$L238","v":1220.8287162666668},1,{"$f":"[1]主表!$N238","v":2075.39},{"$f":"[1]主表!$F238","v":61041},48,5,24,5,147.00000000000099]
[237,237,7,21,7,"飞升期","后",7,{"$f":"[1]主表!$K239*20","v":44578.027645013339},{"$f":"[1]主表!$M239","v":1245.1963029333333},{"$f":"[1]主表!$L239","v":1245.1963029333333},1,{"$f":"[1]主表!$N239","v":2116.84},{"$f":"[1]主表!$F239","v":62260},48,5,24,5,147.20000000000101]
[238,238,7,21,8,"飞升期","后",8,{"$f":"[1]主表!$K240*20","v":45548.29060042667},{"$f":"[1]主表!$M240","v":1269.9337528000001},{"$f":"[1]主表!$L240","v":1269.9337528000001},1,{"$f":"[1]主表!$N240","v":2158.9},{"$f":"[1]主表!$F240","v":63497},48,5,24,5,147.400000000001]
[239,239,7,21,9,"飞升期","后",9,{"$f":"[1]主表!$K241*20","v":46539.434369119997},{"$f":"[1]主表!$M241","v":1295.1605112},{"$f":"[1]主表!$L241","v":1295.1605112},1,{"$f":"[1]主表!$N241","v":2201.77},{"$f":"[1]主表!$F241","v":64758},48,5,24,5,147.60000000000099]
[240,240,7,21,10,"飞升期","后",10,{"$f":"[1]主表!$K242*20","v":52944.230064000003},{"$f":"[1]主表!$M242","v":1470.6730573333334},{"$f":"[1]主表!$L242","v":1470.6730573333334},1,{"$f":"[1]主表!$N242","v":2941.36},{"$f":"[1]主表!$F242","v":73534},48,5,24,5,147.80000000000101]
[241,241,7,19,1,"逍遥期","前",1,{"$f":"[1]主表!$K243*20","v":53988.723753777776},{"$f":"[1]主表!$M243","v":1496.9147066666667},{"$f":"[1]主表!$L243","v":1496.9147066666667},1,{"$f":"[1]主表!$N243","v":2993.84},{"$f":"[1]主表!$F243","v":74846},49,5,25,5,148.00000000000099]
[242,242,7,19,2,"逍遥期","前",2,{"$f":"[1]主表!$K244*20","v":55047.488226026675},{"$f":"[1]主表!$M244","v":1523.4544712000002},{"$f":"[1]主表!$L244","v":1523.4544712000002},1,{"$f":"[1]主表!$N244","v":3046.92},{"$f":"[1]主表!$F244","v":76173},49,5,25,5,148.20000000000101]
[243,243,7,19,3,"逍遥期","前",3,{"$f":"[1]主表!$K245*20","v":56129.154617013337},{"$f":"[1]主表!$M245","v":1550.5291330666666},{"$f":"[1]主表!$L245","v":1550.5291330666666},1,{"$f":"[1]主表!$N245","v":3101.04},{"$f":"[1]主表!$F245","v":77526},49,5,25,5,148.400000000001]
[244,244,7,19,4,"逍遥期","前",4,{"$f":"[1]主表!$K246*20","v":57233.895650417791},{"$f":"[1]主表!$M246","v":1578.1405050666667},{"$f":"[1]主表!$L246","v":1578.1405050666667},1,{"$f":"[1]主表!$N246","v":3156.28},{"$f":"[1]主表!$F246","v":78907},49,5,25,5,148.60000000000099]
[245,245,7,19,5,"逍遥期","前",5,{"$f":"[1]主表!$K247*20","v":58357.588480000006},{"$f":"[1]主表!$M247","v":1606.1721599999998},{"$f":"[1]主表!$L247","v":1606.1721599999998},1,{"$f":"[1]主表!$N247","v":3212.36},{"$f":"[1]主表!$F247","v":80309},49,5,25,5,148.80000000000101]
[246,246,7,19,6,"逍遥期","前",6,{"$f":"[1]主表!$K248*20","v":59497.103411199991},{"$f":"[1]主表!$M248","v":1634.5358079999999},{"$f":"[1]主表!$L248","v":1634.5358079999999},1,{"$f":"[1]主表!$N248","v":3269.08},{"$f":"[1]主表!$F248","v":81727},50,5,25,5,149.00000000000099]
[247,247,7,19,7,"逍遥期","前",7,{"$f":"[1]主表!$K249*20","v":60655.587216},{"$f":"[1]主表!$M249","v":1663.31592},{"$f":"[1]主表!$L249","v":1663.31592},1,{"$f":"[1]主表!$N249","v":3326.64},{"$f":"[1]主表!$F249","v":83166},50,5,25,5,149.20000000000101]
[248,248,7,19,8,"逍遥期","前",8,{"$f":"[1]主表!$K250*20","v":61837.502510933336},{"$f":"[1]主表!$M250","v":1692.6323679999998},{"$f":"[1]主表!$L250","v":1692.6323679999998},1,{"$f":"[1]主表!$N250","v":3385.28},{"$f":"[1]主表!$F250","v":84632},50,5,25,5,149.400000000001]
[249,249,7,19,9,"逍遥期","前",9,{"$f":"[1]主表!$K251*20","v":63043.016294399997},{"$f":"[1]主表!$M251","v":1722.4867839999997},{"$f":"[1]主表!$L251","v":1722.4867839999997},1,{"$f":"[1]主表!$N251","v":3444.96},{"$f":"[1]主表!$F251","v":86124},50,5,25,5,149.60000000000099]
[250,250,7,19,10,"逍遥期","前",10,{"$f":"[1]主表!$K252*20","v":67394.342399999994},{"$f":"[1]主表!$M252","v":1838.0275199999999},{"$f":"[1]主表!$L252","v":1838.0275199999999},1,{"$f":"[1]主表!$N252","v":3859.84},{"$f":"[1]主表!$F252","v":91901},50,5,25,5,149.80000000000101]
[251,251,7,20,1,"逍遥期","中",1,{"$f":"[1]主表!$K253*20","v":68709.289174400008},{"$f":"[1]主表!$M253","v":1870.488816},{"$f":"[1]主表!$L253","v":1870.488816},1,{"$f":"[1]主表!$N253","v":3928.01},{"$f":"[1]主表!$F253","v":93524},51,6,26,6,150.00000000000099]
[252,252,7,20,2,"逍遥期","中",2,{"$f":"[1]主表!$K254*20","v":70048.661631999988},{"$f":"[1]主表!$M254","v":1903.4962400000002},{"$f":"[1]主表!$L254","v":1903.4962400000002},1,{"$f":"[1]主表!$N254","v":3997.35},{"$f":"[1]主表!$F254","v":95175},51,6,26,6,150.20000000000101]
[253,253,7,20,3,"逍遥期","中",3,{"$f":"[1]主表!$K255*20","v":71412.629164800004},{"$f":"[1]主表!$M255","v":1937.0514240000002},{"$f":"[1]主表!$L255","v":1937.0514240000002},1,{"$f":"[1]主表!$N255","v":4067.83},{"$f":"[1]主表!$F255","v":96853},51,6,26,6,150.400000000001]
[254,254,7,20,4,"逍遥期","中",4,{"$f":"[1]主表!$K256*20","v":72801.361600000004},{"$f":"[1]主表!$M256","v":1971.1559999999999},{"$f":"[1]主表!$L256","v":1971.1559999999999},1,{"$f":"[1]主表!$N256","v":4139.4399999999996},{"$f":"[1]主表!$F256","v":98558},51,6,26,6,150.60000000000099]
[255,255,7,20,5,"逍遥期","中",5,{"$f":"[1]主表!$K257*20","v":74219.454399999988},{"$f":"[1]主表!$M257","v":2005.9312000000002},{"$f":"[1]主表!$L257","v":2005.9312000000002},1,{"$f":"[1]主表!$N257","v":4212.47},{"$f":"[1]主表!$F257","v":100297},51,6,26,6,150.80000000000101]
[256,256,7,20,6,"逍遥期","中",6,{"$f":"[1]主表!$K258*20","v":75662.679091200029},{"$f":"[1]主表!$M258","v":2041.2593280000001},{"$f":"[1]主表!$L258","v":2041.2593280000001},1,{"$f":"[1]主表!$N258","v":4286.6499999999996},{"$f":"[1]主表!$F258","v":102063},52,6,26,6,151.00000000000099]
[257,257,7,20,7,"逍遥期","中",7,{"$f":"[1]主表!$K259*20","v":77135.658107733354},{"$f":"[1]主表!$M259","v":2077.2618880000005},{"$f":"[1]主表!$L259","v":2077.2618880000005},1,{"$f":"[1]主表!$N259","v":4362.25},{"$f":"[1]主表!$F259","v":103863},52,6,26,6,151.20000000000101]
[258,258,7,20,{"$f":"H262","v":8},"逍遥期","中",8,{"$f":"[1]主表!$K260*20","v":78634.137926399999},{"$f":"[1]主表!$M260","v":2113.8209120000001},{"$f":"[1]主表!$L260","v":2113.8209120000001},1,{"$f":"[1]主表!$N260","v":4439.0200000000004},{"$f":"[1]主表!$F260","v":105691},52,6,26,6,151.400000000001]
[259,259,7,20,9,"逍遥期","中",9,{"$f":"[1]主表!$K261*20","v":80162.768025599988},{"$f":"[1]主表!$M261","v":2151.058176},{"$f":"[1]主表!$L261","v":2151.058176},1,{"$f":"[1]主表!$N261","v":4517.2299999999996},{"$f":"[1]主表!$F261","v":107553},52,6,26,6,151.60000000000099]
[260,260,7,20,10,"逍遥期","中",10,{"$f":"[1]主表!$K262*20","v":85695.811413333344},{"$f":"[1]主表!$M262","v":2295.4235200000003},{"$f":"[1]主表!$L262","v":2295.4235200000003},1,{"$f":"[1]主表!$N262","v":5049.92},{"$f":"[1]主表!$F262","v":114771},52,6,26,6,151.80000000000101]
[261,261,7,21,1,"逍遥期","后",1,{"$f":"[1]主表!$K263*20","v":87360.025843200012},{"$f":"[1]主表!$M263","v":2335.8295680000001},{"$f":"[1]主表!$L263","v":2335.8295680000001},1,{"$f":"[1]主表!$N263","v":5138.8},{"$f":"[1]主表!$F263","v":116791},53,6,27,6,152.00000000000099]
[262,262,7,21,2,"逍遥期","后",2,{"$f":"[1]主表!$K264*20","v":89055.411107200023},{"$f":"[1]主表!$M264","v":2376.9237840000001},{"$f":"[1]主表!$L264","v":2376.9237840000001},1,{"$f":"[1]主表!$N264","v":5229.22},{"$f":"[1]主表!$F264","v":118846},53,6,27,6,152.20000000000101]
[263,263,7,21,3,"逍遥期","后",3,{"$f":"[1]主表!$K265*20","v":90786.711229866662},{"$f":"[1]主表!$M265","v":2418.828896},{"$f":"[1]主表!$L265","v":2418.828896},1,{"$f":"[1]主表!$N265","v":5321.4},{"$f":"[1]主表!$F265","v":120941},53,6,27,6,152.400000000001]
[264,264,7,21,4,"逍遥期","后",4,{"$f":"[1]主表!$K266*20","v":92549.637452800001},{"$f":"[1]主表!$M266","v":2461.426528},{"$f":"[1]主表!$L266","v":2461.426528},1,{"$f":"[1]主表!$N266","v":5415.12},{"$f":"[1]主表!$F266","v":123071},53,6,27,6,152.60000000000099]
[265,265,7,21,5,"逍遥期","后",5,{"$f":"[1]主表!$K267*20","v":94348.961280000003},{"$f":"[1]主表!$M267","v":2504.83968},{"$f":"[1]主表!$L267","v":2504.83968},1,{"$f":"[1]主表!$N267","v":5510.65},{"$f":"[1]主表!$F267","v":125242},53,6,27,6,152.80000000000101]
[266,266,7,21,6,"逍遥期","后",6,{"$f":"[1]主表!$K268*20","v":96180.368830933352},{"$f":"[1]主表!$M268","v":2548.9497040000001},{"$f":"[1]主表!$L268","v":2548.9497040000001},1,{"$f":"[1]主表!$N268","v":5607.67},{"$f":"[1]主表!$F268","v":127447},54,6,27,6,153.00000000000099]
[267,267,7,21,7,"逍遥期","后",7,{"$f":"[1]主表!$K269*20","v":98044.076592000027},{"$f":"[1]主表!$M269","v":2593.75864},{"$f":"[1]主表!$L269","v":2593.75864},1,{"$f":"[1]主表!$N269","v":5706.27},{"$f":"[1]主表!$F269","v":129688},54,6,27,6,153.20000000000101]
[268,268,7,21,8,"逍遥期","后",8,{"$f":"[1]主表!$K270*20","v":99949.493196800002},{"$f":"[1]主表!$M270","v":2639.5112640000002},{"$f":"[1]主表!$L270","v":2639.5112640000002},1,{"$f":"[1]主表!$N270","v":5806.94},{"$f":"[1]主表!$F270","v":131976},54,6,{"$f":"Q262+1","v":27},6,153.400000000001]
[269,269,7,21,9,"逍遥期","后",9,{"$f":"[1]主表!$K271*20","v":101887.69761706665},{"$f":"[1]主表!$M271","v":2685.9674239999999},{"$f":"[1]主表!$L271","v":2685.9674239999999},1,{"$f":"[1]主表!$N271","v":5909.11},{"$f":"[1]主表!$F271","v":134298},54,6,27,6,153.60000000000099]
[270,270,7,21,10,"逍遥期","后",10,{"$f":"[1]主表!$K272*20","v":115641.20175999998},{"$f":"[1]主表!$M272","v":3043.1895199999999},{"$f":"[1]主表!$L272","v":3043.1895199999999},1,{"$f":"[1]主表!$N272","v":7607.95},{"$f":"[1]主表!$F272","v":152159},54,6,27,6,153.80000000000101]
[271,271,7,19,1,"真神期","前",1,{"$f":"[1]主表!$K273*20","v":117883.47075199999},{"$f":"[1]主表!$M273","v":3096.76368},{"$f":"[1]主表!$L273","v":3096.76368},1,{"$f":"[1]主表!$N273","v":7741.9},{"$f":"[1]主表!$F273","v":154838},55,6,28,6,154.00000000000099]
[272,272,7,19,2,"真神期","前",2,{"$f":"[1]主表!$K274*20","v":120169.69871573334},{"$f":"[1]主表!$M274","v":3151.3032880000001},{"$f":"[1]主表!$L274","v":3151.3032880000001},1,{"$f":"[1]主表!$N274","v":7878.25},{"$f":"[1]主表!$F274","v":157565},55,6,28,6,154.20000000000101]
[273,273,7,19,3,"真神期","前",3,{"$f":"[1]主表!$K275*20","v":122500.18783999998},{"$f":"[1]主表!$M275","v":3206.8112000000001},{"$f":"[1]主表!$L275","v":3206.8112000000001},1,{"$f":"[1]主表!$N275","v":8017.05},{"$f":"[1]主表!$F275","v":160341},55,6,28,6,154.400000000001]
[274,274,7,19,4,"真神期","前",4,{"$f":"[1]主表!$K276*20","v":124875.24107519997},{"$f":"[1]主表!$M276","v":3263.2902719999997},{"$f":"[1]主表!$L276","v":3263.2902719999997},1,{"$f":"[1]主表!$N276","v":8158.25},{"$f":"[1]主表!$F276","v":163165},55,6,28,6,154.60000000000099]
[275,275,7,19,5,"真神期","前",5,{"$f":"[1]主表!$K277*20","v":127295.16213333333},{"$f":"[1]主表!$M277","v":3320.7433599999999},{"$f":"[1]主表!$L277","v":3320.7433599999999},1,{"$f":"[1]主表!$N277","v":8301.85},{"$f":"[1]主表!$F277","v":166037},55,6,28,6,154.80000000000101]
[276,276,7,19,6,"真神期","前",6,{"$f":"[1]主表!$K278*20","v":129760.255488},{"$f":"[1]主表!$M278","v":3379.1733199999999},{"$f":"[1]主表!$L278","v":3379.1733199999999},1,{"$f":"[1]主表!$N278","v":8447.9500000000007},{"$f":"[1]主表!$F278","v":168959},56,6,28,6,155.00000000000099]
[277,277,7,19,7,"真神期","前",7,{"$f":"[1]主表!$K279*20","v":132270.8263744},{"$f":"[1]主表!$M279","v":3438.5830079999996},{"$f":"[1]主表!$L279","v":3438.5830079999996},1,{"$f":"[1]主表!$N279","v":8596.4500000000007},{"$f":"[1]主表!$F279","v":171929},56,6,28,6,155.20000000000101]
[278,278,7,19,8,"真神期","前",8,{"$f":"[1]主表!$K280*20","v":134831.90990826665},{"$f":"[1]主表!$M280","v":3499.0980080000004},{"$f":"[1]主表!$L280","v":3499.0980080000004},1,{"$f":"[1]主表!$N280","v":8747.75},{"$f":"[1]主表!$F280","v":174955},56,6,28,6,155.400000000001]
[279,279,7,19,9,"真神期","前",9,{"$f":"[1]主表!$K281*20","v":137443.85314240001},{"$f":"[1]主表!$M281","v":3560.7215840000003},{"$f":"[1]主表!$L281","v":3560.7215840000003},1,{"$f":"[1]主表!$N281","v":8901.7999999999993},{"$f":"[1]主表!$F281","v":178036},56,6,28,6,155.60000000000099]
[280,280,7,19,10,"真神期","前",10,{"$f":"[1]主表!$K282*20","v":146912.84000000003},{"$f":"[1]主表!$M282","v":3799.47},{"$f":"[1]主表!$L282","v":3799.47},1,{"$f":"[1]主表!$N282","v":9878.65},{"$f":"[1]主表!$F282","v":189974},56,6,28,6,155.80000000000101]
[281,281,7,20,1,"真神期","中",1,{"$f":"[1]主表!$K283*20","v":149756.51735893331},{"$f":"[1]主表!$M283","v":3866.3472640000005},{"$f":"[1]主表!$L283","v":3866.3472640000005},1,{"$f":"[1]主表!$N283","v":10052.48},{"$f":"[1]主表!$F283","v":193317},57,6,29,6,156.00000000000099]
[282,282,7,20,2,"真神期","中",2,{"$f":"[1]主表!$K284*20","v":152652.74709760002},{"$f":"[1]主表!$M284","v":3934.3491520000007},{"$f":"[1]主表!$L284","v":3934.3491520000007},1,{"$f":"[1]主表!$N284","v":10229.280000000001},{"$f":"[1]主表!$F284","v":196717},57,6,29,6,156.20000000000101]
[283,283,7,20,3,"真神期","中",3,{"$f":"[1]主表!$K285*20","v":155601.88100160001},{"$f":"[1]主表!$M285","v":4003.4789279999995},{"$f":"[1]主表!$L285","v":4003.4789279999995},1,{"$f":"[1]主表!$N285","v":10409.049999999999},{"$f":"[1]主表!$F285","v":200174},57,6,29,6,156.400000000001]
[284,284,7,20,4,"真神期","中",4,{"$f":"[1]主表!$K286*20","v":158613.89168639999},{"$f":"[1]主表!$M286","v":4073.9869439999998},{"$f":"[1]主表!$L286","v":4073.9869439999998},1,{"$f":"[1]主表!$N286","v":10592.35},{"$f":"[1]主表!$F286","v":203699},57,6,29,6,156.60000000000099]
[285,285,7,20,5,"真神期","中",5,{"$f":"[1]主表!$K287*20","v":161679.56688},{"$f":"[1]主表!$M287","v":4145.6299200000003},{"$f":"[1]主表!$L287","v":4145.6299200000003},1,{"$f":"[1]主表!$N287","v":10778.61},{"$f":"[1]主表!$F287","v":207281},57,6,29,6,156.80000000000101]
[286,286,7,20,6,"真神期","中",6,{"$f":"[1]主表!$K288*20","v":164804.09816639998},{"$f":"[1]主表!$M288","v":4218.534936},{"$f":"[1]主表!$L288","v":4218.534936},1,{"$f":"[1]主表!$N288","v":10968.2},{"$f":"[1]主表!$F288","v":210927},58,6,29,6,157.00000000000099]
[287,287,7,20,7,"真神期","中",7,{"$f":"[1]主表!$K289*20","v":167987.8816512},{"$f":"[1]主表!$M289","v":4292.7056640000001},{"$f":"[1]主表!$L289","v":4292.7056640000001},1,{"$f":"[1]主表!$N289","v":11161.02},{"$f":"[1]主表!$F289","v":214635},58,6,29,6,157.20000000000101]
[288,288,7,20,8,"真神期","中",8,{"$f":"[1]主表!$K290*20","v":171231.31441919995},{"$f":"[1]主表!$M290","v":4368.1457759999994},{"$f":"[1]主表!$L290","v":4368.1457759999994},1,{"$f":"[1]主表!$N290","v":11357.16},{"$f":"[1]主表!$F290","v":218407},58,6,29,6,157.400000000001]
[289,289,7,20,9,"真神期","中",9,{"$f":"[1]主表!$K291*20","v":174539.67239679999},{"$f":"[1]主表!$M291","v":4444.9831679999998},{"$f":"[1]主表!$L291","v":4444.9831679999998},1,{"$f":"[1]主表!$N291","v":11556.95},{"$f":"[1]主表!$F291","v":222249},58,6,29,6,157.60000000000099]
[290,290,7,20,10,"真神期","中",10,{"$f":"[1]主表!$K292*20","v":186556.66424000001},{"$f":"[1]主表!$M292","v":4742.9660400000002},{"$f":"[1]主表!$L292","v":4742.9660400000002},1,{"$f":"[1]主表!$N292","v":12805.99},{"$f":"[1]主表!$F292","v":237148},58,6,29,6,157.80000000000101]
[291,291,7,21,1,"真神期","后",1,{"$f":"[1]主表!$K293*20","v":190157.6554208},{"$f":"[1]主表!$M293","v":4826.3364320000001},{"$f":"[1]主表!$L293","v":4826.3364320000001},1,{"$f":"[1]主表!$N293","v":13031.12},{"$f":"[1]主表!$F293","v":241317},59,6,30,6,158.00000000000099]
[292,292,7,21,2,"真神期","后",2,{"$f":"[1]主表!$K294*20","v":193830.61109760002},{"$f":"[1]主表!$M294","v":4911.2485919999999},{"$f":"[1]主表!$L294","v":4911.2485919999999},1,{"$f":"[1]主表!$N294","v":13260.35},{"$f":"[1]主表!$F294","v":245562},59,6,30,6,158.20000000000101]
[293,293,7,21,3,"真神期","后",3,{"$f":"[1]主表!$K295*20","v":197571.08455466665},{"$f":"[1]主表!$M295","v":4997.5822399999997},{"$f":"[1]主表!$L295","v":4997.5822399999997},1,{"$f":"[1]主表!$N295","v":13493.47},{"$f":"[1]主表!$F295","v":249879},59,6,30,6,158.400000000001]
[294,294,7,21,4,"真神期","后",4,{"$f":"[1]主表!$K296*20","v":201379.52165759998},{"$f":"[1]主表!$M296","v":5085.3414560000001},{"$f":"[1]主表!$L296","v":5085.3414560000001},1,{"$f":"[1]主表!$N296","v":13730.42},{"$f":"[1]主表!$F296","v":254267},59,6,30,6,158.60000000000099]
[295,295,7,21,5,"真神期","后",5,{"$f":"[1]主表!$K297*20","v":205266.2892},{"$f":"[1]主表!$M297","v":5174.7803999999996},{"$f":"[1]主表!$L297","v":5174.7803999999996},1,{"$f":"[1]主表!$N297","v":13971.91},{"$f":"[1]主表!$F297","v":258739},59,6,30,6,158.80000000000101]
[296,296,7,21,6,"真神期","后",6,{"$f":"[1]主表!$K298*20","v":209181.85620480002},{"$f":"[1]主表!$M298","v":5264.6440320000002},{"$f":"[1]主表!$L298","v":5264.6440320000002},1,{"$f":"[1]主表!$N298","v":14214.53},{"$f":"[1]主表!$F298","v":263232},60,6,30,6,159.00000000000099]
[297,297,7,21,7,"真神期","后",7,{"$f":"[1]主表!$K299*20","v":213175.30236479998},{"$f":"[1]主表!$M299","v":5356.1633759999995},{"$f":"[1]主表!$L299","v":5356.1633759999995},1,{"$f":"[1]主表!$N299","v":14461.63},{"$f":"[1]主表!$F299","v":267808},60,6,30,6,159.20000000000101]
[298,298,7,21,8,"真神期","后",8,{"$f":"[1]主表!$K300*20","v":217242.12124159996},{"$f":"[1]主表!$M300","v":5449.2170880000003},{"$f":"[1]主表!$L300","v":5449.2170880000003},1,{"$f":"[1]主表!$N300","v":14712.89},{"$f":"[1]主表!$F300","v":272461},60,6,30,6,159.400000000001]
[299,299,7,21,9,"真神期","后",9,{"$f":"[1]主表!$K301*20","v":221387.77845653333},{"$f":"[1]主表!$M301","v":5543.9343519999993},{"$f":"[1]主表!$L301","v":5543.9343519999993},1,{"$f":"[1]主表!$N301","v":14968.64},{"$f":"[1]主表!$F301","v":277197},60,6,30,6,159.60000000000099]
[300,300,7,21,10,"真神期","后",10,{"$f":"[1]主表!$K302*20","v":251200},{"$f":"[1]主表!$M302","v":6280},{"$f":"[1]主表!$L302","v":6280},1,{"$f":"[1]主表!$N302","v":18840},{"$f":"[1]主表!$F302","v":314000},60,6,30,6,159.80000000000101]