{"text_format":"2","workbook":"xlsx","n_sheets":1,"sheets":["HeroPowerUpConfig"],"not_rendered":{"charts":0,"images":0,"macros":0,"external_links":2,"defined_names":1,"comments":0,"pivot_tables":0},"unopened":[],"bounds":{"document_bytes":16777216,"sheet_cells":100000,"run_cost":"one","rows_first":2000,"rows_last":500,"rows_between":2000,"halvings":0,"cell_chars":16384,"cell_head_chars":4096},"cells_cut":0,"cells_raw":0,"read":"whole","date_system":"1900"}

{"sheet":"HeroPowerUpConfig","index":0,"n_rows":304,"n_cols":36,"rows_kept":304,"cut":false,"hidden":false,"merged":[]}
["ID","HeroLevel","jingjie1","jingjie2","jingjie3","jingjieLanIDs",{"$nulls":6},"levelUpExp","DujieLevelbattleID","DujieRateviaBattle","DujieMustItemIDs","DujieMustItemValues","DujieItemIDs","DujieItemValues","LeijieDamages","HPFactor","ATKFactor","DEFFactor","MPFactor","HudunFactor","defK","ShenshiMax","AutoXiuwei","FailureExpReduce","MaxActiveGongfaNum","MaxPassiveGongfaNum","MaxFabaoNum"]
["int","int","int","int","int","int[]",{"$nulls":6},"int","int","int","int[]","int[]","int[]","int[]","int[]","float","float","float","float","float","int","int","int","int","int","int","int"]
[{"$nulls":32},{"$f":"SUM(AG5:AG304)","v":1229974},{"$f":"AG3/60","v":20499.566666666666},{"$f":"AH3/60","v":341.65944444444443},{"$f":"AI3/12","v":28.471620370370371}]
["ID","玩家修为境界（等级）","大境界ID","中境界ID","小境界ID","境界语言表ID","境界名称1","境界名称2","境界名称3",null,null,null,"升级所需修为值\n（-1代表最大等级)","渡劫必须战斗ID","战斗增加渡劫几率","渡劫必需道具ID","渡劫必需道具数量","渡劫选有道具IDs","渡劫选有道具数量","雷劫伤害\n要填下限和上限","生命倍率","攻击倍率","防御倍率","法力倍率","护盾倍率","防御系数K","神识上限","每秒获得的修为值","雷劫失败扣除的当前等级修为百分比","主动功法可配置上限","被动功法可配置上限","法宝可配置上限","吐纳时长(s)","分钟","小时","天（每天12小时）"]
[1,1,1,1,{"$f":"I5","v":1},{"$f":"_xlfn.TEXTJOIN(\";\",1,J5:L5)","v":"225;235;238"},"筑基期","前",1,225,235,238,{"$f":"INT(0.1*AB5*AG5)*10","v":1200},{"$f":"IF(I5=10,100001,-1)","v":-1},{"$f":"IF(N5=-1,-1,20)","v":-1},{"$f":"IF(I5=10,1002,-1)","v":-1},{"$f":"IF(P5=-1,-1,100)","v":-1},{"$f":"IF(I5=10,\"1001;1002;1004\",-1)","v":-1},{"$f":"IF(R5=-1,-1,\"100;200;300\")","v":-1},{"$f":"IF(G5=G6,0,CONCATENATE(B5*100,\";\",B5*150))","v":0},{"$f":"[1]升级!$B2/[2]HeroModelConfig!$I$5","v":20},{"$f":"[1]升级!$C2/[2]HeroModelConfig!$J$5","v":1},{"$f":"[1]升级!$D2/[2]HeroModelConfig!$K$5","v":1},1,{"$f":"[1]升级!$J2/[2]HeroModelConfig!$L$5","v":0},{"$f":"[1]主表!$E3","v":101},{"$f":"[1]升级!$H2","v":500},10,-1,2,0,1,{"$f":"ROUND(10^(B5*0.01+2.07),0)","v":120}]
[2,2,1,1,{"$f":"I6","v":2},{"$f":"_xlfn.TEXTJOIN(\";\",1,J6:L6)","v":"225;235;239"},"筑基期","前",2,225,235,239,{"$f":"INT(0.1*AB6*AG6)*10","v":1300},{"$f":"IF(I6=10,100001,-1)","v":-1},{"$f":"IF(N6=-1,-1,20)","v":-1},{"$f":"IF(I6=10,1002,-1)","v":-1},{"$f":"IF(P6=-1,-1,100)","v":-1},{"$f":"IF(I6=10,\"1001;1002;1004\",-1)","v":-1},{"$f":"IF(R6=-1,-1,\"100;200;300\")","v":-1},{"$f":"IF(G6=G7,0,CONCATENATE(B6*100,\";\",B6*150))","v":0},{"$f":"[1]升级!$B3/[2]HeroModelConfig!$I$5","v":20.399999999999999},{"$f":"[1]升级!$C3/[2]HeroModelConfig!$J$5","v":1.02},{"$f":"[1]升级!$D3/[2]HeroModelConfig!$K$5","v":1.02},1,{"$f":"[1]升级!$J3/[2]HeroModelConfig!$L$5","v":0},{"$f":"[1]主表!$E4","v":103},{"$f":"[1]升级!$H3","v":500},10,-1,2,0,1,{"$f":"MAX(AG5+10,ROUND(10^(B6*0.01+1.405),0))","v":130}]
[3,3,1,1,3,"225;235;240","筑基期","前",3,225,235,240,1400,-1,-1,-1,-1,-1,-1,0,{"$f":"[1]升级!$B4/[2]HeroModelConfig!$I$5","v":20.8},{"$f":"[1]升级!$C4/[2]HeroModelConfig!$J$5","v":1.04},{"$f":"[1]升级!$D4/[2]HeroModelConfig!$K$5","v":1.04},1,{"$f":"[1]升级!$J4/[2]HeroModelConfig!$L$5","v":0},{"$f":"[1]主表!$E5","v":106},{"$f":"[1]升级!$H4","v":500},10,-1,2,0,1,{"$f":"MAX(AG6+10,ROUND(10^(B7*0.01+1.405),0))","v":140}]
[4,4,1,1,4,"225;235;241","筑基期","前",4,225,235,241,1500,-1,-1,-1,-1,-1,-1,0,{"$f":"[1]升级!$B5/[2]HeroModelConfig!$I$5","v":21.2},{"$f":"[1]升级!$C5/[2]HeroModelConfig!$J$5","v":1.06},{"$f":"[1]升级!$D5/[2]HeroModelConfig!$K$5","v":1.06},1,{"$f":"[1]升级!$J5/[2]HeroModelConfig!$L$5","v":0},{"$f":"[1]主表!$E6","v":108},{"$f":"[1]升级!$H5","v":500},10,-1,2,0,1,150]
[5,5,1,1,5,"225;235;242","筑基期","前",5,225,235,242,1600,-1,-1,-1,-1,-1,-1,0,{"$f":"[1]升级!$B6/[2]HeroModelConfig!$I$5","v":21.6},{"$f":"[1]升级!$C6/[2]HeroModelConfig!$J$5","v":1.08},{"$f":"[1]升级!$D6/[2]HeroModelConfig!$K$5","v":1.08},1,{"$f":"[1]升级!$J6/[2]HeroModelConfig!$L$5","v":0},{"$f":"[1]主表!$E7","v":111},{"$f":"[1]升级!$H6","v":500},10,-1,2,0,1,160]
[6,6,1,1,6,"225;235;243","筑基期","前",6,225,235,243,1700,-1,-1,-1,-1,-1,-1,0,{"$f":"[1]升级!$B7/[2]HeroModelConfig!$I$5","v":22},{"$f":"[1]升级!$C7/[2]HeroModelConfig!$J$5","v":1.1000000000000001},{"$f":"[1]升级!$D7/[2]HeroModelConfig!$K$5","v":1.1000000000000001},1,{"$f":"[1]升级!$J7/[2]HeroModelConfig!$L$5","v":0},{"$f":"[1]主表!$E8","v":113},{"$f":"[1]升级!$H7","v":500},10,-1,2,0,1,170]
[7,7,1,1,7,"225;235;244","筑基期","前",7,225,235,244,1800,-1,-1,-1,-1,-1,-1,0,{"$f":"[1]升级!$B8/[2]HeroModelConfig!$I$5","v":22.4},{"$f":"[1]升级!$C8/[2]HeroModelConfig!$J$5","v":1.1200000000000001},{"$f":"[1]升级!$D8/[2]HeroModelConfig!$K$5","v":1.1200000000000001},1,{"$f":"[1]升级!$J8/[2]HeroModelConfig!$L$5","v":0},{"$f":"[1]主表!$E9","v":116},{"$f":"[1]升级!$H8","v":500},10,-1,2,0,1,180]
[8,8,1,1,8,"225;235;245","筑基期","前",8,225,235,245,1900,-1,-1,-1,-1,-1,-1,0,{"$f":"[1]升级!$B9/[2]HeroModelConfig!$I$5","v":22.8},{"$f":"[1]升级!$C9/[2]HeroModelConfig!$J$5","v":1.1399999999999999},{"$f":"[1]升级!$D9/[2]HeroModelConfig!$K$5","v":1.1399999999999999},1,{"$f":"[1]升级!$J9/[2]HeroModelConfig!$L$5","v":0},{"$f":"[1]主表!$E10","v":119},{"$f":"[1]升级!$H9","v":500},10,-1,2,0,1,190]
[9,9,1,1,9,"225;235;246","筑基期","前",9,225,235,246,2000,-1,-1,-1,-1,-1,-1,0,{"$f":"[1]升级!$B10/[2]HeroModelConfig!$I$5","v":23.2},{"$f":"[1]升级!$C10/[2]HeroModelConfig!$J$5","v":1.1599999999999999},{"$f":"[1]升级!$D10/[2]HeroModelConfig!$K$5","v":1.1599999999999999},1,{"$f":"[1]升级!$J10/[2]HeroModelConfig!$L$5","v":0},{"$f":"[1]主表!$E11","v":121},{"$f":"[1]升级!$H10","v":500},10,-1,2,0,1,200]
[10,10,1,1,10,"225;235;247","筑基期","前",10,225,235,247,2100,100001,20,1301,1,1301,1,0,{"$f":"[1]升级!$B11/[2]HeroModelConfig!$I$5","v":24.4},{"$f":"[1]升级!$C11/[2]HeroModelConfig!$J$5","v":1.22},{"$f":"[1]升级!$D11/[2]HeroModelConfig!$K$5","v":1.22},1,{"$f":"[1]升级!$J11/[2]HeroModelConfig!$L$5","v":0},{"$f":"[1]主表!$E12","v":128},{"$f":"[1]升级!$H11","v":500},10,20,2,0,1,210]
[11,11,1,2,1,"225;236;238","筑基期","中",1,225,236,238,2420,-1,-1,-1,-1,-1,-1,0,{"$f":"[1]升级!$B12/[2]HeroModelConfig!$I$5","v":24.8},{"$f":"[1]升级!$C12/[2]HeroModelConfig!$J$5","v":1.24},{"$f":"[1]升级!$D12/[2]HeroModelConfig!$K$5","v":1.24},1,{"$f":"[1]升级!$J12/[2]HeroModelConfig!$L$5","v":0},{"$f":"[1]主表!$E13","v":131},{"$f":"[1]升级!$H12","v":500},11,-1,2,1,1,220]
[12,12,1,2,2,"225;236;239","筑基期","中",2,225,236,239,2530,-1,-1,-1,-1,-1,-1,0,{"$f":"[1]升级!$B13/[2]HeroModelConfig!$I$5","v":25.2},{"$f":"[1]升级!$C13/[2]HeroModelConfig!$J$5","v":1.26},{"$f":"[1]升级!$D13/[2]HeroModelConfig!$K$5","v":1.26},1,{"$f":"[1]升级!$J13/[2]HeroModelConfig!$L$5","v":0},{"$f":"[1]主表!$E14","v":134},{"$f":"[1]升级!$H13","v":500},11,-1,2,1,1,230]
[13,13,1,2,3,"225;236;240","筑基期","中",3,225,236,240,2640,-1,-1,-1,-1,-1,-1,0,{"$f":"[1]升级!$B14/[2]HeroModelConfig!$I$5","v":25.6},{"$f":"[1]升级!$C14/[2]HeroModelConfig!$J$5","v":1.28},{"$f":"[1]升级!$D14/[2]HeroModelConfig!$K$5","v":1.28},1,{"$f":"[1]升级!$J14/[2]HeroModelConfig!$L$5","v":0},{"$f":"[1]主表!$E15","v":136},{"$f":"[1]升级!$H14","v":500},11,-1,2,1,1,240]
[14,14,1,2,4,"225;236;241","筑基期","中",4,225,236,241,2750,-1,-1,-1,-1,-1,-1,0,{"$f":"[1]升级!$B15/[2]HeroModelConfig!$I$5","v":26},{"$f":"[1]升级!$C15/[2]HeroModelConfig!$J$5","v":1.3},{"$f":"[1]升级!$D15/[2]HeroModelConfig!$K$5","v":1.3},1,{"$f":"[1]升级!$J15/[2]HeroModelConfig!$L$5","v":0},{"$f":"[1]主表!$E16","v":139},{"$f":"[1]升级!$H15","v":500},11,-1,2,1,1,250]
[15,15,1,2,5,"225;236;242","筑基期","中",5,225,236,242,2860,-1,-1,-1,-1,-1,-1,0,{"$f":"[1]升级!$B16/[2]HeroModelConfig!$I$5","v":26.4},{"$f":"[1]升级!$C16/[2]HeroModelConfig!$J$5","v":1.32},{"$f":"[1]升级!$D16/[2]HeroModelConfig!$K$5","v":1.32},1,{"$f":"[1]升级!$J16/[2]HeroModelConfig!$L$5","v":0},{"$f":"[1]主表!$E17","v":142},{"$f":"[1]升级!$H16","v":500},11,-1,2,1,1,260]
[16,16,1,2,6,"225;236;243","筑基期","中",6,225,236,243,2970,-1,-1,-1,-1,-1,-1,0,{"$f":"[1]升级!$B17/[2]HeroModelConfig!$I$5","v":26.8},{"$f":"[1]升级!$C17/[2]HeroModelConfig!$J$5","v":1.34},{"$f":"[1]升级!$D17/[2]HeroModelConfig!$K$5","v":1.34},1,{"$f":"[1]升级!$J17/[2]HeroModelConfig!$L$5","v":0},{"$f":"[1]主表!$E18","v":145},{"$f":"[1]升级!$H17","v":500},11,-1,2,1,1,270]
[17,17,1,2,7,"225;236;244","筑基期","中",7,225,236,244,3080,-1,-1,-1,-1,-1,-1,0,{"$f":"[1]升级!$B18/[2]HeroModelConfig!$I$5","v":27.2},{"$f":"[1]升级!$C18/[2]HeroModelConfig!$J$5","v":1.36},{"$f":"[1]升级!$D18/[2]HeroModelConfig!$K$5","v":1.36},1,{"$f":"[1]升级!$J18/[2]HeroModelConfig!$L$5","v":0},{"$f":"[1]主表!$E19","v":148},{"$f":"[1]升级!$H18","v":500},11,-1,2,1,1,280]
[18,18,1,2,8,"225;236;245","筑基期","中",8,225,236,245,3190,-1,-1,-1,-1,-1,-1,0,{"$f":"[1]升级!$B19/[2]HeroModelConfig!$I$5","v":27.6},{"$f":"[1]升级!$C19/[2]HeroModelConfig!$J$5","v":1.38},{"$f":"[1]升级!$D19/[2]HeroModelConfig!$K$5","v":1.38},1,{"$f":"[1]升级!$J19/[2]HeroModelConfig!$L$5","v":0},{"$f":"[1]主表!$E20","v":150},{"$f":"[1]升级!$H19","v":500},11,-1,2,1,1,290]
[19,19,1,2,9,"225;236;246","筑基期","中",9,225,236,246,3300,-1,-1,-1,-1,-1,-1,0,{"$f":"[1]升级!$B20/[2]HeroModelConfig!$I$5","v":28},{"$f":"[1]升级!$C20/[2]HeroModelConfig!$J$5","v":1.4},{"$f":"[1]升级!$D20/[2]HeroModelConfig!$K$5","v":1.4},1,{"$f":"[1]升级!$J20/[2]HeroModelConfig!$L$5","v":0},{"$f":"[1]主表!$E21","v":153},{"$f":"[1]升级!$H20","v":500},11,-1,2,1,1,300]
[20,20,1,2,10,"225;236;247","筑基期","中",10,225,236,247,3410,100001,20,1301,1,"1301;1302","1;1",0,{"$f":"[1]升级!$B21/[2]HeroModelConfig!$I$5","v":30},{"$f":"[1]升级!$C21/[2]HeroModelConfig!$J$5","v":1.5},{"$f":"[1]升级!$D21/[2]HeroModelConfig!$K$5","v":1.5},1,{"$f":"[1]升级!$J21/[2]HeroModelConfig!$L$5","v":0},{"$f":"[1]主表!$E22","v":165},{"$f":"[1]升级!$H21","v":500},11,20,2,1,1,310]
[21,21,1,3,1,"225;237;238","筑基期","后",1,225,237,238,3840,-1,-1,-1,-1,-1,-1,0,{"$f":"[1]升级!$B22/[2]HeroModelConfig!$I$5","v":30.4},{"$f":"[1]升级!$C22/[2]HeroModelConfig!$J$5","v":1.52},{"$f":"[1]升级!$D22/[2]HeroModelConfig!$K$5","v":1.52},1,{"$f":"[1]升级!$J22/[2]HeroModelConfig!$L$5","v":0},{"$f":"[1]主表!$E23","v":168},{"$f":"[1]升级!$H22","v":500},12,-1,2,1,2,320]
[22,22,1,3,2,"225;237;239","筑基期","后",2,225,237,239,3960,-1,-1,-1,-1,-1,-1,0,{"$f":"[1]升级!$B23/[2]HeroModelConfig!$I$5","v":30.8},{"$f":"[1]升级!$C23/[2]HeroModelConfig!$J$5","v":1.54},{"$f":"[1]升级!$D23/[2]HeroModelConfig!$K$5","v":1.54},1,{"$f":"[1]升级!$J23/[2]HeroModelConfig!$L$5","v":0},{"$f":"[1]主表!$E24","v":171},{"$f":"[1]升级!$H23","v":500},12,-1,2,1,2,330]
[23,23,1,3,3,"225;237;240","筑基期","后",3,225,237,240,4080,-1,-1,-1,-1,-1,-1,0,{"$f":"[1]升级!$B24/[2]HeroModelConfig!$I$5","v":31.6},{"$f":"[1]升级!$C24/[2]HeroModelConfig!$J$5","v":1.58},{"$f":"[1]升级!$D24/[2]HeroModelConfig!$K$5","v":1.58},1,{"$f":"[1]升级!$J24/[2]HeroModelConfig!$L$5","v":0},{"$f":"[1]主表!$E25","v":176},{"$f":"[1]升级!$H24","v":500},12,-1,2,1,2,340]
[24,24,1,3,4,"225;237;241","筑基期","后",4,225,237,241,4200,-1,-1,-1,-1,-1,-1,0,{"$f":"[1]升级!$B25/[2]HeroModelConfig!$I$5","v":32},{"$f":"[1]升级!$C25/[2]HeroModelConfig!$J$5","v":1.6},{"$f":"[1]升级!$D25/[2]HeroModelConfig!$K$5","v":1.6},1,{"$f":"[1]升级!$J25/[2]HeroModelConfig!$L$5","v":0},{"$f":"[1]主表!$E26","v":179},{"$f":"[1]升级!$H25","v":500},12,-1,2,1,2,350]
[25,25,1,3,5,"225;237;242","筑基期","后",5,225,237,242,4320,-1,-1,-1,-1,-1,-1,0,{"$f":"[1]升级!$B26/[2]HeroModelConfig!$I$5","v":32.4},{"$f":"[1]升级!$C26/[2]HeroModelConfig!$J$5","v":1.62},{"$f":"[1]升级!$D26/[2]HeroModelConfig!$K$5","v":1.62},1,{"$f":"[1]升级!$J26/[2]HeroModelConfig!$L$5","v":0},{"$f":"[1]主表!$E27","v":182},{"$f":"[1]升级!$H26","v":500},12,-1,2,1,2,360]
[26,26,1,3,6,"225;237;243","筑基期","后",6,225,237,243,4440,-1,-1,-1,-1,-1,-1,0,{"$f":"[1]升级!$B27/[2]HeroModelConfig!$I$5","v":33.200000000000003},{"$f":"[1]升级!$C27/[2]HeroModelConfig!$J$5","v":1.66},{"$f":"[1]升级!$D27/[2]HeroModelConfig!$K$5","v":1.66},1,{"$f":"[1]升级!$J27/[2]HeroModelConfig!$L$5","v":0},{"$f":"[1]主表!$E28","v":188},{"$f":"[1]升级!$H27","v":500},12,-1,2,1,2,370]
[27,27,1,3,7,"225;237;244","筑基期","后",7,225,237,244,4560,-1,-1,-1,-1,-1,-1,0,{"$f":"[1]升级!$B28/[2]HeroModelConfig!$I$5","v":33.6},{"$f":"[1]升级!$C28/[2]HeroModelConfig!$J$5","v":1.68},{"$f":"[1]升级!$D28/[2]HeroModelConfig!$K$5","v":1.68},1,{"$f":"[1]升级!$J28/[2]HeroModelConfig!$L$5","v":0},{"$f":"[1]主表!$E29","v":191},{"$f":"[1]升级!$H28","v":500},12,-1,2,1,2,380]
[28,28,1,3,8,"225;237;245","筑基期","后",8,225,237,245,4680,-1,-1,-1,-1,-1,-1,0,{"$f":"[1]升级!$B29/[2]HeroModelConfig!$I$5","v":34},{"$f":"[1]升级!$C29/[2]HeroModelConfig!$J$5","v":1.7},{"$f":"[1]升级!$D29/[2]HeroModelConfig!$K$5","v":1.7},1,{"$f":"[1]升级!$J29/[2]HeroModelConfig!$L$5","v":0},{"$f":"[1]主表!$E30","v":194},{"$f":"[1]升级!$H29","v":500},12,-1,2,1,2,390]
[29,29,1,3,9,"225;237;246","筑基期","后",9,225,237,246,4800,-1,-1,-1,-1,-1,-1,0,{"$f":"[1]升级!$B30/[2]HeroModelConfig!$I$5","v":34.799999999999997},{"$f":"[1]升级!$C30/[2]HeroModelConfig!$J$5","v":1.74},{"$f":"[1]升级!$D30/[2]HeroModelConfig!$K$5","v":1.74},1,{"$f":"[1]升级!$J30/[2]HeroModelConfig!$L$5","v":0},{"$f":"[1]主表!$E31","v":199},{"$f":"[1]升级!$H30","v":500},12,-1,2,1,2,400]
[30,30,1,3,10,"225;237;247","筑基期","后",10,225,237,247,4920,100001,20,1301,1,"1301;1302;1303","1;1;1","3000;4500",{"$f":"[1]升级!$B31/[2]HeroModelConfig!$I$5","v":39.200000000000003},{"$f":"[1]升级!$C31/[2]HeroModelConfig!$J$5","v":1.96},{"$f":"[1]升级!$D31/[2]HeroModelConfig!$K$5","v":1.96},1,{"$f":"[1]升级!$J31/[2]HeroModelConfig!$L$5","v":0},{"$f":"[1]主表!$E32","v":225},{"$f":"[1]升级!$H31","v":600},12,50,3,1,2,410]
[31,31,2,4,1,"226;235;238","金丹期","前",1,226,235,238,5460,-1,-1,-1,-1,{"$f":"IF(I35=10,\"1001;1002;1004\",-1)","v":-1},{"$f":"IF(R35=-1,-1,\"100;200;300\")","v":-1},{"$f":"IF(G35=G36,0,CONCATENATE(B35*100,\";\",B35*150))","v":0},{"$f":"[1]升级!$B32/[2]HeroModelConfig!$I$5","v":40},{"$f":"[1]升级!$C32/[2]HeroModelConfig!$J$5","v":2},{"$f":"[1]升级!$D32/[2]HeroModelConfig!$K$5","v":2},1,{"$f":"[1]升级!$J32/[2]HeroModelConfig!$L$5","v":0},{"$f":"[1]主表!$E33","v":231},{"$f":"[1]升级!$H32","v":600},13,-1,3,1,2,420]
[32,32,2,4,2,"226;235;239","金丹期","前",2,226,235,239,5590,-1,-1,-1,-1,{"$f":"IF(I36=10,\"1001;1002;1004\",-1)","v":-1},-1,{"$f":"IF(G36=G37,0,CONCATENATE(B36*100,\";\",B36*150))","v":0},{"$f":"[1]升级!$B33/[2]HeroModelConfig!$I$5","v":40.799999999999997},{"$f":"[1]升级!$C33/[2]HeroModelConfig!$J$5","v":2.04},{"$f":"[1]升级!$D33/[2]HeroModelConfig!$K$5","v":2.04},1,{"$f":"[1]升级!$J33/[2]HeroModelConfig!$L$5","v":0},{"$f":"[1]主表!$E34","v":237},{"$f":"[1]升级!$H33","v":600},13,-1,3,1,2,430]
[33,33,2,4,3,"226;235;240","金丹期","前",3,226,235,240,5720,-1,-1,-1,-1,-1,-1,0,{"$f":"[1]升级!$B34/[2]HeroModelConfig!$I$5","v":41.2},{"$f":"[1]升级!$C34/[2]HeroModelConfig!$J$5","v":2.06},{"$f":"[1]升级!$D34/[2]HeroModelConfig!$K$5","v":2.06},1,{"$f":"[1]升级!$J34/[2]HeroModelConfig!$L$5","v":0},{"$f":"[1]主表!$E35","v":240},{"$f":"[1]升级!$H34","v":600},13,-1,3,1,2,440]
[34,34,2,4,4,"226;235;241","金丹期","前",4,226,235,241,5850,-1,-1,-1,-1,-1,-1,0,{"$f":"[1]升级!$B35/[2]HeroModelConfig!$I$5","v":42},{"$f":"[1]升级!$C35/[2]HeroModelConfig!$J$5","v":2.1},{"$f":"[1]升级!$D35/[2]HeroModelConfig!$K$5","v":2.1},1,{"$f":"[1]升级!$J35/[2]HeroModelConfig!$L$5","v":0},{"$f":"[1]主表!$E36","v":246},{"$f":"[1]升级!$H35","v":600},13,-1,3,1,2,450]
[35,35,2,4,5,"226;235;242","金丹期","前",5,226,235,242,5980,-1,-1,-1,-1,-1,-1,0,{"$f":"[1]升级!$B36/[2]HeroModelConfig!$I$5","v":42.8},{"$f":"[1]升级!$C36/[2]HeroModelConfig!$J$5","v":2.14},{"$f":"[1]升级!$D36/[2]HeroModelConfig!$K$5","v":2.14},1,{"$f":"[1]升级!$J36/[2]HeroModelConfig!$L$5","v":0},{"$f":"[1]主表!$E37","v":251},{"$f":"[1]升级!$H36","v":600},13,-1,3,1,2,460]
[36,36,2,4,6,"226;235;243","金丹期","前",6,226,235,243,6110,-1,-1,-1,-1,-1,-1,0,{"$f":"[1]升级!$B37/[2]HeroModelConfig!$I$5","v":43.2},{"$f":"[1]升级!$C37/[2]HeroModelConfig!$J$5","v":2.16},{"$f":"[1]升级!$D37/[2]HeroModelConfig!$K$5","v":2.16},1,{"$f":"[1]升级!$J37/[2]HeroModelConfig!$L$5","v":0},{"$f":"[1]主表!$E38","v":255},{"$f":"[1]升级!$H37","v":600},13,-1,3,1,2,470]
[37,37,2,4,7,"226;235;244","金丹期","前",7,226,235,244,6240,-1,-1,-1,-1,-1,-1,0,{"$f":"[1]升级!$B38/[2]HeroModelConfig!$I$5","v":44},{"$f":"[1]升级!$C38/[2]HeroModelConfig!$J$5","v":2.2000000000000002},{"$f":"[1]升级!$D38/[2]HeroModelConfig!$K$5","v":2.2000000000000002},1,{"$f":"[1]升级!$J38/[2]HeroModelConfig!$L$5","v":0},{"$f":"[1]主表!$E39","v":261},{"$f":"[1]升级!$H38","v":600},13,-1,3,1,2,480]
[38,38,2,4,8,"226;235;245","金丹期","前",8,226,235,245,6370,-1,-1,-1,-1,-1,-1,0,{"$f":"[1]升级!$B39/[2]HeroModelConfig!$I$5","v":44.8},{"$f":"[1]升级!$C39/[2]HeroModelConfig!$J$5","v":2.2400000000000002},{"$f":"[1]升级!$D39/[2]HeroModelConfig!$K$5","v":2.2400000000000002},1,{"$f":"[1]升级!$J39/[2]HeroModelConfig!$L$5","v":0},{"$f":"[1]主表!$E40","v":267},{"$f":"[1]升级!$H39","v":600},13,-1,3,1,2,490]
[39,39,2,4,9,"226;235;246","金丹期","前",9,226,235,246,6500,-1,-1,-1,-1,-1,-1,0,{"$f":"[1]升级!$B40/[2]HeroModelConfig!$I$5","v":45.6},{"$f":"[1]升级!$C40/[2]HeroModelConfig!$J$5","v":2.2799999999999998},{"$f":"[1]升级!$D40/[2]HeroModelConfig!$K$5","v":2.2799999999999998},1,{"$f":"[1]升级!$J40/[2]HeroModelConfig!$L$5","v":0},{"$f":"[1]主表!$E41","v":272},{"$f":"[1]升级!$H40","v":600},13,-1,3,1,2,500]
[40,40,2,4,10,"226;235;247","金丹期","前",10,226,235,247,6630,100001,20,1301,1,1301,1,0,{"$f":"[1]升级!$B41/[2]HeroModelConfig!$I$5","v":48.4},{"$f":"[1]升级!$C41/[2]HeroModelConfig!$J$5","v":2.42},{"$f":"[1]升级!$D41/[2]HeroModelConfig!$K$5","v":2.42},1,{"$f":"[1]升级!$J41/[2]HeroModelConfig!$L$5","v":0},{"$f":"[1]主表!$E42","v":290},{"$f":"[1]升级!$H41","v":600},13,20,3,2,2,510]
[41,41,2,5,1,"226;236;238","金丹期","中",1,226,236,238,7280,-1,-1,-1,-1,{"$f":"IF(I45=10,\"1001;1002;1004\",-1)","v":-1},-1,0,{"$f":"[1]升级!$B42/[2]HeroModelConfig!$I$5","v":49.2},{"$f":"[1]升级!$C42/[2]HeroModelConfig!$J$5","v":2.46},{"$f":"[1]升级!$D42/[2]HeroModelConfig!$K$5","v":2.46},1,{"$f":"[1]升级!$J42/[2]HeroModelConfig!$L$5","v":0},{"$f":"[1]主表!$E43","v":296},{"$f":"[1]升级!$H42","v":600},14,-1,3,2,2,520]
[42,42,2,5,2,"226;236;239","金丹期","中",2,226,236,239,7420,-1,-1,-1,-1,-1,-1,0,{"$f":"[1]升级!$B43/[2]HeroModelConfig!$I$5","v":50},{"$f":"[1]升级!$C43/[2]HeroModelConfig!$J$5","v":2.5},{"$f":"[1]升级!$D43/[2]HeroModelConfig!$K$5","v":2.5},1,{"$f":"[1]升级!$J43/[2]HeroModelConfig!$L$5","v":0},{"$f":"[1]主表!$E44","v":303},{"$f":"[1]升级!$H43","v":600},14,-1,3,2,2,530]
[43,43,2,5,3,"226;236;240","金丹期","中",3,226,236,240,7560,-1,-1,-1,-1,-1,-1,0,{"$f":"[1]升级!$B44/[2]HeroModelConfig!$I$5","v":50.8},{"$f":"[1]升级!$C44/[2]HeroModelConfig!$J$5","v":2.54},{"$f":"[1]升级!$D44/[2]HeroModelConfig!$K$5","v":2.54},1,{"$f":"[1]升级!$J44/[2]HeroModelConfig!$L$5","v":0},{"$f":"[1]主表!$E45","v":309},{"$f":"[1]升级!$H44","v":600},14,-1,3,2,2,540]
[44,44,2,5,4,"226;236;241","金丹期","中",4,226,236,241,7700,-1,-1,-1,-1,-1,-1,0,{"$f":"[1]升级!$B45/[2]HeroModelConfig!$I$5","v":52},{"$f":"[1]升级!$C45/[2]HeroModelConfig!$J$5","v":2.6},{"$f":"[1]升级!$D45/[2]HeroModelConfig!$K$5","v":2.6},1,{"$f":"[1]升级!$J45/[2]HeroModelConfig!$L$5","v":0},{"$f":"[1]主表!$E46","v":317},{"$f":"[1]升级!$H45","v":600},14,-1,3,2,2,550]
[45,45,2,5,5,"226;236;242","金丹期","中",5,226,236,242,7840,-1,-1,-1,-1,-1,-1,0,{"$f":"[1]升级!$B46/[2]HeroModelConfig!$I$5","v":52.8},{"$f":"[1]升级!$C46/[2]HeroModelConfig!$J$5","v":2.64},{"$f":"[1]升级!$D46/[2]HeroModelConfig!$K$5","v":2.64},1,{"$f":"[1]升级!$J46/[2]HeroModelConfig!$L$5","v":0},{"$f":"[1]主表!$E47","v":323},{"$f":"[1]升级!$H46","v":600},14,-1,3,2,2,560]
[46,46,2,5,6,"226;236;243","金丹期","中",6,226,236,243,7980,-1,-1,-1,-1,-1,-1,0,{"$f":"[1]升级!$B47/[2]HeroModelConfig!$I$5","v":53.6},{"$f":"[1]升级!$C47/[2]HeroModelConfig!$J$5","v":2.68},{"$f":"[1]升级!$D47/[2]HeroModelConfig!$K$5","v":2.68},1,{"$f":"[1]升级!$J47/[2]HeroModelConfig!$L$5","v":0},{"$f":"[1]主表!$E48","v":330},{"$f":"[1]升级!$H47","v":600},14,-1,3,2,2,570]
[47,47,2,5,7,"226;236;244","金丹期","中",7,226,236,244,8120,-1,-1,-1,-1,-1,-1,0,{"$f":"[1]升级!$B48/[2]HeroModelConfig!$I$5","v":54.4},{"$f":"[1]升级!$C48/[2]HeroModelConfig!$J$5","v":2.72},{"$f":"[1]升级!$D48/[2]HeroModelConfig!$K$5","v":2.72},1,{"$f":"[1]升级!$J48/[2]HeroModelConfig!$L$5","v":0},{"$f":"[1]主表!$E49","v":336},{"$f":"[1]升级!$H48","v":600},14,-1,3,2,2,580]
[48,48,2,5,8,"226;236;245","金丹期","中",8,226,236,245,8260,-1,-1,-1,-1,-1,-1,0,{"$f":"[1]升级!$B49/[2]HeroModelConfig!$I$5","v":55.2},{"$f":"[1]升级!$C49/[2]HeroModelConfig!$J$5","v":2.76},{"$f":"[1]升级!$D49/[2]HeroModelConfig!$K$5","v":2.76},1,{"$f":"[1]升级!$J49/[2]HeroModelConfig!$L$5","v":0},{"$f":"[1]主表!$E50","v":342},{"$f":"[1]升级!$H49","v":600},14,-1,3,2,2,590]
[49,49,2,5,9,"226;236;246","金丹期","中",9,226,236,246,8400,-1,-1,-1,-1,-1,-1,0,{"$f":"[1]升级!$B50/[2]HeroModelConfig!$I$5","v":56.4},{"$f":"[1]升级!$C50/[2]HeroModelConfig!$J$5","v":2.82},{"$f":"[1]升级!$D50/[2]HeroModelConfig!$K$5","v":2.82},1,{"$f":"[1]升级!$J50/[2]HeroModelConfig!$L$5","v":0},{"$f":"[1]主表!$E51","v":351},{"$f":"[1]升级!$H50","v":600},14,-1,3,2,2,600]
[50,50,2,5,10,"226;236;247","金丹期","中",10,226,236,247,8540,100001,20,1301,1,"1301;1302","1;1",0,{"$f":"[1]升级!$B51/[2]HeroModelConfig!$I$5","v":60},{"$f":"[1]升级!$C51/[2]HeroModelConfig!$J$5","v":3},{"$f":"[1]升级!$D51/[2]HeroModelConfig!$K$5","v":3},1,{"$f":"[1]升级!$J51/[2]HeroModelConfig!$L$5","v":0},{"$f":"[1]主表!$E52","v":375},{"$f":"[1]升级!$H51","v":600},14,20,3,2,3,610]
[51,51,2,6,1,"226;237;238","金丹期","后",1,226,237,238,9300,-1,-1,-1,-1,{"$f":"IF(I55=10,\"1001;1002;1004\",-1)","v":-1},-1,0,{"$f":"[1]升级!$B52/[2]HeroModelConfig!$I$5","v":60.8},{"$f":"[1]升级!$C52/[2]HeroModelConfig!$J$5","v":3.04},{"$f":"[1]升级!$D52/[2]HeroModelConfig!$K$5","v":3.04},1,{"$f":"[1]升级!$J52/[2]HeroModelConfig!$L$5","v":0},{"$f":"[1]主表!$E53","v":382},{"$f":"[1]升级!$H52","v":600},15,-1,3,2,3,620]
[52,52,2,6,2,"226;237;239","金丹期","后",2,226,237,239,9450,-1,-1,-1,-1,-1,-1,0,{"$f":"[1]升级!$B53/[2]HeroModelConfig!$I$5","v":62},{"$f":"[1]升级!$C53/[2]HeroModelConfig!$J$5","v":3.1},{"$f":"[1]升级!$D53/[2]HeroModelConfig!$K$5","v":3.1},1,{"$f":"[1]升级!$J53/[2]HeroModelConfig!$L$5","v":0},{"$f":"[1]主表!$E54","v":391},{"$f":"[1]升级!$H53","v":600},15,-1,3,2,3,630]
[53,53,2,6,3,"226;237;240","金丹期","后",3,226,237,240,9600,-1,-1,-1,-1,-1,-1,0,{"$f":"[1]升级!$B54/[2]HeroModelConfig!$I$5","v":62.8},{"$f":"[1]升级!$C54/[2]HeroModelConfig!$J$5","v":3.14},{"$f":"[1]升级!$D54/[2]HeroModelConfig!$K$5","v":3.14},1,{"$f":"[1]升级!$J54/[2]HeroModelConfig!$L$5","v":0},{"$f":"[1]主表!$E55","v":397},{"$f":"[1]升级!$H54","v":600},15,-1,3,2,3,640]
[54,54,2,6,4,"226;237;241","金丹期","后",4,226,237,241,9750,-1,-1,-1,-1,-1,-1,0,{"$f":"[1]升级!$B55/[2]HeroModelConfig!$I$5","v":64},{"$f":"[1]升级!$C55/[2]HeroModelConfig!$J$5","v":3.2},{"$f":"[1]升级!$D55/[2]HeroModelConfig!$K$5","v":3.2},1,{"$f":"[1]升级!$J55/[2]HeroModelConfig!$L$5","v":0},{"$f":"[1]主表!$E56","v":406},{"$f":"[1]升级!$H55","v":600},15,-1,3,2,3,650]
[55,55,2,6,5,"226;237;242","金丹期","后",5,226,237,242,9900,-1,-1,-1,-1,-1,-1,0,{"$f":"[1]升级!$B56/[2]HeroModelConfig!$I$5","v":65.2},{"$f":"[1]升级!$C56/[2]HeroModelConfig!$J$5","v":3.26},{"$f":"[1]升级!$D56/[2]HeroModelConfig!$K$5","v":3.26},1,{"$f":"[1]升级!$J56/[2]HeroModelConfig!$L$5","v":0},{"$f":"[1]主表!$E57","v":416},{"$f":"[1]升级!$H56","v":600},15,-1,3,2,3,660]
[56,56,2,6,6,"226;237;243","金丹期","后",6,226,237,243,10050,-1,-1,-1,-1,-1,-1,0,{"$f":"[1]升级!$B57/[2]HeroModelConfig!$I$5","v":66},{"$f":"[1]升级!$C57/[2]HeroModelConfig!$J$5","v":3.3},{"$f":"[1]升级!$D57/[2]HeroModelConfig!$K$5","v":3.3},1,{"$f":"[1]升级!$J57/[2]HeroModelConfig!$L$5","v":0},{"$f":"[1]主表!$E58","v":422},{"$f":"[1]升级!$H57","v":600},15,-1,3,2,3,670]
[57,57,2,6,7,"226;237;244","金丹期","后",7,226,237,244,10200,-1,-1,-1,-1,-1,-1,0,{"$f":"[1]升级!$B58/[2]HeroModelConfig!$I$5","v":67.2},{"$f":"[1]升级!$C58/[2]HeroModelConfig!$J$5","v":3.36},{"$f":"[1]升级!$D58/[2]HeroModelConfig!$K$5","v":3.36},1,{"$f":"[1]升级!$J58/[2]HeroModelConfig!$L$5","v":0},{"$f":"[1]主表!$E59","v":432},{"$f":"[1]升级!$H58","v":600},15,-1,3,2,3,680]
[58,58,2,6,8,"226;237;245","金丹期","后",8,226,237,245,10350,-1,-1,-1,-1,-1,-1,0,{"$f":"[1]升级!$B59/[2]HeroModelConfig!$I$5","v":68.400000000000006},{"$f":"[1]升级!$C59/[2]HeroModelConfig!$J$5","v":3.42},{"$f":"[1]升级!$D59/[2]HeroModelConfig!$K$5","v":3.42},1,{"$f":"[1]升级!$J59/[2]HeroModelConfig!$L$5","v":0},{"$f":"[1]主表!$E60","v":441},{"$f":"[1]升级!$H59","v":600},15,-1,3,2,3,690]
[59,59,2,6,9,"226;237;246","金丹期","后",9,226,237,246,10500,-1,-1,-1,-1,-1,-1,0,{"$f":"[1]升级!$B60/[2]HeroModelConfig!$I$5","v":69.599999999999994},{"$f":"[1]升级!$C60/[2]HeroModelConfig!$J$5","v":3.48},{"$f":"[1]升级!$D60/[2]HeroModelConfig!$K$5","v":3.48},1,{"$f":"[1]升级!$J60/[2]HeroModelConfig!$L$5","v":0},{"$f":"[1]主表!$E61","v":451},{"$f":"[1]升级!$H60","v":600},15,-1,3,2,3,700]
[60,60,2,6,10,"226;237;247","金丹期","后",10,226,237,247,10650,100001,20,1301,1,"1301;1302;1303","1;1;1","6000;9000",{"$f":"[1]升级!$B61/[2]HeroModelConfig!$I$5","v":78.400000000000006},{"$f":"[1]升级!$C61/[2]HeroModelConfig!$J$5","v":3.92},{"$f":"[1]升级!$D61/[2]HeroModelConfig!$K$5","v":3.92},1,{"$f":"[1]升级!$J61/[2]HeroModelConfig!$L$5","v":0},{"$f":"[1]主表!$E62","v":510},{"$f":"[1]升级!$H61","v":700},15,50,4,2,3,710]
[61,61,3,7,1,"227;235;238","元婴期","前",1,227,235,238,11520,-1,-1,-1,-1,{"$f":"IF(I65=10,\"1001;1002;1004\",-1)","v":-1},{"$f":"IF(R65=-1,-1,\"100;200;300\")","v":-1},{"$f":"IF(G65=G66,0,CONCATENATE(B65*100,\";\",B65*150))","v":0},{"$f":"[1]升级!$B62/[2]HeroModelConfig!$I$5","v":80},{"$f":"[1]升级!$C62/[2]HeroModelConfig!$J$5","v":4},{"$f":"[1]升级!$D62/[2]HeroModelConfig!$K$5","v":4},1,{"$f":"[1]升级!$J62/[2]HeroModelConfig!$L$5","v":0},{"$f":"[1]主表!$E63","v":522},{"$f":"[1]升级!$H62","v":700},16,-1,4,2,3,720]
[62,62,3,7,2,"227;235;239","元婴期","前",2,227,235,239,11680,-1,-1,-1,-1,{"$f":"IF(I66=10,\"1001;1002;1004\",-1)","v":-1},-1,{"$f":"IF(G66=G67,0,CONCATENATE(B66*100,\";\",B66*150))","v":0},{"$f":"[1]升级!$B63/[2]HeroModelConfig!$I$5","v":81.2},{"$f":"[1]升级!$C63/[2]HeroModelConfig!$J$5","v":4.0599999999999996},{"$f":"[1]升级!$D63/[2]HeroModelConfig!$K$5","v":4.0599999999999996},1,{"$f":"[1]升级!$J63/[2]HeroModelConfig!$L$5","v":0},{"$f":"[1]主表!$E64","v":532},{"$f":"[1]升级!$H63","v":700},16,-1,4,2,3,730]
[63,63,3,7,3,"227;235;240","元婴期","前",3,227,235,240,11840,-1,-1,-1,-1,-1,-1,0,{"$f":"[1]升级!$B64/[2]HeroModelConfig!$I$5","v":82.4},{"$f":"[1]升级!$C64/[2]HeroModelConfig!$J$5","v":4.12},{"$f":"[1]升级!$D64/[2]HeroModelConfig!$K$5","v":4.12},1,{"$f":"[1]升级!$J64/[2]HeroModelConfig!$L$5","v":0},{"$f":"[1]主表!$E65","v":542},{"$f":"[1]升级!$H64","v":700},16,-1,4,2,3,740]
[64,64,3,7,4,"227;235;241","元婴期","前",4,227,235,241,12000,-1,-1,-1,-1,-1,-1,0,{"$f":"[1]升级!$B65/[2]HeroModelConfig!$I$5","v":84},{"$f":"[1]升级!$C65/[2]HeroModelConfig!$J$5","v":4.2},{"$f":"[1]升级!$D65/[2]HeroModelConfig!$K$5","v":4.2},1,{"$f":"[1]升级!$J65/[2]HeroModelConfig!$L$5","v":0},{"$f":"[1]主表!$E66","v":554},{"$f":"[1]升级!$H65","v":700},16,-1,4,2,3,750]
[65,65,3,7,5,"227;235;242","元婴期","前",5,227,235,242,12160,-1,-1,-1,-1,-1,-1,0,{"$f":"[1]升级!$B66/[2]HeroModelConfig!$I$5","v":85.2},{"$f":"[1]升级!$C66/[2]HeroModelConfig!$J$5","v":4.26},{"$f":"[1]升级!$D66/[2]HeroModelConfig!$K$5","v":4.26},1,{"$f":"[1]升级!$J66/[2]HeroModelConfig!$L$5","v":0},{"$f":"[1]主表!$E67","v":564},{"$f":"[1]升级!$H66","v":700},16,-1,4,2,3,760]
[66,66,3,7,{"$f":"I70","v":6},{"$f":"_xlfn.TEXTJOIN(\";\",1,J70:L70)","v":"227;235;243"},"元婴期","前",6,227,235,243,{"$f":"INT(0.1*AB70*AG70)*10","v":12320},{"$f":"IF(I70=10,100001,-1)","v":-1},{"$f":"IF(N70=-1,-1,20)","v":-1},-1,-1,-1,{"$f":"IF(R70=-1,-1,\"100;200;300\")","v":-1},0,{"$f":"[1]升级!$B67/[2]HeroModelConfig!$I$5","v":86.8},{"$f":"[1]升级!$C67/[2]HeroModelConfig!$J$5","v":4.34},{"$f":"[1]升级!$D67/[2]HeroModelConfig!$K$5","v":4.34},1,{"$f":"[1]升级!$J67/[2]HeroModelConfig!$L$5","v":0},{"$f":"[1]主表!$E68","v":577},{"$f":"[1]升级!$H67","v":700},16,-1,4,2,3,770]
[67,67,3,7,7,"227;235;244","元婴期","前",7,227,235,244,12480,-1,-1,-1,-1,-1,-1,0,{"$f":"[1]升级!$B68/[2]HeroModelConfig!$I$5","v":88},{"$f":"[1]升级!$C68/[2]HeroModelConfig!$J$5","v":4.4000000000000004},{"$f":"[1]升级!$D68/[2]HeroModelConfig!$K$5","v":4.4000000000000004},1,{"$f":"[1]升级!$J68/[2]HeroModelConfig!$L$5","v":0},{"$f":"[1]主表!$E69","v":587},{"$f":"[1]升级!$H68","v":700},16,-1,4,2,3,{"$f":"MAX(AG70+10,ROUND(10^(B71*0.01+1.405),0))","v":780}]
[68,68,3,7,8,"227;235;245","元婴期","前",8,227,235,245,12640,-1,-1,-1,-1,-1,-1,0,{"$f":"[1]升级!$B69/[2]HeroModelConfig!$I$5","v":89.6},{"$f":"[1]升级!$C69/[2]HeroModelConfig!$J$5","v":4.4800000000000004},{"$f":"[1]升级!$D69/[2]HeroModelConfig!$K$5","v":4.4800000000000004},1,{"$f":"[1]升级!$J69/[2]HeroModelConfig!$L$5","v":0},{"$f":"[1]主表!$E70","v":600},{"$f":"[1]升级!$H69","v":700},16,-1,4,2,3,790]
[69,69,3,7,9,"227;235;246","元婴期","前",9,227,235,246,12800,-1,-1,-1,-1,-1,-1,0,{"$f":"[1]升级!$B70/[2]HeroModelConfig!$I$5","v":91.2},{"$f":"[1]升级!$C70/[2]HeroModelConfig!$J$5","v":4.5599999999999996},{"$f":"[1]升级!$D70/[2]HeroModelConfig!$K$5","v":4.5599999999999996},1,{"$f":"[1]升级!$J70/[2]HeroModelConfig!$L$5","v":0},{"$f":"[1]主表!$E71","v":613},{"$f":"[1]升级!$H70","v":700},16,-1,4,2,3,800]
[70,70,3,7,10,"227;235;247","元婴期","前",10,227,235,247,12960,100001,20,1301,1,1301,1,0,{"$f":"[1]升级!$B71/[2]HeroModelConfig!$I$5","v":97.2},{"$f":"[1]升级!$C71/[2]HeroModelConfig!$J$5","v":4.8600000000000003},{"$f":"[1]升级!$D71/[2]HeroModelConfig!$K$5","v":4.8600000000000003},1,{"$f":"[1]升级!$J71/[2]HeroModelConfig!$L$5","v":0},{"$f":"[1]主表!$E72","v":656},{"$f":"[1]升级!$H71","v":700},16,20,4,3,3,810]
[71,71,3,8,1,"227;236;238","元婴期","中",1,227,236,238,13940,-1,-1,-1,-1,{"$f":"IF(I75=10,\"1001;1002;1004\",-1)","v":-1},-1,0,{"$f":"[1]升级!$B72/[2]HeroModelConfig!$I$5","v":98.8},{"$f":"[1]升级!$C72/[2]HeroModelConfig!$J$5","v":4.9400000000000004},{"$f":"[1]升级!$D72/[2]HeroModelConfig!$K$5","v":4.9400000000000004},1,{"$f":"[1]升级!$J72/[2]HeroModelConfig!$L$5","v":0},{"$f":"[1]主表!$E73","v":669},{"$f":"[1]升级!$H72","v":700},17,-1,4,3,3,820]
[72,72,3,8,2,"227;236;239","元婴期","中",2,227,236,239,14110,-1,-1,-1,-1,-1,-1,0,{"$f":"[1]升级!$B73/[2]HeroModelConfig!$I$5","v":100.4},{"$f":"[1]升级!$C73/[2]HeroModelConfig!$J$5","v":5.0199999999999996},{"$f":"[1]升级!$D73/[2]HeroModelConfig!$K$5","v":5.0199999999999996},1,{"$f":"[1]升级!$J73/[2]HeroModelConfig!$L$5","v":0},{"$f":"[1]主表!$E74","v":683},{"$f":"[1]升级!$H73","v":700},17,-1,4,3,3,830]
[73,73,3,8,3,"227;236;240","元婴期","中",3,227,236,240,14280,-1,-1,-1,-1,-1,-1,0,{"$f":"[1]升级!$B74/[2]HeroModelConfig!$I$5","v":102},{"$f":"[1]升级!$C74/[2]HeroModelConfig!$J$5","v":5.0999999999999996},{"$f":"[1]升级!$D74/[2]HeroModelConfig!$K$5","v":5.0999999999999996},1,{"$f":"[1]升级!$J74/[2]HeroModelConfig!$L$5","v":0},{"$f":"[1]主表!$E75","v":696},{"$f":"[1]升级!$H74","v":700},17,-1,4,3,3,840]
[74,74,3,8,4,"227;236;241","元婴期","中",4,227,236,241,14450,-1,-1,-1,-1,-1,-1,0,{"$f":"[1]升级!$B75/[2]HeroModelConfig!$I$5","v":103.6},{"$f":"[1]升级!$C75/[2]HeroModelConfig!$J$5","v":5.18},{"$f":"[1]升级!$D75/[2]HeroModelConfig!$K$5","v":5.18},1,{"$f":"[1]升级!$J75/[2]HeroModelConfig!$L$5","v":0},{"$f":"[1]主表!$E76","v":710},{"$f":"[1]升级!$H75","v":700},17,-1,4,3,3,850]
[75,75,3,8,5,"227;236;242","元婴期","中",5,227,236,242,14620,-1,-1,-1,-1,-1,-1,0,{"$f":"[1]升级!$B76/[2]HeroModelConfig!$I$5","v":105.2},{"$f":"[1]升级!$C76/[2]HeroModelConfig!$J$5","v":5.26},{"$f":"[1]升级!$D76/[2]HeroModelConfig!$K$5","v":5.26},1,{"$f":"[1]升级!$J76/[2]HeroModelConfig!$L$5","v":0},{"$f":"[1]主表!$E77","v":723},{"$f":"[1]升级!$H76","v":700},17,-1,4,3,3,860]
[76,76,3,8,6,"227;236;243","元婴期","中",6,227,236,243,14790,-1,-1,-1,-1,-1,-1,0,{"$f":"[1]升级!$B77/[2]HeroModelConfig!$I$5","v":107.2},{"$f":"[1]升级!$C77/[2]HeroModelConfig!$J$5","v":5.36},{"$f":"[1]升级!$D77/[2]HeroModelConfig!$K$5","v":5.36},1,{"$f":"[1]升级!$J77/[2]HeroModelConfig!$L$5","v":0},{"$f":"[1]主表!$E78","v":740},{"$f":"[1]升级!$H77","v":700},17,-1,4,3,3,870]
[77,77,3,8,7,"227;236;244","元婴期","中",7,227,236,244,14960,-1,-1,-1,-1,-1,-1,0,{"$f":"[1]升级!$B78/[2]HeroModelConfig!$I$5","v":108.8},{"$f":"[1]升级!$C78/[2]HeroModelConfig!$J$5","v":5.44},{"$f":"[1]升级!$D78/[2]HeroModelConfig!$K$5","v":5.44},1,{"$f":"[1]升级!$J78/[2]HeroModelConfig!$L$5","v":0},{"$f":"[1]主表!$E79","v":753},{"$f":"[1]升级!$H78","v":700},17,-1,4,3,3,880]
[78,78,3,8,8,"227;236;245","元婴期","中",8,227,236,245,15130,-1,-1,-1,-1,-1,-1,0,{"$f":"[1]升级!$B79/[2]HeroModelConfig!$I$5","v":110.4},{"$f":"[1]升级!$C79/[2]HeroModelConfig!$J$5","v":5.52},{"$f":"[1]升级!$D79/[2]HeroModelConfig!$K$5","v":5.52},1,{"$f":"[1]升级!$J79/[2]HeroModelConfig!$L$5","v":0},{"$f":"[1]主表!$E80","v":767},{"$f":"[1]升级!$H79","v":700},17,-1,4,3,3,890]
[79,79,3,8,9,"227;236;246","元婴期","中",9,227,236,246,15300,-1,-1,-1,-1,-1,-1,0,{"$f":"[1]升级!$B80/[2]HeroModelConfig!$I$5","v":112.4},{"$f":"[1]升级!$C80/[2]HeroModelConfig!$J$5","v":5.62},{"$f":"[1]升级!$D80/[2]HeroModelConfig!$K$5","v":5.62},1,{"$f":"[1]升级!$J80/[2]HeroModelConfig!$L$5","v":0},{"$f":"[1]主表!$E81","v":784},{"$f":"[1]升级!$H80","v":700},17,-1,4,3,3,900]
[80,80,3,8,10,"227;236;247","元婴期","中",10,227,236,247,15470,100001,20,1301,1,"1301;1302","1;1",0,{"$f":"[1]升级!$B81/[2]HeroModelConfig!$I$5","v":120},{"$f":"[1]升级!$C81/[2]HeroModelConfig!$J$5","v":6},{"$f":"[1]升级!$D81/[2]HeroModelConfig!$K$5","v":6},1,{"$f":"[1]升级!$J81/[2]HeroModelConfig!$L$5","v":0},{"$f":"[1]主表!$E82","v":840},{"$f":"[1]升级!$H81","v":700},17,20,4,3,4,910]
[81,81,3,9,1,"227;237;238","元婴期","后",1,227,237,238,16560,-1,-1,-1,-1,{"$f":"IF(I85=10,\"1001;1002;1004\",-1)","v":-1},-1,0,{"$f":"[1]升级!$B82/[2]HeroModelConfig!$I$5","v":121.6},{"$f":"[1]升级!$C82/[2]HeroModelConfig!$J$5","v":6.08},{"$f":"[1]升级!$D82/[2]HeroModelConfig!$K$5","v":6.08},1,{"$f":"[1]升级!$J82/[2]HeroModelConfig!$L$5","v":0},{"$f":"[1]主表!$E83","v":854},{"$f":"[1]升级!$H82","v":700},18,-1,4,3,4,920]
[82,82,3,9,2,"227;237;239","元婴期","后",2,227,237,239,16740,-1,-1,-1,-1,-1,-1,0,{"$f":"[1]升级!$B83/[2]HeroModelConfig!$I$5","v":123.6},{"$f":"[1]升级!$C83/[2]HeroModelConfig!$J$5","v":6.18},{"$f":"[1]升级!$D83/[2]HeroModelConfig!$K$5","v":6.18},1,{"$f":"[1]升级!$J83/[2]HeroModelConfig!$L$5","v":0},{"$f":"[1]主表!$E84","v":871},{"$f":"[1]升级!$H83","v":700},18,-1,4,3,4,930]
[83,83,3,9,3,"227;237;240","元婴期","后",3,227,237,240,16920,-1,-1,-1,-1,-1,-1,0,{"$f":"[1]升级!$B84/[2]HeroModelConfig!$I$5","v":126},{"$f":"[1]升级!$C84/[2]HeroModelConfig!$J$5","v":6.3},{"$f":"[1]升级!$D84/[2]HeroModelConfig!$K$5","v":6.3},1,{"$f":"[1]升级!$J84/[2]HeroModelConfig!$L$5","v":0},{"$f":"[1]主表!$E85","v":891},{"$f":"[1]升级!$H84","v":700},18,-1,4,3,4,940]
[84,84,3,9,4,"227;237;241","元婴期","后",4,227,237,241,17100,-1,-1,-1,-1,-1,-1,0,{"$f":"[1]升级!$B85/[2]HeroModelConfig!$I$5","v":128},{"$f":"[1]升级!$C85/[2]HeroModelConfig!$J$5","v":6.4},{"$f":"[1]升级!$D85/[2]HeroModelConfig!$K$5","v":6.4},1,{"$f":"[1]升级!$J85/[2]HeroModelConfig!$L$5","v":0},{"$f":"[1]主表!$E86","v":909},{"$f":"[1]升级!$H85","v":700},18,-1,4,3,4,950]
[85,85,3,9,5,"227;237;242","元婴期","后",5,227,237,242,17280,-1,-1,-1,-1,-1,-1,0,{"$f":"[1]升级!$B86/[2]HeroModelConfig!$I$5","v":130},{"$f":"[1]升级!$C86/[2]HeroModelConfig!$J$5","v":6.5},{"$f":"[1]升级!$D86/[2]HeroModelConfig!$K$5","v":6.5},1,{"$f":"[1]升级!$J86/[2]HeroModelConfig!$L$5","v":0},{"$f":"[1]主表!$E87","v":926},{"$f":"[1]升级!$H86","v":700},18,-1,4,3,4,960]
[86,86,3,9,6,"227;237;243","元婴期","后",6,227,237,243,17460,-1,-1,-1,-1,-1,-1,0,{"$f":"[1]升级!$B87/[2]HeroModelConfig!$I$5","v":132},{"$f":"[1]升级!$C87/[2]HeroModelConfig!$J$5","v":6.6},{"$f":"[1]升级!$D87/[2]HeroModelConfig!$K$5","v":6.6},1,{"$f":"[1]升级!$J87/[2]HeroModelConfig!$L$5","v":0},{"$f":"[1]主表!$E88","v":944},{"$f":"[1]升级!$H87","v":700},18,-1,4,3,4,970]
[87,87,3,9,7,"227;237;244","元婴期","后",7,227,237,244,17640,-1,-1,-1,-1,-1,-1,0,{"$f":"[1]升级!$B88/[2]HeroModelConfig!$I$5","v":134.4},{"$f":"[1]升级!$C88/[2]HeroModelConfig!$J$5","v":6.72},{"$f":"[1]升级!$D88/[2]HeroModelConfig!$K$5","v":6.72},1,{"$f":"[1]升级!$J88/[2]HeroModelConfig!$L$5","v":0},{"$f":"[1]主表!$E89","v":964},{"$f":"[1]升级!$H88","v":700},18,-1,4,3,4,980]
[88,88,3,9,8,"227;237;245","元婴期","后",8,227,237,245,17820,-1,-1,-1,-1,-1,-1,0,{"$f":"[1]升级!$B89/[2]HeroModelConfig!$I$5","v":136.4},{"$f":"[1]升级!$C89/[2]HeroModelConfig!$J$5","v":6.82},{"$f":"[1]升级!$D89/[2]HeroModelConfig!$K$5","v":6.82},1,{"$f":"[1]升级!$J89/[2]HeroModelConfig!$L$5","v":0},{"$f":"[1]主表!$E90","v":982},{"$f":"[1]升级!$H89","v":700},18,-1,4,3,4,990]
[89,89,3,9,9,"227;237;246","元婴期","后",9,227,237,246,18000,-1,-1,-1,-1,-1,-1,0,{"$f":"[1]升级!$B90/[2]HeroModelConfig!$I$5","v":138.80000000000001},{"$f":"[1]升级!$C90/[2]HeroModelConfig!$J$5","v":6.94},{"$f":"[1]升级!$D90/[2]HeroModelConfig!$K$5","v":6.94},1,{"$f":"[1]升级!$J90/[2]HeroModelConfig!$L$5","v":0},{"$f":"[1]主表!$E91","v":1003},{"$f":"[1]升级!$H90","v":700},18,-1,4,3,4,1000]
[90,90,3,9,10,"227;237;247","元婴期","后",10,227,237,247,18180,100001,20,1301,1,"1301;1302;1303","1;1;1","9000;13500",{"$f":"[1]升级!$B91/[2]HeroModelConfig!$I$5","v":157.19999999999999},{"$f":"[1]升级!$C91/[2]HeroModelConfig!$J$5","v":7.86},{"$f":"[1]升级!$D91/[2]HeroModelConfig!$K$5","v":7.86},1,{"$f":"[1]升级!$J91/[2]HeroModelConfig!$L$5","v":0},{"$f":"[1]主表!$E92","v":1140},{"$f":"[1]升级!$H91","v":800},18,50,4,3,4,1010]
[91,91,4,10,1,"228;235;238","化神期","前",1,228,235,238,19380,-1,-1,-1,-1,{"$f":"IF(I95=10,\"1001;1002;1004\",-1)","v":-1},{"$f":"IF(R95=-1,-1,\"100;200;300\")","v":-1},{"$f":"IF(G95=G96,0,CONCATENATE(B95*100,\";\",B95*150))","v":0},{"$f":"[1]升级!$B92/[2]HeroModelConfig!$I$5","v":159.6},{"$f":"[1]升级!$C92/[2]HeroModelConfig!$J$5","v":7.98},{"$f":"[1]升级!$D92/[2]HeroModelConfig!$K$5","v":7.98},1,{"$f":"[1]升级!$J92/[2]HeroModelConfig!$L$5","v":0},{"$f":"[1]主表!$E93","v":1161},{"$f":"[1]升级!$H92","v":800},19,-1,4,3,4,1020]
[92,92,4,10,2,"228;235;239","化神期","前",2,228,235,239,19570,-1,-1,-1,-1,{"$f":"IF(I96=10,\"1001;1002;1004\",-1)","v":-1},{"$f":"IF(R96=-1,-1,\"100;200;300\")","v":-1},{"$f":"IF(G96=G97,0,CONCATENATE(B96*100,\";\",B96*150))","v":0},{"$f":"[1]升级!$B93/[2]HeroModelConfig!$I$5","v":162.4},{"$f":"[1]升级!$C93/[2]HeroModelConfig!$J$5","v":8.1199999999999992},{"$f":"[1]升级!$D93/[2]HeroModelConfig!$K$5","v":8.1199999999999992},1,{"$f":"[1]升级!$J93/[2]HeroModelConfig!$L$5","v":0},{"$f":"[1]主表!$E94","v":1186},{"$f":"[1]升级!$H93","v":800},19,-1,4,3,4,1030]
[93,93,4,10,3,"228;235;240","化神期","前",3,228,235,240,19760,-1,-1,-1,-1,-1,-1,0,{"$f":"[1]升级!$B94/[2]HeroModelConfig!$I$5","v":164.8},{"$f":"[1]升级!$C94/[2]HeroModelConfig!$J$5","v":8.24},{"$f":"[1]升级!$D94/[2]HeroModelConfig!$K$5","v":8.24},1,{"$f":"[1]升级!$J94/[2]HeroModelConfig!$L$5","v":0},{"$f":"[1]主表!$E95","v":1207},{"$f":"[1]升级!$H94","v":800},19,-1,4,3,4,1040]
[94,94,4,10,4,"228;235;241","化神期","前",4,228,235,241,19950,-1,-1,-1,-1,-1,-1,0,{"$f":"[1]升级!$B95/[2]HeroModelConfig!$I$5","v":167.6},{"$f":"[1]升级!$C95/[2]HeroModelConfig!$J$5","v":8.3800000000000008},{"$f":"[1]升级!$D95/[2]HeroModelConfig!$K$5","v":8.3800000000000008},1,{"$f":"[1]升级!$J95/[2]HeroModelConfig!$L$5","v":0},{"$f":"[1]主表!$E96","v":1232},{"$f":"[1]升级!$H95","v":800},19,-1,4,3,4,1050]
[95,95,4,10,5,"228;235;242","化神期","前",5,228,235,242,20140,-1,-1,-1,-1,-1,-1,0,{"$f":"[1]升级!$B96/[2]HeroModelConfig!$I$5","v":170.4},{"$f":"[1]升级!$C96/[2]HeroModelConfig!$J$5","v":8.52},{"$f":"[1]升级!$D96/[2]HeroModelConfig!$K$5","v":8.52},1,{"$f":"[1]升级!$J96/[2]HeroModelConfig!$L$5","v":0},{"$f":"[1]主表!$E97","v":1257},{"$f":"[1]升级!$H96","v":800},19,-1,4,3,4,1060]
[96,96,4,10,6,"228;235;243","化神期","前",6,228,235,243,20330,-1,-1,-1,-1,-1,-1,0,{"$f":"[1]升级!$B97/[2]HeroModelConfig!$I$5","v":173.2},{"$f":"[1]升级!$C97/[2]HeroModelConfig!$J$5","v":8.66},{"$f":"[1]升级!$D97/[2]HeroModelConfig!$K$5","v":8.66},1,{"$f":"[1]升级!$J97/[2]HeroModelConfig!$L$5","v":0},{"$f":"[1]主表!$E98","v":1282},{"$f":"[1]升级!$H97","v":800},19,-1,4,3,4,1070]
[97,97,4,10,7,"228;235;244","化神期","前",7,228,235,244,20520,-1,-1,-1,-1,-1,-1,0,{"$f":"[1]升级!$B98/[2]HeroModelConfig!$I$5","v":176},{"$f":"[1]升级!$C98/[2]HeroModelConfig!$J$5","v":8.8000000000000007},{"$f":"[1]升级!$D98/[2]HeroModelConfig!$K$5","v":8.8000000000000007},1,{"$f":"[1]升级!$J98/[2]HeroModelConfig!$L$5","v":0},{"$f":"[1]主表!$E99","v":1307},{"$f":"[1]升级!$H98","v":800},19,-1,4,3,4,1080]
[98,98,4,10,8,"228;235;245","化神期","前",8,228,235,245,20710,-1,-1,-1,-1,-1,-1,0,{"$f":"[1]升级!$B99/[2]HeroModelConfig!$I$5","v":178.8},{"$f":"[1]升级!$C99/[2]HeroModelConfig!$J$5","v":8.94},{"$f":"[1]升级!$D99/[2]HeroModelConfig!$K$5","v":8.94},1,{"$f":"[1]升级!$J99/[2]HeroModelConfig!$L$5","v":0},{"$f":"[1]主表!$E100","v":1332},{"$f":"[1]升级!$H99","v":800},19,-1,4,3,4,1090]
[99,99,4,10,9,"228;235;246","化神期","前",9,228,235,246,20900,-1,-1,-1,-1,-1,-1,0,{"$f":"[1]升级!$B100/[2]HeroModelConfig!$I$5","v":182},{"$f":"[1]升级!$C100/[2]HeroModelConfig!$J$5","v":9.1},{"$f":"[1]升级!$D100/[2]HeroModelConfig!$K$5","v":9.1},1,{"$f":"[1]升级!$J100/[2]HeroModelConfig!$L$5","v":0},{"$f":"[1]主表!$E101","v":1360},{"$f":"[1]升级!$H100","v":800},19,-1,4,3,4,1100]
[100,100,4,10,10,"228;235;247","化神期","前",10,228,235,247,21090,100001,20,1301,1,1301,1,0,{"$f":"[1]升级!$B101/[2]HeroModelConfig!$I$5","v":194},{"$f":"[1]升级!$C101/[2]HeroModelConfig!$J$5","v":9.6999999999999993},{"$f":"[1]升级!$D101/[2]HeroModelConfig!$K$5","v":9.6999999999999993},1,{"$f":"[1]升级!$J101/[2]HeroModelConfig!$L$5","v":0},{"$f":"[1]主表!$E102","v":1455},{"$f":"[1]升级!$H101","v":800},19,20,4,3,4,1110]
[101,101,4,11,1,"228;236;238","化神期","中",1,228,236,238,22400,-1,-1,-1,-1,{"$f":"IF(I105=10,\"1001;1002;1004\",-1)","v":-1},-1,0,{"$f":"[1]升级!$B102/[2]HeroModelConfig!$I$5","v":197.2},{"$f":"[1]升级!$C102/[2]HeroModelConfig!$J$5","v":9.86},{"$f":"[1]升级!$D102/[2]HeroModelConfig!$K$5","v":9.86},1,{"$f":"[1]升级!$J102/[2]HeroModelConfig!$L$5","v":0},{"$f":"[1]主表!$E103","v":1484},{"$f":"[1]升级!$H102","v":800},20,-1,4,3,4,1120]
[102,102,4,11,2,"228;236;239","化神期","中",2,228,236,239,22600,-1,-1,-1,-1,-1,-1,0,{"$f":"[1]升级!$B103/[2]HeroModelConfig!$I$5","v":200.4},{"$f":"[1]升级!$C103/[2]HeroModelConfig!$J$5","v":10.02},{"$f":"[1]升级!$D103/[2]HeroModelConfig!$K$5","v":10.02},1,{"$f":"[1]升级!$J103/[2]HeroModelConfig!$L$5","v":0},{"$f":"[1]主表!$E104","v":1513},{"$f":"[1]升级!$H103","v":800},20,-1,4,3,4,1130]
[103,103,4,11,3,"228;236;240","化神期","中",3,228,236,240,22800,-1,-1,-1,-1,-1,-1,0,{"$f":"[1]升级!$B104/[2]HeroModelConfig!$I$5","v":203.6},{"$f":"[1]升级!$C104/[2]HeroModelConfig!$J$5","v":10.18},{"$f":"[1]升级!$D104/[2]HeroModelConfig!$K$5","v":10.18},1,{"$f":"[1]升级!$J104/[2]HeroModelConfig!$L$5","v":0},{"$f":"[1]主表!$E105","v":1542},{"$f":"[1]升级!$H104","v":800},20,-1,4,3,4,1140]
[104,104,4,11,4,"228;236;241","化神期","中",4,228,236,241,23000,-1,-1,-1,-1,-1,-1,0,{"$f":"[1]升级!$B105/[2]HeroModelConfig!$I$5","v":207.2},{"$f":"[1]升级!$C105/[2]HeroModelConfig!$J$5","v":10.36},{"$f":"[1]升级!$D105/[2]HeroModelConfig!$K$5","v":10.36},1,{"$f":"[1]升级!$J105/[2]HeroModelConfig!$L$5","v":0},{"$f":"[1]主表!$E106","v":1575},{"$f":"[1]升级!$H105","v":800},20,-1,4,3,4,1150]
[105,105,4,11,5,"228;236;242","化神期","中",5,228,236,242,23200,-1,-1,-1,-1,-1,-1,0,{"$f":"[1]升级!$B106/[2]HeroModelConfig!$I$5","v":210.4},{"$f":"[1]升级!$C106/[2]HeroModelConfig!$J$5","v":10.52},{"$f":"[1]升级!$D106/[2]HeroModelConfig!$K$5","v":10.52},1,{"$f":"[1]升级!$J106/[2]HeroModelConfig!$L$5","v":0},{"$f":"[1]主表!$E107","v":1604},{"$f":"[1]升级!$H106","v":800},20,-1,4,3,4,1160]
[106,106,4,11,6,"228;236;243","化神期","中",6,228,236,243,23400,-1,-1,-1,-1,-1,-1,0,{"$f":"[1]升级!$B107/[2]HeroModelConfig!$I$5","v":214},{"$f":"[1]升级!$C107/[2]HeroModelConfig!$J$5","v":10.7},{"$f":"[1]升级!$D107/[2]HeroModelConfig!$K$5","v":10.7},1,{"$f":"[1]升级!$J107/[2]HeroModelConfig!$L$5","v":0},{"$f":"[1]主表!$E108","v":1637},{"$f":"[1]升级!$H107","v":800},20,-1,4,3,4,1170]
[107,107,4,11,7,"228;236;244","化神期","中",7,228,236,244,23600,-1,-1,-1,-1,-1,-1,0,{"$f":"[1]升级!$B108/[2]HeroModelConfig!$I$5","v":217.6},{"$f":"[1]升级!$C108/[2]HeroModelConfig!$J$5","v":10.88},{"$f":"[1]升级!$D108/[2]HeroModelConfig!$K$5","v":10.88},1,{"$f":"[1]升级!$J108/[2]HeroModelConfig!$L$5","v":0},{"$f":"[1]主表!$E109","v":1670},{"$f":"[1]升级!$H108","v":800},20,-1,4,3,4,1180]
[108,108,4,11,8,"228;236;245","化神期","中",8,228,236,245,23800,-1,-1,-1,-1,-1,-1,0,{"$f":"[1]升级!$B109/[2]HeroModelConfig!$I$5","v":220.8},{"$f":"[1]升级!$C109/[2]HeroModelConfig!$J$5","v":11.04},{"$f":"[1]升级!$D109/[2]HeroModelConfig!$K$5","v":11.04},1,{"$f":"[1]升级!$J109/[2]HeroModelConfig!$L$5","v":0},{"$f":"[1]主表!$E110","v":1700},{"$f":"[1]升级!$H109","v":800},20,-1,4,3,4,1190]
[109,109,4,11,9,"228;236;246","化神期","中",9,228,236,246,24000,-1,-1,-1,-1,-1,-1,0,{"$f":"[1]升级!$B110/[2]HeroModelConfig!$I$5","v":224.8},{"$f":"[1]升级!$C110/[2]HeroModelConfig!$J$5","v":11.24},{"$f":"[1]升级!$D110/[2]HeroModelConfig!$K$5","v":11.24},1,{"$f":"[1]升级!$J110/[2]HeroModelConfig!$L$5","v":0},{"$f":"[1]主表!$E111","v":1737},{"$f":"[1]升级!$H110","v":800},20,-1,4,3,4,1200]
[110,110,4,11,10,"228;236;247","化神期","中",10,228,236,247,24200,100001,20,1301,1,"1301;1302","1;1",0,{"$f":"[1]升级!$B111/[2]HeroModelConfig!$I$5","v":239.6},{"$f":"[1]升级!$C111/[2]HeroModelConfig!$J$5","v":11.98},{"$f":"[1]升级!$D111/[2]HeroModelConfig!$K$5","v":11.98},1,{"$f":"[1]升级!$J111/[2]HeroModelConfig!$L$5","v":0},{"$f":"[1]主表!$E112","v":1857},{"$f":"[1]升级!$H111","v":800},20,20,4,3,4,1210]
[111,111,4,12,1,"228;237;238","化神期","后",1,228,237,238,25620,-1,-1,-1,-1,{"$f":"IF(I115=10,\"1001;1002;1004\",-1)","v":-1},-1,0,{"$f":"[1]升级!$B112/[2]HeroModelConfig!$I$5","v":243.2},{"$f":"[1]升级!$C112/[2]HeroModelConfig!$J$5","v":12.16},{"$f":"[1]升级!$D112/[2]HeroModelConfig!$K$5","v":12.16},1,{"$f":"[1]升级!$J112/[2]HeroModelConfig!$L$5","v":0},{"$f":"[1]主表!$E113","v":1891},{"$f":"[1]升级!$H112","v":800},21,-1,4,3,4,1220]
[112,112,4,12,2,"228;237;239","化神期","后",2,228,237,239,25830,-1,-1,-1,-1,-1,-1,0,{"$f":"[1]升级!$B113/[2]HeroModelConfig!$I$5","v":247.2},{"$f":"[1]升级!$C113/[2]HeroModelConfig!$J$5","v":12.36},{"$f":"[1]升级!$D113/[2]HeroModelConfig!$K$5","v":12.36},1,{"$f":"[1]升级!$J113/[2]HeroModelConfig!$L$5","v":0},{"$f":"[1]主表!$E114","v":1928},{"$f":"[1]升级!$H113","v":800},21,-1,4,3,4,1230]
[113,113,4,12,3,"228;237;240","化神期","后",3,228,237,240,26040,-1,-1,-1,-1,-1,-1,0,{"$f":"[1]升级!$B114/[2]HeroModelConfig!$I$5","v":251.6},{"$f":"[1]升级!$C114/[2]HeroModelConfig!$J$5","v":12.58},{"$f":"[1]升级!$D114/[2]HeroModelConfig!$K$5","v":12.58},1,{"$f":"[1]升级!$J114/[2]HeroModelConfig!$L$5","v":0},{"$f":"[1]主表!$E115","v":1969},{"$f":"[1]升级!$H114","v":800},21,-1,4,3,4,1240]
[114,114,4,12,4,"228;237;241","化神期","后",4,228,237,241,26250,-1,-1,-1,-1,-1,-1,0,{"$f":"[1]升级!$B115/[2]HeroModelConfig!$I$5","v":255.6},{"$f":"[1]升级!$C115/[2]HeroModelConfig!$J$5","v":12.78},{"$f":"[1]升级!$D115/[2]HeroModelConfig!$K$5","v":12.78},1,{"$f":"[1]升级!$J115/[2]HeroModelConfig!$L$5","v":0},{"$f":"[1]主表!$E116","v":2006},{"$f":"[1]升级!$H115","v":800},21,-1,4,3,4,1250]
[115,115,4,12,5,"228;237;242","化神期","后",5,228,237,242,26460,-1,-1,-1,-1,-1,-1,0,{"$f":"[1]升级!$B116/[2]HeroModelConfig!$I$5","v":260},{"$f":"[1]升级!$C116/[2]HeroModelConfig!$J$5","v":13},{"$f":"[1]升级!$D116/[2]HeroModelConfig!$K$5","v":13},1,{"$f":"[1]升级!$J116/[2]HeroModelConfig!$L$5","v":0},{"$f":"[1]主表!$E117","v":2048},{"$f":"[1]升级!$H116","v":800},21,-1,4,3,4,1260]
[116,116,4,12,6,"228;237;243","化神期","后",6,228,237,243,26670,-1,-1,-1,-1,-1,-1,0,{"$f":"[1]升级!$B117/[2]HeroModelConfig!$I$5","v":264},{"$f":"[1]升级!$C117/[2]HeroModelConfig!$J$5","v":13.2},{"$f":"[1]升级!$D117/[2]HeroModelConfig!$K$5","v":13.2},1,{"$f":"[1]升级!$J117/[2]HeroModelConfig!$L$5","v":0},{"$f":"[1]主表!$E118","v":2086},{"$f":"[1]升级!$H117","v":800},21,-1,4,3,4,1270]
[117,117,4,12,7,"228;237;244","化神期","后",7,228,237,244,26880,-1,-1,-1,-1,-1,-1,0,{"$f":"[1]升级!$B118/[2]HeroModelConfig!$I$5","v":268.39999999999998},{"$f":"[1]升级!$C118/[2]HeroModelConfig!$J$5","v":13.42},{"$f":"[1]升级!$D118/[2]HeroModelConfig!$K$5","v":13.42},1,{"$f":"[1]升级!$J118/[2]HeroModelConfig!$L$5","v":0},{"$f":"[1]主表!$E119","v":2127},{"$f":"[1]升级!$H118","v":800},21,-1,4,3,4,1280]
[118,118,4,12,8,"228;237;245","化神期","后",8,228,237,245,27090,-1,-1,-1,-1,-1,-1,0,{"$f":"[1]升级!$B119/[2]HeroModelConfig!$I$5","v":272.8},{"$f":"[1]升级!$C119/[2]HeroModelConfig!$J$5","v":13.64},{"$f":"[1]升级!$D119/[2]HeroModelConfig!$K$5","v":13.64},1,{"$f":"[1]升级!$J119/[2]HeroModelConfig!$L$5","v":0},{"$f":"[1]主表!$E120","v":2169},{"$f":"[1]升级!$H119","v":800},21,-1,4,3,4,1290]
[119,119,4,12,9,"228;237;246","化神期","后",9,228,237,246,27300,-1,-1,-1,-1,-1,-1,0,{"$f":"[1]升级!$B120/[2]HeroModelConfig!$I$5","v":277.2},{"$f":"[1]升级!$C120/[2]HeroModelConfig!$J$5","v":13.86},{"$f":"[1]升级!$D120/[2]HeroModelConfig!$K$5","v":13.86},1,{"$f":"[1]升级!$J120/[2]HeroModelConfig!$L$5","v":0},{"$f":"[1]主表!$E121","v":2211},{"$f":"[1]升级!$H120","v":800},21,-1,4,3,4,1300]
[120,120,4,12,10,"228;237;247","化神期","后",10,228,237,247,27510,100001,20,1301,1,"1301;1302;1303","1;1;1","12000;18000",{"$f":"[1]升级!$B121/[2]HeroModelConfig!$I$5","v":314},{"$f":"[1]升级!$C121/[2]HeroModelConfig!$J$5","v":15.7},{"$f":"[1]升级!$D121/[2]HeroModelConfig!$K$5","v":15.7},1,{"$f":"[1]升级!$J121/[2]HeroModelConfig!$L$5","v":0},{"$f":"[1]主表!$E122","v":2512},{"$f":"[1]升级!$H121","v":900},21,50,4,3,4,1310]
[121,121,5,13,1,"229;235;238","炼虚期","前",1,229,235,238,29040,-1,-1,-1,-1,{"$f":"IF(I125=10,\"1001;1002;1004\",-1)","v":-1},{"$f":"IF(R125=-1,-1,\"100;200;300\")","v":-1},{"$f":"IF(G125=G126,0,CONCATENATE(B125*100,\";\",B125*150))","v":0},{"$f":"[1]升级!$B122/[2]HeroModelConfig!$I$5","v":319.2},{"$f":"[1]升级!$C122/[2]HeroModelConfig!$J$5","v":15.96},{"$f":"[1]升级!$D122/[2]HeroModelConfig!$K$5","v":15.96},1,{"$f":"[1]升级!$J122/[2]HeroModelConfig!$L$5","v":0},{"$f":"[1]主表!$E123","v":2562},{"$f":"[1]升级!$H122","v":900},22,-1,4,3,4,1320]
[122,122,5,13,2,"229;235;239","炼虚期","前",2,229,235,239,29260,-1,-1,-1,-1,{"$f":"IF(I126=10,\"1001;1002;1004\",-1)","v":-1},{"$f":"IF(R126=-1,-1,\"100;200;300\")","v":-1},{"$f":"IF(G126=G127,0,CONCATENATE(B126*100,\";\",B126*150))","v":0},{"$f":"[1]升级!$B123/[2]HeroModelConfig!$I$5","v":324.39999999999998},{"$f":"[1]升级!$C123/[2]HeroModelConfig!$J$5","v":16.22},{"$f":"[1]升级!$D123/[2]HeroModelConfig!$K$5","v":16.22},1,{"$f":"[1]升级!$J123/[2]HeroModelConfig!$L$5","v":0},{"$f":"[1]主表!$E124","v":2611},{"$f":"[1]升级!$H123","v":900},22,-1,4,3,4,1330]
[123,123,5,13,3,"229;235;240","炼虚期","前",3,229,235,240,29480,-1,-1,-1,-1,-1,-1,0,{"$f":"[1]升级!$B124/[2]HeroModelConfig!$I$5","v":329.6},{"$f":"[1]升级!$C124/[2]HeroModelConfig!$J$5","v":16.48},{"$f":"[1]升级!$D124/[2]HeroModelConfig!$K$5","v":16.48},1,{"$f":"[1]升级!$J124/[2]HeroModelConfig!$L$5","v":0},{"$f":"[1]主表!$E125","v":2662},{"$f":"[1]升级!$H124","v":900},22,-1,4,3,4,1340]
[124,124,5,13,4,"229;235;241","炼虚期","前",4,229,235,241,29700,-1,-1,-1,-1,-1,-1,0,{"$f":"[1]升级!$B125/[2]HeroModelConfig!$I$5","v":335.2},{"$f":"[1]升级!$C125/[2]HeroModelConfig!$J$5","v":16.760000000000002},{"$f":"[1]升级!$D125/[2]HeroModelConfig!$K$5","v":16.760000000000002},1,{"$f":"[1]升级!$J125/[2]HeroModelConfig!$L$5","v":0},{"$f":"[1]主表!$E126","v":2715},{"$f":"[1]升级!$H125","v":900},22,-1,4,3,4,1350]
[125,125,5,13,5,"229;235;242","炼虚期","前",5,229,235,242,29920,-1,-1,-1,-1,-1,-1,0,{"$f":"[1]升级!$B126/[2]HeroModelConfig!$I$5","v":340.4},{"$f":"[1]升级!$C126/[2]HeroModelConfig!$J$5","v":17.02},{"$f":"[1]升级!$D126/[2]HeroModelConfig!$K$5","v":17.02},1,{"$f":"[1]升级!$J126/[2]HeroModelConfig!$L$5","v":0},{"$f":"[1]主表!$E127","v":2766},{"$f":"[1]升级!$H126","v":900},22,-1,4,3,4,1360]
[126,126,5,13,6,"229;235;243","炼虚期","前",6,229,235,243,30140,-1,-1,-1,-1,-1,-1,0,{"$f":"[1]升级!$B127/[2]HeroModelConfig!$I$5","v":346.4},{"$f":"[1]升级!$C127/[2]HeroModelConfig!$J$5","v":17.32},{"$f":"[1]升级!$D127/[2]HeroModelConfig!$K$5","v":17.32},1,{"$f":"[1]升级!$J127/[2]HeroModelConfig!$L$5","v":0},{"$f":"[1]主表!$E128","v":2823},{"$f":"[1]升级!$H127","v":900},22,-1,4,3,4,1370]
[127,127,5,13,7,"229;235;244","炼虚期","前",7,229,235,244,30360,-1,-1,-1,-1,-1,-1,0,{"$f":"[1]升级!$B128/[2]HeroModelConfig!$I$5","v":352},{"$f":"[1]升级!$C128/[2]HeroModelConfig!$J$5","v":17.600000000000001},{"$f":"[1]升级!$D128/[2]HeroModelConfig!$K$5","v":17.600000000000001},1,{"$f":"[1]升级!$J128/[2]HeroModelConfig!$L$5","v":0},{"$f":"[1]主表!$E129","v":2878},{"$f":"[1]升级!$H128","v":900},22,-1,4,3,4,1380]
[128,128,5,13,8,"229;235;245","炼虚期","前",8,229,235,245,30580,-1,-1,-1,-1,-1,-1,0,{"$f":"[1]升级!$B129/[2]HeroModelConfig!$I$5","v":357.6},{"$f":"[1]升级!$C129/[2]HeroModelConfig!$J$5","v":17.88},{"$f":"[1]升级!$D129/[2]HeroModelConfig!$K$5","v":17.88},1,{"$f":"[1]升级!$J129/[2]HeroModelConfig!$L$5","v":0},{"$f":"[1]主表!$E130","v":2932},{"$f":"[1]升级!$H129","v":900},22,-1,4,3,4,1390]
[129,129,5,13,9,"229;235;246","炼虚期","前",9,229,235,246,30800,-1,-1,-1,-1,-1,-1,0,{"$f":"[1]升级!$B130/[2]HeroModelConfig!$I$5","v":363.6},{"$f":"[1]升级!$C130/[2]HeroModelConfig!$J$5","v":18.18},{"$f":"[1]升级!$D130/[2]HeroModelConfig!$K$5","v":18.18},1,{"$f":"[1]升级!$J130/[2]HeroModelConfig!$L$5","v":0},{"$f":"[1]主表!$E131","v":2991},{"$f":"[1]升级!$H130","v":900},22,-1,4,3,4,1400]
[130,130,5,13,{"$f":"I134","v":10},{"$f":"_xlfn.TEXTJOIN(\";\",1,J134:L134)","v":"229;235;247"},"炼虚期","前",10,229,235,247,{"$f":"INT(0.1*AB134*AG134)*10","v":31020},{"$f":"IF(I134=10,100001,-1)","v":100001},{"$f":"IF(N134=-1,-1,20)","v":20},1301,1,1301,1,0,{"$f":"[1]升级!$B131/[2]HeroModelConfig!$I$5","v":387.6},{"$f":"[1]升级!$C131/[2]HeroModelConfig!$J$5","v":19.38},{"$f":"[1]升级!$D131/[2]HeroModelConfig!$K$5","v":19.38},1,{"$f":"[1]升级!$J131/[2]HeroModelConfig!$L$5","v":0},{"$f":"[1]主表!$E132","v":3198},{"$f":"[1]升级!$H131","v":900},22,20,4,3,4,1410]
[131,131,5,14,1,"229;236;238","炼虚期","中",1,229,236,238,32660,-1,-1,-1,-1,{"$f":"IF(I135=10,\"1001;1002;1004\",-1)","v":-1},-1,0,{"$f":"[1]升级!$B132/[2]HeroModelConfig!$I$5","v":394},{"$f":"[1]升级!$C132/[2]HeroModelConfig!$J$5","v":19.7},{"$f":"[1]升级!$D132/[2]HeroModelConfig!$K$5","v":19.7},1,{"$f":"[1]升级!$J132/[2]HeroModelConfig!$L$5","v":0},{"$f":"[1]主表!$E133","v":3260},{"$f":"[1]升级!$H132","v":900},23,-1,4,3,4,{"$f":"MAX(AG134+10,ROUND(10^(B135*0.01+1.405),0))","v":1420}]
[132,132,5,14,2,"229;236;239","炼虚期","中",2,229,236,239,32890,-1,-1,-1,-1,-1,-1,0,{"$f":"[1]升级!$B133/[2]HeroModelConfig!$I$5","v":400.4},{"$f":"[1]升级!$C133/[2]HeroModelConfig!$J$5","v":20.02},{"$f":"[1]升级!$D133/[2]HeroModelConfig!$K$5","v":20.02},1,{"$f":"[1]升级!$J133/[2]HeroModelConfig!$L$5","v":0},{"$f":"[1]主表!$E134","v":3323},{"$f":"[1]升级!$H133","v":900},23,-1,4,3,4,1430]
[133,133,5,14,3,"229;236;240","炼虚期","中",3,229,236,240,33120,-1,-1,-1,-1,-1,-1,0,{"$f":"[1]升级!$B134/[2]HeroModelConfig!$I$5","v":407.2},{"$f":"[1]升级!$C134/[2]HeroModelConfig!$J$5","v":20.36},{"$f":"[1]升级!$D134/[2]HeroModelConfig!$K$5","v":20.36},1,{"$f":"[1]升级!$J134/[2]HeroModelConfig!$L$5","v":0},{"$f":"[1]主表!$E135","v":3390},{"$f":"[1]升级!$H134","v":900},23,-1,4,3,4,1440]
[134,134,5,14,4,"229;236;241","炼虚期","中",4,229,236,241,33350,-1,-1,-1,-1,-1,-1,0,{"$f":"[1]升级!$B135/[2]HeroModelConfig!$I$5","v":413.6},{"$f":"[1]升级!$C135/[2]HeroModelConfig!$J$5","v":20.68},{"$f":"[1]升级!$D135/[2]HeroModelConfig!$K$5","v":20.68},1,{"$f":"[1]升级!$J135/[2]HeroModelConfig!$L$5","v":0},{"$f":"[1]主表!$E136","v":3454},{"$f":"[1]升级!$H135","v":900},23,-1,4,3,4,1450]
[135,135,5,14,5,"229;236;242","炼虚期","中",5,229,236,242,33580,-1,-1,-1,-1,-1,-1,0,{"$f":"[1]升级!$B136/[2]HeroModelConfig!$I$5","v":420.4},{"$f":"[1]升级!$C136/[2]HeroModelConfig!$J$5","v":21.02},{"$f":"[1]升级!$D136/[2]HeroModelConfig!$K$5","v":21.02},1,{"$f":"[1]升级!$J136/[2]HeroModelConfig!$L$5","v":0},{"$f":"[1]主表!$E137","v":3521},{"$f":"[1]升级!$H136","v":900},23,-1,4,3,4,1460]
[136,136,5,14,6,"229;236;243","炼虚期","中",6,229,236,243,33810,-1,-1,-1,-1,-1,-1,0,{"$f":"[1]升级!$B137/[2]HeroModelConfig!$I$5","v":427.6},{"$f":"[1]升级!$C137/[2]HeroModelConfig!$J$5","v":21.38},{"$f":"[1]升级!$D137/[2]HeroModelConfig!$K$5","v":21.38},1,{"$f":"[1]升级!$J137/[2]HeroModelConfig!$L$5","v":0},{"$f":"[1]主表!$E138","v":3592},{"$f":"[1]升级!$H137","v":900},23,-1,4,3,4,1470]
[137,137,5,14,7,"229;236;244","炼虚期","中",7,229,236,244,34040,-1,-1,-1,-1,-1,-1,0,{"$f":"[1]升级!$B138/[2]HeroModelConfig!$I$5","v":434.4},{"$f":"[1]升级!$C138/[2]HeroModelConfig!$J$5","v":21.72},{"$f":"[1]升级!$D138/[2]HeroModelConfig!$K$5","v":21.72},1,{"$f":"[1]升级!$J138/[2]HeroModelConfig!$L$5","v":0},{"$f":"[1]主表!$E139","v":3660},{"$f":"[1]升级!$H138","v":900},23,-1,4,3,4,1480]
[138,138,5,14,8,"229;236;245","炼虚期","中",8,229,236,245,34270,-1,-1,-1,-1,-1,-1,0,{"$f":"[1]升级!$B139/[2]HeroModelConfig!$I$5","v":441.6},{"$f":"[1]升级!$C139/[2]HeroModelConfig!$J$5","v":22.08},{"$f":"[1]升级!$D139/[2]HeroModelConfig!$K$5","v":22.08},1,{"$f":"[1]升级!$J139/[2]HeroModelConfig!$L$5","v":0},{"$f":"[1]主表!$E140","v":3732},{"$f":"[1]升级!$H139","v":900},23,-1,4,3,4,1490]
[139,139,5,14,9,"229;236;246","炼虚期","中",9,229,236,246,34500,-1,-1,-1,-1,-1,-1,0,{"$f":"[1]升级!$B140/[2]HeroModelConfig!$I$5","v":448.8},{"$f":"[1]升级!$C140/[2]HeroModelConfig!$J$5","v":22.44},{"$f":"[1]升级!$D140/[2]HeroModelConfig!$K$5","v":22.44},1,{"$f":"[1]升级!$J140/[2]HeroModelConfig!$L$5","v":0},{"$f":"[1]主表!$E141","v":3804},{"$f":"[1]升级!$H140","v":900},23,-1,4,3,4,1500]
[140,140,5,14,10,"229;236;247","炼虚期","中",10,229,236,247,34730,100001,20,1301,1,"1301;1302","1;1",0,{"$f":"[1]升级!$B141/[2]HeroModelConfig!$I$5","v":478.4},{"$f":"[1]升级!$C141/[2]HeroModelConfig!$J$5","v":23.92},{"$f":"[1]升级!$D141/[2]HeroModelConfig!$K$5","v":23.92},1,{"$f":"[1]升级!$J141/[2]HeroModelConfig!$L$5","v":0},{"$f":"[1]主表!$E142","v":4066},{"$f":"[1]升级!$H141","v":900},23,20,4,3,4,1510]
[141,141,5,15,1,"229;237;238","炼虚期","后",1,229,237,238,36480,-1,-1,-1,-1,{"$f":"IF(I145=10,\"1001;1002;1004\",-1)","v":-1},-1,0,{"$f":"[1]升级!$B142/[2]HeroModelConfig!$I$5","v":486.4},{"$f":"[1]升级!$C142/[2]HeroModelConfig!$J$5","v":24.32},{"$f":"[1]升级!$D142/[2]HeroModelConfig!$K$5","v":24.32},1,{"$f":"[1]升级!$J142/[2]HeroModelConfig!$L$5","v":0},{"$f":"[1]主表!$E143","v":4147},{"$f":"[1]升级!$H142","v":900},24,-1,4,3,4,1520]
[142,142,5,15,2,"229;237;239","炼虚期","后",2,229,237,239,36720,-1,-1,-1,-1,-1,-1,0,{"$f":"[1]升级!$B143/[2]HeroModelConfig!$I$5","v":494.4},{"$f":"[1]升级!$C143/[2]HeroModelConfig!$J$5","v":24.72},{"$f":"[1]升级!$D143/[2]HeroModelConfig!$K$5","v":24.72},1,{"$f":"[1]升级!$J143/[2]HeroModelConfig!$L$5","v":0},{"$f":"[1]主表!$E144","v":4227},{"$f":"[1]升级!$H143","v":900},24,-1,4,3,4,1530]
[143,143,5,15,3,"229;237;240","炼虚期","后",3,229,237,240,36960,-1,-1,-1,-1,-1,-1,0,{"$f":"[1]升级!$B144/[2]HeroModelConfig!$I$5","v":502.4},{"$f":"[1]升级!$C144/[2]HeroModelConfig!$J$5","v":25.12},{"$f":"[1]升级!$D144/[2]HeroModelConfig!$K$5","v":25.12},1,{"$f":"[1]升级!$J144/[2]HeroModelConfig!$L$5","v":0},{"$f":"[1]主表!$E145","v":4308},{"$f":"[1]升级!$H144","v":900},24,-1,4,3,4,1540]
[144,144,5,15,4,"229;237;241","炼虚期","后",4,229,237,241,37200,-1,-1,-1,-1,-1,-1,0,{"$f":"[1]升级!$B145/[2]HeroModelConfig!$I$5","v":510.8},{"$f":"[1]升级!$C145/[2]HeroModelConfig!$J$5","v":25.54},{"$f":"[1]升级!$D145/[2]HeroModelConfig!$K$5","v":25.54},1,{"$f":"[1]升级!$J145/[2]HeroModelConfig!$L$5","v":0},{"$f":"[1]主表!$E146","v":4393},{"$f":"[1]升级!$H145","v":900},24,-1,4,3,4,1550]
[145,145,5,15,5,"229;237;242","炼虚期","后",5,229,237,242,37440,-1,-1,-1,-1,-1,-1,0,{"$f":"[1]升级!$B146/[2]HeroModelConfig!$I$5","v":519.20000000000005},{"$f":"[1]升级!$C146/[2]HeroModelConfig!$J$5","v":25.96},{"$f":"[1]升级!$D146/[2]HeroModelConfig!$K$5","v":25.96},1,{"$f":"[1]升级!$J146/[2]HeroModelConfig!$L$5","v":0},{"$f":"[1]主表!$E147","v":4478},{"$f":"[1]升级!$H146","v":900},24,-1,4,3,4,1560]
[146,146,5,15,6,"229;237;243","炼虚期","后",6,229,237,243,37680,-1,-1,-1,-1,-1,-1,0,{"$f":"[1]升级!$B147/[2]HeroModelConfig!$I$5","v":527.6},{"$f":"[1]升级!$C147/[2]HeroModelConfig!$J$5","v":26.38},{"$f":"[1]升级!$D147/[2]HeroModelConfig!$K$5","v":26.38},1,{"$f":"[1]升级!$J147/[2]HeroModelConfig!$L$5","v":0},{"$f":"[1]主表!$E148","v":4564},{"$f":"[1]升级!$H147","v":900},24,-1,4,3,4,1570]
[147,147,5,15,7,"229;237;244","炼虚期","后",7,229,237,244,37920,-1,-1,-1,-1,-1,-1,0,{"$f":"[1]升级!$B148/[2]HeroModelConfig!$I$5","v":536.4},{"$f":"[1]升级!$C148/[2]HeroModelConfig!$J$5","v":26.82},{"$f":"[1]升级!$D148/[2]HeroModelConfig!$K$5","v":26.82},1,{"$f":"[1]升级!$J148/[2]HeroModelConfig!$L$5","v":0},{"$f":"[1]主表!$E149","v":4653},{"$f":"[1]升级!$H148","v":900},24,-1,4,3,4,1580]
[148,148,5,15,8,"229;237;245","炼虚期","后",8,229,237,245,38160,-1,-1,-1,-1,-1,-1,0,{"$f":"[1]升级!$B149/[2]HeroModelConfig!$I$5","v":545.20000000000005},{"$f":"[1]升级!$C149/[2]HeroModelConfig!$J$5","v":27.26},{"$f":"[1]升级!$D149/[2]HeroModelConfig!$K$5","v":27.26},1,{"$f":"[1]升级!$J149/[2]HeroModelConfig!$L$5","v":0},{"$f":"[1]主表!$E150","v":4743},{"$f":"[1]升级!$H149","v":900},24,-1,4,3,4,1590]
[149,149,5,15,9,"229;237;246","炼虚期","后",9,229,237,246,38400,-1,-1,-1,-1,-1,-1,0,{"$f":"[1]升级!$B150/[2]HeroModelConfig!$I$5","v":554.4},{"$f":"[1]升级!$C150/[2]HeroModelConfig!$J$5","v":27.72},{"$f":"[1]升级!$D150/[2]HeroModelConfig!$K$5","v":27.72},1,{"$f":"[1]升级!$J150/[2]HeroModelConfig!$L$5","v":0},{"$f":"[1]主表!$E151","v":4837},{"$f":"[1]升级!$H150","v":900},24,-1,4,3,4,1600]
[150,150,5,15,10,"229;237;247","炼虚期","后",10,229,237,247,38640,100001,20,1301,1,"1301;1302;1303","1;1;1","15000;22500",{"$f":"[1]升级!$B151/[2]HeroModelConfig!$I$5","v":627.20000000000005},{"$f":"[1]升级!$C151/[2]HeroModelConfig!$J$5","v":31.36},{"$f":"[1]升级!$D151/[2]HeroModelConfig!$K$5","v":31.36},1,{"$f":"[1]升级!$J151/[2]HeroModelConfig!$L$5","v":0},{"$f":"[1]主表!$E152","v":5488},{"$f":"[1]升级!$H151","v":1000},24,50,4,3,4,1610]
[151,151,6,16,1,"230;235;238","合体期","前",1,230,235,238,40500,-1,-1,-1,-1,{"$f":"IF(I155=10,\"1001;1002;1004\",-1)","v":-1},{"$f":"IF(R155=-1,-1,\"100;200;300\")","v":-1},{"$f":"IF(G155=G156,0,CONCATENATE(B155*100,\";\",B155*150))","v":0},{"$f":"[1]升级!$B152/[2]HeroModelConfig!$I$5","v":637.6},{"$f":"[1]升级!$C152/[2]HeroModelConfig!$J$5","v":31.88},{"$f":"[1]升级!$D152/[2]HeroModelConfig!$K$5","v":31.88},1,{"$f":"[1]升级!$J152/[2]HeroModelConfig!$L$5","v":0},{"$f":"[1]主表!$E153","v":5595},{"$f":"[1]升级!$H152","v":1000},25,-1,4,3,4,1620]
[152,152,6,16,2,"230;235;239","合体期","前",2,230,235,239,40750,-1,-1,-1,-1,{"$f":"IF(I156=10,\"1001;1002;1004\",-1)","v":-1},{"$f":"IF(R156=-1,-1,\"100;200;300\")","v":-1},{"$f":"IF(G156=G157,0,CONCATENATE(B156*100,\";\",B156*150))","v":0},{"$f":"[1]升级!$B153/[2]HeroModelConfig!$I$5","v":648},{"$f":"[1]升级!$C153/[2]HeroModelConfig!$J$5","v":32.4},{"$f":"[1]升级!$D153/[2]HeroModelConfig!$K$5","v":32.4},1,{"$f":"[1]升级!$J153/[2]HeroModelConfig!$L$5","v":0},{"$f":"[1]主表!$E154","v":5702},{"$f":"[1]升级!$H153","v":1000},25,-1,4,3,4,1630]
[153,153,6,16,3,"230;235;240","合体期","前",3,230,235,240,41000,-1,-1,-1,-1,-1,-1,0,{"$f":"[1]升级!$B154/[2]HeroModelConfig!$I$5","v":658.8},{"$f":"[1]升级!$C154/[2]HeroModelConfig!$J$5","v":32.94},{"$f":"[1]升级!$D154/[2]HeroModelConfig!$K$5","v":32.94},1,{"$f":"[1]升级!$J154/[2]HeroModelConfig!$L$5","v":0},{"$f":"[1]主表!$E155","v":5814},{"$f":"[1]升级!$H154","v":1000},25,-1,4,3,4,1640]
[154,154,6,16,4,"230;235;241","合体期","前",4,230,235,241,41250,-1,-1,-1,-1,-1,-1,0,{"$f":"[1]升级!$B155/[2]HeroModelConfig!$I$5","v":669.6},{"$f":"[1]升级!$C155/[2]HeroModelConfig!$J$5","v":33.479999999999997},{"$f":"[1]升级!$D155/[2]HeroModelConfig!$K$5","v":33.479999999999997},1,{"$f":"[1]升级!$J155/[2]HeroModelConfig!$L$5","v":0},{"$f":"[1]主表!$E156","v":5926},{"$f":"[1]升级!$H155","v":1000},25,-1,4,3,4,1650]
[155,155,6,16,5,"230;235;242","合体期","前",5,230,235,242,41500,-1,-1,-1,-1,-1,-1,0,{"$f":"[1]升级!$B156/[2]HeroModelConfig!$I$5","v":680.8},{"$f":"[1]升级!$C156/[2]HeroModelConfig!$J$5","v":34.04},{"$f":"[1]升级!$D156/[2]HeroModelConfig!$K$5","v":34.04},1,{"$f":"[1]升级!$J156/[2]HeroModelConfig!$L$5","v":0},{"$f":"[1]主表!$E157","v":6042},{"$f":"[1]升级!$H156","v":1000},25,-1,4,3,4,1660]
[156,156,6,16,6,"230;235;243","合体期","前",6,230,235,243,41750,-1,-1,-1,-1,-1,-1,0,{"$f":"[1]升级!$B157/[2]HeroModelConfig!$I$5","v":692},{"$f":"[1]升级!$C157/[2]HeroModelConfig!$J$5","v":34.6},{"$f":"[1]升级!$D157/[2]HeroModelConfig!$K$5","v":34.6},1,{"$f":"[1]升级!$J157/[2]HeroModelConfig!$L$5","v":0},{"$f":"[1]主表!$E158","v":6159},{"$f":"[1]升级!$H157","v":1000},25,-1,4,3,4,1670]
[157,157,6,16,7,"230;235;244","合体期","前",7,230,235,244,42000,-1,-1,-1,-1,-1,-1,0,{"$f":"[1]升级!$B158/[2]HeroModelConfig!$I$5","v":703.2},{"$f":"[1]升级!$C158/[2]HeroModelConfig!$J$5","v":35.159999999999997},{"$f":"[1]升级!$D158/[2]HeroModelConfig!$K$5","v":35.159999999999997},1,{"$f":"[1]升级!$J158/[2]HeroModelConfig!$L$5","v":0},{"$f":"[1]主表!$E159","v":6276},{"$f":"[1]升级!$H158","v":1000},25,-1,4,3,4,1680]
[158,158,6,16,8,"230;235;245","合体期","前",8,230,235,245,42250,-1,-1,-1,-1,-1,-1,0,{"$f":"[1]升级!$B159/[2]HeroModelConfig!$I$5","v":714.8},{"$f":"[1]升级!$C159/[2]HeroModelConfig!$J$5","v":35.74},{"$f":"[1]升级!$D159/[2]HeroModelConfig!$K$5","v":35.74},1,{"$f":"[1]升级!$J159/[2]HeroModelConfig!$L$5","v":0},{"$f":"[1]主表!$E160","v":6397},{"$f":"[1]升级!$H159","v":1000},25,-1,4,3,4,1690]
[159,159,6,16,9,"230;235;246","合体期","前",9,230,235,246,42500,-1,-1,-1,-1,-1,-1,0,{"$f":"[1]升级!$B160/[2]HeroModelConfig!$I$5","v":726.8},{"$f":"[1]升级!$C160/[2]HeroModelConfig!$J$5","v":36.340000000000003},{"$f":"[1]升级!$D160/[2]HeroModelConfig!$K$5","v":36.340000000000003},1,{"$f":"[1]升级!$J160/[2]HeroModelConfig!$L$5","v":0},{"$f":"[1]主表!$E161","v":6523},{"$f":"[1]升级!$H160","v":1000},25,-1,4,3,4,1700]
[160,160,6,16,10,"230;235;247","合体期","前",10,230,235,247,42750,100001,20,1301,1,1301,1,0,{"$f":"[1]升级!$B161/[2]HeroModelConfig!$I$5","v":774.4},{"$f":"[1]升级!$C161/[2]HeroModelConfig!$J$5","v":38.72},{"$f":"[1]升级!$D161/[2]HeroModelConfig!$K$5","v":38.72},1,{"$f":"[1]升级!$J161/[2]HeroModelConfig!$L$5","v":83.64},{"$f":"[1]主表!$E162","v":6970},{"$f":"[1]升级!$H161","v":1000},25,20,4,3,4,1710]
[161,161,6,17,1,"230;236;238","合体期","中",1,230,236,238,44720,-1,-1,-1,-1,{"$f":"IF(I165=10,\"1001;1002;1004\",-1)","v":-1},-1,0,{"$f":"[1]升级!$B162/[2]HeroModelConfig!$I$5","v":787.2},{"$f":"[1]升级!$C162/[2]HeroModelConfig!$J$5","v":39.36},{"$f":"[1]升级!$D162/[2]HeroModelConfig!$K$5","v":39.36},1,{"$f":"[1]升级!$J162/[2]HeroModelConfig!$L$5","v":85.25},{"$f":"[1]主表!$E163","v":7104},{"$f":"[1]升级!$H162","v":1000},26,-1,4,3,4,1720]
[162,162,6,17,2,"230;236;239","合体期","中",2,230,236,239,44980,-1,-1,-1,-1,-1,-1,0,{"$f":"[1]升级!$B163/[2]HeroModelConfig!$I$5","v":800.4},{"$f":"[1]升级!$C163/[2]HeroModelConfig!$J$5","v":40.020000000000003},{"$f":"[1]升级!$D163/[2]HeroModelConfig!$K$5","v":40.020000000000003},1,{"$f":"[1]升级!$J163/[2]HeroModelConfig!$L$5","v":86.93},{"$f":"[1]主表!$E164","v":7244},{"$f":"[1]升级!$H163","v":1000},26,-1,4,3,4,1730]
[163,163,6,17,3,"230;236;240","合体期","中",3,230,236,240,45240,-1,-1,-1,-1,-1,-1,0,{"$f":"[1]升级!$B164/[2]HeroModelConfig!$I$5","v":813.6},{"$f":"[1]升级!$C164/[2]HeroModelConfig!$J$5","v":40.68},{"$f":"[1]升级!$D164/[2]HeroModelConfig!$K$5","v":40.68},1,{"$f":"[1]升级!$J164/[2]HeroModelConfig!$L$5","v":88.6},{"$f":"[1]主表!$E165","v":7383},{"$f":"[1]升级!$H164","v":1000},26,-1,4,3,4,1740]
[164,164,6,17,4,"230;236;241","合体期","中",4,230,236,241,45500,-1,-1,-1,-1,-1,-1,0,{"$f":"[1]升级!$B165/[2]HeroModelConfig!$I$5","v":826.8},{"$f":"[1]升级!$C165/[2]HeroModelConfig!$J$5","v":41.34},{"$f":"[1]升级!$D165/[2]HeroModelConfig!$K$5","v":41.34},1,{"$f":"[1]升级!$J165/[2]HeroModelConfig!$L$5","v":90.29},{"$f":"[1]主表!$E166","v":7524},{"$f":"[1]升级!$H165","v":1000},26,-1,4,3,4,1750]
[165,165,6,17,5,"230;236;242","合体期","中",5,230,236,242,45760,-1,-1,-1,-1,-1,-1,0,{"$f":"[1]升级!$B166/[2]HeroModelConfig!$I$5","v":840.4},{"$f":"[1]升级!$C166/[2]HeroModelConfig!$J$5","v":42.02},{"$f":"[1]升级!$D166/[2]HeroModelConfig!$K$5","v":42.02},1,{"$f":"[1]升级!$J166/[2]HeroModelConfig!$L$5","v":92.03},{"$f":"[1]主表!$E167","v":7669},{"$f":"[1]升级!$H166","v":1000},26,-1,4,3,4,1760]
[166,166,6,17,6,"230;236;243","合体期","中",6,230,236,243,46020,-1,-1,-1,-1,-1,-1,0,{"$f":"[1]升级!$B167/[2]HeroModelConfig!$I$5","v":854.4},{"$f":"[1]升级!$C167/[2]HeroModelConfig!$J$5","v":42.72},{"$f":"[1]升级!$D167/[2]HeroModelConfig!$K$5","v":42.72},1,{"$f":"[1]升级!$J167/[2]HeroModelConfig!$L$5","v":93.82},{"$f":"[1]主表!$E168","v":7818},{"$f":"[1]升级!$H167","v":1000},26,-1,4,3,4,1770]
[167,167,6,17,7,"230;236;244","合体期","中",7,230,236,244,46280,-1,-1,-1,-1,-1,-1,0,{"$f":"[1]升级!$B168/[2]HeroModelConfig!$I$5","v":868.4},{"$f":"[1]升级!$C168/[2]HeroModelConfig!$J$5","v":43.42},{"$f":"[1]升级!$D168/[2]HeroModelConfig!$K$5","v":43.42},1,{"$f":"[1]升级!$J168/[2]HeroModelConfig!$L$5","v":95.62},{"$f":"[1]主表!$E169","v":7968},{"$f":"[1]升级!$H168","v":1000},26,-1,4,3,4,1780]
[168,168,6,17,8,"230;236;245","合体期","中",8,230,236,245,46540,-1,-1,-1,-1,-1,-1,0,{"$f":"[1]升级!$B169/[2]HeroModelConfig!$I$5","v":882.8},{"$f":"[1]升级!$C169/[2]HeroModelConfig!$J$5","v":44.14},{"$f":"[1]升级!$D169/[2]HeroModelConfig!$K$5","v":44.14},1,{"$f":"[1]升级!$J169/[2]HeroModelConfig!$L$5","v":97.46},{"$f":"[1]主表!$E170","v":8122},{"$f":"[1]升级!$H169","v":1000},26,-1,4,3,4,1790]
[169,169,6,17,9,"230;236;246","合体期","中",9,230,236,246,46800,-1,-1,-1,-1,-1,-1,0,{"$f":"[1]升级!$B170/[2]HeroModelConfig!$I$5","v":897.2},{"$f":"[1]升级!$C170/[2]HeroModelConfig!$J$5","v":44.86},{"$f":"[1]升级!$D170/[2]HeroModelConfig!$K$5","v":44.86},1,{"$f":"[1]升级!$J170/[2]HeroModelConfig!$L$5","v":99.32},{"$f":"[1]主表!$E171","v":8277},{"$f":"[1]升级!$H170","v":1000},26,-1,4,3,4,1800]
[170,170,6,17,10,"230;236;247","合体期","中",10,230,236,247,47060,100001,20,1301,1,"1301;1302","1;1",0,{"$f":"[1]升级!$B171/[2]HeroModelConfig!$I$5","v":956.4},{"$f":"[1]升级!$C171/[2]HeroModelConfig!$J$5","v":47.82},{"$f":"[1]升级!$D171/[2]HeroModelConfig!$K$5","v":47.82},1,{"$f":"[1]升级!$J171/[2]HeroModelConfig!$L$5","v":123.86},{"$f":"[1]主表!$E172","v":8847},{"$f":"[1]升级!$H171","v":1000},26,20,4,3,4,1810]
[171,171,6,18,1,"230;237;238","合体期","后",1,230,237,238,49140,-1,-1,-1,-1,{"$f":"IF(I175=10,\"1001;1002;1004\",-1)","v":-1},-1,0,{"$f":"[1]升级!$B172/[2]HeroModelConfig!$I$5","v":972},{"$f":"[1]升级!$C172/[2]HeroModelConfig!$J$5","v":48.6},{"$f":"[1]升级!$D172/[2]HeroModelConfig!$K$5","v":48.6},1,{"$f":"[1]升级!$J172/[2]HeroModelConfig!$L$5","v":126.21},{"$f":"[1]主表!$E173","v":9015},{"$f":"[1]升级!$H172","v":1000},27,-1,4,3,4,1820]
[172,172,6,18,2,"230;237;239","合体期","后",2,230,237,239,49410,-1,-1,-1,-1,-1,-1,0,{"$f":"[1]升级!$B173/[2]HeroModelConfig!$I$5","v":988},{"$f":"[1]升级!$C173/[2]HeroModelConfig!$J$5","v":49.4},{"$f":"[1]升级!$D173/[2]HeroModelConfig!$K$5","v":49.4},1,{"$f":"[1]升级!$J173/[2]HeroModelConfig!$L$5","v":128.63},{"$f":"[1]主表!$E174","v":9188},{"$f":"[1]升级!$H173","v":1000},27,-1,4,3,4,1830]
[173,173,6,18,3,"230;237;240","合体期","后",3,230,237,240,49680,-1,-1,-1,-1,-1,-1,0,{"$f":"[1]升级!$B174/[2]HeroModelConfig!$I$5","v":1004.4},{"$f":"[1]升级!$C174/[2]HeroModelConfig!$J$5","v":50.22},{"$f":"[1]升级!$D174/[2]HeroModelConfig!$K$5","v":50.22},1,{"$f":"[1]升级!$J174/[2]HeroModelConfig!$L$5","v":131.12},{"$f":"[1]主表!$E175","v":9366},{"$f":"[1]升级!$H174","v":1000},27,-1,4,3,4,1840]
[174,174,6,18,4,"230;237;241","合体期","后",4,230,237,241,49950,-1,-1,-1,-1,-1,-1,0,{"$f":"[1]升级!$B175/[2]HeroModelConfig!$I$5","v":1020.8},{"$f":"[1]升级!$C175/[2]HeroModelConfig!$J$5","v":51.04},{"$f":"[1]升级!$D175/[2]HeroModelConfig!$K$5","v":51.04},1,{"$f":"[1]升级!$J175/[2]HeroModelConfig!$L$5","v":133.62},{"$f":"[1]主表!$E176","v":9544},{"$f":"[1]升级!$H175","v":1000},27,-1,4,3,4,1850]
[175,175,6,18,5,"230;237;242","合体期","后",5,230,237,242,50220,-1,-1,-1,-1,-1,-1,0,{"$f":"[1]升级!$B176/[2]HeroModelConfig!$I$5","v":1037.5999999999999},{"$f":"[1]升级!$C176/[2]HeroModelConfig!$J$5","v":51.88},{"$f":"[1]升级!$D176/[2]HeroModelConfig!$K$5","v":51.88},1,{"$f":"[1]升级!$J176/[2]HeroModelConfig!$L$5","v":136.19},{"$f":"[1]主表!$E177","v":9728},{"$f":"[1]升级!$H176","v":1000},27,-1,4,3,4,1860]
[176,176,6,18,6,"230;237;243","合体期","后",6,230,237,243,50490,-1,-1,-1,-1,-1,-1,0,{"$f":"[1]升级!$B177/[2]HeroModelConfig!$I$5","v":1054.8},{"$f":"[1]升级!$C177/[2]HeroModelConfig!$J$5","v":52.74},{"$f":"[1]升级!$D177/[2]HeroModelConfig!$K$5","v":52.74},1,{"$f":"[1]升级!$J177/[2]HeroModelConfig!$L$5","v":138.81},{"$f":"[1]主表!$E178","v":9915},{"$f":"[1]升级!$H177","v":1000},27,-1,4,3,4,1870]
[177,177,6,18,7,"230;237;244","合体期","后",7,230,237,244,50760,-1,-1,-1,-1,-1,-1,0,{"$f":"[1]升级!$B178/[2]HeroModelConfig!$I$5","v":1072},{"$f":"[1]升级!$C178/[2]HeroModelConfig!$J$5","v":53.6},{"$f":"[1]升级!$D178/[2]HeroModelConfig!$K$5","v":53.6},1,{"$f":"[1]升级!$J178/[2]HeroModelConfig!$L$5","v":141.46},{"$f":"[1]主表!$E179","v":10104},{"$f":"[1]升级!$H178","v":1000},27,-1,4,3,4,1880]
[178,178,6,18,8,"230;237;245","合体期","后",8,230,237,245,51030,-1,-1,-1,-1,-1,-1,0,{"$f":"[1]升级!$B179/[2]HeroModelConfig!$I$5","v":1089.5999999999999},{"$f":"[1]升级!$C179/[2]HeroModelConfig!$J$5","v":54.48},{"$f":"[1]升级!$D179/[2]HeroModelConfig!$K$5","v":54.48},1,{"$f":"[1]升级!$J179/[2]HeroModelConfig!$L$5","v":144.16},{"$f":"[1]主表!$E180","v":10297},{"$f":"[1]升级!$H179","v":1000},27,-1,4,3,4,1890]
[179,179,6,18,9,"230;237;246","合体期","后",9,230,237,246,51300,-1,-1,-1,-1,-1,-1,0,{"$f":"[1]升级!$B180/[2]HeroModelConfig!$I$5","v":1107.5999999999999},{"$f":"[1]升级!$C180/[2]HeroModelConfig!$J$5","v":55.38},{"$f":"[1]升级!$D180/[2]HeroModelConfig!$K$5","v":55.38},1,{"$f":"[1]升级!$J180/[2]HeroModelConfig!$L$5","v":146.93},{"$f":"[1]主表!$E181","v":10495},{"$f":"[1]升级!$H180","v":1000},27,-1,4,3,4,1900]
[180,180,6,18,10,"230;237;247","合体期","后",10,230,237,247,51570,100001,20,1301,1,"1301;1302;1303","1;1;1","18000;27000",{"$f":"[1]升级!$B181/[2]HeroModelConfig!$I$5","v":1253.5999999999999},{"$f":"[1]升级!$C181/[2]HeroModelConfig!$J$5","v":62.68},{"$f":"[1]升级!$D181/[2]HeroModelConfig!$K$5","v":62.68},1,{"$f":"[1]升级!$J181/[2]HeroModelConfig!$L$5","v":238.18},{"$f":"[1]主表!$E182","v":11909},{"$f":"[1]升级!$H181","v":1000},27,50,4,3,4,1910]
[181,181,7,19,1,"231;235;238","大乘期","前",1,231,235,238,53760,-1,-1,-1,-1,{"$f":"IF(I185=10,\"1001;1002;1004\",-1)","v":-1},{"$f":"IF(R185=-1,-1,\"100;200;300\")","v":-1},{"$f":"IF(G185=G186,0,CONCATENATE(B185*100,\";\",B185*150))","v":0},{"$f":"[1]升级!$B182/[2]HeroModelConfig!$I$5","v":1274.4000000000001},{"$f":"[1]升级!$C182/[2]HeroModelConfig!$J$5","v":63.72},{"$f":"[1]升级!$D182/[2]HeroModelConfig!$K$5","v":63.72},1,{"$f":"[1]升级!$J182/[2]HeroModelConfig!$L$5","v":242.78},{"$f":"[1]主表!$E183","v":12139},{"$f":"[1]升级!$H182","v":1000},28,-1,4,3,4,1920]
[182,182,7,19,2,"231;235;239","大乘期","前",2,231,235,239,54040,-1,-1,-1,-1,{"$f":"IF(I186=10,\"1001;1002;1004\",-1)","v":-1},{"$f":"IF(R186=-1,-1,\"100;200;300\")","v":-1},{"$f":"IF(G186=G187,0,CONCATENATE(B186*100,\";\",B186*150))","v":0},{"$f":"[1]升级!$B183/[2]HeroModelConfig!$I$5","v":1295.2},{"$f":"[1]升级!$C183/[2]HeroModelConfig!$J$5","v":64.760000000000005},{"$f":"[1]升级!$D183/[2]HeroModelConfig!$K$5","v":64.760000000000005},1,{"$f":"[1]升级!$J183/[2]HeroModelConfig!$L$5","v":247.38},{"$f":"[1]主表!$E184","v":12369},{"$f":"[1]升级!$H183","v":1000},28,-1,4,3,4,1930]
[183,183,7,19,3,"231;235;240","大乘期","前",3,231,235,240,54320,-1,-1,-1,-1,-1,-1,0,{"$f":"[1]升级!$B184/[2]HeroModelConfig!$I$5","v":1316.8},{"$f":"[1]升级!$C184/[2]HeroModelConfig!$J$5","v":65.84},{"$f":"[1]升级!$D184/[2]HeroModelConfig!$K$5","v":65.84},1,{"$f":"[1]升级!$J184/[2]HeroModelConfig!$L$5","v":252.16},{"$f":"[1]主表!$E185","v":12608},{"$f":"[1]升级!$H184","v":1000},28,-1,4,3,4,1940]
[184,184,7,19,4,"231;235;241","大乘期","前",4,231,235,241,54600,-1,-1,-1,-1,-1,-1,0,{"$f":"[1]升级!$B185/[2]HeroModelConfig!$I$5","v":1338.4},{"$f":"[1]升级!$C185/[2]HeroModelConfig!$J$5","v":66.92},{"$f":"[1]升级!$D185/[2]HeroModelConfig!$K$5","v":66.92},1,{"$f":"[1]升级!$J185/[2]HeroModelConfig!$L$5","v":256.98},{"$f":"[1]主表!$E186","v":12849},{"$f":"[1]升级!$H185","v":1000},28,-1,4,3,4,1950]
[185,185,7,19,5,"231;235;242","大乘期","前",5,231,235,242,54880,-1,-1,-1,-1,-1,-1,0,{"$f":"[1]升级!$B186/[2]HeroModelConfig!$I$5","v":1360.4},{"$f":"[1]升级!$C186/[2]HeroModelConfig!$J$5","v":68.02},{"$f":"[1]升级!$D186/[2]HeroModelConfig!$K$5","v":68.02},1,{"$f":"[1]升级!$J186/[2]HeroModelConfig!$L$5","v":261.88},{"$f":"[1]主表!$E187","v":13094},{"$f":"[1]升级!$H186","v":1000},28,-1,4,3,4,1960]
[186,186,7,19,6,"231;235;243","大乘期","前",6,231,235,243,55160,-1,-1,-1,-1,-1,-1,0,{"$f":"[1]升级!$B187/[2]HeroModelConfig!$I$5","v":1382.8},{"$f":"[1]升级!$C187/[2]HeroModelConfig!$J$5","v":69.14},{"$f":"[1]升级!$D187/[2]HeroModelConfig!$K$5","v":69.14},1,{"$f":"[1]升级!$J187/[2]HeroModelConfig!$L$5","v":266.88},{"$f":"[1]主表!$E188","v":13344},{"$f":"[1]升级!$H187","v":1000},28,-1,4,3,4,1970]
[187,187,7,19,7,"231;235;244","大乘期","前",7,231,235,244,55440,-1,-1,-1,-1,-1,-1,0,{"$f":"[1]升级!$B188/[2]HeroModelConfig!$I$5","v":1405.6},{"$f":"[1]升级!$C188/[2]HeroModelConfig!$J$5","v":70.28},{"$f":"[1]升级!$D188/[2]HeroModelConfig!$K$5","v":70.28},1,{"$f":"[1]升级!$J188/[2]HeroModelConfig!$L$5","v":271.98},{"$f":"[1]主表!$E189","v":13599},{"$f":"[1]升级!$H188","v":1000},28,-1,4,3,4,1980]
[188,188,7,19,8,"231;235;245","大乘期","前",8,231,235,245,55720,-1,-1,-1,-1,-1,-1,0,{"$f":"[1]升级!$B189/[2]HeroModelConfig!$I$5","v":1428.8},{"$f":"[1]升级!$C189/[2]HeroModelConfig!$J$5","v":71.44},{"$f":"[1]升级!$D189/[2]HeroModelConfig!$K$5","v":71.44},1,{"$f":"[1]升级!$J189/[2]HeroModelConfig!$L$5","v":277.18},{"$f":"[1]主表!$E190","v":13859},{"$f":"[1]升级!$H189","v":1000},28,-1,4,3,4,1990]
[189,189,7,19,9,"231;235;246","大乘期","前",9,231,235,246,56000,-1,-1,-1,-1,-1,-1,0,{"$f":"[1]升级!$B190/[2]HeroModelConfig!$I$5","v":1452.4},{"$f":"[1]升级!$C190/[2]HeroModelConfig!$J$5","v":72.62},{"$f":"[1]升级!$D190/[2]HeroModelConfig!$K$5","v":72.62},1,{"$f":"[1]升级!$J190/[2]HeroModelConfig!$L$5","v":282.5},{"$f":"[1]主表!$E191","v":14125},{"$f":"[1]升级!$H190","v":1000},28,-1,4,3,4,2000]
[190,190,7,19,10,"231;235;247","大乘期","前",10,231,235,247,56500,100001,20,1301,1,1301,1,0,{"$f":"[1]升级!$B191/[2]HeroModelConfig!$I$5","v":1548},{"$f":"[1]升级!$C191/[2]HeroModelConfig!$J$5","v":77.400000000000006},{"$f":"[1]升级!$D191/[2]HeroModelConfig!$K$5","v":77.400000000000006},1,{"$f":"[1]升级!$J191/[2]HeroModelConfig!$L$5","v":332.05},{"$f":"[1]主表!$E192","v":15093},{"$f":"[1]升级!$H191","v":1000},28,20,4,3,4,2018]
[191,191,7,20,1,"231;236;238","大乘期","中",1,231,236,238,59880,-1,-1,-1,-1,{"$f":"IF(I195=10,\"1001;1002;1004\",-1)","v":-1},-1,0,{"$f":"[1]升级!$B192/[2]HeroModelConfig!$I$5","v":1573.6},{"$f":"[1]升级!$C192/[2]HeroModelConfig!$J$5","v":78.680000000000007},{"$f":"[1]升级!$D192/[2]HeroModelConfig!$K$5","v":78.680000000000007},1,{"$f":"[1]升级!$J192/[2]HeroModelConfig!$L$5","v":338.4},{"$f":"[1]主表!$E193","v":15382},{"$f":"[1]升级!$H192","v":1000},29,-1,4,3,4,2065]
[192,192,7,20,2,"231;236;239","大乘期","中",2,231,236,239,61270,-1,-1,-1,-1,-1,-1,0,{"$f":"[1]升级!$B193/[2]HeroModelConfig!$I$5","v":1599.2},{"$f":"[1]升级!$C193/[2]HeroModelConfig!$J$5","v":79.959999999999994},{"$f":"[1]升级!$D193/[2]HeroModelConfig!$K$5","v":79.959999999999994},1,{"$f":"[1]升级!$J193/[2]HeroModelConfig!$L$5","v":344.78},{"$f":"[1]主表!$E194","v":15672},{"$f":"[1]升级!$H193","v":1000},29,-1,4,3,4,2113]
[193,193,7,20,3,"231;236;240","大乘期","中",3,231,236,240,62720,-1,-1,-1,-1,-1,-1,0,{"$f":"[1]升级!$B194/[2]HeroModelConfig!$I$5","v":1625.6},{"$f":"[1]升级!$C194/[2]HeroModelConfig!$J$5","v":81.28},{"$f":"[1]升级!$D194/[2]HeroModelConfig!$K$5","v":81.28},1,{"$f":"[1]升级!$J194/[2]HeroModelConfig!$L$5","v":351.38},{"$f":"[1]主表!$E195","v":15972},{"$f":"[1]升级!$H194","v":1000},29,-1,4,3,4,2163]
[194,194,7,20,{"$f":"I198","v":4},{"$f":"_xlfn.TEXTJOIN(\";\",1,J198:L198)","v":"231;236;241"},"大乘期","中",4,231,236,241,{"$f":"INT(0.1*AB198*AG198)*10","v":64170},{"$f":"IF(I198=10,100001,-1)","v":-1},{"$f":"IF(N198=-1,-1,20)","v":-1},-1,-1,-1,-1,0,{"$f":"[1]升级!$B195/[2]HeroModelConfig!$I$5","v":1652.4},{"$f":"[1]升级!$C195/[2]HeroModelConfig!$J$5","v":82.62},{"$f":"[1]升级!$D195/[2]HeroModelConfig!$K$5","v":82.62},1,{"$f":"[1]升级!$J195/[2]HeroModelConfig!$L$5","v":358.07},{"$f":"[1]主表!$E196","v":16276},{"$f":"[1]升级!$H195","v":1000},29,-1,4,3,4,2213]
[195,195,7,20,5,"231;236;242","大乘期","中",5,231,236,242,65680,-1,-1,-1,-1,-1,-1,0,{"$f":"[1]升级!$B196/[2]HeroModelConfig!$I$5","v":1679.6},{"$f":"[1]升级!$C196/[2]HeroModelConfig!$J$5","v":83.98},{"$f":"[1]升级!$D196/[2]HeroModelConfig!$K$5","v":83.98},1,{"$f":"[1]升级!$J196/[2]HeroModelConfig!$L$5","v":364.89},{"$f":"[1]主表!$E197","v":16586},{"$f":"[1]升级!$H196","v":1000},29,-1,4,3,4,{"$f":"MAX(AG198+10,ROUND(10^(B199*0.01+1.405),0))","v":2265}]
[196,196,7,20,6,"231;236;243","大乘期","中",6,231,236,243,67190,-1,-1,-1,-1,-1,-1,0,{"$f":"[1]升级!$B197/[2]HeroModelConfig!$I$5","v":1707.2},{"$f":"[1]升级!$C197/[2]HeroModelConfig!$J$5","v":85.36},{"$f":"[1]升级!$D197/[2]HeroModelConfig!$K$5","v":85.36},1,{"$f":"[1]升级!$J197/[2]HeroModelConfig!$L$5","v":371.82},{"$f":"[1]主表!$E198","v":16901},{"$f":"[1]升级!$H197","v":1000},29,-1,4,3,4,2317]
[197,197,7,20,7,"231;236;244","大乘期","中",7,231,236,244,68750,-1,-1,-1,-1,-1,-1,0,{"$f":"[1]升级!$B198/[2]HeroModelConfig!$I$5","v":1735.6},{"$f":"[1]升级!$C198/[2]HeroModelConfig!$J$5","v":86.78},{"$f":"[1]升级!$D198/[2]HeroModelConfig!$K$5","v":86.78},1,{"$f":"[1]升级!$J198/[2]HeroModelConfig!$L$5","v":378.97},{"$f":"[1]主表!$E199","v":17226},{"$f":"[1]升级!$H198","v":1000},29,-1,4,3,4,2371]
[198,198,7,20,8,"231;236;245","大乘期","中",8,231,236,245,70380,-1,-1,-1,-1,-1,-1,0,{"$f":"[1]升级!$B199/[2]HeroModelConfig!$I$5","v":1764},{"$f":"[1]升级!$C199/[2]HeroModelConfig!$J$5","v":88.2},{"$f":"[1]升级!$D199/[2]HeroModelConfig!$K$5","v":88.2},1,{"$f":"[1]升级!$J199/[2]HeroModelConfig!$L$5","v":386.14},{"$f":"[1]主表!$E200","v":17552},{"$f":"[1]升级!$H199","v":1000},29,-1,4,3,4,2427]
[199,199,7,20,9,"231;236;246","大乘期","中",9,231,236,246,72000,-1,-1,-1,-1,-1,-1,0,{"$f":"[1]升级!$B200/[2]HeroModelConfig!$I$5","v":1793.2},{"$f":"[1]升级!$C200/[2]HeroModelConfig!$J$5","v":89.66},{"$f":"[1]升级!$D200/[2]HeroModelConfig!$K$5","v":89.66},1,{"$f":"[1]升级!$J200/[2]HeroModelConfig!$L$5","v":393.51},{"$f":"[1]主表!$E201","v":17887},{"$f":"[1]升级!$H200","v":1000},29,-1,4,3,4,2483]
[200,200,7,20,10,"231;236;247","大乘期","中",10,231,236,247,73680,100001,20,1301,1,"1301;1302","1;1",0,{"$f":"[1]升级!$B201/[2]HeroModelConfig!$I$5","v":1911.2},{"$f":"[1]升级!$C201/[2]HeroModelConfig!$J$5","v":95.56},{"$f":"[1]升级!$D201/[2]HeroModelConfig!$K$5","v":95.56},1,{"$f":"[1]升级!$J201/[2]HeroModelConfig!$L$5","v":458.69},{"$f":"[1]主表!$E202","v":19112},{"$f":"[1]升级!$H201","v":1000},29,20,4,3,4,2541]
[201,201,7,21,1,"231;237;238","大乘期","后",1,231,237,238,78000,-1,-1,-1,-1,{"$f":"IF(I205=10,\"1001;1002;1004\",-1)","v":-1},-1,0,{"$f":"[1]升级!$B202/[2]HeroModelConfig!$I$5","v":1942.8},{"$f":"[1]升级!$C202/[2]HeroModelConfig!$J$5","v":97.14},{"$f":"[1]升级!$D202/[2]HeroModelConfig!$K$5","v":97.14},1,{"$f":"[1]升级!$J202/[2]HeroModelConfig!$L$5","v":467.45},{"$f":"[1]主表!$E203","v":19477},{"$f":"[1]升级!$H202","v":1000},30,-1,4,3,4,2600]
[202,202,7,21,2,"231;237;239","大乘期","后",2,231,237,239,79830,-1,-1,-1,-1,-1,-1,0,{"$f":"[1]升级!$B203/[2]HeroModelConfig!$I$5","v":1974.8},{"$f":"[1]升级!$C203/[2]HeroModelConfig!$J$5","v":98.74},{"$f":"[1]升级!$D203/[2]HeroModelConfig!$K$5","v":98.74},1,{"$f":"[1]升级!$J203/[2]HeroModelConfig!$L$5","v":476.33},{"$f":"[1]主表!$E204","v":19847},{"$f":"[1]升级!$H203","v":1000},30,-1,4,3,4,2661]
[203,203,7,21,3,"231;237;240","大乘期","后",3,231,237,240,81690,-1,-1,-1,-1,-1,-1,0,{"$f":"[1]升级!$B204/[2]HeroModelConfig!$I$5","v":2007.2},{"$f":"[1]升级!$C204/[2]HeroModelConfig!$J$5","v":100.36},{"$f":"[1]升级!$D204/[2]HeroModelConfig!$K$5","v":100.36},1,{"$f":"[1]升级!$J204/[2]HeroModelConfig!$L$5","v":485.35},{"$f":"[1]主表!$E205","v":20223},{"$f":"[1]升级!$H204","v":1000},30,-1,4,3,4,2723]
[204,204,7,21,4,"231;237;241","大乘期","后",4,231,237,241,83580,-1,-1,-1,-1,-1,-1,0,{"$f":"[1]升级!$B205/[2]HeroModelConfig!$I$5","v":2040.4},{"$f":"[1]升级!$C205/[2]HeroModelConfig!$J$5","v":102.02},{"$f":"[1]升级!$D205/[2]HeroModelConfig!$K$5","v":102.02},1,{"$f":"[1]升级!$J205/[2]HeroModelConfig!$L$5","v":494.59},{"$f":"[1]主表!$E206","v":20608},{"$f":"[1]升级!$H205","v":1000},30,-1,4,3,4,2786]
[205,205,7,21,5,"231;237;242","大乘期","后",5,231,237,242,85530,-1,-1,-1,-1,-1,-1,0,{"$f":"[1]升级!$B206/[2]HeroModelConfig!$I$5","v":2074},{"$f":"[1]升级!$C206/[2]HeroModelConfig!$J$5","v":103.7},{"$f":"[1]升级!$D206/[2]HeroModelConfig!$K$5","v":103.7},1,{"$f":"[1]升级!$J206/[2]HeroModelConfig!$L$5","v":503.98},{"$f":"[1]主表!$E207","v":20999},{"$f":"[1]升级!$H206","v":1000},30,-1,4,3,4,2851]
[206,206,7,21,6,"231;237;243","大乘期","后",6,231,237,243,87510,-1,-1,-1,-1,-1,-1,0,{"$f":"[1]升级!$B207/[2]HeroModelConfig!$I$5","v":2108},{"$f":"[1]升级!$C207/[2]HeroModelConfig!$J$5","v":105.4},{"$f":"[1]升级!$D207/[2]HeroModelConfig!$K$5","v":105.4},1,{"$f":"[1]升级!$J207/[2]HeroModelConfig!$L$5","v":513.5},{"$f":"[1]主表!$E208","v":21396},{"$f":"[1]升级!$H207","v":1000},30,-1,4,3,4,2917]
[207,207,7,21,7,"231;237;244","大乘期","后",7,231,237,244,89550,-1,-1,-1,-1,-1,-1,0,{"$f":"[1]升级!$B208/[2]HeroModelConfig!$I$5","v":2142.8000000000002},{"$f":"[1]升级!$C208/[2]HeroModelConfig!$J$5","v":107.14},{"$f":"[1]升级!$D208/[2]HeroModelConfig!$K$5","v":107.14},1,{"$f":"[1]升级!$J208/[2]HeroModelConfig!$L$5","v":523.27},{"$f":"[1]主表!$E209","v":21803},{"$f":"[1]升级!$H208","v":1000},30,-1,4,3,4,2985]
[208,208,7,21,8,"231;237;245","大乘期","后",8,231,237,245,91650,-1,-1,-1,-1,-1,-1,0,{"$f":"[1]升级!$B209/[2]HeroModelConfig!$I$5","v":2178},{"$f":"[1]升级!$C209/[2]HeroModelConfig!$J$5","v":108.9},{"$f":"[1]升级!$D209/[2]HeroModelConfig!$K$5","v":108.9},1,{"$f":"[1]升级!$J209/[2]HeroModelConfig!$L$5","v":533.17999999999995},{"$f":"[1]主表!$E210","v":22216},{"$f":"[1]升级!$H209","v":1000},30,-1,4,3,4,3055]
[209,209,7,21,9,"231;237;246","大乘期","后",9,231,237,246,93780,-1,-1,-1,-1,-1,-1,0,{"$f":"[1]升级!$B210/[2]HeroModelConfig!$I$5","v":2214},{"$f":"[1]升级!$C210/[2]HeroModelConfig!$J$5","v":110.7},{"$f":"[1]升级!$D210/[2]HeroModelConfig!$K$5","v":110.7},1,{"$f":"[1]升级!$J210/[2]HeroModelConfig!$L$5","v":543.30999999999995},{"$f":"[1]主表!$E211","v":22638},{"$f":"[1]升级!$H210","v":1000},30,-1,4,3,4,3126]
[210,210,7,21,10,"231;237;247","大乘期","后",10,231,237,247,95970,100001,20,1301,1,"1301;1302;1303","1;1;1","21000;31500",{"$f":"[1]升级!$B211/[2]HeroModelConfig!$I$5","v":2505.6},{"$f":"[1]升级!$C211/[2]HeroModelConfig!$J$5","v":125.28},{"$f":"[1]升级!$D211/[2]HeroModelConfig!$K$5","v":125.28},1,{"$f":"[1]升级!$J211/[2]HeroModelConfig!$L$5","v":770.46},{"$f":"[1]主表!$E212","v":25682},{"$f":"[1]升级!$H211","v":1000},30,50,4,3,4,3199]
[null,211,7,19,1,"232;235;238","飞升期","前",1,232,235,238,91640,-1,-1,-1,-1,{"$f":"IF(I215=10,\"1001;1002;1004\",-1)","v":-1},{"$f":"IF(R215=-1,-1,\"100;200;300\")","v":-1},{"$f":"IF(G215=G216,0,CONCATENATE(B215*100,\";\",B215*150))","v":0},{"$f":"[1]升级!$B212/[2]HeroModelConfig!$I$5","v":2546.8000000000002},{"$f":"[1]升级!$C212/[2]HeroModelConfig!$J$5","v":127.34},{"$f":"[1]升级!$D212/[2]HeroModelConfig!$K$5","v":127.34},1,{"$f":"[1]升级!$J212/[2]HeroModelConfig!$L$5","v":785.04},{"$f":"[1]主表!$E213","v":26168},{"$f":"[1]升级!$H212","v":1000},28,-1,4,3,4,3273]
[null,212,7,19,2,"232;235;239","飞升期","前",2,232,235,239,93800,-1,-1,-1,-1,{"$f":"IF(I216=10,\"1001;1002;1004\",-1)","v":-1},{"$f":"IF(R216=-1,-1,\"100;200;300\")","v":-1},{"$f":"IF(G216=G217,0,CONCATENATE(B216*100,\";\",B216*150))","v":0},{"$f":"[1]升级!$B213/[2]HeroModelConfig!$I$5","v":2588.8000000000002},{"$f":"[1]升级!$C213/[2]HeroModelConfig!$J$5","v":129.44},{"$f":"[1]升级!$D213/[2]HeroModelConfig!$K$5","v":129.44},1,{"$f":"[1]升级!$J213/[2]HeroModelConfig!$L$5","v":799.95},{"$f":"[1]主表!$E214","v":26665},{"$f":"[1]升级!$H213","v":1000},28,-1,4,3,4,3350]
[null,213,7,19,3,"232;235;240","飞升期","前",3,232,235,240,95980,-1,-1,-1,-1,-1,-1,0,{"$f":"[1]升级!$B214/[2]HeroModelConfig!$I$5","v":2631.2},{"$f":"[1]升级!$C214/[2]HeroModelConfig!$J$5","v":131.56},{"$f":"[1]升级!$D214/[2]HeroModelConfig!$K$5","v":131.56},1,{"$f":"[1]升级!$J214/[2]HeroModelConfig!$L$5","v":815.01},{"$f":"[1]主表!$E215","v":27167},{"$f":"[1]升级!$H214","v":1000},28,-1,4,3,4,3428]
[null,214,7,19,4,"232;235;241","飞升期","前",4,232,235,241,98220,-1,-1,-1,-1,-1,-1,0,{"$f":"[1]升级!$B215/[2]HeroModelConfig!$I$5","v":2674.8},{"$f":"[1]升级!$C215/[2]HeroModelConfig!$J$5","v":133.74},{"$f":"[1]升级!$D215/[2]HeroModelConfig!$K$5","v":133.74},1,{"$f":"[1]升级!$J215/[2]HeroModelConfig!$L$5","v":830.52},{"$f":"[1]主表!$E216","v":27684},{"$f":"[1]升级!$H215","v":1000},28,-1,4,3,4,3508]
[null,215,7,19,5,"232;235;242","飞升期","前",5,232,235,242,100490,-1,-1,-1,-1,-1,-1,0,{"$f":"[1]升级!$B216/[2]HeroModelConfig!$I$5","v":2718.8},{"$f":"[1]升级!$C216/[2]HeroModelConfig!$J$5","v":135.94},{"$f":"[1]升级!$D216/[2]HeroModelConfig!$K$5","v":135.94},1,{"$f":"[1]升级!$J216/[2]HeroModelConfig!$L$5","v":846.24},{"$f":"[1]主表!$E217","v":28208},{"$f":"[1]升级!$H216","v":1000},28,-1,4,3,4,3589]
[null,216,7,19,6,"232;235;243","飞升期","前",6,232,235,243,102840,-1,-1,-1,-1,-1,-1,0,{"$f":"[1]升级!$B217/[2]HeroModelConfig!$I$5","v":2763.6},{"$f":"[1]升级!$C217/[2]HeroModelConfig!$J$5","v":138.18},{"$f":"[1]升级!$D217/[2]HeroModelConfig!$K$5","v":138.18},1,{"$f":"[1]升级!$J217/[2]HeroModelConfig!$L$5","v":862.23},{"$f":"[1]主表!$E218","v":28741},{"$f":"[1]升级!$H217","v":1000},28,-1,4,3,4,3673]
[null,217,7,19,7,"232;235;244","飞升期","前",7,232,235,244,105220,-1,-1,-1,-1,-1,-1,0,{"$f":"[1]升级!$B218/[2]HeroModelConfig!$I$5","v":2809.2},{"$f":"[1]升级!$C218/[2]HeroModelConfig!$J$5","v":140.46},{"$f":"[1]升级!$D218/[2]HeroModelConfig!$K$5","v":140.46},1,{"$f":"[1]升级!$J218/[2]HeroModelConfig!$L$5","v":878.58},{"$f":"[1]主表!$E219","v":29286},{"$f":"[1]升级!$H218","v":1000},28,-1,4,3,4,3758]
[null,218,7,19,8,"232;235;245","飞升期","前",8,232,235,245,107680,-1,-1,-1,-1,-1,-1,0,{"$f":"[1]升级!$B219/[2]HeroModelConfig!$I$5","v":2855.2},{"$f":"[1]升级!$C219/[2]HeroModelConfig!$J$5","v":142.76},{"$f":"[1]升级!$D219/[2]HeroModelConfig!$K$5","v":142.76},1,{"$f":"[1]升级!$J219/[2]HeroModelConfig!$L$5","v":895.11},{"$f":"[1]主表!$E220","v":29837},{"$f":"[1]升级!$H219","v":1000},28,-1,4,3,4,3846]
[null,219,7,19,9,"232;235;246","飞升期","前",9,232,235,246,110200,-1,-1,-1,-1,-1,-1,0,{"$f":"[1]升级!$B220/[2]HeroModelConfig!$I$5","v":2902.4},{"$f":"[1]升级!$C220/[2]HeroModelConfig!$J$5","v":145.12},{"$f":"[1]升级!$D220/[2]HeroModelConfig!$K$5","v":145.12},1,{"$f":"[1]升级!$J220/[2]HeroModelConfig!$L$5","v":912.09},{"$f":"[1]主表!$E221","v":30403},{"$f":"[1]升级!$H220","v":1000},28,-1,4,3,4,3936]
[null,220,7,19,10,"232;235;247","飞升期","前",10,232,235,247,112750,100001,20,1301,1,1301,1,0,{"$f":"[1]升级!$B221/[2]HeroModelConfig!$I$5","v":3093.6},{"$f":"[1]升级!$C221/[2]HeroModelConfig!$J$5","v":154.68},{"$f":"[1]升级!$D221/[2]HeroModelConfig!$K$5","v":154.68},1,{"$f":"[1]升级!$J221/[2]HeroModelConfig!$L$5","v":1039.46},{"$f":"[1]主表!$E222","v":32483},{"$f":"[1]升级!$H221","v":1000},28,20,4,3,4,4027]
[null,221,7,20,1,"232;236;238","飞升期","中",1,232,236,238,119500,-1,-1,-1,-1,{"$f":"IF(I225=10,\"1001;1002;1004\",-1)","v":-1},{"$f":"IF(R225=-1,-1,\"100;200;300\")","v":-1},0,{"$f":"[1]升级!$B222/[2]HeroModelConfig!$I$5","v":3144.4},{"$f":"[1]升级!$C222/[2]HeroModelConfig!$J$5","v":157.22},{"$f":"[1]升级!$D222/[2]HeroModelConfig!$K$5","v":157.22},1,{"$f":"[1]升级!$J222/[2]HeroModelConfig!$L$5","v":1059.04},{"$f":"[1]主表!$E223","v":33095},{"$f":"[1]升级!$H222","v":1000},29,-1,4,3,4,4121]
[null,222,7,20,2,"232;236;239","飞升期","中",2,232,236,239,122290,-1,-1,-1,-1,-1,-1,0,{"$f":"[1]升级!$B223/[2]HeroModelConfig!$I$5","v":3196.4},{"$f":"[1]升级!$C223/[2]HeroModelConfig!$J$5","v":159.82},{"$f":"[1]升级!$D223/[2]HeroModelConfig!$K$5","v":159.82},1,{"$f":"[1]升级!$J223/[2]HeroModelConfig!$L$5","v":1079.0999999999999},{"$f":"[1]主表!$E224","v":33722},{"$f":"[1]升级!$H223","v":1000},29,-1,4,3,4,4217]
[null,223,7,20,3,"232;236;240","飞升期","中",3,232,236,240,125130,-1,-1,-1,-1,-1,-1,0,{"$f":"[1]升级!$B224/[2]HeroModelConfig!$I$5","v":3248.8},{"$f":"[1]升级!$C224/[2]HeroModelConfig!$J$5","v":162.44},{"$f":"[1]升级!$D224/[2]HeroModelConfig!$K$5","v":162.44},1,{"$f":"[1]升级!$J224/[2]HeroModelConfig!$L$5","v":1099.3900000000001},{"$f":"[1]主表!$E225","v":34356},{"$f":"[1]升级!$H224","v":1000},29,-1,4,3,4,4315]
[null,224,7,20,{"$f":"I228","v":4},"232;236;241","飞升期","中",4,232,236,241,128060,{"$f":"IF(I228=10,100001,-1)","v":-1},{"$f":"IF(N228=-1,-1,20)","v":-1},-1,-1,-1,-1,0,{"$f":"[1]升级!$B225/[2]HeroModelConfig!$I$5","v":3302.4},{"$f":"[1]升级!$C225/[2]HeroModelConfig!$J$5","v":165.12},{"$f":"[1]升级!$D225/[2]HeroModelConfig!$K$5","v":165.12},1,{"$f":"[1]升级!$J225/[2]HeroModelConfig!$L$5","v":1120.1600000000001},{"$f":"[1]主表!$E226","v":35005},{"$f":"[1]升级!$H225","v":1000},29,-1,4,3,4,4416]
[null,225,7,20,5,"232;236;242","飞升期","中",5,232,236,242,131050,-1,-1,-1,-1,-1,-1,0,{"$f":"[1]升级!$B226/[2]HeroModelConfig!$I$5","v":3356.8},{"$f":"[1]升级!$C226/[2]HeroModelConfig!$J$5","v":167.84},{"$f":"[1]升级!$D226/[2]HeroModelConfig!$K$5","v":167.84},1,{"$f":"[1]升级!$J226/[2]HeroModelConfig!$L$5","v":1141.31},{"$f":"[1]主表!$E227","v":35666},{"$f":"[1]升级!$H226","v":1000},29,-1,4,3,4,4519]
[null,226,7,20,6,"232;236;243","飞升期","中",6,232,236,243,134090,-1,-1,-1,-1,-1,-1,0,{"$f":"[1]升级!$B227/[2]HeroModelConfig!$I$5","v":3412},{"$f":"[1]升级!$C227/[2]HeroModelConfig!$J$5","v":170.6},{"$f":"[1]升级!$D227/[2]HeroModelConfig!$K$5","v":170.6},1,{"$f":"[1]升级!$J227/[2]HeroModelConfig!$L$5","v":1162.82},{"$f":"[1]主表!$E228","v":36338},{"$f":"[1]升级!$H227","v":1000},29,-1,4,3,4,4624]
[null,227,7,20,7,"232;236;244","飞升期","中",7,232,236,244,137220,-1,-1,-1,-1,-1,-1,0,{"$f":"[1]升级!$B228/[2]HeroModelConfig!$I$5","v":3468.4},{"$f":"[1]升级!$C228/[2]HeroModelConfig!$J$5","v":173.42},{"$f":"[1]升级!$D228/[2]HeroModelConfig!$K$5","v":173.42},1,{"$f":"[1]升级!$J228/[2]HeroModelConfig!$L$5","v":1184.8},{"$f":"[1]主表!$E229","v":37025},{"$f":"[1]升级!$H228","v":1000},29,-1,4,3,4,4732]
[null,228,7,20,8,"232;236;245","飞升期","中",8,232,236,245,140410,-1,-1,-1,-1,-1,-1,0,{"$f":"[1]升级!$B229/[2]HeroModelConfig!$I$5","v":3525.6},{"$f":"[1]升级!$C229/[2]HeroModelConfig!$J$5","v":176.28},{"$f":"[1]升级!$D229/[2]HeroModelConfig!$K$5","v":176.28},1,{"$f":"[1]升级!$J229/[2]HeroModelConfig!$L$5","v":1207.17},{"$f":"[1]主表!$E230","v":37724},{"$f":"[1]升级!$H229","v":1000},29,-1,4,3,4,4842]
[null,229,7,20,9,"232;236;246","飞升期","中",9,232,236,246,143690,-1,-1,-1,-1,-1,-1,0,{"$f":"[1]升级!$B230/[2]HeroModelConfig!$I$5","v":3583.6},{"$f":"[1]升级!$C230/[2]HeroModelConfig!$J$5","v":179.18},{"$f":"[1]升级!$D230/[2]HeroModelConfig!$K$5","v":179.18},1,{"$f":"[1]升级!$J230/[2]HeroModelConfig!$L$5","v":1229.8900000000001},{"$f":"[1]主表!$E231","v":38434},{"$f":"[1]升级!$H230","v":1000},29,-1,4,3,4,4955]
[null,230,7,20,10,"232;236;247","飞升期","中",10,232,236,247,147030,100001,20,1301,1,"1301;1302","1;1",0,{"$f":"[1]升级!$B231/[2]HeroModelConfig!$I$5","v":3819.6},{"$f":"[1]升级!$C231/[2]HeroModelConfig!$J$5","v":190.98},{"$f":"[1]升级!$D231/[2]HeroModelConfig!$K$5","v":190.98},1,{"$f":"[1]升级!$J231/[2]HeroModelConfig!$L$5","v":1396.07},{"$f":"[1]主表!$E232","v":41061},{"$f":"[1]升级!$H231","v":1000},29,20,4,3,4,5070]
[null,231,7,21,1,"232;237;238","飞升期","后",1,232,237,238,155640,-1,-1,-1,-1,{"$f":"IF(I235=10,\"1001;1002;1004\",-1)","v":-1},{"$f":"IF(R235=-1,-1,\"100;200;300\")","v":-1},0,{"$f":"[1]升级!$B232/[2]HeroModelConfig!$I$5","v":3882.4},{"$f":"[1]升级!$C232/[2]HeroModelConfig!$J$5","v":194.12},{"$f":"[1]升级!$D232/[2]HeroModelConfig!$K$5","v":194.12},1,{"$f":"[1]升级!$J232/[2]HeroModelConfig!$L$5","v":1422.32},{"$f":"[1]主表!$E233","v":41833},{"$f":"[1]升级!$H232","v":1000},30,-1,4,3,4,5188]
[null,232,7,21,2,"232;237;239","飞升期","后",2,232,237,239,159270,-1,-1,-1,-1,-1,-1,0,{"$f":"[1]升级!$B233/[2]HeroModelConfig!$I$5","v":3946.4},{"$f":"[1]升级!$C233/[2]HeroModelConfig!$J$5","v":197.32},{"$f":"[1]升级!$D233/[2]HeroModelConfig!$K$5","v":197.32},1,{"$f":"[1]升级!$J233/[2]HeroModelConfig!$L$5","v":1449.11},{"$f":"[1]主表!$E234","v":42621},{"$f":"[1]升级!$H233","v":1000},30,-1,4,3,4,5309]
[null,233,7,21,3,"232;237;240","飞升期","后",3,232,237,240,162990,-1,-1,-1,-1,-1,-1,0,{"$f":"[1]升级!$B234/[2]HeroModelConfig!$I$5","v":4011.2},{"$f":"[1]升级!$C234/[2]HeroModelConfig!$J$5","v":200.56},{"$f":"[1]升级!$D234/[2]HeroModelConfig!$K$5","v":200.56},1,{"$f":"[1]升级!$J234/[2]HeroModelConfig!$L$5","v":1476.31},{"$f":"[1]主表!$E235","v":43421},{"$f":"[1]升级!$H234","v":1000},30,-1,4,3,4,5433]
[null,234,7,21,4,"232;237;241","飞升期","后",4,232,237,241,166770,-1,-1,-1,-1,-1,-1,0,{"$f":"[1]升级!$B235/[2]HeroModelConfig!$I$5","v":4077.6},{"$f":"[1]升级!$C235/[2]HeroModelConfig!$J$5","v":203.88},{"$f":"[1]升级!$D235/[2]HeroModelConfig!$K$5","v":203.88},1,{"$f":"[1]升级!$J235/[2]HeroModelConfig!$L$5","v":1504.23},{"$f":"[1]主表!$E236","v":44242},{"$f":"[1]升级!$H235","v":1000},30,-1,4,3,4,5559]
[null,235,7,21,5,"232;237;242","飞升期","后",5,232,237,242,170670,-1,-1,-1,-1,-1,-1,0,{"$f":"[1]升级!$B236/[2]HeroModelConfig!$I$5","v":4144.3999999999996},{"$f":"[1]升级!$C236/[2]HeroModelConfig!$J$5","v":207.22},{"$f":"[1]升级!$D236/[2]HeroModelConfig!$K$5","v":207.22},1,{"$f":"[1]升级!$J236/[2]HeroModelConfig!$L$5","v":1532.38},{"$f":"[1]主表!$E237","v":45070},{"$f":"[1]升级!$H236","v":1000},30,-1,4,3,4,5689]
[null,236,7,21,6,"232;237;243","飞升期","后",6,232,237,243,174630,-1,-1,-1,-1,-1,-1,0,{"$f":"[1]升级!$B237/[2]HeroModelConfig!$I$5","v":4212.8},{"$f":"[1]升级!$C237/[2]HeroModelConfig!$J$5","v":210.64},{"$f":"[1]升级!$D237/[2]HeroModelConfig!$K$5","v":210.64},1,{"$f":"[1]升级!$J237/[2]HeroModelConfig!$L$5","v":1561.28},{"$f":"[1]主表!$E238","v":45920},{"$f":"[1]升级!$H237","v":1000},30,-1,4,3,4,5821]
[null,237,7,21,7,"232;237;244","飞升期","后",7,232,237,244,178710,-1,-1,-1,-1,-1,-1,0,{"$f":"[1]升级!$B238/[2]HeroModelConfig!$I$5","v":4282.3999999999996},{"$f":"[1]升级!$C238/[2]HeroModelConfig!$J$5","v":214.12},{"$f":"[1]升级!$D238/[2]HeroModelConfig!$K$5","v":214.12},1,{"$f":"[1]升级!$J238/[2]HeroModelConfig!$L$5","v":1590.69},{"$f":"[1]主表!$E239","v":46785},{"$f":"[1]升级!$H238","v":1000},30,-1,4,3,4,5957]
[null,238,7,21,8,"232;237;245","飞升期","后",8,232,237,245,182850,-1,-1,-1,-1,-1,-1,0,{"$f":"[1]升级!$B239/[2]HeroModelConfig!$I$5","v":4352.8},{"$f":"[1]升级!$C239/[2]HeroModelConfig!$J$5","v":217.64},{"$f":"[1]升级!$D239/[2]HeroModelConfig!$K$5","v":217.64},1,{"$f":"[1]升级!$J239/[2]HeroModelConfig!$L$5","v":1620.54},{"$f":"[1]主表!$E240","v":47663},{"$f":"[1]升级!$H239","v":1000},30,-1,4,3,4,6095]
[null,239,7,21,9,"232;237;246","飞升期","后",9,232,237,246,187110,-1,-1,-1,-1,-1,-1,0,{"$f":"[1]升级!$B240/[2]HeroModelConfig!$I$5","v":4424.3999999999996},{"$f":"[1]升级!$C240/[2]HeroModelConfig!$J$5","v":221.22},{"$f":"[1]升级!$D240/[2]HeroModelConfig!$K$5","v":221.22},1,{"$f":"[1]升级!$J240/[2]HeroModelConfig!$L$5","v":1650.97},{"$f":"[1]主表!$E241","v":48558},{"$f":"[1]升级!$H240","v":1000},30,-1,4,3,4,6237]
[null,240,7,21,10,"232;237;247","飞升期","后",10,232,237,247,191490,100001,20,1301,1,"1301;1302;1303","1;1;1","24000;36000",{"$f":"[1]升级!$B241/[2]HeroModelConfig!$I$5","v":5007.2},{"$f":"[1]升级!$C241/[2]HeroModelConfig!$J$5","v":250.36},{"$f":"[1]升级!$D241/[2]HeroModelConfig!$K$5","v":250.36},1,{"$f":"[1]升级!$J241/[2]HeroModelConfig!$L$5","v":2203.16},{"$f":"[1]主表!$E242","v":55079},{"$f":"[1]升级!$H241","v":1000},30,50,4,3,4,6383]
[null,241,7,19,1,"233;235;238","逍遥期","前",1,233,235,238,182860,-1,-1,-1,-1,{"$f":"IF(I245=10,\"1001;1002;1004\",-1)","v":-1},{"$f":"IF(R245=-1,-1,\"100;200;300\")","v":-1},{"$f":"IF(G245=G246,0,CONCATENATE(B245*100,\";\",B245*150))","v":0},{"$f":"[1]升级!$B242/[2]HeroModelConfig!$I$5","v":5090},{"$f":"[1]升级!$C242/[2]HeroModelConfig!$J$5","v":254.5},{"$f":"[1]升级!$D242/[2]HeroModelConfig!$K$5","v":254.5},1,{"$f":"[1]升级!$J242/[2]HeroModelConfig!$L$5","v":2244.6799999999998},{"$f":"[1]主表!$E243","v":56117},{"$f":"[1]升级!$H242","v":1000},28,-1,4,3,4,6531]
[null,242,7,19,2,"233;235;239","逍遥期","前",2,233,235,239,187120,-1,-1,-1,-1,{"$f":"IF(I246=10,\"1001;1002;1004\",-1)","v":-1},{"$f":"IF(R246=-1,-1,\"100;200;300\")","v":-1},{"$f":"IF(G246=G247,0,CONCATENATE(B246*100,\";\",B246*150))","v":0},{"$f":"[1]升级!$B243/[2]HeroModelConfig!$I$5","v":5173.6000000000004},{"$f":"[1]升级!$C243/[2]HeroModelConfig!$J$5","v":258.68},{"$f":"[1]升级!$D243/[2]HeroModelConfig!$K$5","v":258.68},1,{"$f":"[1]升级!$J243/[2]HeroModelConfig!$L$5","v":2286.7199999999998},{"$f":"[1]主表!$E244","v":57168},{"$f":"[1]升级!$H243","v":1000},28,-1,4,3,4,6683]
[null,243,7,19,3,"233;235;240","逍遥期","前",3,233,235,240,191490,-1,-1,-1,-1,-1,-1,0,{"$f":"[1]升级!$B244/[2]HeroModelConfig!$I$5","v":5258.8},{"$f":"[1]升级!$C244/[2]HeroModelConfig!$J$5","v":262.94},{"$f":"[1]升级!$D244/[2]HeroModelConfig!$K$5","v":262.94},1,{"$f":"[1]升级!$J244/[2]HeroModelConfig!$L$5","v":2329.64},{"$f":"[1]主表!$E245","v":58241},{"$f":"[1]升级!$H244","v":1000},28,-1,4,3,4,6839]
[null,244,7,19,4,"233;235;241","逍遥期","前",4,233,235,241,195940,-1,-1,-1,-1,-1,-1,0,{"$f":"[1]升级!$B245/[2]HeroModelConfig!$I$5","v":5345.6},{"$f":"[1]升级!$C245/[2]HeroModelConfig!$J$5","v":267.27999999999997},{"$f":"[1]升级!$D245/[2]HeroModelConfig!$K$5","v":267.27999999999997},1,{"$f":"[1]升级!$J245/[2]HeroModelConfig!$L$5","v":2373.44},{"$f":"[1]主表!$E246","v":59336},{"$f":"[1]升级!$H245","v":1000},28,-1,4,3,4,6998]
[null,245,7,19,5,"233;235;242","逍遥期","前",5,233,235,242,200500,-1,-1,-1,-1,-1,-1,0,{"$f":"[1]升级!$B246/[2]HeroModelConfig!$I$5","v":5433.6},{"$f":"[1]升级!$C246/[2]HeroModelConfig!$J$5","v":271.68},{"$f":"[1]升级!$D246/[2]HeroModelConfig!$K$5","v":271.68},1,{"$f":"[1]升级!$J246/[2]HeroModelConfig!$L$5","v":2417.96},{"$f":"[1]主表!$E247","v":60449},{"$f":"[1]升级!$H246","v":1000},28,-1,4,3,4,7161]
[null,246,7,19,6,"233;235;243","逍遥期","前",6,233,235,243,205180,-1,-1,-1,-1,-1,-1,0,{"$f":"[1]升级!$B247/[2]HeroModelConfig!$I$5","v":5523.2},{"$f":"[1]升级!$C247/[2]HeroModelConfig!$J$5","v":276.16000000000003},{"$f":"[1]升级!$D247/[2]HeroModelConfig!$K$5","v":276.16000000000003},1,{"$f":"[1]升级!$J247/[2]HeroModelConfig!$L$5","v":2463.36},{"$f":"[1]主表!$E248","v":61584},{"$f":"[1]升级!$H247","v":1000},28,-1,4,3,4,7328]
[null,247,7,19,7,"233;235;244","逍遥期","前",7,233,235,244,209970,-1,-1,-1,-1,-1,-1,0,{"$f":"[1]升级!$B248/[2]HeroModelConfig!$I$5","v":5614},{"$f":"[1]升级!$C248/[2]HeroModelConfig!$J$5","v":280.7},{"$f":"[1]升级!$D248/[2]HeroModelConfig!$K$5","v":280.7},1,{"$f":"[1]升级!$J248/[2]HeroModelConfig!$L$5","v":2509.44},{"$f":"[1]主表!$E249","v":62736},{"$f":"[1]升级!$H248","v":1000},28,-1,4,3,4,7499]
[null,248,7,19,8,"233;235;245","逍遥期","前",8,233,235,245,214870,-1,-1,-1,-1,-1,-1,0,{"$f":"[1]升级!$B249/[2]HeroModelConfig!$I$5","v":5706.4},{"$f":"[1]升级!$C249/[2]HeroModelConfig!$J$5","v":285.32},{"$f":"[1]升级!$D249/[2]HeroModelConfig!$K$5","v":285.32},1,{"$f":"[1]升级!$J249/[2]HeroModelConfig!$L$5","v":2556.48},{"$f":"[1]主表!$E250","v":63912},{"$f":"[1]升级!$H249","v":1000},28,-1,4,3,4,7674]
[null,249,7,19,9,"233;235;246","逍遥期","前",9,233,235,246,219850,-1,-1,-1,-1,-1,-1,0,{"$f":"[1]升级!$B250/[2]HeroModelConfig!$I$5","v":5800.4},{"$f":"[1]升级!$C250/[2]HeroModelConfig!$J$5","v":290.02},{"$f":"[1]升级!$D250/[2]HeroModelConfig!$K$5","v":290.02},1,{"$f":"[1]升级!$J250/[2]HeroModelConfig!$L$5","v":2604.36},{"$f":"[1]主表!$E251","v":65109},{"$f":"[1]升级!$H250","v":1000},28,-1,4,3,4,7852]
[null,250,7,19,10,"233;235;247","逍遥期","前",10,233,235,247,224980,100001,20,1301,1,1301,1,0,{"$f":"[1]升级!$B251/[2]HeroModelConfig!$I$5","v":6182.4},{"$f":"[1]升级!$C251/[2]HeroModelConfig!$J$5","v":309.12},{"$f":"[1]升级!$D251/[2]HeroModelConfig!$K$5","v":309.12},1,{"$f":"[1]升级!$J251/[2]HeroModelConfig!$L$5","v":2921.18},{"$f":"[1]主表!$E252","v":69552},{"$f":"[1]升级!$H251","v":1000},28,20,4,3,4,8035]
[null,251,7,20,1,"233;236;238","逍遥期","中",1,233,236,238,238430,-1,-1,-1,-1,{"$f":"IF(I255=10,\"1001;1002;1004\",-1)","v":-1},{"$f":"IF(R255=-1,-1,\"100;200;300\")","v":-1},0,{"$f":"[1]升级!$B252/[2]HeroModelConfig!$I$5","v":6284.4},{"$f":"[1]升级!$C252/[2]HeroModelConfig!$J$5","v":314.22000000000003},{"$f":"[1]升级!$D252/[2]HeroModelConfig!$K$5","v":314.22000000000003},1,{"$f":"[1]升级!$J252/[2]HeroModelConfig!$L$5","v":2975.99},{"$f":"[1]主表!$E253","v":70857},{"$f":"[1]升级!$H252","v":1000},29,-1,4,3,4,8222]
[null,252,7,20,2,"233;236;239","逍遥期","中",2,233,236,239,244000,-1,-1,-1,-1,-1,-1,0,{"$f":"[1]升级!$B253/[2]HeroModelConfig!$I$5","v":6388},{"$f":"[1]升级!$C253/[2]HeroModelConfig!$J$5","v":319.39999999999998},{"$f":"[1]升级!$D253/[2]HeroModelConfig!$K$5","v":319.39999999999998},1,{"$f":"[1]升级!$J253/[2]HeroModelConfig!$L$5","v":3031.73},{"$f":"[1]主表!$E254","v":72184},{"$f":"[1]升级!$H253","v":1000},29,-1,4,3,4,8414]
[null,253,7,20,3,"233;236;240","逍遥期","中",3,233,236,240,249690,-1,-1,-1,-1,-1,-1,0,{"$f":"[1]升级!$B254/[2]HeroModelConfig!$I$5","v":6493.2},{"$f":"[1]升级!$C254/[2]HeroModelConfig!$J$5","v":324.66000000000003},{"$f":"[1]升级!$D254/[2]HeroModelConfig!$K$5","v":324.66000000000003},1,{"$f":"[1]升级!$J254/[2]HeroModelConfig!$L$5","v":3088.47},{"$f":"[1]主表!$E255","v":73535},{"$f":"[1]升级!$H254","v":1000},29,-1,4,3,4,8610]
[null,254,7,20,{"$f":"I258","v":4},"233;236;241","逍遥期","中",4,233,236,241,255490,{"$f":"IF(I258=10,100001,-1)","v":-1},{"$f":"IF(N258=-1,-1,20)","v":-1},-1,-1,-1,-1,0,{"$f":"[1]升级!$B255/[2]HeroModelConfig!$I$5","v":6600},{"$f":"[1]升级!$C255/[2]HeroModelConfig!$J$5","v":330},{"$f":"[1]升级!$D255/[2]HeroModelConfig!$K$5","v":330},1,{"$f":"[1]升级!$J255/[2]HeroModelConfig!$L$5","v":3146.22},{"$f":"[1]主表!$E256","v":74910},{"$f":"[1]升级!$H255","v":1000},29,-1,4,3,4,8810]
[null,255,7,20,5,"233;236;242","逍遥期","中",5,233,236,242,261460,-1,-1,-1,-1,-1,-1,0,{"$f":"[1]升级!$B256/[2]HeroModelConfig!$I$5","v":6708.8},{"$f":"[1]升级!$C256/[2]HeroModelConfig!$J$5","v":335.44},{"$f":"[1]升级!$D256/[2]HeroModelConfig!$K$5","v":335.44},1,{"$f":"[1]升级!$J256/[2]HeroModelConfig!$L$5","v":3205.15},{"$f":"[1]主表!$E257","v":76313},{"$f":"[1]升级!$H256","v":1000},29,-1,4,3,4,9016]
[null,256,7,20,6,"233;236;243","逍遥期","中",6,233,236,243,267550,-1,-1,-1,-1,-1,-1,0,{"$f":"[1]升级!$B257/[2]HeroModelConfig!$I$5","v":6819.2},{"$f":"[1]升级!$C257/[2]HeroModelConfig!$J$5","v":340.96},{"$f":"[1]升级!$D257/[2]HeroModelConfig!$K$5","v":340.96},1,{"$f":"[1]升级!$J257/[2]HeroModelConfig!$L$5","v":3265.04},{"$f":"[1]主表!$E258","v":77739},{"$f":"[1]升级!$H257","v":1000},29,-1,4,3,4,9226]
[null,257,7,20,7,"233;236;244","逍遥期","中",7,233,236,244,273780,-1,-1,-1,-1,-1,-1,0,{"$f":"[1]升级!$B258/[2]HeroModelConfig!$I$5","v":6931.6},{"$f":"[1]升级!$C258/[2]HeroModelConfig!$J$5","v":346.58},{"$f":"[1]升级!$D258/[2]HeroModelConfig!$K$5","v":346.58},1,{"$f":"[1]升级!$J258/[2]HeroModelConfig!$L$5","v":3326.15},{"$f":"[1]主表!$E259","v":79194},{"$f":"[1]升级!$H258","v":1000},29,-1,4,3,4,9441]
[null,258,7,20,8,{"$f":"_xlfn.TEXTJOIN(\";\",1,J262:L262)","v":"233;236;245"},"逍遥期","中",8,233,236,245,{"$f":"INT(0.1*AB262*AG262)*10","v":280160},-1,-1,-1,-1,-1,-1,0,{"$f":"[1]升级!$B259/[2]HeroModelConfig!$I$5","v":7045.6},{"$f":"[1]升级!$C259/[2]HeroModelConfig!$J$5","v":352.28},{"$f":"[1]升级!$D259/[2]HeroModelConfig!$K$5","v":352.28},1,{"$f":"[1]升级!$J259/[2]HeroModelConfig!$L$5","v":3388.22},{"$f":"[1]主表!$E260","v":80672},{"$f":"[1]升级!$H259","v":1000},29,-1,4,3,4,9661]
[null,259,7,20,9,"233;236;246","逍遥期","中",9,233,236,246,286690,-1,-1,-1,-1,-1,-1,0,{"$f":"[1]升级!$B260/[2]HeroModelConfig!$I$5","v":7161.6},{"$f":"[1]升级!$C260/[2]HeroModelConfig!$J$5","v":358.08},{"$f":"[1]升级!$D260/[2]HeroModelConfig!$K$5","v":358.08},1,{"$f":"[1]升级!$J260/[2]HeroModelConfig!$L$5","v":3451.52},{"$f":"[1]主表!$E261","v":82179},{"$f":"[1]升级!$H260","v":1000},29,-1,4,3,4,{"$f":"MAX(AG262+10,ROUND(10^(B263*0.01+1.405),0))","v":9886}]
[null,260,7,20,10,"233;236;247","逍遥期","中",10,233,236,247,293360,100001,20,1301,1,"1301;1302","1;1",0,{"$f":"[1]升级!$B261/[2]HeroModelConfig!$I$5","v":7633.6},{"$f":"[1]升级!$C261/[2]HeroModelConfig!$J$5","v":381.68},{"$f":"[1]升级!$D261/[2]HeroModelConfig!$K$5","v":381.68},1,{"$f":"[1]升级!$J261/[2]HeroModelConfig!$L$5","v":3862.58},{"$f":"[1]主表!$E262","v":87786},{"$f":"[1]升级!$H261","v":1000},29,20,4,3,4,10116]
[null,261,7,21,1,"233;237;238","逍遥期","后",1,233,237,238,310530,-1,-1,-1,-1,{"$f":"IF(I265=10,\"1001;1002;1004\",-1)","v":-1},{"$f":"IF(R265=-1,-1,\"100;200;300\")","v":-1},0,{"$f":"[1]升级!$B262/[2]HeroModelConfig!$I$5","v":7759.2},{"$f":"[1]升级!$C262/[2]HeroModelConfig!$J$5","v":387.96},{"$f":"[1]升级!$D262/[2]HeroModelConfig!$K$5","v":387.96},1,{"$f":"[1]升级!$J262/[2]HeroModelConfig!$L$5","v":3934.7},{"$f":"[1]主表!$E263","v":89425},{"$f":"[1]升级!$H262","v":1000},30,-1,4,3,4,10351]
[null,262,7,21,2,"233;237;239","逍遥期","后",2,233,237,239,317790,-1,-1,-1,-1,-1,-1,0,{"$f":"[1]升级!$B263/[2]HeroModelConfig!$I$5","v":7886.8},{"$f":"[1]升级!$C263/[2]HeroModelConfig!$J$5","v":394.34},{"$f":"[1]升级!$D263/[2]HeroModelConfig!$K$5","v":394.34},1,{"$f":"[1]升级!$J263/[2]HeroModelConfig!$L$5","v":4008.09},{"$f":"[1]主表!$E264","v":91093},{"$f":"[1]升级!$H263","v":1000},30,-1,4,3,4,10593]
[null,263,7,21,3,"233;237;240","逍遥期","后",3,233,237,240,325170,-1,-1,-1,-1,-1,-1,0,{"$f":"[1]升级!$B264/[2]HeroModelConfig!$I$5","v":8016.8},{"$f":"[1]升级!$C264/[2]HeroModelConfig!$J$5","v":400.84},{"$f":"[1]升级!$D264/[2]HeroModelConfig!$K$5","v":400.84},1,{"$f":"[1]升级!$J264/[2]HeroModelConfig!$L$5","v":4082.94},{"$f":"[1]主表!$E265","v":92794},{"$f":"[1]升级!$H264","v":1000},30,-1,4,3,4,10839]
[null,264,7,21,4,"233;237;241","逍遥期","后",4,233,237,241,332760,-1,-1,-1,-1,-1,-1,0,{"$f":"[1]升级!$B265/[2]HeroModelConfig!$I$5","v":8148.8},{"$f":"[1]升级!$C265/[2]HeroModelConfig!$J$5","v":407.44},{"$f":"[1]升级!$D265/[2]HeroModelConfig!$K$5","v":407.44},1,{"$f":"[1]升级!$J265/[2]HeroModelConfig!$L$5","v":4159.1400000000003},{"$f":"[1]主表!$E266","v":94526},{"$f":"[1]升级!$H265","v":1000},30,-1,4,3,4,11092]
[null,265,7,21,5,"233;237;242","逍遥期","后",5,233,237,242,340500,-1,-1,-1,-1,-1,-1,0,{"$f":"[1]升级!$B266/[2]HeroModelConfig!$I$5","v":8283.2000000000007},{"$f":"[1]升级!$C266/[2]HeroModelConfig!$J$5","v":414.16},{"$f":"[1]升级!$D266/[2]HeroModelConfig!$K$5","v":414.16},1,{"$f":"[1]升级!$J266/[2]HeroModelConfig!$L$5","v":4236.8500000000004},{"$f":"[1]主表!$E267","v":96292},{"$f":"[1]升级!$H266","v":1000},30,-1,4,3,4,11350]
[null,266,7,21,6,"233;237;243","逍遥期","后",6,233,237,243,348420,-1,-1,-1,-1,-1,-1,0,{"$f":"[1]升级!$B267/[2]HeroModelConfig!$I$5","v":8419.6},{"$f":"[1]升级!$C267/[2]HeroModelConfig!$J$5","v":420.98},{"$f":"[1]升级!$D267/[2]HeroModelConfig!$K$5","v":420.98},1,{"$f":"[1]升级!$J267/[2]HeroModelConfig!$L$5","v":4315.87},{"$f":"[1]主表!$E268","v":98088},{"$f":"[1]升级!$H267","v":1000},30,-1,4,3,4,11614]
[null,267,7,21,7,"233;237;244","逍遥期","后",7,233,237,244,356550,-1,-1,-1,-1,-1,-1,0,{"$f":"[1]升级!$B268/[2]HeroModelConfig!$I$5","v":8558},{"$f":"[1]升级!$C268/[2]HeroModelConfig!$J$5","v":427.9},{"$f":"[1]升级!$D268/[2]HeroModelConfig!$K$5","v":427.9},1,{"$f":"[1]升级!$J268/[2]HeroModelConfig!$L$5","v":4396.26},{"$f":"[1]主表!$E269","v":99915},{"$f":"[1]升级!$H268","v":1000},30,-1,4,3,4,11885]
[null,268,7,21,8,"233;237;245","逍遥期","后",8,233,237,245,364860,-1,-1,-1,-1,-1,-1,0,{"$f":"[1]升级!$B269/[2]HeroModelConfig!$I$5","v":8699.2000000000007},{"$f":"[1]升级!$C269/[2]HeroModelConfig!$J$5","v":434.96},{"$f":"[1]升级!$D269/[2]HeroModelConfig!$K$5","v":434.96},1,{"$f":"[1]升级!$J269/[2]HeroModelConfig!$L$5","v":4478.3599999999997},{"$f":"[1]主表!$E270","v":101781},{"$f":"[1]升级!$H269","v":1000},30,-1,4,3,4,12162]
[null,269,7,21,9,"233;237;246","逍遥期","后",9,233,237,246,373350,-1,-1,-1,-1,-1,-1,0,{"$f":"[1]升级!$B270/[2]HeroModelConfig!$I$5","v":8842.4},{"$f":"[1]升级!$C270/[2]HeroModelConfig!$J$5","v":442.12},{"$f":"[1]升级!$D270/[2]HeroModelConfig!$K$5","v":442.12},1,{"$f":"[1]升级!$J270/[2]HeroModelConfig!$L$5","v":4561.79},{"$f":"[1]主表!$E271","v":103677},{"$f":"[1]升级!$H270","v":1000},30,-1,4,3,4,12445]
[null,270,7,21,10,"233;237;247","逍遥期","后",10,233,237,247,382050,100001,20,1301,1,"1301;1302;1303","1;1;1","27000;40500",{"$f":"[1]升级!$B271/[2]HeroModelConfig!$I$5","v":10007.200000000001},{"$f":"[1]升级!$C271/[2]HeroModelConfig!$J$5","v":500.36},{"$f":"[1]升级!$D271/[2]HeroModelConfig!$K$5","v":500.36},1,{"$f":"[1]升级!$J271/[2]HeroModelConfig!$L$5","v":5879.25},{"$f":"[1]主表!$E272","v":117585},{"$f":"[1]升级!$H271","v":1000},30,50,4,3,4,12735]
[null,271,7,19,1,"234;235;238","真神期","前",1,234,235,238,364890,-1,-1,-1,-1,{"$f":"IF(I275=10,\"1001;1002;1004\",-1)","v":-1},{"$f":"IF(R275=-1,-1,\"100;200;300\")","v":-1},{"$f":"IF(G275=G276,0,CONCATENATE(B275*100,\";\",B275*150))","v":0},{"$f":"[1]升级!$B272/[2]HeroModelConfig!$I$5","v":10172},{"$f":"[1]升级!$C272/[2]HeroModelConfig!$J$5","v":508.6},{"$f":"[1]升级!$D272/[2]HeroModelConfig!$K$5","v":508.6},1,{"$f":"[1]升级!$J272/[2]HeroModelConfig!$L$5","v":5988.75},{"$f":"[1]主表!$E273","v":119775},{"$f":"[1]升级!$H272","v":1000},28,-1,4,3,4,13032]
[null,272,7,19,2,"234;235;239","真神期","前",2,234,235,239,373380,-1,-1,-1,-1,{"$f":"IF(I276=10,\"1001;1002;1004\",-1)","v":-1},{"$f":"IF(R276=-1,-1,\"100;200;300\")","v":-1},{"$f":"IF(G276=G277,0,CONCATENATE(B276*100,\";\",B276*150))","v":0},{"$f":"[1]升级!$B273/[2]HeroModelConfig!$I$5","v":10339.6},{"$f":"[1]升级!$C273/[2]HeroModelConfig!$J$5","v":516.98},{"$f":"[1]升级!$D273/[2]HeroModelConfig!$K$5","v":516.98},1,{"$f":"[1]升级!$J273/[2]HeroModelConfig!$L$5","v":6100.35},{"$f":"[1]主表!$E274","v":122007},{"$f":"[1]升级!$H273","v":1000},28,-1,4,3,4,13335]
[null,273,7,19,3,"234;235;240","真神期","前",3,234,235,240,382080,-1,-1,-1,-1,-1,-1,0,{"$f":"[1]升级!$B274/[2]HeroModelConfig!$I$5","v":10510},{"$f":"[1]升级!$C274/[2]HeroModelConfig!$J$5","v":525.5},{"$f":"[1]升级!$D274/[2]HeroModelConfig!$K$5","v":525.5},1,{"$f":"[1]升级!$J274/[2]HeroModelConfig!$L$5","v":6214.05},{"$f":"[1]主表!$E275","v":124281},{"$f":"[1]升级!$H274","v":1000},28,-1,4,3,4,13646]
[null,274,7,19,4,"234;235;241","真神期","前",4,234,235,241,390990,-1,-1,-1,-1,-1,-1,0,{"$f":"[1]升级!$B275/[2]HeroModelConfig!$I$5","v":10683.2},{"$f":"[1]升级!$C275/[2]HeroModelConfig!$J$5","v":534.16},{"$f":"[1]升级!$D275/[2]HeroModelConfig!$K$5","v":534.16},1,{"$f":"[1]升级!$J275/[2]HeroModelConfig!$L$5","v":6329.8},{"$f":"[1]主表!$E276","v":126596},{"$f":"[1]升级!$H275","v":1000},28,-1,4,3,4,13964]
[null,275,7,19,5,"234;235;242","真神期","前",5,234,235,242,400090,-1,-1,-1,-1,-1,-1,0,{"$f":"[1]升级!$B276/[2]HeroModelConfig!$I$5","v":10859.2},{"$f":"[1]升级!$C276/[2]HeroModelConfig!$J$5","v":542.96},{"$f":"[1]升级!$D276/[2]HeroModelConfig!$K$5","v":542.96},1,{"$f":"[1]升级!$J276/[2]HeroModelConfig!$L$5","v":6447.65},{"$f":"[1]主表!$E277","v":128953},{"$f":"[1]升级!$H276","v":1000},28,-1,4,3,4,14289]
[null,276,7,19,6,"234;235;243","真神期","前",6,234,235,243,409410,-1,-1,-1,-1,-1,-1,0,{"$f":"[1]升级!$B277/[2]HeroModelConfig!$I$5","v":11038},{"$f":"[1]升级!$C277/[2]HeroModelConfig!$J$5","v":551.9},{"$f":"[1]升级!$D277/[2]HeroModelConfig!$K$5","v":551.9},1,{"$f":"[1]升级!$J277/[2]HeroModelConfig!$L$5","v":6567.6},{"$f":"[1]主表!$E278","v":131352},{"$f":"[1]升级!$H277","v":1000},28,-1,4,3,4,14622]
[null,277,7,19,7,"234;235;244","真神期","前",7,234,235,244,418930,-1,-1,-1,-1,-1,-1,0,{"$f":"[1]升级!$B278/[2]HeroModelConfig!$I$5","v":11219.6},{"$f":"[1]升级!$C278/[2]HeroModelConfig!$J$5","v":560.98},{"$f":"[1]升级!$D278/[2]HeroModelConfig!$K$5","v":560.98},1,{"$f":"[1]升级!$J278/[2]HeroModelConfig!$L$5","v":6689.7},{"$f":"[1]主表!$E279","v":133794},{"$f":"[1]升级!$H278","v":1000},28,-1,4,3,4,14962]
[null,278,7,19,8,"234;235;245","真神期","前",8,234,235,245,428700,-1,-1,-1,-1,-1,-1,0,{"$f":"[1]升级!$B279/[2]HeroModelConfig!$I$5","v":11404.4},{"$f":"[1]升级!$C279/[2]HeroModelConfig!$J$5","v":570.22},{"$f":"[1]升级!$D279/[2]HeroModelConfig!$K$5","v":570.22},1,{"$f":"[1]升级!$J279/[2]HeroModelConfig!$L$5","v":6814.15},{"$f":"[1]主表!$E280","v":136283},{"$f":"[1]升级!$H279","v":1000},28,-1,4,3,4,15311]
[null,279,7,19,9,"234;235;246","真神期","前",9,234,235,246,438700,-1,-1,-1,-1,-1,-1,0,{"$f":"[1]升级!$B280/[2]HeroModelConfig!$I$5","v":11592.4},{"$f":"[1]升级!$C280/[2]HeroModelConfig!$J$5","v":579.62},{"$f":"[1]升级!$D280/[2]HeroModelConfig!$K$5","v":579.62},1,{"$f":"[1]升级!$J280/[2]HeroModelConfig!$L$5","v":6940.95},{"$f":"[1]主表!$E281","v":138819},{"$f":"[1]升级!$H280","v":1000},28,-1,4,3,4,15668]
[null,280,7,19,10,"234;235;247","真神期","前",10,234,235,247,448890,100001,20,1301,1,1301,1,0,{"$f":"[1]升级!$B281/[2]HeroModelConfig!$I$5","v":12356},{"$f":"[1]升级!$C281/[2]HeroModelConfig!$J$5","v":617.79999999999995},{"$f":"[1]升级!$D281/[2]HeroModelConfig!$K$5","v":617.79999999999995},1,{"$f":"[1]升级!$J281/[2]HeroModelConfig!$L$5","v":7710.14},{"$f":"[1]主表!$E282","v":148272},{"$f":"[1]升级!$H281","v":1000},28,20,4,3,4,16032]
[null,281,7,20,1,"234;236;238","真神期","中",1,234,236,238,475770,-1,-1,-1,-1,{"$f":"IF(I285=10,\"1001;1002;1004\",-1)","v":-1},{"$f":"IF(R285=-1,-1,\"100;200;300\")","v":-1},0,{"$f":"[1]升级!$B282/[2]HeroModelConfig!$I$5","v":12559.6},{"$f":"[1]升级!$C282/[2]HeroModelConfig!$J$5","v":627.98},{"$f":"[1]升级!$D282/[2]HeroModelConfig!$K$5","v":627.98},1,{"$f":"[1]升级!$J282/[2]HeroModelConfig!$L$5","v":7853.51},{"$f":"[1]主表!$E283","v":151029},{"$f":"[1]升级!$H282","v":1000},29,-1,4,3,4,16406]
[null,282,7,20,2,"234;236;239","真神期","中",2,234,236,239,486850,-1,-1,-1,-1,-1,-1,0,{"$f":"[1]升级!$B283/[2]HeroModelConfig!$I$5","v":12766.4},{"$f":"[1]升级!$C283/[2]HeroModelConfig!$J$5","v":638.32000000000005},{"$f":"[1]升级!$D283/[2]HeroModelConfig!$K$5","v":638.32000000000005},1,{"$f":"[1]升级!$J283/[2]HeroModelConfig!$L$5","v":7999.42},{"$f":"[1]主表!$E284","v":153835},{"$f":"[1]升级!$H283","v":1000},29,-1,4,3,4,16788]
[null,283,7,20,3,"234;236;240","真神期","中",3,234,236,240,498190,-1,-1,-1,-1,-1,-1,0,{"$f":"[1]升级!$B284/[2]HeroModelConfig!$I$5","v":12976.4},{"$f":"[1]升级!$C284/[2]HeroModelConfig!$J$5","v":648.82000000000005},{"$f":"[1]升级!$D284/[2]HeroModelConfig!$K$5","v":648.82000000000005},1,{"$f":"[1]升级!$J284/[2]HeroModelConfig!$L$5","v":8147.88},{"$f":"[1]主表!$E285","v":156690},{"$f":"[1]升级!$H284","v":1000},29,-1,4,3,4,17179]
[null,284,7,20,{"$f":"I288","v":4},"234;236;241","真神期","中",4,234,236,241,509790,{"$f":"IF(I288=10,100001,-1)","v":-1},{"$f":"IF(N288=-1,-1,20)","v":-1},-1,-1,-1,-1,0,{"$f":"[1]升级!$B285/[2]HeroModelConfig!$I$5","v":13190.4},{"$f":"[1]升级!$C285/[2]HeroModelConfig!$J$5","v":659.52},{"$f":"[1]升级!$D285/[2]HeroModelConfig!$K$5","v":659.52},1,{"$f":"[1]升级!$J285/[2]HeroModelConfig!$L$5","v":8299.41},{"$f":"[1]主表!$E286","v":159604},{"$f":"[1]升级!$H285","v":1000},29,-1,4,3,4,17579]
[null,285,7,20,5,"234;236;242","真神期","中",5,234,236,242,521680,-1,-1,-1,-1,-1,-1,0,{"$f":"[1]升级!$B286/[2]HeroModelConfig!$I$5","v":13407.6},{"$f":"[1]升级!$C286/[2]HeroModelConfig!$J$5","v":670.38},{"$f":"[1]升级!$D286/[2]HeroModelConfig!$K$5","v":670.38},1,{"$f":"[1]升级!$J286/[2]HeroModelConfig!$L$5","v":8453.48},{"$f":"[1]主表!$E287","v":162567},{"$f":"[1]升级!$H286","v":1000},29,-1,4,3,4,17989]
[null,286,7,20,6,"234;236;243","真神期","中",6,234,236,243,533830,-1,-1,-1,-1,-1,-1,0,{"$f":"[1]升级!$B287/[2]HeroModelConfig!$I$5","v":13628.4},{"$f":"[1]升级!$C287/[2]HeroModelConfig!$J$5","v":681.42},{"$f":"[1]升级!$D287/[2]HeroModelConfig!$K$5","v":681.42},1,{"$f":"[1]升级!$J287/[2]HeroModelConfig!$L$5","v":8610.42},{"$f":"[1]主表!$E288","v":165585},{"$f":"[1]升级!$H287","v":1000},29,-1,4,3,4,18408]
[null,287,7,20,7,"234;236;244","真神期","中",7,234,236,244,546240,-1,-1,-1,-1,-1,-1,0,{"$f":"[1]升级!$B288/[2]HeroModelConfig!$I$5","v":13852.8},{"$f":"[1]升级!$C288/[2]HeroModelConfig!$J$5","v":692.64},{"$f":"[1]升级!$D288/[2]HeroModelConfig!$K$5","v":692.64},1,{"$f":"[1]升级!$J288/[2]HeroModelConfig!$L$5","v":8770.2199999999993},{"$f":"[1]主表!$E289","v":168658},{"$f":"[1]升级!$H288","v":1000},29,-1,4,3,4,18836]
[null,288,7,20,8,"234;236;245","真神期","中",8,234,236,245,558970,-1,-1,-1,-1,-1,-1,0,{"$f":"[1]升级!$B289/[2]HeroModelConfig!$I$5","v":14080.8},{"$f":"[1]升级!$C289/[2]HeroModelConfig!$J$5","v":704.04},{"$f":"[1]升级!$D289/[2]HeroModelConfig!$K$5","v":704.04},1,{"$f":"[1]升级!$J289/[2]HeroModelConfig!$L$5","v":8932.8700000000008},{"$f":"[1]主表!$E290","v":171786},{"$f":"[1]升级!$H289","v":1000},29,-1,4,3,4,19275]
[null,289,7,20,9,"234;236;246","真神期","中",9,234,236,246,571990,-1,-1,-1,-1,-1,-1,0,{"$f":"[1]升级!$B290/[2]HeroModelConfig!$I$5","v":14312.8},{"$f":"[1]升级!$C290/[2]HeroModelConfig!$J$5","v":715.64},{"$f":"[1]升级!$D290/[2]HeroModelConfig!$K$5","v":715.64},1,{"$f":"[1]升级!$J290/[2]HeroModelConfig!$L$5","v":9098.65},{"$f":"[1]主表!$E291","v":174974},{"$f":"[1]升级!$H290","v":1000},29,-1,4,3,4,19724]
[null,290,7,20,10,"234;236;247","真神期","中",10,234,236,247,585330,100001,20,1301,1,"1301;1302","1;1",0,{"$f":"[1]升级!$B291/[2]HeroModelConfig!$I$5","v":15255.6},{"$f":"[1]升级!$C291/[2]HeroModelConfig!$J$5","v":762.78},{"$f":"[1]升级!$D291/[2]HeroModelConfig!$K$5","v":762.78},1,{"$f":"[1]升级!$J291/[2]HeroModelConfig!$L$5","v":10091.57},{"$f":"[1]主表!$E292","v":186881},{"$f":"[1]升级!$H291","v":1000},29,20,4,3,4,20184]
[null,291,7,21,1,"234;237;238","真神期","后",1,234,237,238,619620,-1,-1,-1,-1,{"$f":"IF(I295=10,\"1001;1002;1004\",-1)","v":-1},{"$f":"IF(R295=-1,-1,\"100;200;300\")","v":-1},0,{"$f":"[1]升级!$B292/[2]HeroModelConfig!$I$5","v":15506.8},{"$f":"[1]升级!$C292/[2]HeroModelConfig!$J$5","v":775.34},{"$f":"[1]升级!$D292/[2]HeroModelConfig!$K$5","v":775.34},1,{"$f":"[1]升级!$J292/[2]HeroModelConfig!$L$5","v":10278.68},{"$f":"[1]主表!$E293","v":190346},{"$f":"[1]升级!$H292","v":1000},30,-1,4,3,4,20654]
[null,292,7,21,2,"234;237;239","真神期","后",2,234,237,239,634050,-1,-1,-1,-1,-1,-1,0,{"$f":"[1]升级!$B293/[2]HeroModelConfig!$I$5","v":15762.4},{"$f":"[1]升级!$C293/[2]HeroModelConfig!$J$5","v":788.12},{"$f":"[1]升级!$D293/[2]HeroModelConfig!$K$5","v":788.12},1,{"$f":"[1]升级!$J293/[2]HeroModelConfig!$L$5","v":10469.41},{"$f":"[1]主表!$E294","v":193878},{"$f":"[1]升级!$H293","v":1000},30,-1,4,3,4,21135]
[null,293,7,21,3,"234;237;240","真神期","后",3,234,237,240,648810,-1,-1,-1,-1,-1,-1,0,{"$f":"[1]升级!$B294/[2]HeroModelConfig!$I$5","v":16022},{"$f":"[1]升级!$C294/[2]HeroModelConfig!$J$5","v":801.1},{"$f":"[1]升级!$D294/[2]HeroModelConfig!$K$5","v":801.1},1,{"$f":"[1]升级!$J294/[2]HeroModelConfig!$L$5","v":10663.43},{"$f":"[1]主表!$E295","v":197471},{"$f":"[1]升级!$H294","v":1000},30,-1,4,3,4,21627]
[null,294,7,21,4,"234;237;241","真神期","后",4,234,237,241,663930,-1,-1,-1,-1,-1,-1,0,{"$f":"[1]升级!$B295/[2]HeroModelConfig!$I$5","v":16285.6},{"$f":"[1]升级!$C295/[2]HeroModelConfig!$J$5","v":814.28},{"$f":"[1]升级!$D295/[2]HeroModelConfig!$K$5","v":814.28},1,{"$f":"[1]升级!$J295/[2]HeroModelConfig!$L$5","v":10860.86},{"$f":"[1]主表!$E296","v":201127},{"$f":"[1]升级!$H295","v":1000},30,-1,4,3,4,22131]
[null,295,7,21,5,"234;237;242","真神期","后",5,234,237,242,679380,-1,-1,-1,-1,-1,-1,0,{"$f":"[1]升级!$B296/[2]HeroModelConfig!$I$5","v":16554},{"$f":"[1]升级!$C296/[2]HeroModelConfig!$J$5","v":827.7},{"$f":"[1]升级!$D296/[2]HeroModelConfig!$K$5","v":827.7},1,{"$f":"[1]升级!$J296/[2]HeroModelConfig!$L$5","v":11062.22},{"$f":"[1]主表!$E297","v":204856},{"$f":"[1]升级!$H296","v":1000},30,-1,4,3,4,22646]
[null,296,7,21,6,"234;237;243","真神期","后",6,234,237,243,695220,-1,-1,-1,-1,-1,-1,0,{"$f":"[1]升级!$B297/[2]HeroModelConfig!$I$5","v":16826.400000000001},{"$f":"[1]升级!$C297/[2]HeroModelConfig!$J$5","v":841.32},{"$f":"[1]升级!$D297/[2]HeroModelConfig!$K$5","v":841.32},1,{"$f":"[1]升级!$J297/[2]HeroModelConfig!$L$5","v":11266.94},{"$f":"[1]主表!$E298","v":208647},{"$f":"[1]升级!$H297","v":1000},30,-1,4,3,4,23174]
[null,297,7,21,7,"234;237;244","真神期","后",7,234,237,244,711420,-1,-1,-1,-1,-1,-1,0,{"$f":"[1]升级!$B298/[2]HeroModelConfig!$I$5","v":17103.599999999999},{"$f":"[1]升级!$C298/[2]HeroModelConfig!$J$5","v":855.18},{"$f":"[1]升级!$D298/[2]HeroModelConfig!$K$5","v":855.18},1,{"$f":"[1]升级!$J298/[2]HeroModelConfig!$L$5","v":11475.65},{"$f":"[1]主表!$E299","v":212512},{"$f":"[1]升级!$H298","v":1000},30,-1,4,3,4,23714]
[null,298,7,21,8,"234;237;245","真神期","后",8,234,237,245,727980,-1,-1,-1,-1,-1,-1,0,{"$f":"[1]升级!$B299/[2]HeroModelConfig!$I$5","v":17385.2},{"$f":"[1]升级!$C299/[2]HeroModelConfig!$J$5","v":869.26},{"$f":"[1]升级!$D299/[2]HeroModelConfig!$K$5","v":869.26},1,{"$f":"[1]升级!$J299/[2]HeroModelConfig!$L$5","v":11688.08},{"$f":"[1]主表!$E300","v":216446},{"$f":"[1]升级!$H299","v":1000},30,-1,4,3,4,24266]
[null,299,7,21,9,"234;237;246","真神期","后",9,234,237,246,744930,-1,-1,-1,-1,-1,-1,0,{"$f":"[1]升级!$B300/[2]HeroModelConfig!$I$5","v":17671.599999999999},{"$f":"[1]升级!$C300/[2]HeroModelConfig!$J$5","v":883.58},{"$f":"[1]升级!$D300/[2]HeroModelConfig!$K$5","v":883.58},1,{"$f":"[1]升级!$J300/[2]HeroModelConfig!$L$5","v":11904.46},{"$f":"[1]主表!$E301","v":220453},{"$f":"[1]升级!$H300","v":1000},30,-1,4,3,4,24831]
[null,300,7,21,10,"234;237;247","真神期","后",10,234,237,247,762300,100001,20,1301,1,"1301;1302;1303","1;1;1","30000;45000",{"$f":"[1]升级!$B301/[2]HeroModelConfig!$I$5","v":20000},{"$f":"[1]升级!$C301/[2]HeroModelConfig!$J$5","v":1000},{"$f":"[1]升级!$D301/[2]HeroModelConfig!$K$5","v":1000},1,{"$f":"[1]升级!$J301/[2]HeroModelConfig!$L$5","v":15000},{"$f":"[1]主表!$E302","v":250000},{"$f":"[1]升级!$H301","v":1000},30,50,4,3,4,25410]