{"text_format":"2","workbook":"xlsx","n_sheets":2,"sheets":["語言配置表","LanguageChineseConfig"],"not_rendered":{"charts":0,"images":0,"macros":0,"external_links":0,"defined_names":1,"comments":0,"pivot_tables":0},"unopened":[],"bounds":{"document_bytes":16777216,"sheet_cells":100000,"run_cost":"one","rows_first":2000,"rows_last":500,"rows_between":2000,"halvings":0,"cell_chars":16384,"cell_head_chars":4096},"cells_cut":0,"cells_raw":0,"read":"whole","date_system":"1900"}

{"sheet":"語言配置表","index":0,"n_rows":174,"n_cols":5,"rows_kept":174,"cut":false,"hidden":false,"merged":[]}
["序列","內容","注釋","類別/模組","版本"]
[]
[]
[1,"亞瑟·龍焰",null,"英雄名"]
[2,"萊恩·天戟",null,"英雄名"]
[3,"達米安·虎嘯",null,"英雄名"]
[4,"維克多·鐵拳",null,"英雄名"]
[5,"加雷斯·風暴",null,"英雄名"]
[6,"伊莉莎白·月影",null,"英雄名"]
[7,"馬修·星辰",null,"英雄名"]
[8,"卡特琳娜·霜語",null,"英雄名"]
[9,"西蒙·玄光",null,"英雄名"]
[10,"艾琳娜·靈風",null,"英雄名"]
[11,"加百利·聖心",null,"英雄名"]
[12,"索菲亞·慈恩",null,"英雄名"]
[13,"盧克·淨魂",null,"英雄名"]
[14,"安娜貝爾·光耀",null,"英雄名"]
[15,"伊莎貝拉·恩典",null,"英雄名"]
[16,"萊恩·影蹤",null,"英雄名"]
[17,"艾米麗·翠羽",null,"英雄名"]
[18,"德裏克·疾風",null,"英雄名"]
[19,"維多利亞·夜刃",null,"英雄名"]
[20,"諾亞·林蹤",null,"英雄名"]
[21,"生命值",null,"英雄名"]
[22,"攻擊力",null,"英雄名"]
[23,"防禦力",null,"英雄名"]
[24,"攻擊速度",null,"英雄名"]
[25,"暴擊幾率",null,"英雄名"]
[26,"暴擊傷害",null,"英雄名"]
[27,"閃避幾率",null,"英雄名"]
[28,"命中",null,"英雄名"]
[29,"吸血",null,"英雄名"]
[30,"傳說"]
[31,"史詩"]
[32,"精英"]
[33,"向前方釋放1道劍氣，造成<color=#7AC180>{0}%</color>攻擊力的傷害。"]
[34,"造成的傷害提升至<color=#7AC180>{0}%</color>。"]
[35,"造成的傷害提升至<color=#7AC180>{0}%</color>。"]
[36,"造成的傷害提升至<color=#7AC180>{0}%</color>。"]
[37,"英雄提升至{0}級強化該技能"]
[38,"英雄提升至{0}級解鎖該技能"]
[39,"英雄提升至{0}星強化該技能"]
[40,"英雄提升至{0}星解鎖該技能"]
[41,"{0}級："]
[42,"({0}級解鎖)"]
[43,"({0}星解鎖)"]
[44,"技能已達最高等級"]
[45,"旋風斬"]
[46,"對前方範圍釋放火焰，對範圍內的敵人進行多次灼燒，每次造成<color=#7AC180>{0}%</color>攻擊力的傷害，持續<color=#7AC180>{1}秒</color>"]
[47,"每次造成的傷害提升至<color=#7AC180>{0}%</color>。"]
[48,"每次造成的傷害提升至<color=#7AC180>{0}%</color>。"]
[49,"持續時間提升至<color=#7AC180>{1}秒</color>。"]
[50,"烈焰噴湧"]
[51,"對生命值最低的英雄，恢復<color=#7AC180>{0}%</color>攻擊力的血量。"]
[52,"恢復的血量提升至<color=#7AC180>{0}%</color>。"]
[53,"恢復的血量提升至<color=#7AC180>{0}%</color>。"]
[54,"恢復的血量提升至<color=#7AC180>{0}%</color>。"]
[55,"光輝治癒"]
[56,"向前方連續射出多支魔法箭，造成<color=#7AC180>{0}%</color>攻擊力的傷害。"]
[57,"造成的傷害提升至<color=#7AC180>{0}%</color>。"]
[58,"造成的傷害提升至<color=#7AC180>{0}%</color>。"]
[59,"造成的傷害提升至<color=#7AC180>{0}%</color>。"]
[60,"箭羽風暴"]
[61,"解鎖"]
[62,"等級{0}>>{1}"]
[63,"主力英雄等級差不得超過10級"]
[64,"主力英雄等級：{0}"]
[65,"生命之力"]
[66,"鋼鐵意志"]
[67,"斬風之力"]
[68,"抗暴之力"]
[69,"提高<color=#7AC180>{0}%</color>%的生命值"]
[70,"提高<color=#7AC180>{0}%</color>%的防禦值"]
[71,"額外釋放<color=#7AC180>{0}</color>道[旋風斬]的劍氣"]
[72,"降低<color=#7AC180>{0}%</color>的暴擊傷害"]
[73,"提升<color=#7AC180>{0}%</color>%的攻擊力"]
[74,"提高<color=#7AC180>{0}%</color>%的生命值"]
[75,"延長<color=#7AC180>{0}</color>秒[烈焰噴湧]的持續時間"]
[76,"提升<color=#7AC180>{0}%</color>%的技能暴擊率"]
[77,"神聖力量"]
[78,"生命之力"]
[79,"急救之光"]
[80,"光輝復蘇"]
[81,"提升<color=#7AC180>{0}%</color>%的攻擊力"]
[82,"提高<color=#7AC180>{0}%</color>%的生命值"]
[83,"對生命值低於<color=#7AC180>{0}%</color>%的英雄，額外提高<color=#7AC180>{0}%</color>%的治療量"]
[84,"同時治療<color=#7AC180>{0}</color>名英雄"]
[85,"弓箭精通"]
[86,"生命之力"]
[87,"無盡射擊"]
[88,"終結射擊"]
[89,"提升<color=#7AC180>{0}%</color>%的攻擊力"]
[90,"提高<color=#7AC180>{0}%</color>%的生命值"]
[91,"增加<color=#7AC180>{0}</color>支[連續射擊]的魔法箭"]
[92,"對生命值低於<color=#7AC180>{0}%</color>的敵人，額外造成<color=#7AC180>{0}%</color>傷害"]
[93,"智者之力"]
[94,"生命之力"]
[95,"烈焰持續"]
[96,"超凡暴擊"]
[97,"戰士裝備"]
[98,"法師裝備"]
[99,"牧師裝備"]
[100,"遊俠裝備"]
[101,"專屬裝備（敬請期待）"]
[102,"金幣不足"]
[103,"資源不足"]
[104,"英雄經驗，可用於升級英雄等級<color=#ff0000>（每殺死一個小怪能獲得經驗，擊殺boss能獲得大量經驗）</color>"]
[105,"金幣，用於抽取英雄寶箱<color=#ff0000>（每殺死一個小怪有幾率獲得金幣，擊殺boss能獲得大量金幣）</color>"]
[106,"紫鑽（敬請期待）"]
[107,"點擊螢幕空白處從天空中召喚一個隕石，對怪物造成1點傷害，並有<color=#ff0000>30%</color>概率獲得1枚金幣（boss怪<color=#ff0000>40%</color>掉落，金幣數量<color=#ff0000>+2</color>）"]
[108,"裝備"]
[109,"替補英雄"]
[110,"主力英雄"]
[111,"英雄背包"]
[112,"大自然的恩惠.寶箱"]
[113,"消耗對應的金幣開啟寶箱，獲得大自然的恩惠，有概率能獲得以下物品（英雄進階材料、 各種品質的武器）"]
[114,"友情提示10連抽更划算"]
[115,"失 敗"]
[116,"你太弱了，請提升實力再來挑戰"]
[117,"重新開始"]
[118,"....."]
[119,"發生了什麼事...."]
[120,"前方好像出現了超強怪物，大家做好準備。"]
[121,"越往深林深處走怪物越強大了，這裏的怪我有點招架不足了，我能不能加入你們一起探險？"]
[122,"沒問題，我們正缺你這樣的勇士。"]
[123,"歡迎加入我們的隊伍，讓我們一起看看深林深處是什麼在作怪。"]
[124,"（喘息著）這該死的怪物怎麼殺也殺不完！"]
[125,"怎麼辦要先回村莊嗎？"]
[126,"救命呀~"]
[127,"救命~~~"]
[128,"我名艾爾溫。這裏充滿了黑暗的氣息，我無法袖手旁觀."]
[129,"讓它們試試我的火焰~"]
[130,"太好了艾爾溫，感謝你的加入！"]
[131,"兄弟們，我堅持不住了，這一波怪物太猛了！"]
[132,"天空中突然閃出一個人影。"]
[133,"我是來自教堂的牧師，我來為你治療！"]
[134,"裝備回收"]
[135,"僅分解低級裝備，放心使用"]
[136,"回收獎勵"]
[137,"確認回收"]
[138,"升級"]
[139,"升星"]
[140,"生命"]
[141,"攻擊"]
[142,"防禦"]
[143,"等級"]
[144,"本次升級將大幅提升屬性"]
[145,"解鎖"]
[146,"冷卻{0}秒"]
[147,"職業裝備"]
[148,"戰士"]
[149,"法師"]
[150,"牧師"]
[151,"遊俠"]
[152,"獲得獎勵"]
[153,"一鍵裝備"]
[154,"點這裏, 提升英雄"]
[155,"技能"]
[156,"鞋子"]
[157,"衣服"]
[158,"手套"]
[159,"帽子"]
[160,"項鏈"]
[161,"{0}級"]
[162,"金幣，可用於開寶箱"]
[163,"鑽石，後續開放（敬請期待）"]
[164,"經驗，用於英雄升級"]
[165,"英雄碎片，用於提升星級"]
[166,"英雄碎片，用於提升星級"]
[167,"英雄碎片，用於提升星級"]
[168,"英雄碎片，用於提升星級"]
[169,"金幣"]
[170,"鑽石"]
[171,"英雄經驗"]

{"sheet":"LanguageChineseConfig","index":1,"n_rows":179,"n_cols":2,"rows_kept":179,"cut":false,"hidden":false,"merged":[]}
["ID","txt"]
["int","string"]
[]
["ID","文本内容"]
[{"$f":"IF(語言配置表!A4=\"\",\"\",語言配置表!A4)","v":1},{"$f":"IF(語言配置表!A4=\"\",\"CN_待填充内容\",語言配置表!B4)","v":"亞瑟·龍焰"}]
[{"$f":"IF(語言配置表!A5=\"\",\"\",語言配置表!A5)","v":2},{"$f":"IF(語言配置表!A5=\"\",\"CN_待填充内容\",語言配置表!B5)","v":"萊恩·天戟"}]
[{"$f":"IF(語言配置表!A6=\"\",\"\",語言配置表!A6)","v":3},{"$f":"IF(語言配置表!A6=\"\",\"CN_待填充内容\",語言配置表!B6)","v":"達米安·虎嘯"}]
[{"$f":"IF(語言配置表!A7=\"\",\"\",語言配置表!A7)","v":4},{"$f":"IF(語言配置表!A7=\"\",\"CN_待填充内容\",語言配置表!B7)","v":"維克多·鐵拳"}]
[{"$f":"IF(語言配置表!A8=\"\",\"\",語言配置表!A8)","v":5},{"$f":"IF(語言配置表!A8=\"\",\"CN_待填充内容\",語言配置表!B8)","v":"加雷斯·風暴"}]
[{"$f":"IF(語言配置表!A9=\"\",\"\",語言配置表!A9)","v":6},{"$f":"IF(語言配置表!A9=\"\",\"CN_待填充内容\",語言配置表!B9)","v":"伊莉莎白·月影"}]
[{"$f":"IF(語言配置表!A10=\"\",\"\",語言配置表!A10)","v":7},{"$f":"IF(語言配置表!A10=\"\",\"CN_待填充内容\",語言配置表!B10)","v":"馬修·星辰"}]
[{"$f":"IF(語言配置表!A11=\"\",\"\",語言配置表!A11)","v":8},{"$f":"IF(語言配置表!A11=\"\",\"CN_待填充内容\",語言配置表!B11)","v":"卡特琳娜·霜語"}]
[{"$f":"IF(語言配置表!A12=\"\",\"\",語言配置表!A12)","v":9},{"$f":"IF(語言配置表!A12=\"\",\"CN_待填充内容\",語言配置表!B12)","v":"西蒙·玄光"}]
[{"$f":"IF(語言配置表!A13=\"\",\"\",語言配置表!A13)","v":10},{"$f":"IF(語言配置表!A13=\"\",\"CN_待填充内容\",語言配置表!B13)","v":"艾琳娜·靈風"}]
[{"$f":"IF(語言配置表!A14=\"\",\"\",語言配置表!A14)","v":11},{"$f":"IF(語言配置表!A14=\"\",\"CN_待填充内容\",語言配置表!B14)","v":"加百利·聖心"}]
[{"$f":"IF(語言配置表!A15=\"\",\"\",語言配置表!A15)","v":12},{"$f":"IF(語言配置表!A15=\"\",\"CN_待填充内容\",語言配置表!B15)","v":"索菲亞·慈恩"}]
[{"$f":"IF(語言配置表!A16=\"\",\"\",語言配置表!A16)","v":13},{"$f":"IF(語言配置表!A16=\"\",\"CN_待填充内容\",語言配置表!B16)","v":"盧克·淨魂"}]
[{"$f":"IF(語言配置表!A17=\"\",\"\",語言配置表!A17)","v":14},{"$f":"IF(語言配置表!A17=\"\",\"CN_待填充内容\",語言配置表!B17)","v":"安娜貝爾·光耀"}]
[{"$f":"IF(語言配置表!A18=\"\",\"\",語言配置表!A18)","v":15},{"$f":"IF(語言配置表!A18=\"\",\"CN_待填充内容\",語言配置表!B18)","v":"伊莎貝拉·恩典"}]
[{"$f":"IF(語言配置表!A19=\"\",\"\",語言配置表!A19)","v":16},{"$f":"IF(語言配置表!A19=\"\",\"CN_待填充内容\",語言配置表!B19)","v":"萊恩·影蹤"}]
[{"$f":"IF(語言配置表!A20=\"\",\"\",語言配置表!A20)","v":17},{"$f":"IF(語言配置表!A20=\"\",\"CN_待填充内容\",語言配置表!B20)","v":"艾米麗·翠羽"}]
[{"$f":"IF(語言配置表!A21=\"\",\"\",語言配置表!A21)","v":18},{"$f":"IF(語言配置表!A21=\"\",\"CN_待填充内容\",語言配置表!B21)","v":"德裏克·疾風"}]
[{"$f":"IF(語言配置表!A22=\"\",\"\",語言配置表!A22)","v":19},{"$f":"IF(語言配置表!A22=\"\",\"CN_待填充内容\",語言配置表!B22)","v":"維多利亞·夜刃"}]
[{"$f":"IF(語言配置表!A23=\"\",\"\",語言配置表!A23)","v":20},{"$f":"IF(語言配置表!A23=\"\",\"CN_待填充内容\",語言配置表!B23)","v":"諾亞·林蹤"}]
[{"$f":"IF(語言配置表!A24=\"\",\"\",語言配置表!A24)","v":21},{"$f":"IF(語言配置表!A24=\"\",\"CN_待填充内容\",語言配置表!B24)","v":"生命值"}]
[{"$f":"IF(語言配置表!A25=\"\",\"\",語言配置表!A25)","v":22},{"$f":"IF(語言配置表!A25=\"\",\"CN_待填充内容\",語言配置表!B25)","v":"攻擊力"}]
[{"$f":"IF(語言配置表!A26=\"\",\"\",語言配置表!A26)","v":23},{"$f":"IF(語言配置表!A26=\"\",\"CN_待填充内容\",語言配置表!B26)","v":"防禦力"}]
[{"$f":"IF(語言配置表!A27=\"\",\"\",語言配置表!A27)","v":24},{"$f":"IF(語言配置表!A27=\"\",\"CN_待填充内容\",語言配置表!B27)","v":"攻擊速度"}]
[{"$f":"IF(語言配置表!A28=\"\",\"\",語言配置表!A28)","v":25},{"$f":"IF(語言配置表!A28=\"\",\"CN_待填充内容\",語言配置表!B28)","v":"暴擊幾率"}]
[{"$f":"IF(語言配置表!A29=\"\",\"\",語言配置表!A29)","v":26},{"$f":"IF(語言配置表!A29=\"\",\"CN_待填充内容\",語言配置表!B29)","v":"暴擊傷害"}]
[{"$f":"IF(語言配置表!A30=\"\",\"\",語言配置表!A30)","v":27},{"$f":"IF(語言配置表!A30=\"\",\"CN_待填充内容\",語言配置表!B30)","v":"閃避幾率"}]
[{"$f":"IF(語言配置表!A31=\"\",\"\",語言配置表!A31)","v":28},{"$f":"IF(語言配置表!A31=\"\",\"CN_待填充内容\",語言配置表!B31)","v":"命中"}]
[{"$f":"IF(語言配置表!A32=\"\",\"\",語言配置表!A32)","v":29},{"$f":"IF(語言配置表!A32=\"\",\"CN_待填充内容\",語言配置表!B32)","v":"吸血"}]
[{"$f":"IF(語言配置表!A33=\"\",\"\",語言配置表!A33)","v":30},{"$f":"IF(語言配置表!A33=\"\",\"CN_待填充内容\",語言配置表!B33)","v":"傳說"}]
[{"$f":"IF(語言配置表!A34=\"\",\"\",語言配置表!A34)","v":31},{"$f":"IF(語言配置表!A34=\"\",\"CN_待填充内容\",語言配置表!B34)","v":"史詩"}]
[{"$f":"IF(語言配置表!A35=\"\",\"\",語言配置表!A35)","v":32},{"$f":"IF(語言配置表!A35=\"\",\"CN_待填充内容\",語言配置表!B35)","v":"精英"}]
[{"$f":"IF(語言配置表!A36=\"\",\"\",語言配置表!A36)","v":33},{"$f":"IF(語言配置表!A36=\"\",\"CN_待填充内容\",語言配置表!B36)","v":"向前方釋放1道劍氣，造成<color=#7AC180>{0}%</color>攻擊力的傷害。"}]
[{"$f":"IF(語言配置表!A37=\"\",\"\",語言配置表!A37)","v":34},{"$f":"IF(語言配置表!A37=\"\",\"CN_待填充内容\",語言配置表!B37)","v":"造成的傷害提升至<color=#7AC180>{0}%</color>。"}]
[{"$f":"IF(語言配置表!A38=\"\",\"\",語言配置表!A38)","v":35},{"$f":"IF(語言配置表!A38=\"\",\"CN_待填充内容\",語言配置表!B38)","v":"造成的傷害提升至<color=#7AC180>{0}%</color>。"}]
[{"$f":"IF(語言配置表!A39=\"\",\"\",語言配置表!A39)","v":36},{"$f":"IF(語言配置表!A39=\"\",\"CN_待填充内容\",語言配置表!B39)","v":"造成的傷害提升至<color=#7AC180>{0}%</color>。"}]
[{"$f":"IF(語言配置表!A40=\"\",\"\",語言配置表!A40)","v":37},{"$f":"IF(語言配置表!A40=\"\",\"CN_待填充内容\",語言配置表!B40)","v":"英雄提升至{0}級強化該技能"}]
[{"$f":"IF(語言配置表!A41=\"\",\"\",語言配置表!A41)","v":38},{"$f":"IF(語言配置表!A41=\"\",\"CN_待填充内容\",語言配置表!B41)","v":"英雄提升至{0}級解鎖該技能"}]
[{"$f":"IF(語言配置表!A42=\"\",\"\",語言配置表!A42)","v":39},{"$f":"IF(語言配置表!A42=\"\",\"CN_待填充内容\",語言配置表!B42)","v":"英雄提升至{0}星強化該技能"}]
[{"$f":"IF(語言配置表!A43=\"\",\"\",語言配置表!A43)","v":40},{"$f":"IF(語言配置表!A43=\"\",\"CN_待填充内容\",語言配置表!B43)","v":"英雄提升至{0}星解鎖該技能"}]
[{"$f":"IF(語言配置表!A44=\"\",\"\",語言配置表!A44)","v":41},{"$f":"IF(語言配置表!A44=\"\",\"CN_待填充内容\",語言配置表!B44)","v":"{0}級："}]
[{"$f":"IF(語言配置表!A45=\"\",\"\",語言配置表!A45)","v":42},{"$f":"IF(語言配置表!A45=\"\",\"CN_待填充内容\",語言配置表!B45)","v":"({0}級解鎖)"}]
[{"$f":"IF(語言配置表!A46=\"\",\"\",語言配置表!A46)","v":43},{"$f":"IF(語言配置表!A46=\"\",\"CN_待填充内容\",語言配置表!B46)","v":"({0}星解鎖)"}]
[{"$f":"IF(語言配置表!A47=\"\",\"\",語言配置表!A47)","v":44},{"$f":"IF(語言配置表!A47=\"\",\"CN_待填充内容\",語言配置表!B47)","v":"技能已達最高等級"}]
[{"$f":"IF(語言配置表!A48=\"\",\"\",語言配置表!A48)","v":45},{"$f":"IF(語言配置表!A48=\"\",\"CN_待填充内容\",語言配置表!B48)","v":"旋風斬"}]
[{"$f":"IF(語言配置表!A49=\"\",\"\",語言配置表!A49)","v":46},{"$f":"IF(語言配置表!A49=\"\",\"CN_待填充内容\",語言配置表!B49)","v":"對前方範圍釋放火焰，對範圍內的敵人進行多次灼燒，每次造成<color=#7AC180>{0}%</color>攻擊力的傷害，持續<color=#7AC180>{1}秒</color>"}]
[{"$f":"IF(語言配置表!A50=\"\",\"\",語言配置表!A50)","v":47},{"$f":"IF(語言配置表!A50=\"\",\"CN_待填充内容\",語言配置表!B50)","v":"每次造成的傷害提升至<color=#7AC180>{0}%</color>。"}]
[{"$f":"IF(語言配置表!A51=\"\",\"\",語言配置表!A51)","v":48},{"$f":"IF(語言配置表!A51=\"\",\"CN_待填充内容\",語言配置表!B51)","v":"每次造成的傷害提升至<color=#7AC180>{0}%</color>。"}]
[{"$f":"IF(語言配置表!A52=\"\",\"\",語言配置表!A52)","v":49},{"$f":"IF(語言配置表!A52=\"\",\"CN_待填充内容\",語言配置表!B52)","v":"持續時間提升至<color=#7AC180>{1}秒</color>。"}]
[{"$f":"IF(語言配置表!A53=\"\",\"\",語言配置表!A53)","v":50},{"$f":"IF(語言配置表!A53=\"\",\"CN_待填充内容\",語言配置表!B53)","v":"烈焰噴湧"}]
[{"$f":"IF(語言配置表!A54=\"\",\"\",語言配置表!A54)","v":51},{"$f":"IF(語言配置表!A54=\"\",\"CN_待填充内容\",語言配置表!B54)","v":"對生命值最低的英雄，恢復<color=#7AC180>{0}%</color>攻擊力的血量。"}]
[{"$f":"IF(語言配置表!A55=\"\",\"\",語言配置表!A55)","v":52},{"$f":"IF(語言配置表!A55=\"\",\"CN_待填充内容\",語言配置表!B55)","v":"恢復的血量提升至<color=#7AC180>{0}%</color>。"}]
[{"$f":"IF(語言配置表!A56=\"\",\"\",語言配置表!A56)","v":53},{"$f":"IF(語言配置表!A56=\"\",\"CN_待填充内容\",語言配置表!B56)","v":"恢復的血量提升至<color=#7AC180>{0}%</color>。"}]
[{"$f":"IF(語言配置表!A57=\"\",\"\",語言配置表!A57)","v":54},{"$f":"IF(語言配置表!A57=\"\",\"CN_待填充内容\",語言配置表!B57)","v":"恢復的血量提升至<color=#7AC180>{0}%</color>。"}]
[{"$f":"IF(語言配置表!A58=\"\",\"\",語言配置表!A58)","v":55},{"$f":"IF(語言配置表!A58=\"\",\"CN_待填充内容\",語言配置表!B58)","v":"光輝治癒"}]
[{"$f":"IF(語言配置表!A59=\"\",\"\",語言配置表!A59)","v":56},{"$f":"IF(語言配置表!A59=\"\",\"CN_待填充内容\",語言配置表!B59)","v":"向前方連續射出多支魔法箭，造成<color=#7AC180>{0}%</color>攻擊力的傷害。"}]
[{"$f":"IF(語言配置表!A60=\"\",\"\",語言配置表!A60)","v":57},{"$f":"IF(語言配置表!A60=\"\",\"CN_待填充内容\",語言配置表!B60)","v":"造成的傷害提升至<color=#7AC180>{0}%</color>。"}]
[{"$f":"IF(語言配置表!A61=\"\",\"\",語言配置表!A61)","v":58},{"$f":"IF(語言配置表!A61=\"\",\"CN_待填充内容\",語言配置表!B61)","v":"造成的傷害提升至<color=#7AC180>{0}%</color>。"}]
[{"$f":"IF(語言配置表!A62=\"\",\"\",語言配置表!A62)","v":59},{"$f":"IF(語言配置表!A62=\"\",\"CN_待填充内容\",語言配置表!B62)","v":"造成的傷害提升至<color=#7AC180>{0}%</color>。"}]
[{"$f":"IF(語言配置表!A63=\"\",\"\",語言配置表!A63)","v":60},{"$f":"IF(語言配置表!A63=\"\",\"CN_待填充内容\",語言配置表!B63)","v":"箭羽風暴"}]
[{"$f":"IF(語言配置表!A64=\"\",\"\",語言配置表!A64)","v":61},{"$f":"IF(語言配置表!A64=\"\",\"CN_待填充内容\",語言配置表!B64)","v":"解鎖"}]
[{"$f":"IF(語言配置表!A65=\"\",\"\",語言配置表!A65)","v":62},{"$f":"IF(語言配置表!A65=\"\",\"CN_待填充内容\",語言配置表!B65)","v":"等級{0}>>{1}"}]
[{"$f":"IF(語言配置表!A66=\"\",\"\",語言配置表!A66)","v":63},{"$f":"IF(語言配置表!A66=\"\",\"CN_待填充内容\",語言配置表!B66)","v":"主力英雄等級差不得超過10級"}]
[{"$f":"IF(語言配置表!A67=\"\",\"\",語言配置表!A67)","v":64},{"$f":"IF(語言配置表!A67=\"\",\"CN_待填充内容\",語言配置表!B67)","v":"主力英雄等級：{0}"}]
[{"$f":"IF(語言配置表!A68=\"\",\"\",語言配置表!A68)","v":65},{"$f":"IF(語言配置表!A68=\"\",\"CN_待填充内容\",語言配置表!B68)","v":"生命之力"}]
[{"$f":"IF(語言配置表!A69=\"\",\"\",語言配置表!A69)","v":66},{"$f":"IF(語言配置表!A69=\"\",\"CN_待填充内容\",語言配置表!B69)","v":"鋼鐵意志"}]
[{"$f":"IF(語言配置表!A70=\"\",\"\",語言配置表!A70)","v":67},{"$f":"IF(語言配置表!A70=\"\",\"CN_待填充内容\",語言配置表!B70)","v":"斬風之力"}]
[{"$f":"IF(語言配置表!A71=\"\",\"\",語言配置表!A71)","v":68},{"$f":"IF(語言配置表!A71=\"\",\"CN_待填充内容\",語言配置表!B71)","v":"抗暴之力"}]
[{"$f":"IF(語言配置表!A72=\"\",\"\",語言配置表!A72)","v":69},{"$f":"IF(語言配置表!A72=\"\",\"CN_待填充内容\",語言配置表!B72)","v":"提高<color=#7AC180>{0}%</color>%的生命值"}]
[{"$f":"IF(語言配置表!A73=\"\",\"\",語言配置表!A73)","v":70},{"$f":"IF(語言配置表!A73=\"\",\"CN_待填充内容\",語言配置表!B73)","v":"提高<color=#7AC180>{0}%</color>%的防禦值"}]
[{"$f":"IF(語言配置表!A74=\"\",\"\",語言配置表!A74)","v":71},{"$f":"IF(語言配置表!A74=\"\",\"CN_待填充内容\",語言配置表!B74)","v":"額外釋放<color=#7AC180>{0}</color>道[旋風斬]的劍氣"}]
[{"$f":"IF(語言配置表!A75=\"\",\"\",語言配置表!A75)","v":72},{"$f":"IF(語言配置表!A75=\"\",\"CN_待填充内容\",語言配置表!B75)","v":"降低<color=#7AC180>{0}%</color>的暴擊傷害"}]
[{"$f":"IF(語言配置表!A76=\"\",\"\",語言配置表!A76)","v":73},{"$f":"IF(語言配置表!A76=\"\",\"CN_待填充内容\",語言配置表!B76)","v":"提升<color=#7AC180>{0}%</color>%的攻擊力"}]
[{"$f":"IF(語言配置表!A77=\"\",\"\",語言配置表!A77)","v":74},{"$f":"IF(語言配置表!A77=\"\",\"CN_待填充内容\",語言配置表!B77)","v":"提高<color=#7AC180>{0}%</color>%的生命值"}]
[{"$f":"IF(語言配置表!A78=\"\",\"\",語言配置表!A78)","v":75},{"$f":"IF(語言配置表!A78=\"\",\"CN_待填充内容\",語言配置表!B78)","v":"延長<color=#7AC180>{0}</color>秒[烈焰噴湧]的持續時間"}]
[{"$f":"IF(語言配置表!A79=\"\",\"\",語言配置表!A79)","v":76},{"$f":"IF(語言配置表!A79=\"\",\"CN_待填充内容\",語言配置表!B79)","v":"提升<color=#7AC180>{0}%</color>%的技能暴擊率"}]
[{"$f":"IF(語言配置表!A80=\"\",\"\",語言配置表!A80)","v":77},{"$f":"IF(語言配置表!A80=\"\",\"CN_待填充内容\",語言配置表!B80)","v":"神聖力量"}]
[{"$f":"IF(語言配置表!A81=\"\",\"\",語言配置表!A81)","v":78},{"$f":"IF(語言配置表!A81=\"\",\"CN_待填充内容\",語言配置表!B81)","v":"生命之力"}]
[{"$f":"IF(語言配置表!A82=\"\",\"\",語言配置表!A82)","v":79},{"$f":"IF(語言配置表!A82=\"\",\"CN_待填充内容\",語言配置表!B82)","v":"急救之光"}]
[{"$f":"IF(語言配置表!A83=\"\",\"\",語言配置表!A83)","v":80},{"$f":"IF(語言配置表!A83=\"\",\"CN_待填充内容\",語言配置表!B83)","v":"光輝復蘇"}]
[{"$f":"IF(語言配置表!A84=\"\",\"\",語言配置表!A84)","v":81},{"$f":"IF(語言配置表!A84=\"\",\"CN_待填充内容\",語言配置表!B84)","v":"提升<color=#7AC180>{0}%</color>%的攻擊力"}]
[{"$f":"IF(語言配置表!A85=\"\",\"\",語言配置表!A85)","v":82},{"$f":"IF(語言配置表!A85=\"\",\"CN_待填充内容\",語言配置表!B85)","v":"提高<color=#7AC180>{0}%</color>%的生命值"}]
[{"$f":"IF(語言配置表!A86=\"\",\"\",語言配置表!A86)","v":83},{"$f":"IF(語言配置表!A86=\"\",\"CN_待填充内容\",語言配置表!B86)","v":"對生命值低於<color=#7AC180>{0}%</color>%的英雄，額外提高<color=#7AC180>{0}%</color>%的治療量"}]
[{"$f":"IF(語言配置表!A87=\"\",\"\",語言配置表!A87)","v":84},{"$f":"IF(語言配置表!A87=\"\",\"CN_待填充内容\",語言配置表!B87)","v":"同時治療<color=#7AC180>{0}</color>名英雄"}]
[{"$f":"IF(語言配置表!A88=\"\",\"\",語言配置表!A88)","v":85},{"$f":"IF(語言配置表!A88=\"\",\"CN_待填充内容\",語言配置表!B88)","v":"弓箭精通"}]
[{"$f":"IF(語言配置表!A89=\"\",\"\",語言配置表!A89)","v":86},{"$f":"IF(語言配置表!A89=\"\",\"CN_待填充内容\",語言配置表!B89)","v":"生命之力"}]
[{"$f":"IF(語言配置表!A90=\"\",\"\",語言配置表!A90)","v":87},{"$f":"IF(語言配置表!A90=\"\",\"CN_待填充内容\",語言配置表!B90)","v":"無盡射擊"}]
[{"$f":"IF(語言配置表!A91=\"\",\"\",語言配置表!A91)","v":88},{"$f":"IF(語言配置表!A91=\"\",\"CN_待填充内容\",語言配置表!B91)","v":"終結射擊"}]
[{"$f":"IF(語言配置表!A92=\"\",\"\",語言配置表!A92)","v":89},{"$f":"IF(語言配置表!A92=\"\",\"CN_待填充内容\",語言配置表!B92)","v":"提升<color=#7AC180>{0}%</color>%的攻擊力"}]
[{"$f":"IF(語言配置表!A93=\"\",\"\",語言配置表!A93)","v":90},{"$f":"IF(語言配置表!A93=\"\",\"CN_待填充内容\",語言配置表!B93)","v":"提高<color=#7AC180>{0}%</color>%的生命值"}]
[{"$f":"IF(語言配置表!A94=\"\",\"\",語言配置表!A94)","v":91},{"$f":"IF(語言配置表!A94=\"\",\"CN_待填充内容\",語言配置表!B94)","v":"增加<color=#7AC180>{0}</color>支[連續射擊]的魔法箭"}]
[{"$f":"IF(語言配置表!A95=\"\",\"\",語言配置表!A95)","v":92},{"$f":"IF(語言配置表!A95=\"\",\"CN_待填充内容\",語言配置表!B95)","v":"對生命值低於<color=#7AC180>{0}%</color>的敵人，額外造成<color=#7AC180>{0}%</color>傷害"}]
[{"$f":"IF(語言配置表!A96=\"\",\"\",語言配置表!A96)","v":93},{"$f":"IF(語言配置表!A96=\"\",\"CN_待填充内容\",語言配置表!B96)","v":"智者之力"}]
[{"$f":"IF(語言配置表!A97=\"\",\"\",語言配置表!A97)","v":94},{"$f":"IF(語言配置表!A97=\"\",\"CN_待填充内容\",語言配置表!B97)","v":"生命之力"}]
[{"$f":"IF(語言配置表!A98=\"\",\"\",語言配置表!A98)","v":95},{"$f":"IF(語言配置表!A98=\"\",\"CN_待填充内容\",語言配置表!B98)","v":"烈焰持續"}]
[{"$f":"IF(語言配置表!A99=\"\",\"\",語言配置表!A99)","v":96},{"$f":"IF(語言配置表!A99=\"\",\"CN_待填充内容\",語言配置表!B99)","v":"超凡暴擊"}]
[{"$f":"IF(語言配置表!A100=\"\",\"\",語言配置表!A100)","v":97},{"$f":"IF(語言配置表!A100=\"\",\"CN_待填充内容\",語言配置表!B100)","v":"戰士裝備"}]
[{"$f":"IF(語言配置表!A101=\"\",\"\",語言配置表!A101)","v":98},{"$f":"IF(語言配置表!A101=\"\",\"CN_待填充内容\",語言配置表!B101)","v":"法師裝備"}]
[{"$f":"IF(語言配置表!A102=\"\",\"\",語言配置表!A102)","v":99},{"$f":"IF(語言配置表!A102=\"\",\"CN_待填充内容\",語言配置表!B102)","v":"牧師裝備"}]
[{"$f":"IF(語言配置表!A103=\"\",\"\",語言配置表!A103)","v":100},{"$f":"IF(語言配置表!A103=\"\",\"CN_待填充内容\",語言配置表!B103)","v":"遊俠裝備"}]
[{"$f":"IF(語言配置表!A104=\"\",\"\",語言配置表!A104)","v":101},{"$f":"IF(語言配置表!A104=\"\",\"CN_待填充内容\",語言配置表!B104)","v":"專屬裝備（敬請期待）"}]
[{"$f":"IF(語言配置表!A105=\"\",\"\",語言配置表!A105)","v":102},{"$f":"IF(語言配置表!A105=\"\",\"CN_待填充内容\",語言配置表!B105)","v":"金幣不足"}]
[{"$f":"IF(語言配置表!A106=\"\",\"\",語言配置表!A106)","v":103},{"$f":"IF(語言配置表!A106=\"\",\"CN_待填充内容\",語言配置表!B106)","v":"資源不足"}]
[{"$f":"IF(語言配置表!A107=\"\",\"\",語言配置表!A107)","v":104},{"$f":"IF(語言配置表!A107=\"\",\"CN_待填充内容\",語言配置表!B107)","v":"英雄經驗，可用於升級英雄等級<color=#ff0000>（每殺死一個小怪能獲得經驗，擊殺boss能獲得大量經驗）</color>"}]
[{"$f":"IF(語言配置表!A108=\"\",\"\",語言配置表!A108)","v":105},{"$f":"IF(語言配置表!A108=\"\",\"CN_待填充内容\",語言配置表!B108)","v":"金幣，用於抽取英雄寶箱<color=#ff0000>（每殺死一個小怪有幾率獲得金幣，擊殺boss能獲得大量金幣）</color>"}]
[{"$f":"IF(語言配置表!A109=\"\",\"\",語言配置表!A109)","v":106},{"$f":"IF(語言配置表!A109=\"\",\"CN_待填充内容\",語言配置表!B109)","v":"紫鑽（敬請期待）"}]
[{"$f":"IF(語言配置表!A110=\"\",\"\",語言配置表!A110)","v":107},{"$f":"IF(語言配置表!A110=\"\",\"CN_待填充内容\",語言配置表!B110)","v":"點擊螢幕空白處從天空中召喚一個隕石，對怪物造成1點傷害，並有<color=#ff0000>30%</color>概率獲得1枚金幣（boss怪<color=#ff0000>40%</color>掉落，金幣數量<color=#ff0000>+2</color>）"}]
[{"$f":"IF(語言配置表!A111=\"\",\"\",語言配置表!A111)","v":108},{"$f":"IF(語言配置表!A111=\"\",\"CN_待填充内容\",語言配置表!B111)","v":"裝備"}]
[{"$f":"IF(語言配置表!A112=\"\",\"\",語言配置表!A112)","v":109},{"$f":"IF(語言配置表!A112=\"\",\"CN_待填充内容\",語言配置表!B112)","v":"替補英雄"}]
[{"$f":"IF(語言配置表!A113=\"\",\"\",語言配置表!A113)","v":110},{"$f":"IF(語言配置表!A113=\"\",\"CN_待填充内容\",語言配置表!B113)","v":"主力英雄"}]
[{"$f":"IF(語言配置表!A114=\"\",\"\",語言配置表!A114)","v":111},{"$f":"IF(語言配置表!A114=\"\",\"CN_待填充内容\",語言配置表!B114)","v":"英雄背包"}]
[{"$f":"IF(語言配置表!A115=\"\",\"\",語言配置表!A115)","v":112},{"$f":"IF(語言配置表!A115=\"\",\"CN_待填充内容\",語言配置表!B115)","v":"大自然的恩惠.寶箱"}]
[{"$f":"IF(語言配置表!A116=\"\",\"\",語言配置表!A116)","v":113},{"$f":"IF(語言配置表!A116=\"\",\"CN_待填充内容\",語言配置表!B116)","v":"消耗對應的金幣開啟寶箱，獲得大自然的恩惠，有概率能獲得以下物品（英雄進階材料、 各種品質的武器）"}]
[{"$f":"IF(語言配置表!A117=\"\",\"\",語言配置表!A117)","v":114},{"$f":"IF(語言配置表!A117=\"\",\"CN_待填充内容\",語言配置表!B117)","v":"友情提示10連抽更划算"}]
[{"$f":"IF(語言配置表!A118=\"\",\"\",語言配置表!A118)","v":115},{"$f":"IF(語言配置表!A118=\"\",\"CN_待填充内容\",語言配置表!B118)","v":"失 敗"}]
[{"$f":"IF(語言配置表!A119=\"\",\"\",語言配置表!A119)","v":116},{"$f":"IF(語言配置表!A119=\"\",\"CN_待填充内容\",語言配置表!B119)","v":"你太弱了，請提升實力再來挑戰"}]
[{"$f":"IF(語言配置表!A120=\"\",\"\",語言配置表!A120)","v":117},{"$f":"IF(語言配置表!A120=\"\",\"CN_待填充内容\",語言配置表!B120)","v":"重新開始"}]
[{"$f":"IF(語言配置表!A121=\"\",\"\",語言配置表!A121)","v":118},{"$f":"IF(語言配置表!A121=\"\",\"CN_待填充内容\",語言配置表!B121)","v":"....."}]
[{"$f":"IF(語言配置表!A122=\"\",\"\",語言配置表!A122)","v":119},{"$f":"IF(語言配置表!A122=\"\",\"CN_待填充内容\",語言配置表!B122)","v":"發生了什麼事...."}]
[{"$f":"IF(語言配置表!A123=\"\",\"\",語言配置表!A123)","v":120},{"$f":"IF(語言配置表!A123=\"\",\"CN_待填充内容\",語言配置表!B123)","v":"前方好像出現了超強怪物，大家做好準備。"}]
[{"$f":"IF(語言配置表!A124=\"\",\"\",語言配置表!A124)","v":121},{"$f":"IF(語言配置表!A124=\"\",\"CN_待填充内容\",語言配置表!B124)","v":"越往深林深處走怪物越強大了，這裏的怪我有點招架不足了，我能不能加入你們一起探險？"}]
[{"$f":"IF(語言配置表!A125=\"\",\"\",語言配置表!A125)","v":122},{"$f":"IF(語言配置表!A125=\"\",\"CN_待填充内容\",語言配置表!B125)","v":"沒問題，我們正缺你這樣的勇士。"}]
[{"$f":"IF(語言配置表!A126=\"\",\"\",語言配置表!A126)","v":123},{"$f":"IF(語言配置表!A126=\"\",\"CN_待填充内容\",語言配置表!B126)","v":"歡迎加入我們的隊伍，讓我們一起看看深林深處是什麼在作怪。"}]
[{"$f":"IF(語言配置表!A127=\"\",\"\",語言配置表!A127)","v":124},{"$f":"IF(語言配置表!A127=\"\",\"CN_待填充内容\",語言配置表!B127)","v":"（喘息著）這該死的怪物怎麼殺也殺不完！"}]
[{"$f":"IF(語言配置表!A128=\"\",\"\",語言配置表!A128)","v":125},{"$f":"IF(語言配置表!A128=\"\",\"CN_待填充内容\",語言配置表!B128)","v":"怎麼辦要先回村莊嗎？"}]
[{"$f":"IF(語言配置表!A129=\"\",\"\",語言配置表!A129)","v":126},{"$f":"IF(語言配置表!A129=\"\",\"CN_待填充内容\",語言配置表!B129)","v":"救命呀~"}]
[{"$f":"IF(語言配置表!A130=\"\",\"\",語言配置表!A130)","v":127},{"$f":"IF(語言配置表!A130=\"\",\"CN_待填充内容\",語言配置表!B130)","v":"救命~~~"}]
[{"$f":"IF(語言配置表!A131=\"\",\"\",語言配置表!A131)","v":128},{"$f":"IF(語言配置表!A131=\"\",\"CN_待填充内容\",語言配置表!B131)","v":"我名艾爾溫。這裏充滿了黑暗的氣息，我無法袖手旁觀."}]
[{"$f":"IF(語言配置表!A132=\"\",\"\",語言配置表!A132)","v":129},{"$f":"IF(語言配置表!A132=\"\",\"CN_待填充内容\",語言配置表!B132)","v":"讓它們試試我的火焰~"}]
[{"$f":"IF(語言配置表!A133=\"\",\"\",語言配置表!A133)","v":130},{"$f":"IF(語言配置表!A133=\"\",\"CN_待填充内容\",語言配置表!B133)","v":"太好了艾爾溫，感謝你的加入！"}]
[{"$f":"IF(語言配置表!A134=\"\",\"\",語言配置表!A134)","v":131},{"$f":"IF(語言配置表!A134=\"\",\"CN_待填充内容\",語言配置表!B134)","v":"兄弟們，我堅持不住了，這一波怪物太猛了！"}]
[{"$f":"IF(語言配置表!A135=\"\",\"\",語言配置表!A135)","v":132},{"$f":"IF(語言配置表!A135=\"\",\"CN_待填充内容\",語言配置表!B135)","v":"天空中突然閃出一個人影。"}]
[{"$f":"IF(語言配置表!A136=\"\",\"\",語言配置表!A136)","v":133},{"$f":"IF(語言配置表!A136=\"\",\"CN_待填充内容\",語言配置表!B136)","v":"我是來自教堂的牧師，我來為你治療！"}]
[{"$f":"IF(語言配置表!A137=\"\",\"\",語言配置表!A137)","v":134},{"$f":"IF(語言配置表!A137=\"\",\"CN_待填充内容\",語言配置表!B137)","v":"裝備回收"}]
[{"$f":"IF(語言配置表!A138=\"\",\"\",語言配置表!A138)","v":135},{"$f":"IF(語言配置表!A138=\"\",\"CN_待填充内容\",語言配置表!B138)","v":"僅分解低級裝備，放心使用"}]
[{"$f":"IF(語言配置表!A139=\"\",\"\",語言配置表!A139)","v":136},{"$f":"IF(語言配置表!A139=\"\",\"CN_待填充内容\",語言配置表!B139)","v":"回收獎勵"}]
[{"$f":"IF(語言配置表!A140=\"\",\"\",語言配置表!A140)","v":137},{"$f":"IF(語言配置表!A140=\"\",\"CN_待填充内容\",語言配置表!B140)","v":"確認回收"}]
[{"$f":"IF(語言配置表!A141=\"\",\"\",語言配置表!A141)","v":138},{"$f":"IF(語言配置表!A141=\"\",\"CN_待填充内容\",語言配置表!B141)","v":"升級"}]
[{"$f":"IF(語言配置表!A142=\"\",\"\",語言配置表!A142)","v":139},{"$f":"IF(語言配置表!A142=\"\",\"CN_待填充内容\",語言配置表!B142)","v":"升星"}]
[{"$f":"IF(語言配置表!A143=\"\",\"\",語言配置表!A143)","v":140},{"$f":"IF(語言配置表!A143=\"\",\"CN_待填充内容\",語言配置表!B143)","v":"生命"}]
[{"$f":"IF(語言配置表!A144=\"\",\"\",語言配置表!A144)","v":141},{"$f":"IF(語言配置表!A144=\"\",\"CN_待填充内容\",語言配置表!B144)","v":"攻擊"}]
[{"$f":"IF(語言配置表!A145=\"\",\"\",語言配置表!A145)","v":142},{"$f":"IF(語言配置表!A145=\"\",\"CN_待填充内容\",語言配置表!B145)","v":"防禦"}]
[{"$f":"IF(語言配置表!A146=\"\",\"\",語言配置表!A146)","v":143},{"$f":"IF(語言配置表!A146=\"\",\"CN_待填充内容\",語言配置表!B146)","v":"等級"}]
[{"$f":"IF(語言配置表!A147=\"\",\"\",語言配置表!A147)","v":144},{"$f":"IF(語言配置表!A147=\"\",\"CN_待填充内容\",語言配置表!B147)","v":"本次升級將大幅提升屬性"}]
[{"$f":"IF(語言配置表!A148=\"\",\"\",語言配置表!A148)","v":145},{"$f":"IF(語言配置表!A148=\"\",\"CN_待填充内容\",語言配置表!B148)","v":"解鎖"}]
[{"$f":"IF(語言配置表!A149=\"\",\"\",語言配置表!A149)","v":146},{"$f":"IF(語言配置表!A149=\"\",\"CN_待填充内容\",語言配置表!B149)","v":"冷卻{0}秒"}]
[{"$f":"IF(語言配置表!A150=\"\",\"\",語言配置表!A150)","v":147},{"$f":"IF(語言配置表!A150=\"\",\"CN_待填充内容\",語言配置表!B150)","v":"職業裝備"}]
[{"$f":"IF(語言配置表!A151=\"\",\"\",語言配置表!A151)","v":148},{"$f":"IF(語言配置表!A151=\"\",\"CN_待填充内容\",語言配置表!B151)","v":"戰士"}]
[{"$f":"IF(語言配置表!A152=\"\",\"\",語言配置表!A152)","v":149},{"$f":"IF(語言配置表!A152=\"\",\"CN_待填充内容\",語言配置表!B152)","v":"法師"}]
[{"$f":"IF(語言配置表!A153=\"\",\"\",語言配置表!A153)","v":150},{"$f":"IF(語言配置表!A153=\"\",\"CN_待填充内容\",語言配置表!B153)","v":"牧師"}]
[{"$f":"IF(語言配置表!A154=\"\",\"\",語言配置表!A154)","v":151},{"$f":"IF(語言配置表!A154=\"\",\"CN_待填充内容\",語言配置表!B154)","v":"遊俠"}]
[{"$f":"IF(語言配置表!A155=\"\",\"\",語言配置表!A155)","v":152},{"$f":"IF(語言配置表!A155=\"\",\"CN_待填充内容\",語言配置表!B155)","v":"獲得獎勵"}]
[{"$f":"IF(語言配置表!A156=\"\",\"\",語言配置表!A156)","v":153},{"$f":"IF(語言配置表!A156=\"\",\"CN_待填充内容\",語言配置表!B156)","v":"一鍵裝備"}]
[{"$f":"IF(語言配置表!A157=\"\",\"\",語言配置表!A157)","v":154},{"$f":"IF(語言配置表!A157=\"\",\"CN_待填充内容\",語言配置表!B157)","v":"點這裏, 提升英雄"}]
[{"$f":"IF(語言配置表!A158=\"\",\"\",語言配置表!A158)","v":155},{"$f":"IF(語言配置表!A158=\"\",\"CN_待填充内容\",語言配置表!B158)","v":"技能"}]
[{"$f":"IF(語言配置表!A159=\"\",\"\",語言配置表!A159)","v":156},{"$f":"IF(語言配置表!A159=\"\",\"CN_待填充内容\",語言配置表!B159)","v":"鞋子"}]
[{"$f":"IF(語言配置表!A160=\"\",\"\",語言配置表!A160)","v":157},{"$f":"IF(語言配置表!A160=\"\",\"CN_待填充内容\",語言配置表!B160)","v":"衣服"}]
[{"$f":"IF(語言配置表!A161=\"\",\"\",語言配置表!A161)","v":158},{"$f":"IF(語言配置表!A161=\"\",\"CN_待填充内容\",語言配置表!B161)","v":"手套"}]
[{"$f":"IF(語言配置表!A162=\"\",\"\",語言配置表!A162)","v":159},{"$f":"IF(語言配置表!A162=\"\",\"CN_待填充内容\",語言配置表!B162)","v":"帽子"}]
[{"$f":"IF(語言配置表!A163=\"\",\"\",語言配置表!A163)","v":160},{"$f":"IF(語言配置表!A163=\"\",\"CN_待填充内容\",語言配置表!B163)","v":"項鏈"}]
[{"$f":"IF(語言配置表!A164=\"\",\"\",語言配置表!A164)","v":161},{"$f":"IF(語言配置表!A164=\"\",\"CN_待填充内容\",語言配置表!B164)","v":"{0}級"}]
[{"$f":"IF(語言配置表!A165=\"\",\"\",語言配置表!A165)","v":162},{"$f":"IF(語言配置表!A165=\"\",\"CN_待填充内容\",語言配置表!B165)","v":"金幣，可用於開寶箱"}]
[{"$f":"IF(語言配置表!A166=\"\",\"\",語言配置表!A166)","v":163},{"$f":"IF(語言配置表!A166=\"\",\"CN_待填充内容\",語言配置表!B166)","v":"鑽石，後續開放（敬請期待）"}]
[{"$f":"IF(語言配置表!A167=\"\",\"\",語言配置表!A167)","v":164},{"$f":"IF(語言配置表!A167=\"\",\"CN_待填充内容\",語言配置表!B167)","v":"經驗，用於英雄升級"}]
[{"$f":"IF(語言配置表!A168=\"\",\"\",語言配置表!A168)","v":165},{"$f":"IF(語言配置表!A168=\"\",\"CN_待填充内容\",語言配置表!B168)","v":"英雄碎片，用於提升星級"}]
[{"$f":"IF(語言配置表!A169=\"\",\"\",語言配置表!A169)","v":166},{"$f":"IF(語言配置表!A169=\"\",\"CN_待填充内容\",語言配置表!B169)","v":"英雄碎片，用於提升星級"}]
[{"$f":"IF(語言配置表!A170=\"\",\"\",語言配置表!A170)","v":167},{"$f":"IF(語言配置表!A170=\"\",\"CN_待填充内容\",語言配置表!B170)","v":"英雄碎片，用於提升星級"}]
[{"$f":"IF(語言配置表!A171=\"\",\"\",語言配置表!A171)","v":168},{"$f":"IF(語言配置表!A171=\"\",\"CN_待填充内容\",語言配置表!B171)","v":"英雄碎片，用於提升星級"}]
[{"$f":"IF(語言配置表!A172=\"\",\"\",語言配置表!A172)","v":169},{"$f":"IF(語言配置表!A172=\"\",\"CN_待填充内容\",語言配置表!B172)","v":"金幣"}]
[{"$f":"IF(語言配置表!A173=\"\",\"\",語言配置表!A173)","v":170},{"$f":"IF(語言配置表!A173=\"\",\"CN_待填充内容\",語言配置表!B173)","v":"鑽石"}]
[{"$f":"IF(語言配置表!A174=\"\",\"\",語言配置表!A174)","v":171},{"$f":"IF(語言配置表!A174=\"\",\"CN_待填充内容\",語言配置表!B174)","v":"英雄經驗"}]
[{"$f":"IF(語言配置表!A175=\"\",\"\",語言配置表!A175)","v":""},{"$f":"IF(語言配置表!A175=\"\",\"CN_待填充内容\",語言配置表!B175)","v":"CN_待填充内容"}]
[{"$f":"IF(語言配置表!A176=\"\",\"\",語言配置表!A176)","v":""},{"$f":"IF(語言配置表!A176=\"\",\"CN_待填充内容\",語言配置表!B176)","v":"CN_待填充内容"}]
[{"$f":"IF(語言配置表!A177=\"\",\"\",語言配置表!A177)","v":""},{"$f":"IF(語言配置表!A177=\"\",\"CN_待填充内容\",語言配置表!B177)","v":"CN_待填充内容"}]
[{"$f":"IF(語言配置表!A178=\"\",\"\",語言配置表!A178)","v":""},{"$f":"IF(語言配置表!A178=\"\",\"CN_待填充内容\",語言配置表!B178)","v":"CN_待填充内容"}]